{"text_format":"1","workbook":"xlsx","n_sheets":9,"sheets":["Willkommen","Auslegung","Ertragsberechnung","Ihr System","Changes","PV Module","Solar Inverter","_Daten","_Sprache"],"not_rendered":{"charts":4,"images":47,"macros":1,"external_links":1,"defined_names":314,"comments":2,"pivot_tables":0},"unopened":[],"bounds":{"document_bytes":16777216,"sheet_cells":100000,"rows_first":2000,"rows_last":500,"rows_between":2000,"halvings":0,"cell_chars":16384,"cell_head_chars":4096},"cells_cut":0,"cells_raw":0,"read":"whole","date_system":"1900"}

{"sheet":"Willkommen","index":0,"n_rows":34,"n_cols":11,"rows_kept":34,"cut":false,"hidden":false,"merged":[[10,1,22,8],[24,1,29,8]]}
[]
[]
[]
[]
[null,1]
[]
[null,{"$f":"VLOOKUP(\"Willkommen_Titel\",Texte,SpracheID+1,FALSE)","v":"Auslegungsprogramm für Photovoltaikanlagen"}]
[]
[null,null,null,{"$f":"VLOOKUP(\"Version\",Texte,SpracheID+1,FALSE) & \" 1.0\"","v":"Version 1.0"}]
[]
[null,{"$f":"VLOOKUP(\"Einleitung\",Texte,SpracheID+1,FALSE)","v":"Mit Energy Depot Inverter Tool können Sie Ihre Solaranlage für den Einsatz von Energy Depot Hybrid Invertern dimensionieren.\nIn der Tabelle \"Auslegung\" wählen Sie dazu die gewünschten Solar-Inverter (bis zu drei Typen) sowie die Solarmodule aus. Möchten Sie die Auslegung für spätere Zwecke archivieren, können Sie der Auslegung unter \"Datei\", \"speichern unter\" einen beliebigen Namen zuordnen. Die gewählte Konfiguration wird auf die Einhaltung der wichtigsten Grenzwerte überprüft. Überschrittene Grenzwerte werden in rot, noch mögliche in gelb markiert. Verändern Sie die Anzahl der Strings und der Module, bis Sie eine optimale Konfiguration gefunden haben.\nIn der Tabelle \"Ihr System\" können Sie die Details der geplanten Anlage anschauen und ausdrucken.\nBenutzen sie in der Tabelle \"Auslegung\" den Button \"neues Modul\", um einen neuen Modultyp hinzuzufügen. Ein bestehendes Modul können Sie bearbeiten, indem Sie den Button \"betrachten\" auswählen und dann das Häkchen \"Modul bearbeiten\" setzen."},null,null,null,null,null,null,null,null,"deutsch"]
[null,null,null,null,null,null,null,null,null,null,"english"]
[null,null,null,null,null,null,null,null,null,null,"español"]
[null,null,null,null,null,null,null,null,null,null,"italiano"]
[null,null,null,null,null,null,null,null,null,null,"français"]
[null,null,null,null,null,null,null,null,null,null,"czech"]
[]
[]
[]
[]
[]
[]
[]
[]
[null,{"$f":"VLOOKUP(\"Wichtig\",Texte,SpracheID+1,FALSE)","v":"Wichtig: Diese Datei ist ein Werkzeug für die Überprüfung der Auslegung von PV-Anlagen und wird den Anwendern von Energy Depot-Produkten zur Verfügung gestellt. Daten und Funktion wurden sorgfältig geprüft, trotzdem kann weder für mittelbare noch für unmittelbare Schäden, die aus dem Gebrauch dieser Arbeitsmappe entstehen, gehaftet werden.\n\nVielen Dank für Ihr Verständnis!"}]
[]
[]
[]
[]
[]
[]
[]
[null,{"$f":"VLOOKUP(\"Hinweis\",Texte,SpracheID+1,FALSE)","v":"Hinweis"}]
[null,{"$f":"VLOOKUP(\"Hinweis_txt\",Texte,SpracheID+1,FALSE)","v":"Die Makro-Sicherheitsstufe sollte auf \"Mittel\" (empfohlen), oder \"Niedrig\" (nicht empfohlen) eingestellt sein"}]

{"sheet":"Auslegung","index":1,"n_rows":95,"n_cols":19,"rows_kept":95,"cut":false,"hidden":false,"merged":[[82,1,82,8],[8,5,8,6],[8,3,8,4],[8,7,8,8],[8,1,8,2],[31,3,32,4],[31,5,32,6],[31,7,32,8],[34,3,36,4],[75,1,75,8],[8,10,8,11],[68,1,68,8],[38,1,38,2],[6,4,6,8],[34,7,36,8],[35,2,36,2],[34,5,36,6],[18,10,19,10]]}
[null,null,null,null,null,null,null,null,null,null,null,null,{"$f":"VLOOKUP(\"Daten fehlen\",Daten_fehlen,SpracheID+1,FALSE)","v":"Daten fehlen"}]
[null,null,null,null,null,null,null,null,null,null,null,null,{"$f":"VLOOKUP(\"Optimum\",Texte,SpracheID+1,FALSE)","v":"Optimum"}]
[null,null,null,null,null,null,null,null,null,null,null,null,{"$f":"VLOOKUP(\"Grenzbereich\",Texte,SpracheID+1,FALSE)","v":"noch möglich"}]
[null,null,null,null,null,null,null,null,null,null,null,null,0.03,0.01]
[null,null,null,null,null,null,null,null,null,null,null,null,{"$f":"IF(OR(INDEX(Solarmodule,SolarmodulID,11)=\"-\",INDEX(Solarmodule,SolarmodulID,7)=\"-\",ISERROR(min_Module_pro_String),ISERROR(max_Module_pro_String)),VLOOKUP(\"für Solarmodul fehlen Daten\",Daten_fehlen,SpracheID+1),IF(min_Module_pro_String>max_Module_pro_String,\"\",\"\"))","v":{"$error":"#NAME?"}}]
[null,null,null,null,null,null,null,null,null,null,null,null,"Canadian Solar Inc. ","Canadian Solar Inc. ","Canadian Solar Inc. "]
[null,{"$f":"VLOOKUP(\"Auslegung_Titel\",Texte,SpracheID+1,FALSE)","v":"Auslegung der Photovoltaikanlage:"},null,null,"Energy Depot GmbH",null,null,null,null,null,null,null,"HiKu CS3L-365P","HiKu CS3L-365P","CS5A-130"]
[]
[null,null,null,{"$f":"IF(INDEX(Wechselrichter,E1_WechselrichterID,25)=3,VLOOKUP(\"Eingang\",Texte,SpracheID+1,FALSE) & \" 1 \",VLOOKUP(\"Teilanlage\",Texte,SpracheID+1,FALSE) & \" 1 \")","v":"Teilanlage 1 "},null,{"$f":"IF(INDEX(Wechselrichter,E1_WechselrichterID,25)=3,VLOOKUP(\"Eingang\",Texte,SpracheID+1,FALSE) & \" 2 \",VLOOKUP(\"Teilanlage\",Texte,SpracheID+1,FALSE) & \" 2 \")","v":"Teilanlage 2 "},null,{"$f":"IF(INDEX(Wechselrichter,E1_WechselrichterID,25)=3,VLOOKUP(\"Eingang\",Texte,SpracheID+1,FALSE) & \" 3 \",VLOOKUP(\"Teilanlage\",Texte,SpracheID+1,FALSE) & \" 3 \")","v":"Teilanlage 3 "},null,null,{"$f":"VLOOKUP(\"Zelltemperatur\",Texte,SpracheID+1,FALSE)","v":"Zelltemperatur"}]
[]
[null,null,{"$f":"VLOOKUP(\"Wechselrichter\",Texte,SpracheID+1,FALSE)","v":"Wechselrichter"},null,7,null,8,null,1,null,{"$f":"VLOOKUP(\"Zelltemp_min\",Texte,SpracheID+1,FALSE)","v":"min"},8,{"$f":"INDEX(min_Zellentemperatur,min_ZellentempID,1)","v":-20}]
[null,null,null,null,0,null,0,null,0]
[null,null,{"$f":"VLOOKUP(\"Anzahl\",Texte,SpracheID+1,FALSE)","v":"Anzahl"},null,1,null,1,null,0,null,{"$f":"VLOOKUP(\"Zelltemp_max\",Texte,SpracheID+1,FALSE)","v":"max"},2,{"$f":"INDEX(max_Zellentemperatur,max_ZellentempID,1)","v":65}]
[]
[null,null,{"$f":"VLOOKUP(\"Hersteller\",Texte,SpracheID+1,FALSE)","v":"Hersteller"},null,95,null,95,null,95]
[]
[null,null,{"$f":"VLOOKUP(\"Solarmodule\",Texte,SpracheID+1,FALSE)","v":"Solarmodule"},null,200,null,200,null,1]
[]
[]
[null,null,null,null,null,null,null,null,null,null,null,95]
[null,null,{"$f":"VLOOKUP(\"Stringanzahl\",Texte,SpracheID+1,FALSE)","v":"Stringanzahl"},null,2,null,1,null,0,null,"Cos Phi",{"$f":"L20/100","v":0.95}]
[null,null,null,null,null,null,null,null,null,null,null,true]
[null,null,{"$f":"VLOOKUP(\"ModuleProString\",Texte,SpracheID+1,FALSE)","v":"Module pro String"},{"$f":"IF(ISERROR(IF(E1_min_Module_pro_String > E1_max_Module_pro_String,\" \",\" (\" & E1_min_Module_pro_String & \"-\" & E1_max_Module_pro_String & \") \")),\"\",IF(E1_min_Module_pro_String > E1_max_Module_pro_String,\" \",\" (\" & E1_min_Module_pro_String & \"-\" & E1_max_Module_pro_String & \") \"))","v":" (7-19) "},14,{"$f":"IF(ISERROR(IF(E2_min_Module_pro_String > E2_max_Module_pro_String,\" \",\" (\" & E2_min_Module_pro_String & \"-\" & E2_max_Module_pro_String & \") \")),\"\",IF(E2_min_Module_pro_String > E2_max_Module_pro_String,\" \",\" (\" & E2_min_Module_pro_String & \"-\" & E2_max_Module_pro_String & \") \"))","v":" (7-19) "},13,{"$f":"IF(ISERROR(IF(E3_min_Module_pro_String > E3_max_Module_pro_String,\" \",\" (\" & E3_min_Module_pro_String & \"-\" & E3_max_Module_pro_String & \") \")),\"\",IF(E3_min_Module_pro_String > E3_max_Module_pro_String,\" \",\" (\" & E3_min_Module_pro_String & \"-\" & E3_max_Module_pro_String & \") \"))","v":""},0,null,{"$f":"VLOOKUP(\"KommKopp\",Texte,SpracheID+1,FALSE)","v":"Schieflastprüfung"},4600]
[]
[]
[null,{"$f":"VLOOKUP(\"KommKopp\",Texte,SpracheID+1,FALSE)","v":"Schieflastprüfung"},null,1,{"$f":"VLOOKUP(\"Anzahl2\",Texte,SpracheID+1,FALSE)","v":"Anzahl"},1,97.5,null,{"$f":"VLOOKUP(\"Anzahl2\",Texte,SpracheID+1,FALSE)","v":"Anzahl"},null,{"$f":"VLOOKUP(\"LeistungSumme\",Texte,SpracheID+1,FALSE)","v":"Max. AC-Leistung"},{"$f":"VLOOKUP(\"MaxAbregelung\",Texte,SpracheID+1,FALSE)","v":"Max. Abregelung"}]
[null,null,{"$f":"VLOOKUP(\"Netzphase L1\",Texte,SpracheID+1,FALSE)","v":"Netzphase L1"},null,0,null,0.33333333333333331,null,0,null,{"$f":"MIN(SUMPRODUCT(E27:I27,D$40:H$40),SUMPRODUCT(E27:I27,E$40:I$40,E$50:I$50))","v":0},{"$f":"IF(K27-MIN($K$27:$K$29)>$L$23,K27-MIN($K$27:$K$29)-$L$23,\"-\")","v":"-"}]
[null,null,{"$f":"VLOOKUP(\"Netzphase L2\",Texte,SpracheID+1,FALSE)","v":"Netzphase L2"},null,0,null,0.33333333333333331,null,0,null,{"$f":"MIN(SUMPRODUCT(E28:I28,D$40:H$40),SUMPRODUCT(E28:I28,E$40:I$40,E$50:I$50))","v":0},{"$f":"IF(K28-MIN($K$27:$K$29)>$L$23,K28-MIN($K$27:$K$29)-$L$23,\"-\")","v":"-"}]
[null,null,{"$f":"VLOOKUP(\"Netzphase L3\",Texte,SpracheID+1,FALSE)","v":"Netzphase L3"},null,0.33333333333333326,null,0.33333333333333331,null,0,null,{"$f":"MIN(SUMPRODUCT(E29:I29,D$40:H$40),SUMPRODUCT(E29:I29,E$40:I$40,E$50:I$50))","v":0},{"$f":"IF(K29-MIN($K$27:$K$29)>$L$23,K29-MIN($K$27:$K$29)-$L$23,\"-\")","v":"-"}]
[]
[null,null,{"$f":"VLOOKUP(\"Kompatibilität\",Texte,SpracheID+1,FALSE)","v":"Kompatibilität"},1,{"$f":"IF(ISTEXT(INDEX(Wechselrichter,E1_WechselrichterID,23)),INDEX(Wechselrichter,E1_WechselrichterID,23),IF(ISTEXT(INDEX(E1_Solarmodule,E1_SolarmodulID,34)),VLOOKUP(\"Achtung\",Texte,SpracheID+1,FALSE),\"\"))","v":""},1,{"$f":"IF(ISTEXT(INDEX(Wechselrichter,E2_WechselrichterID,23)),INDEX(Wechselrichter,E2_WechselrichterID,23),IF(ISTEXT(INDEX(E2_Solarmodule,E2_SolarmodulID,34)),VLOOKUP(\"Achtung\",Texte,SpracheID+1,FALSE),\"\"))","v":""},1,{"$f":"IF(ISTEXT(INDEX(Wechselrichter,E3_WechselrichterID,23)),INDEX(Wechselrichter,E3_WechselrichterID,23),IF(ISTEXT(INDEX(E3_Solarmodule,E3_SolarmodulID,34)),VLOOKUP(\"Achtung\",Texte,SpracheID+1,FALSE),\"\"))","v":" "}]
[null,null,{"$f":"VLOOKUP(\"Wechselrichter\",Texte,SpracheID+1,FALSE)","v":"Wechselrichter"},{"$f":"IF(INDEX(Wechselrichter,E1_WechselrichterID,24)<>\"\",INDEX(Wechselrichter,E1_WechselrichterID,24),\"\")","v":""},null,{"$f":"IF(INDEX(Wechselrichter,E2_WechselrichterID,24)<>\"\",INDEX(Wechselrichter,E2_WechselrichterID,24),\"\")","v":""},null,{"$f":"IF(INDEX(Wechselrichter,E3_WechselrichterID,24)<>\"\",INDEX(Wechselrichter,E3_WechselrichterID,24),\"\")","v":" "}]
[]
[]
[null,null,{"$f":"VLOOKUP(\"Solarmodule\",Texte,SpracheID+1,FALSE)","v":"Solarmodule"},{"$f":"IF(E1_WechselrichterID<>1,VLOOKUP(\"Verschaltung_\"&D31,Texte,SpracheID+1,FALSE),\"\")","v":"Verschaltung möglich"},null,{"$f":"IF(E2_WechselrichterID<>1,VLOOKUP(\"Verschaltung_\"&F31,Texte,SpracheID+1,FALSE),\"\")","v":"Verschaltung möglich"},null,{"$f":"IF(E3_WechselrichterID<>1,VLOOKUP(\"Verschaltung_\"&H31,Texte,SpracheID+1,FALSE),\"\")","v":""}]
[null,null,{"$f":"VLOOKUP(\"Initialwerte\",Texte,SpracheID+1,FALSE)","v":"Initialwerte prüfen (Dünnschicht Module)"}]
[null,false]
[]
[null,{"$f":"VLOOKUP(\"SolaranlageGesamtgrößen\",Texte,SpracheID+1,FALSE)","v":"Solaranlage (Gesamtgrößen)"},null,{"$f":"VLOOKUP(\"Inverter\",Texte,SpracheID+1,FALSE)","v":"Inverter"},{"$f":"VLOOKUP(\"Generator\",Texte,SpracheID+1,FALSE)","v":"Generator"},{"$f":"VLOOKUP(\"Inverter\",Texte,SpracheID+1,FALSE)","v":"Inverter"},{"$f":"VLOOKUP(\"Generator\",Texte,SpracheID+1,FALSE)","v":"Generator"},{"$f":"VLOOKUP(\"Inverter\",Texte,SpracheID+1,FALSE)","v":"Inverter"},{"$f":"VLOOKUP(\"Generator\",Texte,SpracheID+1,FALSE)","v":"Generator"},null,null,null,null,"min","max"]
[null,null,{"$f":"VLOOKUP(\"Nennleistung_PV\",Texte,SpracheID+1,FALSE)","v":"Nennleistung [W]"},{"$f":"IF(E12,INDEX(Wechselrichter,E1_WechselrichterID,29),INDEX(Wechselrichter,E1_WechselrichterID,4)) * IF(INDEX(Wechselrichter,E1_WechselrichterID,28)=0,1,$L$21)","v":10450},{"$f":"IF(E1_WR_Anzahl=0,0,IF(InitValues=FALSE,INDEX(E1_Solarmodule,E1_SolarmodulID,4)*E1_Stringanzahl*E1_Module_in_Reihe,IF(ISERROR(INDEX(E1_Solarmodule,E1_SolarmodulID,27)*E1_Stringanzahl*E1_Module_in_Reihe),txt_Daten_fehlen,INDEX(E1_Solarmodule,E1_SolarmodulID,27)*E1_Stringanzahl*E1_Module_in_Reihe)))","v":10220},{"$f":"IF(G12,INDEX(Wechselrichter,E2_WechselrichterID,29),INDEX(Wechselrichter,E2_WechselrichterID,4)) * IF(INDEX(Wechselrichter,E2_WechselrichterID,28)=0,1,$L$21)","v":5225},{"$f":"IF(E2_WR_Anzahl=0,0,IF(InitValues=FALSE,INDEX(E2_Solarmodule,E2_SolarmodulID,4)*E2_Stringanzahl*E2_Module_in_Reihe,IF(ISERROR(INDEX(E2_Solarmodule,E2_SolarmodulID,27)*E2_Stringanzahl*E2_Module_in_Reihe),txt_Daten_fehlen,INDEX(E2_Solarmodule,E2_SolarmodulID,27)*E2_Stringanzahl*E2_Module_in_Reihe)))","v":4745},{"$f":"IF(I12,INDEX(Wechselrichter,E3_WechselrichterID,29),INDEX(Wechselrichter,E3_WechselrichterID,4)) * IF(INDEX(Wechselrichter,E3_WechselrichterID,28)=0,1,$L$21)","v":0},{"$f":"IF(E3_WR_Anzahl=0,0,IF(InitValues=FALSE,INDEX(E3_Solarmodule,E3_SolarmodulID,4)*E3_Stringanzahl*E3_Module_in_Reihe,IF(ISERROR(INDEX(E3_Solarmodule,E3_SolarmodulID,27)*E3_Stringanzahl*E3_Module_in_Reihe),txt_Daten_fehlen,INDEX(E3_Solarmodule,E3_SolarmodulID,27)*E3_Stringanzahl*E3_Module_in_Reihe)))","v":0},null,null,null,"Leistung",{"$f":"(INDEX(Wechselrichter,E1_WechselrichterID,2))*(1-Faktor_Grenzbereich)","v":8536},{"$f":"(INDEX(Wechselrichter,E1_WechselrichterID,3))*(1+Faktor_Grenzbereich)","v":12463.000000000002},{"$f":"(INDEX(Wechselrichter,E2_WechselrichterID,2))*(1-Faktor_Grenzbereich)","v":4268},{"$f":"(INDEX(Wechselrichter,E2_WechselrichterID,3))*(1+Faktor_Grenzbereich)","v":6180},{"$f":"(INDEX(Wechselrichter,E3_WechselrichterID,2))*(1-Faktor_Grenzbereich)","v":0},{"$f":"(INDEX(Wechselrichter,E3_WechselrichterID,3))*(1+Faktor_Grenzbereich)","v":0}]
[null,null,{"$f":"VLOOKUP(\"MinMPPSpannung_PV\",Texte,SpracheID+1,FALSE)","v":"min. MPP-Spannung [V]"},{"$f":"INDEX(Wechselrichter,E1_WechselrichterID,10)","v":200},{"$f":"IF(DCspannungsabfall=TRUE,IF(ISERROR(E1_MPP_Spannung_min-(Spez_Widerstand_Kupfer*E1_DC_Leitungslänge/INDEX(Leitungsquerschnitt,E1_DC_LquerschnittID,1)*E1_MPP_Strom_max / E1_Stringanzahl)),txt_Daten_fehlen,E1_MPP_Spannung_min-(Spez_Widerstand_Kupfer*E1_DC_Leitungslänge/INDEX(Leitungsquerschnitt,E1_DC_LquerschnittID,1)*E1_MPP_Strom_max/ E1_Stringanzahl)),E1_MPP_Spannung_min)","v":403.12185720000002},{"$f":"INDEX(Wechselrichter,E2_WechselrichterID,10)","v":200},{"$f":"IF(DCspannungsabfall=TRUE,IF(ISERROR(E2_MPP_Spannung_min-(Spez_Widerstand_Kupfer*E2_DC_Leitungslänge/INDEX(Leitungsquerschnitt,E2_DC_LquerschnittID,1)*E2_MPP_Strom_max/ E2_Stringanzahl)),txt_Daten_fehlen,E2_MPP_Spannung_min-(Spez_Widerstand_Kupfer*E2_DC_Leitungslänge/INDEX(Leitungsquerschnitt,E2_DC_LquerschnittID,1)*E2_MPP_Strom_max/ E2_Stringanzahl)),E2_MPP_Spannung_min)","v":374.09145719999998},{"$f":"INDEX(Wechselrichter,E3_WechselrichterID,10)","v":0},{"$f":"IF(DCspannungsabfall=TRUE,IF(ISERROR(E3_MPP_spannung_min-(Spez_Widerstand_Kupfer*E3_DC_Leitungslänge/INDEX(Leitungsquerschnitt,E3_DC_LquerschnittID,1)*E3_MPP_Strom_max/ E3_Stringanzahl)),txt_Daten_fehlen,E3_MPP_spannung_min-(Spez_Widerstand_Kupfer*E3_DC_Leitungslänge/INDEX(Leitungsquerschnitt,E3_DC_LquerschnittID,1)*E3_MPP_Strom_max/ E3_Stringanzahl)),E3_MPP_spannung_min)","v":"Daten fehlen"},null,null,null,"DC-Spannung",{"$f":"E1_WR_MPP_Spannung_min*(1-Faktor_Grenzbereich)","v":194},{"$f":"E1_WR_MPP_Spannung_max*(1+Faktor_Grenzbereich)","v":762.2},{"$f":"E2_WR_MPP_Spannung_min*(1-Faktor_Grenzbereich)","v":194},{"$f":"E2_WR_MPP_Spannung_max*(1+Faktor_Grenzbereich)","v":762.2},{"$f":"E3_WR_MPP_Spannung_min*(1-Faktor_Grenzbereich)","v":0},{"$f":"E3_WR_MPP_Spannung_max*(1+Faktor_Grenzbereich)","v":0}]
[null,null,{"$f":"VLOOKUP(\"MaxMPPSpannung_PV\",Texte,SpracheID+1,FALSE)","v":"max. MPP-Spannung [V]"},{"$f":"INDEX(Wechselrichter,E1_WechselrichterID,11)","v":740},{"$f":"IF(DCspannungsabfall=TRUE,IF(ISERROR(E1_MPP_Spannung_max-(Spez_Widerstand_Kupfer*E1_DC_Leitungslänge/INDEX(Leitungsquerschnitt,E1_DC_LquerschnittID,1)*E71/ E1_Stringanzahl)),txt_Daten_fehlen,E1_MPP_Spannung_max-(Spez_Widerstand_Kupfer*E1_DC_Leitungslänge/INDEX(Leitungsquerschnitt,E1_DC_LquerschnittID,1)*E71/ E1_Stringanzahl)),E1_MPP_Spannung_max)","v":539.21218273333341},{"$f":"INDEX(Wechselrichter,E2_WechselrichterID,11)","v":740},{"$f":"IF(DCspannungsabfall=TRUE,IF(ISERROR(E2_MPP_Spannung_max-(Spez_Widerstand_Kupfer*E2_DC_Leitungslänge/INDEX(Leitungsquerschnitt,E2_DC_LquerschnittID,1)*E78 / E2_Stringanzahl)),txt_Daten_fehlen,E2_MPP_Spannung_max-(Spez_Widerstand_Kupfer*E2_DC_Leitungslänge/INDEX(Leitungsquerschnitt,E2_DC_LquerschnittID,1)*E78/ E2_Stringanzahl)),E2_MPP_Spannung_max)","v":500.47138273333331},{"$f":"INDEX(Wechselrichter,E3_WechselrichterID,11)","v":0},{"$f":"IF(DCspannungsabfall=TRUE,IF(ISERROR(E3_MPP_Spannung_max-(Spez_Widerstand_Kupfer*E3_DC_Leitungslänge/INDEX(Leitungsquerschnitt,E3_DC_LquerschnittID,1)*E85/ E3_Stringanzahl)),txt_Daten_fehlen,E3_MPP_Spannung_max-(Spez_Widerstand_Kupfer*E3_DC_Leitungslänge/INDEX(Leitungsquerschnitt,E3_DC_LquerschnittID,1)*E85/ E3_Stringanzahl)),E3_MPP_Spannung_max)","v":"Daten fehlen"},null,null,null,"MPP-Spannung",{"$f":"E1_WR_MPP_Spannung_min*(1-Faktor_Grenzbereich)","v":194},{"$f":"E1_WR_MPP_Spannung_max*(1+Faktor_Grenzbereich)","v":762.2},{"$f":"E2_WR_MPP_Spannung_min*(1-Faktor_Grenzbereich)","v":194},{"$f":"E2_WR_MPP_Spannung_max*(1+Faktor_Grenzbereich)","v":762.2},{"$f":"E3_WR_MPP_Spannung_min*(1-Faktor_Grenzbereich)","v":0},{"$f":"E3_WR_MPP_Spannung_max*(1+Faktor_Grenzbereich)","v":0}]
[null,null,{"$f":"VLOOKUP(\"MaxMPPStrom_PV\",Texte,SpracheID+1,FALSE)","v":"max. MPP-Strom [A]"},{"$f":"INDEX(Wechselrichter,E1_WechselrichterID,21)","v":24},{"$f":"E1_MPP_Strom_max","v":22.197599999999998},{"$f":"INDEX(Wechselrichter,E2_WechselrichterID,21)","v":12},{"$f":"E2_MPP_Strom_max","v":11.098799999999999},{"$f":"INDEX(Wechselrichter,E3_WechselrichterID,21)","v":0},{"$f":"E3_MPP_Strom_max","v":0},null,null,null,null,{"$f":"E1_WR_MPP_Strom_max*(1+Faktor_Grenzbereich)","v":24.72},null,{"$f":"E2_WR_MPP_Strom_max*(1+Faktor_Grenzbereich)","v":12.36},null,{"$f":"E3_WR_MPP_Strom_max*(1+Faktor_Grenzbereich)","v":0}]
[null,null,{"$f":"VLOOKUP(\"MaxLeerlaufspannung_PV\",Texte,SpracheID+1,FALSE)","v":"max. Leerlauf-Spannung [V]"},{"$f":"INDEX(Wechselrichter,E1_WechselrichterID,12)","v":900},{"$f":"IF(DCspannungsabfall=TRUE,IF(ISERROR(E1_Leerlaufspannung_max-(Spez_Widerstand_Kupfer*E1_DC_Leitungslänge/INDEX(Leitungsquerschnitt,E1_DC_LquerschnittID,1)*E71/ E1_Stringanzahl)),txt_Daten_fehlen,E1_Leerlaufspannung_max-(Spez_Widerstand_Kupfer*E1_DC_Leitungslänge/INDEX(Leitungsquerschnitt,E1_DC_LquerschnittID,1)*E71/ E1_Stringanzahl)),E1_Leerlaufspannung_max)","v":640.01218273333336},{"$f":"INDEX(Wechselrichter,E2_WechselrichterID,12)","v":900},{"$f":"IF(DCspannungsabfall=TRUE,IF(ISERROR(E2_Leerlaufspannung_max-(Spez_Widerstand_Kupfer*E2_DC_Leitungslänge/INDEX(Leitungsquerschnitt,E2_DC_LquerschnittID,1)*E78 / E2_Stringanzahl)),txt_Daten_fehlen,E2_Leerlaufspannung_max-(Spez_Widerstand_Kupfer*E2_DC_Leitungslänge/INDEX(Leitungsquerschnitt,E2_DC_LquerschnittID,1)*E78/ E2_Stringanzahl)),E2_Leerlaufspannung_max)","v":594.07138273333328},{"$f":"INDEX(Wechselrichter,E3_WechselrichterID,12)","v":0},{"$f":"IF(DCspannungsabfall=TRUE,IF(ISERROR(E3_Leerlaufspannung_max-(Spez_Widerstand_Kupfer*E3_DC_Leitungslänge/INDEX(Leitungsquerschnitt,E3_DC_LquerschnittID,1)*E85/ E3_Stringanzahl)),txt_Daten_fehlen,E3_Leerlaufspannung_max-(Spez_Widerstand_Kupfer*E3_DC_Leitungslänge/INDEX(Leitungsquerschnitt,E3_DC_LquerschnittID,1)*E85/ E3_Stringanzahl)),E3_Leerlaufspannung_max)","v":"Daten fehlen"},null,null,null,"max. Leerlaufspannung",{"$f":"(MIN(E1_WR_Leerlaufspannung_max,E1_max_Systemspannung))","v":900},{"$f":"(MIN(E1_WR_Leerlaufspannung_max,E1_max_Systemspannung))","v":900},{"$f":"(MIN(E2_WR_Leerlaufspannung_max,E2_max_Systemspannung))","v":900},{"$f":"(MIN(E2_WR_Leerlaufspannung_max,E2_max_Systemspannung))","v":900},{"$f":"(MIN(E3_WR_Leerlaufspannung_max,E3_max_Systemspannung))","v":0},{"$f":"(MIN(E3_WR_Leerlaufspannung_max,E3_max_Systemspannung))","v":0}]
[null,null,{"$f":"VLOOKUP(\"MinLeerlaufspannung_PV\",Texte,SpracheID+1,FALSE)","v":"min. Leerlauf-Spannung [V]"},{"$f":"INDEX(Wechselrichter,E1_WechselrichterID,13)","v":200},{"$f":"E1_Leerlaufspannung_min","v":507.22559999999993},{"$f":"INDEX(Wechselrichter,E2_WechselrichterID,13)","v":200},{"$f":"E2_Leerlaufspannung_min","v":470.99519999999995},{"$f":"INDEX(Wechselrichter,E3_WechselrichterID,13)","v":0},{"$f":"E3_Leerlaufspannung_min","v":0},null,null,null,null,{"$f":"E1_WR_Leerlaufspannung_min*(1-Faktor_Grenzbereich)","v":194},{"$f":"(MIN(E1_WR_Leerlaufspannung_max,E1_max_Systemspannung))","v":900},{"$f":"E2_WR_Leerlaufspannung_min*(1-Faktor_Grenzbereich)","v":194},{"$f":"(MIN(E2_WR_Leerlaufspannung_max,E2_max_Systemspannung))","v":900},{"$f":"E3_WR_Leerlaufspannung_min*(1-Faktor_Grenzbereich)","v":0},{"$f":"(MIN(E3_WR_Leerlaufspannung_max,E3_max_Systemspannung))","v":0}]
[null,null,{"$f":"VLOOKUP(\"maxSystemspannung_PV\",Texte,SpracheID+1,FALSE)","v":"max. Systemspannung [V]"},null,{"$f":"IF(E1_WechselrichterID=1,0,IF(INDEX(E1_Solarmodule,E1_SolarmodulID,13)=\"-\",txt_Daten_fehlen,INDEX(E1_Solarmodule,E1_SolarmodulID,13)))","v":1000},null,{"$f":"IF(E2_WechselrichterID=1,0,IF(INDEX(E2_Solarmodule,E2_SolarmodulID,13)=\"-\",txt_Daten_fehlen,INDEX(E2_Solarmodule,E2_SolarmodulID,13)))","v":1000},null,{"$f":"IF(E3_WechselrichterID=1,0,IF(INDEX(E3_Solarmodule,E3_SolarmodulID,13)=\"-\",txt_Daten_fehlen,INDEX(E3_Solarmodule,E3_SolarmodulID,13)))","v":0}]
[]
[null,null,{"$f":"VLOOKUP(\"WechselrichterGrenzwerte\",Texte,SpracheID+1,FALSE)","v":"Anlagen-Kenngrößen"},{"$f":"IF(ISERROR(SUM(E1_max_ACLeistung*E1_WR_Anzahl,IF(INDEX(Wechselrichter,E1_WechselrichterID,25)=3,E2_max_ACLeistung*E1_WR_Anzahl,E2_max_ACLeistung*E2_WR_Anzahl),IF(INDEX(Wechselrichter,E1_WechselrichterID,25)=3,E3_max_ACLeistung*E1_WR_Anzahl,E3_max_ACLeistung*E3_WR_Anzahl))/1000),txt_Daten_fehlen,SUM(E1_max_ACLeistung*E1_WR_Anzahl,IF(INDEX(Wechselrichter,E1_WechselrichterID,25)=3,E2_max_ACLeistung*E1_WR_Anzahl,E2_max_ACLeistung*E2_WR_Anzahl),IF(INDEX(Wechselrichter,E1_WechselrichterID,25)=3,E3_max_ACLeistung*E1_WR_Anzahl,E3_max_ACLeistung*E3_WR_Anzahl))/1000)","v":15.675000000000001},{"$f":"IF(ISERROR(SUM(E1_max_MPPLeistung*E1_WR_Anzahl,IF(INDEX(Wechselrichter,E1_WechselrichterID,25)=3,E2_max_MPPLeistung*E1_WR_Anzahl,E2_max_MPPLeistung*E2_WR_Anzahl),IF(INDEX(Wechselrichter,E1_WechselrichterID,25)=3,E3_max_MPPLeistung*E1_WR_Anzahl,E3_max_MPPLeistung*E3_WR_Anzahl))/1000),txt_Daten_fehlen,SUM(E1_max_MPPLeistung*E1_WR_Anzahl,IF(INDEX(Wechselrichter,E1_WechselrichterID,25)=3,E2_max_MPPLeistung*E1_WR_Anzahl,E2_max_MPPLeistung*E2_WR_Anzahl),IF(INDEX(Wechselrichter,E1_WechselrichterID,25)=3,E3_max_MPPLeistung*E1_WR_Anzahl,E3_max_MPPLeistung*E3_WR_Anzahl))/1000)","v":14.965},null,{"$f":"SUM(E53+G53+I53) & \" \" & VLOOKUP(\"Module\",Texte,SpracheID+1,FALSE)","v":"41 Module"}]
[null,null,{"$f":"VLOOKUP(\"möglicheDauerleistung\",Texte,SpracheID+1,FALSE)","v":"mögliche Dauerleistung"},null,{"$f":"IF(INDEX(Wechselrichter,E1_WechselrichterID,25)=0,0,IF(INDEX(Wechselrichter,E1_WechselrichterID,25)=3,D40*E1_WR_Anzahl,D40*E1_WR_Anzahl))","v":10450},null,{"$f":"IF(INDEX(Wechselrichter,E2_WechselrichterID,25)=0,0,IF(INDEX(Wechselrichter,E1_WechselrichterID,25)=3,D40*E1_WR_Anzahl,F40*E2_WR_Anzahl))","v":5225},null,{"$f":"IF(INDEX(Wechselrichter,E3_WechselrichterID,25)=0,0,IF(INDEX(Wechselrichter,E1_WechselrichterID,25)=3,D40*E1_WR_Anzahl,H40*E3_WR_Anzahl))","v":0}]
[null,null,{"$f":"VLOOKUP(\"EuropäischerJahreswirkungsgrad\",Texte,SpracheID+1,FALSE)","v":"EU Jahreswirkungsgrad"},null,{"$f":"IF(ISERROR(IF(E1_WechselrichterID<>1,ROUND(VLOOKUP(E1_WechselrichterID,_Daten!$V$6:$AC$40,6,FALSE),1),\"\")),txt_Daten_fehlen,IF(E1_WechselrichterID<>1,ROUND(VLOOKUP(E1_WechselrichterID,_Daten!$V$6:$AC$40,6,FALSE),1)/100,\"\"))","v":"Daten fehlen"},null,{"$f":"IF(ISERROR(IF(E2_WechselrichterID<>1,ROUND(VLOOKUP(E2_WechselrichterID,_Daten!$V$6:$AC$40,7,FALSE),1),\"\")),txt_Daten_fehlen,IF(E2_WechselrichterID<>1,ROUND(VLOOKUP(E2_WechselrichterID,_Daten!$V$6:$AC$40,7,FALSE),1)/100,\"\"))","v":"Daten fehlen"},null,{"$f":"IF(ISERROR(IF(E3_WechselrichterID<>1,ROUND(VLOOKUP(E3_WechselrichterID,_Daten!$V$6:$AC$40,8,FALSE),1),\"\")),txt_Daten_fehlen,IF(E3_WechselrichterID<>1,ROUND(VLOOKUP(E3_WechselrichterID,_Daten!$V$6:$AC$40,8,FALSE),1)/100,\"\"))","v":""}]
[null,null,{"$f":"VLOOKUP(\"Auslegungsverhältnis\",Texte,SpracheID+1,FALSE)","v":"Auslegungsverhältnis DC/AC"},null,{"$f":"IF(E1_WechselrichterID>1,E1_max_MPPLeistung/D40,\"\")","v":0.97799043062200952},null,{"$f":"IF(E2_WechselrichterID>1,E2_max_MPPLeistung/F40,\"\")","v":0.90813397129186602},null,{"$f":"IF(E3_WechselrichterID>1,E3_max_MPPLeistung/H40,\"\")","v":""}]
[null,null,{"$f":"VLOOKUP(\"Auslegungsverhältnis2\",Texte,SpracheID+1,FALSE)","v":"Power Control Einstellung"},null,{"$f":"IF(AND(E1_WechselrichterID>1,E1_WR_Anzahl<>0,$E$48<30),FLOOR(E1_max_MPPLeistung*70%/E1_max_ACLeistung,10%),\"\")","v":0.60000000000000009},null,{"$f":"IF(AND(E2_WechselrichterID>1,E2_WR_Anzahl<>0,$E$48<30),FLOOR(E2_max_MPPLeistung*70%/E2_max_ACLeistung,10%),\"\")","v":0.60000000000000009},null,{"$f":"IF(AND(E3_WechselrichterID>1,E3_WR_Anzahl<>0,$E$48<30),FLOOR(E3_max_MPPLeistung*70%/E3_max_ACLeistung,10%),\"\")","v":""}]
[null,true,{"$f":"VLOOKUP(\"ModuleGesamt_PV\",Texte,SpracheID+1,FALSE)","v":"Modulanzahl"},{"$f":"E1_Stringanzahl*E1_Module_in_Reihe","v":28},{"$f":"E1_Module_in_Reihe*E1_Stringanzahl*E1_WR_Anzahl","v":28},{"$f":"E2_Stringanzahl*E2_Module_in_Reihe","v":13},{"$f":"IF(INDEX(Wechselrichter,E1_WechselrichterID,25)=3,E2_Module_in_Reihe*E2_Stringanzahl*E1_WR_Anzahl,E2_Module_in_Reihe*E2_Stringanzahl*E2_WR_Anzahl)","v":13},{"$f":"E3_Stringanzahl*E3_Module_in_Reihe","v":0},{"$f":"IF(INDEX(Wechselrichter,E1_WechselrichterID,25)=3,E3_Module_in_Reihe*E3_Stringanzahl*E1_WR_Anzahl,E3_Module_in_Reihe*E3_Stringanzahl*E3_WR_Anzahl)","v":0}]
[]
[null,null,{"$f":"VLOOKUP(\"Grafische Auslegung\",Texte,SpracheID+1,FALSE)","v":"Grafische Auslegung"}]
[]
[]
[]
[]
[null,{"$f":"VLOOKUP(\"Betriebsbereich\",Texte,SpracheID+1,FALSE)","v":"Wechselrichter Betriebsbereich"}]
[]
[null,{"$f":"VLOOKUP(\"MPPPunkt\",Texte,SpracheID+1,FALSE)","v":"Solar-Generator MPP-Punkt"}]
[]
[]
[]
[]
[]
[null,null,{"$f":"VLOOKUP(\"Temperatur erweitert\",Texte,SpracheID+1,FALSE)","v":"Erweiterte Temperatur-Informationen"}]
[null,{"$f":"D9&\"        \"&VLOOKUP(\"E1_DCWerte\",Texte,SpracheID+1,FALSE)","v":"Teilanlage 1         DC-Werte mit Berücksichtigung der Temperatur für 2 Strings mit je 14 Modulen"},null,null,null,null,null,null,null,null,null,null,"Anzahl Module pro String",null,"Anzahl Strings"]
[null,null,{"$f":"VLOOKUP(\"Temperatur\",Texte,SpracheID+1,FALSE)","v":"Temperatur [°C] "},{"$f":"Temp_min-5","v":-25},{"$f":"INDEX(min_Zellentemperatur,min_ZellentempID,1)","v":-20},25,{"$f":"H70-5","v":60},{"$f":"INDEX(max_Zellentemperatur,max_ZellentempID,1)","v":65},{"$f":"H70+5","v":70},null,null,null,"min","max","min","max"]
[null,null,{"$f":"VLOOKUP(\"MPP-Strom_A\",Texte,SpracheID+1,FALSE)","v":"MPP-Strom [A] "},{"$f":"IF(E1_WR_Anzahl=0,0,IF(InitValues=FALSE,IF(ISERROR((INDEX(E1_Solarmodule,E1_SolarmodulID,7)+(D$70-25)*INDEX(E1_Solarmodule,E1_SolarmodulID,11)/1000)*E1_Stringanzahl),txt_Daten_fehlen,(INDEX(E1_Solarmodule,E1_SolarmodulID,7)+(D$70-25)*INDEX(E1_Solarmodule,E1_SolarmodulID,11)/1000)*E1_Stringanzahl),IF(ISERROR((INDEX(E1_Solarmodule,E1_SolarmodulID,29)+(D$70-25)*INDEX(E1_Solarmodule,E1_SolarmodulID,11)/1000)*E1_Stringanzahl),txt_Daten_fehlen,(INDEX(E1_Solarmodule,E1_SolarmodulID,29)+(D$70-25)*INDEX(E1_Solarmodule,E1_SolarmodulID,11)/1000)*E1_Stringanzahl)))","v":21.167999999999999},21.225199999999997,21.74,22.1404,22.197599999999998,22.254799999999999,null,null,"Gesamt",{"$f":"MAX(M73:M75)","v":7},{"$f":"MIN(N72:N75)","v":19},{"$f":"MAX(O73:O75)","v":1},{"$f":"MIN(P73:P75)","v":1},"Gesamt"]
[null,null,{"$f":"VLOOKUP(\"MPP-Spannung_V\",Texte,SpracheID+1,FALSE)","v":"MPP-Spannung [V] "},{"$f":"IF(E1_WR_Anzahl=0,0,IF(InitValues=FALSE,IF(ISERROR((INDEX(E1_Solarmodule,E1_SolarmodulID,6)+(D$70-25)*INDEX(E1_Solarmodule,E1_SolarmodulID,10)/1000)*E1_Module_in_Reihe),txt_Daten_fehlen,(INDEX(E1_Solarmodule,E1_SolarmodulID,6)+(D$70-25)*INDEX(E1_Solarmodule,E1_SolarmodulID,10)/1000)*E1_Module_in_Reihe),IF(ISERROR((INDEX(E1_Solarmodule,E1_SolarmodulID,28)+(D$70-25)*INDEX(E1_Solarmodule,E1_SolarmodulID,10)/1000)*E1_Module_in_Reihe),txt_Daten_fehlen,(INDEX(E1_Solarmodule,E1_SolarmodulID,28)+(D$70-25)*INDEX(E1_Solarmodule,E1_SolarmodulID,10)/1000)*E1_Module_in_Reihe)))","v":550.36799999999994},542.37120000000004,470.40000000000003,414.42240000000004,406.42560000000003,398.42880000000002,null,null,"empf. PV-Leistung / Modul PN",null,{"$f":"IF(CB_EEG,\"\",TRUNC((INDEX(Wechselrichter,E1_WechselrichterID,3)*(1+Faktor_Grenzbereich))/(INDEX(E1_Solarmodule,E1_SolarmodulID,4))/E1_Stringanzahl,0))","v":""}]
[null,null,{"$f":"VLOOKUP(\"Leerlaufspannung_V\",Texte,SpracheID+1,FALSE)","v":"Leerlaufspannung [V] "},{"$f":"IF(E1_WR_Anzahl=0,0,IF(InitValues=FALSE,IF(ISERROR((INDEX(E1_Solarmodule,E1_SolarmodulID,8)+(D$70-25)*INDEX(E1_Solarmodule,E1_SolarmodulID,10)/1000)*E1_Module_in_Reihe),txt_Daten_fehlen,(INDEX(E1_Solarmodule,E1_SolarmodulID,8)+(D$70-25)*INDEX(E1_Solarmodule,E1_SolarmodulID,10)/1000)*E1_Module_in_Reihe),IF(ISERROR((INDEX(E1_Solarmodule,E1_SolarmodulID,30)+(D$70-25)*INDEX(E1_Solarmodule,E1_SolarmodulID,10)/1000)*E1_Module_in_Reihe),txt_Daten_fehlen,(INDEX(E1_Solarmodule,E1_SolarmodulID,30)+(D$70-25)*INDEX(E1_Solarmodule,E1_SolarmodulID,10)/1000)*E1_Module_in_Reihe)))","v":651.16800000000001},643.1712,571.19999999999993,515.22239999999999,507.22559999999993,499.22879999999998,null,null,"max. MPP-Spannung",{"$f":"INT(E1_WR_MPP_Spannung_min*(1-Faktor_Grenzbereich)*E1_Module_in_Reihe/E1_MPP_Spannung_min)","v":6},{"$f":"INT(E1_WR_MPP_Spannung_max*(1+Faktor_Grenzbereich)*E1_Module_in_Reihe/E1_MPP_Spannung_max)","v":19},{"$f":"INT((INDEX(Wechselrichter,E1_WechselrichterID,2)*(1+Faktor_Grenzbereich))/(E1_Leistung_min*E1_Module_in_Reihe))+1","v":1},{"$f":"INT((INDEX(Wechselrichter,E1_WechselrichterID,3)*(1+Faktor_Grenzbereich))*E1_Stringanzahl*E1_Module_in_Reihe/(E1_Leistung_max*E1_max_Module_pro_String))","v":1}]
[null,null,{"$f":"VLOOKUP(\"Gesamtleistung_W\",Texte,SpracheID+1,FALSE)","v":"Gesamtleistung [W] "},{"$f":"IF(ISERROR(D71*D72),txt_Daten_fehlen,D71*D72)","v":11650.189823999999},11511.937194239999,10226.495999999999,9175.4777049600016,9021.6728985600002,8866.9532582400007,null,null,"min. MPP-Spannung",{"$f":"INT(E1_WR_MPP_Spannung_min*(1-Faktor_Grenzbereich)*E1_Module_in_Reihe/E1_MPP_Spannung_min)+1","v":7},{"$f":"INT(E1_WR_Leerlaufspannung_max*(1+Faktor_Grenzbereich)*E1_Module_in_Reihe/E1_Leerlaufspannung_max)","v":20},null,{"$f":"INT(E1_WR_MPP_Strom_max*(1+Faktor_Grenzbereich)*E1_Stringanzahl/E1_MPP_Strom_max)","v":2}]
[null,null,null,null,null,null,null,null,null,null,null,"max. Systemspannung",{"$f":"INT(E1_WR_MPP_Spannung_min*(1-Faktor_Grenzbereich)*E1_Module_in_Reihe/E1_Leerlaufspannung_min)+1","v":6},{"$f":"INT(E1_max_Systemspannung/(E1_Leerlaufspannung_max/E1_Module_in_Reihe))","v":21}]
[null,{"$f":"F9&\"        \"&VLOOKUP(\"E2_DCWerte\",Texte,SpracheID+1,FALSE)","v":"Teilanlage 2         DC-Werte mit Berücksichtigung der Temperatur für einen String mit je 13 Modulen"}]
[null,null,{"$f":"VLOOKUP(\"Temperatur\",Texte,SpracheID+1,FALSE)","v":"Temperatur [°C] "},{"$f":"Temp_min-5","v":-25},{"$f":"INDEX(min_Zellentemperatur,min_ZellentempID,1)","v":-20},25,{"$f":"H77-5","v":60},{"$f":"INDEX(max_Zellentemperatur,max_ZellentempID,1)","v":65},{"$f":"H77+5","v":70}]
[null,null,{"$f":"VLOOKUP(\"MPP-Strom_A\",Texte,SpracheID+1,FALSE)","v":"MPP-Strom [A] "},{"$f":"IF(E2_WR_Anzahl=0,0,IF(InitValues=FALSE,IF(ISERROR((INDEX(E2_Solarmodule,E2_SolarmodulID,7)+(D$70-25)*INDEX(E2_Solarmodule,E2_SolarmodulID,11)/1000)*E2_Stringanzahl),txt_Daten_fehlen,(INDEX(E2_Solarmodule,E2_SolarmodulID,7)+(D$70-25)*INDEX(E2_Solarmodule,E2_SolarmodulID,11)/1000)*E2_Stringanzahl),IF(ISERROR((INDEX(E2_Solarmodule,E2_SolarmodulID,29)+(D$70-25)*INDEX(E2_Solarmodule,E2_SolarmodulID,11)/1000)*E2_Stringanzahl),txt_Daten_fehlen,(INDEX(E2_Solarmodule,E2_SolarmodulID,29)+(D$70-25)*INDEX(E2_Solarmodule,E2_SolarmodulID,11)/1000)*E2_Stringanzahl)))","v":10.584},10.612599999999999,10.87,11.0702,11.098799999999999,11.1274,null,null,null,{"$f":"MAX(M80:M82)","v":7},{"$f":"MIN(N79:N82)","v":19},{"$f":"MAX(O80:O82)","v":1},{"$f":"MIN(P80:P82)","v":0}]
[null,null,{"$f":"VLOOKUP(\"MPP-Spannung_V\",Texte,SpracheID+1,FALSE)","v":"MPP-Spannung [V] "},{"$f":"IF(E2_WR_Anzahl=0,0,IF(InitValues=FALSE,IF(ISERROR((INDEX(E2_Solarmodule,E2_SolarmodulID,6)+(D$70-25)*INDEX(E2_Solarmodule,E2_SolarmodulID,10)/1000)*E2_Module_in_Reihe),txt_Daten_fehlen,(INDEX(E2_Solarmodule,E2_SolarmodulID,6)+(D$70-25)*INDEX(E2_Solarmodule,E2_SolarmodulID,10)/1000)*E2_Module_in_Reihe),IF(ISERROR((INDEX(E2_Solarmodule,E2_SolarmodulID,28)+(D$70-25)*INDEX(E2_Solarmodule,E2_SolarmodulID,10)/1000)*E2_Module_in_Reihe),txt_Daten_fehlen,(INDEX(E2_Solarmodule,E2_SolarmodulID,28)+(D$70-25)*INDEX(E2_Solarmodule,E2_SolarmodulID,10)/1000)*E2_Module_in_Reihe)))","v":511.05599999999998},503.63040000000001,436.8,384.82080000000002,377.39519999999999,369.96960000000001,null,null,null,null,{"$f":"IF(CB_EEG,\"\",TRUNC((INDEX(Wechselrichter,E2_WechselrichterID,3)*(1+Faktor_Grenzbereich))/(INDEX(E2_Solarmodule,E2_SolarmodulID,4))/E2_Stringanzahl,0))","v":""}]
[null,null,{"$f":"VLOOKUP(\"Leerlaufspannung_V\",Texte,SpracheID+1,FALSE)","v":"Leerlaufspannung [V] "},{"$f":"IF(E2_WR_Anzahl=0,0,IF(InitValues=FALSE,IF(ISERROR((INDEX(E2_Solarmodule,E2_SolarmodulID,8)+(D$70-25)*INDEX(E2_Solarmodule,E2_SolarmodulID,10)/1000)*E2_Module_in_Reihe),txt_Daten_fehlen,(INDEX(E2_Solarmodule,E2_SolarmodulID,8)+(D$70-25)*INDEX(E2_Solarmodule,E2_SolarmodulID,10)/1000)*E2_Module_in_Reihe),IF(ISERROR((INDEX(E2_Solarmodule,E2_SolarmodulID,30)+(D$70-25)*INDEX(E2_Solarmodule,E2_SolarmodulID,10)/1000)*E2_Module_in_Reihe),txt_Daten_fehlen,(INDEX(E2_Solarmodule,E2_SolarmodulID,30)+(D$70-25)*INDEX(E2_Solarmodule,E2_SolarmodulID,10)/1000)*E2_Module_in_Reihe)))","v":604.65599999999995},597.23039999999992,530.4,478.42079999999999,470.99519999999995,463.56959999999998,null,null,null,{"$f":"INT(E2_WR_MPP_Spannung_min*(1-Faktor_Grenzbereich)*E2_Module_in_Reihe/E2_MPP_Spannung_min)","v":6},{"$f":"INT(E2_WR_MPP_Spannung_max*(1+Faktor_Grenzbereich)*E2_Module_in_Reihe/E2_MPP_Spannung_max)","v":19},{"$f":"INT((INDEX(Wechselrichter,E2_WechselrichterID,2)*(1+Faktor_Grenzbereich))/(E2_Leistung_min*E2_Module_in_Reihe))+1","v":1},{"$f":"INT((INDEX(Wechselrichter,E2_WechselrichterID,3)*(1+Faktor_Grenzbereich))*E2_Stringanzahl*E2_Module_in_Reihe/(E2_Leistung_max*E2_max_Module_pro_String))","v":0}]
[null,null,{"$f":"VLOOKUP(\"Gesamtleistung_W\",Texte,SpracheID+1,FALSE)","v":"Gesamtleistung [W] "},{"$f":"IF(ISERROR(D78*D79),txt_Daten_fehlen,D78*D79)","v":5409.0167039999997},5344.8279830399997,4748.0159999999996,4260.0432201600006,4188.6338457599995,4116.7997270400001,null,null,null,{"$f":"INT(E2_WR_MPP_Spannung_min*(1-Faktor_Grenzbereich)*E2_Module_in_Reihe/E2_MPP_Spannung_min)+1","v":7},{"$f":"INT(E2_WR_Leerlaufspannung_max*(1+Faktor_Grenzbereich)*E2_Module_in_Reihe/E2_Leerlaufspannung_max)","v":20},null,{"$f":"INT(E2_WR_MPP_Strom_max*(1+Faktor_Grenzbereich)*E2_Stringanzahl/E2_MPP_Strom_max)","v":1}]
[null,null,null,null,null,null,null,null,null,null,null,null,{"$f":"INT(E2_WR_MPP_Spannung_min*(1-Faktor_Grenzbereich)*E2_Module_in_Reihe/E2_Leerlaufspannung_min)+1","v":6},{"$f":"INT(E2_max_Systemspannung/(E2_Leerlaufspannung_max/E2_Module_in_Reihe))","v":21}]
[null,{"$f":"H9&\"        \"&VLOOKUP(\"E3_DCWerte\",Texte,SpracheID+1,FALSE)","v":"Teilanlage 3         DC-Werte mit Berücksichtigung der Temperatur für einen String mit je einem Modul"}]
[null,null,{"$f":"VLOOKUP(\"Temperatur\",Texte,SpracheID+1,FALSE)","v":"Temperatur [°C] "},{"$f":"Temp_min-5","v":-25},{"$f":"INDEX(min_Zellentemperatur,min_ZellentempID,1)","v":-20},25,{"$f":"H84-5","v":60},{"$f":"INDEX(max_Zellentemperatur,max_ZellentempID,1)","v":65},{"$f":"H84+5","v":70}]
[null,null,{"$f":"VLOOKUP(\"MPP-Strom_A\",Texte,SpracheID+1,FALSE)","v":"MPP-Strom [A] "},{"$f":"IF(E3_WR_Anzahl=0,0,IF(InitValues=FALSE,IF(ISERROR((INDEX(E3_Solarmodule,E3_SolarmodulID,7)+(D$70-25)*INDEX(E3_Solarmodule,E3_SolarmodulID,11)/1000)*E3_Stringanzahl),txt_Daten_fehlen,(INDEX(E3_Solarmodule,E3_SolarmodulID,7)+(D$70-25)*INDEX(E3_Solarmodule,E3_SolarmodulID,11)/1000)*E3_Stringanzahl),IF(ISERROR((INDEX(E3_Solarmodule,E3_SolarmodulID,29)+(D$70-25)*INDEX(E3_Solarmodule,E3_SolarmodulID,11)/1000)*E3_Stringanzahl),txt_Daten_fehlen,(INDEX(E3_Solarmodule,E3_SolarmodulID,29)+(D$70-25)*INDEX(E3_Solarmodule,E3_SolarmodulID,11)/1000)*E3_Stringanzahl)))","v":0},0,0,0,0,0,null,null,null,{"$f":"MAX(M87:M89)","v":{"$error":"#DIV/0!"}},{"$f":"MIN(N86:N89)","v":{"$error":"#DIV/0!"}},{"$f":"MAX(O87:O89)","v":{"$error":"#DIV/0!"}},{"$f":"MIN(P87:P89)","v":{"$error":"#DIV/0!"}}]
[null,null,{"$f":"VLOOKUP(\"MPP-Spannung_V\",Texte,SpracheID+1,FALSE)","v":"MPP-Spannung [V] "},{"$f":"IF(E3_WR_Anzahl=0,0,IF(InitValues=FALSE,IF(ISERROR((INDEX(E3_Solarmodule,E3_SolarmodulID,6)+(D$70-25)*INDEX(E3_Solarmodule,E3_SolarmodulID,10)/1000)*E3_Module_in_Reihe),txt_Daten_fehlen,(INDEX(E3_Solarmodule,E3_SolarmodulID,6)+(D$70-25)*INDEX(E3_Solarmodule,E3_SolarmodulID,10)/1000)*E3_Module_in_Reihe),IF(ISERROR((INDEX(E3_Solarmodule,E3_SolarmodulID,28)+(D$70-25)*INDEX(E3_Solarmodule,E3_SolarmodulID,10)/1000)*E3_Module_in_Reihe),txt_Daten_fehlen,(INDEX(E3_Solarmodule,E3_SolarmodulID,28)+(D$70-25)*INDEX(E3_Solarmodule,E3_SolarmodulID,10)/1000)*E3_Module_in_Reihe)))","v":0},0,0,0,0,0,null,null,null,null,{"$f":"IF(CB_EEG,\"\",TRUNC((INDEX(Wechselrichter,E3_WechselrichterID,3)*(1+Faktor_Grenzbereich))/(INDEX(E3_Solarmodule,E3_SolarmodulID,4))/E3_Stringanzahl,0))","v":""}]
[null,null,{"$f":"VLOOKUP(\"Leerlaufspannung_V\",Texte,SpracheID+1,FALSE)","v":"Leerlaufspannung [V] "},{"$f":"IF(E3_WR_Anzahl=0,0,IF(InitValues=FALSE,IF(ISERROR((INDEX(E3_Solarmodule,E3_SolarmodulID,8)+(D$70-25)*INDEX(E3_Solarmodule,E3_SolarmodulID,10)/1000)*E3_Module_in_Reihe),txt_Daten_fehlen,(INDEX(E3_Solarmodule,E3_SolarmodulID,8)+(D$70-25)*INDEX(E3_Solarmodule,E3_SolarmodulID,10)/1000)*E3_Module_in_Reihe),IF(ISERROR((INDEX(E3_Solarmodule,E3_SolarmodulID,30)+(D$70-25)*INDEX(E3_Solarmodule,E3_SolarmodulID,10)/1000)*E3_Module_in_Reihe),txt_Daten_fehlen,(INDEX(E3_Solarmodule,E3_SolarmodulID,30)+(D$70-25)*INDEX(E3_Solarmodule,E3_SolarmodulID,10)/1000)*E3_Module_in_Reihe)))","v":0},0,0,0,0,0,null,null,null,{"$f":"INT(E3_WR_MPP_Spannung_min*(1-Faktor_Grenzbereich)*E3_Module_in_Reihe/E3_MPP_spannung_min)","v":{"$error":"#DIV/0!"}},{"$f":"INT(E3_WR_MPP_Spannung_max*(1+Faktor_Grenzbereich)*E3_Module_in_Reihe/E3_MPP_Spannung_max)","v":{"$error":"#DIV/0!"}},{"$f":"INT((INDEX(Wechselrichter,E3_WechselrichterID,2)*(1+Faktor_Grenzbereich))/(E3_Leistung_min*E3_Module_in_Reihe))+1","v":{"$error":"#DIV/0!"}},{"$f":"INT((INDEX(Wechselrichter,E3_WechselrichterID,3)*(1+Faktor_Grenzbereich))*E3_Stringanzahl*E3_Module_in_Reihe/(E3_Leistung_max*E3_max_Module_pro_String))","v":{"$error":"#DIV/0!"}}]
[null,null,{"$f":"VLOOKUP(\"Gesamtleistung_W\",Texte,SpracheID+1,FALSE)","v":"Gesamtleistung [W] "},{"$f":"IF(ISERROR(D85*D86),txt_Daten_fehlen,D85*D86)","v":0},0,0,0,0,0,null,null,null,{"$f":"INT(E3_WR_MPP_Spannung_min*(1-Faktor_Grenzbereich)*E3_Module_in_Reihe/E3_MPP_spannung_min)+1","v":{"$error":"#DIV/0!"}},{"$f":"INT(E3_WR_Leerlaufspannung_max*(1+Faktor_Grenzbereich)*E3_Module_in_Reihe/E3_Leerlaufspannung_max)","v":{"$error":"#DIV/0!"}},null,{"$f":"INT(E3_WR_MPP_Strom_max*(1+Faktor_Grenzbereich)*E3_Stringanzahl/E3_MPP_Strom_max)","v":{"$error":"#DIV/0!"}}]
[null,null,null,null,null,null,null,null,null,null,null,null,{"$f":"INT(E3_WR_MPP_Spannung_min*(1-Faktor_Grenzbereich)*E3_Module_in_Reihe/E3_Leerlaufspannung_min)+1","v":{"$error":"#DIV/0!"}},{"$f":"INT(E3_max_Systemspannung/(E3_Leerlaufspannung_max/E3_Module_in_Reihe))","v":{"$error":"#DIV/0!"}}]
[null,null,{"$f":"VLOOKUP(\"Kabelverluste\",Texte,SpracheID+1,FALSE)","v":"Für die Berechnung der Kabelverluste bitte eintragen"}]
[null,true,{"$f":"VLOOKUP(\"DCLeitung Spannungsabfall\",Texte,SpracheID+1,FALSE)","v":"Spannungsabfall der DC-Leitung in Rechnung einbeziehen"}]
[]
[null,null,{"$f":"VLOOKUP(\"DCLeitungslänge\",Texte,SpracheID+1,FALSE)","v":"DC-Leitungslänge [m]"},100,2,100,2,100,2]
[]
[null,null,{"$f":"VLOOKUP(\"ACLeitungslänge\",Texte,SpracheID+1,FALSE)","v":"AC-Leitungslänge [m]"},25,5,25,5,25,5]

{"sheet":"Ertragsberechnung","index":2,"n_rows":184,"n_cols":22,"rows_kept":184,"cut":false,"hidden":false,"merged":[[65,5,67,12],[35,1,35,13],[49,1,49,13],[8,1,8,13],[10,7,10,10],[14,7,14,13],[11,7,11,10]]}
[]
[]
[]
[]
[]
[]
[null,null,{"$f":"VLOOKUP(\"Ertragsberechnung\",Texte_Ertrag,SpracheID+1,FALSE)","v":"Ertragsberechnung"}]
[]
[]
[null,null,{"$f":"VLOOKUP(\"Ort\",Texte_Ertrag,SpracheID+1,FALSE)","v":"Ort"},null,null,null,null,null,null,null,null,null,null,null,null,1]
[null,null,null,{"$f":"VLOOKUP(\"Breitengrad\",Texte_Ertrag,SpracheID+1,FALSE)","v":"Breitengrad:"},null,"50,8","°N",{"$f":"HYPERLINK(VLOOKUP(\"Koordinaten_URL\",Texte_Ertrag,SpracheID+1,FALSE),VLOOKUP(\"Koordinaten\",Texte_Ertrag,SpracheID+1,FALSE))","v":"zur Ermittlung der Koordinaten (Internet)"}]
[]
[null,null,null,{"$f":"VLOOKUP(\"Längengrad\",Texte_Ertrag,SpracheID+1,FALSE)","v":"Längengrad:"},null,"12,92","°O",{"$f":"VLOOKUP(\"Kommahinweis\",Texte_Ertrag,SpracheID+1,FALSE)","v":"Komma-Werte bitte mit \",\" und nicht mit \".\" eingeben !"}]
[]
[null,null,null,{"$f":"VLOOKUP(\"Einstrahlung\",Texte_Ertrag,SpracheID+1,FALSE)","v":"Einstrahlung (horiz.):"},null,1100,"kWh/m²",{"$f":"HYPERLINK(VLOOKUP(\"PVGIS_URL\",Texte_Ertrag,SpracheID+1,FALSE),VLOOKUP(\"PVGIS_Text\",Texte_Ertrag,SpracheID+1,FALSE))","v":"Einstrahlung bei SOLAR ATLAS online Nachschlagen (GHI-Wert)"}]
[]
[]
[null,null,null,null,null,{"$f":"IF(INDEX(Wechselrichter,E1_WechselrichterID,25)=3,VLOOKUP(\"Eingang\",Texte,SpracheID+1,FALSE) & \" 1 \",VLOOKUP(\"Teilanlage\",Texte,SpracheID+1,FALSE) & \" 1 \")","v":"Teilanlage 1 "},null,{"$f":"IF(INDEX(Wechselrichter,E1_WechselrichterID,25)=3,VLOOKUP(\"Eingang\",Texte,SpracheID+1,FALSE) & \" 2 \",VLOOKUP(\"Teilanlage\",Texte,SpracheID+1,FALSE) & \" 2 \")","v":"Teilanlage 2 "},null,{"$f":"IF(INDEX(Wechselrichter,E1_WechselrichterID,25)=3,VLOOKUP(\"Eingang\",Texte,SpracheID+1,FALSE) & \" 3 \",VLOOKUP(\"Teilanlage\",Texte,SpracheID+1,FALSE) & \" 3 \")","v":"Teilanlage 3 "}]
[null,null,{"$f":"VLOOKUP(\"Wechselrichter\",Texte_Ertrag,SpracheID+1,FALSE)","v":"Solar Inverter"}]
[null,null,null,{"$f":"VLOOKUP(\"Wechselrichter\",Texte_Ertrag,SpracheID+1,FALSE)&\":\"","v":"Solar Inverter:"},null,{"$f":"INDEX(Wechselrichter,E1_WechselrichterID,1)","v":"Centurio 10.0"},null,{"$f":"INDEX(Wechselrichter,E2_WechselrichterID,1)","v":"Centurio 10.0 - 1 String"},null,{"$f":"INDEX(Wechselrichter,E3_WechselrichterID,1)","v":"(keine Auswahl)"}]
[]
[null,null,null,{"$f":"VLOOKUP(\"EU-Wirkungsgrad\",Texte_Ertrag,SpracheID+1,FALSE)&\":\"","v":"EU-Wirkungsgrad:"},null,{"$f":"IF(ISERROR(IF(E1_WechselrichterID<>1,ROUND(VLOOKUP(E1_WechselrichterID,_Daten!$V$6:$AC$40,6,FALSE),1),\"\")),\"-    \",IF(E1_WechselrichterID<>1,ROUND(VLOOKUP(E1_WechselrichterID,_Daten!$V$6:$AC$40,6,FALSE),1),\"-    \"))","v":"-    "},"%",{"$f":"IF(ISERROR(IF(E2_WechselrichterID<>1,ROUND(VLOOKUP(E2_WechselrichterID,_Daten!$V$6:$AC$40,7,FALSE),1),\"\")),\"-    \",IF(E2_WechselrichterID<>1,ROUND(VLOOKUP(E2_WechselrichterID,_Daten!$V$6:$AC$40,7,FALSE),1),\"-    \"))","v":"-    "},"%",{"$f":"IF(ISERROR(IF(E3_WechselrichterID<>1,ROUND(VLOOKUP(E3_WechselrichterID,_Daten!$V$6:$AC$40,8,FALSE),1),\"\")),\"-    \",IF(E3_WechselrichterID<>1,ROUND(VLOOKUP(E3_WechselrichterID,_Daten!$V$6:$AC$40,8,FALSE),1),\"-    \"))","v":"-    "},"%"]
[]
[null,null,null,{"$f":"VLOOKUP(\"Anzahl\",Texte_Ertrag,SpracheID+1,FALSE)","v":"Anzahl:"},null,{"$f":"E1_WR_Anzahl","v":1},null,{"$f":"IF(INDEX(Wechselrichter,E1_WechselrichterID,25)=3,E1_WR_Anzahl,E2_WR_Anzahl)","v":1},null,{"$f":"IF(INDEX(Wechselrichter,E1_WechselrichterID,25)=3,E1_WR_Anzahl,E3_WR_Anzahl)","v":0}]
[null,null,{"$f":"VLOOKUP(\"Modul\",Texte_Ertrag,SpracheID+1,FALSE)","v":"Modul"}]
[null,null,null,"Typ",null,{"$f":"IF(F24=0,0,INDEX(E1_Solarmodule,E1_SolarmodulID,3))","v":"HiKu CS3L-365P"},null,{"$f":"IF(H24=0,0,INDEX(E2_Solarmodule,E2_SolarmodulID,3))","v":"HiKu CS3L-365P"},null,{"$f":"IF(J24=0,0,INDEX(E3_Solarmodule,E3_SolarmodulID,3))","v":0}]
[]
[null,null,null,{"$f":"VLOOKUP(\"Neigung\",Texte_Ertrag,SpracheID+1,FALSE)","v":"Neigung:"},null,2,null,2,null,2]
[]
[null,null,null,{"$f":"VLOOKUP(\"Ausrichtung\",Texte_Ertrag,SpracheID+1,FALSE)","v":"Ausrichtung:"},null,3,null,3,null,3]
[]
[]
[null,null,{"$f":"VLOOKUP(\"Vergütung\",Texte_Ertrag,SpracheID+1,FALSE)","v":"Vergütung"},null,null,{"$f":"0.12*(1-15%)","v":0.10199999999999999},"€ / kWh"]
[]
[]
[null,{"$f":"VLOOKUP(\"Jahresertrag\",Texte_Ertrag,SpracheID+1,FALSE)","v":"Jahresertrag"}]
[]
[null,null,null,{"$f":"VLOOKUP(\"Modulertrag\",Texte_Ertrag,SpracheID+1,FALSE)","v":"Modulertrag:"},null,{"$f":"IF(ISERROR(T96*E1_WR_Anzahl2),0,T96*E1_WR_Anzahl2)","v":11093.883056630928},"kWh",{"$f":"IF(ISERROR(T131*E2_WR_Anzahl2),0,T131*E2_WR_Anzahl2)","v":5150.7314191500727},"kWh",{"$f":"IF(ISERROR(T166*E3_WR_Anzahl2),0,T166*E3_WR_Anzahl2)","v":0},"kWh"]
[]
[null,null,null,{"$f":"VLOOKUP(\"Systemverluste\",Texte_Ertrag,SpracheID+1,FALSE)","v":"Systemverluste:"},null,{"$f":"IF(ISERROR(100-F22+E1_Verlust_Kabel_DC+E1_Verlust_Kabel_AC),0,100-F22+E1_Verlust_Kabel_DC+E1_Verlust_Kabel_AC)","v":0},"%",{"$f":"IF(ISERROR(100-H22+E2_Verlust_Kabel_DC+E2_Verlust_Kabel_AC),0,100-H22+E2_Verlust_Kabel_DC+E2_Verlust_Kabel_AC)","v":0},"%",{"$f":"IF(ISERROR(100-J22+E3_Verlust_Kabel_DC+E3_Verlust_Kabel_AC),0,100-J22+E3_Verlust_Kabel_DC+E3_Verlust_Kabel_AC)","v":0},"%",{"$f":"VLOOKUP(\"inkl_Kabel\",Texte_Ertrag,SpracheID+1,FALSE)","v":"(inkl. Kabel)"}]
[]
[null,null,null,"kWh / kWp:",null,{"$f":"IF(ISERROR(Ertrag_kWh*1000/E1_max_MPPLeistung/E1_WR_Anzahl),0,Ertrag_kWh*1000/E1_max_MPPLeistung/E1_WR_Anzahl2)","v":1085.5071483983295},"kWh / kWp",{"$f":"IF(ISERROR(H44*1000/E2_max_MPPLeistung/E2_WR_Anzahl2),0,H44*1000/E2_max_MPPLeistung/E2_WR_Anzahl2)","v":1085.5071483983295},"kWh / kWp",{"$f":"IF(ISERROR(J44*1000/E3_max_MPPLeistung/E3_WR_Anzahl2),0,J44*1000/E3_max_MPPLeistung/E3_WR_Anzahl2)","v":0},"kWh / kWp"]
[]
[null,null,null,{"$f":"VLOOKUP(\"Ertrag\",Texte_Ertrag,SpracheID+1,FALSE)","v":"Energieeinspeisung:"},null,{"$f":"U96","v":11093.883056630928},"kWh",{"$f":"U131","v":5150.7314191500727},"kWh",{"$f":"U166","v":0},"kWh",{"$f":"\"(\"& VLOOKUP(\"Netz\",Texte_Ertrag,SpracheID+1,FALSE)& \")\"","v":"(Netz)"}]
[]
[null,null,null,null,null,{"$f":"V96","v":1131.5760717763546},"€",{"$f":"V131","v":525.37460475330738},"€",{"$f":"V166","v":0},"€"]
[]
[null,null,null,{"$f":"VLOOKUP(\"Summe\",Texte_Ertrag,SpracheID+1,FALSE)","v":"Summe:"},null,null,{"$f":"SUM(F44,H44,J44)","v":16244.614475781},"kWh",{"$f":"SUM(F46,H46,J46)","v":1656.9506765296619},"€"]
[]
[null,{"$f":"VLOOKUP(\"1wechselrichter\",Texte_Ertrag,SpracheID+1,FALSE)","v":"Monatsverteilung - am Einspeisepunkt"}]
[]
[]
[]
[]
[]
[]
[]
[]
[]
[]
[]
[]
[]
[]
[]
[null,null,null,{"$f":"VLOOKUP(\"Achtung\",Texte_Ertrag,SpracheID+1,FALSE)","v":"Achtung: "},null,{"$f":"VLOOKUP(\"Achtung_txt\",Texte_Ertrag,SpracheID+1,FALSE)","v":"Die berechneten Ergebnisse können von realen Werten um 10% oder mehr abweichen"}]
[]
[]
[]
[]
[]
[]
[]
[]
[]
[]
[]
[]
[]
[]
[null,null,null,null,null,null,null,null,null,null,null,null,null,null,null,null,null,null,null,"[kWh]",{"$f":"F18&\" \"&\"[kWh]\"","v":"Teilanlage 1  [kWh]"}]
[null,null,null,null,"Tag","höhe","azimut",null,"Monat","höhe","azimut",null,null,"Jahr",null,null,"%/100","S_kwh/M","S_kWh/d","Möglich","nach Verlusten","€"]
[null,null,null,null,0,-62.302444162953087,1,null,1,1,null,null,"Jan",1,152.04890206239651,null,{"$f":"O83/O$96","v":2.2215380974340178E-2},{"$f":"Sonneneinstrahlung*Q83","v":24.436919071774195},{"$f":"R83/30","v":0.81456396905913986},{"$f":"Sonneneinstrahlung/1000*INDEX(E1_Solarmodule,E1_SolarmodulID,4)*$Q83*E1_Anzahl_Module_gesamt*INDEX(Korrekturfaktor_ausrichtung,(INDEX(Modul_ausrichtung_range2,E1_Modul_ausrichtung,1)+INDEX(Modul_neigung_range2,E1_Modul_neigung,1)),$N83)*INDEX(Korrekturfaktor_temperatur,1,$N83)","v":366.82591560739627},{"$f":"IF(E1_WR_Anzahl<>0,E1_WR_Anzahl*(Sonneneinstrahlung/1000*INDEX(E1_Solarmodule,E1_SolarmodulID,4)*$Q83*E1_Anzahl_Module_gesamt*INDEX(Korrekturfaktor_ausrichtung,(INDEX(Modul_ausrichtung_range2,E1_Modul_ausrichtung,1)+INDEX(Modul_neigung_range2,E1_Modul_neigung,1)),$N83)*INDEX(Korrekturfaktor_temperatur,1,$N83)*((100-F$40)/100)),0)","v":366.82591560739627},{"$f":"U83*Verguetung","v":37.416243391954417}]
[null,null,null,null,1,-57.046729591712371,1,null,2,1,null,null,"Feb",2,313.42737286350325,null,4.5793875532832963E-2,50.37326308611626,{"$f":"R84/30","v":1.6791087695372087},{"$f":"Sonneneinstrahlung/1000*INDEX(E1_Solarmodule,E1_SolarmodulID,4)*$Q84*E1_Anzahl_Module_gesamt*INDEX(Korrekturfaktor_ausrichtung,(INDEX(Modul_ausrichtung_range2,E1_Modul_ausrichtung,1)+INDEX(Modul_neigung_range2,E1_Modul_neigung,1)),$N84)*INDEX(Korrekturfaktor_temperatur,1,$N84)","v":727.94805471851305},{"$f":"IF(E1_WR_Anzahl<>0,E1_WR_Anzahl*(Sonneneinstrahlung/1000*INDEX(E1_Solarmodule,E1_SolarmodulID,4)*$Q84*E1_Anzahl_Module_gesamt*INDEX(Korrekturfaktor_ausrichtung,(INDEX(Modul_ausrichtung_range2,E1_Modul_ausrichtung,1)+INDEX(Modul_neigung_range2,E1_Modul_neigung,1)),$N84)*INDEX(Korrekturfaktor_temperatur,1,$N84)*((100-F$40)/100)),0)","v":727.94805471851305},{"$f":"U84*Verguetung","v":74.250701581288325}]
[null,null,null,null,2,-49.146774664336832,1,null,3,1,null,null,"Mrz",3,555.57860305774136,null,8.1173820795197055E-2,89.29120287471676,2.9763734291572255,1014.3060977914315,1014.3060977914315,103.45922197472601]
[null,null,null,null,3,-40.006227577659516,1,null,4,1,null,null,"Apr",4,819.85876453592516,null,0.11978695375151836,131.76564912667021,4.3921883042223406,1323.4826412084872,1323.4826412084872,134.99522940326568]
[null,null,null,null,4,-30.417680234786737,1,null,5,1,null,null,"Mai",5,1017.1726617149533,null,0.1486158590438767,163.47744494826438,5.449248164942146,1470.2507488867107,1470.2507488867107,149.96557638644447]
[null,null,null,null,5,-20.853634079748737,1,null,6,1,null,null,"Jun",6,1093.096382047534,null,0.15970883208938658,175.67971529832522,5.8559905099441742,1499.557075779388,1499.557075779388,152.95482172949758]
[null,null,null,null,6,-11.663344061960114,1,null,7,1,null,null,"Jul",7,1009.8574741405973,null,0.14754706027809286,162.30176630590213,5.4100588768634044,1383.7076038833602,1383.7076038833602,141.13817559610274]
[null,null,null,null,7,-3.1711766379437489,1,null,8,1,null,null,"Aug",8,795.58980978666102,null,0.11624109404262895,127.86520344689184,4.2621734482297278,1157.5478315194846,1157.5478315194846,118.06987881498742]
[null,null,null,null,8,4.2745498642423536,1,null,9,1,null,null,"Sep",9,531.17208466054888,null,7.7607862099695446E-2,85.368648309664991,2.8456216103221665,908.50049701520959,908.50049701520959,92.667050695551367]
[null,null,null,null,9,10.285593426113783,1,null,10,1,null,null,"Okt",10,305.39285444486529,null,4.4619977627656716E-2,49.081975390422386,1.6360658463474129,639.06106253640883,639.06106253640883,65.184228378713698]
[null,null,null,null,10,14.456752806770188,1,null,11,1,null,null,"Nov",11,149.02231756941711,null,2.1773176350363507E-2,23.950493985399859,0.79834979951332863,359.81785134025625,359.81785134025625,36.701420836706134]
[null,null,null,null,11,16.437774947428686,1,null,12,1,null,null,"Dez",12,102.09042815991008,null,1.4916107414410636E-2,16.4077181558517,0.54692393852839005,242.87767634428187,242.87767634428187,24.773522987116749]
[null,null,null,null,12,16.036990447890208,1,null,13,1,null,null,null,null,{"$f":"AVERAGE(O83:O94)","v":570.35897125367114},null,{"$f":"AVERAGE(Q83:Q94)","v":8.3333333333333329E-2},91.666666666666671,3.0555555555555554,924.49025471924404,924.49025471924404,94.298005981362891]
[null,null,null,null,13,13.294653668421764,1,null,14,1,null,null,null,null,{"$f":"SUM(O83:O94)","v":6844.3076550440537},null,{"$f":"SUM(Q83:Q94)","v":0.99999999999999989},1100,36.666666666666664,11093.883056630928,11093.883056630928,1131.5760717763546]
[null,null,null,null,14,8.4665605721831749,1,null,15,1]
[null,null,null,null,15,1.9321110098381842,1,null,16,1]
[null,null,null,null,16,-5.9036364081053652,1,null,17,1]
[null,null,null,null,17,-14.6653935409604,1,null,18,1]
[null,null,null,null,18,-24.016190927222169,1,null,19,1]
[null,null,null,null,19,-33.630602185791005,1,null,20,1]
[null,null,null,null,20,-43.132775315199687,1,null,21,1]
[null,null,null,null,21,-51.972054821548966,1,null,22,1]
[null,null,null,null,22,-59.182641775617462,1,null,23,1]
[null,null,null,null,23,-63.142061791816744,1,null,24,1]
[null,null,null,null,24,null,1,null,25,1]
[null,null,null,null,"mittel",null,null,null,26,1]
[null,null,null,null,"summe",null,null,null,27,1]
[null,null,null,null,null,null,null,null,28,1]
[null,null,null,null,null,null,null,null,29,1]
[null,null,null,null,null,null,null,null,30,1]
[null,null,null,null,null,null,null,null,"mittel",{"$f":"AVERAGE(J83:J112)","v":1}]
[null,null,null,null,null,null,null,null,"summe",{"$f":"SUM(J83:J112)","v":30}]
[]
[null,null,null,null,null,null,null,null,null,null,null,null,null,null,null,null,null,null,null,"[kWh]",{"$f":"H18&\" \"&\"[kWh]\"","v":"Teilanlage 2  [kWh]"}]
[null,null,null,null,"Tag",null,null,null,"Monat",null,null,null,null,"Jahr",null,null,"%/100","S_kwh/M","S_kWh/d","Möglich","nach Verlusten","€"]
[null,null,null,null,0,null,null,null,1,null,null,null,"Jan",1,152.04890206239651,null,{"$f":"O118/O$131","v":2.2215380974340178E-2},{"$f":"Sonneneinstrahlung*Q118","v":24.436919071774195},{"$f":"R118/30","v":0.81456396905913986},{"$f":"Sonneneinstrahlung/1000*INDEX(E2_Solarmodule,E2_SolarmodulID,4)*$Q118*E2_Anzahl_Module_gesamt*INDEX(Korrekturfaktor_ausrichtung,(INDEX(Modul_ausrichtung_range2,E2_Modul_ausrichtung,1)+INDEX(Modul_neigung_range2,E2_Modul_neigung,1)),$N118)*INDEX(Korrekturfaktor_temperatur,1,$N118)","v":170.31203224629112},{"$f":"IF(E2_WR_Anzahl<>0,IF(INDEX(Wechselrichter,E1_WechselrichterID,25)=3,E1_WR_Anzahl,E2_WR_Anzahl)*(Sonneneinstrahlung/1000*INDEX(E2_Solarmodule,E2_SolarmodulID,4)*$Q118*E2_Anzahl_Module_gesamt*INDEX(Korrekturfaktor_ausrichtung,(INDEX(Modul_ausrichtung_range2,E2_Modul_ausrichtung,1)+INDEX(Modul_neigung_range2,E2_Modul_neigung,1)),$N118)*INDEX(Korrekturfaktor_temperatur,1,$N118)*((100-H$40)/100)),0)","v":170.31203224629112},{"$f":"U118*Verguetung","v":17.371827289121693}]
[null,null,null,null,1,null,null,null,2,null,null,null,"Feb",2,313.42737286350325,null,4.5793875532832963E-2,50.37326308611626,{"$f":"R119/30","v":1.6791087695372087},337.97588254788099,{"$f":"IF(E2_WR_Anzahl<>0,IF(INDEX(Wechselrichter,E1_WechselrichterID,25)=3,E1_WR_Anzahl,E2_WR_Anzahl)*(Sonneneinstrahlung/1000*INDEX(E2_Solarmodule,E2_SolarmodulID,4)*$Q119*E2_Anzahl_Module_gesamt*INDEX(Korrekturfaktor_ausrichtung,(INDEX(Modul_ausrichtung_range2,E2_Modul_ausrichtung,1)+INDEX(Modul_neigung_range2,E2_Modul_neigung,1)),$N119)*INDEX(Korrekturfaktor_temperatur,1,$N119)*((100-H$40)/100)),0)","v":337.97588254788099},{"$f":"U119*Verguetung","v":34.473540019883856}]
[null,null,null,null,2,null,null,null,3,null,null,null,"Mrz",3,555.57860305774136,null,8.1173820795197055E-2,89.29120287471676,2.9763734291572255,470.92783111745024,470.92783111745024,48.034638773979921]
[null,null,null,null,3,null,null,null,4,null,null,null,"Apr",4,819.85876453592516,null,0.11978695375151836,131.76564912667021,4.3921883042223406,614.47408341822609,614.47408341822609,62.676356508659055]
[null,null,null,null,4,null,null,null,5,null,null,null,"Mai",5,1017.1726617149533,null,0.1486158590438767,163.47744494826438,5.449248164942146,682.61641912597281,682.61641912597281,69.626874750849225]
[null,null,null,null,5,null,null,null,6,null,null,null,"Jun",6,1093.096382047534,null,0.15970883208938658,175.67971529832522,5.8559905099441742,696.22292804043025,696.22292804043025,71.014738660123882]
[null,null,null,null,6,null,null,null,7,null,null,null,"Jul",7,1009.8574741405973,null,0.14754706027809286,162.30176630590213,5.4100588768634044,642.43567323156014,642.43567323156014,65.528438669619135]
[null,null,null,null,7,null,null,null,8,null,null,null,"Aug",8,795.58980978666102,null,0.11624109404262895,127.86520344689184,4.2621734482297278,537.43292177690353,537.43292177690353,54.818158021244159]
[null,null,null,null,8,null,null,null,9,null,null,null,"Sep",9,531.17208466054888,null,7.7607862099695446E-2,85.368648309664991,2.8456216103221665,421.80380218563306,421.80380218563306,43.023987822934572]
[null,null,null,null,9,null,null,null,10,null,null,null,"Okt",10,305.39285444486529,null,4.4619977627656716E-2,49.081975390422386,1.6360658463474129,296.70692189190413,296.70692189190413,30.264106032974219]
[null,null,null,null,10,null,null,null,11,null,null,null,"Nov",11,149.02231756941711,null,2.1773176350363507E-2,23.950493985399859,0.79834979951332863,167.05828812226184,167.05828812226184,17.039945388470706]
[null,null,null,null,11,null,null,null,12,null,null,null,"Dez",12,102.09042815991008,null,1.4916107414410636E-2,16.4077181558517,0.54692393852839005,112.76463544555943,112.76463544555943,11.501992815447062]
[null,null,null,null,12,null,null,null,13,null,null,null,null,null,{"$f":"AVERAGE(O118:O129)","v":570.35897125367114},null,{"$f":"AVERAGE(Q118:Q129)","v":8.3333333333333329E-2},91.666666666666671,3.0555555555555554,{"$f":"AVERAGE(T118:T129)","v":429.22761826250604},429.22761826250604,43.781217062775617]
[null,null,null,null,13,null,null,null,14,null,null,null,null,null,{"$f":"SUM(O118:O129)","v":6844.3076550440537},null,{"$f":"SUM(Q118:Q129)","v":0.99999999999999989},1100,36.666666666666664,5150.7314191500727,5150.7314191500727,525.37460475330738]
[null,null,null,null,14,null,null,null,15]
[null,null,null,null,15,null,null,null,16]
[null,null,null,null,16,null,null,null,17]
[null,null,null,null,17,null,null,null,18]
[null,null,null,null,18,null,null,null,19]
[null,null,null,null,19,null,null,null,20]
[null,null,null,null,20,null,null,null,21]
[null,null,null,null,21,null,null,null,22]
[null,null,null,null,22,null,null,null,23]
[null,null,null,null,23,null,null,null,24]
[null,null,null,null,24,null,null,null,25]
[null,null,null,null,"mittel",null,null,null,26]
[null,null,null,null,"summe",null,null,null,27]
[null,null,null,null,null,null,null,null,28]
[null,null,null,null,null,null,null,null,29]
[null,null,null,null,null,null,null,null,30]
[null,null,null,null,null,null,null,null,"mittel"]
[null,null,null,null,null,null,null,null,"summe"]
[]
[null,null,null,null,null,null,null,null,null,null,null,null,null,null,null,null,null,null,null,"[kWh]",{"$f":"J18&\" \"&\"[kWh]\"","v":"Teilanlage 3  [kWh]"}]
[null,null,null,null,"Tag",null,null,null,"Monat",null,null,null,null,"Jahr",null,null,"%/100","S_kwh/M","S_kWh/d","Möglich","nach Verlusten","€"]
[null,null,null,null,0,null,null,null,1,null,null,null,"Jan",1,152.04890206239651,null,{"$f":"O153/O$166","v":2.2215380974340178E-2},{"$f":"Sonneneinstrahlung*Q153","v":24.436919071774195},{"$f":"R153/30","v":0.81456396905913986},{"$f":"Sonneneinstrahlung/1000*INDEX(E3_Solarmodule,E3_SolarmodulID,4)*$Q153*E3_Anzahl_Module_gesamt*INDEX(Korrekturfaktor_ausrichtung,(INDEX(Modul_ausrichtung_range2,E3_Modul_ausrichtung,1)+INDEX(Modul_neigung_range2,E3_Modul_neigung,1)),$N153)*INDEX(Korrekturfaktor_temperatur,1,$N153)","v":0},{"$f":"IF(E3_WR_Anzahl<>0,IF(INDEX(Wechselrichter,E1_WechselrichterID,25)=3,E1_WR_Anzahl,E3_WR_Anzahl)*(Sonneneinstrahlung/1000*INDEX(E3_Solarmodule,E3_SolarmodulID,4)*$Q153*E3_Anzahl_Module_gesamt*INDEX(Korrekturfaktor_ausrichtung,(INDEX(Modul_ausrichtung_range2,E3_Modul_ausrichtung,1)+INDEX(Modul_neigung_range2,E3_Modul_neigung,1)),$N153)*INDEX(Korrekturfaktor_temperatur,1,$N153)*((100-J$40)/100)),0)","v":0},{"$f":"U153*Verguetung","v":0}]
[null,null,null,null,1,null,null,null,2,null,null,null,"Feb",2,313.42737286350325,null,{"$f":"O154/O$166","v":4.5793875532832963E-2},50.37326308611626,{"$f":"R154/30","v":1.6791087695372087},0,{"$f":"IF(E3_WR_Anzahl<>0,IF(INDEX(Wechselrichter,E1_WechselrichterID,25)=3,E1_WR_Anzahl,E3_WR_Anzahl)*(Sonneneinstrahlung/1000*INDEX(E3_Solarmodule,E3_SolarmodulID,4)*$Q154*E3_Anzahl_Module_gesamt*INDEX(Korrekturfaktor_ausrichtung,(INDEX(Modul_ausrichtung_range2,E3_Modul_ausrichtung,1)+INDEX(Modul_neigung_range2,E3_Modul_neigung,1)),$N154)*INDEX(Korrekturfaktor_temperatur,1,$N154)*((100-J$40)/100)),0)","v":0},{"$f":"U154*Verguetung","v":0}]
[null,null,null,null,2,null,null,null,3,null,null,null,"Mrz",3,555.57860305774136,null,8.1173820795197055E-2,89.29120287471676,2.9763734291572255,0,0,0]
[null,null,null,null,3,null,null,null,4,null,null,null,"Apr",4,819.85876453592516,null,0.11978695375151836,131.76564912667021,4.3921883042223406,0,0,0]
[null,null,null,null,4,null,null,null,5,null,null,null,"Mai",5,1017.1726617149533,null,0.1486158590438767,163.47744494826438,5.449248164942146,0,0,0]
[null,null,null,null,5,null,null,null,6,null,null,null,"Jun",6,1093.096382047534,null,0.15970883208938658,175.67971529832522,5.8559905099441742,0,0,0]
[null,null,null,null,6,null,null,null,7,null,null,null,"Jul",7,1009.8574741405973,null,0.14754706027809286,162.30176630590213,5.4100588768634044,0,0,0]
[null,null,null,null,7,null,null,null,8,null,null,null,"Aug",8,795.58980978666102,null,0.11624109404262895,127.86520344689184,4.2621734482297278,0,0,0]
[null,null,null,null,8,null,null,null,9,null,null,null,"Sep",9,531.17208466054888,null,7.7607862099695446E-2,85.368648309664991,2.8456216103221665,0,0,0]
[null,null,null,null,9,null,null,null,10,null,null,null,"Okt",10,305.39285444486529,null,4.4619977627656716E-2,49.081975390422386,1.6360658463474129,0,0,0]
[null,null,null,null,10,null,null,null,11,null,null,null,"Nov",11,149.02231756941711,null,2.1773176350363507E-2,23.950493985399859,0.79834979951332863,0,0,0]
[null,null,null,null,11,null,null,null,12,null,null,null,"Dez",12,102.09042815991008,null,1.4916107414410636E-2,16.4077181558517,0.54692393852839005,0,0,0]
[null,null,null,null,12,null,null,null,13,null,null,null,null,null,{"$f":"AVERAGE(O153:O164)","v":570.35897125367114},null,{"$f":"AVERAGE(Q153:Q164)","v":8.3333333333333329E-2},91.666666666666671,3.0555555555555554,0,0,0]
[null,null,null,null,13,null,null,null,14,null,null,null,null,null,{"$f":"SUM(O153:O164)","v":6844.3076550440537},null,{"$f":"SUM(Q153:Q164)","v":0.99999999999999989},1100,36.666666666666664,0,0,0]
[null,null,null,null,14,null,null,null,15]
[null,null,null,null,15,null,null,null,16]
[null,null,null,null,16,null,null,null,17]
[null,null,null,null,17,null,null,null,18]
[null,null,null,null,18,null,null,null,19]
[null,null,null,null,19,null,null,null,20]
[null,null,null,null,20,null,null,null,21]
[null,null,null,null,21,null,null,null,22]
[null,null,null,null,22,null,null,null,23]
[null,null,null,null,23,null,null,null,24]
[null,null,null,null,24,null,null,null,25]
[null,null,null,null,"mittel",null,null,null,26]
[null,null,null,null,"summe",null,null,null,27]
[null,null,null,null,null,null,null,null,28]
[null,null,null,null,null,null,null,null,29]
[null,null,null,null,null,null,null,null,30]
[null,null,null,null,null,null,null,null,"mittel"]
[null,null,null,null,null,null,null,null,"summe"]

{"sheet":"Ihr System","index":3,"n_rows":214,"n_cols":8,"rows_kept":214,"cut":false,"hidden":false,"merged":[[213,4,213,5],[2,3,2,6],[74,2,77,7],[172,4,172,5],[132,2,135,7],[113,4,113,5],[20,2,23,7],[55,4,55,5]]}
[]
[]
[null,null,{"$f":"VLOOKUP(\"Auslegung\",Texte,SpracheID+1,FALSE)","v":"Auslegung:"},{"$f":"IF(ISBLANK(Auslegung!E7),\"\",Auslegung!E7)","v":"Energy Depot GmbH"}]
[]
[null,null,{"$f":"IF(INDEX(Wechselrichter,E1_WechselrichterID,25)=3,\"        \" &VLOOKUP(\"Eingang\",Texte,SpracheID+1,FALSE) & \" 1 \",\"        \" &VLOOKUP(\"Teilanlage\",Texte,SpracheID+1,FALSE) & \" 1 \")","v":"        Teilanlage 1 "},null,null,null,null,1]
[null,null,{"$f":"IF(INDEX(Wechselrichter,E1_WechselrichterID,25)=3,\"        \" &VLOOKUP(\"Eingang\",Texte,SpracheID+1,FALSE) & \" 2 \",\"        \" &VLOOKUP(\"Teilanlage\",Texte,SpracheID+1,FALSE) & \" 2 \")","v":"        Teilanlage 2 "},null,null,null,null,0]
[null,null,{"$f":"IF(INDEX(Wechselrichter,E1_WechselrichterID,25)=3,\"        \" &VLOOKUP(\"Eingang\",Texte,SpracheID+1,FALSE) & \" 3 \",\"        \" &VLOOKUP(\"Teilanlage\",Texte,SpracheID+1,FALSE) & \" 3 \")","v":"        Teilanlage 3 "},null,null,null,null,0]
[]
[null,null,{"$f":"VLOOKUP(\"GewählterWechselrichter\",Texte,SpracheID+1,FALSE)","v":"Gewählter Solar Inverter:"},{"$f":"E1_WR_Anzahl & \" x \" & INDEX(Wechselrichter,E1_WechselrichterID,1)","v":"1 x Centurio 10.0"},null,null,null,{"$f":"C5","v":"        Teilanlage 1 "}]
[]
[null,null,{"$f":"VLOOKUP(\"TechnischeDaten\",Texte,SpracheID+1,FALSE)","v":"Technische Daten"},null,null,{"$f":"VLOOKUP(\"Grenzwerte\",Texte,SpracheID+1,FALSE)","v":"Grenzwerte"}]
[]
[null,null,{"$f":"VLOOKUP(\"min. empfohlene DC-Leistung\",Texte,SpracheID+1,FALSE)","v":"min. empfohlene DC-Leistung:"},{"$f":"INDEX(Wechselrichter,E1_WechselrichterID,2)","v":8800},{"$f":"INDEX(Wechselrichter_Bezeichnungen,3,2)","v":"W"},{"$f":"VLOOKUP(\"min. MPP-Spannung\",Texte,SpracheID+1,FALSE)","v":"min. MPP-Spannung:"},{"$f":"INDEX(Wechselrichter,E1_WechselrichterID,10)","v":200},{"$f":"INDEX(Wechselrichter_Bezeichnungen,3,10)","v":"V"}]
[null,null,{"$f":"VLOOKUP(\"max. empfohlene DC-Leistung\",Texte,SpracheID+1,FALSE)","v":"max. empfohlene DC-Leistung:"},{"$f":"INDEX(Wechselrichter,E1_WechselrichterID,3)","v":12100.000000000002},{"$f":"INDEX(Wechselrichter_Bezeichnungen,3,3)","v":"W"},{"$f":"VLOOKUP(\"max. MPP-Spannung\",Texte,SpracheID+1,FALSE)","v":"max. MPP-Spannung:"},{"$f":"INDEX(Wechselrichter,E1_WechselrichterID,11)","v":740},{"$f":"INDEX(Wechselrichter_Bezeichnungen,3,11)","v":"V"}]
[null,null,{"$f":"VLOOKUP(\"Nennausgangsleistung PN\",Texte,SpracheID+1,FALSE)","v":"Nennausgangsleistung PN:"},{"$f":"INDEX(Wechselrichter,E1_WechselrichterID,4)","v":11000},{"$f":"INDEX(Wechselrichter_Bezeichnungen,3,4)","v":"W"},{"$f":"VLOOKUP(\"max. Leerlaufspannung\",Texte,SpracheID+1,FALSE)","v":"max. Leerlaufspannung:"},{"$f":"INDEX(Wechselrichter,E1_WechselrichterID,12)","v":900},{"$f":"INDEX(Wechselrichter_Bezeichnungen,3,12)","v":"V"}]
[null,null,{"$f":"VLOOKUP(\"Einspeisung ab DC-Leistung\",Texte,SpracheID+1,FALSE)","v":"Einspeisung ab DC-Leistung:"},{"$f":"INDEX(Wechselrichter,E1_WechselrichterID,5)","v":9},{"$f":"INDEX(Wechselrichter_Bezeichnungen,3,5)","v":"W"},{"$f":"VLOOKUP(\"Einschaltschwelle\",Texte,SpracheID+1,FALSE)","v":"Einschaltschwelle:"},{"$f":"INDEX(Wechselrichter,E1_WechselrichterID,13)","v":200},{"$f":"INDEX(Wechselrichter_Bezeichnungen,3,13)","v":"V"}]
[null,null,{"$f":"VLOOKUP(\"Nachtverbrauch\",Texte,SpracheID+1,FALSE)","v":"Nachtverbrauch:"},{"$f":"INDEX(Wechselrichter,E1_WechselrichterID,6)","v":0.1},{"$f":"INDEX(Wechselrichter_Bezeichnungen,3,6)","v":"W"},{"$f":"VLOOKUP(\"Abschaltschwelle\",Texte,SpracheID+1,FALSE)","v":"Abschaltschwelle:"},{"$f":"INDEX(Wechselrichter,E1_WechselrichterID,14)","v":175},{"$f":"INDEX(Wechselrichter_Bezeichnungen,3,14)","v":"V"}]
[null,null,{"$f":"VLOOKUP(\"Europäischer Jahreswirkungsgrad\",Texte,SpracheID+1,FALSE)","v":"Europäischer Jahreswirkungsgrad:"},{"$f":"IF(ISERROR(IF(E1_WechselrichterID<>1,TEXT(ROUND(VLOOKUP(E1_WechselrichterID,_Daten!$V$6:$AC$40,6,FALSE),1),\"00,0\"),\"\")),\"-    \",IF(E1_WechselrichterID<>1,TEXT(ROUND(VLOOKUP(E1_WechselrichterID,_Daten!$V$6:$AC$40,6,FALSE),1),\"00,0\"),\"-    \"))","v":"-    "},{"$f":"INDEX(Wechselrichter_Bezeichnungen,3,7)","v":"%"},{"$f":"VLOOKUP(\"max. Netzstrom\",Texte,SpracheID+1,FALSE)","v":"max. Netzstrom:"},{"$f":"INDEX(Wechselrichter,E1_WechselrichterID,15)","v":14.3},{"$f":"INDEX(Wechselrichter_Bezeichnungen,3,15)","v":"A"}]
[null,null,null,null,null,{"$f":"VLOOKUP(\"max. DC-Strom\",Texte,SpracheID+1,FALSE)","v":"max. DC-Strom:"},{"$f":"INDEX(Wechselrichter,E1_WechselrichterID,21)","v":24},{"$f":"INDEX(Wechselrichter_Bezeichnungen,3,21)","v":"A"}]
[null,null,{"$f":"IF(INDEX(Wechselrichter,E1_WechselrichterID,8)<>\"\",\"Features\",\"\")","v":"Features"}]
[null,null,{"$f":"INDEX(Wechselrichter,E1_WechselrichterID,22)","v":"10 kWp, 3-phasig mit Notstromfunktion, max. AC Leistung 11 KVA, max. Leistung je Phase 3,3 kW, nom. Spannung 210 - 264 VAC, Spannungsbereich: 184 - 264VAC 47,5 Hz - 62 Hz, trafolos, symmetrische/asymmetrische Einspeisung, 2 PV-Eingänge je 6 kW, Eingangspannungsbereich 200 VDC - 900 VDC, Mpp Spannungsbereich: 200VDC bis 740 VDC, Max. Eingangsstrom je MPPT: 12A, DC-Schalter integriert. echter Sinus, max. Wirkungsgrad >98% PV-Netz, >97% Batteriemode DC nach AC.\n"}]
[]
[]
[]
[null,null,{"$f":"VLOOKUP(\"gewählteSolarmodule\",Texte,SpracheID+1,FALSE)","v":"Gewählte Solarmodule:"},{"$f":"E1_AnzahlSG&\" x \" & INDEX(E1_Solarmodule,E1_SolarmodulID,1)","v":"28 x Canadian Solar Inc.  HiKu CS3L-365P"}]
[null,null,null,11000,null,null,97.5]
[null,null,{"$f":"VLOOKUP(\"TechnischeDaten\",Texte,SpracheID+1,FALSE)","v":"Technische Daten"},null,null,{"$f":"VLOOKUP(\"WeitereInfos\",Texte,SpracheID+1,FALSE)","v":"Weitere Infos"}]
[]
[null,null,{"$f":"VLOOKUP(\"Nennleistung\",Texte,SpracheID+1,FALSE)","v":"Nennleistung:"},{"$f":"INDEX(E1_Solarmodule,E1_SolarmodulID,4)","v":365},{"$f":"INDEX(Solarmodule_Bezeichnungen,3,4)","v":"Wp"},{"$f":"VLOOKUP(\"Herstellungsland\",Texte,SpracheID+1,FALSE)","v":"Herstellungsland:"},{"$f":"IF(ISERROR(VLOOKUP(INDEX(E1_Solarmodule,E1_SolarmodulID,14),Texte_Länder,SpracheID+1)),INDEX(E1_Solarmodule,E1_SolarmodulID,14),VLOOKUP(INDEX(E1_Solarmodule,E1_SolarmodulID,14),Texte_Länder,SpracheID+1))","v":"China"}]
[null,null,{"$f":"VLOOKUP(\"Toleranz\",Texte,SpracheID+1,FALSE)","v":"Toleranz:"},{"$f":"INDEX(E1_Solarmodule,E1_SolarmodulID,5)","v":5},{"$f":"INDEX(Solarmodule_Bezeichnungen,3,5)","v":"+ | - %"},{"$f":"VLOOKUP(\"Zellhersteller\",Texte,SpracheID+1,FALSE)","v":"Zellhersteller:"},{"$f":"INDEX(E1_Solarmodule,E1_SolarmodulID,15)","v":"-"}]
[null,null,{"$f":"VLOOKUP(\"MPP-Spannung\",Texte,SpracheID+1,FALSE)","v":"MPP-Spannung:"},{"$f":"INDEX(E1_Solarmodule,E1_SolarmodulID,6)","v":33.6},{"$f":"INDEX(Solarmodule_Bezeichnungen,3,6)","v":"V"},{"$f":"VLOOKUP(\"Modulwirkungsgrad\",Texte,SpracheID+1,FALSE)","v":"Modulwirkungsgrad:"},{"$f":"INDEX(E1_Solarmodule,E1_SolarmodulID,16)","v":19.7},{"$f":"INDEX(Solarmodule_Bezeichnungen,3,16)","v":"%"}]
[null,null,{"$f":"VLOOKUP(\"MPP-Strom\",Texte,SpracheID+1,FALSE)","v":"MPP-Strom:"},{"$f":"INDEX(E1_Solarmodule,E1_SolarmodulID,7)","v":10.87},{"$f":"INDEX(Solarmodule_Bezeichnungen,3,7)","v":"A"},{"$f":"VLOOKUP(\"Zelltyp\",Texte,SpracheID+1,FALSE)","v":"Zelltyp:"},{"$f":"IF(ISERROR(VLOOKUP(INDEX(E1_Solarmodule,E1_SolarmodulID,17),Texte_Zellentyp,SpracheID+1)),INDEX(E1_Solarmodule,E1_SolarmodulID,17),VLOOKUP(INDEX(E1_Solarmodule,E1_SolarmodulID,17),Texte_Zellentyp,SpracheID+1))","v":"mono"}]
[null,null,{"$f":"VLOOKUP(\"Leerlaufspannung\",Texte,SpracheID+1,FALSE)","v":"Leerlaufspannung:"},{"$f":"INDEX(E1_Solarmodule,E1_SolarmodulID,8)","v":40.799999999999997},{"$f":"INDEX(Solarmodule_Bezeichnungen,3,8)","v":"V"},{"$f":"VLOOKUP(\"Zellen pro Modul\",Texte,SpracheID+1,FALSE)","v":"Zellen pro Modul:"},{"$f":"INDEX(E1_Solarmodule,E1_SolarmodulID,18)","v":120}]
[null,null,{"$f":"VLOOKUP(\"Kurzschlußstrom\",Texte,SpracheID+1,FALSE)","v":"Kurzschlußstrom:"},{"$f":"INDEX(E1_Solarmodule,E1_SolarmodulID,9)","v":11.44},{"$f":"INDEX(Solarmodule_Bezeichnungen,3,9)","v":"A"},{"$f":"VLOOKUP(\"Zellform\",Texte,SpracheID+1,FALSE)","v":"Zellform:"},{"$f":"IF(ISERROR(VLOOKUP(INDEX(E1_Solarmodule,E1_SolarmodulID,19),Texte_Zellenform,SpracheID+1)),INDEX(E1_Solarmodule,E1_SolarmodulID,19),VLOOKUP(INDEX(E1_Solarmodule,E1_SolarmodulID,19),Texte_Zellenform,SpracheID+1))","v":"half cell"}]
[null,null,{"$f":"VLOOKUP(\"Spannungsänderung\",Texte,SpracheID+1,FALSE)","v":"Spannungsänderung:"},{"$f":"INDEX(E1_Solarmodule,E1_SolarmodulID,10)","v":-114.24},{"$f":"INDEX(Solarmodule_Bezeichnungen,3,10)","v":"mV/°C"},{"$f":"VLOOKUP(\"Höhe\",Texte,SpracheID+1,FALSE)","v":"Höhe:"},{"$f":"INDEX(E1_Solarmodule,E1_SolarmodulID,20)","v":1765},{"$f":"INDEX(Solarmodule_Bezeichnungen,3,20)","v":"mm"}]
[null,null,{"$f":"VLOOKUP(\"Stromänderung\",Texte,SpracheID+1,FALSE)","v":"Stromänderung:"},{"$f":"INDEX(E1_Solarmodule,E1_SolarmodulID,11)","v":5.72},{"$f":"INDEX(Solarmodule_Bezeichnungen,3,11)","v":"mA/°C"},{"$f":"VLOOKUP(\"Breite\",Texte,SpracheID+1,FALSE)","v":"Breite:"},{"$f":"INDEX(E1_Solarmodule,E1_SolarmodulID,21)","v":1048},{"$f":"INDEX(Solarmodule_Bezeichnungen,3,21)","v":"mm"}]
[null,null,{"$f":"VLOOKUP(\"Leistungsänderung\",Texte,SpracheID+1,FALSE)","v":"Leistungsänderung:"},{"$f":"INDEX(E1_Solarmodule,E1_SolarmodulID,12)","v":-0.36},{"$f":"INDEX(Solarmodule_Bezeichnungen,3,12)","v":"%/°C"},{"$f":"VLOOKUP(\"Dicke\",Texte,SpracheID+1,FALSE)","v":"Dicke:"},{"$f":"INDEX(E1_Solarmodule,E1_SolarmodulID,22)","v":40},{"$f":"INDEX(Solarmodule_Bezeichnungen,3,22)","v":"mm"}]
[null,null,{"$f":"VLOOKUP(\"max. Systemspannung\",Texte,SpracheID+1,FALSE)","v":"max. Systemspannung:"},{"$f":"INDEX(E1_Solarmodule,E1_SolarmodulID,13)","v":1000},{"$f":"INDEX(Solarmodule_Bezeichnungen,3,13)","v":"V"},{"$f":"VLOOKUP(\"Rahmung\",Texte,SpracheID+1,FALSE)","v":"Rahmung:"},{"$f":"IF(ISERROR(VLOOKUP(INDEX(E1_Solarmodule,E1_SolarmodulID,23),Texte_Rahmenart,SpracheID+1,FALSE)),INDEX(E1_Solarmodule,E1_SolarmodulID,23),VLOOKUP(INDEX(E1_Solarmodule,E1_SolarmodulID,23),Texte_Rahmenart,SpracheID+1,FALSE))","v":"-"}]
[null,null,{"$f":"IF(J39,INDEX(Solarmodule_Bezeichnungen,1,J39 ) & \":\",\"\")","v":""},{"$f":"IF(J39,INDEX(E1_Solarmodule,E1_SolarmodulID,J39),\"\")","v":""},null,{"$f":"VLOOKUP(\"Anschluß\",Texte,SpracheID+1,FALSE)","v":"Anschluß:"},{"$f":"IF(ISERROR(VLOOKUP(INDEX(E1_Solarmodule,E1_SolarmodulID,24),Texte_Anschluss,SpracheID+1,FALSE)),INDEX(E1_Solarmodule,E1_SolarmodulID,24),VLOOKUP(INDEX(E1_Solarmodule,E1_SolarmodulID,24),Texte_Anschluss,SpracheID+1,FALSE))","v":"T4"}]
[null,null,{"$f":"IF(INDEX(E1_Solarmodule,E1_SolarmodulID,26)<>\"\",VLOOKUP(\"WeitereInfosSolarmodule\",Texte,SpracheID+1,FALSE),\"\")","v":"Weitere Informationen zu dem Solarmodul finden Sie unter"},null,null,{"$f":"VLOOKUP(\"Gewicht\",Texte,SpracheID+1,FALSE)","v":"Gewicht:"},{"$f":"INDEX(E1_Solarmodule,E1_SolarmodulID,25)","v":21.1},{"$f":"INDEX(Solarmodule_Bezeichnungen,3,25)","v":"kg"}]
[null,null,{"$f":"INDEX(E1_Solarmodule,E1_SolarmodulID,26)","v":"-"},null,null,null,{"$f":"IF(K41,INDEX(Solarmodule,SolarmoduleID,K41),\"\")","v":""}]
[null,null,null,null,null,null,null,{"$f":"IF(K42,INDEX(Solarmodule_Bezeichnungen,2,K42),\"\")","v":""}]
[null,null,{"$f":"IF(E1_WechselrichterID=10,VLOOKUP(\"Eingang\",Texte,SpracheID+1,FALSE) & \" 1 \",VLOOKUP(\"IhreSolaranlage\",Texte,SpracheID+1,FALSE))","v":"Ihre Solaranlage"}]
[]
[null,null,{"$f":"VLOOKUP(\"Gesamt-Nennleistung\",Texte,SpracheID+1,FALSE)","v":"Gesamt-Nennleistung:"},{"$f":"E1_max_MPPLeistung","v":10220},"W",{"$f":"VLOOKUP(\"DC-Kabellänge\",Texte,SpracheID+1,FALSE)","v":"DC-Kabellänge:"},{"$f":"E1_DC_Leitungslänge","v":100},"m"]
[null,null,{"$f":"VLOOKUP(\"AnzahlStrings\",Texte,SpracheID+1,FALSE)","v":"Anzahl der Strings:"},{"$f":"E1_Stringanzahl* E1_WR_Anzahl","v":2},null,{"$f":"VLOOKUP(\"DC-Kabelquerschnitt\",Texte,SpracheID+1,FALSE)","v":"DC-Kabelquerschnitt:"},{"$f":"INDEX(Leitungsquerschnitt,E1_DC_LquerschnittID,1)","v":6},"mm²"]
[null,null,{"$f":"VLOOKUP(\"Module Pro String\",Texte,SpracheID+1,FALSE)","v":"Module pro String:"},{"$f":"E1_Module_in_Reihe","v":14},null,{"$f":"VLOOKUP(\"MaxVerlusteDCKabel\",Texte,SpracheID+1,FALSE)","v":"Verluste im DC-Kabel:"},{"$f":"IF(OR(E1_Nennleistung_25=0,ISTEXT(E1_Nennleistung_25)),0,((POWER(E1_MPP_Strom_25,2)*Spez_Widerstand_Kupfer*E1_DC_Leitungslänge)/((INDEX(Leitungsquerschnitt,E1_DC_LquerschnittID,1))*E1_Nennleistung_25))*100)","v":1.3756958616780044},"%"]
[null,null,{"$f":"VLOOKUP(\"GesamtanzahlModule\",Texte,SpracheID+1,FALSE)","v":"Gesamtanzahl Module:"},{"$f":"E1_AnzahlSG","v":28},null,{"$f":"VLOOKUP(\"AC-Kabellänge\",Texte,SpracheID+1,FALSE)","v":"AC-Kabellänge:"},{"$f":"E1_AC_Leitungslänge","v":25},"m"]
[null,null,{"$f":"VLOOKUP(\"Flächenverbrauch\",Texte,SpracheID+1,FALSE)","v":"Flächenverbrauch:"},{"$f":"IF(ISERROR(INDEX(E1_Solarmodule,E1_SolarmodulID,20)/1000*INDEX(E1_Solarmodule,E1_SolarmodulID,21)/1000*E1_AnzahlSG),\"-\",INDEX(E1_Solarmodule,E1_SolarmodulID,20)/1000*INDEX(E1_Solarmodule,E1_SolarmodulID,21)/1000*E1_AnzahlSG)","v":51.792159999999996},"qm",{"$f":"VLOOKUP(\"AC-Kabelquerschnitt\",Texte,SpracheID+1,FALSE)","v":"AC-Kabelquerschnitt:"},{"$f":"INDEX(Leitungsquerschnitt,E1_AC_LquerschnittID,1)","v":25},"mm²"]
[null,null,{"$f":"VLOOKUP(\"GewichtModule\",Texte,SpracheID+1,FALSE)","v":"Gewicht der Module:"},{"$f":"IF(ISERROR(E1_AnzahlSG*INDEX(E1_Solarmodule,E1_SolarmodulID,25)),\"-\",E1_AnzahlSG*INDEX(E1_Solarmodule,E1_SolarmodulID,25))","v":590.80000000000007},"kg",{"$f":"VLOOKUP(\"MaxVerlusteACKabel\",Texte,SpracheID+1,FALSE)","v":"Verluste im AC-Kabel:"},{"$f":"IF(OR(INDEX(Wechselrichter,E1_WechselrichterID,4)=0,E1_max_MPPLeistung=0,ISTEXT(E1_Nennleistung_25)),0,IF(E1_Nennleistung_25 <= INDEX(Wechselrichter,E1_WechselrichterID,4),((IF(INDEX(Wechselrichter,E1_WechselrichterID,25)=4,1,2))*(POWER(IF(INDEX(Wechselrichter,E1_WechselrichterID,25)=4,E1_Nennleistung_25/3,E1_Nennleistung_25)/230,2)*Spez_Widerstand_Kupfer*E1_AC_Leitungslänge)/((INDEX(Leitungsquerschnitt,E1_AC_LquerschnittID,1))*IF(INDEX(Wechselrichter,E1_WechselrichterID,25)=4,E1_Nennleistung_25/3,E1_Nennleistung_25)))*100,((IF(INDEX(Wechselrichter,E1_WechselrichterID,25)=4,1,2))*(POWER(IF(INDEX(Wechselrichter,E1_WechselrichterID,25)=4,INDEX(Wechselrichter,E1_WechselrichterID,4)/3,INDEX(Wechselrichter,E1_WechselrichterID,4))/230,2)*Spez_Widerstand_Kupfer*E1_AC_Leitungslänge)/((INDEX(Leitungsquerschnitt,E1_AC_LquerschnittID,1))*IF(INDEX(Wechselrichter,E1_WechselrichterID,25)=4,INDEX(Wechselrichter,E1_WechselrichterID,4)/3,INDEX(Wechselrichter,E1_WechselrichterID,4))))*100))","v":0.11508835448015121},"%"]
[]
[]
[]
[]
[null,null,{"$f":"VLOOKUP(\"AchtungText\",Texte,SpracheID+1,FALSE)","v":"Achtung: alle hier angezeigten und berechneten Werte ohne Gewähr! Vielen Dank für Ihr Verständnis!"}]
[null,null,null,{"$f":"VLOOKUP(\"Erstellt am\",Texte,SpracheID+1,FALSE) & \" \"","v":"Erstellt am "},{"$f":"NOW()","v":"2020-10-14T08:09:51.970"}]
[]
[]
[]
[]
[]
[]
[null,null,{"$f":"VLOOKUP(\"GewählterWechselrichter\",Texte,SpracheID+1,FALSE)","v":"Gewählter Solar Inverter:"},{"$f":"IF(INDEX(Wechselrichter,E1_WechselrichterID,25)=3,E1_WR_Anzahl & \" x \",E2_WR_Anzahl & \" x \") & INDEX(Wechselrichter,E2_WechselrichterID,1)","v":"1 x Centurio 10.0 - 1 String"},null,null,null,{"$f":"C6","v":"        Teilanlage 2 "}]
[]
[null,null,{"$f":"VLOOKUP(\"TechnischeDaten\",Texte,SpracheID+1,FALSE)","v":"Technische Daten"},null,null,{"$f":"VLOOKUP(\"Grenzwerte\",Texte,SpracheID+1,FALSE)","v":"Grenzwerte"}]
[]
[null,null,{"$f":"VLOOKUP(\"min. empfohlene DC-Leistung\",Texte,SpracheID+1,FALSE)","v":"min. empfohlene DC-Leistung:"},{"$f":"INDEX(Wechselrichter,E2_WechselrichterID,2)","v":4400},{"$f":"INDEX(Wechselrichter_Bezeichnungen,3,2)","v":"W"},{"$f":"VLOOKUP(\"min. MPP-Spannung\",Texte,SpracheID+1,FALSE)","v":"min. MPP-Spannung:"},{"$f":"INDEX(Wechselrichter,E2_WechselrichterID,10)","v":200},{"$f":"INDEX(Wechselrichter_Bezeichnungen,3,10)","v":"V"}]
[null,null,{"$f":"VLOOKUP(\"max. empfohlene DC-Leistung\",Texte,SpracheID+1,FALSE)","v":"max. empfohlene DC-Leistung:"},{"$f":"INDEX(Wechselrichter,E2_WechselrichterID,3)","v":6000},{"$f":"INDEX(Wechselrichter_Bezeichnungen,3,3)","v":"W"},{"$f":"VLOOKUP(\"max. MPP-Spannung\",Texte,SpracheID+1,FALSE)","v":"max. MPP-Spannung:"},{"$f":"INDEX(Wechselrichter,E2_WechselrichterID,11)","v":740},{"$f":"INDEX(Wechselrichter_Bezeichnungen,3,11)","v":"V"}]
[null,null,{"$f":"VLOOKUP(\"Nennausgangsleistung PN\",Texte,SpracheID+1,FALSE)","v":"Nennausgangsleistung PN:"},{"$f":"INDEX(Wechselrichter,E2_WechselrichterID,4)","v":5500},{"$f":"INDEX(Wechselrichter_Bezeichnungen,3,4)","v":"W"},{"$f":"VLOOKUP(\"max. Leerlaufspannung\",Texte,SpracheID+1,FALSE)","v":"max. Leerlaufspannung:"},{"$f":"INDEX(Wechselrichter,E2_WechselrichterID,12)","v":900},{"$f":"INDEX(Wechselrichter_Bezeichnungen,3,12)","v":"V"}]
[null,null,{"$f":"VLOOKUP(\"Einspeisung ab DC-Leistung\",Texte,SpracheID+1,FALSE)","v":"Einspeisung ab DC-Leistung:"},{"$f":"INDEX(Wechselrichter,E2_WechselrichterID,5)","v":9},{"$f":"INDEX(Wechselrichter_Bezeichnungen,3,5)","v":"W"},{"$f":"VLOOKUP(\"Einschaltschwelle\",Texte,SpracheID+1,FALSE)","v":"Einschaltschwelle:"},{"$f":"INDEX(Wechselrichter,E2_WechselrichterID,13)","v":200},{"$f":"INDEX(Wechselrichter_Bezeichnungen,3,13)","v":"V"}]
[null,null,{"$f":"VLOOKUP(\"Nachtverbrauch\",Texte,SpracheID+1,FALSE)","v":"Nachtverbrauch:"},{"$f":"INDEX(Wechselrichter,E2_WechselrichterID,6)","v":0.1},{"$f":"INDEX(Wechselrichter_Bezeichnungen,3,6)","v":"W"},{"$f":"VLOOKUP(\"Abschaltschwelle\",Texte,SpracheID+1,FALSE)","v":"Abschaltschwelle:"},{"$f":"INDEX(Wechselrichter,E2_WechselrichterID,14)","v":175},{"$f":"INDEX(Wechselrichter_Bezeichnungen,3,14)","v":"V"}]
[null,null,{"$f":"VLOOKUP(\"Europäischer Jahreswirkungsgrad\",Texte,SpracheID+1,FALSE)","v":"Europäischer Jahreswirkungsgrad:"},{"$f":"IF(ISERROR(IF(E2_WechselrichterID<>1,TEXT(ROUND(VLOOKUP(E2_WechselrichterID,_Daten!$V$6:$AC$40,7,FALSE),1),\"00,0\"),\"\")),\"-    \",IF(E2_WechselrichterID<>1,TEXT(ROUND(VLOOKUP(E2_WechselrichterID,_Daten!$V$6:$AC$40,6,FALSE),1),\"00,0\"),\"-    \"))","v":"-    "},{"$f":"INDEX(Wechselrichter_Bezeichnungen,3,7)","v":"%"},{"$f":"VLOOKUP(\"max. Netzstrom\",Texte,SpracheID+1,FALSE)","v":"max. Netzstrom:"},{"$f":"INDEX(Wechselrichter,E2_WechselrichterID,15)","v":14.3},{"$f":"INDEX(Wechselrichter_Bezeichnungen,3,15)","v":"A"}]
[null,null,null,null,null,{"$f":"VLOOKUP(\"max. DC-Strom\",Texte,SpracheID+1,FALSE)","v":"max. DC-Strom:"},{"$f":"INDEX(Wechselrichter,E2_WechselrichterID,21)","v":12},{"$f":"INDEX(Wechselrichter_Bezeichnungen,3,21)","v":"A"}]
[null,null,{"$f":"IF(INDEX(Wechselrichter,E1_WechselrichterID,8)<>\"\",\"Features\",\"\")","v":"Features"}]
[null,null,{"$f":"INDEX(Wechselrichter,E2_WechselrichterID,22)","v":"10 kWp, 3-phasig mit Notstromfunktion, max. AC Leistung 11 KVA, max. Leistung je Phase 3,3 kW, nom. Spannung 210 - 264 VAC, Spannungsbereich: 184 - 264VAC 47,5 Hz - 62 Hz, trafolos, symmetrische/asymmetrische Einspeisung, 2 PV-Eingänge je 6 kW, Eingangspannungsbereich 200 VDC - 900 VDC, Mpp Spannungsbereich: 200VDC bis 740 VDC, Max. Eingangsstrom je MPPT: 12A, DC-Schalter integriert. echter Sinus, max. Wirkungsgrad >98% PV-Netz, >97% Batteriemode DC nach AC.\n"}]
[]
[]
[]
[null,null,{"$f":"VLOOKUP(\"gewählteSolarmodule\",Texte,SpracheID+1,FALSE)","v":"Gewählte Solarmodule:"},{"$f":"E2_AnzahlSG &\" x \" & INDEX(E2_Solarmodule,E2_SolarmodulID,1)","v":"13 x Canadian Solar Inc.  HiKu CS3L-365P"}]
[]
[null,null,{"$f":"VLOOKUP(\"TechnischeDaten\",Texte,SpracheID+1,FALSE)","v":"Technische Daten"},null,null,{"$f":"VLOOKUP(\"WeitereInfos\",Texte,SpracheID+1,FALSE)","v":"Weitere Infos"}]
[]
[null,null,{"$f":"VLOOKUP(\"Nennleistung\",Texte,SpracheID+1,FALSE)","v":"Nennleistung:"},{"$f":"INDEX(E2_Solarmodule,E2_SolarmodulID,4)","v":365},{"$f":"INDEX(Solarmodule_Bezeichnungen,3,4)","v":"Wp"},{"$f":"VLOOKUP(\"Herstellungsland\",Texte,SpracheID+1,FALSE)","v":"Herstellungsland:"},{"$f":"IF(ISERROR(VLOOKUP(INDEX(E2_Solarmodule,E2_SolarmodulID,14),Texte_Länder,SpracheID+1)),INDEX(E2_Solarmodule,E2_SolarmodulID,14),VLOOKUP(INDEX(E2_Solarmodule,E2_SolarmodulID,14),Texte_Länder,SpracheID+1))","v":"China"}]
[null,null,{"$f":"VLOOKUP(\"Toleranz\",Texte,SpracheID+1,FALSE)","v":"Toleranz:"},{"$f":"INDEX(E2_Solarmodule,E2_SolarmodulID,5)","v":5},{"$f":"INDEX(Solarmodule_Bezeichnungen,3,5)","v":"+ | - %"},{"$f":"VLOOKUP(\"Zellhersteller\",Texte,SpracheID+1,FALSE)","v":"Zellhersteller:"},{"$f":"INDEX(E2_Solarmodule,E2_SolarmodulID,15)","v":"-"}]
[null,null,{"$f":"VLOOKUP(\"MPP-Spannung\",Texte,SpracheID+1,FALSE)","v":"MPP-Spannung:"},{"$f":"INDEX(E2_Solarmodule,E2_SolarmodulID,6)","v":33.6},{"$f":"INDEX(Solarmodule_Bezeichnungen,3,6)","v":"V"},{"$f":"VLOOKUP(\"Modulwirkungsgrad\",Texte,SpracheID+1,FALSE)","v":"Modulwirkungsgrad:"},{"$f":"INDEX(E2_Solarmodule,E2_SolarmodulID,16)","v":19.7},{"$f":"INDEX(Solarmodule_Bezeichnungen,3,16)","v":"%"}]
[null,null,{"$f":"VLOOKUP(\"MPP-Strom\",Texte,SpracheID+1,FALSE)","v":"MPP-Strom:"},{"$f":"INDEX(E2_Solarmodule,E2_SolarmodulID,7)","v":10.87},{"$f":"INDEX(Solarmodule_Bezeichnungen,3,7)","v":"A"},{"$f":"VLOOKUP(\"Zelltyp\",Texte,SpracheID+1,FALSE)","v":"Zelltyp:"},{"$f":"IF(ISERROR(VLOOKUP(INDEX(E2_Solarmodule,E2_SolarmodulID,17),Texte_Zellentyp,SpracheID+1)),INDEX(E2_Solarmodule,E2_SolarmodulID,17),VLOOKUP(INDEX(E2_Solarmodule,E2_SolarmodulID,17),Texte_Zellentyp,SpracheID+1))","v":"mono"}]
[null,null,{"$f":"VLOOKUP(\"Leerlaufspannung\",Texte,SpracheID+1,FALSE)","v":"Leerlaufspannung:"},{"$f":"INDEX(E2_Solarmodule,E2_SolarmodulID,8)","v":40.799999999999997},{"$f":"INDEX(Solarmodule_Bezeichnungen,3,8)","v":"V"},{"$f":"VLOOKUP(\"Zellen pro Modul\",Texte,SpracheID+1,FALSE)","v":"Zellen pro Modul:"},{"$f":"INDEX(E2_Solarmodule,E2_SolarmodulID,18)","v":120}]
[null,null,{"$f":"VLOOKUP(\"Kurzschlußstrom\",Texte,SpracheID+1,FALSE)","v":"Kurzschlußstrom:"},{"$f":"INDEX(E2_Solarmodule,E2_SolarmodulID,9)","v":11.44},{"$f":"INDEX(Solarmodule_Bezeichnungen,3,9)","v":"A"},{"$f":"VLOOKUP(\"Zellform\",Texte,SpracheID+1,FALSE)","v":"Zellform:"},{"$f":"IF(ISERROR(VLOOKUP(INDEX(E2_Solarmodule,E2_SolarmodulID,19),Texte_Zellenform,SpracheID+1)),INDEX(E2_Solarmodule,E2_SolarmodulID,19),VLOOKUP(INDEX(E2_Solarmodule,E2_SolarmodulID,19),Texte_Zellenform,SpracheID+1))","v":"half cell"}]
[null,null,{"$f":"VLOOKUP(\"Spannungsänderung\",Texte,SpracheID+1,FALSE)","v":"Spannungsänderung:"},{"$f":"INDEX(E2_Solarmodule,E2_SolarmodulID,10)","v":-114.24},{"$f":"INDEX(Solarmodule_Bezeichnungen,3,10)","v":"mV/°C"},{"$f":"VLOOKUP(\"Höhe\",Texte,SpracheID+1,FALSE)","v":"Höhe:"},{"$f":"INDEX(E2_Solarmodule,E2_SolarmodulID,20)","v":1765},{"$f":"INDEX(Solarmodule_Bezeichnungen,3,20)","v":"mm"}]
[null,null,{"$f":"VLOOKUP(\"Stromänderung\",Texte,SpracheID+1,FALSE)","v":"Stromänderung:"},{"$f":"INDEX(E2_Solarmodule,E2_SolarmodulID,11)","v":5.72},{"$f":"INDEX(Solarmodule_Bezeichnungen,3,11)","v":"mA/°C"},{"$f":"VLOOKUP(\"Breite\",Texte,SpracheID+1,FALSE)","v":"Breite:"},{"$f":"INDEX(E2_Solarmodule,E2_SolarmodulID,21)","v":1048},{"$f":"INDEX(Solarmodule_Bezeichnungen,3,21)","v":"mm"}]
[null,null,{"$f":"VLOOKUP(\"Leistungsänderung\",Texte,SpracheID+1,FALSE)","v":"Leistungsänderung:"},{"$f":"INDEX(E2_Solarmodule,E2_SolarmodulID,12)","v":-0.36},{"$f":"INDEX(Solarmodule_Bezeichnungen,3,12)","v":"%/°C"},{"$f":"VLOOKUP(\"Dicke\",Texte,SpracheID+1,FALSE)","v":"Dicke:"},{"$f":"INDEX(E2_Solarmodule,E2_SolarmodulID,22)","v":40},{"$f":"INDEX(Solarmodule_Bezeichnungen,3,22)","v":"mm"}]
[null,null,{"$f":"VLOOKUP(\"max. Systemspannung\",Texte,SpracheID+1,FALSE)","v":"max. Systemspannung:"},{"$f":"INDEX(E2_Solarmodule,E2_SolarmodulID,13)","v":1000},{"$f":"INDEX(Solarmodule_Bezeichnungen,3,13)","v":"V"},{"$f":"VLOOKUP(\"Rahmung\",Texte,SpracheID+1,FALSE)","v":"Rahmung:"},{"$f":"IF(ISERROR(VLOOKUP(INDEX(E2_Solarmodule,E2_SolarmodulID,23),Texte_Rahmenart,SpracheID+1)),INDEX(E2_Solarmodule,E2_SolarmodulID,23),VLOOKUP(INDEX(E2_Solarmodule,E2_SolarmodulID,23),Texte_Rahmenart,SpracheID+1))","v":"-"}]
[null,null,{"$f":"IF(J93,INDEX(Solarmodule_Bezeichnungen,1,J93 ) & \":\",\"\")","v":""},{"$f":"IF(J93,INDEX(E2_Solarmodule,E2_SolarmodulID,J93),\"\")","v":""},null,{"$f":"VLOOKUP(\"Anschluß\",Texte,SpracheID+1,FALSE)","v":"Anschluß:"},{"$f":"IF(ISERROR(VLOOKUP(INDEX(E2_Solarmodule,E2_SolarmodulID,24),Texte_Anschluss,SpracheID+1,FALSE)),INDEX(E2_Solarmodule,E2_SolarmodulID,24),VLOOKUP(INDEX(E2_Solarmodule,E2_SolarmodulID,24),Texte_Anschluss,SpracheID+1,FALSE))","v":"T4"}]
[null,null,{"$f":"IF(INDEX(E2_Solarmodule,E2_SolarmodulID,26)<>\"\",VLOOKUP(\"WeitereInfosSolarmodule\",Texte,SpracheID+1,FALSE),\"\")","v":"Weitere Informationen zu dem Solarmodul finden Sie unter"},null,null,{"$f":"VLOOKUP(\"Gewicht\",Texte,SpracheID+1,FALSE)","v":"Gewicht:"},{"$f":"INDEX(E2_Solarmodule,E2_SolarmodulID,25)","v":21.1},{"$f":"INDEX(Solarmodule_Bezeichnungen,3,25)","v":"kg"}]
[null,null,{"$f":"INDEX(E2_Solarmodule,E2_SolarmodulID,26)","v":"-"},null,null,null,{"$f":"IF(K95,INDEX(Solarmodule,SolarmoduleID,K95),\"\")","v":""}]
[null,null,null,null,null,null,null,{"$f":"IF(K96,INDEX(Solarmodule_Bezeichnungen,2,K96),\"\")","v":""}]
[null,null,{"$f":"IF(E1_WechselrichterID=10,VLOOKUP(\"Eingang\",Texte,SpracheID+1,FALSE) & \" 2 \",VLOOKUP(\"IhreSolaranlage\",Texte,SpracheID+1,FALSE))","v":"Ihre Solaranlage"}]
[]
[null,null,{"$f":"VLOOKUP(\"Gesamt-Nennleistung\",Texte,SpracheID+1,FALSE)","v":"Gesamt-Nennleistung:"},{"$f":"E2_max_MPPLeistung","v":4745},"W",{"$f":"VLOOKUP(\"DC-Kabellänge\",Texte,SpracheID+1,FALSE)","v":"DC-Kabellänge:"},{"$f":"E2_DC_Leitungslänge","v":100},"m"]
[null,null,{"$f":"VLOOKUP(\"AnzahlStrings\",Texte,SpracheID+1,FALSE)","v":"Anzahl der Strings:"},{"$f":"E2_Stringanzahl* E2_WR_Anzahl","v":1},null,{"$f":"VLOOKUP(\"DC-Kabelquerschnitt\",Texte,SpracheID+1,FALSE)","v":"DC-Kabelquerschnitt:"},{"$f":"INDEX(Leitungsquerschnitt,E2_DC_LquerschnittID,1)","v":6},"mm²"]
[null,null,{"$f":"VLOOKUP(\"Module Pro String\",Texte,SpracheID+1,FALSE)","v":"Module pro String:"},{"$f":"E2_Module_in_Reihe","v":13},null,{"$f":"VLOOKUP(\"MaxVerlusteDCKabel\",Texte,SpracheID+1,FALSE)","v":"Verluste im DC-Kabel:"},{"$f":"IF(OR(E2_Nennleistung_25=0,ISTEXT(E2_Nennleistung_25)),0,((POWER(E2_MPP_Strom_25,2)*Spez_Widerstand_Kupfer*E2_DC_Leitungslänge)/((INDEX(Leitungsquerschnitt,E2_DC_LquerschnittID,1))*E2_Nennleistung_25))*100)","v":0.74075931013431007},"%"]
[null,null,{"$f":"VLOOKUP(\"GesamtanzahlModule\",Texte,SpracheID+1,FALSE)","v":"Gesamtanzahl Module:"},{"$f":"E2_AnzahlSG","v":13},null,{"$f":"VLOOKUP(\"AC-Kabellänge\",Texte,SpracheID+1,FALSE)","v":"AC-Kabellänge:"},{"$f":"E2_AC_Leitungslänge","v":25},"m"]
[null,null,{"$f":"VLOOKUP(\"Flächenverbrauch\",Texte,SpracheID+1,FALSE)","v":"Flächenverbrauch:"},{"$f":"IF(ISERROR(INDEX(E2_Solarmodule,E2_SolarmodulID,20)/1000*INDEX(E2_Solarmodule,E2_SolarmodulID,21)/1000*E2_AnzahlSG),\"-\",INDEX(E2_Solarmodule,E2_SolarmodulID,20)/1000*INDEX(E2_Solarmodule,E2_SolarmodulID,21)/1000*E2_AnzahlSG)","v":24.046359999999996},"qm",{"$f":"VLOOKUP(\"AC-Kabelquerschnitt\",Texte,SpracheID+1,FALSE)","v":"AC-Kabelquerschnitt:"},{"$f":"INDEX(Leitungsquerschnitt,E2_AC_LquerschnittID,1)","v":25},"mm²"]
[null,null,{"$f":"VLOOKUP(\"GewichtModule\",Texte,SpracheID+1,FALSE)","v":"Gewicht der Module:"},{"$f":"IF(ISERROR(E2_AnzahlSG*INDEX(E2_Solarmodule,E2_SolarmodulID,25)),\"-\",E2_AnzahlSG*INDEX(E2_Solarmodule,E2_SolarmodulID,25))","v":274.3},"kg",{"$f":"VLOOKUP(\"MaxVerlusteACKabel\",Texte,SpracheID+1,FALSE)","v":"Verluste im AC-Kabel:"},{"$f":"IF(OR(INDEX(Wechselrichter,E2_WechselrichterID,4)=0,E2_max_MPPLeistung=0,ISTEXT(E2_Nennleistung_25)),0,IF(E2_Nennleistung_25 <= INDEX(Wechselrichter,E2_WechselrichterID,4),((IF(INDEX(Wechselrichter,E2_WechselrichterID,25)=4,1,2))*(POWER(IF(INDEX(Wechselrichter,E2_WechselrichterID,25)=4,E2_Nennleistung_25/3,E2_Nennleistung_25)/230,2)*Spez_Widerstand_Kupfer*E2_AC_Leitungslänge)/((INDEX(Leitungsquerschnitt,E2_AC_LquerschnittID,1))*IF(INDEX(Wechselrichter,E2_WechselrichterID,25)=4,E2_Nennleistung_25/3,E2_Nennleistung_25)))*100,((IF(INDEX(Wechselrichter,E2_WechselrichterID,25)=4,1,2))*(POWER(IF(INDEX(Wechselrichter,E2_WechselrichterID,25)=4,INDEX(Wechselrichter,E2_WechselrichterID,4)/3,INDEX(Wechselrichter,E2_WechselrichterID,4))/230,2)*Spez_Widerstand_Kupfer*E2_AC_Leitungslänge)/((INDEX(Leitungsquerschnitt,E2_AC_LquerschnittID,1))*IF(INDEX(Wechselrichter,E2_WechselrichterID,25)=4,INDEX(Wechselrichter,E2_WechselrichterID,4)/3,INDEX(Wechselrichter,E2_WechselrichterID,4))))*100))","v":5.3433878865784497E-2},"%"]
[]
[]
[]
[]
[]
[]
[]
[]
[null,null,{"$f":"VLOOKUP(\"AchtungText\",Texte,SpracheID+1,FALSE)","v":"Achtung: alle hier angezeigten und berechneten Werte ohne Gewähr! Vielen Dank für Ihr Verständnis!"}]
[null,null,null,{"$f":"VLOOKUP(\"Erstellt am\",Texte,SpracheID+1,FALSE) & \" \"","v":"Erstellt am "},{"$f":"NOW()","v":"2020-10-14T08:09:51.970"}]
[]
[]
[]
[]
[]
[]
[null,null,{"$f":"VLOOKUP(\"GewählterWechselrichter\",Texte,SpracheID+1,FALSE)","v":"Gewählter Solar Inverter:"},{"$f":"IF(INDEX(Wechselrichter,E1_WechselrichterID,25)=3,E1_WR_Anzahl & \" x \",E3_WR_Anzahl & \" x \") & INDEX(Wechselrichter,E3_WechselrichterID,1)","v":"0 x (keine Auswahl)"},null,null,null,{"$f":"C7","v":"        Teilanlage 3 "}]
[]
[null,null,{"$f":"VLOOKUP(\"TechnischeDaten\",Texte,SpracheID+1,FALSE)","v":"Technische Daten"},null,null,{"$f":"VLOOKUP(\"Grenzwerte\",Texte,SpracheID+1,FALSE)","v":"Grenzwerte"}]
[]
[null,null,{"$f":"VLOOKUP(\"min. empfohlene DC-Leistung\",Texte,SpracheID+1,FALSE)","v":"min. empfohlene DC-Leistung:"},{"$f":"INDEX(Wechselrichter,E3_WechselrichterID,2)","v":0},{"$f":"INDEX(Wechselrichter_Bezeichnungen,3,2)","v":"W"},{"$f":"VLOOKUP(\"min. MPP-Spannung\",Texte,SpracheID+1,FALSE)","v":"min. MPP-Spannung:"},{"$f":"INDEX(Wechselrichter,E3_WechselrichterID,10)","v":0},{"$f":"INDEX(Wechselrichter_Bezeichnungen,3,10)","v":"V"}]
[null,null,{"$f":"VLOOKUP(\"max. empfohlene DC-Leistung\",Texte,SpracheID+1,FALSE)","v":"max. empfohlene DC-Leistung:"},{"$f":"INDEX(Wechselrichter,E3_WechselrichterID,3)","v":0},{"$f":"INDEX(Wechselrichter_Bezeichnungen,3,3)","v":"W"},{"$f":"VLOOKUP(\"max. MPP-Spannung\",Texte,SpracheID+1,FALSE)","v":"max. MPP-Spannung:"},{"$f":"INDEX(Wechselrichter,E3_WechselrichterID,11)","v":0},{"$f":"INDEX(Wechselrichter_Bezeichnungen,3,11)","v":"V"}]
[null,null,{"$f":"VLOOKUP(\"Nennausgangsleistung PN\",Texte,SpracheID+1,FALSE)","v":"Nennausgangsleistung PN:"},{"$f":"INDEX(Wechselrichter,E3_WechselrichterID,4)","v":0},{"$f":"INDEX(Wechselrichter_Bezeichnungen,3,4)","v":"W"},{"$f":"VLOOKUP(\"max. Leerlaufspannung\",Texte,SpracheID+1,FALSE)","v":"max. Leerlaufspannung:"},{"$f":"INDEX(Wechselrichter,E3_WechselrichterID,12)","v":0},{"$f":"INDEX(Wechselrichter_Bezeichnungen,3,12)","v":"V"}]
[null,null,{"$f":"VLOOKUP(\"Einspeisung ab DC-Leistung\",Texte,SpracheID+1,FALSE)","v":"Einspeisung ab DC-Leistung:"},{"$f":"INDEX(Wechselrichter,E3_WechselrichterID,5)","v":0},{"$f":"INDEX(Wechselrichter_Bezeichnungen,3,5)","v":"W"},{"$f":"VLOOKUP(\"Einschaltschwelle\",Texte,SpracheID+1,FALSE)","v":"Einschaltschwelle:"},{"$f":"INDEX(Wechselrichter,E3_WechselrichterID,13)","v":0},{"$f":"INDEX(Wechselrichter_Bezeichnungen,3,13)","v":"V"}]
[null,null,{"$f":"VLOOKUP(\"Nachtverbrauch\",Texte,SpracheID+1,FALSE)","v":"Nachtverbrauch:"},{"$f":"INDEX(Wechselrichter,E3_WechselrichterID,6)","v":0},{"$f":"INDEX(Wechselrichter_Bezeichnungen,3,6)","v":"W"},{"$f":"VLOOKUP(\"Abschaltschwelle\",Texte,SpracheID+1,FALSE)","v":"Abschaltschwelle:"},{"$f":"INDEX(Wechselrichter,E3_WechselrichterID,14)","v":0},{"$f":"INDEX(Wechselrichter_Bezeichnungen,3,14)","v":"V"}]
[null,null,{"$f":"VLOOKUP(\"Europäischer Jahreswirkungsgrad\",Texte,SpracheID+1,FALSE)","v":"Europäischer Jahreswirkungsgrad:"},{"$f":"IF(ISERROR(IF(E3_WechselrichterID<>1,TEXT(ROUND(VLOOKUP(E3_WechselrichterID,_Daten!$V$6:$AC$40,8,FALSE),1),\"00,0\"),\"\")),\"-    \",IF(E3_WechselrichterID<>1,TEXT(ROUND(VLOOKUP(E3_WechselrichterID,_Daten!$V$6:$AC$40,8,FALSE),1),\"00,0\"),\"-    \"))","v":"-    "},{"$f":"INDEX(Wechselrichter_Bezeichnungen,3,7)","v":"%"},{"$f":"VLOOKUP(\"max. Netzstrom\",Texte,SpracheID+1,FALSE)","v":"max. Netzstrom:"},{"$f":"INDEX(Wechselrichter,E3_WechselrichterID,15)","v":0},{"$f":"INDEX(Wechselrichter_Bezeichnungen,3,15)","v":"A"}]
[null,null,null,null,null,{"$f":"VLOOKUP(\"max. DC-Strom\",Texte,SpracheID+1,FALSE)","v":"max. DC-Strom:"},{"$f":"INDEX(Wechselrichter,E3_WechselrichterID,21)","v":0},{"$f":"INDEX(Wechselrichter_Bezeichnungen,3,21)","v":"A"}]
[null,null,{"$f":"IF(INDEX(Wechselrichter,E1_WechselrichterID,8)<>\"\",\"Features\",\"\")","v":"Features"}]
[null,null,{"$f":"INDEX(Wechselrichter,E3_WechselrichterID,22)","v":" "}]
[]
[]
[]
[null,null,{"$f":"VLOOKUP(\"gewählteSolarmodule\",Texte,SpracheID+1,FALSE)","v":"Gewählte Solarmodule:"},{"$f":"E3_AnzahlSG &\" x \" &INDEX(E3_Solarmodule,E3_SolarmodulID,1)","v":"0 x Canadian Solar Inc. CS5A-130"}]
[]
[null,null,{"$f":"VLOOKUP(\"TechnischeDaten\",Texte,SpracheID+1,FALSE)","v":"Technische Daten"},null,null,{"$f":"VLOOKUP(\"WeitereInfos\",Texte,SpracheID+1,FALSE)","v":"Weitere Infos"}]
[]
[null,null,{"$f":"VLOOKUP(\"Nennleistung\",Texte,SpracheID+1,FALSE)","v":"Nennleistung:"},{"$f":"INDEX(E3_Solarmodule,E3_SolarmodulID,4)","v":130},{"$f":"INDEX(Solarmodule_Bezeichnungen,3,4)","v":"Wp"},{"$f":"VLOOKUP(\"Herstellungsland\",Texte,SpracheID+1,FALSE)","v":"Herstellungsland:"},{"$f":"IF(ISERROR(VLOOKUP(INDEX(E3_Solarmodule,E3_SolarmodulID,14),Texte_Länder,SpracheID+1)),INDEX(E3_Solarmodule,E3_SolarmodulID,14),VLOOKUP(INDEX(E3_Solarmodule,E3_SolarmodulID,14),Texte_Länder,SpracheID+1))","v":"China"}]
[null,null,{"$f":"VLOOKUP(\"Toleranz\",Texte,SpracheID+1,FALSE)","v":"Toleranz:"},{"$f":"INDEX(E3_Solarmodule,E3_SolarmodulID,5)","v":"+3...-3"},{"$f":"INDEX(Solarmodule_Bezeichnungen,3,5)","v":"+ | - %"},{"$f":"VLOOKUP(\"Zellhersteller\",Texte,SpracheID+1,FALSE)","v":"Zellhersteller:"},{"$f":"INDEX(E3_Solarmodule,E3_SolarmodulID,15)","v":0}]
[null,null,{"$f":"VLOOKUP(\"MPP-Spannung\",Texte,SpracheID+1,FALSE)","v":"MPP-Spannung:"},{"$f":"INDEX(E3_Solarmodule,E3_SolarmodulID,6)","v":34.6},{"$f":"INDEX(Solarmodule_Bezeichnungen,3,6)","v":"V"},{"$f":"VLOOKUP(\"Modulwirkungsgrad\",Texte,SpracheID+1,FALSE)","v":"Modulwirkungsgrad:"},{"$f":"INDEX(E3_Solarmodule,E3_SolarmodulID,16)","v":10.175370216369629},{"$f":"INDEX(Solarmodule_Bezeichnungen,3,16)","v":"%"}]
[null,null,{"$f":"VLOOKUP(\"MPP-Strom\",Texte,SpracheID+1,FALSE)","v":"MPP-Strom:"},{"$f":"INDEX(E3_Solarmodule,E3_SolarmodulID,7)","v":3.75},{"$f":"INDEX(Solarmodule_Bezeichnungen,3,7)","v":"A"},{"$f":"VLOOKUP(\"Zelltyp\",Texte,SpracheID+1,FALSE)","v":"Zelltyp:"},{"$f":"IF(ISERROR(VLOOKUP(INDEX(E3_Solarmodule,E3_SolarmodulID,17),Texte_Zellentyp,SpracheID+1)),INDEX(E3_Solarmodule,E3_SolarmodulID,17),VLOOKUP(INDEX(E3_Solarmodule,E3_SolarmodulID,17),Texte_Zellentyp,SpracheID+1))","v":"poly"}]
[null,null,{"$f":"VLOOKUP(\"Leerlaufspannung\",Texte,SpracheID+1,FALSE)","v":"Leerlaufspannung:"},{"$f":"INDEX(E3_Solarmodule,E3_SolarmodulID,8)","v":42.9},{"$f":"INDEX(Solarmodule_Bezeichnungen,3,8)","v":"V"},{"$f":"VLOOKUP(\"Zellen pro Modul\",Texte,SpracheID+1,FALSE)","v":"Zellen pro Modul:"},{"$f":"INDEX(E3_Solarmodule,E3_SolarmodulID,18)","v":72}]
[null,null,{"$f":"VLOOKUP(\"Kurzschlußstrom\",Texte,SpracheID+1,FALSE)","v":"Kurzschlußstrom:"},{"$f":"INDEX(E3_Solarmodule,E3_SolarmodulID,9)","v":4.21},{"$f":"INDEX(Solarmodule_Bezeichnungen,3,9)","v":"A"},{"$f":"VLOOKUP(\"Zellform\",Texte,SpracheID+1,FALSE)","v":"Zellform:"},{"$f":"IF(ISERROR(VLOOKUP(INDEX(E3_Solarmodule,E3_SolarmodulID,19),Texte_Zellenform,SpracheID+1)),INDEX(E3_Solarmodule,E3_SolarmodulID,19),VLOOKUP(INDEX(E3_Solarmodule,E3_SolarmodulID,19),Texte_Zellenform,SpracheID+1))","v":"-"}]
[null,null,{"$f":"VLOOKUP(\"Spannungsänderung\",Texte,SpracheID+1,FALSE)","v":"Spannungsänderung:"},{"$f":"INDEX(E3_Solarmodule,E3_SolarmodulID,10)","v":-150.15},{"$f":"INDEX(Solarmodule_Bezeichnungen,3,10)","v":"mV/°C"},{"$f":"VLOOKUP(\"Höhe\",Texte,SpracheID+1,FALSE)","v":"Höhe:"},{"$f":"INDEX(E3_Solarmodule,E3_SolarmodulID,20)","v":1595},{"$f":"INDEX(Solarmodule_Bezeichnungen,3,20)","v":"mm"}]
[null,null,{"$f":"VLOOKUP(\"Stromänderung\",Texte,SpracheID+1,FALSE)","v":"Stromänderung:"},{"$f":"INDEX(E3_Solarmodule,E3_SolarmodulID,11)","v":0},{"$f":"INDEX(Solarmodule_Bezeichnungen,3,11)","v":"mA/°C"},{"$f":"VLOOKUP(\"Breite\",Texte,SpracheID+1,FALSE)","v":"Breite:"},{"$f":"INDEX(E3_Solarmodule,E3_SolarmodulID,21)","v":801},{"$f":"INDEX(Solarmodule_Bezeichnungen,3,21)","v":"mm"}]
[null,null,{"$f":"VLOOKUP(\"Leistungsänderung\",Texte,SpracheID+1,FALSE)","v":"Leistungsänderung:"},{"$f":"INDEX(E3_Solarmodule,E3_SolarmodulID,12)","v":0},{"$f":"INDEX(Solarmodule_Bezeichnungen,3,12)","v":"%/°C"},{"$f":"VLOOKUP(\"Dicke\",Texte,SpracheID+1,FALSE)","v":"Dicke:"},{"$f":"INDEX(E3_Solarmodule,E3_SolarmodulID,22)","v":40},{"$f":"INDEX(Solarmodule_Bezeichnungen,3,22)","v":"mm"}]
[null,null,{"$f":"VLOOKUP(\"max. Systemspannung\",Texte,SpracheID+1,FALSE)","v":"max. Systemspannung:"},{"$f":"INDEX(E3_Solarmodule,E3_SolarmodulID,13)","v":0},{"$f":"INDEX(Solarmodule_Bezeichnungen,3,13)","v":"V"},{"$f":"VLOOKUP(\"Rahmung\",Texte,SpracheID+1,FALSE)","v":"Rahmung:"},{"$f":"IF(ISERROR(VLOOKUP(INDEX(E3_Solarmodule,E3_SolarmodulID,23),Texte_Rahmenart,SpracheID+1)),INDEX(E3_Solarmodule,E3_SolarmodulID,23),VLOOKUP(INDEX(E3_Solarmodule,E3_SolarmodulID,23),Texte_Rahmenart,SpracheID+1))","v":0}]
[null,null,{"$f":"IF(J151,INDEX(Solarmodule_Bezeichnungen,1,J151 ) & \":\",\"\")","v":""},{"$f":"IF(J151,INDEX(E3_Solarmodule,SolarmodulID,J151),\"\")","v":""},null,{"$f":"VLOOKUP(\"Anschluß\",Texte,SpracheID+1,FALSE)","v":"Anschluß:"},{"$f":"IF(ISERROR(VLOOKUP(INDEX(E3_Solarmodule,E3_SolarmodulID,24),Texte_Anschluss,SpracheID+1,FALSE)),INDEX(E3_Solarmodule,E3_SolarmodulID,24),VLOOKUP(INDEX(E3_Solarmodule,E3_SolarmodulID,24),Texte_Anschluss,SpracheID+1,FALSE))","v":0}]
[null,null,{"$f":"IF(INDEX(E3_Solarmodule,E3_SolarmodulID,26)<>\"\",VLOOKUP(\"WeitereInfosSolarmodule\",Texte,SpracheID+1,FALSE),\"\")","v":""},null,null,{"$f":"VLOOKUP(\"Gewicht\",Texte,SpracheID+1,FALSE)","v":"Gewicht:"},{"$f":"INDEX(E3_Solarmodule,E3_SolarmodulID,25)","v":15.5},{"$f":"INDEX(Solarmodule_Bezeichnungen,3,25)","v":"kg"}]
[null,null,{"$f":"INDEX(E3_Solarmodule,E3_SolarmodulID,26)","v":0},null,null,null,{"$f":"IF(K153,INDEX(Solarmodule,SolarmoduleID,K153),\"\")","v":""}]
[null,null,null,null,null,null,null,{"$f":"IF(K154,INDEX(Solarmodule_Bezeichnungen,2,K154),\"\")","v":""}]
[null,null,{"$f":"IF(E1_WechselrichterID=10,VLOOKUP(\"Eingang\",Texte,SpracheID+1,FALSE) & \" 3 \",VLOOKUP(\"IhreSolaranlage\",Texte,SpracheID+1,FALSE))","v":"Ihre Solaranlage"}]
[]
[null,null,{"$f":"VLOOKUP(\"Gesamt-Nennleistung\",Texte,SpracheID+1,FALSE)","v":"Gesamt-Nennleistung:"},{"$f":"E3_max_MPPLeistung","v":0},"W",{"$f":"VLOOKUP(\"DC-Kabellänge\",Texte,SpracheID+1,FALSE)","v":"DC-Kabellänge:"},{"$f":"E3_DC_Leitungslänge","v":100},"m"]
[null,null,{"$f":"VLOOKUP(\"AnzahlStrings\",Texte,SpracheID+1,FALSE)","v":"Anzahl der Strings:"},{"$f":"E3_Stringanzahl* E3_WR_Anzahl","v":0},null,{"$f":"VLOOKUP(\"DC-Kabelquerschnitt\",Texte,SpracheID+1,FALSE)","v":"DC-Kabelquerschnitt:"},{"$f":"INDEX(Leitungsquerschnitt,E3_DC_LquerschnittID,1)","v":6},"mm²"]
[null,null,{"$f":"VLOOKUP(\"Module Pro String\",Texte,SpracheID+1,FALSE)","v":"Module pro String:"},{"$f":"E3_Module_in_Reihe","v":0},null,{"$f":"VLOOKUP(\"MaxVerlusteDCKabel\",Texte,SpracheID+1,FALSE)","v":"Verluste im DC-Kabel:"},{"$f":"IF(OR(E3_Nennleistung_25=0,ISTEXT(E3_Nennleistung_25)),0,((POWER(E3_MPP_Strom_25,2)*Spez_Widerstand_Kupfer*E3_DC_Leitungslänge)/((INDEX(Leitungsquerschnitt,E3_DC_LquerschnittID,1))*E3_Nennleistung_25))*100)","v":0},"%"]
[null,null,{"$f":"VLOOKUP(\"GesamtanzahlModule\",Texte,SpracheID+1,FALSE)","v":"Gesamtanzahl Module:"},{"$f":"E3_AnzahlSG","v":0},null,{"$f":"VLOOKUP(\"AC-Kabellänge\",Texte,SpracheID+1,FALSE)","v":"AC-Kabellänge:"},{"$f":"E3_AC_Leitungslänge","v":25},"m"]
[null,null,{"$f":"VLOOKUP(\"Flächenverbrauch\",Texte,SpracheID+1,FALSE)","v":"Flächenverbrauch:"},{"$f":"IF(ISERROR(INDEX(E3_Solarmodule,E3_SolarmodulID,20)/1000*INDEX(E3_Solarmodule,E3_SolarmodulID,21)/1000*E3_AnzahlSG),\"-\",INDEX(E3_Solarmodule,E3_SolarmodulID,20)/1000*INDEX(E3_Solarmodule,E3_SolarmodulID,21)/1000*E3_AnzahlSG)","v":0},"qm",{"$f":"VLOOKUP(\"AC-Kabelquerschnitt\",Texte,SpracheID+1,FALSE)","v":"AC-Kabelquerschnitt:"},{"$f":"INDEX(Leitungsquerschnitt,E3_AC_LquerschnittID,1)","v":25},"mm²"]
[null,null,{"$f":"VLOOKUP(\"GewichtModule\",Texte,SpracheID+1,FALSE)","v":"Gewicht der Module:"},{"$f":"IF(ISERROR(E3_AnzahlSG*INDEX(E3_Solarmodule,E3_SolarmodulID,25)),\"-\",E3_AnzahlSG*INDEX(E3_Solarmodule,E3_SolarmodulID,25))","v":0},"kg",{"$f":"VLOOKUP(\"MaxVerlusteACKabel\",Texte,SpracheID+1,FALSE)","v":"Verluste im AC-Kabel:"},{"$f":"IF(OR(INDEX(Wechselrichter,E3_WechselrichterID,4)=0,E3_max_MPPLeistung=0,ISTEXT(E3_Nennleistung_25)),0,IF(E3_Nennleistung_25 <= INDEX(Wechselrichter,E3_WechselrichterID,4),((IF(INDEX(Wechselrichter,E3_WechselrichterID,25)=4,1,2))*(POWER(IF(INDEX(Wechselrichter,E3_WechselrichterID,25)=4,E3_Nennleistung_25/3,E3_Nennleistung_25)/230,2)*Spez_Widerstand_Kupfer*E3_AC_Leitungslänge)/((INDEX(Leitungsquerschnitt,E3_AC_LquerschnittID,1))*IF(INDEX(Wechselrichter,E3_WechselrichterID,25)=4,E3_Nennleistung_25/3,E3_Nennleistung_25)))*100,((IF(INDEX(Wechselrichter,E3_WechselrichterID,25)=4,1,2))*(POWER(IF(INDEX(Wechselrichter,E3_WechselrichterID,25)=4,INDEX(Wechselrichter,E3_WechselrichterID,4)/3,INDEX(Wechselrichter,E3_WechselrichterID,4))/230,2)*Spez_Widerstand_Kupfer*E3_AC_Leitungslänge)/((INDEX(Leitungsquerschnitt,E3_AC_LquerschnittID,1))*IF(INDEX(Wechselrichter,E3_WechselrichterID,25)=4,INDEX(Wechselrichter,E3_WechselrichterID,4)/3,INDEX(Wechselrichter,E3_WechselrichterID,4))))*100))","v":0},"%"]
[]
[]
[]
[]
[]
[]
[]
[]
[]
[null,null,{"$f":"VLOOKUP(\"AchtungText\",Texte,SpracheID+1,FALSE)","v":"Achtung: alle hier angezeigten und berechneten Werte ohne Gewähr! Vielen Dank für Ihr Verständnis!"}]
[null,null,null,{"$f":"VLOOKUP(\"Erstellt am\",Texte,SpracheID+1,FALSE) & \" \"","v":"Erstellt am "},{"$f":"NOW()","v":"2020-10-14T08:09:51.970"}]
[]
[]
[]
[]
[]
[null,null,{"$f":"VLOOKUP(\"Gesamtübersicht\",Texte,SpracheID+1,FALSE)","v":"Gesamtübersicht"}]
[]
[null,null,{"$f":"IF(INDEX(Wechselrichter,E1_WechselrichterID,25)=3,\"        \" &VLOOKUP(\"Eingang\",Texte,SpracheID+1,FALSE) & \" 1 \",\"        \" &VLOOKUP(\"Teilanlage\",Texte,SpracheID+1,FALSE) & \" 1:\")","v":"        Teilanlage 1:"}]
[]
[null,null,{"$f":"VLOOKUP(\"Wechselrichter2\",Texte,SpracheID+1,FALSE)","v":"Wechselrichter:"},{"$f":"IF(INDEX(Wechselrichter,E1_WechselrichterID,25)=3,E1_WR_Anzahl & \" x\",E1_WR_Anzahl & \" x\")","v":"1 x"},{"$f":"INDEX(Wechselrichter,E1_WechselrichterID,1)","v":"Centurio 10.0"}]
[null,null,{"$f":"VLOOKUP(\"Module2\",Texte,SpracheID+1,FALSE)","v":"Module:"},{"$f":"E1_Stringanzahl *E1_WR_Anzahl & \" x \" & E1_Module_in_Reihe","v":"2 x 14"},{"$f":"INDEX(E1_Solarmodule,E1_SolarmodulID,1)","v":"Canadian Solar Inc.  HiKu CS3L-365P"}]
[null,null,{"$f":"VLOOKUP(\"Nennleistung2\",Texte,SpracheID+1,FALSE)","v":"Nennleistung:"},null,{"$f":"IF(ISERROR(IF(INDEX(Wechselrichter,E1_WechselrichterID,25)=3,E1_WR_Anzahl*E1_max_MPPLeistung,E1_WR_Anzahl*E1_max_MPPLeistung)),txt_Daten_fehlen,IF(INDEX(Wechselrichter,E1_WechselrichterID,25)=3,E1_WR_Anzahl*E1_max_MPPLeistung,E1_WR_Anzahl*E1_max_MPPLeistung))","v":10220},"Wp"]
[]
[null,null,{"$f":"IF(INDEX(Wechselrichter,E2_WechselrichterID,25)=3,\"        \" &VLOOKUP(\"Eingang\",Texte,SpracheID+1,FALSE) & \" 2:\",\"        \" &VLOOKUP(\"Teilanlage\",Texte,SpracheID+1,FALSE) & \" 2:\")","v":"        Teilanlage 2:"}]
[]
[null,null,{"$f":"VLOOKUP(\"Wechselrichter2\",Texte,SpracheID+1,FALSE)","v":"Wechselrichter:"},{"$f":"IF(INDEX(Wechselrichter,E1_WechselrichterID,25)=3,E1_WR_Anzahl & \" x\",E2_WR_Anzahl & \" x\")","v":"1 x"},{"$f":"INDEX(Wechselrichter,E2_WechselrichterID,1)","v":"Centurio 10.0 - 1 String"}]
[null,null,{"$f":"VLOOKUP(\"Module2\",Texte,SpracheID+1,FALSE)","v":"Module:"},{"$f":"E2_Stringanzahl *E2_WR_Anzahl & \" x \" & E2_Module_in_Reihe","v":"1 x 13"},{"$f":"INDEX(E2_Solarmodule,E2_SolarmodulID,1)","v":"Canadian Solar Inc.  HiKu CS3L-365P"}]
[null,null,{"$f":"VLOOKUP(\"Nennleistung2\",Texte,SpracheID+1,FALSE)","v":"Nennleistung:"},null,{"$f":"IF(ISERROR(IF(INDEX(Wechselrichter,E1_WechselrichterID,25)=3,E1_WR_Anzahl*E2_max_MPPLeistung,E2_WR_Anzahl*E2_max_MPPLeistung)),txt_Daten_fehlen,IF(INDEX(Wechselrichter,E1_WechselrichterID,25)=3,E1_WR_Anzahl*E2_max_MPPLeistung,E2_WR_Anzahl*E2_max_MPPLeistung))","v":4745},"Wp"]
[]
[null,null,{"$f":"IF(INDEX(Wechselrichter,E3_WechselrichterID,25)=3,\"        \" &VLOOKUP(\"Eingang\",Texte,SpracheID+1,FALSE) & \" 3:\",\"        \" &VLOOKUP(\"Teilanlage\",Texte,SpracheID+1,FALSE) & \" 3:\")","v":"        Teilanlage 3:"}]
[]
[null,null,{"$f":"VLOOKUP(\"Wechselrichter2\",Texte,SpracheID+1,FALSE)","v":"Wechselrichter:"},{"$f":"IF(INDEX(Wechselrichter,E1_WechselrichterID,25)=3,E1_WR_Anzahl & \" x\",E3_WR_Anzahl & \" x\")","v":"0 x"},{"$f":"INDEX(Wechselrichter,E3_WechselrichterID,1)","v":"(keine Auswahl)"}]
[null,null,{"$f":"VLOOKUP(\"Module2\",Texte,SpracheID+1,FALSE)","v":"Module:"},{"$f":"E3_Stringanzahl *E3_WR_Anzahl & \" x \" & E3_Module_in_Reihe","v":"0 x 0"},{"$f":"INDEX(E3_Solarmodule,E3_SolarmodulID,1)","v":"Canadian Solar Inc. CS5A-130"}]
[null,null,{"$f":"VLOOKUP(\"Nennleistung2\",Texte,SpracheID+1,FALSE)","v":"Nennleistung:"},null,{"$f":"IF(ISERROR(IF(INDEX(Wechselrichter,E1_WechselrichterID,25)=3,E1_WR_Anzahl*E3_max_MPPLeistung,E3_WR_Anzahl*E3_max_MPPLeistung)),txt_Daten_fehlen,IF(INDEX(Wechselrichter,E1_WechselrichterID,25)=3,E1_WR_Anzahl*E3_max_MPPLeistung,E3_WR_Anzahl*E3_max_MPPLeistung))","v":0},"Wp"]
[]
[null,null,{"$f":"VLOOKUP(\"Gesamtnennleistung\",Texte,SpracheID+1,FALSE)","v":"Gesamtnennleistung"},null,{"$f":"IF(ISERROR(IF(INDEX(Wechselrichter,E1_WechselrichterID,25)=3,E1_WR_Anzahl*(E1_max_MPPLeistung+E2_max_MPPLeistung+E3_max_MPPLeistung),H5*E1_WR_Anzahl*E1_max_MPPLeistung+H6*E2_WR_Anzahl*E2_max_MPPLeistung+H7*E3_WR_Anzahl*E3_max_MPPLeistung)),txt_Daten_fehlen,IF(INDEX(Wechselrichter,E1_WechselrichterID,25)=3,E1_WR_Anzahl*(E1_max_MPPLeistung+E2_max_MPPLeistung+E3_max_MPPLeistung),H5*E1_WR_Anzahl*E1_max_MPPLeistung+H6*E2_WR_Anzahl*E2_max_MPPLeistung+H7*E3_WR_Anzahl*E3_max_MPPLeistung))","v":10220},"Wp"]
[]
[]
[null,null,{"$f":"VLOOKUP(\"IhreAnsprechpartner\",Texte,SpracheID+1,FALSE)","v":"Ihr Ansprechpartner"}]
[]
[]
[]
[]
[]
[]
[]
[]
[]
[]
[null,null,{"$f":"VLOOKUP(\"AchtungText\",Texte,SpracheID+1,FALSE)","v":"Achtung: alle hier angezeigten und berechneten Werte ohne Gewähr! Vielen Dank für Ihr Verständnis!"}]
[null,null,null,{"$f":"VLOOKUP(\"Erstellt am\",Texte,SpracheID+1,FALSE) & \" \"","v":"Erstellt am "},{"$f":"NOW()","v":"2020-10-14T08:09:51.970"}]

{"sheet":"Changes","index":4,"n_rows":4,"n_cols":4,"rows_kept":4,"cut":false,"hidden":true,"merged":[]}
["Änderungen"]
[]
["Version","Datum","Kürzel","Kommentar"]
["B1","2017-07-24","PWI","Beta-Release, Initialversion"]

{"sheet":"PV Module","index":5,"n_rows":20766,"n_cols":41,"rows_kept":2250,"cut":true,"hidden":false,"merged":[],"bounds":{"rows_first":1000,"rows_last":250,"rows_between":1000,"halvings":1}}
["Sie können am Ende der Liste Solarmodule hinzufügen und danach drücken Sie bitte den \"Refresh\" button (Spalte B) um die Herstellerliste zu aktualisieren.\nYou can add solar panels at the end of the list. Afterwards, please press button (colum B) to refresh manufacturer list",null,593,null,null,0,0]
[{"$f":"COLUMN()","v":1},{"$f":"COLUMN()","v":2},{"$f":"COLUMN()","v":3},{"$f":"COLUMN()","v":4},{"$f":"COLUMN()","v":5},{"$f":"COLUMN()","v":6},{"$f":"COLUMN()","v":7},{"$f":"COLUMN()","v":8},{"$f":"COLUMN()","v":9},{"$f":"COLUMN()","v":10},{"$f":"COLUMN()","v":11},{"$f":"COLUMN()","v":12},{"$f":"COLUMN()","v":13},{"$f":"COLUMN()","v":14},{"$f":"COLUMN()","v":15},{"$f":"COLUMN()","v":16},{"$f":"COLUMN()","v":17},{"$f":"COLUMN()","v":18},{"$f":"COLUMN()","v":19},{"$f":"COLUMN()","v":20},{"$f":"COLUMN()","v":21},{"$f":"COLUMN()","v":22},{"$f":"COLUMN()","v":23},{"$f":"COLUMN()","v":24},{"$f":"COLUMN()","v":25},{"$f":"COLUMN()","v":26},27,28,29,30,31,32,33,34,35,36,37,38]
["Modulname","Hersteller","Modul","Nennleistung","Toleranz","MPP-Spannung","MPP-Strom","Leerlaufspannung","Kurzschlußstrom","Spannungsänderung","Stromänderung","Leistungsänderung","max Systemspannung","Herstellungsland","Zellhersteller","Modulwirkungsgrad","Zelltyp","Zellen pro Modul","Zellform","Höhe","Breite","Dicke","Rahmung","Anschluß","Gewicht","Internet","[InitValues] Nennleistung","[InitValues] MPP-Spannung","[InitValues] MPP-Strom","[InitValues] Leerlaufspannung","[InitValues] Kurzschlußstrom","Kompatibilität NT","Kompatibilität AT","Kompatibilität PT","Type","Notiz","Sortierung","Photon Modul ID 2011","Anmerkung","Anmerkung","ED DB ID"]
["Module name","manufacturer","panel","nominal power","tolerance","MPP voltage","MPP current","open circuit voltage","short circuit current","voltage change","current change","power change","max. System voltage","country of origin","manufacturer of cells","panel efficiency","cell type","cells per panel","cell shape","height","width","thickness","frame","connector","weight","internet",null,null,null,null,null,"1: grün\n2: gelb\n3: rot\n","1: grün\n2: gelb\n3: rot\n","1: grün\n2: gelb\n3: rot\n"]
["Einheit","Name","Bezeichung","Wp",{"$f":"\"+ | - %\"","v":"+ | - %"},"V","A","V","A","mV/°C","mA/°C","%/°C","V","-","-","%","-","-","-","mm","mm","mm","-","-","kg","-","-","-","-","-","-"]
[]
["1 Soltech Inc.  1 STH-235","1 Soltech Inc. ","1 STH-235",236,"+3...-3",29.3,8.02,37,8.5399999999999991,-136.9,7.69,-0.48,"-","-","-",14.37,"mono",60,"pseudo-square",1652,990,50,"aluminum","junction box MC4",24,"www.1soltech.com","-","-","-","-","-",1,1,1,0,0,0,"NEW"]
["1 Soltech Inc. 1 STH-240","1 Soltech Inc. ","1 STH-240",240,"+3...-3",29.7,8.07,37.1,8.58,-137.27000000000001,7.7219999999999995,-0.48,"-","-","-",14.674590110778809,"mono",60,"pseudo-square",1652,990,50,"aluminum","junction box MC4",24,"www.1soltech.com","-","-","-","-","-",{"$f":"IF($O8=\"Sunpower Corp.\",3,(IF(OR($Q8=\"mono\",$Q8=\"poly\",$Q8=\"HIT\",$Q8=\"EFG\",$Q8=\"mono-LGBC\"),1,IF(OR($Q8=\"µc-Si / a-Si\",$Q8=\"a-Si (single)\",$Q8=\"a-Si (tandem)\",$Q8=\"a-Si (triple)\"),3,2))))","v":1},{"$f":"IF($O8=\"Sunpower Corp.\",3,(IF(OR($Q8=\"mono\",$Q8=\"poly\",$Q8=\"HIT\",$Q8=\"EFG\",$Q8=\"mono-LGBC\"),1,2)))","v":1},{"$f":"IF($O8=\"Sunpower Corp.\",3,(IF(OR($Q8=\"mono\",$Q8=\"poly\",$Q8=\"HIT\",$Q8=\"EFG\",$Q8=\"mono-LGBC\"),1,IF(OR($Q8=\"µc-Si / a-Si\",$Q8=\"a-Si (single)\",$Q8=\"a-Si (tandem)\",$Q8=\"a-Si (triple)\"),3,2))))","v":1},0,null,null,16537]
["1 Soltech Inc.  1 STH-245","1 Soltech Inc. ","1 STH-245","245,0","+3...-3","30,2","8,1","37,2","8,62","-137,64","7,76","-0,48","-","-","-","14,98","mono",60,"pseudo-square","1652,0","990,0","50,0","aluminum","junction box MC4","24,0","www.1soltech.com","-","-","-","-","-",{"$f":"IF($O9=\"Sunpower Corp.\",3,(IF(OR($Q9=\"mono\",$Q9=\"poly\",$Q9=\"HIT\",$Q9=\"EFG\",$Q9=\"mono-LGBC\"),1,IF(OR($Q9=\"µc-Si / a-Si\",$Q9=\"a-Si (single)\",$Q9=\"a-Si (tandem)\",$Q9=\"a-Si (triple)\"),3,2))))","v":1},{"$f":"IF($O9=\"Sunpower Corp.\",3,(IF(OR($Q9=\"mono\",$Q9=\"poly\",$Q9=\"HIT\",$Q9=\"EFG\",$Q9=\"mono-LGBC\"),1,2)))","v":1},{"$f":"IF($O9=\"Sunpower Corp.\",3,(IF(OR($Q9=\"mono\",$Q9=\"poly\",$Q9=\"HIT\",$Q9=\"EFG\",$Q9=\"mono-LGBC\"),1,IF(OR($Q9=\"µc-Si / a-Si\",$Q9=\"a-Si (single)\",$Q9=\"a-Si (tandem)\",$Q9=\"a-Si (triple)\"),3,2))))","v":1},null,null,null,"NEW",null,null,3]
["1 Soltech Inc. 1 STH-245","1 Soltech Inc. ","1 STH-245",245,"+3...-3",30.2,8.1,37.200000000000003,8.6199999999999992,-137.63999999999999,7.7579999999999991,-0.48,"-","-","-",14.980310440063477,"mono",60,"pseudo-square",1652,990,50,"aluminum","junction box MC4",24,"www.1soltech.com","-","-","-","-","-",{"$f":"IF($O10=\"Sunpower Corp.\",3,(IF(OR($Q10=\"mono\",$Q10=\"poly\",$Q10=\"HIT\",$Q10=\"EFG\",$Q10=\"mono-LGBC\"),1,IF(OR($Q10=\"µc-Si / a-Si\",$Q10=\"a-Si (single)\",$Q10=\"a-Si (tandem)\",$Q10=\"a-Si (triple)\"),3,2))))","v":1},{"$f":"IF($O10=\"Sunpower Corp.\",3,(IF(OR($Q10=\"mono\",$Q10=\"poly\",$Q10=\"HIT\",$Q10=\"EFG\",$Q10=\"mono-LGBC\"),1,2)))","v":1},{"$f":"IF($O10=\"Sunpower Corp.\",3,(IF(OR($Q10=\"mono\",$Q10=\"poly\",$Q10=\"HIT\",$Q10=\"EFG\",$Q10=\"mono-LGBC\"),1,IF(OR($Q10=\"µc-Si / a-Si\",$Q10=\"a-Si (single)\",$Q10=\"a-Si (tandem)\",$Q10=\"a-Si (triple)\"),3,2))))","v":1},0,null,null,16538]
["1 Soltech Inc. 1 STH-250","1 Soltech Inc. ","1 STH-250",250,"+3...-3",30.7,8.15,37.299999999999997,8.66,-138.01,7.7939999999999996,-0.48,"-","-","-",15.286029815673828,"mono",60,"pseudo-square",1652,990,50,"aluminum","junction box MC4",24,"www.1soltech.com","-","-","-","-","-",{"$f":"IF($O11=\"Sunpower Corp.\",3,(IF(OR($Q11=\"mono\",$Q11=\"poly\",$Q11=\"HIT\",$Q11=\"EFG\",$Q11=\"mono-LGBC\"),1,IF(OR($Q11=\"µc-Si / a-Si\",$Q11=\"a-Si (single)\",$Q11=\"a-Si (tandem)\",$Q11=\"a-Si (triple)\"),3,2))))","v":1},{"$f":"IF($O11=\"Sunpower Corp.\",3,(IF(OR($Q11=\"mono\",$Q11=\"poly\",$Q11=\"HIT\",$Q11=\"EFG\",$Q11=\"mono-LGBC\"),1,2)))","v":1},{"$f":"IF($O11=\"Sunpower Corp.\",3,(IF(OR($Q11=\"mono\",$Q11=\"poly\",$Q11=\"HIT\",$Q11=\"EFG\",$Q11=\"mono-LGBC\"),1,IF(OR($Q11=\"µc-Si / a-Si\",$Q11=\"a-Si (single)\",$Q11=\"a-Si (tandem)\",$Q11=\"a-Si (triple)\"),3,2))))","v":1},0,null,null,16539,null,null,5]
["3S Swiss Solar Systems AG MegaSlate® II Indachmodul 160","3S Swiss Solar Systems AG ","MegaSlate® II Indachmodul 160",160,"+3...-3",19.79,8.09,24.64,8.57,-88.704000000000008,1.7140000000000002,-0.47,1000,"Europe","Bosch Solar Energy AG",14.91841983795166,"mono",40,"pseudo-square",1300,875,null,"frameless","junction box Tyco",17,"www.3s-pv.ch","-","-","-","-","-",{"$f":"IF($O12=\"Sunpower Corp.\",3,(IF(OR($Q12=\"mono\",$Q12=\"poly\",$Q12=\"HIT\",$Q12=\"EFG\",$Q12=\"mono-LGBC\"),1,IF(OR($Q12=\"µc-Si / a-Si\",$Q12=\"a-Si (single)\",$Q12=\"a-Si (tandem)\",$Q12=\"a-Si (triple)\"),3,2))))","v":1},{"$f":"IF($O12=\"Sunpower Corp.\",3,(IF(OR($Q12=\"mono\",$Q12=\"poly\",$Q12=\"HIT\",$Q12=\"EFG\",$Q12=\"mono-LGBC\"),1,2)))","v":1},{"$f":"IF($O12=\"Sunpower Corp.\",3,(IF(OR($Q12=\"mono\",$Q12=\"poly\",$Q12=\"HIT\",$Q12=\"EFG\",$Q12=\"mono-LGBC\"),1,IF(OR($Q12=\"µc-Si / a-Si\",$Q12=\"a-Si (single)\",$Q12=\"a-Si (tandem)\",$Q12=\"a-Si (triple)\"),3,2))))","v":1},0,null,null,26865,null,null,10]
["3SUN Company Limited 240W monocrystalline","3SUN Company Limited ","240W monocrystalline",240,"+5...-5",46.85,5.13,57.62,5.48,-218.95599999999999,5.48,-0.47,1000,null,null,14.064700126647949,"mono",96,"pseudo-square",1580,1080,45,null,"junction box",22,"www.3sun.com.cn","-","-","-","-","-",{"$f":"IF($O13=\"Sunpower Corp.\",3,(IF(OR($Q13=\"mono\",$Q13=\"poly\",$Q13=\"HIT\",$Q13=\"EFG\",$Q13=\"mono-LGBC\"),1,IF(OR($Q13=\"µc-Si / a-Si\",$Q13=\"a-Si (single)\",$Q13=\"a-Si (tandem)\",$Q13=\"a-Si (triple)\"),3,2))))","v":1},{"$f":"IF($O13=\"Sunpower Corp.\",3,(IF(OR($Q13=\"mono\",$Q13=\"poly\",$Q13=\"HIT\",$Q13=\"EFG\",$Q13=\"mono-LGBC\"),1,2)))","v":1},{"$f":"IF($O13=\"Sunpower Corp.\",3,(IF(OR($Q13=\"mono\",$Q13=\"poly\",$Q13=\"HIT\",$Q13=\"EFG\",$Q13=\"mono-LGBC\"),1,IF(OR($Q13=\"µc-Si / a-Si\",$Q13=\"a-Si (single)\",$Q13=\"a-Si (tandem)\",$Q13=\"a-Si (triple)\"),3,2))))","v":1},0,null,null,22776,null,null,11]
["3SUN Company Limited 80W monocrystalline","3SUN Company Limited ","80W monocrystalline",80,"+5...-5",17.600000000000001,4.55,21.8,5.23,-82.84,5.23,-0.47,1000,null,null,12.243650436401367,"mono",36,"others",1210,540,30,null,"junction box",8.1999999999999993,"www.3sun.com.cn","-","-","-","-","-",{"$f":"IF($O14=\"Sunpower Corp.\",3,(IF(OR($Q14=\"mono\",$Q14=\"poly\",$Q14=\"HIT\",$Q14=\"EFG\",$Q14=\"mono-LGBC\"),1,IF(OR($Q14=\"µc-Si / a-Si\",$Q14=\"a-Si (single)\",$Q14=\"a-Si (tandem)\",$Q14=\"a-Si (triple)\"),3,2))))","v":1},{"$f":"IF($O14=\"Sunpower Corp.\",3,(IF(OR($Q14=\"mono\",$Q14=\"poly\",$Q14=\"HIT\",$Q14=\"EFG\",$Q14=\"mono-LGBC\"),1,2)))","v":1},{"$f":"IF($O14=\"Sunpower Corp.\",3,(IF(OR($Q14=\"mono\",$Q14=\"poly\",$Q14=\"HIT\",$Q14=\"EFG\",$Q14=\"mono-LGBC\"),1,IF(OR($Q14=\"µc-Si / a-Si\",$Q14=\"a-Si (single)\",$Q14=\"a-Si (tandem)\",$Q14=\"a-Si (triple)\"),3,2))))","v":1},0,null,null,22775,null,null,12]
["A.C. Service srl PEM170/72","A.C. Service srl ","PEM170/72",170,"+3...-3",35.6,4.7699999999999996,44.3,5.12,-150.62,1.5359999999999998,-0.49,1000,null,null,13.31620979309082,"mono",72,null,1580,808,46,null,"junction box",15.5,"www.acservice-energy.it","-","-","-","-","-",{"$f":"IF($O15=\"Sunpower Corp.\",3,(IF(OR($Q15=\"mono\",$Q15=\"poly\",$Q15=\"HIT\",$Q15=\"EFG\",$Q15=\"mono-LGBC\"),1,IF(OR($Q15=\"µc-Si / a-Si\",$Q15=\"a-Si (single)\",$Q15=\"a-Si (tandem)\",$Q15=\"a-Si (triple)\"),3,2))))","v":1},{"$f":"IF($O15=\"Sunpower Corp.\",3,(IF(OR($Q15=\"mono\",$Q15=\"poly\",$Q15=\"HIT\",$Q15=\"EFG\",$Q15=\"mono-LGBC\"),1,2)))","v":1},{"$f":"IF($O15=\"Sunpower Corp.\",3,(IF(OR($Q15=\"mono\",$Q15=\"poly\",$Q15=\"HIT\",$Q15=\"EFG\",$Q15=\"mono-LGBC\"),1,IF(OR($Q15=\"µc-Si / a-Si\",$Q15=\"a-Si (single)\",$Q15=\"a-Si (tandem)\",$Q15=\"a-Si (triple)\"),3,2))))","v":1},0,null,null,12262,null,null,13]
["A.C. Service srl PEM175/72","A.C. Service srl ","PEM175/72",175,"+3...-3",35.9,4.88,44.6,5.2,-151.63999999999999,1.56,-0.49,1000,null,null,13.707859992980957,"mono",72,null,1580,808,46,null,"junction box",15.5,"www.acservice-energy.it","-","-","-","-","-",{"$f":"IF($O16=\"Sunpower Corp.\",3,(IF(OR($Q16=\"mono\",$Q16=\"poly\",$Q16=\"HIT\",$Q16=\"EFG\",$Q16=\"mono-LGBC\"),1,IF(OR($Q16=\"µc-Si / a-Si\",$Q16=\"a-Si (single)\",$Q16=\"a-Si (tandem)\",$Q16=\"a-Si (triple)\"),3,2))))","v":1},{"$f":"IF($O16=\"Sunpower Corp.\",3,(IF(OR($Q16=\"mono\",$Q16=\"poly\",$Q16=\"HIT\",$Q16=\"EFG\",$Q16=\"mono-LGBC\"),1,2)))","v":1},{"$f":"IF($O16=\"Sunpower Corp.\",3,(IF(OR($Q16=\"mono\",$Q16=\"poly\",$Q16=\"HIT\",$Q16=\"EFG\",$Q16=\"mono-LGBC\"),1,IF(OR($Q16=\"µc-Si / a-Si\",$Q16=\"a-Si (single)\",$Q16=\"a-Si (tandem)\",$Q16=\"a-Si (triple)\"),3,2))))","v":1},0,null,null,12261,null,null,14]
["A.C. Service srl PEM180/72","A.C. Service srl ","PEM180/72",180,"+3...-3",36.03,4.95,44.7,5.28,-151.97999999999999,1.5839999999999999,-0.49,1000,null,null,14.099510192871094,"mono",72,null,1580,808,46,null,"junction box",15.5,"www.acservice-energy.it","-","-","-","-","-",{"$f":"IF($O17=\"Sunpower Corp.\",3,(IF(OR($Q17=\"mono\",$Q17=\"poly\",$Q17=\"HIT\",$Q17=\"EFG\",$Q17=\"mono-LGBC\"),1,IF(OR($Q17=\"µc-Si / a-Si\",$Q17=\"a-Si (single)\",$Q17=\"a-Si (tandem)\",$Q17=\"a-Si (triple)\"),3,2))))","v":1},{"$f":"IF($O17=\"Sunpower Corp.\",3,(IF(OR($Q17=\"mono\",$Q17=\"poly\",$Q17=\"HIT\",$Q17=\"EFG\",$Q17=\"mono-LGBC\"),1,2)))","v":1},{"$f":"IF($O17=\"Sunpower Corp.\",3,(IF(OR($Q17=\"mono\",$Q17=\"poly\",$Q17=\"HIT\",$Q17=\"EFG\",$Q17=\"mono-LGBC\"),1,IF(OR($Q17=\"µc-Si / a-Si\",$Q17=\"a-Si (single)\",$Q17=\"a-Si (tandem)\",$Q17=\"a-Si (triple)\"),3,2))))","v":1},0,null,null,12260,null,null,15]
["a2peak power Co., Ltd PEAK IN P210-60 (200)","a2peak power Co., Ltd ","PEAK IN P210-60 (200)",200,"+3...-3",27.7,7.22,36,7.54,-122.4,4.0716000000000001,-0.42,1000,"Taiwan (Formosa)","-",9.3808631896972656,"poly",60,"square",2000,1066,11,"-","junction box",50,"www.a2peak.com.tw","-","-","-","-","-",{"$f":"IF($O18=\"Sunpower Corp.\",3,(IF(OR($Q18=\"mono\",$Q18=\"poly\",$Q18=\"HIT\",$Q18=\"EFG\",$Q18=\"mono-LGBC\"),1,IF(OR($Q18=\"µc-Si / a-Si\",$Q18=\"a-Si (single)\",$Q18=\"a-Si (tandem)\",$Q18=\"a-Si (triple)\"),3,2))))","v":1},{"$f":"IF($O18=\"Sunpower Corp.\",3,(IF(OR($Q18=\"mono\",$Q18=\"poly\",$Q18=\"HIT\",$Q18=\"EFG\",$Q18=\"mono-LGBC\"),1,2)))","v":1},{"$f":"IF($O18=\"Sunpower Corp.\",3,(IF(OR($Q18=\"mono\",$Q18=\"poly\",$Q18=\"HIT\",$Q18=\"EFG\",$Q18=\"mono-LGBC\"),1,IF(OR($Q18=\"µc-Si / a-Si\",$Q18=\"a-Si (single)\",$Q18=\"a-Si (tandem)\",$Q18=\"a-Si (triple)\"),3,2))))","v":1},0,null,null,26514,null,null,16]
["a2peak power Co., Ltd PEAK IN P210-60 (205)","a2peak power Co., Ltd ","PEAK IN P210-60 (205)",205,"+3...-3",28.35,7.23,36.130000000000003,7.6,-122.84200000000003,4.1040000000000001,-0.42,1000,"Taiwan (Formosa)",null,9.6153850555419922,"poly",60,"square",2000,1066,11,null,"junction box",50,"www.a2peak.com.tw","-","-","-","-","-",{"$f":"IF($O19=\"Sunpower Corp.\",3,(IF(OR($Q19=\"mono\",$Q19=\"poly\",$Q19=\"HIT\",$Q19=\"EFG\",$Q19=\"mono-LGBC\"),1,IF(OR($Q19=\"µc-Si / a-Si\",$Q19=\"a-Si (single)\",$Q19=\"a-Si (tandem)\",$Q19=\"a-Si (triple)\"),3,2))))","v":1},{"$f":"IF($O19=\"Sunpower Corp.\",3,(IF(OR($Q19=\"mono\",$Q19=\"poly\",$Q19=\"HIT\",$Q19=\"EFG\",$Q19=\"mono-LGBC\"),1,2)))","v":1},{"$f":"IF($O19=\"Sunpower Corp.\",3,(IF(OR($Q19=\"mono\",$Q19=\"poly\",$Q19=\"HIT\",$Q19=\"EFG\",$Q19=\"mono-LGBC\"),1,IF(OR($Q19=\"µc-Si / a-Si\",$Q19=\"a-Si (single)\",$Q19=\"a-Si (tandem)\",$Q19=\"a-Si (triple)\"),3,2))))","v":1},0,null,null,26515,null,null,17]
["a2peak power Co., Ltd PEAK IN P210-60 (210)","a2peak power Co., Ltd ","PEAK IN P210-60 (210)",210,"+3...-3",28.97,7.25,36.28,7.68,-123.35200000000002,4.1471999999999998,-0.42,1000,"Taiwan (Formosa)",null,9.8499059677124023,"poly",60,"square",2000,1066,11,null,"junction box",50,"www.a2peak.com.tw","-","-","-","-","-",{"$f":"IF($O20=\"Sunpower Corp.\",3,(IF(OR($Q20=\"mono\",$Q20=\"poly\",$Q20=\"HIT\",$Q20=\"EFG\",$Q20=\"mono-LGBC\"),1,IF(OR($Q20=\"µc-Si / a-Si\",$Q20=\"a-Si (single)\",$Q20=\"a-Si (tandem)\",$Q20=\"a-Si (triple)\"),3,2))))","v":1},{"$f":"IF($O20=\"Sunpower Corp.\",3,(IF(OR($Q20=\"mono\",$Q20=\"poly\",$Q20=\"HIT\",$Q20=\"EFG\",$Q20=\"mono-LGBC\"),1,2)))","v":1},{"$f":"IF($O20=\"Sunpower Corp.\",3,(IF(OR($Q20=\"mono\",$Q20=\"poly\",$Q20=\"HIT\",$Q20=\"EFG\",$Q20=\"mono-LGBC\"),1,IF(OR($Q20=\"µc-Si / a-Si\",$Q20=\"a-Si (single)\",$Q20=\"a-Si (tandem)\",$Q20=\"a-Si (triple)\"),3,2))))","v":1},0,null,null,26516,null,null,18]
["a2peak power Co., Ltd PEAK IN P210-60 (215)","a2peak power Co., Ltd ","PEAK IN P210-60 (215)",215,"+3...-3",29.61,7.26,36.369999999999997,7.82,-123.658,4.2228000000000003,-0.42,1000,"Taiwan (Formosa)",null,10.084429740905762,"poly",60,"square",2000,1066,11,null,"junction box",50,"www.a2peak.com.tw","-","-","-","-","-",{"$f":"IF($O21=\"Sunpower Corp.\",3,(IF(OR($Q21=\"mono\",$Q21=\"poly\",$Q21=\"HIT\",$Q21=\"EFG\",$Q21=\"mono-LGBC\"),1,IF(OR($Q21=\"µc-Si / a-Si\",$Q21=\"a-Si (single)\",$Q21=\"a-Si (tandem)\",$Q21=\"a-Si (triple)\"),3,2))))","v":1},{"$f":"IF($O21=\"Sunpower Corp.\",3,(IF(OR($Q21=\"mono\",$Q21=\"poly\",$Q21=\"HIT\",$Q21=\"EFG\",$Q21=\"mono-LGBC\"),1,2)))","v":1},{"$f":"IF($O21=\"Sunpower Corp.\",3,(IF(OR($Q21=\"mono\",$Q21=\"poly\",$Q21=\"HIT\",$Q21=\"EFG\",$Q21=\"mono-LGBC\"),1,IF(OR($Q21=\"µc-Si / a-Si\",$Q21=\"a-Si (single)\",$Q21=\"a-Si (tandem)\",$Q21=\"a-Si (triple)\"),3,2))))","v":1},0,null,null,26517,null,null,19]
["a2peak power Co., Ltd PEAK IN P210-60 (220)","a2peak power Co., Ltd ","PEAK IN P210-60 (220)",220,"+3...-3",30.22,7.28,36.49,7.97,-124.066,4.3037999999999998,-0.42,1000,"Taiwan (Formosa)",null,10.318949699401855,"poly",60,"square",2000,1066,11,null,"junction box",50,"www.a2peak.com.tw","-","-","-","-","-",{"$f":"IF($O22=\"Sunpower Corp.\",3,(IF(OR($Q22=\"mono\",$Q22=\"poly\",$Q22=\"HIT\",$Q22=\"EFG\",$Q22=\"mono-LGBC\"),1,IF(OR($Q22=\"µc-Si / a-Si\",$Q22=\"a-Si (single)\",$Q22=\"a-Si (tandem)\",$Q22=\"a-Si (triple)\"),3,2))))","v":1},{"$f":"IF($O22=\"Sunpower Corp.\",3,(IF(OR($Q22=\"mono\",$Q22=\"poly\",$Q22=\"HIT\",$Q22=\"EFG\",$Q22=\"mono-LGBC\"),1,2)))","v":1},{"$f":"IF($O22=\"Sunpower Corp.\",3,(IF(OR($Q22=\"mono\",$Q22=\"poly\",$Q22=\"HIT\",$Q22=\"EFG\",$Q22=\"mono-LGBC\"),1,IF(OR($Q22=\"µc-Si / a-Si\",$Q22=\"a-Si (single)\",$Q22=\"a-Si (tandem)\",$Q22=\"a-Si (triple)\"),3,2))))","v":1},0,null,null,26518,null,null,20]
["a2peak power Co., Ltd PEAK IN P210-60 (225)","a2peak power Co., Ltd ","PEAK IN P210-60 (225)",225,"+3...-3",30.82,7.3,36.58,8.1199999999999992,-124.372,4.3847999999999994,-0.42,1000,"Taiwan (Formosa)",null,10.553469657897949,"poly",60,"square",2000,1066,11,null,"junction box",50,"www.a2peak.com.tw","-","-","-","-","-",{"$f":"IF($O23=\"Sunpower Corp.\",3,(IF(OR($Q23=\"mono\",$Q23=\"poly\",$Q23=\"HIT\",$Q23=\"EFG\",$Q23=\"mono-LGBC\"),1,IF(OR($Q23=\"µc-Si / a-Si\",$Q23=\"a-Si (single)\",$Q23=\"a-Si (tandem)\",$Q23=\"a-Si (triple)\"),3,2))))","v":1},{"$f":"IF($O23=\"Sunpower Corp.\",3,(IF(OR($Q23=\"mono\",$Q23=\"poly\",$Q23=\"HIT\",$Q23=\"EFG\",$Q23=\"mono-LGBC\"),1,2)))","v":1},{"$f":"IF($O23=\"Sunpower Corp.\",3,(IF(OR($Q23=\"mono\",$Q23=\"poly\",$Q23=\"HIT\",$Q23=\"EFG\",$Q23=\"mono-LGBC\"),1,IF(OR($Q23=\"µc-Si / a-Si\",$Q23=\"a-Si (single)\",$Q23=\"a-Si (tandem)\",$Q23=\"a-Si (triple)\"),3,2))))","v":1},0,null,null,26519,null,null,21]
["a2peak power Co., Ltd PEAK ON P130-36 (120)","a2peak power Co., Ltd ","PEAK ON P130-36 (120)",120,"+3...-3",16.829999999999998,7.28,21.6,7.73,-73.44,4.1741999999999999,-0.42,1000,"Taiwan (Formosa)",null,11.970890045166016,"poly",36,"square",1472,681,40,null,"junction box",14,"www.a2peak.com.tw","-","-","-","-","-",{"$f":"IF($O24=\"Sunpower Corp.\",3,(IF(OR($Q24=\"mono\",$Q24=\"poly\",$Q24=\"HIT\",$Q24=\"EFG\",$Q24=\"mono-LGBC\"),1,IF(OR($Q24=\"µc-Si / a-Si\",$Q24=\"a-Si (single)\",$Q24=\"a-Si (tandem)\",$Q24=\"a-Si (triple)\"),3,2))))","v":1},{"$f":"IF($O24=\"Sunpower Corp.\",3,(IF(OR($Q24=\"mono\",$Q24=\"poly\",$Q24=\"HIT\",$Q24=\"EFG\",$Q24=\"mono-LGBC\"),1,2)))","v":1},{"$f":"IF($O24=\"Sunpower Corp.\",3,(IF(OR($Q24=\"mono\",$Q24=\"poly\",$Q24=\"HIT\",$Q24=\"EFG\",$Q24=\"mono-LGBC\"),1,IF(OR($Q24=\"µc-Si / a-Si\",$Q24=\"a-Si (single)\",$Q24=\"a-Si (tandem)\",$Q24=\"a-Si (triple)\"),3,2))))","v":1},0,null,null,26492,null,null,22]
["a2peak power Co., Ltd PEAK ON P130-36 (125)","a2peak power Co., Ltd ","PEAK ON P130-36 (125)",125,"+3...-3",17.149999999999999,7.44,21.78,7.98,-74.052000000000007,4.3091999999999997,-0.42,1000,"Taiwan (Formosa)",null,12.469670295715332,"poly",36,"square",1472,681,40,null,null,14,"www.a2peak.com.tw","-","-","-","-","-",{"$f":"IF($O25=\"Sunpower Corp.\",3,(IF(OR($Q25=\"mono\",$Q25=\"poly\",$Q25=\"HIT\",$Q25=\"EFG\",$Q25=\"mono-LGBC\"),1,IF(OR($Q25=\"µc-Si / a-Si\",$Q25=\"a-Si (single)\",$Q25=\"a-Si (tandem)\",$Q25=\"a-Si (triple)\"),3,2))))","v":1},{"$f":"IF($O25=\"Sunpower Corp.\",3,(IF(OR($Q25=\"mono\",$Q25=\"poly\",$Q25=\"HIT\",$Q25=\"EFG\",$Q25=\"mono-LGBC\"),1,2)))","v":1},{"$f":"IF($O25=\"Sunpower Corp.\",3,(IF(OR($Q25=\"mono\",$Q25=\"poly\",$Q25=\"HIT\",$Q25=\"EFG\",$Q25=\"mono-LGBC\"),1,IF(OR($Q25=\"µc-Si / a-Si\",$Q25=\"a-Si (single)\",$Q25=\"a-Si (tandem)\",$Q25=\"a-Si (triple)\"),3,2))))","v":1},0,null,null,26493,null,null,23]
["a2peak power Co., Ltd PEAK ON P130-36 (130)","a2peak power Co., Ltd ","PEAK ON P130-36 (130)",130,"+3...-3",17.63,7.52,21.89,8.1999999999999993,-74.426000000000002,4.4279999999999999,-0.42,1000,"Taiwan (Formosa)",null,12.968460083007813,"poly",36,"square",1472,681,40,null,null,14,"www.a2peak.com.tw","-","-","-","-","-",{"$f":"IF($O26=\"Sunpower Corp.\",3,(IF(OR($Q26=\"mono\",$Q26=\"poly\",$Q26=\"HIT\",$Q26=\"EFG\",$Q26=\"mono-LGBC\"),1,IF(OR($Q26=\"µc-Si / a-Si\",$Q26=\"a-Si (single)\",$Q26=\"a-Si (tandem)\",$Q26=\"a-Si (triple)\"),3,2))))","v":1},{"$f":"IF($O26=\"Sunpower Corp.\",3,(IF(OR($Q26=\"mono\",$Q26=\"poly\",$Q26=\"HIT\",$Q26=\"EFG\",$Q26=\"mono-LGBC\"),1,2)))","v":1},{"$f":"IF($O26=\"Sunpower Corp.\",3,(IF(OR($Q26=\"mono\",$Q26=\"poly\",$Q26=\"HIT\",$Q26=\"EFG\",$Q26=\"mono-LGBC\"),1,IF(OR($Q26=\"µc-Si / a-Si\",$Q26=\"a-Si (single)\",$Q26=\"a-Si (tandem)\",$Q26=\"a-Si (triple)\"),3,2))))","v":1},0,null,null,26494,null,null,24]
["a2peak power Co., Ltd PEAK ON P130-36 (135)","a2peak power Co., Ltd ","PEAK ON P130-36 (135)",11000,"+3...-3",17.45,97.5,22.1,8.42,-75.14,4.5468000000000002,-0.42,1000,"Taiwan (Formosa)",null,13.467249870300293,"poly",36,"square",1472,681,40,null,null,14,"www.a2peak.com.tw","-","-","-","-","-",{"$f":"IF($O27=\"Sunpower Corp.\",3,(IF(OR($Q27=\"mono\",$Q27=\"poly\",$Q27=\"HIT\",$Q27=\"EFG\",$Q27=\"mono-LGBC\"),1,IF(OR($Q27=\"µc-Si / a-Si\",$Q27=\"a-Si (single)\",$Q27=\"a-Si (tandem)\",$Q27=\"a-Si (triple)\"),3,2))))","v":1},{"$f":"IF($O27=\"Sunpower Corp.\",3,(IF(OR($Q27=\"mono\",$Q27=\"poly\",$Q27=\"HIT\",$Q27=\"EFG\",$Q27=\"mono-LGBC\"),1,2)))","v":1},{"$f":"IF($O27=\"Sunpower Corp.\",3,(IF(OR($Q27=\"mono\",$Q27=\"poly\",$Q27=\"HIT\",$Q27=\"EFG\",$Q27=\"mono-LGBC\"),1,IF(OR($Q27=\"µc-Si / a-Si\",$Q27=\"a-Si (single)\",$Q27=\"a-Si (tandem)\",$Q27=\"a-Si (triple)\"),3,2))))","v":1},0,null,null,26495,null,null,25]
["a2peak power Co., Ltd PEAK ON P130-36 (140)","a2peak power Co., Ltd ","PEAK ON P130-36 (140)",140,"+3...-3",17.95,7.94,22.51,8.52,-76.534000000000006,4.6007999999999996,-0.42,1000,"Taiwan (Formosa)",null,13.966030120849609,"poly",36,"square",1472,681,40,"aluminum","junction box Tyco",14,"www.a2peak.com.tw","-","-","-","-","-",{"$f":"IF($O28=\"Sunpower Corp.\",3,(IF(OR($Q28=\"mono\",$Q28=\"poly\",$Q28=\"HIT\",$Q28=\"EFG\",$Q28=\"mono-LGBC\"),1,IF(OR($Q28=\"µc-Si / a-Si\",$Q28=\"a-Si (single)\",$Q28=\"a-Si (tandem)\",$Q28=\"a-Si (triple)\"),3,2))))","v":1},{"$f":"IF($O28=\"Sunpower Corp.\",3,(IF(OR($Q28=\"mono\",$Q28=\"poly\",$Q28=\"HIT\",$Q28=\"EFG\",$Q28=\"mono-LGBC\"),1,2)))","v":1},{"$f":"IF($O28=\"Sunpower Corp.\",3,(IF(OR($Q28=\"mono\",$Q28=\"poly\",$Q28=\"HIT\",$Q28=\"EFG\",$Q28=\"mono-LGBC\"),1,IF(OR($Q28=\"µc-Si / a-Si\",$Q28=\"a-Si (single)\",$Q28=\"a-Si (tandem)\",$Q28=\"a-Si (triple)\"),3,2))))","v":1},0,null,null,26496,null,null,26]
["a2peak power Co., Ltd PEAK ON P230-60 (220)","a2peak power Co., Ltd ","PEAK ON P230-60 (220)",220,"+3...-3",29.2,7.62,36.49,8.1999999999999993,-124.066,4.4279999999999999,-0.42,1000,"Taiwan (Formosa)",null,13.510439872741699,"poly",60,"square",1630,999,40,"aluminum","junction box MC",19.600000000000001,"www.a2peak.com.tw","-","-","-","-","-",{"$f":"IF($O29=\"Sunpower Corp.\",3,(IF(OR($Q29=\"mono\",$Q29=\"poly\",$Q29=\"HIT\",$Q29=\"EFG\",$Q29=\"mono-LGBC\"),1,IF(OR($Q29=\"µc-Si / a-Si\",$Q29=\"a-Si (single)\",$Q29=\"a-Si (tandem)\",$Q29=\"a-Si (triple)\"),3,2))))","v":1},{"$f":"IF($O29=\"Sunpower Corp.\",3,(IF(OR($Q29=\"mono\",$Q29=\"poly\",$Q29=\"HIT\",$Q29=\"EFG\",$Q29=\"mono-LGBC\"),1,2)))","v":1},{"$f":"IF($O29=\"Sunpower Corp.\",3,(IF(OR($Q29=\"mono\",$Q29=\"poly\",$Q29=\"HIT\",$Q29=\"EFG\",$Q29=\"mono-LGBC\"),1,IF(OR($Q29=\"µc-Si / a-Si\",$Q29=\"a-Si (single)\",$Q29=\"a-Si (tandem)\",$Q29=\"a-Si (triple)\"),3,2))))","v":1},0,null,null,26497,null,null,27]
["a2peak power Co., Ltd PEAK ON P230-60 (225)","a2peak power Co., Ltd ","PEAK ON P230-60 (225)",225,"+3...-3",29.38,7.75,36.68,8.36,-124.712,4.5144000000000002,-0.42,1000,"Taiwan (Formosa)",null,13.817500114440918,"poly",60,"square",1630,999,40,"aluminum","junction box MC",19.600000000000001,"www.a2peak.com.tw","-","-","-","-","-",{"$f":"IF($O30=\"Sunpower Corp.\",3,(IF(OR($Q30=\"mono\",$Q30=\"poly\",$Q30=\"HIT\",$Q30=\"EFG\",$Q30=\"mono-LGBC\"),1,IF(OR($Q30=\"µc-Si / a-Si\",$Q30=\"a-Si (single)\",$Q30=\"a-Si (tandem)\",$Q30=\"a-Si (triple)\"),3,2))))","v":1},{"$f":"IF($O30=\"Sunpower Corp.\",3,(IF(OR($Q30=\"mono\",$Q30=\"poly\",$Q30=\"HIT\",$Q30=\"EFG\",$Q30=\"mono-LGBC\"),1,2)))","v":1},{"$f":"IF($O30=\"Sunpower Corp.\",3,(IF(OR($Q30=\"mono\",$Q30=\"poly\",$Q30=\"HIT\",$Q30=\"EFG\",$Q30=\"mono-LGBC\"),1,IF(OR($Q30=\"µc-Si / a-Si\",$Q30=\"a-Si (single)\",$Q30=\"a-Si (tandem)\",$Q30=\"a-Si (triple)\"),3,2))))","v":1},0,null,null,26498,null,null,28]
["a2peak power Co., Ltd PEAK ON P230-60 (230)","a2peak power Co., Ltd ","PEAK ON P230-60 (230)",230,"+3...-3",29.61,7.86,37.1,8.42,-126.14,4.5468000000000002,-0.42,1000,"Taiwan (Formosa)",null,14.124549865722656,"poly",60,"square",1630,999,40,"aluminum","junction box MC",19.600000000000001,"www.a2peak.com.tw","-","-","-","-","-",{"$f":"IF($O31=\"Sunpower Corp.\",3,(IF(OR($Q31=\"mono\",$Q31=\"poly\",$Q31=\"HIT\",$Q31=\"EFG\",$Q31=\"mono-LGBC\"),1,IF(OR($Q31=\"µc-Si / a-Si\",$Q31=\"a-Si (single)\",$Q31=\"a-Si (tandem)\",$Q31=\"a-Si (triple)\"),3,2))))","v":1},{"$f":"IF($O31=\"Sunpower Corp.\",3,(IF(OR($Q31=\"mono\",$Q31=\"poly\",$Q31=\"HIT\",$Q31=\"EFG\",$Q31=\"mono-LGBC\"),1,2)))","v":1},{"$f":"IF($O31=\"Sunpower Corp.\",3,(IF(OR($Q31=\"mono\",$Q31=\"poly\",$Q31=\"HIT\",$Q31=\"EFG\",$Q31=\"mono-LGBC\"),1,IF(OR($Q31=\"µc-Si / a-Si\",$Q31=\"a-Si (single)\",$Q31=\"a-Si (tandem)\",$Q31=\"a-Si (triple)\"),3,2))))","v":1},0,null,null,26499,null,null,29]
["a2peak power Co., Ltd PEAK ON P230-60 (235)","a2peak power Co., Ltd ","PEAK ON P230-60 (235)",235,"+3...-3",29.92,7.94,37.200000000000003,8.52,-126.48,4.6007999999999996,-0.42,1000,"Taiwan (Formosa)",null,14.431610107421875,"poly",60,"square",1630,999,40,"aluminum","junction box MC",19.600000000000001,"www.a2peak.com.tw","-","-","-","-","-",{"$f":"IF($O32=\"Sunpower Corp.\",3,(IF(OR($Q32=\"mono\",$Q32=\"poly\",$Q32=\"HIT\",$Q32=\"EFG\",$Q32=\"mono-LGBC\"),1,IF(OR($Q32=\"µc-Si / a-Si\",$Q32=\"a-Si (single)\",$Q32=\"a-Si (tandem)\",$Q32=\"a-Si (triple)\"),3,2))))","v":1},{"$f":"IF($O32=\"Sunpower Corp.\",3,(IF(OR($Q32=\"mono\",$Q32=\"poly\",$Q32=\"HIT\",$Q32=\"EFG\",$Q32=\"mono-LGBC\"),1,2)))","v":1},{"$f":"IF($O32=\"Sunpower Corp.\",3,(IF(OR($Q32=\"mono\",$Q32=\"poly\",$Q32=\"HIT\",$Q32=\"EFG\",$Q32=\"mono-LGBC\"),1,IF(OR($Q32=\"µc-Si / a-Si\",$Q32=\"a-Si (single)\",$Q32=\"a-Si (tandem)\",$Q32=\"a-Si (triple)\"),3,2))))","v":1},0,null,null,26500,null,null,30]
["a2peak power Co., Ltd PEAK ON P230-60 (240)","a2peak power Co., Ltd ","PEAK ON P230-60 (240)",240,"+3...-3",30.21,8.0299999999999994,37.42,8.6300000000000008,-127.22800000000001,4.6602000000000006,-0.42,1000,"Taiwan (Formosa)",null,14.738659858703613,"poly",60,"square",1630,999,40,"aluminum","junction box MC",19.600000000000001,"www.a2peak.com.tw","-","-","-","-","-",{"$f":"IF($O33=\"Sunpower Corp.\",3,(IF(OR($Q33=\"mono\",$Q33=\"poly\",$Q33=\"HIT\",$Q33=\"EFG\",$Q33=\"mono-LGBC\"),1,IF(OR($Q33=\"µc-Si / a-Si\",$Q33=\"a-Si (single)\",$Q33=\"a-Si (tandem)\",$Q33=\"a-Si (triple)\"),3,2))))","v":1},{"$f":"IF($O33=\"Sunpower Corp.\",3,(IF(OR($Q33=\"mono\",$Q33=\"poly\",$Q33=\"HIT\",$Q33=\"EFG\",$Q33=\"mono-LGBC\"),1,2)))","v":1},{"$f":"IF($O33=\"Sunpower Corp.\",3,(IF(OR($Q33=\"mono\",$Q33=\"poly\",$Q33=\"HIT\",$Q33=\"EFG\",$Q33=\"mono-LGBC\"),1,IF(OR($Q33=\"µc-Si / a-Si\",$Q33=\"a-Si (single)\",$Q33=\"a-Si (tandem)\",$Q33=\"a-Si (triple)\"),3,2))))","v":1},0,null,null,26501,null,null,31]
["a2peak power Co., Ltd PEAK ON P230-60 (245)","a2peak power Co., Ltd ","PEAK ON P230-60 (245)",245,"+3...-3",30.75,8.0500000000000007,37.49,8.76,-127.46600000000002,4.7304000000000004,-0.42,1000,"Taiwan (Formosa)",null,15.045720100402832,"poly",60,"square",1630,999,40,"aluminum","junction box MC",19.600000000000001,"www.a2peak.com.tw","-","-","-","-","-",{"$f":"IF($O34=\"Sunpower Corp.\",3,(IF(OR($Q34=\"mono\",$Q34=\"poly\",$Q34=\"HIT\",$Q34=\"EFG\",$Q34=\"mono-LGBC\"),1,IF(OR($Q34=\"µc-Si / a-Si\",$Q34=\"a-Si (single)\",$Q34=\"a-Si (tandem)\",$Q34=\"a-Si (triple)\"),3,2))))","v":1},{"$f":"IF($O34=\"Sunpower Corp.\",3,(IF(OR($Q34=\"mono\",$Q34=\"poly\",$Q34=\"HIT\",$Q34=\"EFG\",$Q34=\"mono-LGBC\"),1,2)))","v":1},{"$f":"IF($O34=\"Sunpower Corp.\",3,(IF(OR($Q34=\"mono\",$Q34=\"poly\",$Q34=\"HIT\",$Q34=\"EFG\",$Q34=\"mono-LGBC\"),1,IF(OR($Q34=\"µc-Si / a-Si\",$Q34=\"a-Si (single)\",$Q34=\"a-Si (tandem)\",$Q34=\"a-Si (triple)\"),3,2))))","v":1},0,null,null,26502,null,null,32]
["a2peak power Co., Ltd PEAK ON P230-60 BLACK (220)","a2peak power Co., Ltd ","PEAK ON P230-60 BLACK (220)",220,"+3...-3",29.2,7.62,36.49,8.1999999999999993,-124.066,4.4279999999999999,-0.42,1000,"Taiwan (Formosa)",null,13.510439872741699,"poly",60,"square",1630,999,40,"aluminum","junction box MC",19.600000000000001,"www.a2peak.com.tw","-","-","-","-","-",{"$f":"IF($O35=\"Sunpower Corp.\",3,(IF(OR($Q35=\"mono\",$Q35=\"poly\",$Q35=\"HIT\",$Q35=\"EFG\",$Q35=\"mono-LGBC\"),1,IF(OR($Q35=\"µc-Si / a-Si\",$Q35=\"a-Si (single)\",$Q35=\"a-Si (tandem)\",$Q35=\"a-Si (triple)\"),3,2))))","v":1},{"$f":"IF($O35=\"Sunpower Corp.\",3,(IF(OR($Q35=\"mono\",$Q35=\"poly\",$Q35=\"HIT\",$Q35=\"EFG\",$Q35=\"mono-LGBC\"),1,2)))","v":1},{"$f":"IF($O35=\"Sunpower Corp.\",3,(IF(OR($Q35=\"mono\",$Q35=\"poly\",$Q35=\"HIT\",$Q35=\"EFG\",$Q35=\"mono-LGBC\"),1,IF(OR($Q35=\"µc-Si / a-Si\",$Q35=\"a-Si (single)\",$Q35=\"a-Si (tandem)\",$Q35=\"a-Si (triple)\"),3,2))))","v":1},0,null,null,26530,null,null,33]
["a2peak power Co., Ltd PEAK ON P230-60 BLACK (225)","a2peak power Co., Ltd ","PEAK ON P230-60 BLACK (225)",225,"+3...-3",29.38,7.75,36.68,8.36,-124.712,4.5144000000000002,-0.42,1000,"Taiwan (Formosa)",null,13.817500114440918,"poly",60,"square",1630,999,40,"aluminum","junction box MC",19.600000000000001,"www.a2peak.com.tw","-","-","-","-","-",{"$f":"IF($O36=\"Sunpower Corp.\",3,(IF(OR($Q36=\"mono\",$Q36=\"poly\",$Q36=\"HIT\",$Q36=\"EFG\",$Q36=\"mono-LGBC\"),1,IF(OR($Q36=\"µc-Si / a-Si\",$Q36=\"a-Si (single)\",$Q36=\"a-Si (tandem)\",$Q36=\"a-Si (triple)\"),3,2))))","v":1},{"$f":"IF($O36=\"Sunpower Corp.\",3,(IF(OR($Q36=\"mono\",$Q36=\"poly\",$Q36=\"HIT\",$Q36=\"EFG\",$Q36=\"mono-LGBC\"),1,2)))","v":1},{"$f":"IF($O36=\"Sunpower Corp.\",3,(IF(OR($Q36=\"mono\",$Q36=\"poly\",$Q36=\"HIT\",$Q36=\"EFG\",$Q36=\"mono-LGBC\"),1,IF(OR($Q36=\"µc-Si / a-Si\",$Q36=\"a-Si (single)\",$Q36=\"a-Si (tandem)\",$Q36=\"a-Si (triple)\"),3,2))))","v":1},0,null,null,26531,null,null,34]
["a2peak power Co., Ltd PEAK ON P230-60 BLACK (230)","a2peak power Co., Ltd ","PEAK ON P230-60 BLACK (230)",230,"+3...-3",29.61,7.86,37.1,8.42,-126.14,4.5468000000000002,-0.42,1000,"Taiwan (Formosa)",null,14.124549865722656,"poly",60,"square",1630,999,40,"aluminum","junction box MC",19.600000000000001,"www.a2peak.com.tw","-","-","-","-","-",{"$f":"IF($O37=\"Sunpower Corp.\",3,(IF(OR($Q37=\"mono\",$Q37=\"poly\",$Q37=\"HIT\",$Q37=\"EFG\",$Q37=\"mono-LGBC\"),1,IF(OR($Q37=\"µc-Si / a-Si\",$Q37=\"a-Si (single)\",$Q37=\"a-Si (tandem)\",$Q37=\"a-Si (triple)\"),3,2))))","v":1},{"$f":"IF($O37=\"Sunpower Corp.\",3,(IF(OR($Q37=\"mono\",$Q37=\"poly\",$Q37=\"HIT\",$Q37=\"EFG\",$Q37=\"mono-LGBC\"),1,2)))","v":1},{"$f":"IF($O37=\"Sunpower Corp.\",3,(IF(OR($Q37=\"mono\",$Q37=\"poly\",$Q37=\"HIT\",$Q37=\"EFG\",$Q37=\"mono-LGBC\"),1,IF(OR($Q37=\"µc-Si / a-Si\",$Q37=\"a-Si (single)\",$Q37=\"a-Si (tandem)\",$Q37=\"a-Si (triple)\"),3,2))))","v":1},0,null,null,26532,null,null,35]
["a2peak power Co., Ltd PEAK ON P230-60 BLACK (235)","a2peak power Co., Ltd ","PEAK ON P230-60 BLACK (235)",235,"+3...-3",29.92,7.94,37.200000000000003,8.52,-126.48,4.6007999999999996,-0.42,1000,"Taiwan (Formosa)",null,14.431610107421875,"poly",60,"square",1630,999,40,"aluminum","junction box MC",19.600000000000001,"www.a2peak.com.tw","-","-","-","-","-",{"$f":"IF($O38=\"Sunpower Corp.\",3,(IF(OR($Q38=\"mono\",$Q38=\"poly\",$Q38=\"HIT\",$Q38=\"EFG\",$Q38=\"mono-LGBC\"),1,IF(OR($Q38=\"µc-Si / a-Si\",$Q38=\"a-Si (single)\",$Q38=\"a-Si (tandem)\",$Q38=\"a-Si (triple)\"),3,2))))","v":1},{"$f":"IF($O38=\"Sunpower Corp.\",3,(IF(OR($Q38=\"mono\",$Q38=\"poly\",$Q38=\"HIT\",$Q38=\"EFG\",$Q38=\"mono-LGBC\"),1,2)))","v":1},{"$f":"IF($O38=\"Sunpower Corp.\",3,(IF(OR($Q38=\"mono\",$Q38=\"poly\",$Q38=\"HIT\",$Q38=\"EFG\",$Q38=\"mono-LGBC\"),1,IF(OR($Q38=\"µc-Si / a-Si\",$Q38=\"a-Si (single)\",$Q38=\"a-Si (tandem)\",$Q38=\"a-Si (triple)\"),3,2))))","v":1},0,null,null,26533,null,null,36]
["a2peak power Co., Ltd PEAK ON P230-60 BLACK (240)","a2peak power Co., Ltd ","PEAK ON P230-60 BLACK (240)",240,"+3...-3",30.21,8.0299999999999994,37.42,8.6300000000000008,-127.22800000000001,4.6602000000000006,-0.42,1000,"Taiwan (Formosa)",null,14.738659858703613,"poly",60,"square",1630,999,40,"aluminum","junction box MC",19.600000000000001,"www.a2peak.com.tw","-","-","-","-","-",{"$f":"IF($O39=\"Sunpower Corp.\",3,(IF(OR($Q39=\"mono\",$Q39=\"poly\",$Q39=\"HIT\",$Q39=\"EFG\",$Q39=\"mono-LGBC\"),1,IF(OR($Q39=\"µc-Si / a-Si\",$Q39=\"a-Si (single)\",$Q39=\"a-Si (tandem)\",$Q39=\"a-Si (triple)\"),3,2))))","v":1},{"$f":"IF($O39=\"Sunpower Corp.\",3,(IF(OR($Q39=\"mono\",$Q39=\"poly\",$Q39=\"HIT\",$Q39=\"EFG\",$Q39=\"mono-LGBC\"),1,2)))","v":1},{"$f":"IF($O39=\"Sunpower Corp.\",3,(IF(OR($Q39=\"mono\",$Q39=\"poly\",$Q39=\"HIT\",$Q39=\"EFG\",$Q39=\"mono-LGBC\"),1,IF(OR($Q39=\"µc-Si / a-Si\",$Q39=\"a-Si (single)\",$Q39=\"a-Si (tandem)\",$Q39=\"a-Si (triple)\"),3,2))))","v":1},0,null,null,26534,null,null,37]
["a2peak power Co., Ltd PEAK ON P230-60 BLACK (245)","a2peak power Co., Ltd ","PEAK ON P230-60 BLACK (245)",245,"+3...-3",30.75,8.0500000000000007,37.49,8.76,-127.46600000000002,4.7304000000000004,-0.42,1000,"Taiwan (Formosa)",null,15.045720100402832,"poly",60,"square",1630,999,40,"aluminum","junction box MC",19.600000000000001,"www.a2peak.com.tw","-","-","-","-","-",{"$f":"IF($O40=\"Sunpower Corp.\",3,(IF(OR($Q40=\"mono\",$Q40=\"poly\",$Q40=\"HIT\",$Q40=\"EFG\",$Q40=\"mono-LGBC\"),1,IF(OR($Q40=\"µc-Si / a-Si\",$Q40=\"a-Si (single)\",$Q40=\"a-Si (tandem)\",$Q40=\"a-Si (triple)\"),3,2))))","v":1},{"$f":"IF($O40=\"Sunpower Corp.\",3,(IF(OR($Q40=\"mono\",$Q40=\"poly\",$Q40=\"HIT\",$Q40=\"EFG\",$Q40=\"mono-LGBC\"),1,2)))","v":1},{"$f":"IF($O40=\"Sunpower Corp.\",3,(IF(OR($Q40=\"mono\",$Q40=\"poly\",$Q40=\"HIT\",$Q40=\"EFG\",$Q40=\"mono-LGBC\"),1,IF(OR($Q40=\"µc-Si / a-Si\",$Q40=\"a-Si (single)\",$Q40=\"a-Si (tandem)\",$Q40=\"a-Si (triple)\"),3,2))))","v":1},0,null,null,26535,null,null,38]
["a2peak power Co., Ltd PEAK ON P3-235-60 (230)","a2peak power Co., Ltd ","PEAK ON P3-235-60 (230)",230,"+3...-3",29.81,7.8,37.11,8.39,-126.17400000000001,4.5305999999999997,-0.42,1000,"Taiwan (Formosa)",null,14.124549865722656,"poly",60,"square",1630,999,40,"aluminum","junction box MC",19.600000000000001,"www.a2peak.com.tw","-","-","-","-","-",{"$f":"IF($O41=\"Sunpower Corp.\",3,(IF(OR($Q41=\"mono\",$Q41=\"poly\",$Q41=\"HIT\",$Q41=\"EFG\",$Q41=\"mono-LGBC\"),1,IF(OR($Q41=\"µc-Si / a-Si\",$Q41=\"a-Si (single)\",$Q41=\"a-Si (tandem)\",$Q41=\"a-Si (triple)\"),3,2))))","v":1},{"$f":"IF($O41=\"Sunpower Corp.\",3,(IF(OR($Q41=\"mono\",$Q41=\"poly\",$Q41=\"HIT\",$Q41=\"EFG\",$Q41=\"mono-LGBC\"),1,2)))","v":1},{"$f":"IF($O41=\"Sunpower Corp.\",3,(IF(OR($Q41=\"mono\",$Q41=\"poly\",$Q41=\"HIT\",$Q41=\"EFG\",$Q41=\"mono-LGBC\"),1,IF(OR($Q41=\"µc-Si / a-Si\",$Q41=\"a-Si (single)\",$Q41=\"a-Si (tandem)\",$Q41=\"a-Si (triple)\"),3,2))))","v":1},0,null,null,26503,null,null,39]
["a2peak power Co., Ltd PEAK ON P3-235-60 (235)","a2peak power Co., Ltd ","PEAK ON P3-235-60 (235)",235,"+3...-3",30.19,7.87,37.21,8.48,-126.51400000000001,4.5792000000000002,-0.42,1000,"Taiwan (Formosa)",null,14.431610107421875,"poly",60,"square",1630,999,40,"aluminum","junction box MC",19.600000000000001,"www.a2peak.com.tw","-","-","-","-","-",{"$f":"IF($O42=\"Sunpower Corp.\",3,(IF(OR($Q42=\"mono\",$Q42=\"poly\",$Q42=\"HIT\",$Q42=\"EFG\",$Q42=\"mono-LGBC\"),1,IF(OR($Q42=\"µc-Si / a-Si\",$Q42=\"a-Si (single)\",$Q42=\"a-Si (tandem)\",$Q42=\"a-Si (triple)\"),3,2))))","v":1},{"$f":"IF($O42=\"Sunpower Corp.\",3,(IF(OR($Q42=\"mono\",$Q42=\"poly\",$Q42=\"HIT\",$Q42=\"EFG\",$Q42=\"mono-LGBC\"),1,2)))","v":1},{"$f":"IF($O42=\"Sunpower Corp.\",3,(IF(OR($Q42=\"mono\",$Q42=\"poly\",$Q42=\"HIT\",$Q42=\"EFG\",$Q42=\"mono-LGBC\"),1,IF(OR($Q42=\"µc-Si / a-Si\",$Q42=\"a-Si (single)\",$Q42=\"a-Si (tandem)\",$Q42=\"a-Si (triple)\"),3,2))))","v":1},0,null,null,26504,null,null,40]
["a2peak power Co., Ltd PEAK ON P3-235-60 (240)","a2peak power Co., Ltd ","PEAK ON P3-235-60 (240)",240,"+3...-3",30.67,7.91,37.43,8.59,-127.26200000000001,4.6385999999999994,-0.42,1000,"Taiwan (Formosa)",null,14.738659858703613,"poly",60,"square",1630,999,40,"aluminum","junction box MC",19.600000000000001,"www.a2peak.com.tw","-","-","-","-","-",{"$f":"IF($O43=\"Sunpower Corp.\",3,(IF(OR($Q43=\"mono\",$Q43=\"poly\",$Q43=\"HIT\",$Q43=\"EFG\",$Q43=\"mono-LGBC\"),1,IF(OR($Q43=\"µc-Si / a-Si\",$Q43=\"a-Si (single)\",$Q43=\"a-Si (tandem)\",$Q43=\"a-Si (triple)\"),3,2))))","v":1},{"$f":"IF($O43=\"Sunpower Corp.\",3,(IF(OR($Q43=\"mono\",$Q43=\"poly\",$Q43=\"HIT\",$Q43=\"EFG\",$Q43=\"mono-LGBC\"),1,2)))","v":1},{"$f":"IF($O43=\"Sunpower Corp.\",3,(IF(OR($Q43=\"mono\",$Q43=\"poly\",$Q43=\"HIT\",$Q43=\"EFG\",$Q43=\"mono-LGBC\"),1,IF(OR($Q43=\"µc-Si / a-Si\",$Q43=\"a-Si (single)\",$Q43=\"a-Si (tandem)\",$Q43=\"a-Si (triple)\"),3,2))))","v":1},0,null,null,26505,null,null,41]
["a2peak power Co., Ltd PEAK ON P3-235-60 (245)","a2peak power Co., Ltd ","PEAK ON P3-235-60 (245)",245,"+3...-3",31.02,7.98,37.51,8.74,-127.53400000000001,4.7195999999999998,-0.42,1000,"Taiwan (Formosa)",null,15.045720100402832,"poly",60,"square",1630,999,40,"aluminum","junction box MC",19.600000000000001,"www.a2peak.com.tw","-","-","-","-","-",{"$f":"IF($O44=\"Sunpower Corp.\",3,(IF(OR($Q44=\"mono\",$Q44=\"poly\",$Q44=\"HIT\",$Q44=\"EFG\",$Q44=\"mono-LGBC\"),1,IF(OR($Q44=\"µc-Si / a-Si\",$Q44=\"a-Si (single)\",$Q44=\"a-Si (tandem)\",$Q44=\"a-Si (triple)\"),3,2))))","v":1},{"$f":"IF($O44=\"Sunpower Corp.\",3,(IF(OR($Q44=\"mono\",$Q44=\"poly\",$Q44=\"HIT\",$Q44=\"EFG\",$Q44=\"mono-LGBC\"),1,2)))","v":1},{"$f":"IF($O44=\"Sunpower Corp.\",3,(IF(OR($Q44=\"mono\",$Q44=\"poly\",$Q44=\"HIT\",$Q44=\"EFG\",$Q44=\"mono-LGBC\"),1,IF(OR($Q44=\"µc-Si / a-Si\",$Q44=\"a-Si (single)\",$Q44=\"a-Si (tandem)\",$Q44=\"a-Si (triple)\"),3,2))))","v":1},0,null,null,26506,null,null,42]
["a2peak power Co., Ltd PEAK ON P3-235-60 (250)","a2peak power Co., Ltd ","PEAK ON P3-235-60 (250)",250,"+3...-3",31.49,8.02,37.78,8.85,-128.452,4.7789999999999999,-0.42,1000,"Taiwan (Formosa)",null,15.352780342102051,"poly",60,"square",1630,999,40,"aluminum","junction box MC",19.600000000000001,"www.a2peak.com.tw","-","-","-","-","-",{"$f":"IF($O45=\"Sunpower Corp.\",3,(IF(OR($Q45=\"mono\",$Q45=\"poly\",$Q45=\"HIT\",$Q45=\"EFG\",$Q45=\"mono-LGBC\"),1,IF(OR($Q45=\"µc-Si / a-Si\",$Q45=\"a-Si (single)\",$Q45=\"a-Si (tandem)\",$Q45=\"a-Si (triple)\"),3,2))))","v":1},{"$f":"IF($O45=\"Sunpower Corp.\",3,(IF(OR($Q45=\"mono\",$Q45=\"poly\",$Q45=\"HIT\",$Q45=\"EFG\",$Q45=\"mono-LGBC\"),1,2)))","v":1},{"$f":"IF($O45=\"Sunpower Corp.\",3,(IF(OR($Q45=\"mono\",$Q45=\"poly\",$Q45=\"HIT\",$Q45=\"EFG\",$Q45=\"mono-LGBC\"),1,IF(OR($Q45=\"µc-Si / a-Si\",$Q45=\"a-Si (single)\",$Q45=\"a-Si (tandem)\",$Q45=\"a-Si (triple)\"),3,2))))","v":1},0,null,null,26507,null,null,43]
["a2peak power Co., Ltd PEAK ON P3-275-72 (265)","a2peak power Co., Ltd ","PEAK ON P3-275-72 (265)",265,"+3...-3",35.29,7.58,43.61,8.19,-148.27400000000003,4.4225999999999992,-0.42,1000,"Taiwan (Formosa)",null,13.624309539794922,"poly",72,"square",1947,999,40,"aluminum","junction box MC",23,"www.a2peak.com.tw","-","-","-","-","-",{"$f":"IF($O46=\"Sunpower Corp.\",3,(IF(OR($Q46=\"mono\",$Q46=\"poly\",$Q46=\"HIT\",$Q46=\"EFG\",$Q46=\"mono-LGBC\"),1,IF(OR($Q46=\"µc-Si / a-Si\",$Q46=\"a-Si (single)\",$Q46=\"a-Si (tandem)\",$Q46=\"a-Si (triple)\"),3,2))))","v":1},{"$f":"IF($O46=\"Sunpower Corp.\",3,(IF(OR($Q46=\"mono\",$Q46=\"poly\",$Q46=\"HIT\",$Q46=\"EFG\",$Q46=\"mono-LGBC\"),1,2)))","v":1},{"$f":"IF($O46=\"Sunpower Corp.\",3,(IF(OR($Q46=\"mono\",$Q46=\"poly\",$Q46=\"HIT\",$Q46=\"EFG\",$Q46=\"mono-LGBC\"),1,IF(OR($Q46=\"µc-Si / a-Si\",$Q46=\"a-Si (single)\",$Q46=\"a-Si (tandem)\",$Q46=\"a-Si (triple)\"),3,2))))","v":1},0,null,null,26508,null,null,44]
["a2peak power Co., Ltd PEAK ON P3-275-72 (270)","a2peak power Co., Ltd ","PEAK ON P3-275-72 (270)",270,"+3...-3",35.44,7.69,43.72,8.31,-148.648,4.4874000000000001,-0.42,1000,"Taiwan (Formosa)",null,13.881369590759277,"poly",72,"square",1947,999,40,"aluminum","junction box MC",23,"www.a2peak.com.tw","-","-","-","-","-",{"$f":"IF($O47=\"Sunpower Corp.\",3,(IF(OR($Q47=\"mono\",$Q47=\"poly\",$Q47=\"HIT\",$Q47=\"EFG\",$Q47=\"mono-LGBC\"),1,IF(OR($Q47=\"µc-Si / a-Si\",$Q47=\"a-Si (single)\",$Q47=\"a-Si (tandem)\",$Q47=\"a-Si (triple)\"),3,2))))","v":1},{"$f":"IF($O47=\"Sunpower Corp.\",3,(IF(OR($Q47=\"mono\",$Q47=\"poly\",$Q47=\"HIT\",$Q47=\"EFG\",$Q47=\"mono-LGBC\"),1,2)))","v":1},{"$f":"IF($O47=\"Sunpower Corp.\",3,(IF(OR($Q47=\"mono\",$Q47=\"poly\",$Q47=\"HIT\",$Q47=\"EFG\",$Q47=\"mono-LGBC\"),1,IF(OR($Q47=\"µc-Si / a-Si\",$Q47=\"a-Si (single)\",$Q47=\"a-Si (tandem)\",$Q47=\"a-Si (triple)\"),3,2))))","v":1},0,null,null,26509,null,null,45]
["a2peak power Co., Ltd PEAK ON P3-275-72 (275)","a2peak power Co., Ltd ","PEAK ON P3-275-72 (275)",275,"+3...-3",35.58,7.8,43.97,8.39,-149.49800000000002,4.5305999999999997,-0.42,1000,"Taiwan (Formosa)",null,14.138429641723633,"poly",72,"square",1947,999,40,"aluminum","junction box MC",23,"www.a2peak.com.tw","-","-","-","-","-",{"$f":"IF($O48=\"Sunpower Corp.\",3,(IF(OR($Q48=\"mono\",$Q48=\"poly\",$Q48=\"HIT\",$Q48=\"EFG\",$Q48=\"mono-LGBC\"),1,IF(OR($Q48=\"µc-Si / a-Si\",$Q48=\"a-Si (single)\",$Q48=\"a-Si (tandem)\",$Q48=\"a-Si (triple)\"),3,2))))","v":1},{"$f":"IF($O48=\"Sunpower Corp.\",3,(IF(OR($Q48=\"mono\",$Q48=\"poly\",$Q48=\"HIT\",$Q48=\"EFG\",$Q48=\"mono-LGBC\"),1,2)))","v":1},{"$f":"IF($O48=\"Sunpower Corp.\",3,(IF(OR($Q48=\"mono\",$Q48=\"poly\",$Q48=\"HIT\",$Q48=\"EFG\",$Q48=\"mono-LGBC\"),1,IF(OR($Q48=\"µc-Si / a-Si\",$Q48=\"a-Si (single)\",$Q48=\"a-Si (tandem)\",$Q48=\"a-Si (triple)\"),3,2))))","v":1},0,null,null,26510,null,null,46]
["a2peak power Co., Ltd PEAK ON P3-275-72 (280)","a2peak power Co., Ltd ","PEAK ON P3-275-72 (280)",280,"+3...-3",35.9,7.87,44.04,8.48,-149.73600000000002,4.5792000000000002,-0.42,1000,"Taiwan (Formosa)",null,14.395489692687988,"poly",72,"square",1947,999,40,"aluminum","junction box MC",23,"www.a2peak.com.tw","-","-","-","-","-",{"$f":"IF($O49=\"Sunpower Corp.\",3,(IF(OR($Q49=\"mono\",$Q49=\"poly\",$Q49=\"HIT\",$Q49=\"EFG\",$Q49=\"mono-LGBC\"),1,IF(OR($Q49=\"µc-Si / a-Si\",$Q49=\"a-Si (single)\",$Q49=\"a-Si (tandem)\",$Q49=\"a-Si (triple)\"),3,2))))","v":1},{"$f":"IF($O49=\"Sunpower Corp.\",3,(IF(OR($Q49=\"mono\",$Q49=\"poly\",$Q49=\"HIT\",$Q49=\"EFG\",$Q49=\"mono-LGBC\"),1,2)))","v":1},{"$f":"IF($O49=\"Sunpower Corp.\",3,(IF(OR($Q49=\"mono\",$Q49=\"poly\",$Q49=\"HIT\",$Q49=\"EFG\",$Q49=\"mono-LGBC\"),1,IF(OR($Q49=\"µc-Si / a-Si\",$Q49=\"a-Si (single)\",$Q49=\"a-Si (tandem)\",$Q49=\"a-Si (triple)\"),3,2))))","v":1},0,null,null,26511,null,null,47]
["a2peak power Co., Ltd PEAK ON P3-275-72 (285)","a2peak power Co., Ltd ","PEAK ON P3-275-72 (285)",285,"+3...-3",36.35,7.91,44.17,8.59,-150.178,4.6385999999999994,-0.42,1000,"Taiwan (Formosa)",null,14.652560234069824,"poly",72,"square",1947,999,40,"aluminum","junction box MC",23,"www.a2peak.com.tw","-","-","-","-","-",{"$f":"IF($O50=\"Sunpower Corp.\",3,(IF(OR($Q50=\"mono\",$Q50=\"poly\",$Q50=\"HIT\",$Q50=\"EFG\",$Q50=\"mono-LGBC\"),1,IF(OR($Q50=\"µc-Si / a-Si\",$Q50=\"a-Si (single)\",$Q50=\"a-Si (tandem)\",$Q50=\"a-Si (triple)\"),3,2))))","v":1},{"$f":"IF($O50=\"Sunpower Corp.\",3,(IF(OR($Q50=\"mono\",$Q50=\"poly\",$Q50=\"HIT\",$Q50=\"EFG\",$Q50=\"mono-LGBC\"),1,2)))","v":1},{"$f":"IF($O50=\"Sunpower Corp.\",3,(IF(OR($Q50=\"mono\",$Q50=\"poly\",$Q50=\"HIT\",$Q50=\"EFG\",$Q50=\"mono-LGBC\"),1,IF(OR($Q50=\"µc-Si / a-Si\",$Q50=\"a-Si (single)\",$Q50=\"a-Si (tandem)\",$Q50=\"a-Si (triple)\"),3,2))))","v":1},0,null,null,26512,null,null,48]
["a2peak power Co., Ltd PEAK ON P3-275-72 (290)","a2peak power Co., Ltd ","PEAK ON P3-275-72 (290)",290,"+3...-3",36.659999999999997,7.98,44.1,8.74,-149.94,4.7195999999999998,-0.42,1000,"Taiwan (Formosa)",null,14.90962028503418,"poly",72,"square",1947,999,40,"aluminum","junction box MC",23,"www.a2peak.com.tw","-","-","-","-","-",{"$f":"IF($O51=\"Sunpower Corp.\",3,(IF(OR($Q51=\"mono\",$Q51=\"poly\",$Q51=\"HIT\",$Q51=\"EFG\",$Q51=\"mono-LGBC\"),1,IF(OR($Q51=\"µc-Si / a-Si\",$Q51=\"a-Si (single)\",$Q51=\"a-Si (tandem)\",$Q51=\"a-Si (triple)\"),3,2))))","v":1},{"$f":"IF($O51=\"Sunpower Corp.\",3,(IF(OR($Q51=\"mono\",$Q51=\"poly\",$Q51=\"HIT\",$Q51=\"EFG\",$Q51=\"mono-LGBC\"),1,2)))","v":1},{"$f":"IF($O51=\"Sunpower Corp.\",3,(IF(OR($Q51=\"mono\",$Q51=\"poly\",$Q51=\"HIT\",$Q51=\"EFG\",$Q51=\"mono-LGBC\"),1,IF(OR($Q51=\"µc-Si / a-Si\",$Q51=\"a-Si (single)\",$Q51=\"a-Si (tandem)\",$Q51=\"a-Si (triple)\"),3,2))))","v":1},0,null,null,26513,null,null,49]
["Aavid Thermalloy ASMC-150M","Aavid Thermalloy ","ASMC-150M",150,"+5...-5",33.200000000000003,4.5,43.5,5.0999999999999996,-160.94999999999999,5.0999999999999996,-0.45,1000,null,null,11.749589920043945,"mono",72,"pseudo-square",1580,808,45,"aluminum","junction box",15.5,"www.aavid.com/solar","-","-","-","-","-",{"$f":"IF($O52=\"Sunpower Corp.\",3,(IF(OR($Q52=\"mono\",$Q52=\"poly\",$Q52=\"HIT\",$Q52=\"EFG\",$Q52=\"mono-LGBC\"),1,IF(OR($Q52=\"µc-Si / a-Si\",$Q52=\"a-Si (single)\",$Q52=\"a-Si (tandem)\",$Q52=\"a-Si (triple)\"),3,2))))","v":1},{"$f":"IF($O52=\"Sunpower Corp.\",3,(IF(OR($Q52=\"mono\",$Q52=\"poly\",$Q52=\"HIT\",$Q52=\"EFG\",$Q52=\"mono-LGBC\"),1,2)))","v":1},{"$f":"IF($O52=\"Sunpower Corp.\",3,(IF(OR($Q52=\"mono\",$Q52=\"poly\",$Q52=\"HIT\",$Q52=\"EFG\",$Q52=\"mono-LGBC\"),1,IF(OR($Q52=\"µc-Si / a-Si\",$Q52=\"a-Si (single)\",$Q52=\"a-Si (tandem)\",$Q52=\"a-Si (triple)\"),3,2))))","v":1},0,null,null,9758,null,null,50]
["Aavid Thermalloy ASMC-175M","Aavid Thermalloy ","ASMC-175M",175,"+5...-5",34.799999999999997,5,44.6,5.5,-165.02,5.5,-0.45,1000,null,null,13.707859992980957,"mono",72,"pseudo-square",1580,808,45,"aluminum","junction box",15.5,"www.aavid.com/solar","-","-","-","-","-",{"$f":"IF($O53=\"Sunpower Corp.\",3,(IF(OR($Q53=\"mono\",$Q53=\"poly\",$Q53=\"HIT\",$Q53=\"EFG\",$Q53=\"mono-LGBC\"),1,IF(OR($Q53=\"µc-Si / a-Si\",$Q53=\"a-Si (single)\",$Q53=\"a-Si (tandem)\",$Q53=\"a-Si (triple)\"),3,2))))","v":1},{"$f":"IF($O53=\"Sunpower Corp.\",3,(IF(OR($Q53=\"mono\",$Q53=\"poly\",$Q53=\"HIT\",$Q53=\"EFG\",$Q53=\"mono-LGBC\"),1,2)))","v":1},{"$f":"IF($O53=\"Sunpower Corp.\",3,(IF(OR($Q53=\"mono\",$Q53=\"poly\",$Q53=\"HIT\",$Q53=\"EFG\",$Q53=\"mono-LGBC\"),1,IF(OR($Q53=\"µc-Si / a-Si\",$Q53=\"a-Si (single)\",$Q53=\"a-Si (tandem)\",$Q53=\"a-Si (triple)\"),3,2))))","v":1},0,null,null,9759,null,null,51]
["Aavid Thermalloy ASMC-180M","Aavid Thermalloy ","ASMC-180M",180,"+5...-5",35.1,5.0999999999999996,44.8,5.5,-165.76,5.5,-0.45,1000,null,null,14.099510192871094,"mono",72,"pseudo-square",1580,808,45,"aluminum","junction box",15.5,"www.aavid.com/solar","-","-","-","-","-",{"$f":"IF($O54=\"Sunpower Corp.\",3,(IF(OR($Q54=\"mono\",$Q54=\"poly\",$Q54=\"HIT\",$Q54=\"EFG\",$Q54=\"mono-LGBC\"),1,IF(OR($Q54=\"µc-Si / a-Si\",$Q54=\"a-Si (single)\",$Q54=\"a-Si (tandem)\",$Q54=\"a-Si (triple)\"),3,2))))","v":1},{"$f":"IF($O54=\"Sunpower Corp.\",3,(IF(OR($Q54=\"mono\",$Q54=\"poly\",$Q54=\"HIT\",$Q54=\"EFG\",$Q54=\"mono-LGBC\"),1,2)))","v":1},{"$f":"IF($O54=\"Sunpower Corp.\",3,(IF(OR($Q54=\"mono\",$Q54=\"poly\",$Q54=\"HIT\",$Q54=\"EFG\",$Q54=\"mono-LGBC\"),1,IF(OR($Q54=\"µc-Si / a-Si\",$Q54=\"a-Si (single)\",$Q54=\"a-Si (tandem)\",$Q54=\"a-Si (triple)\"),3,2))))","v":1},0,null,null,9760,null,null,52]
["Aavid Thermalloy ASMC-190M","Aavid Thermalloy ","ASMC-190M",190,"+5...-5",35.799999999999997,5.3,45.2,5.7,-167.24,5.7,-0.45,1000,null,null,14.882820129394531,"mono",72,"pseudo-square",1580,808,45,"aluminum","junction box",15.5,"www.aavid.com/solar","-","-","-","-","-",{"$f":"IF($O55=\"Sunpower Corp.\",3,(IF(OR($Q55=\"mono\",$Q55=\"poly\",$Q55=\"HIT\",$Q55=\"EFG\",$Q55=\"mono-LGBC\"),1,IF(OR($Q55=\"µc-Si / a-Si\",$Q55=\"a-Si (single)\",$Q55=\"a-Si (tandem)\",$Q55=\"a-Si (triple)\"),3,2))))","v":1},{"$f":"IF($O55=\"Sunpower Corp.\",3,(IF(OR($Q55=\"mono\",$Q55=\"poly\",$Q55=\"HIT\",$Q55=\"EFG\",$Q55=\"mono-LGBC\"),1,2)))","v":1},{"$f":"IF($O55=\"Sunpower Corp.\",3,(IF(OR($Q55=\"mono\",$Q55=\"poly\",$Q55=\"HIT\",$Q55=\"EFG\",$Q55=\"mono-LGBC\"),1,IF(OR($Q55=\"µc-Si / a-Si\",$Q55=\"a-Si (single)\",$Q55=\"a-Si (tandem)\",$Q55=\"a-Si (triple)\"),3,2))))","v":1},0,null,null,9761,null,null,53]
["Aavid Thermalloy ASMS-180C","Aavid Thermalloy ","ASMS-180C",180,"+5...-5",36,5,44,5.6,-145.19999999999999,4.4800000000000004,-0.47,1000,null,null,13.836039543151855,"mono",60,"pseudo-square",1575,826,46,"aluminum","junction box",16.3,"www.aavidsolar.com","-","-","-","-","-",{"$f":"IF($O56=\"Sunpower Corp.\",3,(IF(OR($Q56=\"mono\",$Q56=\"poly\",$Q56=\"HIT\",$Q56=\"EFG\",$Q56=\"mono-LGBC\"),1,IF(OR($Q56=\"µc-Si / a-Si\",$Q56=\"a-Si (single)\",$Q56=\"a-Si (tandem)\",$Q56=\"a-Si (triple)\"),3,2))))","v":1},{"$f":"IF($O56=\"Sunpower Corp.\",3,(IF(OR($Q56=\"mono\",$Q56=\"poly\",$Q56=\"HIT\",$Q56=\"EFG\",$Q56=\"mono-LGBC\"),1,2)))","v":1},{"$f":"IF($O56=\"Sunpower Corp.\",3,(IF(OR($Q56=\"mono\",$Q56=\"poly\",$Q56=\"HIT\",$Q56=\"EFG\",$Q56=\"mono-LGBC\"),1,IF(OR($Q56=\"µc-Si / a-Si\",$Q56=\"a-Si (single)\",$Q56=\"a-Si (tandem)\",$Q56=\"a-Si (triple)\"),3,2))))","v":1},0,null,null,16542,null,null,54]
["abakus Solar AG P220-60 (210W)","abakus Solar AG ","P220-60 (210W)",210,"+3...-3",29.11,7.31,36.74,8.09,-124.91600000000001,4.3686000000000007,-0.42,1000,"Taiwan (Formosa)",null,12.597479820251465,"poly",60,"square",1667,1000,40,"aluminum","junction box MC4",23,"www.abakus-solar.de","-","-","-","-","-",{"$f":"IF($O57=\"Sunpower Corp.\",3,(IF(OR($Q57=\"mono\",$Q57=\"poly\",$Q57=\"HIT\",$Q57=\"EFG\",$Q57=\"mono-LGBC\"),1,IF(OR($Q57=\"µc-Si / a-Si\",$Q57=\"a-Si (single)\",$Q57=\"a-Si (tandem)\",$Q57=\"a-Si (triple)\"),3,2))))","v":1},{"$f":"IF($O57=\"Sunpower Corp.\",3,(IF(OR($Q57=\"mono\",$Q57=\"poly\",$Q57=\"HIT\",$Q57=\"EFG\",$Q57=\"mono-LGBC\"),1,2)))","v":1},{"$f":"IF($O57=\"Sunpower Corp.\",3,(IF(OR($Q57=\"mono\",$Q57=\"poly\",$Q57=\"HIT\",$Q57=\"EFG\",$Q57=\"mono-LGBC\"),1,IF(OR($Q57=\"µc-Si / a-Si\",$Q57=\"a-Si (single)\",$Q57=\"a-Si (tandem)\",$Q57=\"a-Si (triple)\"),3,2))))","v":1},0,null,null,22433,null,null,55]
["abakus Solar AG P220-60 (215W)","abakus Solar AG ","P220-60 (215W)",215,"+3...-3",29.17,7.46,36.76,8.17,-124.98399999999999,4.4118000000000004,-0.42,1000,"Taiwan (Formosa)",null,12.897419929504395,"poly",60,"square",1667,1000,40,"aluminum","junction box MC4",23,"www.abakus-solar.de","-","-","-","-","-",{"$f":"IF($O58=\"Sunpower Corp.\",3,(IF(OR($Q58=\"mono\",$Q58=\"poly\",$Q58=\"HIT\",$Q58=\"EFG\",$Q58=\"mono-LGBC\"),1,IF(OR($Q58=\"µc-Si / a-Si\",$Q58=\"a-Si (single)\",$Q58=\"a-Si (tandem)\",$Q58=\"a-Si (triple)\"),3,2))))","v":1},{"$f":"IF($O58=\"Sunpower Corp.\",3,(IF(OR($Q58=\"mono\",$Q58=\"poly\",$Q58=\"HIT\",$Q58=\"EFG\",$Q58=\"mono-LGBC\"),1,2)))","v":1},{"$f":"IF($O58=\"Sunpower Corp.\",3,(IF(OR($Q58=\"mono\",$Q58=\"poly\",$Q58=\"HIT\",$Q58=\"EFG\",$Q58=\"mono-LGBC\"),1,IF(OR($Q58=\"µc-Si / a-Si\",$Q58=\"a-Si (single)\",$Q58=\"a-Si (tandem)\",$Q58=\"a-Si (triple)\"),3,2))))","v":1},0,null,null,22434,null,null,56]
["abakus Solar AG P220-60 (220W)","abakus Solar AG ","P220-60 (220W)",220,"+3...-3",29.24,7.61,36.770000000000003,8.2200000000000006,-125.01800000000001,4.4388000000000005,-0.42,1000,"Taiwan (Formosa)",null,13.197360038757324,"poly",60,"square",1667,1000,40,"aluminum","junction box MC4",23,"www.abakus-solar.de","-","-","-","-","-",{"$f":"IF($O59=\"Sunpower Corp.\",3,(IF(OR($Q59=\"mono\",$Q59=\"poly\",$Q59=\"HIT\",$Q59=\"EFG\",$Q59=\"mono-LGBC\"),1,IF(OR($Q59=\"µc-Si / a-Si\",$Q59=\"a-Si (single)\",$Q59=\"a-Si (tandem)\",$Q59=\"a-Si (triple)\"),3,2))))","v":1},{"$f":"IF($O59=\"Sunpower Corp.\",3,(IF(OR($Q59=\"mono\",$Q59=\"poly\",$Q59=\"HIT\",$Q59=\"EFG\",$Q59=\"mono-LGBC\"),1,2)))","v":1},{"$f":"IF($O59=\"Sunpower Corp.\",3,(IF(OR($Q59=\"mono\",$Q59=\"poly\",$Q59=\"HIT\",$Q59=\"EFG\",$Q59=\"mono-LGBC\"),1,IF(OR($Q59=\"µc-Si / a-Si\",$Q59=\"a-Si (single)\",$Q59=\"a-Si (tandem)\",$Q59=\"a-Si (triple)\"),3,2))))","v":1},0,null,null,22435,null,null,57]
["abakus Solar AG P220-60 (225W)","abakus Solar AG ","P220-60 (225W)",225,"+3...-3",29.38,7.75,36.79,8.34,-125.086,4.5035999999999996,-0.42,1000,"Taiwan (Formosa)",null,13.497300148010254,"poly",60,"square",1667,1000,40,"aluminum","junction box MC4",23,"www.abakus-solar.de","-","-","-","-","-",{"$f":"IF($O60=\"Sunpower Corp.\",3,(IF(OR($Q60=\"mono\",$Q60=\"poly\",$Q60=\"HIT\",$Q60=\"EFG\",$Q60=\"mono-LGBC\"),1,IF(OR($Q60=\"µc-Si / a-Si\",$Q60=\"a-Si (single)\",$Q60=\"a-Si (tandem)\",$Q60=\"a-Si (triple)\"),3,2))))","v":1},{"$f":"IF($O60=\"Sunpower Corp.\",3,(IF(OR($Q60=\"mono\",$Q60=\"poly\",$Q60=\"HIT\",$Q60=\"EFG\",$Q60=\"mono-LGBC\"),1,2)))","v":1},{"$f":"IF($O60=\"Sunpower Corp.\",3,(IF(OR($Q60=\"mono\",$Q60=\"poly\",$Q60=\"HIT\",$Q60=\"EFG\",$Q60=\"mono-LGBC\"),1,IF(OR($Q60=\"µc-Si / a-Si\",$Q60=\"a-Si (single)\",$Q60=\"a-Si (tandem)\",$Q60=\"a-Si (triple)\"),3,2))))","v":1},0,null,null,22436,null,null,58]
["abakus Solar AG P220-60 (230W)","abakus Solar AG ","P220-60 (230W)",230,"+3...-3",29.61,7.86,36.97,8.3699999999999992,-125.69800000000001,4.5198,-0.42,1000,"Taiwan (Formosa)",null,13.797240257263184,"poly",60,"square",1667,1000,40,"aluminum","junction box MC4",23,"www.abakus-solar.de","-","-","-","-","-",{"$f":"IF($O61=\"Sunpower Corp.\",3,(IF(OR($Q61=\"mono\",$Q61=\"poly\",$Q61=\"HIT\",$Q61=\"EFG\",$Q61=\"mono-LGBC\"),1,IF(OR($Q61=\"µc-Si / a-Si\",$Q61=\"a-Si (single)\",$Q61=\"a-Si (tandem)\",$Q61=\"a-Si (triple)\"),3,2))))","v":1},{"$f":"IF($O61=\"Sunpower Corp.\",3,(IF(OR($Q61=\"mono\",$Q61=\"poly\",$Q61=\"HIT\",$Q61=\"EFG\",$Q61=\"mono-LGBC\"),1,2)))","v":1},{"$f":"IF($O61=\"Sunpower Corp.\",3,(IF(OR($Q61=\"mono\",$Q61=\"poly\",$Q61=\"HIT\",$Q61=\"EFG\",$Q61=\"mono-LGBC\"),1,IF(OR($Q61=\"µc-Si / a-Si\",$Q61=\"a-Si (single)\",$Q61=\"a-Si (tandem)\",$Q61=\"a-Si (triple)\"),3,2))))","v":1},0,null,null,22437,null,null,59]
["abakus Solar AG P220-60 (235W)","abakus Solar AG ","P220-60 (235W)",235,"+3...-3",29.92,7.94,37.200000000000003,8.39,-126.48,4.5305999999999997,-0.42,1000,"Taiwan (Formosa)",null,14.097180366516113,"poly",60,"square",1667,1000,40,"aluminum","junction box MC4",23,"www.abakus-solar.de","-","-","-","-","-",{"$f":"IF($O62=\"Sunpower Corp.\",3,(IF(OR($Q62=\"mono\",$Q62=\"poly\",$Q62=\"HIT\",$Q62=\"EFG\",$Q62=\"mono-LGBC\"),1,IF(OR($Q62=\"µc-Si / a-Si\",$Q62=\"a-Si (single)\",$Q62=\"a-Si (tandem)\",$Q62=\"a-Si (triple)\"),3,2))))","v":1},{"$f":"IF($O62=\"Sunpower Corp.\",3,(IF(OR($Q62=\"mono\",$Q62=\"poly\",$Q62=\"HIT\",$Q62=\"EFG\",$Q62=\"mono-LGBC\"),1,2)))","v":1},{"$f":"IF($O62=\"Sunpower Corp.\",3,(IF(OR($Q62=\"mono\",$Q62=\"poly\",$Q62=\"HIT\",$Q62=\"EFG\",$Q62=\"mono-LGBC\"),1,IF(OR($Q62=\"µc-Si / a-Si\",$Q62=\"a-Si (single)\",$Q62=\"a-Si (tandem)\",$Q62=\"a-Si (triple)\"),3,2))))","v":1},0,null,null,22438,null,null,60]
["abakus Solar AG P220-60 (240W)","abakus Solar AG ","P220-60 (240W)",240,"+3...-3",30.21,8.0299999999999994,37.42,8.41,-127.22800000000001,4.5414000000000003,-0.42,1000,"Taiwan (Formosa)",null,14.397120475769043,"poly",60,"square",1667,1000,40,"aluminum","junction box MC4",23,"www.abakus-solar.de","-","-","-","-","-",{"$f":"IF($O63=\"Sunpower Corp.\",3,(IF(OR($Q63=\"mono\",$Q63=\"poly\",$Q63=\"HIT\",$Q63=\"EFG\",$Q63=\"mono-LGBC\"),1,IF(OR($Q63=\"µc-Si / a-Si\",$Q63=\"a-Si (single)\",$Q63=\"a-Si (tandem)\",$Q63=\"a-Si (triple)\"),3,2))))","v":1},{"$f":"IF($O63=\"Sunpower Corp.\",3,(IF(OR($Q63=\"mono\",$Q63=\"poly\",$Q63=\"HIT\",$Q63=\"EFG\",$Q63=\"mono-LGBC\"),1,2)))","v":1},{"$f":"IF($O63=\"Sunpower Corp.\",3,(IF(OR($Q63=\"mono\",$Q63=\"poly\",$Q63=\"HIT\",$Q63=\"EFG\",$Q63=\"mono-LGBC\"),1,IF(OR($Q63=\"µc-Si / a-Si\",$Q63=\"a-Si (single)\",$Q63=\"a-Si (tandem)\",$Q63=\"a-Si (triple)\"),3,2))))","v":1},0,null,null,22439,null,null,61]
["abakus Solar AG Peak On M240-60 Black (230W)","abakus Solar AG ","Peak On M240-60 Black (230W)",230,"+2,17...0",29.39,7.92,36.54,8.58,-124.236,4.6332000000000004,-0.42,1000,"Taiwan (Formosa)",null,14.110429763793945,"mono",60,"pseudo-square",1630,1000,40,"aluminum","junction box",19.600000000000001,null,"-","-","-","-","-",{"$f":"IF($O64=\"Sunpower Corp.\",3,(IF(OR($Q64=\"mono\",$Q64=\"poly\",$Q64=\"HIT\",$Q64=\"EFG\",$Q64=\"mono-LGBC\"),1,IF(OR($Q64=\"µc-Si / a-Si\",$Q64=\"a-Si (single)\",$Q64=\"a-Si (tandem)\",$Q64=\"a-Si (triple)\"),3,2))))","v":1},{"$f":"IF($O64=\"Sunpower Corp.\",3,(IF(OR($Q64=\"mono\",$Q64=\"poly\",$Q64=\"HIT\",$Q64=\"EFG\",$Q64=\"mono-LGBC\"),1,2)))","v":1},{"$f":"IF($O64=\"Sunpower Corp.\",3,(IF(OR($Q64=\"mono\",$Q64=\"poly\",$Q64=\"HIT\",$Q64=\"EFG\",$Q64=\"mono-LGBC\"),1,IF(OR($Q64=\"µc-Si / a-Si\",$Q64=\"a-Si (single)\",$Q64=\"a-Si (tandem)\",$Q64=\"a-Si (triple)\"),3,2))))","v":1},0,null,null,31432,null,null,62]
["abakus Solar AG Peak On M240-60 Black (235W)","abakus Solar AG ","Peak On M240-60 Black (235W)",235,"+2,13...0",29.61,8.02,36.9,8.66,-125.46,4.6764000000000001,-0.42,1000,"Taiwan (Formosa)",null,14.417180061340332,"mono",60,"pseudo-square",1630,1000,40,"aluminum","junction box",19.600000000000001,null,"-","-","-","-","-",{"$f":"IF($O65=\"Sunpower Corp.\",3,(IF(OR($Q65=\"mono\",$Q65=\"poly\",$Q65=\"HIT\",$Q65=\"EFG\",$Q65=\"mono-LGBC\"),1,IF(OR($Q65=\"µc-Si / a-Si\",$Q65=\"a-Si (single)\",$Q65=\"a-Si (tandem)\",$Q65=\"a-Si (triple)\"),3,2))))","v":1},{"$f":"IF($O65=\"Sunpower Corp.\",3,(IF(OR($Q65=\"mono\",$Q65=\"poly\",$Q65=\"HIT\",$Q65=\"EFG\",$Q65=\"mono-LGBC\"),1,2)))","v":1},{"$f":"IF($O65=\"Sunpower Corp.\",3,(IF(OR($Q65=\"mono\",$Q65=\"poly\",$Q65=\"HIT\",$Q65=\"EFG\",$Q65=\"mono-LGBC\"),1,IF(OR($Q65=\"µc-Si / a-Si\",$Q65=\"a-Si (single)\",$Q65=\"a-Si (tandem)\",$Q65=\"a-Si (triple)\"),3,2))))","v":1},0,null,null,31433,null,null,63]
["abakus Solar AG Peak On M240-60 Black (240W)","abakus Solar AG ","Peak On M240-60 Black (240W)",240,"+2,08...0",29.92,8.11,37.26,8.74,-126.684,4.7195999999999998,-0.42,1000,"Taiwan (Formosa)",null,14.723930358886719,"mono",60,"pseudo-square",1630,1000,40,"aluminum","junction box",19.600000000000001,null,"-","-","-","-","-",{"$f":"IF($O66=\"Sunpower Corp.\",3,(IF(OR($Q66=\"mono\",$Q66=\"poly\",$Q66=\"HIT\",$Q66=\"EFG\",$Q66=\"mono-LGBC\"),1,IF(OR($Q66=\"µc-Si / a-Si\",$Q66=\"a-Si (single)\",$Q66=\"a-Si (tandem)\",$Q66=\"a-Si (triple)\"),3,2))))","v":1},{"$f":"IF($O66=\"Sunpower Corp.\",3,(IF(OR($Q66=\"mono\",$Q66=\"poly\",$Q66=\"HIT\",$Q66=\"EFG\",$Q66=\"mono-LGBC\"),1,2)))","v":1},{"$f":"IF($O66=\"Sunpower Corp.\",3,(IF(OR($Q66=\"mono\",$Q66=\"poly\",$Q66=\"HIT\",$Q66=\"EFG\",$Q66=\"mono-LGBC\"),1,IF(OR($Q66=\"µc-Si / a-Si\",$Q66=\"a-Si (single)\",$Q66=\"a-Si (tandem)\",$Q66=\"a-Si (triple)\"),3,2))))","v":1},0,null,null,31429,null,null,64]
["abakus Solar AG Peak On M240-60 Black (245W)","abakus Solar AG ","Peak On M240-60 Black (245W)",245,"+2,04...0",30.25,8.18,37.39,8.81,-127.12600000000002,4.7574000000000005,-0.42,1000,"Taiwan (Formosa)",null,15.030670166015625,"mono",60,"pseudo-square",1630,1000,40,"aluminum","junction box",19.600000000000001,null,"-","-","-","-","-",{"$f":"IF($O67=\"Sunpower Corp.\",3,(IF(OR($Q67=\"mono\",$Q67=\"poly\",$Q67=\"HIT\",$Q67=\"EFG\",$Q67=\"mono-LGBC\"),1,IF(OR($Q67=\"µc-Si / a-Si\",$Q67=\"a-Si (single)\",$Q67=\"a-Si (tandem)\",$Q67=\"a-Si (triple)\"),3,2))))","v":1},{"$f":"IF($O67=\"Sunpower Corp.\",3,(IF(OR($Q67=\"mono\",$Q67=\"poly\",$Q67=\"HIT\",$Q67=\"EFG\",$Q67=\"mono-LGBC\"),1,2)))","v":1},{"$f":"IF($O67=\"Sunpower Corp.\",3,(IF(OR($Q67=\"mono\",$Q67=\"poly\",$Q67=\"HIT\",$Q67=\"EFG\",$Q67=\"mono-LGBC\"),1,IF(OR($Q67=\"µc-Si / a-Si\",$Q67=\"a-Si (single)\",$Q67=\"a-Si (tandem)\",$Q67=\"a-Si (triple)\"),3,2))))","v":1},0,null,null,31434,null,null,65]
["abakus Solar AG Peak On M240-60 Black (250W)","abakus Solar AG ","Peak On M240-60 Black (250W)",250,"+2...0",30.75,8.2100000000000009,37.46,8.9499999999999993,-127.364,4.8329999999999993,-0.42,1000,"Taiwan (Formosa)",null,15.337420463562012,"mono",60,"pseudo-square",1630,1000,40,"aluminum","junction box",19.600000000000001,null,"-","-","-","-","-",{"$f":"IF($O68=\"Sunpower Corp.\",3,(IF(OR($Q68=\"mono\",$Q68=\"poly\",$Q68=\"HIT\",$Q68=\"EFG\",$Q68=\"mono-LGBC\"),1,IF(OR($Q68=\"µc-Si / a-Si\",$Q68=\"a-Si (single)\",$Q68=\"a-Si (tandem)\",$Q68=\"a-Si (triple)\"),3,2))))","v":1},{"$f":"IF($O68=\"Sunpower Corp.\",3,(IF(OR($Q68=\"mono\",$Q68=\"poly\",$Q68=\"HIT\",$Q68=\"EFG\",$Q68=\"mono-LGBC\"),1,2)))","v":1},{"$f":"IF($O68=\"Sunpower Corp.\",3,(IF(OR($Q68=\"mono\",$Q68=\"poly\",$Q68=\"HIT\",$Q68=\"EFG\",$Q68=\"mono-LGBC\"),1,IF(OR($Q68=\"µc-Si / a-Si\",$Q68=\"a-Si (single)\",$Q68=\"a-Si (tandem)\",$Q68=\"a-Si (triple)\"),3,2))))","v":1},0,null,null,31435,null,null,66]
["AblyTek Co. Ltd ablytek 195W mono","AblyTek Co. Ltd ","ablytek 195W mono",195,"+3...-3",26.1,7.52,31.2,8.08,-99.84,2.4239999999999999,-0.42,1000,"Taiwan (Formosa)",null,14.733220100402832,"mono",50,"pseudo-square",1620,817,35,"aluminum","junction box",21.5,"www.ablytek.com","-","-","-","-","-",{"$f":"IF($O69=\"Sunpower Corp.\",3,(IF(OR($Q69=\"mono\",$Q69=\"poly\",$Q69=\"HIT\",$Q69=\"EFG\",$Q69=\"mono-LGBC\"),1,IF(OR($Q69=\"µc-Si / a-Si\",$Q69=\"a-Si (single)\",$Q69=\"a-Si (tandem)\",$Q69=\"a-Si (triple)\"),3,2))))","v":1},{"$f":"IF($O69=\"Sunpower Corp.\",3,(IF(OR($Q69=\"mono\",$Q69=\"poly\",$Q69=\"HIT\",$Q69=\"EFG\",$Q69=\"mono-LGBC\"),1,2)))","v":1},{"$f":"IF($O69=\"Sunpower Corp.\",3,(IF(OR($Q69=\"mono\",$Q69=\"poly\",$Q69=\"HIT\",$Q69=\"EFG\",$Q69=\"mono-LGBC\"),1,IF(OR($Q69=\"µc-Si / a-Si\",$Q69=\"a-Si (single)\",$Q69=\"a-Si (tandem)\",$Q69=\"a-Si (triple)\"),3,2))))","v":1},0,null,null,30540,null,null,67]
["AblyTek Co. Ltd ablytek 200W mono","AblyTek Co. Ltd ","ablytek 200W mono",200,"+3...-3",26.2,7.66,31.45,8.15,-100.64,2.4449999999999998,-0.42,1000,"Taiwan (Formosa)",null,15.110989570617676,"mono",50,"pseudo-square",1620,817,35,"aluminum","junction box",21.5,"www.ablytek.com","-","-","-","-","-",{"$f":"IF($O70=\"Sunpower Corp.\",3,(IF(OR($Q70=\"mono\",$Q70=\"poly\",$Q70=\"HIT\",$Q70=\"EFG\",$Q70=\"mono-LGBC\"),1,IF(OR($Q70=\"µc-Si / a-Si\",$Q70=\"a-Si (single)\",$Q70=\"a-Si (tandem)\",$Q70=\"a-Si (triple)\"),3,2))))","v":1},{"$f":"IF($O70=\"Sunpower Corp.\",3,(IF(OR($Q70=\"mono\",$Q70=\"poly\",$Q70=\"HIT\",$Q70=\"EFG\",$Q70=\"mono-LGBC\"),1,2)))","v":1},{"$f":"IF($O70=\"Sunpower Corp.\",3,(IF(OR($Q70=\"mono\",$Q70=\"poly\",$Q70=\"HIT\",$Q70=\"EFG\",$Q70=\"mono-LGBC\"),1,IF(OR($Q70=\"µc-Si / a-Si\",$Q70=\"a-Si (single)\",$Q70=\"a-Si (tandem)\",$Q70=\"a-Si (triple)\"),3,2))))","v":1},0,null,null,30541,null,null,68]
["AblyTek Co. Ltd ablytek 205W mono","AblyTek Co. Ltd ","ablytek 205W mono",205,"+3...-3",26.3,7.85,31.55,8.25,-100.96,2.4750000000000001,-0.42,1000,"Taiwan (Formosa)",null,15.488759994506836,"mono",50,"pseudo-square",1620,817,35,"aluminum","junction box",21.5,"www.ablytek.com","-","-","-","-","-",{"$f":"IF($O71=\"Sunpower Corp.\",3,(IF(OR($Q71=\"mono\",$Q71=\"poly\",$Q71=\"HIT\",$Q71=\"EFG\",$Q71=\"mono-LGBC\"),1,IF(OR($Q71=\"µc-Si / a-Si\",$Q71=\"a-Si (single)\",$Q71=\"a-Si (tandem)\",$Q71=\"a-Si (triple)\"),3,2))))","v":1},{"$f":"IF($O71=\"Sunpower Corp.\",3,(IF(OR($Q71=\"mono\",$Q71=\"poly\",$Q71=\"HIT\",$Q71=\"EFG\",$Q71=\"mono-LGBC\"),1,2)))","v":1},{"$f":"IF($O71=\"Sunpower Corp.\",3,(IF(OR($Q71=\"mono\",$Q71=\"poly\",$Q71=\"HIT\",$Q71=\"EFG\",$Q71=\"mono-LGBC\"),1,IF(OR($Q71=\"µc-Si / a-Si\",$Q71=\"a-Si (single)\",$Q71=\"a-Si (tandem)\",$Q71=\"a-Si (triple)\"),3,2))))","v":1},0,null,null,30542,null,null,69]
["AblyTek Co. Ltd ablytek 240W mono","AblyTek Co. Ltd ","ablytek 240W mono",240,"+3...-3",31.4,7.66,37.74,8.15,-120.76800000000001,2.4449999999999998,-0.42,1000,"Taiwan (Formosa)",null,15.194680213928223,"mono",60,"pseudo-square",1620,975,35,"aluminum","junction box",21.5,"www.ablytek.com","-","-","-","-","-",{"$f":"IF($O72=\"Sunpower Corp.\",3,(IF(OR($Q72=\"mono\",$Q72=\"poly\",$Q72=\"HIT\",$Q72=\"EFG\",$Q72=\"mono-LGBC\"),1,IF(OR($Q72=\"µc-Si / a-Si\",$Q72=\"a-Si (single)\",$Q72=\"a-Si (tandem)\",$Q72=\"a-Si (triple)\"),3,2))))","v":1},{"$f":"IF($O72=\"Sunpower Corp.\",3,(IF(OR($Q72=\"mono\",$Q72=\"poly\",$Q72=\"HIT\",$Q72=\"EFG\",$Q72=\"mono-LGBC\"),1,2)))","v":1},{"$f":"IF($O72=\"Sunpower Corp.\",3,(IF(OR($Q72=\"mono\",$Q72=\"poly\",$Q72=\"HIT\",$Q72=\"EFG\",$Q72=\"mono-LGBC\"),1,IF(OR($Q72=\"µc-Si / a-Si\",$Q72=\"a-Si (single)\",$Q72=\"a-Si (tandem)\",$Q72=\"a-Si (triple)\"),3,2))))","v":1},0,null,null,28220,null,null,70]
["AblyTek Co. Ltd ablytek 245W mono","AblyTek Co. Ltd ","ablytek 245W mono",245,"+3...-3",31.5,7.8,37.86,8.23,-121.15200000000002,2.4689999999999999,-0.42,1000,"Taiwan (Formosa)",null,15.511240005493164,"mono",60,"pseudo-square",1620,975,35,"aluminum","junction box",21.5,"www.ablytek.com","-","-","-","-","-",{"$f":"IF($O73=\"Sunpower Corp.\",3,(IF(OR($Q73=\"mono\",$Q73=\"poly\",$Q73=\"HIT\",$Q73=\"EFG\",$Q73=\"mono-LGBC\"),1,IF(OR($Q73=\"µc-Si / a-Si\",$Q73=\"a-Si (single)\",$Q73=\"a-Si (tandem)\",$Q73=\"a-Si (triple)\"),3,2))))","v":1},{"$f":"IF($O73=\"Sunpower Corp.\",3,(IF(OR($Q73=\"mono\",$Q73=\"poly\",$Q73=\"HIT\",$Q73=\"EFG\",$Q73=\"mono-LGBC\"),1,2)))","v":1},{"$f":"IF($O73=\"Sunpower Corp.\",3,(IF(OR($Q73=\"mono\",$Q73=\"poly\",$Q73=\"HIT\",$Q73=\"EFG\",$Q73=\"mono-LGBC\"),1,IF(OR($Q73=\"µc-Si / a-Si\",$Q73=\"a-Si (single)\",$Q73=\"a-Si (tandem)\",$Q73=\"a-Si (triple)\"),3,2))))","v":1},0,null,null,28221,null,null,71]
["AblyTek Co. Ltd ablytek 6PN66 125W","AblyTek Co. Ltd ","ablytek 6PN66 125W",125,"+3...0",15.81,7.91,20.14,8.48,-72.504000000000005,4.24,-0.46,1000,"Taiwan (Formosa)",null,12.439370155334473,"poly",36,"square",1014,991,40,"aluminum","junction box",13.8,"www.ablytek.com","-","-","-","-","-",{"$f":"IF($O74=\"Sunpower Corp.\",3,(IF(OR($Q74=\"mono\",$Q74=\"poly\",$Q74=\"HIT\",$Q74=\"EFG\",$Q74=\"mono-LGBC\"),1,IF(OR($Q74=\"µc-Si / a-Si\",$Q74=\"a-Si (single)\",$Q74=\"a-Si (tandem)\",$Q74=\"a-Si (triple)\"),3,2))))","v":1},{"$f":"IF($O74=\"Sunpower Corp.\",3,(IF(OR($Q74=\"mono\",$Q74=\"poly\",$Q74=\"HIT\",$Q74=\"EFG\",$Q74=\"mono-LGBC\"),1,2)))","v":1},{"$f":"IF($O74=\"Sunpower Corp.\",3,(IF(OR($Q74=\"mono\",$Q74=\"poly\",$Q74=\"HIT\",$Q74=\"EFG\",$Q74=\"mono-LGBC\"),1,IF(OR($Q74=\"µc-Si / a-Si\",$Q74=\"a-Si (single)\",$Q74=\"a-Si (tandem)\",$Q74=\"a-Si (triple)\"),3,2))))","v":1},0,null,null,28218,null,null,72]
["AblyTek Co. Ltd ablytek 6PN66 135W","AblyTek Co. Ltd ","ablytek 6PN66 135W",135,"+3...0",18.36,7.39,22.1,7.89,-79.56,3.9449999999999998,-0.46,1000,"Taiwan (Formosa)",null,13.43451976776123,"poly",36,"square",1014,991,40,"aluminum","junction box",13.8,"www.ablytek.com","-","-","-","-","-",{"$f":"IF($O75=\"Sunpower Corp.\",3,(IF(OR($Q75=\"mono\",$Q75=\"poly\",$Q75=\"HIT\",$Q75=\"EFG\",$Q75=\"mono-LGBC\"),1,IF(OR($Q75=\"µc-Si / a-Si\",$Q75=\"a-Si (single)\",$Q75=\"a-Si (tandem)\",$Q75=\"a-Si (triple)\"),3,2))))","v":1},{"$f":"IF($O75=\"Sunpower Corp.\",3,(IF(OR($Q75=\"mono\",$Q75=\"poly\",$Q75=\"HIT\",$Q75=\"EFG\",$Q75=\"mono-LGBC\"),1,2)))","v":1},{"$f":"IF($O75=\"Sunpower Corp.\",3,(IF(OR($Q75=\"mono\",$Q75=\"poly\",$Q75=\"HIT\",$Q75=\"EFG\",$Q75=\"mono-LGBC\"),1,IF(OR($Q75=\"µc-Si / a-Si\",$Q75=\"a-Si (single)\",$Q75=\"a-Si (tandem)\",$Q75=\"a-Si (triple)\"),3,2))))","v":1},0,null,null,30533,null,null,73]
["AblyTek Co. Ltd ablytek 6PN68 175W","AblyTek Co. Ltd ","ablytek 6PN68 175W",175,"+3...0",22.14,7.91,28.19,8.48,-101.48400000000001,4.24,-0.46,1000,"Taiwan (Formosa)",null,13.277389526367188,"poly",48,"square",1330,991,40,"aluminum","junction box",18,"www.ablytek.com","-","-","-","-","-",{"$f":"IF($O76=\"Sunpower Corp.\",3,(IF(OR($Q76=\"mono\",$Q76=\"poly\",$Q76=\"HIT\",$Q76=\"EFG\",$Q76=\"mono-LGBC\"),1,IF(OR($Q76=\"µc-Si / a-Si\",$Q76=\"a-Si (single)\",$Q76=\"a-Si (tandem)\",$Q76=\"a-Si (triple)\"),3,2))))","v":1},{"$f":"IF($O76=\"Sunpower Corp.\",3,(IF(OR($Q76=\"mono\",$Q76=\"poly\",$Q76=\"HIT\",$Q76=\"EFG\",$Q76=\"mono-LGBC\"),1,2)))","v":1},{"$f":"IF($O76=\"Sunpower Corp.\",3,(IF(OR($Q76=\"mono\",$Q76=\"poly\",$Q76=\"HIT\",$Q76=\"EFG\",$Q76=\"mono-LGBC\"),1,IF(OR($Q76=\"µc-Si / a-Si\",$Q76=\"a-Si (single)\",$Q76=\"a-Si (tandem)\",$Q76=\"a-Si (triple)\"),3,2))))","v":1},0,null,null,28217,null,null,74]
["AblyTek Co. Ltd ablytek 6PN68 180W","AblyTek Co. Ltd ","ablytek 6PN68 180W",180,"+3...0",24.38,7.41,29.33,7.93,-105.58799999999999,3.9649999999999999,-0.46,1000,"Taiwan (Formosa)",null,13.656740188598633,"poly",48,"square",1330,991,40,"aluminum","junction box",18,"www.ablytek.com","-","-","-","-","-",{"$f":"IF($O77=\"Sunpower Corp.\",3,(IF(OR($Q77=\"mono\",$Q77=\"poly\",$Q77=\"HIT\",$Q77=\"EFG\",$Q77=\"mono-LGBC\"),1,IF(OR($Q77=\"µc-Si / a-Si\",$Q77=\"a-Si (single)\",$Q77=\"a-Si (tandem)\",$Q77=\"a-Si (triple)\"),3,2))))","v":1},{"$f":"IF($O77=\"Sunpower Corp.\",3,(IF(OR($Q77=\"mono\",$Q77=\"poly\",$Q77=\"HIT\",$Q77=\"EFG\",$Q77=\"mono-LGBC\"),1,2)))","v":1},{"$f":"IF($O77=\"Sunpower Corp.\",3,(IF(OR($Q77=\"mono\",$Q77=\"poly\",$Q77=\"HIT\",$Q77=\"EFG\",$Q77=\"mono-LGBC\"),1,IF(OR($Q77=\"µc-Si / a-Si\",$Q77=\"a-Si (single)\",$Q77=\"a-Si (tandem)\",$Q77=\"a-Si (triple)\"),3,2))))","v":1},0,null,null,30534,null,null,75]
["AblyTek Co. Ltd ablytek 6PN69 200W","AblyTek Co. Ltd ","ablytek 6PN69 200W",200,"+3...0",25.28,7.93,32.21,8.48,-115.956,4.24,-0.46,1000,"Taiwan (Formosa)",null,13.562930107116699,"poly",54,"square",1488,991,40,"aluminum","junction box",20.2,"www.ablytek.com","-","-","-","-","-",{"$f":"IF($O78=\"Sunpower Corp.\",3,(IF(OR($Q78=\"mono\",$Q78=\"poly\",$Q78=\"HIT\",$Q78=\"EFG\",$Q78=\"mono-LGBC\"),1,IF(OR($Q78=\"µc-Si / a-Si\",$Q78=\"a-Si (single)\",$Q78=\"a-Si (tandem)\",$Q78=\"a-Si (triple)\"),3,2))))","v":1},{"$f":"IF($O78=\"Sunpower Corp.\",3,(IF(OR($Q78=\"mono\",$Q78=\"poly\",$Q78=\"HIT\",$Q78=\"EFG\",$Q78=\"mono-LGBC\"),1,2)))","v":1},{"$f":"IF($O78=\"Sunpower Corp.\",3,(IF(OR($Q78=\"mono\",$Q78=\"poly\",$Q78=\"HIT\",$Q78=\"EFG\",$Q78=\"mono-LGBC\"),1,IF(OR($Q78=\"µc-Si / a-Si\",$Q78=\"a-Si (single)\",$Q78=\"a-Si (tandem)\",$Q78=\"a-Si (triple)\"),3,2))))","v":1},0,null,null,28216,null,null,76]
["AblyTek Co. Ltd ablytek 6PN69 205W","AblyTek Co. Ltd ","ablytek 6PN69 205W",205,"+3...0",27.54,7.47,33.159999999999997,7.98,-119.37599999999998,3.99,-0.46,1000,"Taiwan (Formosa)",null,13.902000427246094,"poly",54,"square",1488,991,40,"aluminum","junction box",20.2,"www.ablytek.com","-","-","-","-","-",{"$f":"IF($O79=\"Sunpower Corp.\",3,(IF(OR($Q79=\"mono\",$Q79=\"poly\",$Q79=\"HIT\",$Q79=\"EFG\",$Q79=\"mono-LGBC\"),1,IF(OR($Q79=\"µc-Si / a-Si\",$Q79=\"a-Si (single)\",$Q79=\"a-Si (tandem)\",$Q79=\"a-Si (triple)\"),3,2))))","v":1},{"$f":"IF($O79=\"Sunpower Corp.\",3,(IF(OR($Q79=\"mono\",$Q79=\"poly\",$Q79=\"HIT\",$Q79=\"EFG\",$Q79=\"mono-LGBC\"),1,2)))","v":1},{"$f":"IF($O79=\"Sunpower Corp.\",3,(IF(OR($Q79=\"mono\",$Q79=\"poly\",$Q79=\"HIT\",$Q79=\"EFG\",$Q79=\"mono-LGBC\"),1,IF(OR($Q79=\"µc-Si / a-Si\",$Q79=\"a-Si (single)\",$Q79=\"a-Si (tandem)\",$Q79=\"a-Si (triple)\"),3,2))))","v":1},0,null,null,30535,null,null,77]
["AblyTek Co. Ltd ablytek 6PN6A 230W","AblyTek Co. Ltd ","ablytek 6PN6A 230W",230,"+3...0",30.72,7.53,36.96,8.0399999999999991,-133.05600000000001,4.0199999999999996,-0.46,1000,"Taiwan (Formosa)",null,14.100170135498047,"poly",60,"square",1646,991,40,"aluminum","junction box",22.3,"www.ablytek.com","-","-","-","-","-",{"$f":"IF($O80=\"Sunpower Corp.\",3,(IF(OR($Q80=\"mono\",$Q80=\"poly\",$Q80=\"HIT\",$Q80=\"EFG\",$Q80=\"mono-LGBC\"),1,IF(OR($Q80=\"µc-Si / a-Si\",$Q80=\"a-Si (single)\",$Q80=\"a-Si (tandem)\",$Q80=\"a-Si (triple)\"),3,2))))","v":1},{"$f":"IF($O80=\"Sunpower Corp.\",3,(IF(OR($Q80=\"mono\",$Q80=\"poly\",$Q80=\"HIT\",$Q80=\"EFG\",$Q80=\"mono-LGBC\"),1,2)))","v":1},{"$f":"IF($O80=\"Sunpower Corp.\",3,(IF(OR($Q80=\"mono\",$Q80=\"poly\",$Q80=\"HIT\",$Q80=\"EFG\",$Q80=\"mono-LGBC\"),1,IF(OR($Q80=\"µc-Si / a-Si\",$Q80=\"a-Si (single)\",$Q80=\"a-Si (tandem)\",$Q80=\"a-Si (triple)\"),3,2))))","v":1},0,null,null,28214,null,null,78]
["AblyTek Co. Ltd ablytek BIPV 120W (6x6)","AblyTek Co. Ltd ","ablytek BIPV 120W (6x6)",120,"+3...0",17,7.1,20.6,7.6,-74.16,3.8,-4.5999999999999999E-2,1000,"Taiwan (Formosa)",null,10.27101993560791,"poly",36,"square",1096,1066,13.5,"frameless","junction box",36.5,"www.ablytek.com","-","-","-","-","-",{"$f":"IF($O81=\"Sunpower Corp.\",3,(IF(OR($Q81=\"mono\",$Q81=\"poly\",$Q81=\"HIT\",$Q81=\"EFG\",$Q81=\"mono-LGBC\"),1,IF(OR($Q81=\"µc-Si / a-Si\",$Q81=\"a-Si (single)\",$Q81=\"a-Si (tandem)\",$Q81=\"a-Si (triple)\"),3,2))))","v":1},{"$f":"IF($O81=\"Sunpower Corp.\",3,(IF(OR($Q81=\"mono\",$Q81=\"poly\",$Q81=\"HIT\",$Q81=\"EFG\",$Q81=\"mono-LGBC\"),1,2)))","v":1},{"$f":"IF($O81=\"Sunpower Corp.\",3,(IF(OR($Q81=\"mono\",$Q81=\"poly\",$Q81=\"HIT\",$Q81=\"EFG\",$Q81=\"mono-LGBC\"),1,IF(OR($Q81=\"µc-Si / a-Si\",$Q81=\"a-Si (single)\",$Q81=\"a-Si (tandem)\",$Q81=\"a-Si (triple)\"),3,2))))","v":1},0,null,null,28228,null,null,79]
["AblyTek Co. Ltd ablytek BIPV 130W (6x6)","AblyTek Co. Ltd ","ablytek BIPV 130W (6x6)",130,"+3...0",18.5,7.1,22.54,7.61,-81.143999999999991,3.8050000000000002,-4.5999999999999999E-2,1000,"Taiwan (Formosa)",null,11.12693977355957,"poly",36,"square",1096,1066,13.5,"frameless","junction box",36.5,"www.ablytek.com","-","-","-","-","-",{"$f":"IF($O82=\"Sunpower Corp.\",3,(IF(OR($Q82=\"mono\",$Q82=\"poly\",$Q82=\"HIT\",$Q82=\"EFG\",$Q82=\"mono-LGBC\"),1,IF(OR($Q82=\"µc-Si / a-Si\",$Q82=\"a-Si (single)\",$Q82=\"a-Si (tandem)\",$Q82=\"a-Si (triple)\"),3,2))))","v":1},{"$f":"IF($O82=\"Sunpower Corp.\",3,(IF(OR($Q82=\"mono\",$Q82=\"poly\",$Q82=\"HIT\",$Q82=\"EFG\",$Q82=\"mono-LGBC\"),1,2)))","v":1},{"$f":"IF($O82=\"Sunpower Corp.\",3,(IF(OR($Q82=\"mono\",$Q82=\"poly\",$Q82=\"HIT\",$Q82=\"EFG\",$Q82=\"mono-LGBC\"),1,IF(OR($Q82=\"µc-Si / a-Si\",$Q82=\"a-Si (single)\",$Q82=\"a-Si (tandem)\",$Q82=\"a-Si (triple)\"),3,2))))","v":1},0,null,null,30536,null,null,80]
["AblyTek Co. Ltd ablytek BIPV 160W (6x8)","AblyTek Co. Ltd ","ablytek BIPV 160W (6x8)",160,"+3...0",22.7,7.1,28.8,7.6,-103.68,3.8,-4.5999999999999999E-2,1000,"Taiwan (Formosa)",null,10.510769844055176,"poly",48,"square",1428,1066,13.5,"frameless","junction box",50.5,"www.ablytek.com","-","-","-","-","-",{"$f":"IF($O83=\"Sunpower Corp.\",3,(IF(OR($Q83=\"mono\",$Q83=\"poly\",$Q83=\"HIT\",$Q83=\"EFG\",$Q83=\"mono-LGBC\"),1,IF(OR($Q83=\"µc-Si / a-Si\",$Q83=\"a-Si (single)\",$Q83=\"a-Si (tandem)\",$Q83=\"a-Si (triple)\"),3,2))))","v":1},{"$f":"IF($O83=\"Sunpower Corp.\",3,(IF(OR($Q83=\"mono\",$Q83=\"poly\",$Q83=\"HIT\",$Q83=\"EFG\",$Q83=\"mono-LGBC\"),1,2)))","v":1},{"$f":"IF($O83=\"Sunpower Corp.\",3,(IF(OR($Q83=\"mono\",$Q83=\"poly\",$Q83=\"HIT\",$Q83=\"EFG\",$Q83=\"mono-LGBC\"),1,IF(OR($Q83=\"µc-Si / a-Si\",$Q83=\"a-Si (single)\",$Q83=\"a-Si (tandem)\",$Q83=\"a-Si (triple)\"),3,2))))","v":1},0,null,null,28226,null,null,81]
["AblyTek Co. Ltd ablytek BIPV 175W (6x8)","AblyTek Co. Ltd ","ablytek BIPV 175W (6x8)",175,"+3...0",24.67,7.1,30.047999999999998,7.61,-108.17279999999998,3.8050000000000002,-4.5999999999999999E-2,1000,"Taiwan (Formosa)",null,11.496159553527832,"poly",48,"square",1428,1066,13.5,"frameless","junction box",50.5,"www.ablytek.com","-","-","-","-","-",{"$f":"IF($O84=\"Sunpower Corp.\",3,(IF(OR($Q84=\"mono\",$Q84=\"poly\",$Q84=\"HIT\",$Q84=\"EFG\",$Q84=\"mono-LGBC\"),1,IF(OR($Q84=\"µc-Si / a-Si\",$Q84=\"a-Si (single)\",$Q84=\"a-Si (tandem)\",$Q84=\"a-Si (triple)\"),3,2))))","v":1},{"$f":"IF($O84=\"Sunpower Corp.\",3,(IF(OR($Q84=\"mono\",$Q84=\"poly\",$Q84=\"HIT\",$Q84=\"EFG\",$Q84=\"mono-LGBC\"),1,2)))","v":1},{"$f":"IF($O84=\"Sunpower Corp.\",3,(IF(OR($Q84=\"mono\",$Q84=\"poly\",$Q84=\"HIT\",$Q84=\"EFG\",$Q84=\"mono-LGBC\"),1,IF(OR($Q84=\"µc-Si / a-Si\",$Q84=\"a-Si (single)\",$Q84=\"a-Si (tandem)\",$Q84=\"a-Si (triple)\"),3,2))))","v":1},0,null,null,30537,null,null,82]
["AblyTek Co. Ltd ablytek BIPV 185W (6x9)","AblyTek Co. Ltd ","ablytek BIPV 185W (6x9)",185,"+3...0",25.9,7.2,32.700000000000003,7.7,-117.72,3.85,-4.5999999999999999E-2,1000,"Taiwan (Formosa)",null,10.887450218200684,"poly",54,"square",1594,1066,13.5,"frameless","junction box",57.2,"www.ablytek.com","-","-","-","-","-",{"$f":"IF($O85=\"Sunpower Corp.\",3,(IF(OR($Q85=\"mono\",$Q85=\"poly\",$Q85=\"HIT\",$Q85=\"EFG\",$Q85=\"mono-LGBC\"),1,IF(OR($Q85=\"µc-Si / a-Si\",$Q85=\"a-Si (single)\",$Q85=\"a-Si (tandem)\",$Q85=\"a-Si (triple)\"),3,2))))","v":1},{"$f":"IF($O85=\"Sunpower Corp.\",3,(IF(OR($Q85=\"mono\",$Q85=\"poly\",$Q85=\"HIT\",$Q85=\"EFG\",$Q85=\"mono-LGBC\"),1,2)))","v":1},{"$f":"IF($O85=\"Sunpower Corp.\",3,(IF(OR($Q85=\"mono\",$Q85=\"poly\",$Q85=\"HIT\",$Q85=\"EFG\",$Q85=\"mono-LGBC\"),1,IF(OR($Q85=\"µc-Si / a-Si\",$Q85=\"a-Si (single)\",$Q85=\"a-Si (tandem)\",$Q85=\"a-Si (triple)\"),3,2))))","v":1},0,null,null,28225,null,null,83]
["AblyTek Co. Ltd ablytek BIPV 195W (6x9)","AblyTek Co. Ltd ","ablytek BIPV 195W (6x9)",195,"+3...0",27.76,7.1,33.799999999999997,7.61,-121.68,3.8050000000000002,-4.5999999999999999E-2,1000,"Taiwan (Formosa)",null,11.475959777832031,"poly",54,"square",1594,1066,13.5,"frameless","junction box",57.2,"www.ablytek.com","-","-","-","-","-",{"$f":"IF($O86=\"Sunpower Corp.\",3,(IF(OR($Q86=\"mono\",$Q86=\"poly\",$Q86=\"HIT\",$Q86=\"EFG\",$Q86=\"mono-LGBC\"),1,IF(OR($Q86=\"µc-Si / a-Si\",$Q86=\"a-Si (single)\",$Q86=\"a-Si (tandem)\",$Q86=\"a-Si (triple)\"),3,2))))","v":1},{"$f":"IF($O86=\"Sunpower Corp.\",3,(IF(OR($Q86=\"mono\",$Q86=\"poly\",$Q86=\"HIT\",$Q86=\"EFG\",$Q86=\"mono-LGBC\"),1,2)))","v":1},{"$f":"IF($O86=\"Sunpower Corp.\",3,(IF(OR($Q86=\"mono\",$Q86=\"poly\",$Q86=\"HIT\",$Q86=\"EFG\",$Q86=\"mono-LGBC\"),1,IF(OR($Q86=\"µc-Si / a-Si\",$Q86=\"a-Si (single)\",$Q86=\"a-Si (tandem)\",$Q86=\"a-Si (triple)\"),3,2))))","v":1},0,null,null,30538,null,null,84]
["AblyTek Co. Ltd ablytek BIPV 205W (6x10)","AblyTek Co. Ltd ","ablytek BIPV 205W (6x10)",205,"+3...0",28.6,7.2,37.1,7.7,-133.56,3.85,-4.5999999999999999E-2,1000,"Taiwan (Formosa)",null,10.926569938659668,"poly",60,"square",1760,1066,13.5,"frameless","junction box",65,"www.ablytek.com","-","-","-","-","-",{"$f":"IF($O87=\"Sunpower Corp.\",3,(IF(OR($Q87=\"mono\",$Q87=\"poly\",$Q87=\"HIT\",$Q87=\"EFG\",$Q87=\"mono-LGBC\"),1,IF(OR($Q87=\"µc-Si / a-Si\",$Q87=\"a-Si (single)\",$Q87=\"a-Si (tandem)\",$Q87=\"a-Si (triple)\"),3,2))))","v":1},{"$f":"IF($O87=\"Sunpower Corp.\",3,(IF(OR($Q87=\"mono\",$Q87=\"poly\",$Q87=\"HIT\",$Q87=\"EFG\",$Q87=\"mono-LGBC\"),1,2)))","v":1},{"$f":"IF($O87=\"Sunpower Corp.\",3,(IF(OR($Q87=\"mono\",$Q87=\"poly\",$Q87=\"HIT\",$Q87=\"EFG\",$Q87=\"mono-LGBC\"),1,IF(OR($Q87=\"µc-Si / a-Si\",$Q87=\"a-Si (single)\",$Q87=\"a-Si (tandem)\",$Q87=\"a-Si (triple)\"),3,2))))","v":1},0,null,null,28222,null,null,85]
["AblyTek Co. Ltd ablytek BIPV 215W (6x10)","AblyTek Co. Ltd ","ablytek BIPV 215W (6x10)",215,"+3...0",30.84,7.1,37.56,7.61,-135.21600000000001,3.8050000000000002,-4.5999999999999999E-2,1000,"Taiwan (Formosa)",null,11.459580421447754,"poly",60,"square",1760,1066,13.5,"frameless","junction box",65,"www.ablytek.com","-","-","-","-","-",{"$f":"IF($O88=\"Sunpower Corp.\",3,(IF(OR($Q88=\"mono\",$Q88=\"poly\",$Q88=\"HIT\",$Q88=\"EFG\",$Q88=\"mono-LGBC\"),1,IF(OR($Q88=\"µc-Si / a-Si\",$Q88=\"a-Si (single)\",$Q88=\"a-Si (tandem)\",$Q88=\"a-Si (triple)\"),3,2))))","v":1},{"$f":"IF($O88=\"Sunpower Corp.\",3,(IF(OR($Q88=\"mono\",$Q88=\"poly\",$Q88=\"HIT\",$Q88=\"EFG\",$Q88=\"mono-LGBC\"),1,2)))","v":1},{"$f":"IF($O88=\"Sunpower Corp.\",3,(IF(OR($Q88=\"mono\",$Q88=\"poly\",$Q88=\"HIT\",$Q88=\"EFG\",$Q88=\"mono-LGBC\"),1,IF(OR($Q88=\"µc-Si / a-Si\",$Q88=\"a-Si (single)\",$Q88=\"a-Si (tandem)\",$Q88=\"a-Si (triple)\"),3,2))))","v":1},0,null,null,30539,null,null,86]
["AblyTek Co. Ltd ablytek RoofTile 50W","AblyTek Co. Ltd ","ablytek RoofTile 50W",50,"+...",7.06,7.1189999999999998,8.7080000000000002,8.02,-31.348800000000004,4.01,-0.46,1000,"Taiwan (Formosa)",null,11.071029663085938,"poly",14,"square",1167,387,35,"aluminum","junction box",5.67,"www.ablytek.com","-","-","-","-","-",{"$f":"IF($O89=\"Sunpower Corp.\",3,(IF(OR($Q89=\"mono\",$Q89=\"poly\",$Q89=\"HIT\",$Q89=\"EFG\",$Q89=\"mono-LGBC\"),1,IF(OR($Q89=\"µc-Si / a-Si\",$Q89=\"a-Si (single)\",$Q89=\"a-Si (tandem)\",$Q89=\"a-Si (triple)\"),3,2))))","v":1},{"$f":"IF($O89=\"Sunpower Corp.\",3,(IF(OR($Q89=\"mono\",$Q89=\"poly\",$Q89=\"HIT\",$Q89=\"EFG\",$Q89=\"mono-LGBC\"),1,2)))","v":1},{"$f":"IF($O89=\"Sunpower Corp.\",3,(IF(OR($Q89=\"mono\",$Q89=\"poly\",$Q89=\"HIT\",$Q89=\"EFG\",$Q89=\"mono-LGBC\"),1,IF(OR($Q89=\"µc-Si / a-Si\",$Q89=\"a-Si (single)\",$Q89=\"a-Si (tandem)\",$Q89=\"a-Si (triple)\"),3,2))))","v":1},0,null,null,28230,null,null,87]
["Abound Solar Inc.  AB1-60","Abound Solar Inc. ","AB1-60","60,0","50,0","34,2","1,78","44,0","2,14","-176,0","1,07","-0,37","1000,0","USA","-","8,33","CdTe","-","-","1200,0","600,0","8,1","frameless","junction box MC4","12,0","www.aboundsolar.com","-","-","-","-","-",{"$f":"IF($O90=\"Sunpower Corp.\",3,(IF(OR($Q90=\"mono\",$Q90=\"poly\",$Q90=\"HIT\",$Q90=\"EFG\",$Q90=\"mono-LGBC\"),1,IF(OR($Q90=\"µc-Si / a-Si\",$Q90=\"a-Si (single)\",$Q90=\"a-Si (tandem)\",$Q90=\"a-Si (triple)\"),3,2))))","v":2},{"$f":"IF($O90=\"Sunpower Corp.\",3,(IF(OR($Q90=\"mono\",$Q90=\"poly\",$Q90=\"HIT\",$Q90=\"EFG\",$Q90=\"mono-LGBC\"),1,2)))","v":2},{"$f":"IF($O90=\"Sunpower Corp.\",3,(IF(OR($Q90=\"mono\",$Q90=\"poly\",$Q90=\"HIT\",$Q90=\"EFG\",$Q90=\"mono-LGBC\"),1,IF(OR($Q90=\"µc-Si / a-Si\",$Q90=\"a-Si (single)\",$Q90=\"a-Si (tandem)\",$Q90=\"a-Si (triple)\"),3,2))))","v":2},0,null,null,16425,null,null,88]
["Abound Solar Inc. AB1-62","Abound Solar Inc. ","AB1-62",62.5,"+5...0",35,1.82,44.2,2.14,-176.8,1.07,-0.37,1000,"USA",null,8.6805553436279297,"CdTe",null,null,1200,600,8.1,"frameless","junction box MC4",12,"www.aboundsolar.com","-","-","-","-","-",{"$f":"IF($O91=\"Sunpower Corp.\",3,(IF(OR($Q91=\"mono\",$Q91=\"poly\",$Q91=\"HIT\",$Q91=\"EFG\",$Q91=\"mono-LGBC\"),1,IF(OR($Q91=\"µc-Si / a-Si\",$Q91=\"a-Si (single)\",$Q91=\"a-Si (tandem)\",$Q91=\"a-Si (triple)\"),3,2))))","v":2},{"$f":"IF($O91=\"Sunpower Corp.\",3,(IF(OR($Q91=\"mono\",$Q91=\"poly\",$Q91=\"HIT\",$Q91=\"EFG\",$Q91=\"mono-LGBC\"),1,2)))","v":2},{"$f":"IF($O91=\"Sunpower Corp.\",3,(IF(OR($Q91=\"mono\",$Q91=\"poly\",$Q91=\"HIT\",$Q91=\"EFG\",$Q91=\"mono-LGBC\"),1,IF(OR($Q91=\"µc-Si / a-Si\",$Q91=\"a-Si (single)\",$Q91=\"a-Si (tandem)\",$Q91=\"a-Si (triple)\"),3,2))))","v":2},0,null,null,16424,null,null,89]
["Abound Solar Inc. AB1-65","Abound Solar Inc. ","AB1-65",65,"+5...0",35.799999999999997,1.86,44.5,2.15,-178,1.075,-0.37,1000,"USA",null,9.0277776718139648,"CdTe",null,null,1200,600,8.1,"frameless","junction box MC4",12,"www.aboundsolar.com","-","-","-","-","-",{"$f":"IF($O92=\"Sunpower Corp.\",3,(IF(OR($Q92=\"mono\",$Q92=\"poly\",$Q92=\"HIT\",$Q92=\"EFG\",$Q92=\"mono-LGBC\"),1,IF(OR($Q92=\"µc-Si / a-Si\",$Q92=\"a-Si (single)\",$Q92=\"a-Si (tandem)\",$Q92=\"a-Si (triple)\"),3,2))))","v":2},{"$f":"IF($O92=\"Sunpower Corp.\",3,(IF(OR($Q92=\"mono\",$Q92=\"poly\",$Q92=\"HIT\",$Q92=\"EFG\",$Q92=\"mono-LGBC\"),1,2)))","v":2},{"$f":"IF($O92=\"Sunpower Corp.\",3,(IF(OR($Q92=\"mono\",$Q92=\"poly\",$Q92=\"HIT\",$Q92=\"EFG\",$Q92=\"mono-LGBC\"),1,IF(OR($Q92=\"µc-Si / a-Si\",$Q92=\"a-Si (single)\",$Q92=\"a-Si (tandem)\",$Q92=\"a-Si (triple)\"),3,2))))","v":2},0,null,null,16423,null,null,90]
["Abound Solar Inc. AB1-67","Abound Solar Inc. ","AB1-67",67.5,"+5...0",36.5,1.89,44.7,2.15,-178.8,1.075,-0.37,1000,"USA",null,9.375,"CdTe",null,null,1200,600,8.1,"frameless","junction box MC4",12,"www.aboundsolar.com","-","-","-","-","-",{"$f":"IF($O93=\"Sunpower Corp.\",3,(IF(OR($Q93=\"mono\",$Q93=\"poly\",$Q93=\"HIT\",$Q93=\"EFG\",$Q93=\"mono-LGBC\"),1,IF(OR($Q93=\"µc-Si / a-Si\",$Q93=\"a-Si (single)\",$Q93=\"a-Si (tandem)\",$Q93=\"a-Si (triple)\"),3,2))))","v":2},{"$f":"IF($O93=\"Sunpower Corp.\",3,(IF(OR($Q93=\"mono\",$Q93=\"poly\",$Q93=\"HIT\",$Q93=\"EFG\",$Q93=\"mono-LGBC\"),1,2)))","v":2},{"$f":"IF($O93=\"Sunpower Corp.\",3,(IF(OR($Q93=\"mono\",$Q93=\"poly\",$Q93=\"HIT\",$Q93=\"EFG\",$Q93=\"mono-LGBC\"),1,IF(OR($Q93=\"µc-Si / a-Si\",$Q93=\"a-Si (single)\",$Q93=\"a-Si (tandem)\",$Q93=\"a-Si (triple)\"),3,2))))","v":2},0,null,null,11756,null,null,91]
["Abound Solar Inc. AB1-70","Abound Solar Inc. ","AB1-70",70,"+5...0",37.299999999999997,1.93,45,2.16,-180,1.08,-0.37,1000,"USA",null,9.7222223281860352,"CdTe",null,null,1200,600,8.1,"frameless","junction box MC4",12,"www.aboundsolar.com","-","-","-","-","-",{"$f":"IF($O94=\"Sunpower Corp.\",3,(IF(OR($Q94=\"mono\",$Q94=\"poly\",$Q94=\"HIT\",$Q94=\"EFG\",$Q94=\"mono-LGBC\"),1,IF(OR($Q94=\"µc-Si / a-Si\",$Q94=\"a-Si (single)\",$Q94=\"a-Si (tandem)\",$Q94=\"a-Si (triple)\"),3,2))))","v":2},{"$f":"IF($O94=\"Sunpower Corp.\",3,(IF(OR($Q94=\"mono\",$Q94=\"poly\",$Q94=\"HIT\",$Q94=\"EFG\",$Q94=\"mono-LGBC\"),1,2)))","v":2},{"$f":"IF($O94=\"Sunpower Corp.\",3,(IF(OR($Q94=\"mono\",$Q94=\"poly\",$Q94=\"HIT\",$Q94=\"EFG\",$Q94=\"mono-LGBC\"),1,IF(OR($Q94=\"µc-Si / a-Si\",$Q94=\"a-Si (single)\",$Q94=\"a-Si (tandem)\",$Q94=\"a-Si (triple)\"),3,2))))","v":2},0,null,null,11757,null,null,92]
["Abound Solar Inc. AB1-72","Abound Solar Inc. ","AB1-72",72.5,"+5...0",40.200000000000003,1.81,47.8,2.2799999999999998,-191.2,1.1399999999999999,-0.37,1000,"USA",null,10.069439888000488,"CdTe",null,null,1200,600,7.2,"frameless","junction box MC4",12,"www.aboundsolar.com","-","-","-","-","-",{"$f":"IF($O95=\"Sunpower Corp.\",3,(IF(OR($Q95=\"mono\",$Q95=\"poly\",$Q95=\"HIT\",$Q95=\"EFG\",$Q95=\"mono-LGBC\"),1,IF(OR($Q95=\"µc-Si / a-Si\",$Q95=\"a-Si (single)\",$Q95=\"a-Si (tandem)\",$Q95=\"a-Si (triple)\"),3,2))))","v":2},{"$f":"IF($O95=\"Sunpower Corp.\",3,(IF(OR($Q95=\"mono\",$Q95=\"poly\",$Q95=\"HIT\",$Q95=\"EFG\",$Q95=\"mono-LGBC\"),1,2)))","v":2},{"$f":"IF($O95=\"Sunpower Corp.\",3,(IF(OR($Q95=\"mono\",$Q95=\"poly\",$Q95=\"HIT\",$Q95=\"EFG\",$Q95=\"mono-LGBC\"),1,IF(OR($Q95=\"µc-Si / a-Si\",$Q95=\"a-Si (single)\",$Q95=\"a-Si (tandem)\",$Q95=\"a-Si (triple)\"),3,2))))","v":2},0,null,null,11758,null,null,93]
["Accusolarpower Co., Ltd. ASP409-A(110W)","Accusolarpower Co., Ltd. ","ASP409-A(110W)",110,"+3...-3",17.05,6.46,21.45,7.21,-72.930000000000007,6.4889999999999999,-0.37,1000,null,null,11.368800163269043,"poly",36,"square",1466,660,38.1,null,"junction box Tyco",11.8,"www.accusolarcorp.com","-","-","-","-","-",{"$f":"IF($O96=\"Sunpower Corp.\",3,(IF(OR($Q96=\"mono\",$Q96=\"poly\",$Q96=\"HIT\",$Q96=\"EFG\",$Q96=\"mono-LGBC\"),1,IF(OR($Q96=\"µc-Si / a-Si\",$Q96=\"a-Si (single)\",$Q96=\"a-Si (tandem)\",$Q96=\"a-Si (triple)\"),3,2))))","v":1},{"$f":"IF($O96=\"Sunpower Corp.\",3,(IF(OR($Q96=\"mono\",$Q96=\"poly\",$Q96=\"HIT\",$Q96=\"EFG\",$Q96=\"mono-LGBC\"),1,2)))","v":1},{"$f":"IF($O96=\"Sunpower Corp.\",3,(IF(OR($Q96=\"mono\",$Q96=\"poly\",$Q96=\"HIT\",$Q96=\"EFG\",$Q96=\"mono-LGBC\"),1,IF(OR($Q96=\"µc-Si / a-Si\",$Q96=\"a-Si (single)\",$Q96=\"a-Si (tandem)\",$Q96=\"a-Si (triple)\"),3,2))))","v":1},0,null,null,16555,null,null,94]
["Accusolarpower Co., Ltd. ASP409-A(115W)","Accusolarpower Co., Ltd. ","ASP409-A(115W)",115,"+3...-3",17.16,6.7,21.56,7.4,-73.303999999999988,6.66,-0.37,1000,null,null,11.88556957244873,"poly",36,"square",1466,660,38.1,null,"junction box Tyco",11.8,"www.accusolarcorp.com","-","-","-","-","-",{"$f":"IF($O97=\"Sunpower Corp.\",3,(IF(OR($Q97=\"mono\",$Q97=\"poly\",$Q97=\"HIT\",$Q97=\"EFG\",$Q97=\"mono-LGBC\"),1,IF(OR($Q97=\"µc-Si / a-Si\",$Q97=\"a-Si (single)\",$Q97=\"a-Si (tandem)\",$Q97=\"a-Si (triple)\"),3,2))))","v":1},{"$f":"IF($O97=\"Sunpower Corp.\",3,(IF(OR($Q97=\"mono\",$Q97=\"poly\",$Q97=\"HIT\",$Q97=\"EFG\",$Q97=\"mono-LGBC\"),1,2)))","v":1},{"$f":"IF($O97=\"Sunpower Corp.\",3,(IF(OR($Q97=\"mono\",$Q97=\"poly\",$Q97=\"HIT\",$Q97=\"EFG\",$Q97=\"mono-LGBC\"),1,IF(OR($Q97=\"µc-Si / a-Si\",$Q97=\"a-Si (single)\",$Q97=\"a-Si (tandem)\",$Q97=\"a-Si (triple)\"),3,2))))","v":1},0,null,null,16556,null,null,95]
["Accusolarpower Co., Ltd. ASP409-A(120W)","Accusolarpower Co., Ltd. ","ASP409-A(120W)",120,"+3...-3",17.34,6.93,21.85,7.77,-74.290000000000006,6.9929999999999994,-0.37,1000,null,null,12.40233039855957,"poly",36,"square",1466,660,38.1,null,"junction box Tyco",11.8,"www.accusolarcorp.com","-","-","-","-","-",{"$f":"IF($O98=\"Sunpower Corp.\",3,(IF(OR($Q98=\"mono\",$Q98=\"poly\",$Q98=\"HIT\",$Q98=\"EFG\",$Q98=\"mono-LGBC\"),1,IF(OR($Q98=\"µc-Si / a-Si\",$Q98=\"a-Si (single)\",$Q98=\"a-Si (tandem)\",$Q98=\"a-Si (triple)\"),3,2))))","v":1},{"$f":"IF($O98=\"Sunpower Corp.\",3,(IF(OR($Q98=\"mono\",$Q98=\"poly\",$Q98=\"HIT\",$Q98=\"EFG\",$Q98=\"mono-LGBC\"),1,2)))","v":1},{"$f":"IF($O98=\"Sunpower Corp.\",3,(IF(OR($Q98=\"mono\",$Q98=\"poly\",$Q98=\"HIT\",$Q98=\"EFG\",$Q98=\"mono-LGBC\"),1,IF(OR($Q98=\"µc-Si / a-Si\",$Q98=\"a-Si (single)\",$Q98=\"a-Si (tandem)\",$Q98=\"a-Si (triple)\"),3,2))))","v":1},0,null,null,16557,null,null,96]
["Accusolarpower Co., Ltd. ASP409-A(125W)","Accusolarpower Co., Ltd. ","ASP409-A(125W)",125,"+3...-3",17.55,7.13,21.89,7.86,-74.426000000000002,7.0740000000000007,-0.37,1000,null,null,12.919099807739258,"poly",36,"square",1466,660,38.1,null,"junction box Tyco",11.8,"www.accusolarcorp.com","-","-","-","-","-",{"$f":"IF($O99=\"Sunpower Corp.\",3,(IF(OR($Q99=\"mono\",$Q99=\"poly\",$Q99=\"HIT\",$Q99=\"EFG\",$Q99=\"mono-LGBC\"),1,IF(OR($Q99=\"µc-Si / a-Si\",$Q99=\"a-Si (single)\",$Q99=\"a-Si (tandem)\",$Q99=\"a-Si (triple)\"),3,2))))","v":1},{"$f":"IF($O99=\"Sunpower Corp.\",3,(IF(OR($Q99=\"mono\",$Q99=\"poly\",$Q99=\"HIT\",$Q99=\"EFG\",$Q99=\"mono-LGBC\"),1,2)))","v":1},{"$f":"IF($O99=\"Sunpower Corp.\",3,(IF(OR($Q99=\"mono\",$Q99=\"poly\",$Q99=\"HIT\",$Q99=\"EFG\",$Q99=\"mono-LGBC\"),1,IF(OR($Q99=\"µc-Si / a-Si\",$Q99=\"a-Si (single)\",$Q99=\"a-Si (tandem)\",$Q99=\"a-Si (triple)\"),3,2))))","v":1},0,null,null,16558,null,null,97]
["Accusolarpower Co., Ltd. ASP409-A(130W)","Accusolarpower Co., Ltd. ","ASP409-A(130W)",130,"+3...-3",17.75,7.33,22.1,8.06,-75.14,7.2540000000000004,-0.37,1000,null,null,13.435859680175781,"poly",36,"square",1466,660,38.1,null,"junction box Tyco",11.8,"www.accusolarcorp.com","-","-","-","-","-",{"$f":"IF($O100=\"Sunpower Corp.\",3,(IF(OR($Q100=\"mono\",$Q100=\"poly\",$Q100=\"HIT\",$Q100=\"EFG\",$Q100=\"mono-LGBC\"),1,IF(OR($Q100=\"µc-Si / a-Si\",$Q100=\"a-Si (single)\",$Q100=\"a-Si (tandem)\",$Q100=\"a-Si (triple)\"),3,2))))","v":1},{"$f":"IF($O100=\"Sunpower Corp.\",3,(IF(OR($Q100=\"mono\",$Q100=\"poly\",$Q100=\"HIT\",$Q100=\"EFG\",$Q100=\"mono-LGBC\"),1,2)))","v":1},{"$f":"IF($O100=\"Sunpower Corp.\",3,(IF(OR($Q100=\"mono\",$Q100=\"poly\",$Q100=\"HIT\",$Q100=\"EFG\",$Q100=\"mono-LGBC\"),1,IF(OR($Q100=\"µc-Si / a-Si\",$Q100=\"a-Si (single)\",$Q100=\"a-Si (tandem)\",$Q100=\"a-Si (triple)\"),3,2))))","v":1},0,null,null,16559,null,null,98]
["Accusolarpower Co., Ltd. ASP409-B(70W)","Accusolarpower Co., Ltd. ","ASP409-B(70W)",70,"+3...-3",16.5,4.25,21.24,4.59,-72.216000000000008,4.1310000000000002,-0.37,1000,null,null,10.768670082092285,"mono",36,"pseudo-square",1206,539,38.1,null,"junction box",8.1999999999999993,"www.accusolarcorp.com","-","-","-","-","-",{"$f":"IF($O101=\"Sunpower Corp.\",3,(IF(OR($Q101=\"mono\",$Q101=\"poly\",$Q101=\"HIT\",$Q101=\"EFG\",$Q101=\"mono-LGBC\"),1,IF(OR($Q101=\"µc-Si / a-Si\",$Q101=\"a-Si (single)\",$Q101=\"a-Si (tandem)\",$Q101=\"a-Si (triple)\"),3,2))))","v":1},{"$f":"IF($O101=\"Sunpower Corp.\",3,(IF(OR($Q101=\"mono\",$Q101=\"poly\",$Q101=\"HIT\",$Q101=\"EFG\",$Q101=\"mono-LGBC\"),1,2)))","v":1},{"$f":"IF($O101=\"Sunpower Corp.\",3,(IF(OR($Q101=\"mono\",$Q101=\"poly\",$Q101=\"HIT\",$Q101=\"EFG\",$Q101=\"mono-LGBC\"),1,IF(OR($Q101=\"µc-Si / a-Si\",$Q101=\"a-Si (single)\",$Q101=\"a-Si (tandem)\",$Q101=\"a-Si (triple)\"),3,2))))","v":1},0,null,null,16562,null,null,99]
["Accusolarpower Co., Ltd. ASP409-B(75W)","Accusolarpower Co., Ltd. ","ASP409-B(75W)",75,"+3...-3",16.850000000000001,4.46,21.56,4.79,-73.303999999999988,4.3109999999999999,-0.37,1000,null,null,11.537859916687012,"mono",36,"pseudo-square",1206,539,38.1,null,"junction box",8.1999999999999993,"www.accusolarcorp.com","-","-","-","-","-",{"$f":"IF($O102=\"Sunpower Corp.\",3,(IF(OR($Q102=\"mono\",$Q102=\"poly\",$Q102=\"HIT\",$Q102=\"EFG\",$Q102=\"mono-LGBC\"),1,IF(OR($Q102=\"µc-Si / a-Si\",$Q102=\"a-Si (single)\",$Q102=\"a-Si (tandem)\",$Q102=\"a-Si (triple)\"),3,2))))","v":1},{"$f":"IF($O102=\"Sunpower Corp.\",3,(IF(OR($Q102=\"mono\",$Q102=\"poly\",$Q102=\"HIT\",$Q102=\"EFG\",$Q102=\"mono-LGBC\"),1,2)))","v":1},{"$f":"IF($O102=\"Sunpower Corp.\",3,(IF(OR($Q102=\"mono\",$Q102=\"poly\",$Q102=\"HIT\",$Q102=\"EFG\",$Q102=\"mono-LGBC\"),1,IF(OR($Q102=\"µc-Si / a-Si\",$Q102=\"a-Si (single)\",$Q102=\"a-Si (tandem)\",$Q102=\"a-Si (triple)\"),3,2))))","v":1},0,null,null,16563,null,null,100]
["Accusolarpower Co., Ltd. ASP409-B(80W)","Accusolarpower Co., Ltd. ","ASP409-B(80W)",80,"+3...-3",17.21,4.6500000000000004,21.81,5,-74.153999999999996,4.5,-0.37,1000,null,null,12.307049751281738,"mono",36,"pseudo-square",1206,539,38.1,null,"junction box",8.1999999999999993,"www.accusolarcorp.com","-","-","-","-","-",{"$f":"IF($O103=\"Sunpower Corp.\",3,(IF(OR($Q103=\"mono\",$Q103=\"poly\",$Q103=\"HIT\",$Q103=\"EFG\",$Q103=\"mono-LGBC\"),1,IF(OR($Q103=\"µc-Si / a-Si\",$Q103=\"a-Si (single)\",$Q103=\"a-Si (tandem)\",$Q103=\"a-Si (triple)\"),3,2))))","v":1},{"$f":"IF($O103=\"Sunpower Corp.\",3,(IF(OR($Q103=\"mono\",$Q103=\"poly\",$Q103=\"HIT\",$Q103=\"EFG\",$Q103=\"mono-LGBC\"),1,2)))","v":1},{"$f":"IF($O103=\"Sunpower Corp.\",3,(IF(OR($Q103=\"mono\",$Q103=\"poly\",$Q103=\"HIT\",$Q103=\"EFG\",$Q103=\"mono-LGBC\"),1,IF(OR($Q103=\"µc-Si / a-Si\",$Q103=\"a-Si (single)\",$Q103=\"a-Si (tandem)\",$Q103=\"a-Si (triple)\"),3,2))))","v":1},0,null,null,16564,null,null,101]
["Accusolarpower Co., Ltd. ASP409-B(85W)","Accusolarpower Co., Ltd. ","ASP409-B(85W)",85,"+3...-3",17.55,4.8499999999999996,22.03,5.17,-74.902000000000015,4.6529999999999996,-0.37,1000,null,null,13.076239585876465,"mono",36,"pseudo-square",1206,539,38.1,null,"junction box",8.1999999999999993,"www.accusolarcorp.com","-","-","-","-","-",{"$f":"IF($O104=\"Sunpower Corp.\",3,(IF(OR($Q104=\"mono\",$Q104=\"poly\",$Q104=\"HIT\",$Q104=\"EFG\",$Q104=\"mono-LGBC\"),1,IF(OR($Q104=\"µc-Si / a-Si\",$Q104=\"a-Si (single)\",$Q104=\"a-Si (tandem)\",$Q104=\"a-Si (triple)\"),3,2))))","v":1},{"$f":"IF($O104=\"Sunpower Corp.\",3,(IF(OR($Q104=\"mono\",$Q104=\"poly\",$Q104=\"HIT\",$Q104=\"EFG\",$Q104=\"mono-LGBC\"),1,2)))","v":1},{"$f":"IF($O104=\"Sunpower Corp.\",3,(IF(OR($Q104=\"mono\",$Q104=\"poly\",$Q104=\"HIT\",$Q104=\"EFG\",$Q104=\"mono-LGBC\"),1,IF(OR($Q104=\"µc-Si / a-Si\",$Q104=\"a-Si (single)\",$Q104=\"a-Si (tandem)\",$Q104=\"a-Si (triple)\"),3,2))))","v":1},0,null,null,16565,null,null,102]
["Accusolarpower Co., Ltd. ASP409-B(90W)","Accusolarpower Co., Ltd. ","ASP409-B(90W)",90,"+3...-3",17.899999999999999,5.03,22.35,5.35,-75.989999999999995,4.8150000000000004,-0.37,1000,null,null,13.845430374145508,"mono",36,"pseudo-square",1206,539,38.1,null,"junction box",8.1999999999999993,"www.accusolarcorp.com","-","-","-","-","-",{"$f":"IF($O105=\"Sunpower Corp.\",3,(IF(OR($Q105=\"mono\",$Q105=\"poly\",$Q105=\"HIT\",$Q105=\"EFG\",$Q105=\"mono-LGBC\"),1,IF(OR($Q105=\"µc-Si / a-Si\",$Q105=\"a-Si (single)\",$Q105=\"a-Si (tandem)\",$Q105=\"a-Si (triple)\"),3,2))))","v":1},{"$f":"IF($O105=\"Sunpower Corp.\",3,(IF(OR($Q105=\"mono\",$Q105=\"poly\",$Q105=\"HIT\",$Q105=\"EFG\",$Q105=\"mono-LGBC\"),1,2)))","v":1},{"$f":"IF($O105=\"Sunpower Corp.\",3,(IF(OR($Q105=\"mono\",$Q105=\"poly\",$Q105=\"HIT\",$Q105=\"EFG\",$Q105=\"mono-LGBC\"),1,IF(OR($Q105=\"µc-Si / a-Si\",$Q105=\"a-Si (single)\",$Q105=\"a-Si (tandem)\",$Q105=\"a-Si (triple)\"),3,2))))","v":1},0,null,null,16566,null,null,103]
["Accusolarpower Co., Ltd. ASP608-A(160W)","Accusolarpower Co., Ltd. ","ASP608-A(160W)",160,"+3...-3",22.73,7.04,28.99,7.62,-98.566000000000003,6.8579999999999997,-0.37,1000,null,null,12.346540451049805,"poly",48,"square",1309,990,38.1,null,"junction box",14.9,"www.accusolarcorp.com","-","-","-","-","-",{"$f":"IF($O106=\"Sunpower Corp.\",3,(IF(OR($Q106=\"mono\",$Q106=\"poly\",$Q106=\"HIT\",$Q106=\"EFG\",$Q106=\"mono-LGBC\"),1,IF(OR($Q106=\"µc-Si / a-Si\",$Q106=\"a-Si (single)\",$Q106=\"a-Si (tandem)\",$Q106=\"a-Si (triple)\"),3,2))))","v":1},{"$f":"IF($O106=\"Sunpower Corp.\",3,(IF(OR($Q106=\"mono\",$Q106=\"poly\",$Q106=\"HIT\",$Q106=\"EFG\",$Q106=\"mono-LGBC\"),1,2)))","v":1},{"$f":"IF($O106=\"Sunpower Corp.\",3,(IF(OR($Q106=\"mono\",$Q106=\"poly\",$Q106=\"HIT\",$Q106=\"EFG\",$Q106=\"mono-LGBC\"),1,IF(OR($Q106=\"µc-Si / a-Si\",$Q106=\"a-Si (single)\",$Q106=\"a-Si (tandem)\",$Q106=\"a-Si (triple)\"),3,2))))","v":1},0,null,null,16567,null,null,104]
["Accusolarpower Co., Ltd. ASP608-A(165W)","Accusolarpower Co., Ltd. ","ASP608-A(165W)",165,"+3...-3",22.8,7.24,29.13,7.77,-99.042000000000002,6.9929999999999994,-0.37,1000,null,null,12.732370376586914,"poly",48,"square",1309,990,38.1,null,"junction box",14.9,"www.accusolarcorp.com","-","-","-","-","-",{"$f":"IF($O107=\"Sunpower Corp.\",3,(IF(OR($Q107=\"mono\",$Q107=\"poly\",$Q107=\"HIT\",$Q107=\"EFG\",$Q107=\"mono-LGBC\"),1,IF(OR($Q107=\"µc-Si / a-Si\",$Q107=\"a-Si (single)\",$Q107=\"a-Si (tandem)\",$Q107=\"a-Si (triple)\"),3,2))))","v":1},{"$f":"IF($O107=\"Sunpower Corp.\",3,(IF(OR($Q107=\"mono\",$Q107=\"poly\",$Q107=\"HIT\",$Q107=\"EFG\",$Q107=\"mono-LGBC\"),1,2)))","v":1},{"$f":"IF($O107=\"Sunpower Corp.\",3,(IF(OR($Q107=\"mono\",$Q107=\"poly\",$Q107=\"HIT\",$Q107=\"EFG\",$Q107=\"mono-LGBC\"),1,IF(OR($Q107=\"µc-Si / a-Si\",$Q107=\"a-Si (single)\",$Q107=\"a-Si (tandem)\",$Q107=\"a-Si (triple)\"),3,2))))","v":1},0,null,null,16568,null,null,105]
["Accusolarpower Co., Ltd. ASP608-A(170W)","Accusolarpower Co., Ltd. ","ASP608-A(170W)",170,"+3...-3",22.9,7.43,29.37,8,-99.858000000000018,7.2,-0.37,1000,null,null,13.118189811706543,"poly",48,"square",1309,990,38.1,null,"junction box",14.9,"www.accusolarcorp.com","-","-","-","-","-",{"$f":"IF($O108=\"Sunpower Corp.\",3,(IF(OR($Q108=\"mono\",$Q108=\"poly\",$Q108=\"HIT\",$Q108=\"EFG\",$Q108=\"mono-LGBC\"),1,IF(OR($Q108=\"µc-Si / a-Si\",$Q108=\"a-Si (single)\",$Q108=\"a-Si (tandem)\",$Q108=\"a-Si (triple)\"),3,2))))","v":1},{"$f":"IF($O108=\"Sunpower Corp.\",3,(IF(OR($Q108=\"mono\",$Q108=\"poly\",$Q108=\"HIT\",$Q108=\"EFG\",$Q108=\"mono-LGBC\"),1,2)))","v":1},{"$f":"IF($O108=\"Sunpower Corp.\",3,(IF(OR($Q108=\"mono\",$Q108=\"poly\",$Q108=\"HIT\",$Q108=\"EFG\",$Q108=\"mono-LGBC\"),1,IF(OR($Q108=\"µc-Si / a-Si\",$Q108=\"a-Si (single)\",$Q108=\"a-Si (tandem)\",$Q108=\"a-Si (triple)\"),3,2))))","v":1},0,null,null,16569,null,null,106]
["Accusolarpower Co., Ltd. ASP608-A(175W)","Accusolarpower Co., Ltd. ","ASP608-A(175W)",175,"+3...-3",22.97,7.62,29.52,8.1300000000000008,-100.36799999999999,7.3170000000000002,-0.37,1000,null,null,13.504019737243652,"poly",48,"square",1309,990,38.1,null,"junction box",14.9,"www.accusolarcorp.com","-","-","-","-","-",{"$f":"IF($O109=\"Sunpower Corp.\",3,(IF(OR($Q109=\"mono\",$Q109=\"poly\",$Q109=\"HIT\",$Q109=\"EFG\",$Q109=\"mono-LGBC\"),1,IF(OR($Q109=\"µc-Si / a-Si\",$Q109=\"a-Si (single)\",$Q109=\"a-Si (tandem)\",$Q109=\"a-Si (triple)\"),3,2))))","v":1},{"$f":"IF($O109=\"Sunpower Corp.\",3,(IF(OR($Q109=\"mono\",$Q109=\"poly\",$Q109=\"HIT\",$Q109=\"EFG\",$Q109=\"mono-LGBC\"),1,2)))","v":1},{"$f":"IF($O109=\"Sunpower Corp.\",3,(IF(OR($Q109=\"mono\",$Q109=\"poly\",$Q109=\"HIT\",$Q109=\"EFG\",$Q109=\"mono-LGBC\"),1,IF(OR($Q109=\"µc-Si / a-Si\",$Q109=\"a-Si (single)\",$Q109=\"a-Si (tandem)\",$Q109=\"a-Si (triple)\"),3,2))))","v":1},0,null,null,16570,null,null,107]
["Accusolarpower Co., Ltd. ASP608-A(180W)","Accusolarpower Co., Ltd. ","ASP608-A(180W)",180,"+3...-3",23.05,7.81,29.66,8.27,-100.84400000000001,7.4429999999999987,-0.37,1000,null,null,13.889849662780762,"poly",48,"square",1309,990,38.1,null,"junction box",14.9,"www.accusolarcorp.com","-","-","-","-","-",{"$f":"IF($O110=\"Sunpower Corp.\",3,(IF(OR($Q110=\"mono\",$Q110=\"poly\",$Q110=\"HIT\",$Q110=\"EFG\",$Q110=\"mono-LGBC\"),1,IF(OR($Q110=\"µc-Si / a-Si\",$Q110=\"a-Si (single)\",$Q110=\"a-Si (tandem)\",$Q110=\"a-Si (triple)\"),3,2))))","v":1},{"$f":"IF($O110=\"Sunpower Corp.\",3,(IF(OR($Q110=\"mono\",$Q110=\"poly\",$Q110=\"HIT\",$Q110=\"EFG\",$Q110=\"mono-LGBC\"),1,2)))","v":1},{"$f":"IF($O110=\"Sunpower Corp.\",3,(IF(OR($Q110=\"mono\",$Q110=\"poly\",$Q110=\"HIT\",$Q110=\"EFG\",$Q110=\"mono-LGBC\"),1,IF(OR($Q110=\"µc-Si / a-Si\",$Q110=\"a-Si (single)\",$Q110=\"a-Si (tandem)\",$Q110=\"a-Si (triple)\"),3,2))))","v":1},0,null,null,16571,null,null,108]
["Accusolarpower Co., Ltd. ASP610-A(200W)","Accusolarpower Co., Ltd. ","ASP610-A(200W)",200,"+3...-3",28.44,7.04,36.24,7.62,-123.21600000000002,6.8579999999999997,-0.37,1000,null,null,12.424369812011719,"poly",60,"square",1626,990,38.1,null,"junction box",20,"www.accusolarcorp.com","-","-","-","-","-",{"$f":"IF($O111=\"Sunpower Corp.\",3,(IF(OR($Q111=\"mono\",$Q111=\"poly\",$Q111=\"HIT\",$Q111=\"EFG\",$Q111=\"mono-LGBC\"),1,IF(OR($Q111=\"µc-Si / a-Si\",$Q111=\"a-Si (single)\",$Q111=\"a-Si (tandem)\",$Q111=\"a-Si (triple)\"),3,2))))","v":1},{"$f":"IF($O111=\"Sunpower Corp.\",3,(IF(OR($Q111=\"mono\",$Q111=\"poly\",$Q111=\"HIT\",$Q111=\"EFG\",$Q111=\"mono-LGBC\"),1,2)))","v":1},{"$f":"IF($O111=\"Sunpower Corp.\",3,(IF(OR($Q111=\"mono\",$Q111=\"poly\",$Q111=\"HIT\",$Q111=\"EFG\",$Q111=\"mono-LGBC\"),1,IF(OR($Q111=\"µc-Si / a-Si\",$Q111=\"a-Si (single)\",$Q111=\"a-Si (tandem)\",$Q111=\"a-Si (triple)\"),3,2))))","v":1},0,null,null,16572,null,null,109]
["Accusolarpower Co., Ltd. ASP610-A(205W)","Accusolarpower Co., Ltd. ","ASP610-A(205W)",205,"+3...-3",28.6,7.17,36.42,7.77,-123.82800000000002,6.9929999999999994,-0.37,1000,null,null,12.734979629516602,"poly",60,"square",1626,990,38.1,null,"junction box",20,"www.accusolarcorp.com","-","-","-","-","-",{"$f":"IF($O112=\"Sunpower Corp.\",3,(IF(OR($Q112=\"mono\",$Q112=\"poly\",$Q112=\"HIT\",$Q112=\"EFG\",$Q112=\"mono-LGBC\"),1,IF(OR($Q112=\"µc-Si / a-Si\",$Q112=\"a-Si (single)\",$Q112=\"a-Si (tandem)\",$Q112=\"a-Si (triple)\"),3,2))))","v":1},{"$f":"IF($O112=\"Sunpower Corp.\",3,(IF(OR($Q112=\"mono\",$Q112=\"poly\",$Q112=\"HIT\",$Q112=\"EFG\",$Q112=\"mono-LGBC\"),1,2)))","v":1},{"$f":"IF($O112=\"Sunpower Corp.\",3,(IF(OR($Q112=\"mono\",$Q112=\"poly\",$Q112=\"HIT\",$Q112=\"EFG\",$Q112=\"mono-LGBC\"),1,IF(OR($Q112=\"µc-Si / a-Si\",$Q112=\"a-Si (single)\",$Q112=\"a-Si (tandem)\",$Q112=\"a-Si (triple)\"),3,2))))","v":1},0,null,null,16573,null,null,110]
["Accusolarpower Co., Ltd. ASP610-A(210W)","Accusolarpower Co., Ltd. ","ASP610-A(210W)",210,"+3...-3",28.72,7.32,36.6,7.93,-124.44,7.1369999999999996,-0.37,1000,null,null,13.04557991027832,"poly",60,"square",1626,990,38.1,null,"junction box",20,"www.accusolarcorp.com","-","-","-","-","-",{"$f":"IF($O113=\"Sunpower Corp.\",3,(IF(OR($Q113=\"mono\",$Q113=\"poly\",$Q113=\"HIT\",$Q113=\"EFG\",$Q113=\"mono-LGBC\"),1,IF(OR($Q113=\"µc-Si / a-Si\",$Q113=\"a-Si (single)\",$Q113=\"a-Si (tandem)\",$Q113=\"a-Si (triple)\"),3,2))))","v":1},{"$f":"IF($O113=\"Sunpower Corp.\",3,(IF(OR($Q113=\"mono\",$Q113=\"poly\",$Q113=\"HIT\",$Q113=\"EFG\",$Q113=\"mono-LGBC\"),1,2)))","v":1},{"$f":"IF($O113=\"Sunpower Corp.\",3,(IF(OR($Q113=\"mono\",$Q113=\"poly\",$Q113=\"HIT\",$Q113=\"EFG\",$Q113=\"mono-LGBC\"),1,IF(OR($Q113=\"µc-Si / a-Si\",$Q113=\"a-Si (single)\",$Q113=\"a-Si (tandem)\",$Q113=\"a-Si (triple)\"),3,2))))","v":1},0,null,null,16574,null,null,111]
["Accusolarpower Co., Ltd. ASP610-A(215W)","Accusolarpower Co., Ltd. ","ASP610-A(215W)",215,"+3...-3",28.86,7.45,36.72,8,-124.848,7.2,-0.37,1000,null,null,13.356189727783203,"poly",60,"square",1626,990,38.1,null,"junction box",20,"www.accusolarcorp.com","-","-","-","-","-",{"$f":"IF($O114=\"Sunpower Corp.\",3,(IF(OR($Q114=\"mono\",$Q114=\"poly\",$Q114=\"HIT\",$Q114=\"EFG\",$Q114=\"mono-LGBC\"),1,IF(OR($Q114=\"µc-Si / a-Si\",$Q114=\"a-Si (single)\",$Q114=\"a-Si (tandem)\",$Q114=\"a-Si (triple)\"),3,2))))","v":1},{"$f":"IF($O114=\"Sunpower Corp.\",3,(IF(OR($Q114=\"mono\",$Q114=\"poly\",$Q114=\"HIT\",$Q114=\"EFG\",$Q114=\"mono-LGBC\"),1,2)))","v":1},{"$f":"IF($O114=\"Sunpower Corp.\",3,(IF(OR($Q114=\"mono\",$Q114=\"poly\",$Q114=\"HIT\",$Q114=\"EFG\",$Q114=\"mono-LGBC\"),1,IF(OR($Q114=\"µc-Si / a-Si\",$Q114=\"a-Si (single)\",$Q114=\"a-Si (tandem)\",$Q114=\"a-Si (triple)\"),3,2))))","v":1},0,null,null,16575,null,null,112]
["Accusolarpower Co., Ltd. ASP610-A(220W)","Accusolarpower Co., Ltd. ","ASP610-A(220W)",220,"+3...-3",29.2,7.54,36.9,8.1300000000000008,-125.46,7.3170000000000002,-0.37,1000,null,null,13.666799545288086,"poly",60,"square",1626,990,38.1,null,"junction box",20,"www.accusolarcorp.com","-","-","-","-","-",{"$f":"IF($O115=\"Sunpower Corp.\",3,(IF(OR($Q115=\"mono\",$Q115=\"poly\",$Q115=\"HIT\",$Q115=\"EFG\",$Q115=\"mono-LGBC\"),1,IF(OR($Q115=\"µc-Si / a-Si\",$Q115=\"a-Si (single)\",$Q115=\"a-Si (tandem)\",$Q115=\"a-Si (triple)\"),3,2))))","v":1},{"$f":"IF($O115=\"Sunpower Corp.\",3,(IF(OR($Q115=\"mono\",$Q115=\"poly\",$Q115=\"HIT\",$Q115=\"EFG\",$Q115=\"mono-LGBC\"),1,2)))","v":1},{"$f":"IF($O115=\"Sunpower Corp.\",3,(IF(OR($Q115=\"mono\",$Q115=\"poly\",$Q115=\"HIT\",$Q115=\"EFG\",$Q115=\"mono-LGBC\"),1,IF(OR($Q115=\"µc-Si / a-Si\",$Q115=\"a-Si (single)\",$Q115=\"a-Si (tandem)\",$Q115=\"a-Si (triple)\"),3,2))))","v":1},0,null,null,16576,null,null,113]
["Accusolarpower Co., Ltd. ASP610-A(225W)","Accusolarpower Co., Ltd. ","ASP610-A(225W)",225,"+3...-3",29.34,7.67,37.08,8.27,-126.07199999999999,7.4429999999999987,-0.37,1000,null,null,13.977410316467285,"poly",60,"square",1626,990,38.1,null,"junction box",20,"www.accusolarcorp.com","-","-","-","-","-",{"$f":"IF($O116=\"Sunpower Corp.\",3,(IF(OR($Q116=\"mono\",$Q116=\"poly\",$Q116=\"HIT\",$Q116=\"EFG\",$Q116=\"mono-LGBC\"),1,IF(OR($Q116=\"µc-Si / a-Si\",$Q116=\"a-Si (single)\",$Q116=\"a-Si (tandem)\",$Q116=\"a-Si (triple)\"),3,2))))","v":1},{"$f":"IF($O116=\"Sunpower Corp.\",3,(IF(OR($Q116=\"mono\",$Q116=\"poly\",$Q116=\"HIT\",$Q116=\"EFG\",$Q116=\"mono-LGBC\"),1,2)))","v":1},{"$f":"IF($O116=\"Sunpower Corp.\",3,(IF(OR($Q116=\"mono\",$Q116=\"poly\",$Q116=\"HIT\",$Q116=\"EFG\",$Q116=\"mono-LGBC\"),1,IF(OR($Q116=\"µc-Si / a-Si\",$Q116=\"a-Si (single)\",$Q116=\"a-Si (tandem)\",$Q116=\"a-Si (triple)\"),3,2))))","v":1},0,null,null,16577,null,null,114]
["Accusolarpower Co., Ltd. ASP610-A(230W)","Accusolarpower Co., Ltd. ","ASP610-A(230W)",230,"+3...-3",29.49,7.8,37.200000000000003,8.39,-126.48,7.5510000000000002,-0.37,1000,null,null,14.288020133972168,"poly",60,"square",1626,990,38.1,null,"junction box",20,"www.accusolarcorp.com","-","-","-","-","-",{"$f":"IF($O117=\"Sunpower Corp.\",3,(IF(OR($Q117=\"mono\",$Q117=\"poly\",$Q117=\"HIT\",$Q117=\"EFG\",$Q117=\"mono-LGBC\"),1,IF(OR($Q117=\"µc-Si / a-Si\",$Q117=\"a-Si (single)\",$Q117=\"a-Si (tandem)\",$Q117=\"a-Si (triple)\"),3,2))))","v":1},{"$f":"IF($O117=\"Sunpower Corp.\",3,(IF(OR($Q117=\"mono\",$Q117=\"poly\",$Q117=\"HIT\",$Q117=\"EFG\",$Q117=\"mono-LGBC\"),1,2)))","v":1},{"$f":"IF($O117=\"Sunpower Corp.\",3,(IF(OR($Q117=\"mono\",$Q117=\"poly\",$Q117=\"HIT\",$Q117=\"EFG\",$Q117=\"mono-LGBC\"),1,IF(OR($Q117=\"µc-Si / a-Si\",$Q117=\"a-Si (single)\",$Q117=\"a-Si (tandem)\",$Q117=\"a-Si (triple)\"),3,2))))","v":1},0,null,null,16578,null,null,115]
["Accusolarpower Co., Ltd. ASP610-A(235W)","Accusolarpower Co., Ltd. ","ASP610-A(235W)",235,"+3...-3",29.63,7.93,37.26,8.4499999999999993,-126.684,7.6050000000000004,-0.37,1000,null,null,14.598629951477051,"poly",60,"square",1626,990,38.1,null,"junction box",20,"www.accusolarcorp.com","-","-","-","-","-",{"$f":"IF($O118=\"Sunpower Corp.\",3,(IF(OR($Q118=\"mono\",$Q118=\"poly\",$Q118=\"HIT\",$Q118=\"EFG\",$Q118=\"mono-LGBC\"),1,IF(OR($Q118=\"µc-Si / a-Si\",$Q118=\"a-Si (single)\",$Q118=\"a-Si (tandem)\",$Q118=\"a-Si (triple)\"),3,2))))","v":1},{"$f":"IF($O118=\"Sunpower Corp.\",3,(IF(OR($Q118=\"mono\",$Q118=\"poly\",$Q118=\"HIT\",$Q118=\"EFG\",$Q118=\"mono-LGBC\"),1,2)))","v":1},{"$f":"IF($O118=\"Sunpower Corp.\",3,(IF(OR($Q118=\"mono\",$Q118=\"poly\",$Q118=\"HIT\",$Q118=\"EFG\",$Q118=\"mono-LGBC\"),1,IF(OR($Q118=\"µc-Si / a-Si\",$Q118=\"a-Si (single)\",$Q118=\"a-Si (tandem)\",$Q118=\"a-Si (triple)\"),3,2))))","v":1},0,null,null,16579,null,null,116]
["Accusolarpower Co., Ltd. ASP610-A(240W)","Accusolarpower Co., Ltd. ","ASP610-A(240W)",240,"+3...-3",29.77,8.06,37.380000000000003,8.57,-127.09200000000001,7.7130000000000001,-0.37,1000,null,null,14.909239768981934,"poly",60,"square",1626,990,38.1,null,"junction box",20,"www.accusolarcorp.com","-","-","-","-","-",{"$f":"IF($O119=\"Sunpower Corp.\",3,(IF(OR($Q119=\"mono\",$Q119=\"poly\",$Q119=\"HIT\",$Q119=\"EFG\",$Q119=\"mono-LGBC\"),1,IF(OR($Q119=\"µc-Si / a-Si\",$Q119=\"a-Si (single)\",$Q119=\"a-Si (tandem)\",$Q119=\"a-Si (triple)\"),3,2))))","v":1},{"$f":"IF($O119=\"Sunpower Corp.\",3,(IF(OR($Q119=\"mono\",$Q119=\"poly\",$Q119=\"HIT\",$Q119=\"EFG\",$Q119=\"mono-LGBC\"),1,2)))","v":1},{"$f":"IF($O119=\"Sunpower Corp.\",3,(IF(OR($Q119=\"mono\",$Q119=\"poly\",$Q119=\"HIT\",$Q119=\"EFG\",$Q119=\"mono-LGBC\"),1,IF(OR($Q119=\"µc-Si / a-Si\",$Q119=\"a-Si (single)\",$Q119=\"a-Si (tandem)\",$Q119=\"a-Si (triple)\"),3,2))))","v":1},0,null,null,16580,null,null,117]
["Accusolarpower Co., Ltd. ASP612-B(160W)","Accusolarpower Co., Ltd. ","ASP612-B(160W)",160,"+3...-3",35.1,4.5599999999999996,43.56,4.95,-148.10400000000001,4.4550000000000001,-0.37,1000,null,null,12.517410278320313,"mono",72,"pseudo-square",1580,809,38.1,null,"junction box",14.9,"www.accusolarcorp.com","-","-","-","-","-",{"$f":"IF($O120=\"Sunpower Corp.\",3,(IF(OR($Q120=\"mono\",$Q120=\"poly\",$Q120=\"HIT\",$Q120=\"EFG\",$Q120=\"mono-LGBC\"),1,IF(OR($Q120=\"µc-Si / a-Si\",$Q120=\"a-Si (single)\",$Q120=\"a-Si (tandem)\",$Q120=\"a-Si (triple)\"),3,2))))","v":1},{"$f":"IF($O120=\"Sunpower Corp.\",3,(IF(OR($Q120=\"mono\",$Q120=\"poly\",$Q120=\"HIT\",$Q120=\"EFG\",$Q120=\"mono-LGBC\"),1,2)))","v":1},{"$f":"IF($O120=\"Sunpower Corp.\",3,(IF(OR($Q120=\"mono\",$Q120=\"poly\",$Q120=\"HIT\",$Q120=\"EFG\",$Q120=\"mono-LGBC\"),1,IF(OR($Q120=\"µc-Si / a-Si\",$Q120=\"a-Si (single)\",$Q120=\"a-Si (tandem)\",$Q120=\"a-Si (triple)\"),3,2))))","v":1},0,null,null,16581,null,null,118]
["Accusolarpower Co., Ltd. ASP612-B(165W)","Accusolarpower Co., Ltd. ","ASP612-B(165W)",165,"+3...-3",35.299999999999997,4.58,43.84,5.08,-149.05600000000001,4.5720000000000001,-0.37,1000,null,null,12.90857982635498,"mono",72,"pseudo-square",1580,809,38.1,null,"junction box",14.9,"www.accusolarcorp.com","-","-","-","-","-",{"$f":"IF($O121=\"Sunpower Corp.\",3,(IF(OR($Q121=\"mono\",$Q121=\"poly\",$Q121=\"HIT\",$Q121=\"EFG\",$Q121=\"mono-LGBC\"),1,IF(OR($Q121=\"µc-Si / a-Si\",$Q121=\"a-Si (single)\",$Q121=\"a-Si (tandem)\",$Q121=\"a-Si (triple)\"),3,2))))","v":1},{"$f":"IF($O121=\"Sunpower Corp.\",3,(IF(OR($Q121=\"mono\",$Q121=\"poly\",$Q121=\"HIT\",$Q121=\"EFG\",$Q121=\"mono-LGBC\"),1,2)))","v":1},{"$f":"IF($O121=\"Sunpower Corp.\",3,(IF(OR($Q121=\"mono\",$Q121=\"poly\",$Q121=\"HIT\",$Q121=\"EFG\",$Q121=\"mono-LGBC\"),1,IF(OR($Q121=\"µc-Si / a-Si\",$Q121=\"a-Si (single)\",$Q121=\"a-Si (tandem)\",$Q121=\"a-Si (triple)\"),3,2))))","v":1},0,null,null,16582,null,null,119]
["Accusolarpower Co., Ltd. ASP612-B(170W)","Accusolarpower Co., Ltd. ","ASP612-B(170W)",170,"+3...-3",35.5,4.79,44.06,5.17,-149.80400000000003,4.6529999999999996,-0.37,1000,null,null,13.299739837646484,"mono",72,"pseudo-square",1580,809,38.1,null,"junction box",14.9,"www.accusolarcorp.com","-","-","-","-","-",{"$f":"IF($O122=\"Sunpower Corp.\",3,(IF(OR($Q122=\"mono\",$Q122=\"poly\",$Q122=\"HIT\",$Q122=\"EFG\",$Q122=\"mono-LGBC\"),1,IF(OR($Q122=\"µc-Si / a-Si\",$Q122=\"a-Si (single)\",$Q122=\"a-Si (tandem)\",$Q122=\"a-Si (triple)\"),3,2))))","v":1},{"$f":"IF($O122=\"Sunpower Corp.\",3,(IF(OR($Q122=\"mono\",$Q122=\"poly\",$Q122=\"HIT\",$Q122=\"EFG\",$Q122=\"mono-LGBC\"),1,2)))","v":1},{"$f":"IF($O122=\"Sunpower Corp.\",3,(IF(OR($Q122=\"mono\",$Q122=\"poly\",$Q122=\"HIT\",$Q122=\"EFG\",$Q122=\"mono-LGBC\"),1,IF(OR($Q122=\"µc-Si / a-Si\",$Q122=\"a-Si (single)\",$Q122=\"a-Si (tandem)\",$Q122=\"a-Si (triple)\"),3,2))))","v":1},0,null,null,16583,null,null,120]
["Accusolarpower Co., Ltd. ASP612-B(175W)","Accusolarpower Co., Ltd. ","ASP612-B(175W)",175,"+3...-3",35.799999999999997,4.8899999999999997,44.42,5.29,-151.02800000000002,4.7609999999999992,-0.37,1000,null,null,13.690910339355469,"mono",72,"pseudo-square",1580,809,38.1,null,"junction box",14.9,"www.accusolarcorp.com","-","-","-","-","-",{"$f":"IF($O123=\"Sunpower Corp.\",3,(IF(OR($Q123=\"mono\",$Q123=\"poly\",$Q123=\"HIT\",$Q123=\"EFG\",$Q123=\"mono-LGBC\"),1,IF(OR($Q123=\"µc-Si / a-Si\",$Q123=\"a-Si (single)\",$Q123=\"a-Si (tandem)\",$Q123=\"a-Si (triple)\"),3,2))))","v":1},{"$f":"IF($O123=\"Sunpower Corp.\",3,(IF(OR($Q123=\"mono\",$Q123=\"poly\",$Q123=\"HIT\",$Q123=\"EFG\",$Q123=\"mono-LGBC\"),1,2)))","v":1},{"$f":"IF($O123=\"Sunpower Corp.\",3,(IF(OR($Q123=\"mono\",$Q123=\"poly\",$Q123=\"HIT\",$Q123=\"EFG\",$Q123=\"mono-LGBC\"),1,IF(OR($Q123=\"µc-Si / a-Si\",$Q123=\"a-Si (single)\",$Q123=\"a-Si (tandem)\",$Q123=\"a-Si (triple)\"),3,2))))","v":1},0,null,null,16584,null,null,121]
["Accusolarpower Co., Ltd. ASP612-B(180W)","Accusolarpower Co., Ltd. ","ASP612-B(180W)",180,"+3...-3",36,5.01,44.7,5.35,-151.97999999999999,4.8150000000000004,-0.37,1000,null,null,14.082079887390137,"mono",72,"pseudo-square",1580,809,38.1,null,"junction box",14.9,"www.accusolarcorp.com","-","-","-","-","-",{"$f":"IF($O124=\"Sunpower Corp.\",3,(IF(OR($Q124=\"mono\",$Q124=\"poly\",$Q124=\"HIT\",$Q124=\"EFG\",$Q124=\"mono-LGBC\"),1,IF(OR($Q124=\"µc-Si / a-Si\",$Q124=\"a-Si (single)\",$Q124=\"a-Si (tandem)\",$Q124=\"a-Si (triple)\"),3,2))))","v":1},{"$f":"IF($O124=\"Sunpower Corp.\",3,(IF(OR($Q124=\"mono\",$Q124=\"poly\",$Q124=\"HIT\",$Q124=\"EFG\",$Q124=\"mono-LGBC\"),1,2)))","v":1},{"$f":"IF($O124=\"Sunpower Corp.\",3,(IF(OR($Q124=\"mono\",$Q124=\"poly\",$Q124=\"HIT\",$Q124=\"EFG\",$Q124=\"mono-LGBC\"),1,IF(OR($Q124=\"µc-Si / a-Si\",$Q124=\"a-Si (single)\",$Q124=\"a-Si (tandem)\",$Q124=\"a-Si (triple)\"),3,2))))","v":1},0,null,null,16585,null,null,122]
["Accusolarpower Co., Ltd. ASP612-B(185W)","Accusolarpower Co., Ltd. ","ASP612-B(185W)",185,"+3...-3",36.1,5.14,45.1,5.43,-153.34,4.8869999999999996,-0.37,1000,null,null,14.473250389099121,"mono",72,"pseudo-square",1580,809,38.1,null,"junction box",14.9,"www.accusolarcorp.com","-","-","-","-","-",{"$f":"IF($O125=\"Sunpower Corp.\",3,(IF(OR($Q125=\"mono\",$Q125=\"poly\",$Q125=\"HIT\",$Q125=\"EFG\",$Q125=\"mono-LGBC\"),1,IF(OR($Q125=\"µc-Si / a-Si\",$Q125=\"a-Si (single)\",$Q125=\"a-Si (tandem)\",$Q125=\"a-Si (triple)\"),3,2))))","v":1},{"$f":"IF($O125=\"Sunpower Corp.\",3,(IF(OR($Q125=\"mono\",$Q125=\"poly\",$Q125=\"HIT\",$Q125=\"EFG\",$Q125=\"mono-LGBC\"),1,2)))","v":1},{"$f":"IF($O125=\"Sunpower Corp.\",3,(IF(OR($Q125=\"mono\",$Q125=\"poly\",$Q125=\"HIT\",$Q125=\"EFG\",$Q125=\"mono-LGBC\"),1,IF(OR($Q125=\"µc-Si / a-Si\",$Q125=\"a-Si (single)\",$Q125=\"a-Si (tandem)\",$Q125=\"a-Si (triple)\"),3,2))))","v":1},0,null,null,16586,null,null,123]
["AD Solar Energy (China) AD 125x92,2-35m 55W","AD Solar Energy (China) ","AD 125x92,2-35m 55W",55,"+3...-3",17.100000000000001,3.22,21,3.76,-73.5,1.504,-0.5,1000,null,null,11.312219619750977,"mono",null,null,715,680,40,"aluminum","junction box",6.5,"www.adsolarchina.com","-","-","-","-","-",{"$f":"IF($O126=\"Sunpower Corp.\",3,(IF(OR($Q126=\"mono\",$Q126=\"poly\",$Q126=\"HIT\",$Q126=\"EFG\",$Q126=\"mono-LGBC\"),1,IF(OR($Q126=\"µc-Si / a-Si\",$Q126=\"a-Si (single)\",$Q126=\"a-Si (tandem)\",$Q126=\"a-Si (triple)\"),3,2))))","v":1},{"$f":"IF($O126=\"Sunpower Corp.\",3,(IF(OR($Q126=\"mono\",$Q126=\"poly\",$Q126=\"HIT\",$Q126=\"EFG\",$Q126=\"mono-LGBC\"),1,2)))","v":1},{"$f":"IF($O126=\"Sunpower Corp.\",3,(IF(OR($Q126=\"mono\",$Q126=\"poly\",$Q126=\"HIT\",$Q126=\"EFG\",$Q126=\"mono-LGBC\"),1,IF(OR($Q126=\"µc-Si / a-Si\",$Q126=\"a-Si (single)\",$Q126=\"a-Si (tandem)\",$Q126=\"a-Si (triple)\"),3,2))))","v":1},0,null,null,26191,null,null,124]
["AD Solar Energy (China) AD 125x92,2-35m 60W","AD Solar Energy (China) ","AD 125x92,2-35m 60W",60,"+3...-3",17.100000000000001,3.45,21.3,3.9,-74.55,1.56,-0.5,1000,null,null,12.34060001373291,"mono",35,null,715,680,40,"aluminum","junction box",6.5,"www.adsolarchina.com","-","-","-","-","-",{"$f":"IF($O127=\"Sunpower Corp.\",3,(IF(OR($Q127=\"mono\",$Q127=\"poly\",$Q127=\"HIT\",$Q127=\"EFG\",$Q127=\"mono-LGBC\"),1,IF(OR($Q127=\"µc-Si / a-Si\",$Q127=\"a-Si (single)\",$Q127=\"a-Si (tandem)\",$Q127=\"a-Si (triple)\"),3,2))))","v":1},{"$f":"IF($O127=\"Sunpower Corp.\",3,(IF(OR($Q127=\"mono\",$Q127=\"poly\",$Q127=\"HIT\",$Q127=\"EFG\",$Q127=\"mono-LGBC\"),1,2)))","v":1},{"$f":"IF($O127=\"Sunpower Corp.\",3,(IF(OR($Q127=\"mono\",$Q127=\"poly\",$Q127=\"HIT\",$Q127=\"EFG\",$Q127=\"mono-LGBC\"),1,IF(OR($Q127=\"µc-Si / a-Si\",$Q127=\"a-Si (single)\",$Q127=\"a-Si (tandem)\",$Q127=\"a-Si (triple)\"),3,2))))","v":1},0,null,null,26138,null,null,125]
["AD Solar Energy (China) AD 125x92,2-70m 110W","AD Solar Energy (China) ","AD 125x92,2-70m 110W",110,"+3...-3",34.200000000000003,3.22,42,3.76,-147,1.504,-0.35,1000,null,null,11.722080230712891,"mono",null,null,1380,680,40,"aluminum","junction box",12,"www.adsolarchina.com","-","-","-","-","-",{"$f":"IF($O128=\"Sunpower Corp.\",3,(IF(OR($Q128=\"mono\",$Q128=\"poly\",$Q128=\"HIT\",$Q128=\"EFG\",$Q128=\"mono-LGBC\"),1,IF(OR($Q128=\"µc-Si / a-Si\",$Q128=\"a-Si (single)\",$Q128=\"a-Si (tandem)\",$Q128=\"a-Si (triple)\"),3,2))))","v":1},{"$f":"IF($O128=\"Sunpower Corp.\",3,(IF(OR($Q128=\"mono\",$Q128=\"poly\",$Q128=\"HIT\",$Q128=\"EFG\",$Q128=\"mono-LGBC\"),1,2)))","v":1},{"$f":"IF($O128=\"Sunpower Corp.\",3,(IF(OR($Q128=\"mono\",$Q128=\"poly\",$Q128=\"HIT\",$Q128=\"EFG\",$Q128=\"mono-LGBC\"),1,IF(OR($Q128=\"µc-Si / a-Si\",$Q128=\"a-Si (single)\",$Q128=\"a-Si (tandem)\",$Q128=\"a-Si (triple)\"),3,2))))","v":1},0,null,null,26133,null,null,126]
["AD Solar Energy (China) AD 125x92,2-70m 120W","AD Solar Energy (China) ","AD 125x92,2-70m 120W",120,"+3...-3",34.799999999999997,3.45,42.6,3.9,-149.1,1.56,-0.5,1000,null,null,12.7877197265625,"mono",null,null,1380,680,40,"aluminum","junction box",12,"www.adsolarchina.com","-","-","-","-","-",{"$f":"IF($O129=\"Sunpower Corp.\",3,(IF(OR($Q129=\"mono\",$Q129=\"poly\",$Q129=\"HIT\",$Q129=\"EFG\",$Q129=\"mono-LGBC\"),1,IF(OR($Q129=\"µc-Si / a-Si\",$Q129=\"a-Si (single)\",$Q129=\"a-Si (tandem)\",$Q129=\"a-Si (triple)\"),3,2))))","v":1},{"$f":"IF($O129=\"Sunpower Corp.\",3,(IF(OR($Q129=\"mono\",$Q129=\"poly\",$Q129=\"HIT\",$Q129=\"EFG\",$Q129=\"mono-LGBC\"),1,2)))","v":1},{"$f":"IF($O129=\"Sunpower Corp.\",3,(IF(OR($Q129=\"mono\",$Q129=\"poly\",$Q129=\"HIT\",$Q129=\"EFG\",$Q129=\"mono-LGBC\"),1,IF(OR($Q129=\"µc-Si / a-Si\",$Q129=\"a-Si (single)\",$Q129=\"a-Si (tandem)\",$Q129=\"a-Si (triple)\"),3,2))))","v":1},0,null,null,26132,null,null,127]
["Advanced Green Technologies PVL-144","Advanced Green Technologies ","PVL-144",144,"+5...-5",33,4.3600000000000003,46.2,5.3,-175.56,5.3,-0.21,1000,null,"United Solar Ovonic LLC",6.6620888710021973,"a-Si",22,"rectangular",5486,394,4,"frameless","cable",7.7,"www.agt.com","-","-","-","-","-",{"$f":"IF($O130=\"Sunpower Corp.\",3,(IF(OR($Q130=\"mono\",$Q130=\"poly\",$Q130=\"HIT\",$Q130=\"EFG\",$Q130=\"mono-LGBC\"),1,IF(OR($Q130=\"µc-Si / a-Si\",$Q130=\"a-Si (single)\",$Q130=\"a-Si (tandem)\",$Q130=\"a-Si (triple)\"),3,2))))","v":2},{"$f":"IF($O130=\"Sunpower Corp.\",3,(IF(OR($Q130=\"mono\",$Q130=\"poly\",$Q130=\"HIT\",$Q130=\"EFG\",$Q130=\"mono-LGBC\"),1,2)))","v":2},{"$f":"IF($O130=\"Sunpower Corp.\",3,(IF(OR($Q130=\"mono\",$Q130=\"poly\",$Q130=\"HIT\",$Q130=\"EFG\",$Q130=\"mono-LGBC\"),1,IF(OR($Q130=\"µc-Si / a-Si\",$Q130=\"a-Si (single)\",$Q130=\"a-Si (tandem)\",$Q130=\"a-Si (triple)\"),3,2))))","v":2},0,null,null,21790,null,null,128]
["Advanced Solar Photonics AP-220PK","Advanced Solar Photonics ","AP-220PK",220,"+3...-3",29.07,7.57,36.46,8.1199999999999992,-123.96400000000001,4.871999999999999,-0.4,null,null,null,13.440899848937988,"poly",60,"square",1655,989,39,"aluminum","junction box",19.600000000000001,"www.advancedsolarphotonics.com","-","-","-","-","-",{"$f":"IF($O131=\"Sunpower Corp.\",3,(IF(OR($Q131=\"mono\",$Q131=\"poly\",$Q131=\"HIT\",$Q131=\"EFG\",$Q131=\"mono-LGBC\"),1,IF(OR($Q131=\"µc-Si / a-Si\",$Q131=\"a-Si (single)\",$Q131=\"a-Si (tandem)\",$Q131=\"a-Si (triple)\"),3,2))))","v":1},{"$f":"IF($O131=\"Sunpower Corp.\",3,(IF(OR($Q131=\"mono\",$Q131=\"poly\",$Q131=\"HIT\",$Q131=\"EFG\",$Q131=\"mono-LGBC\"),1,2)))","v":1},{"$f":"IF($O131=\"Sunpower Corp.\",3,(IF(OR($Q131=\"mono\",$Q131=\"poly\",$Q131=\"HIT\",$Q131=\"EFG\",$Q131=\"mono-LGBC\"),1,IF(OR($Q131=\"µc-Si / a-Si\",$Q131=\"a-Si (single)\",$Q131=\"a-Si (tandem)\",$Q131=\"a-Si (triple)\"),3,2))))","v":1},0,null,null,25026,null,null,129]
["Advanced Solar Photonics AP-225PK","Advanced Solar Photonics ","AP-225PK",225,"+3...-3",29.44,7.65,36.659999999999997,8.2100000000000009,-124.64399999999999,4.9260000000000002,-0.4,null,null,null,13.746379852294922,"poly",60,"square",1655,989,39,"aluminum","junction box",19.600000000000001,"www.advancedsolarphotonics.com","-","-","-","-","-",{"$f":"IF($O132=\"Sunpower Corp.\",3,(IF(OR($Q132=\"mono\",$Q132=\"poly\",$Q132=\"HIT\",$Q132=\"EFG\",$Q132=\"mono-LGBC\"),1,IF(OR($Q132=\"µc-Si / a-Si\",$Q132=\"a-Si (single)\",$Q132=\"a-Si (tandem)\",$Q132=\"a-Si (triple)\"),3,2))))","v":1},{"$f":"IF($O132=\"Sunpower Corp.\",3,(IF(OR($Q132=\"mono\",$Q132=\"poly\",$Q132=\"HIT\",$Q132=\"EFG\",$Q132=\"mono-LGBC\"),1,2)))","v":1},{"$f":"IF($O132=\"Sunpower Corp.\",3,(IF(OR($Q132=\"mono\",$Q132=\"poly\",$Q132=\"HIT\",$Q132=\"EFG\",$Q132=\"mono-LGBC\"),1,IF(OR($Q132=\"µc-Si / a-Si\",$Q132=\"a-Si (single)\",$Q132=\"a-Si (tandem)\",$Q132=\"a-Si (triple)\"),3,2))))","v":1},0,null,null,25027,null,null,130]
["Advanced Solar Photonics AP-230PK","Advanced Solar Photonics ","AP-230PK",230,"+3...-3",29.81,7.72,36.86,8.3000000000000007,-125.32400000000001,4.9800000000000004,-0.4,null,null,null,14.051850318908691,"poly",60,"square",1655,989,39,"aluminum","junction box",19.600000000000001,"www.advancedsolarphotonics.com","-","-","-","-","-",{"$f":"IF($O133=\"Sunpower Corp.\",3,(IF(OR($Q133=\"mono\",$Q133=\"poly\",$Q133=\"HIT\",$Q133=\"EFG\",$Q133=\"mono-LGBC\"),1,IF(OR($Q133=\"µc-Si / a-Si\",$Q133=\"a-Si (single)\",$Q133=\"a-Si (tandem)\",$Q133=\"a-Si (triple)\"),3,2))))","v":1},{"$f":"IF($O133=\"Sunpower Corp.\",3,(IF(OR($Q133=\"mono\",$Q133=\"poly\",$Q133=\"HIT\",$Q133=\"EFG\",$Q133=\"mono-LGBC\"),1,2)))","v":1},{"$f":"IF($O133=\"Sunpower Corp.\",3,(IF(OR($Q133=\"mono\",$Q133=\"poly\",$Q133=\"HIT\",$Q133=\"EFG\",$Q133=\"mono-LGBC\"),1,IF(OR($Q133=\"µc-Si / a-Si\",$Q133=\"a-Si (single)\",$Q133=\"a-Si (tandem)\",$Q133=\"a-Si (triple)\"),3,2))))","v":1},0,null,null,25028,null,null,131]
["Advanced Solar Photonics AP-235PK","Advanced Solar Photonics ","AP-235PK",235,"+3...-3",30.18,7.79,37.06,8.39,-126.004,5.0340000000000007,-0.4,null,null,null,14.357330322265625,"poly",60,"square",1655,989,39,"aluminum","junction box",19.600000000000001,"www.advancedsolarphotonics.com","-","-","-","-","-",{"$f":"IF($O134=\"Sunpower Corp.\",3,(IF(OR($Q134=\"mono\",$Q134=\"poly\",$Q134=\"HIT\",$Q134=\"EFG\",$Q134=\"mono-LGBC\"),1,IF(OR($Q134=\"µc-Si / a-Si\",$Q134=\"a-Si (single)\",$Q134=\"a-Si (tandem)\",$Q134=\"a-Si (triple)\"),3,2))))","v":1},{"$f":"IF($O134=\"Sunpower Corp.\",3,(IF(OR($Q134=\"mono\",$Q134=\"poly\",$Q134=\"HIT\",$Q134=\"EFG\",$Q134=\"mono-LGBC\"),1,2)))","v":1},{"$f":"IF($O134=\"Sunpower Corp.\",3,(IF(OR($Q134=\"mono\",$Q134=\"poly\",$Q134=\"HIT\",$Q134=\"EFG\",$Q134=\"mono-LGBC\"),1,IF(OR($Q134=\"µc-Si / a-Si\",$Q134=\"a-Si (single)\",$Q134=\"a-Si (tandem)\",$Q134=\"a-Si (triple)\"),3,2))))","v":1},0,null,null,25029,null,null,132]
["Advanced Solar Photonics AP-240PK","Advanced Solar Photonics ","AP-240PK",240,"+3...-3",30.54,7.87,37.26,8.48,-126.684,5.0880000000000001,-0.4,null,null,null,14.662799835205078,"poly",60,"square",1655,989,39,"aluminum","junction box",19.600000000000001,"www.advancedsolarphotonics.com","-","-","-","-","-",{"$f":"IF($O135=\"Sunpower Corp.\",3,(IF(OR($Q135=\"mono\",$Q135=\"poly\",$Q135=\"HIT\",$Q135=\"EFG\",$Q135=\"mono-LGBC\"),1,IF(OR($Q135=\"µc-Si / a-Si\",$Q135=\"a-Si (single)\",$Q135=\"a-Si (tandem)\",$Q135=\"a-Si (triple)\"),3,2))))","v":1},{"$f":"IF($O135=\"Sunpower Corp.\",3,(IF(OR($Q135=\"mono\",$Q135=\"poly\",$Q135=\"HIT\",$Q135=\"EFG\",$Q135=\"mono-LGBC\"),1,2)))","v":1},{"$f":"IF($O135=\"Sunpower Corp.\",3,(IF(OR($Q135=\"mono\",$Q135=\"poly\",$Q135=\"HIT\",$Q135=\"EFG\",$Q135=\"mono-LGBC\"),1,IF(OR($Q135=\"µc-Si / a-Si\",$Q135=\"a-Si (single)\",$Q135=\"a-Si (tandem)\",$Q135=\"a-Si (triple)\"),3,2))))","v":1},0,null,null,25030,null,null,133]
["Advanced Solar Photonics ASP-138SM","Advanced Solar Photonics ","ASP-138SM",138,"+3...-3",17,8.7200000000000006,21,8.7200000000000006,-73.5,2.6159999999999997,-0.46,null,null,null,14.813220024108887,"mono",32,"pseudo-square",1370,680,6,"frameless","junction box MC4",8.1999999999999993,"www.advancedsolarphotonics.com","-","-","-","-","-",{"$f":"IF($O136=\"Sunpower Corp.\",3,(IF(OR($Q136=\"mono\",$Q136=\"poly\",$Q136=\"HIT\",$Q136=\"EFG\",$Q136=\"mono-LGBC\"),1,IF(OR($Q136=\"µc-Si / a-Si\",$Q136=\"a-Si (single)\",$Q136=\"a-Si (tandem)\",$Q136=\"a-Si (triple)\"),3,2))))","v":1},{"$f":"IF($O136=\"Sunpower Corp.\",3,(IF(OR($Q136=\"mono\",$Q136=\"poly\",$Q136=\"HIT\",$Q136=\"EFG\",$Q136=\"mono-LGBC\"),1,2)))","v":1},{"$f":"IF($O136=\"Sunpower Corp.\",3,(IF(OR($Q136=\"mono\",$Q136=\"poly\",$Q136=\"HIT\",$Q136=\"EFG\",$Q136=\"mono-LGBC\"),1,IF(OR($Q136=\"µc-Si / a-Si\",$Q136=\"a-Si (single)\",$Q136=\"a-Si (tandem)\",$Q136=\"a-Si (triple)\"),3,2))))","v":1},0,null,null,26849,null,null,134]
["Advanced Solar Photonics ASP-230M","Advanced Solar Photonics ","ASP-230M",230,"+3...-3",30,7.67,36,8.59,-122.4,7.7309999999999999,-0.37,null,null,null,14.051810264587402,"mono",60,"pseudo-square",1650,992,46,"aluminum","junction box MC4",18.5,"www.advancedsolarphotonics.com","-","-","-","-","-",{"$f":"IF($O137=\"Sunpower Corp.\",3,(IF(OR($Q137=\"mono\",$Q137=\"poly\",$Q137=\"HIT\",$Q137=\"EFG\",$Q137=\"mono-LGBC\"),1,IF(OR($Q137=\"µc-Si / a-Si\",$Q137=\"a-Si (single)\",$Q137=\"a-Si (tandem)\",$Q137=\"a-Si (triple)\"),3,2))))","v":1},{"$f":"IF($O137=\"Sunpower Corp.\",3,(IF(OR($Q137=\"mono\",$Q137=\"poly\",$Q137=\"HIT\",$Q137=\"EFG\",$Q137=\"mono-LGBC\"),1,2)))","v":1},{"$f":"IF($O137=\"Sunpower Corp.\",3,(IF(OR($Q137=\"mono\",$Q137=\"poly\",$Q137=\"HIT\",$Q137=\"EFG\",$Q137=\"mono-LGBC\"),1,IF(OR($Q137=\"µc-Si / a-Si\",$Q137=\"a-Si (single)\",$Q137=\"a-Si (tandem)\",$Q137=\"a-Si (triple)\"),3,2))))","v":1},0,null,null,25031,null,null,135]
["Advanced Solar Photonics ASP-235M","Advanced Solar Photonics ","ASP-235M",235,"+3...-3",30,7.83,36,8.77,-122.4,7.8929999999999989,-0.37,null,null,null,14.357279777526855,"mono",60,"pseudo-square",1650,992,46,"aluminum","junction box MC4",18.5,"www.advancedsolarphotonics.com","-","-","-","-","-",{"$f":"IF($O138=\"Sunpower Corp.\",3,(IF(OR($Q138=\"mono\",$Q138=\"poly\",$Q138=\"HIT\",$Q138=\"EFG\",$Q138=\"mono-LGBC\"),1,IF(OR($Q138=\"µc-Si / a-Si\",$Q138=\"a-Si (single)\",$Q138=\"a-Si (tandem)\",$Q138=\"a-Si (triple)\"),3,2))))","v":1},{"$f":"IF($O138=\"Sunpower Corp.\",3,(IF(OR($Q138=\"mono\",$Q138=\"poly\",$Q138=\"HIT\",$Q138=\"EFG\",$Q138=\"mono-LGBC\"),1,2)))","v":1},{"$f":"IF($O138=\"Sunpower Corp.\",3,(IF(OR($Q138=\"mono\",$Q138=\"poly\",$Q138=\"HIT\",$Q138=\"EFG\",$Q138=\"mono-LGBC\"),1,IF(OR($Q138=\"µc-Si / a-Si\",$Q138=\"a-Si (single)\",$Q138=\"a-Si (tandem)\",$Q138=\"a-Si (triple)\"),3,2))))","v":1},0,null,null,25032,null,null,136]
["Advanced Solar Photonics ASP-240M","Advanced Solar Photonics ","ASP-240M",240,"+3...-3",30,8,36,8.9600000000000009,-122.4,8.0640000000000001,-0.37,null,null,null,14.662759780883789,"mono",60,"pseudo-square",1650,992,46,"aluminum","junction box MC4",18.5,"www.advancedsolarphotonics.com","-","-","-","-","-",{"$f":"IF($O139=\"Sunpower Corp.\",3,(IF(OR($Q139=\"mono\",$Q139=\"poly\",$Q139=\"HIT\",$Q139=\"EFG\",$Q139=\"mono-LGBC\"),1,IF(OR($Q139=\"µc-Si / a-Si\",$Q139=\"a-Si (single)\",$Q139=\"a-Si (tandem)\",$Q139=\"a-Si (triple)\"),3,2))))","v":1},{"$f":"IF($O139=\"Sunpower Corp.\",3,(IF(OR($Q139=\"mono\",$Q139=\"poly\",$Q139=\"HIT\",$Q139=\"EFG\",$Q139=\"mono-LGBC\"),1,2)))","v":1},{"$f":"IF($O139=\"Sunpower Corp.\",3,(IF(OR($Q139=\"mono\",$Q139=\"poly\",$Q139=\"HIT\",$Q139=\"EFG\",$Q139=\"mono-LGBC\"),1,IF(OR($Q139=\"µc-Si / a-Si\",$Q139=\"a-Si (single)\",$Q139=\"a-Si (tandem)\",$Q139=\"a-Si (triple)\"),3,2))))","v":1},0,null,null,25033,null,null,137]
["Advanced Solar Photonics ASP-245M","Advanced Solar Photonics ","ASP-245M",245,"+3...-3",30.6,8.0299999999999994,36.700000000000003,8.9700000000000006,-124.78,8.0730000000000004,-0.37,null,null,null,14.968230247497559,"mono",60,"pseudo-square",1650,992,46,"aluminum","junction box MC4",18.5,"www.advancedsolarphotonics.com","-","-","-","-","-",{"$f":"IF($O140=\"Sunpower Corp.\",3,(IF(OR($Q140=\"mono\",$Q140=\"poly\",$Q140=\"HIT\",$Q140=\"EFG\",$Q140=\"mono-LGBC\"),1,IF(OR($Q140=\"µc-Si / a-Si\",$Q140=\"a-Si (single)\",$Q140=\"a-Si (tandem)\",$Q140=\"a-Si (triple)\"),3,2))))","v":1},{"$f":"IF($O140=\"Sunpower Corp.\",3,(IF(OR($Q140=\"mono\",$Q140=\"poly\",$Q140=\"HIT\",$Q140=\"EFG\",$Q140=\"mono-LGBC\"),1,2)))","v":1},{"$f":"IF($O140=\"Sunpower Corp.\",3,(IF(OR($Q140=\"mono\",$Q140=\"poly\",$Q140=\"HIT\",$Q140=\"EFG\",$Q140=\"mono-LGBC\"),1,IF(OR($Q140=\"µc-Si / a-Si\",$Q140=\"a-Si (single)\",$Q140=\"a-Si (tandem)\",$Q140=\"a-Si (triple)\"),3,2))))","v":1},0,null,null,25034,null,null,138]
["Advanced Solar Photonics ASP-250M","Advanced Solar Photonics ","ASP-250M",250,"+3...-3",30.7,8.14,36.799999999999997,8.99,-125.12,8.0909999999999993,-0.37,null,null,null,15.273699760437012,"mono",60,"pseudo-square",1650,992,46,"aluminum","junction box MC4",18.5,"www.advancedsolarphotonics.com","-","-","-","-","-",{"$f":"IF($O141=\"Sunpower Corp.\",3,(IF(OR($Q141=\"mono\",$Q141=\"poly\",$Q141=\"HIT\",$Q141=\"EFG\",$Q141=\"mono-LGBC\"),1,IF(OR($Q141=\"µc-Si / a-Si\",$Q141=\"a-Si (single)\",$Q141=\"a-Si (tandem)\",$Q141=\"a-Si (triple)\"),3,2))))","v":1},{"$f":"IF($O141=\"Sunpower Corp.\",3,(IF(OR($Q141=\"mono\",$Q141=\"poly\",$Q141=\"HIT\",$Q141=\"EFG\",$Q141=\"mono-LGBC\"),1,2)))","v":1},{"$f":"IF($O141=\"Sunpower Corp.\",3,(IF(OR($Q141=\"mono\",$Q141=\"poly\",$Q141=\"HIT\",$Q141=\"EFG\",$Q141=\"mono-LGBC\"),1,IF(OR($Q141=\"µc-Si / a-Si\",$Q141=\"a-Si (single)\",$Q141=\"a-Si (tandem)\",$Q141=\"a-Si (triple)\"),3,2))))","v":1},0,null,null,25035,null,null,139]
["Advanced Solar Photonics ASP-390M","Advanced Solar Photonics ","ASP-390M",390,"+2...-2",49.38,7.92,59.62,8.42,-238.48,4.21,-0.5,1000,null,null,15.212510108947754,"mono",96,"pseudo-square",1960,1308,40,"aluminum","junction box MC4",35.5,"www.advancedsolarphotonics.com","-","-","-","-","-",{"$f":"IF($O142=\"Sunpower Corp.\",3,(IF(OR($Q142=\"mono\",$Q142=\"poly\",$Q142=\"HIT\",$Q142=\"EFG\",$Q142=\"mono-LGBC\"),1,IF(OR($Q142=\"µc-Si / a-Si\",$Q142=\"a-Si (single)\",$Q142=\"a-Si (tandem)\",$Q142=\"a-Si (triple)\"),3,2))))","v":1},{"$f":"IF($O142=\"Sunpower Corp.\",3,(IF(OR($Q142=\"mono\",$Q142=\"poly\",$Q142=\"HIT\",$Q142=\"EFG\",$Q142=\"mono-LGBC\"),1,2)))","v":1},{"$f":"IF($O142=\"Sunpower Corp.\",3,(IF(OR($Q142=\"mono\",$Q142=\"poly\",$Q142=\"HIT\",$Q142=\"EFG\",$Q142=\"mono-LGBC\"),1,IF(OR($Q142=\"µc-Si / a-Si\",$Q142=\"a-Si (single)\",$Q142=\"a-Si (tandem)\",$Q142=\"a-Si (triple)\"),3,2))))","v":1},0,null,null,26857,null,null,140]
["Advanced Solar Photonics ASP-414IS","Advanced Solar Photonics ","ASP-414IS",414,"+3...-3",50.6,8.1839999999999993,60.6,8.7200000000000006,-212.1,2.6159999999999997,-0.46,null,null,null,15.034319877624512,"mono",96,"pseudo-square",2010,1370,6,"frameless","junction box MC4",22.7,"www.advancedsolarphotonics.com","-","-","-","-","-",{"$f":"IF($O143=\"Sunpower Corp.\",3,(IF(OR($Q143=\"mono\",$Q143=\"poly\",$Q143=\"HIT\",$Q143=\"EFG\",$Q143=\"mono-LGBC\"),1,IF(OR($Q143=\"µc-Si / a-Si\",$Q143=\"a-Si (single)\",$Q143=\"a-Si (tandem)\",$Q143=\"a-Si (triple)\"),3,2))))","v":1},{"$f":"IF($O143=\"Sunpower Corp.\",3,(IF(OR($Q143=\"mono\",$Q143=\"poly\",$Q143=\"HIT\",$Q143=\"EFG\",$Q143=\"mono-LGBC\"),1,2)))","v":1},{"$f":"IF($O143=\"Sunpower Corp.\",3,(IF(OR($Q143=\"mono\",$Q143=\"poly\",$Q143=\"HIT\",$Q143=\"EFG\",$Q143=\"mono-LGBC\"),1,IF(OR($Q143=\"µc-Si / a-Si\",$Q143=\"a-Si (single)\",$Q143=\"a-Si (tandem)\",$Q143=\"a-Si (triple)\"),3,2))))","v":1},0,null,null,26858,null,null,141]
["Advanced Solar Photonics ASP-828IS","Advanced Solar Photonics ","ASP-828IS",828,"+3...-3",101.2,8.1839999999999993,121.2,8.7200000000000006,-424.2,4.3600000000000003,-0.46,null,null,null,15.662380218505859,"mono",192,"pseudo-square",2638,2004,6,"frameless","junction box MC4",41.7,"www.advancedsolarphotonics.com","-","-","-","-","-",{"$f":"IF($O144=\"Sunpower Corp.\",3,(IF(OR($Q144=\"mono\",$Q144=\"poly\",$Q144=\"HIT\",$Q144=\"EFG\",$Q144=\"mono-LGBC\"),1,IF(OR($Q144=\"µc-Si / a-Si\",$Q144=\"a-Si (single)\",$Q144=\"a-Si (tandem)\",$Q144=\"a-Si (triple)\"),3,2))))","v":1},{"$f":"IF($O144=\"Sunpower Corp.\",3,(IF(OR($Q144=\"mono\",$Q144=\"poly\",$Q144=\"HIT\",$Q144=\"EFG\",$Q144=\"mono-LGBC\"),1,2)))","v":1},{"$f":"IF($O144=\"Sunpower Corp.\",3,(IF(OR($Q144=\"mono\",$Q144=\"poly\",$Q144=\"HIT\",$Q144=\"EFG\",$Q144=\"mono-LGBC\"),1,IF(OR($Q144=\"µc-Si / a-Si\",$Q144=\"a-Si (single)\",$Q144=\"a-Si (tandem)\",$Q144=\"a-Si (triple)\"),3,2))))","v":1},0,null,null,26859,null,null,142]
["Advanced-Bioenergy BIO-155 mono","Advanced-Bioenergy ","BIO-155 mono",155,"+3...0",34.4,4.51,43.2,4.9800000000000004,-149.90399999999997,1.3944000000000003,-0.47099999999999997,1000,null,null,12.141249656677246,"mono",72,"pseudo-square",1580,808,null,"aluminum","junction box MC4",16,"www.bioenergysolar.com","-","-","-","-","-",{"$f":"IF($O145=\"Sunpower Corp.\",3,(IF(OR($Q145=\"mono\",$Q145=\"poly\",$Q145=\"HIT\",$Q145=\"EFG\",$Q145=\"mono-LGBC\"),1,IF(OR($Q145=\"µc-Si / a-Si\",$Q145=\"a-Si (single)\",$Q145=\"a-Si (tandem)\",$Q145=\"a-Si (triple)\"),3,2))))","v":1},{"$f":"IF($O145=\"Sunpower Corp.\",3,(IF(OR($Q145=\"mono\",$Q145=\"poly\",$Q145=\"HIT\",$Q145=\"EFG\",$Q145=\"mono-LGBC\"),1,2)))","v":1},{"$f":"IF($O145=\"Sunpower Corp.\",3,(IF(OR($Q145=\"mono\",$Q145=\"poly\",$Q145=\"HIT\",$Q145=\"EFG\",$Q145=\"mono-LGBC\"),1,IF(OR($Q145=\"µc-Si / a-Si\",$Q145=\"a-Si (single)\",$Q145=\"a-Si (tandem)\",$Q145=\"a-Si (triple)\"),3,2))))","v":1},0,null,null,18952,null,null,143]
["Advanced-Bioenergy BIO-160 mono","Advanced-Bioenergy ","BIO-160 mono",160,"+3...0",34.4,4.66,43.2,5,-149.90399999999997,1.4,-0.47099999999999997,1000,null,null,12.532899856567383,"mono",72,"pseudo-square",1580,808,null,"aluminum","junction box MC4",16,"www.bioenergysolar.com","-","-","-","-","-",{"$f":"IF($O146=\"Sunpower Corp.\",3,(IF(OR($Q146=\"mono\",$Q146=\"poly\",$Q146=\"HIT\",$Q146=\"EFG\",$Q146=\"mono-LGBC\"),1,IF(OR($Q146=\"µc-Si / a-Si\",$Q146=\"a-Si (single)\",$Q146=\"a-Si (tandem)\",$Q146=\"a-Si (triple)\"),3,2))))","v":1},{"$f":"IF($O146=\"Sunpower Corp.\",3,(IF(OR($Q146=\"mono\",$Q146=\"poly\",$Q146=\"HIT\",$Q146=\"EFG\",$Q146=\"mono-LGBC\"),1,2)))","v":1},{"$f":"IF($O146=\"Sunpower Corp.\",3,(IF(OR($Q146=\"mono\",$Q146=\"poly\",$Q146=\"HIT\",$Q146=\"EFG\",$Q146=\"mono-LGBC\"),1,IF(OR($Q146=\"µc-Si / a-Si\",$Q146=\"a-Si (single)\",$Q146=\"a-Si (tandem)\",$Q146=\"a-Si (triple)\"),3,2))))","v":1},0,null,null,18953,null,null,144]
["Advanced-Bioenergy BIO-160 poly","Advanced-Bioenergy ","BIO-160 poly",160,"+3...0",22.9,7,28.8,7.6,-100.8,4.18,-0.48,1000,null,null,12.182049751281738,"poly",60,"square",1324,992,45,"aluminum","junction box MC4",16,"www.bioenergysolar.com","-","-","-","-","-",{"$f":"IF($O147=\"Sunpower Corp.\",3,(IF(OR($Q147=\"mono\",$Q147=\"poly\",$Q147=\"HIT\",$Q147=\"EFG\",$Q147=\"mono-LGBC\"),1,IF(OR($Q147=\"µc-Si / a-Si\",$Q147=\"a-Si (single)\",$Q147=\"a-Si (tandem)\",$Q147=\"a-Si (triple)\"),3,2))))","v":1},{"$f":"IF($O147=\"Sunpower Corp.\",3,(IF(OR($Q147=\"mono\",$Q147=\"poly\",$Q147=\"HIT\",$Q147=\"EFG\",$Q147=\"mono-LGBC\"),1,2)))","v":1},{"$f":"IF($O147=\"Sunpower Corp.\",3,(IF(OR($Q147=\"mono\",$Q147=\"poly\",$Q147=\"HIT\",$Q147=\"EFG\",$Q147=\"mono-LGBC\"),1,IF(OR($Q147=\"µc-Si / a-Si\",$Q147=\"a-Si (single)\",$Q147=\"a-Si (tandem)\",$Q147=\"a-Si (triple)\"),3,2))))","v":1},0,null,null,19162,null,null,145]
["Advanced-Bioenergy BIO-165 mono","Advanced-Bioenergy ","BIO-165 mono",165,"+3...0",34.5,4.78,43.6,5.0999999999999996,-151.29199999999997,1.4279999999999999,-0.47099999999999997,1000,null,null,12.92455005645752,"mono",72,"pseudo-square",1580,808,null,"aluminum","junction box MC4",16,"www.bioenergysolar.com","-","-","-","-","-",{"$f":"IF($O148=\"Sunpower Corp.\",3,(IF(OR($Q148=\"mono\",$Q148=\"poly\",$Q148=\"HIT\",$Q148=\"EFG\",$Q148=\"mono-LGBC\"),1,IF(OR($Q148=\"µc-Si / a-Si\",$Q148=\"a-Si (single)\",$Q148=\"a-Si (tandem)\",$Q148=\"a-Si (triple)\"),3,2))))","v":1},{"$f":"IF($O148=\"Sunpower Corp.\",3,(IF(OR($Q148=\"mono\",$Q148=\"poly\",$Q148=\"HIT\",$Q148=\"EFG\",$Q148=\"mono-LGBC\"),1,2)))","v":1},{"$f":"IF($O148=\"Sunpower Corp.\",3,(IF(OR($Q148=\"mono\",$Q148=\"poly\",$Q148=\"HIT\",$Q148=\"EFG\",$Q148=\"mono-LGBC\"),1,IF(OR($Q148=\"µc-Si / a-Si\",$Q148=\"a-Si (single)\",$Q148=\"a-Si (tandem)\",$Q148=\"a-Si (triple)\"),3,2))))","v":1},0,null,null,18954,null,null,146]
["Advanced-Bioenergy BIO-165 poly","Advanced-Bioenergy ","BIO-165 poly",165,"+3...0",23,7.5,29,7.9,-101.5,4.3449999999999998,-0.48,1000,null,null,12.562740325927734,"poly",60,"square",1324,992,45,"aluminum","junction box MC4",16,"www.bioenergysolar.com","-","-","-","-","-",{"$f":"IF($O149=\"Sunpower Corp.\",3,(IF(OR($Q149=\"mono\",$Q149=\"poly\",$Q149=\"HIT\",$Q149=\"EFG\",$Q149=\"mono-LGBC\"),1,IF(OR($Q149=\"µc-Si / a-Si\",$Q149=\"a-Si (single)\",$Q149=\"a-Si (tandem)\",$Q149=\"a-Si (triple)\"),3,2))))","v":1},{"$f":"IF($O149=\"Sunpower Corp.\",3,(IF(OR($Q149=\"mono\",$Q149=\"poly\",$Q149=\"HIT\",$Q149=\"EFG\",$Q149=\"mono-LGBC\"),1,2)))","v":1},{"$f":"IF($O149=\"Sunpower Corp.\",3,(IF(OR($Q149=\"mono\",$Q149=\"poly\",$Q149=\"HIT\",$Q149=\"EFG\",$Q149=\"mono-LGBC\"),1,IF(OR($Q149=\"µc-Si / a-Si\",$Q149=\"a-Si (single)\",$Q149=\"a-Si (tandem)\",$Q149=\"a-Si (triple)\"),3,2))))","v":1},0,null,null,19163,null,null,147]
["Advanced-Bioenergy BIO-170 mono","Advanced-Bioenergy ","BIO-170 mono",170,"+3...0",35.200000000000003,4.83,43.8,5.14,-151.98599999999999,1.4392,-0.47099999999999997,1000,null,null,13.31620979309082,"mono",72,"pseudo-square",1580,808,null,"aluminum","junction box MC4",16,"www.bioenergysolar.com","-","-","-","-","-",{"$f":"IF($O150=\"Sunpower Corp.\",3,(IF(OR($Q150=\"mono\",$Q150=\"poly\",$Q150=\"HIT\",$Q150=\"EFG\",$Q150=\"mono-LGBC\"),1,IF(OR($Q150=\"µc-Si / a-Si\",$Q150=\"a-Si (single)\",$Q150=\"a-Si (tandem)\",$Q150=\"a-Si (triple)\"),3,2))))","v":1},{"$f":"IF($O150=\"Sunpower Corp.\",3,(IF(OR($Q150=\"mono\",$Q150=\"poly\",$Q150=\"HIT\",$Q150=\"EFG\",$Q150=\"mono-LGBC\"),1,2)))","v":1},{"$f":"IF($O150=\"Sunpower Corp.\",3,(IF(OR($Q150=\"mono\",$Q150=\"poly\",$Q150=\"HIT\",$Q150=\"EFG\",$Q150=\"mono-LGBC\"),1,IF(OR($Q150=\"µc-Si / a-Si\",$Q150=\"a-Si (single)\",$Q150=\"a-Si (tandem)\",$Q150=\"a-Si (triple)\"),3,2))))","v":1},0,null,null,18955,null,null,148]
["Advanced-Bioenergy BIO-170 poly","Advanced-Bioenergy ","BIO-170 poly",170,"+3...0",23.5,7.2,29,8,-101.5,4.4000000000000004,-0.48,1000,null,null,12.943429946899414,"poly",60,"square",1324,992,45,"aluminum","junction box MC4",16,"www.bioenergysolar.com","-","-","-","-","-",{"$f":"IF($O151=\"Sunpower Corp.\",3,(IF(OR($Q151=\"mono\",$Q151=\"poly\",$Q151=\"HIT\",$Q151=\"EFG\",$Q151=\"mono-LGBC\"),1,IF(OR($Q151=\"µc-Si / a-Si\",$Q151=\"a-Si (single)\",$Q151=\"a-Si (tandem)\",$Q151=\"a-Si (triple)\"),3,2))))","v":1},{"$f":"IF($O151=\"Sunpower Corp.\",3,(IF(OR($Q151=\"mono\",$Q151=\"poly\",$Q151=\"HIT\",$Q151=\"EFG\",$Q151=\"mono-LGBC\"),1,2)))","v":1},{"$f":"IF($O151=\"Sunpower Corp.\",3,(IF(OR($Q151=\"mono\",$Q151=\"poly\",$Q151=\"HIT\",$Q151=\"EFG\",$Q151=\"mono-LGBC\"),1,IF(OR($Q151=\"µc-Si / a-Si\",$Q151=\"a-Si (single)\",$Q151=\"a-Si (tandem)\",$Q151=\"a-Si (triple)\"),3,2))))","v":1},0,null,null,19164,null,null,149]
["Advanced-Bioenergy BIO-175 mono","Advanced-Bioenergy ","BIO-175 mono",175,"+3...0",35.299999999999997,4.96,44.2,5.2,-153.374,1.4560000000000002,-0.47099999999999997,1000,null,null,13.707859992980957,"mono",72,"pseudo-square",1580,808,null,"aluminum","junction box MC4",15.5,"www.bioenergysolar.com","-","-","-","-","-",{"$f":"IF($O152=\"Sunpower Corp.\",3,(IF(OR($Q152=\"mono\",$Q152=\"poly\",$Q152=\"HIT\",$Q152=\"EFG\",$Q152=\"mono-LGBC\"),1,IF(OR($Q152=\"µc-Si / a-Si\",$Q152=\"a-Si (single)\",$Q152=\"a-Si (tandem)\",$Q152=\"a-Si (triple)\"),3,2))))","v":1},{"$f":"IF($O152=\"Sunpower Corp.\",3,(IF(OR($Q152=\"mono\",$Q152=\"poly\",$Q152=\"HIT\",$Q152=\"EFG\",$Q152=\"mono-LGBC\"),1,2)))","v":1},{"$f":"IF($O152=\"Sunpower Corp.\",3,(IF(OR($Q152=\"mono\",$Q152=\"poly\",$Q152=\"HIT\",$Q152=\"EFG\",$Q152=\"mono-LGBC\"),1,IF(OR($Q152=\"µc-Si / a-Si\",$Q152=\"a-Si (single)\",$Q152=\"a-Si (tandem)\",$Q152=\"a-Si (triple)\"),3,2))))","v":1},0,null,null,18956,null,null,150]
["Advanced-Bioenergy BIO-180 mono","Advanced-Bioenergy ","BIO-180 mono",180,"+3...0",36,5,44.8,5.3,-155.45599999999999,1.484,-0.47099999999999997,1000,null,null,14.099510192871094,"mono",72,"pseudo-square",1580,808,null,"aluminum","junction box MC4",15.5,"www.bioenergysolar.com","-","-","-","-","-",{"$f":"IF($O153=\"Sunpower Corp.\",3,(IF(OR($Q153=\"mono\",$Q153=\"poly\",$Q153=\"HIT\",$Q153=\"EFG\",$Q153=\"mono-LGBC\"),1,IF(OR($Q153=\"µc-Si / a-Si\",$Q153=\"a-Si (single)\",$Q153=\"a-Si (tandem)\",$Q153=\"a-Si (triple)\"),3,2))))","v":1},{"$f":"IF($O153=\"Sunpower Corp.\",3,(IF(OR($Q153=\"mono\",$Q153=\"poly\",$Q153=\"HIT\",$Q153=\"EFG\",$Q153=\"mono-LGBC\"),1,2)))","v":1},{"$f":"IF($O153=\"Sunpower Corp.\",3,(IF(OR($Q153=\"mono\",$Q153=\"poly\",$Q153=\"HIT\",$Q153=\"EFG\",$Q153=\"mono-LGBC\"),1,IF(OR($Q153=\"µc-Si / a-Si\",$Q153=\"a-Si (single)\",$Q153=\"a-Si (tandem)\",$Q153=\"a-Si (triple)\"),3,2))))","v":1},0,null,null,18957,null,null,151]
["Advanced-Bioenergy BIO-180 poly","Advanced-Bioenergy ","BIO-180 poly",180,"+3...0",24.4,7.4,29.1,8.16,-101.85,4.4880000000000004,-0.48,1000,null,null,13.704799652099609,"poly",60,"square",1324,992,45,"aluminum","junction box MC4",16,"www.bioenergysolar.com","-","-","-","-","-",{"$f":"IF($O154=\"Sunpower Corp.\",3,(IF(OR($Q154=\"mono\",$Q154=\"poly\",$Q154=\"HIT\",$Q154=\"EFG\",$Q154=\"mono-LGBC\"),1,IF(OR($Q154=\"µc-Si / a-Si\",$Q154=\"a-Si (single)\",$Q154=\"a-Si (tandem)\",$Q154=\"a-Si (triple)\"),3,2))))","v":1},{"$f":"IF($O154=\"Sunpower Corp.\",3,(IF(OR($Q154=\"mono\",$Q154=\"poly\",$Q154=\"HIT\",$Q154=\"EFG\",$Q154=\"mono-LGBC\"),1,2)))","v":1},{"$f":"IF($O154=\"Sunpower Corp.\",3,(IF(OR($Q154=\"mono\",$Q154=\"poly\",$Q154=\"HIT\",$Q154=\"EFG\",$Q154=\"mono-LGBC\"),1,IF(OR($Q154=\"µc-Si / a-Si\",$Q154=\"a-Si (single)\",$Q154=\"a-Si (tandem)\",$Q154=\"a-Si (triple)\"),3,2))))","v":1},0,null,null,19165,null,null,152]
["Advanced-Bioenergy BIO-185 mono","Advanced-Bioenergy ","BIO-185 mono",185,"+3...0",36.270000000000003,5.0999999999999996,45,5.5,-156.15,1.54,-0.47099999999999997,1000,null,null,14.49116039276123,"mono",72,"pseudo-square",1580,808,null,"aluminum","junction box MC4",15.5,"www.bioenergysolar.com","-","-","-","-","-",{"$f":"IF($O155=\"Sunpower Corp.\",3,(IF(OR($Q155=\"mono\",$Q155=\"poly\",$Q155=\"HIT\",$Q155=\"EFG\",$Q155=\"mono-LGBC\"),1,IF(OR($Q155=\"µc-Si / a-Si\",$Q155=\"a-Si (single)\",$Q155=\"a-Si (tandem)\",$Q155=\"a-Si (triple)\"),3,2))))","v":1},{"$f":"IF($O155=\"Sunpower Corp.\",3,(IF(OR($Q155=\"mono\",$Q155=\"poly\",$Q155=\"HIT\",$Q155=\"EFG\",$Q155=\"mono-LGBC\"),1,2)))","v":1},{"$f":"IF($O155=\"Sunpower Corp.\",3,(IF(OR($Q155=\"mono\",$Q155=\"poly\",$Q155=\"HIT\",$Q155=\"EFG\",$Q155=\"mono-LGBC\"),1,IF(OR($Q155=\"µc-Si / a-Si\",$Q155=\"a-Si (single)\",$Q155=\"a-Si (tandem)\",$Q155=\"a-Si (triple)\"),3,2))))","v":1},0,null,null,18958,null,null,153]
["Advanced-Bioenergy BIO-200 poly","Advanced-Bioenergy ","BIO-200 poly",200,"+3...0",28.53,7.01,36.119999999999997,7.7,-125.33639999999998,4.2350000000000003,-0.48,1000,null,null,12.182049751281738,"poly",60,"square",1655,992,45,"aluminum","junction box MC4",22.5,"www.bioenergysolar.com","-","-","-","-","-",{"$f":"IF($O156=\"Sunpower Corp.\",3,(IF(OR($Q156=\"mono\",$Q156=\"poly\",$Q156=\"HIT\",$Q156=\"EFG\",$Q156=\"mono-LGBC\"),1,IF(OR($Q156=\"µc-Si / a-Si\",$Q156=\"a-Si (single)\",$Q156=\"a-Si (tandem)\",$Q156=\"a-Si (triple)\"),3,2))))","v":1},{"$f":"IF($O156=\"Sunpower Corp.\",3,(IF(OR($Q156=\"mono\",$Q156=\"poly\",$Q156=\"HIT\",$Q156=\"EFG\",$Q156=\"mono-LGBC\"),1,2)))","v":1},{"$f":"IF($O156=\"Sunpower Corp.\",3,(IF(OR($Q156=\"mono\",$Q156=\"poly\",$Q156=\"HIT\",$Q156=\"EFG\",$Q156=\"mono-LGBC\"),1,IF(OR($Q156=\"µc-Si / a-Si\",$Q156=\"a-Si (single)\",$Q156=\"a-Si (tandem)\",$Q156=\"a-Si (triple)\"),3,2))))","v":1},0,null,null,19166,null,null,154]
["Advanced-Bioenergy BIO-210 poly","Advanced-Bioenergy ","BIO-210 poly",210,"+3...0",29.4,7.15,36.18,7.97,-125.54459999999997,4.3835000000000006,-0.48,1000,null,null,12.791150093078613,"poly",60,"square",1655,992,45,"aluminum","junction box MC4",22.5,"www.bioenergysolar.com","-","-","-","-","-",{"$f":"IF($O157=\"Sunpower Corp.\",3,(IF(OR($Q157=\"mono\",$Q157=\"poly\",$Q157=\"HIT\",$Q157=\"EFG\",$Q157=\"mono-LGBC\"),1,IF(OR($Q157=\"µc-Si / a-Si\",$Q157=\"a-Si (single)\",$Q157=\"a-Si (tandem)\",$Q157=\"a-Si (triple)\"),3,2))))","v":1},{"$f":"IF($O157=\"Sunpower Corp.\",3,(IF(OR($Q157=\"mono\",$Q157=\"poly\",$Q157=\"HIT\",$Q157=\"EFG\",$Q157=\"mono-LGBC\"),1,2)))","v":1},{"$f":"IF($O157=\"Sunpower Corp.\",3,(IF(OR($Q157=\"mono\",$Q157=\"poly\",$Q157=\"HIT\",$Q157=\"EFG\",$Q157=\"mono-LGBC\"),1,IF(OR($Q157=\"µc-Si / a-Si\",$Q157=\"a-Si (single)\",$Q157=\"a-Si (tandem)\",$Q157=\"a-Si (triple)\"),3,2))))","v":1},0,null,null,19167,null,null,155]
["Advanced-Bioenergy BIO-220 poly","Advanced-Bioenergy ","BIO-220 poly",220,"+3...0",30,7.34,36.6,8.1,-127.00199999999998,4.4550000000000001,-0.48,1000,null,null,13.400250434875488,"poly",60,"square",1655,992,45,"aluminum","junction box MC4",22.5,"www.bioenergysolar.com","-","-","-","-","-",{"$f":"IF($O158=\"Sunpower Corp.\",3,(IF(OR($Q158=\"mono\",$Q158=\"poly\",$Q158=\"HIT\",$Q158=\"EFG\",$Q158=\"mono-LGBC\"),1,IF(OR($Q158=\"µc-Si / a-Si\",$Q158=\"a-Si (single)\",$Q158=\"a-Si (tandem)\",$Q158=\"a-Si (triple)\"),3,2))))","v":1},{"$f":"IF($O158=\"Sunpower Corp.\",3,(IF(OR($Q158=\"mono\",$Q158=\"poly\",$Q158=\"HIT\",$Q158=\"EFG\",$Q158=\"mono-LGBC\"),1,2)))","v":1},{"$f":"IF($O158=\"Sunpower Corp.\",3,(IF(OR($Q158=\"mono\",$Q158=\"poly\",$Q158=\"HIT\",$Q158=\"EFG\",$Q158=\"mono-LGBC\"),1,IF(OR($Q158=\"µc-Si / a-Si\",$Q158=\"a-Si (single)\",$Q158=\"a-Si (tandem)\",$Q158=\"a-Si (triple)\"),3,2))))","v":1},0,null,null,19168,null,null,156]
["Advanced-Bioenergy BIO-230 poly","Advanced-Bioenergy ","BIO-230 poly",230,"+3...0",30.2,7.62,36.9,8.31,-128.04299999999998,4.5705000000000009,-0.48,1000,null,null,14.009360313415527,"poly",60,"square",1655,992,45,"aluminum","junction box MC4",22.5,"www.bioenergysolar.com","-","-","-","-","-",{"$f":"IF($O159=\"Sunpower Corp.\",3,(IF(OR($Q159=\"mono\",$Q159=\"poly\",$Q159=\"HIT\",$Q159=\"EFG\",$Q159=\"mono-LGBC\"),1,IF(OR($Q159=\"µc-Si / a-Si\",$Q159=\"a-Si (single)\",$Q159=\"a-Si (tandem)\",$Q159=\"a-Si (triple)\"),3,2))))","v":1},{"$f":"IF($O159=\"Sunpower Corp.\",3,(IF(OR($Q159=\"mono\",$Q159=\"poly\",$Q159=\"HIT\",$Q159=\"EFG\",$Q159=\"mono-LGBC\"),1,2)))","v":1},{"$f":"IF($O159=\"Sunpower Corp.\",3,(IF(OR($Q159=\"mono\",$Q159=\"poly\",$Q159=\"HIT\",$Q159=\"EFG\",$Q159=\"mono-LGBC\"),1,IF(OR($Q159=\"µc-Si / a-Si\",$Q159=\"a-Si (single)\",$Q159=\"a-Si (tandem)\",$Q159=\"a-Si (triple)\"),3,2))))","v":1},0,null,null,19169,null,null,157]
["Advanced-Bioenergy BIO-240 poly","Advanced-Bioenergy ","BIO-240 poly",240,"+3...0",34.24,7.01,43.3,7.7,-150.25099999999998,4.2350000000000003,-0.48,1000,null,null,12.368889808654785,"poly",60,"square",1956,992,45,"aluminum","junction box MC4",26,"www.bioenergysolar.com","-","-","-","-","-",{"$f":"IF($O160=\"Sunpower Corp.\",3,(IF(OR($Q160=\"mono\",$Q160=\"poly\",$Q160=\"HIT\",$Q160=\"EFG\",$Q160=\"mono-LGBC\"),1,IF(OR($Q160=\"µc-Si / a-Si\",$Q160=\"a-Si (single)\",$Q160=\"a-Si (tandem)\",$Q160=\"a-Si (triple)\"),3,2))))","v":1},{"$f":"IF($O160=\"Sunpower Corp.\",3,(IF(OR($Q160=\"mono\",$Q160=\"poly\",$Q160=\"HIT\",$Q160=\"EFG\",$Q160=\"mono-LGBC\"),1,2)))","v":1},{"$f":"IF($O160=\"Sunpower Corp.\",3,(IF(OR($Q160=\"mono\",$Q160=\"poly\",$Q160=\"HIT\",$Q160=\"EFG\",$Q160=\"mono-LGBC\"),1,IF(OR($Q160=\"µc-Si / a-Si\",$Q160=\"a-Si (single)\",$Q160=\"a-Si (tandem)\",$Q160=\"a-Si (triple)\"),3,2))))","v":1},0,null,null,19170,null,null,158]
["Advanced-Bioenergy BIO-250 poly","Advanced-Bioenergy ","BIO-250 poly",250,"+3...0",34.869999999999997,7.17,43.4,7.97,-150.59799999999998,4.3835000000000006,-0.48,1000,null,null,12.884260177612305,"poly",60,"square",1956,992,45,"aluminum","junction box MC4",26,"www.bioenergysolar.com","-","-","-","-","-",{"$f":"IF($O161=\"Sunpower Corp.\",3,(IF(OR($Q161=\"mono\",$Q161=\"poly\",$Q161=\"HIT\",$Q161=\"EFG\",$Q161=\"mono-LGBC\"),1,IF(OR($Q161=\"µc-Si / a-Si\",$Q161=\"a-Si (single)\",$Q161=\"a-Si (tandem)\",$Q161=\"a-Si (triple)\"),3,2))))","v":1},{"$f":"IF($O161=\"Sunpower Corp.\",3,(IF(OR($Q161=\"mono\",$Q161=\"poly\",$Q161=\"HIT\",$Q161=\"EFG\",$Q161=\"mono-LGBC\"),1,2)))","v":1},{"$f":"IF($O161=\"Sunpower Corp.\",3,(IF(OR($Q161=\"mono\",$Q161=\"poly\",$Q161=\"HIT\",$Q161=\"EFG\",$Q161=\"mono-LGBC\"),1,IF(OR($Q161=\"µc-Si / a-Si\",$Q161=\"a-Si (single)\",$Q161=\"a-Si (tandem)\",$Q161=\"a-Si (triple)\"),3,2))))","v":1},0,null,null,19171,null,null,159]
["Advanced-Bioenergy BIO-260 poly","Advanced-Bioenergy ","BIO-260 poly",260,"+3...0",35.6,7.3,43.5,8.0500000000000007,-150.94499999999999,4.4275000000000002,-0.48,1000,null,null,13.399629592895508,"poly",60,"square",1956,992,45,"aluminum","junction box MC4",26,"www.bioenergysolar.com","-","-","-","-","-",{"$f":"IF($O162=\"Sunpower Corp.\",3,(IF(OR($Q162=\"mono\",$Q162=\"poly\",$Q162=\"HIT\",$Q162=\"EFG\",$Q162=\"mono-LGBC\"),1,IF(OR($Q162=\"µc-Si / a-Si\",$Q162=\"a-Si (single)\",$Q162=\"a-Si (tandem)\",$Q162=\"a-Si (triple)\"),3,2))))","v":1},{"$f":"IF($O162=\"Sunpower Corp.\",3,(IF(OR($Q162=\"mono\",$Q162=\"poly\",$Q162=\"HIT\",$Q162=\"EFG\",$Q162=\"mono-LGBC\"),1,2)))","v":1},{"$f":"IF($O162=\"Sunpower Corp.\",3,(IF(OR($Q162=\"mono\",$Q162=\"poly\",$Q162=\"HIT\",$Q162=\"EFG\",$Q162=\"mono-LGBC\"),1,IF(OR($Q162=\"µc-Si / a-Si\",$Q162=\"a-Si (single)\",$Q162=\"a-Si (tandem)\",$Q162=\"a-Si (triple)\"),3,2))))","v":1},0,null,null,19172,null,null,160]
["AE Solar GmbH AE CQ 180M","AE Solar GmbH ","AE CQ 180M",180,"+3...0",35.299999999999997,5.0999999999999996,44.35,5.35,-154.33799999999997,1.6584999999999999,-0.5,1000,null,null,14.099510192871094,"mono",72,"pseudo-square",1580,808,50,"aluminum","junction box MC4",16.5,"www.ae-solar.com","-","-","-","-","-",{"$f":"IF($O163=\"Sunpower Corp.\",3,(IF(OR($Q163=\"mono\",$Q163=\"poly\",$Q163=\"HIT\",$Q163=\"EFG\",$Q163=\"mono-LGBC\"),1,IF(OR($Q163=\"µc-Si / a-Si\",$Q163=\"a-Si (single)\",$Q163=\"a-Si (tandem)\",$Q163=\"a-Si (triple)\"),3,2))))","v":1},{"$f":"IF($O163=\"Sunpower Corp.\",3,(IF(OR($Q163=\"mono\",$Q163=\"poly\",$Q163=\"HIT\",$Q163=\"EFG\",$Q163=\"mono-LGBC\"),1,2)))","v":1},{"$f":"IF($O163=\"Sunpower Corp.\",3,(IF(OR($Q163=\"mono\",$Q163=\"poly\",$Q163=\"HIT\",$Q163=\"EFG\",$Q163=\"mono-LGBC\"),1,IF(OR($Q163=\"µc-Si / a-Si\",$Q163=\"a-Si (single)\",$Q163=\"a-Si (tandem)\",$Q163=\"a-Si (triple)\"),3,2))))","v":1},0,null,null,29178,null,null,161]
["AE Solar GmbH AE CQ 185M","AE Solar GmbH ","AE CQ 185M",185,"+3...0",35.58,5.2,45.2,5.4,-157.29599999999999,1.6740000000000002,-0.5,1000,null,null,14.49116039276123,"mono",72,"pseudo-square",1580,808,50,"aluminum","junction box MC4",16.5,"www.ae-solar.com","-","-","-","-","-",{"$f":"IF($O164=\"Sunpower Corp.\",3,(IF(OR($Q164=\"mono\",$Q164=\"poly\",$Q164=\"HIT\",$Q164=\"EFG\",$Q164=\"mono-LGBC\"),1,IF(OR($Q164=\"µc-Si / a-Si\",$Q164=\"a-Si (single)\",$Q164=\"a-Si (tandem)\",$Q164=\"a-Si (triple)\"),3,2))))","v":1},{"$f":"IF($O164=\"Sunpower Corp.\",3,(IF(OR($Q164=\"mono\",$Q164=\"poly\",$Q164=\"HIT\",$Q164=\"EFG\",$Q164=\"mono-LGBC\"),1,2)))","v":1},{"$f":"IF($O164=\"Sunpower Corp.\",3,(IF(OR($Q164=\"mono\",$Q164=\"poly\",$Q164=\"HIT\",$Q164=\"EFG\",$Q164=\"mono-LGBC\"),1,IF(OR($Q164=\"µc-Si / a-Si\",$Q164=\"a-Si (single)\",$Q164=\"a-Si (tandem)\",$Q164=\"a-Si (triple)\"),3,2))))","v":1},0,null,null,29179,null,null,162]
["AE Solar GmbH AE CQ 190M","AE Solar GmbH ","AE CQ 190M",190,"+3...0",36.200000000000003,5.25,45.4,5.51,-157.99199999999996,1.7081,-0.5,1000,null,null,14.882820129394531,"mono",72,"pseudo-square",1580,808,50,"aluminum","junction box MC4",16.5,"www.ae-solar.com","-","-","-","-","-",{"$f":"IF($O165=\"Sunpower Corp.\",3,(IF(OR($Q165=\"mono\",$Q165=\"poly\",$Q165=\"HIT\",$Q165=\"EFG\",$Q165=\"mono-LGBC\"),1,IF(OR($Q165=\"µc-Si / a-Si\",$Q165=\"a-Si (single)\",$Q165=\"a-Si (tandem)\",$Q165=\"a-Si (triple)\"),3,2))))","v":1},{"$f":"IF($O165=\"Sunpower Corp.\",3,(IF(OR($Q165=\"mono\",$Q165=\"poly\",$Q165=\"HIT\",$Q165=\"EFG\",$Q165=\"mono-LGBC\"),1,2)))","v":1},{"$f":"IF($O165=\"Sunpower Corp.\",3,(IF(OR($Q165=\"mono\",$Q165=\"poly\",$Q165=\"HIT\",$Q165=\"EFG\",$Q165=\"mono-LGBC\"),1,IF(OR($Q165=\"µc-Si / a-Si\",$Q165=\"a-Si (single)\",$Q165=\"a-Si (tandem)\",$Q165=\"a-Si (triple)\"),3,2))))","v":1},0,null,null,29180,null,null,163]
["AE Solar GmbH AE CQ 195M","AE Solar GmbH ","AE CQ 195M",195,"+3...0",36.74,5.31,45.5,5.65,-158.34,1.7515000000000001,-0.5,1000,null,null,15.274470329284668,"mono",72,"pseudo-square",1580,808,50,"aluminum","junction box MC4",16.5,"www.ae-solar.com","-","-","-","-","-",{"$f":"IF($O166=\"Sunpower Corp.\",3,(IF(OR($Q166=\"mono\",$Q166=\"poly\",$Q166=\"HIT\",$Q166=\"EFG\",$Q166=\"mono-LGBC\"),1,IF(OR($Q166=\"µc-Si / a-Si\",$Q166=\"a-Si (single)\",$Q166=\"a-Si (tandem)\",$Q166=\"a-Si (triple)\"),3,2))))","v":1},{"$f":"IF($O166=\"Sunpower Corp.\",3,(IF(OR($Q166=\"mono\",$Q166=\"poly\",$Q166=\"HIT\",$Q166=\"EFG\",$Q166=\"mono-LGBC\"),1,2)))","v":1},{"$f":"IF($O166=\"Sunpower Corp.\",3,(IF(OR($Q166=\"mono\",$Q166=\"poly\",$Q166=\"HIT\",$Q166=\"EFG\",$Q166=\"mono-LGBC\"),1,IF(OR($Q166=\"µc-Si / a-Si\",$Q166=\"a-Si (single)\",$Q166=\"a-Si (tandem)\",$Q166=\"a-Si (triple)\"),3,2))))","v":1},0,null,null,29181,null,null,164]
["AE Solar GmbH AE CQ 215P","AE Solar GmbH ","AE CQ 215P",215,"+3...0",30.81,6.98,38,7.4,-117.8,2.2200000000000002,-0.38,1000,null,null,13.215479850769043,"poly",60,"square",1640,992,50,"aluminum","junction box MC4",18,"www.ae-solar.com","-","-","-","-","-",{"$f":"IF($O167=\"Sunpower Corp.\",3,(IF(OR($Q167=\"mono\",$Q167=\"poly\",$Q167=\"HIT\",$Q167=\"EFG\",$Q167=\"mono-LGBC\"),1,IF(OR($Q167=\"µc-Si / a-Si\",$Q167=\"a-Si (single)\",$Q167=\"a-Si (tandem)\",$Q167=\"a-Si (triple)\"),3,2))))","v":1},{"$f":"IF($O167=\"Sunpower Corp.\",3,(IF(OR($Q167=\"mono\",$Q167=\"poly\",$Q167=\"HIT\",$Q167=\"EFG\",$Q167=\"mono-LGBC\"),1,2)))","v":1},{"$f":"IF($O167=\"Sunpower Corp.\",3,(IF(OR($Q167=\"mono\",$Q167=\"poly\",$Q167=\"HIT\",$Q167=\"EFG\",$Q167=\"mono-LGBC\"),1,IF(OR($Q167=\"µc-Si / a-Si\",$Q167=\"a-Si (single)\",$Q167=\"a-Si (tandem)\",$Q167=\"a-Si (triple)\"),3,2))))","v":1},0,null,null,29168,null,null,165]
["AE Solar GmbH AE CQ 220P","AE Solar GmbH ","AE CQ 220P",220,"+3...0",31.2,7.05,38.4,7.5,-119.04,2.25,-0.38,1000,null,null,13.522820472717285,"poly",60,"square",1640,992,50,"aluminum","junction box MC4",18,"www.ae-solar.com","-","-","-","-","-",{"$f":"IF($O168=\"Sunpower Corp.\",3,(IF(OR($Q168=\"mono\",$Q168=\"poly\",$Q168=\"HIT\",$Q168=\"EFG\",$Q168=\"mono-LGBC\"),1,IF(OR($Q168=\"µc-Si / a-Si\",$Q168=\"a-Si (single)\",$Q168=\"a-Si (tandem)\",$Q168=\"a-Si (triple)\"),3,2))))","v":1},{"$f":"IF($O168=\"Sunpower Corp.\",3,(IF(OR($Q168=\"mono\",$Q168=\"poly\",$Q168=\"HIT\",$Q168=\"EFG\",$Q168=\"mono-LGBC\"),1,2)))","v":1},{"$f":"IF($O168=\"Sunpower Corp.\",3,(IF(OR($Q168=\"mono\",$Q168=\"poly\",$Q168=\"HIT\",$Q168=\"EFG\",$Q168=\"mono-LGBC\"),1,IF(OR($Q168=\"µc-Si / a-Si\",$Q168=\"a-Si (single)\",$Q168=\"a-Si (tandem)\",$Q168=\"a-Si (triple)\"),3,2))))","v":1},0,null,null,29169,null,null,166]
["AE Solar GmbH AE CQ 225P","AE Solar GmbH ","AE CQ 225P",225,"+3...0",29.53,7.62,37.39,8.1300000000000008,-115.90899999999999,2.4390000000000001,-0.38,1000,null,null,13.83014965057373,"poly",60,"square",1640,992,50,"aluminum","junction box MC4",18,"www.ae-solar.com","-","-","-","-","-",{"$f":"IF($O169=\"Sunpower Corp.\",3,(IF(OR($Q169=\"mono\",$Q169=\"poly\",$Q169=\"HIT\",$Q169=\"EFG\",$Q169=\"mono-LGBC\"),1,IF(OR($Q169=\"µc-Si / a-Si\",$Q169=\"a-Si (single)\",$Q169=\"a-Si (tandem)\",$Q169=\"a-Si (triple)\"),3,2))))","v":1},{"$f":"IF($O169=\"Sunpower Corp.\",3,(IF(OR($Q169=\"mono\",$Q169=\"poly\",$Q169=\"HIT\",$Q169=\"EFG\",$Q169=\"mono-LGBC\"),1,2)))","v":1},{"$f":"IF($O169=\"Sunpower Corp.\",3,(IF(OR($Q169=\"mono\",$Q169=\"poly\",$Q169=\"HIT\",$Q169=\"EFG\",$Q169=\"mono-LGBC\"),1,IF(OR($Q169=\"µc-Si / a-Si\",$Q169=\"a-Si (single)\",$Q169=\"a-Si (tandem)\",$Q169=\"a-Si (triple)\"),3,2))))","v":1},0,null,null,29170,null,null,167]
["AE Solar GmbH AE CQ 230P","AE Solar GmbH ","AE CQ 230P",230,"+3...0",29.99,7.67,37.590000000000003,8.19,-116.52900000000001,2.4569999999999994,-0.38,1000,null,null,14.137490272521973,"poly",60,"square",1640,992,50,"aluminum","junction box MC4",18,"www.ae-solar.com","-","-","-","-","-",{"$f":"IF($O170=\"Sunpower Corp.\",3,(IF(OR($Q170=\"mono\",$Q170=\"poly\",$Q170=\"HIT\",$Q170=\"EFG\",$Q170=\"mono-LGBC\"),1,IF(OR($Q170=\"µc-Si / a-Si\",$Q170=\"a-Si (single)\",$Q170=\"a-Si (tandem)\",$Q170=\"a-Si (triple)\"),3,2))))","v":1},{"$f":"IF($O170=\"Sunpower Corp.\",3,(IF(OR($Q170=\"mono\",$Q170=\"poly\",$Q170=\"HIT\",$Q170=\"EFG\",$Q170=\"mono-LGBC\"),1,2)))","v":1},{"$f":"IF($O170=\"Sunpower Corp.\",3,(IF(OR($Q170=\"mono\",$Q170=\"poly\",$Q170=\"HIT\",$Q170=\"EFG\",$Q170=\"mono-LGBC\"),1,IF(OR($Q170=\"µc-Si / a-Si\",$Q170=\"a-Si (single)\",$Q170=\"a-Si (tandem)\",$Q170=\"a-Si (triple)\"),3,2))))","v":1},0,null,null,29171,null,null,168]
["AE Solar GmbH AE CQ 235P","AE Solar GmbH ","AE CQ 235P",235,"+3...0",30.37,7.74,38.53,8.24,-119.443,2.472,-0.38,1000,null,null,14.444829940795898,"poly",60,"square",1640,992,50,"aluminum","junction box MC4",18,"www.ae-solar.com","-","-","-","-","-",{"$f":"IF($O171=\"Sunpower Corp.\",3,(IF(OR($Q171=\"mono\",$Q171=\"poly\",$Q171=\"HIT\",$Q171=\"EFG\",$Q171=\"mono-LGBC\"),1,IF(OR($Q171=\"µc-Si / a-Si\",$Q171=\"a-Si (single)\",$Q171=\"a-Si (tandem)\",$Q171=\"a-Si (triple)\"),3,2))))","v":1},{"$f":"IF($O171=\"Sunpower Corp.\",3,(IF(OR($Q171=\"mono\",$Q171=\"poly\",$Q171=\"HIT\",$Q171=\"EFG\",$Q171=\"mono-LGBC\"),1,2)))","v":1},{"$f":"IF($O171=\"Sunpower Corp.\",3,(IF(OR($Q171=\"mono\",$Q171=\"poly\",$Q171=\"HIT\",$Q171=\"EFG\",$Q171=\"mono-LGBC\"),1,IF(OR($Q171=\"µc-Si / a-Si\",$Q171=\"a-Si (single)\",$Q171=\"a-Si (tandem)\",$Q171=\"a-Si (triple)\"),3,2))))","v":1},0,null,null,29172,null,null,169]
["AE Solar GmbH AE CQ 265P","AE Solar GmbH ","AE CQ 265P",265,"+3...0",35.24,7.52,43.8,8.0500000000000007,-135.78,2.415,-0.38,1000,null,null,13.657320022583008,"poly",72,"square",1956,992,50,"aluminum","junction box MC4",23,"www.ae-solar.com","-","-","-","-","-",{"$f":"IF($O172=\"Sunpower Corp.\",3,(IF(OR($Q172=\"mono\",$Q172=\"poly\",$Q172=\"HIT\",$Q172=\"EFG\",$Q172=\"mono-LGBC\"),1,IF(OR($Q172=\"µc-Si / a-Si\",$Q172=\"a-Si (single)\",$Q172=\"a-Si (tandem)\",$Q172=\"a-Si (triple)\"),3,2))))","v":1},{"$f":"IF($O172=\"Sunpower Corp.\",3,(IF(OR($Q172=\"mono\",$Q172=\"poly\",$Q172=\"HIT\",$Q172=\"EFG\",$Q172=\"mono-LGBC\"),1,2)))","v":1},{"$f":"IF($O172=\"Sunpower Corp.\",3,(IF(OR($Q172=\"mono\",$Q172=\"poly\",$Q172=\"HIT\",$Q172=\"EFG\",$Q172=\"mono-LGBC\"),1,IF(OR($Q172=\"µc-Si / a-Si\",$Q172=\"a-Si (single)\",$Q172=\"a-Si (tandem)\",$Q172=\"a-Si (triple)\"),3,2))))","v":1},0,null,null,29173,null,null,170]
["AE Solar GmbH AE CQ 270P","AE Solar GmbH ","AE CQ 270P",270,"+3...0",35.24,7.66,43.8,8.1,-135.78,2.4300000000000002,-0.38,1000,null,null,13.914999961853027,"poly",72,"square",1956,992,50,"aluminum","junction box MC4",23,"www.ae-solar.com","-","-","-","-","-",{"$f":"IF($O173=\"Sunpower Corp.\",3,(IF(OR($Q173=\"mono\",$Q173=\"poly\",$Q173=\"HIT\",$Q173=\"EFG\",$Q173=\"mono-LGBC\"),1,IF(OR($Q173=\"µc-Si / a-Si\",$Q173=\"a-Si (single)\",$Q173=\"a-Si (tandem)\",$Q173=\"a-Si (triple)\"),3,2))))","v":1},{"$f":"IF($O173=\"Sunpower Corp.\",3,(IF(OR($Q173=\"mono\",$Q173=\"poly\",$Q173=\"HIT\",$Q173=\"EFG\",$Q173=\"mono-LGBC\"),1,2)))","v":1},{"$f":"IF($O173=\"Sunpower Corp.\",3,(IF(OR($Q173=\"mono\",$Q173=\"poly\",$Q173=\"HIT\",$Q173=\"EFG\",$Q173=\"mono-LGBC\"),1,IF(OR($Q173=\"µc-Si / a-Si\",$Q173=\"a-Si (single)\",$Q173=\"a-Si (tandem)\",$Q173=\"a-Si (triple)\"),3,2))))","v":1},0,null,null,29174,null,null,171]
["AE Solar GmbH AE CQ 275P","AE Solar GmbH ","AE CQ 275P",275,"+3...0",35.54,7.74,43.8,8.2799999999999994,-135.78,2.4839999999999995,-0.38,1000,null,null,14.172690391540527,"poly",72,"square",1956,992,50,"aluminum","junction box MC4",23,"www.ae-solar.com","-","-","-","-","-",{"$f":"IF($O174=\"Sunpower Corp.\",3,(IF(OR($Q174=\"mono\",$Q174=\"poly\",$Q174=\"HIT\",$Q174=\"EFG\",$Q174=\"mono-LGBC\"),1,IF(OR($Q174=\"µc-Si / a-Si\",$Q174=\"a-Si (single)\",$Q174=\"a-Si (tandem)\",$Q174=\"a-Si (triple)\"),3,2))))","v":1},{"$f":"IF($O174=\"Sunpower Corp.\",3,(IF(OR($Q174=\"mono\",$Q174=\"poly\",$Q174=\"HIT\",$Q174=\"EFG\",$Q174=\"mono-LGBC\"),1,2)))","v":1},{"$f":"IF($O174=\"Sunpower Corp.\",3,(IF(OR($Q174=\"mono\",$Q174=\"poly\",$Q174=\"HIT\",$Q174=\"EFG\",$Q174=\"mono-LGBC\"),1,IF(OR($Q174=\"µc-Si / a-Si\",$Q174=\"a-Si (single)\",$Q174=\"a-Si (tandem)\",$Q174=\"a-Si (triple)\"),3,2))))","v":1},0,null,null,29175,null,null,172]
["AE Solar GmbH AE CQ 280P","AE Solar GmbH ","AE CQ 280P",280,"+3...0",35.68,7.85,44.2,8.3000000000000007,-137.02000000000001,2.4900000000000002,-0.38,1000,null,null,14.430370330810547,"poly",72,"square",1956,992,50,"aluminum","junction box MC4",23,"www.ae-solar.com","-","-","-","-","-",{"$f":"IF($O175=\"Sunpower Corp.\",3,(IF(OR($Q175=\"mono\",$Q175=\"poly\",$Q175=\"HIT\",$Q175=\"EFG\",$Q175=\"mono-LGBC\"),1,IF(OR($Q175=\"µc-Si / a-Si\",$Q175=\"a-Si (single)\",$Q175=\"a-Si (tandem)\",$Q175=\"a-Si (triple)\"),3,2))))","v":1},{"$f":"IF($O175=\"Sunpower Corp.\",3,(IF(OR($Q175=\"mono\",$Q175=\"poly\",$Q175=\"HIT\",$Q175=\"EFG\",$Q175=\"mono-LGBC\"),1,2)))","v":1},{"$f":"IF($O175=\"Sunpower Corp.\",3,(IF(OR($Q175=\"mono\",$Q175=\"poly\",$Q175=\"HIT\",$Q175=\"EFG\",$Q175=\"mono-LGBC\"),1,IF(OR($Q175=\"µc-Si / a-Si\",$Q175=\"a-Si (single)\",$Q175=\"a-Si (tandem)\",$Q175=\"a-Si (triple)\"),3,2))))","v":1},0,null,null,29176,null,null,173]
["AE Solar GmbH AE CQ 285P","AE Solar GmbH ","AE CQ 285P",285,"+3...0",35.81,7.96,44.3,8.42,-137.33000000000001,2.5259999999999998,-0.38,1000,null,null,14.68805980682373,"poly",72,"square",1956,992,50,"aluminum","junction box MC4",23,"www.ae-solar.com","-","-","-","-","-",{"$f":"IF($O176=\"Sunpower Corp.\",3,(IF(OR($Q176=\"mono\",$Q176=\"poly\",$Q176=\"HIT\",$Q176=\"EFG\",$Q176=\"mono-LGBC\"),1,IF(OR($Q176=\"µc-Si / a-Si\",$Q176=\"a-Si (single)\",$Q176=\"a-Si (tandem)\",$Q176=\"a-Si (triple)\"),3,2))))","v":1},{"$f":"IF($O176=\"Sunpower Corp.\",3,(IF(OR($Q176=\"mono\",$Q176=\"poly\",$Q176=\"HIT\",$Q176=\"EFG\",$Q176=\"mono-LGBC\"),1,2)))","v":1},{"$f":"IF($O176=\"Sunpower Corp.\",3,(IF(OR($Q176=\"mono\",$Q176=\"poly\",$Q176=\"HIT\",$Q176=\"EFG\",$Q176=\"mono-LGBC\"),1,IF(OR($Q176=\"µc-Si / a-Si\",$Q176=\"a-Si (single)\",$Q176=\"a-Si (tandem)\",$Q176=\"a-Si (triple)\"),3,2))))","v":1},0,null,null,29177,null,null,174]
["AEET Vertriebs GmbH AEET-GS-50W","AEET Vertriebs GmbH ","AEET-GS-50W",50,"+5...-5",43,1.17,62,1.42,-204.6,1.2779999999999998,-0.22,1000,null,null,6.3245110511779785,"a-Si (single)",null,null,1245,635,7.5,null,"junction box",14.4,"www.aeet-vertrieb.com","-","-","-","-","-",{"$f":"IF($O177=\"Sunpower Corp.\",3,(IF(OR($Q177=\"mono\",$Q177=\"poly\",$Q177=\"HIT\",$Q177=\"EFG\",$Q177=\"mono-LGBC\"),1,IF(OR($Q177=\"µc-Si / a-Si\",$Q177=\"a-Si (single)\",$Q177=\"a-Si (tandem)\",$Q177=\"a-Si (triple)\"),3,2))))","v":3},{"$f":"IF($O177=\"Sunpower Corp.\",3,(IF(OR($Q177=\"mono\",$Q177=\"poly\",$Q177=\"HIT\",$Q177=\"EFG\",$Q177=\"mono-LGBC\"),1,2)))","v":2},{"$f":"IF($O177=\"Sunpower Corp.\",3,(IF(OR($Q177=\"mono\",$Q177=\"poly\",$Q177=\"HIT\",$Q177=\"EFG\",$Q177=\"mono-LGBC\"),1,IF(OR($Q177=\"µc-Si / a-Si\",$Q177=\"a-Si (single)\",$Q177=\"a-Si (tandem)\",$Q177=\"a-Si (triple)\"),3,2))))","v":3},0,null,null,24274,null,null,175]
["AEET Vertriebs GmbH AEET-GS-55W","AEET Vertriebs GmbH ","AEET-GS-55W",55,"+5...-5",46.6,1.18,62.8,1.46,-207.24,1.3139999999999998,-0.22,1000,null,null,6.9569621086120605,"a-Si (single)",null,null,1245,635,7.5,null,"junction box",14.4,"www.aeet-vertrieb.com","-","-","-","-","-",{"$f":"IF($O178=\"Sunpower Corp.\",3,(IF(OR($Q178=\"mono\",$Q178=\"poly\",$Q178=\"HIT\",$Q178=\"EFG\",$Q178=\"mono-LGBC\"),1,IF(OR($Q178=\"µc-Si / a-Si\",$Q178=\"a-Si (single)\",$Q178=\"a-Si (tandem)\",$Q178=\"a-Si (triple)\"),3,2))))","v":3},{"$f":"IF($O178=\"Sunpower Corp.\",3,(IF(OR($Q178=\"mono\",$Q178=\"poly\",$Q178=\"HIT\",$Q178=\"EFG\",$Q178=\"mono-LGBC\"),1,2)))","v":2},{"$f":"IF($O178=\"Sunpower Corp.\",3,(IF(OR($Q178=\"mono\",$Q178=\"poly\",$Q178=\"HIT\",$Q178=\"EFG\",$Q178=\"mono-LGBC\"),1,IF(OR($Q178=\"µc-Si / a-Si\",$Q178=\"a-Si (single)\",$Q178=\"a-Si (tandem)\",$Q178=\"a-Si (triple)\"),3,2))))","v":3},0,null,null,24275,null,null,176]
["AEET Vertriebs GmbH AEET-NH-100AT_3A","AEET Vertriebs GmbH ","AEET-NH-100AT_3A",95,"+...",null,2.6,50,3.24,-170,2.9160000000000004,-0.2,1000,null,null,6.0309948921203613,"a-Si (single)",null,null,1414,1114,35.299999999999997,null,null,20.5,"www.aeet-vertrieb.com","-","-","-","-","-",{"$f":"IF($O179=\"Sunpower Corp.\",3,(IF(OR($Q179=\"mono\",$Q179=\"poly\",$Q179=\"HIT\",$Q179=\"EFG\",$Q179=\"mono-LGBC\"),1,IF(OR($Q179=\"µc-Si / a-Si\",$Q179=\"a-Si (single)\",$Q179=\"a-Si (tandem)\",$Q179=\"a-Si (triple)\"),3,2))))","v":3},{"$f":"IF($O179=\"Sunpower Corp.\",3,(IF(OR($Q179=\"mono\",$Q179=\"poly\",$Q179=\"HIT\",$Q179=\"EFG\",$Q179=\"mono-LGBC\"),1,2)))","v":2},{"$f":"IF($O179=\"Sunpower Corp.\",3,(IF(OR($Q179=\"mono\",$Q179=\"poly\",$Q179=\"HIT\",$Q179=\"EFG\",$Q179=\"mono-LGBC\"),1,IF(OR($Q179=\"µc-Si / a-Si\",$Q179=\"a-Si (single)\",$Q179=\"a-Si (tandem)\",$Q179=\"a-Si (triple)\"),3,2))))","v":3},0,null,null,24281,null,null,177]
["AEET Vertriebs GmbH AEET-NH-100AT_4A","AEET Vertriebs GmbH ","AEET-NH-100AT_4A",100,"+...",null,2.66,50.5,3.3,-171.7,2.97,-0.2,1000,null,null,6.3484158515930176,"a-Si (single)",null,null,1414,1114,35.299999999999997,null,null,20.5,"www.aeet-vertrieb.com","-","-","-","-","-",{"$f":"IF($O180=\"Sunpower Corp.\",3,(IF(OR($Q180=\"mono\",$Q180=\"poly\",$Q180=\"HIT\",$Q180=\"EFG\",$Q180=\"mono-LGBC\"),1,IF(OR($Q180=\"µc-Si / a-Si\",$Q180=\"a-Si (single)\",$Q180=\"a-Si (tandem)\",$Q180=\"a-Si (triple)\"),3,2))))","v":3},{"$f":"IF($O180=\"Sunpower Corp.\",3,(IF(OR($Q180=\"mono\",$Q180=\"poly\",$Q180=\"HIT\",$Q180=\"EFG\",$Q180=\"mono-LGBC\"),1,2)))","v":2},{"$f":"IF($O180=\"Sunpower Corp.\",3,(IF(OR($Q180=\"mono\",$Q180=\"poly\",$Q180=\"HIT\",$Q180=\"EFG\",$Q180=\"mono-LGBC\"),1,IF(OR($Q180=\"µc-Si / a-Si\",$Q180=\"a-Si (single)\",$Q180=\"a-Si (tandem)\",$Q180=\"a-Si (triple)\"),3,2))))","v":3},0,null,null,24280,null,null,178]
["AEET Vertriebs GmbH AEET-NT-130AX","AEET Vertriebs GmbH ","AEET-NT-130AX",130,"+5...-5",null,2.2000000000000002,76.8,2.72,-230.4,1.9040000000000004,-0.24,1000,null,null,8.2529411315917969,"µc-Si",null,null,1414,1114,35.299999999999997,null,"junction box MC4",20.5,"www.aeet-vertrieb.com","-","-","-","-","-",{"$f":"IF($O181=\"Sunpower Corp.\",3,(IF(OR($Q181=\"mono\",$Q181=\"poly\",$Q181=\"HIT\",$Q181=\"EFG\",$Q181=\"mono-LGBC\"),1,IF(OR($Q181=\"µc-Si / a-Si\",$Q181=\"a-Si (single)\",$Q181=\"a-Si (tandem)\",$Q181=\"a-Si (triple)\"),3,2))))","v":2},{"$f":"IF($O181=\"Sunpower Corp.\",3,(IF(OR($Q181=\"mono\",$Q181=\"poly\",$Q181=\"HIT\",$Q181=\"EFG\",$Q181=\"mono-LGBC\"),1,2)))","v":2},{"$f":"IF($O181=\"Sunpower Corp.\",3,(IF(OR($Q181=\"mono\",$Q181=\"poly\",$Q181=\"HIT\",$Q181=\"EFG\",$Q181=\"mono-LGBC\"),1,IF(OR($Q181=\"µc-Si / a-Si\",$Q181=\"a-Si (single)\",$Q181=\"a-Si (tandem)\",$Q181=\"a-Si (triple)\"),3,2))))","v":2},0,null,null,24285,null,null,179]
["AEET Vertriebs GmbH AEET-NT-135AX","AEET Vertriebs GmbH ","AEET-NT-135AX",135,"+5...-5",null,2.17,78.400000000000006,2.52,-250.88,1.7640000000000002,-0.28000000000000003,1000,null,null,8.5703620910644531,"µc-Si",null,null,1414,1114,35.299999999999997,null,"junction box MC4",20.5,"www.aeet-vertrieb.com","-","-","-","-","-",{"$f":"IF($O182=\"Sunpower Corp.\",3,(IF(OR($Q182=\"mono\",$Q182=\"poly\",$Q182=\"HIT\",$Q182=\"EFG\",$Q182=\"mono-LGBC\"),1,IF(OR($Q182=\"µc-Si / a-Si\",$Q182=\"a-Si (single)\",$Q182=\"a-Si (tandem)\",$Q182=\"a-Si (triple)\"),3,2))))","v":2},{"$f":"IF($O182=\"Sunpower Corp.\",3,(IF(OR($Q182=\"mono\",$Q182=\"poly\",$Q182=\"HIT\",$Q182=\"EFG\",$Q182=\"mono-LGBC\"),1,2)))","v":2},{"$f":"IF($O182=\"Sunpower Corp.\",3,(IF(OR($Q182=\"mono\",$Q182=\"poly\",$Q182=\"HIT\",$Q182=\"EFG\",$Q182=\"mono-LGBC\"),1,IF(OR($Q182=\"µc-Si / a-Si\",$Q182=\"a-Si (single)\",$Q182=\"a-Si (tandem)\",$Q182=\"a-Si (triple)\"),3,2))))","v":2},0,null,null,24284,null,null,180]
["AEET Vertriebs GmbH AEET-NT-140AX","AEET Vertriebs GmbH ","AEET-NT-140AX",140,"+5...-5",null,2.25,78.400000000000006,2.59,-250.88,1.8130000000000002,-0.28000000000000003,1000,null,null,8.8877830505371094,"µc-Si",null,null,1414,1114,35.299999999999997,null,"junction box MC4",20.5,"www.aeet-vertrieb.com","-","-","-","-","-",{"$f":"IF($O183=\"Sunpower Corp.\",3,(IF(OR($Q183=\"mono\",$Q183=\"poly\",$Q183=\"HIT\",$Q183=\"EFG\",$Q183=\"mono-LGBC\"),1,IF(OR($Q183=\"µc-Si / a-Si\",$Q183=\"a-Si (single)\",$Q183=\"a-Si (tandem)\",$Q183=\"a-Si (triple)\"),3,2))))","v":2},{"$f":"IF($O183=\"Sunpower Corp.\",3,(IF(OR($Q183=\"mono\",$Q183=\"poly\",$Q183=\"HIT\",$Q183=\"EFG\",$Q183=\"mono-LGBC\"),1,2)))","v":2},{"$f":"IF($O183=\"Sunpower Corp.\",3,(IF(OR($Q183=\"mono\",$Q183=\"poly\",$Q183=\"HIT\",$Q183=\"EFG\",$Q183=\"mono-LGBC\"),1,IF(OR($Q183=\"µc-Si / a-Si\",$Q183=\"a-Si (single)\",$Q183=\"a-Si (tandem)\",$Q183=\"a-Si (triple)\"),3,2))))","v":2},0,null,null,24283,null,null,181]
["AEET Vertriebs GmbH AEET-NT-145AX","AEET Vertriebs GmbH ","AEET-NT-145AX",145,"+5...-5",null,2.3199999999999998,78.400000000000006,2.67,-250.88,1.8690000000000002,-0.28000000000000003,1000,null,null,9.2052040100097656,"µc-Si",null,null,1414,1114,35.299999999999997,null,"junction box MC4",20.5,"www.aeet-vertrieb.com","-","-","-","-","-",{"$f":"IF($O184=\"Sunpower Corp.\",3,(IF(OR($Q184=\"mono\",$Q184=\"poly\",$Q184=\"HIT\",$Q184=\"EFG\",$Q184=\"mono-LGBC\"),1,IF(OR($Q184=\"µc-Si / a-Si\",$Q184=\"a-Si (single)\",$Q184=\"a-Si (tandem)\",$Q184=\"a-Si (triple)\"),3,2))))","v":2},{"$f":"IF($O184=\"Sunpower Corp.\",3,(IF(OR($Q184=\"mono\",$Q184=\"poly\",$Q184=\"HIT\",$Q184=\"EFG\",$Q184=\"mono-LGBC\"),1,2)))","v":2},{"$f":"IF($O184=\"Sunpower Corp.\",3,(IF(OR($Q184=\"mono\",$Q184=\"poly\",$Q184=\"HIT\",$Q184=\"EFG\",$Q184=\"mono-LGBC\"),1,IF(OR($Q184=\"µc-Si / a-Si\",$Q184=\"a-Si (single)\",$Q184=\"a-Si (tandem)\",$Q184=\"a-Si (triple)\"),3,2))))","v":2},0,null,null,24282,null,null,182]
["AEET Vertriebs GmbH AEET-QS50W","AEET Vertriebs GmbH ","AEET-QS50W",50,"+...",59.5,0.84,78.5,1.1599999999999999,-243.35,0.81200000000000017,-0.21,1000,null,null,4.5029468536376953,"a-Si (single)",null,null,1402,792,35,null,null,19.899999999999999,"www.aeet-vertrieb.com","-","-","-","-","-",{"$f":"IF($O185=\"Sunpower Corp.\",3,(IF(OR($Q185=\"mono\",$Q185=\"poly\",$Q185=\"HIT\",$Q185=\"EFG\",$Q185=\"mono-LGBC\"),1,IF(OR($Q185=\"µc-Si / a-Si\",$Q185=\"a-Si (single)\",$Q185=\"a-Si (tandem)\",$Q185=\"a-Si (triple)\"),3,2))))","v":3},{"$f":"IF($O185=\"Sunpower Corp.\",3,(IF(OR($Q185=\"mono\",$Q185=\"poly\",$Q185=\"HIT\",$Q185=\"EFG\",$Q185=\"mono-LGBC\"),1,2)))","v":2},{"$f":"IF($O185=\"Sunpower Corp.\",3,(IF(OR($Q185=\"mono\",$Q185=\"poly\",$Q185=\"HIT\",$Q185=\"EFG\",$Q185=\"mono-LGBC\"),1,IF(OR($Q185=\"µc-Si / a-Si\",$Q185=\"a-Si (single)\",$Q185=\"a-Si (tandem)\",$Q185=\"a-Si (triple)\"),3,2))))","v":3},0,null,null,24277,null,null,183]
["AEET Vertriebs GmbH AEET-QS55W","AEET Vertriebs GmbH ","AEET-QS55W",55,"+...",60.2,0.91,79,1.18,-244.9,0.82600000000000018,-0.21,1000,null,null,4.9532408714294434,"a-Si (single)",null,null,1402,792,35,null,null,19.899999999999999,"www.aeet-vertrieb.com","-","-","-","-","-",{"$f":"IF($O186=\"Sunpower Corp.\",3,(IF(OR($Q186=\"mono\",$Q186=\"poly\",$Q186=\"HIT\",$Q186=\"EFG\",$Q186=\"mono-LGBC\"),1,IF(OR($Q186=\"µc-Si / a-Si\",$Q186=\"a-Si (single)\",$Q186=\"a-Si (tandem)\",$Q186=\"a-Si (triple)\"),3,2))))","v":3},{"$f":"IF($O186=\"Sunpower Corp.\",3,(IF(OR($Q186=\"mono\",$Q186=\"poly\",$Q186=\"HIT\",$Q186=\"EFG\",$Q186=\"mono-LGBC\"),1,2)))","v":2},{"$f":"IF($O186=\"Sunpower Corp.\",3,(IF(OR($Q186=\"mono\",$Q186=\"poly\",$Q186=\"HIT\",$Q186=\"EFG\",$Q186=\"mono-LGBC\"),1,IF(OR($Q186=\"µc-Si / a-Si\",$Q186=\"a-Si (single)\",$Q186=\"a-Si (tandem)\",$Q186=\"a-Si (triple)\"),3,2))))","v":3},0,null,null,24278,null,null,184]
["AEET Vertriebs GmbH AEET-QS60W","AEET Vertriebs GmbH ","AEET-QS60W",60,"+...",62.3,0.96,80.3,1.22,-248.93,0.8540000000000002,-0.21,1000,null,null,5.4035358428955078,"a-Si (single)",null,null,1402,792,35,null,null,19.899999999999999,"www.aeet-vertrieb.com","-","-","-","-","-",{"$f":"IF($O187=\"Sunpower Corp.\",3,(IF(OR($Q187=\"mono\",$Q187=\"poly\",$Q187=\"HIT\",$Q187=\"EFG\",$Q187=\"mono-LGBC\"),1,IF(OR($Q187=\"µc-Si / a-Si\",$Q187=\"a-Si (single)\",$Q187=\"a-Si (tandem)\",$Q187=\"a-Si (triple)\"),3,2))))","v":3},{"$f":"IF($O187=\"Sunpower Corp.\",3,(IF(OR($Q187=\"mono\",$Q187=\"poly\",$Q187=\"HIT\",$Q187=\"EFG\",$Q187=\"mono-LGBC\"),1,2)))","v":2},{"$f":"IF($O187=\"Sunpower Corp.\",3,(IF(OR($Q187=\"mono\",$Q187=\"poly\",$Q187=\"HIT\",$Q187=\"EFG\",$Q187=\"mono-LGBC\"),1,IF(OR($Q187=\"µc-Si / a-Si\",$Q187=\"a-Si (single)\",$Q187=\"a-Si (tandem)\",$Q187=\"a-Si (triple)\"),3,2))))","v":3},0,null,null,24279,null,null,185]
["AEET Vertriebs GmbH AEET-QS85W","AEET Vertriebs GmbH ","AEET-QS85W",85,"+...",87.5,0.98,114.2,1.19,-354.02,0.83300000000000007,-0.21,1000,null,null,5.4661111831665039,"a-Si (single)",null,null,1406,1106,35,null,null,28.3,"www.aeet-vertrieb.com","-","-","-","-","-",{"$f":"IF($O188=\"Sunpower Corp.\",3,(IF(OR($Q188=\"mono\",$Q188=\"poly\",$Q188=\"HIT\",$Q188=\"EFG\",$Q188=\"mono-LGBC\"),1,IF(OR($Q188=\"µc-Si / a-Si\",$Q188=\"a-Si (single)\",$Q188=\"a-Si (tandem)\",$Q188=\"a-Si (triple)\"),3,2))))","v":3},{"$f":"IF($O188=\"Sunpower Corp.\",3,(IF(OR($Q188=\"mono\",$Q188=\"poly\",$Q188=\"HIT\",$Q188=\"EFG\",$Q188=\"mono-LGBC\"),1,2)))","v":2},{"$f":"IF($O188=\"Sunpower Corp.\",3,(IF(OR($Q188=\"mono\",$Q188=\"poly\",$Q188=\"HIT\",$Q188=\"EFG\",$Q188=\"mono-LGBC\"),1,IF(OR($Q188=\"µc-Si / a-Si\",$Q188=\"a-Si (single)\",$Q188=\"a-Si (tandem)\",$Q188=\"a-Si (triple)\"),3,2))))","v":3},0,null,null,24276,null,null,186]
["AEET Vertriebs GmbH AEET-US-180M","AEET Vertriebs GmbH ","AEET-US-180M",180,"+3...-3",36.799999999999997,4.9000000000000004,44.8,5.25,-170.24,0,-0.45,1000,null,null,14.099510192871094,"mono",72,"pseudo-square",1580,808,35,null,"junction box MC4",16,"www.aeet-vertrieb.com","-","-","-","-","-",{"$f":"IF($O189=\"Sunpower Corp.\",3,(IF(OR($Q189=\"mono\",$Q189=\"poly\",$Q189=\"HIT\",$Q189=\"EFG\",$Q189=\"mono-LGBC\"),1,IF(OR($Q189=\"µc-Si / a-Si\",$Q189=\"a-Si (single)\",$Q189=\"a-Si (tandem)\",$Q189=\"a-Si (triple)\"),3,2))))","v":1},{"$f":"IF($O189=\"Sunpower Corp.\",3,(IF(OR($Q189=\"mono\",$Q189=\"poly\",$Q189=\"HIT\",$Q189=\"EFG\",$Q189=\"mono-LGBC\"),1,2)))","v":1},{"$f":"IF($O189=\"Sunpower Corp.\",3,(IF(OR($Q189=\"mono\",$Q189=\"poly\",$Q189=\"HIT\",$Q189=\"EFG\",$Q189=\"mono-LGBC\"),1,IF(OR($Q189=\"µc-Si / a-Si\",$Q189=\"a-Si (single)\",$Q189=\"a-Si (tandem)\",$Q189=\"a-Si (triple)\"),3,2))))","v":1},0,null,null,24286,null,null,187]
["AEET Vertriebs GmbH AEET-US-185M","AEET Vertriebs GmbH ","AEET-US-185M",185,"+3...-3",37.5,4.95,44.9,5.3,-170.62,0,-0.45,1000,null,null,14.49116039276123,"mono",72,"pseudo-square",1580,808,35,null,"junction box MC4",16,"www.aeet-vertrieb.com","-","-","-","-","-",{"$f":"IF($O190=\"Sunpower Corp.\",3,(IF(OR($Q190=\"mono\",$Q190=\"poly\",$Q190=\"HIT\",$Q190=\"EFG\",$Q190=\"mono-LGBC\"),1,IF(OR($Q190=\"µc-Si / a-Si\",$Q190=\"a-Si (single)\",$Q190=\"a-Si (tandem)\",$Q190=\"a-Si (triple)\"),3,2))))","v":1},{"$f":"IF($O190=\"Sunpower Corp.\",3,(IF(OR($Q190=\"mono\",$Q190=\"poly\",$Q190=\"HIT\",$Q190=\"EFG\",$Q190=\"mono-LGBC\"),1,2)))","v":1},{"$f":"IF($O190=\"Sunpower Corp.\",3,(IF(OR($Q190=\"mono\",$Q190=\"poly\",$Q190=\"HIT\",$Q190=\"EFG\",$Q190=\"mono-LGBC\"),1,IF(OR($Q190=\"µc-Si / a-Si\",$Q190=\"a-Si (single)\",$Q190=\"a-Si (tandem)\",$Q190=\"a-Si (triple)\"),3,2))))","v":1},0,null,null,24287,null,null,188]
["AJIT Solar Ltd. ASPL-E36","AJIT Solar Ltd. ","ASPL-E36",75,"+3...-3",17.5,4.82,22.3,5.14,-78.05,2.57,-0.45,1000,null,null,11.559269905090332,"mono",60,"pseudo-square",806,805,42,"aluminum","junction box",null,"www.ajitsolar.com","-","-","-","-","-",{"$f":"IF($O191=\"Sunpower Corp.\",3,(IF(OR($Q191=\"mono\",$Q191=\"poly\",$Q191=\"HIT\",$Q191=\"EFG\",$Q191=\"mono-LGBC\"),1,IF(OR($Q191=\"µc-Si / a-Si\",$Q191=\"a-Si (single)\",$Q191=\"a-Si (tandem)\",$Q191=\"a-Si (triple)\"),3,2))))","v":1},{"$f":"IF($O191=\"Sunpower Corp.\",3,(IF(OR($Q191=\"mono\",$Q191=\"poly\",$Q191=\"HIT\",$Q191=\"EFG\",$Q191=\"mono-LGBC\"),1,2)))","v":1},{"$f":"IF($O191=\"Sunpower Corp.\",3,(IF(OR($Q191=\"mono\",$Q191=\"poly\",$Q191=\"HIT\",$Q191=\"EFG\",$Q191=\"mono-LGBC\"),1,IF(OR($Q191=\"µc-Si / a-Si\",$Q191=\"a-Si (single)\",$Q191=\"a-Si (tandem)\",$Q191=\"a-Si (triple)\"),3,2))))","v":1},0,null,null,13646,null,null,189]
["AJIT Solar Ltd. ASPL-P72","AJIT Solar Ltd. ","ASPL-P72",280,"+3...-3",35.5,7.88,44.5,8.3000000000000007,-155.75,4.1500000000000004,-0.45,1000,null,null,14.07034969329834,"mono",72,"pseudo-square",1990,1000,42,"aluminum","junction box",25,"www.ajitsolar.com","-","-","-","-","-",{"$f":"IF($O192=\"Sunpower Corp.\",3,(IF(OR($Q192=\"mono\",$Q192=\"poly\",$Q192=\"HIT\",$Q192=\"EFG\",$Q192=\"mono-LGBC\"),1,IF(OR($Q192=\"µc-Si / a-Si\",$Q192=\"a-Si (single)\",$Q192=\"a-Si (tandem)\",$Q192=\"a-Si (triple)\"),3,2))))","v":1},{"$f":"IF($O192=\"Sunpower Corp.\",3,(IF(OR($Q192=\"mono\",$Q192=\"poly\",$Q192=\"HIT\",$Q192=\"EFG\",$Q192=\"mono-LGBC\"),1,2)))","v":1},{"$f":"IF($O192=\"Sunpower Corp.\",3,(IF(OR($Q192=\"mono\",$Q192=\"poly\",$Q192=\"HIT\",$Q192=\"EFG\",$Q192=\"mono-LGBC\"),1,IF(OR($Q192=\"µc-Si / a-Si\",$Q192=\"a-Si (single)\",$Q192=\"a-Si (tandem)\",$Q192=\"a-Si (triple)\"),3,2))))","v":1},0,null,null,13644,null,null,190]
["AJIT Solar Ltd. ASPL-V60","AJIT Solar Ltd. ","ASPL-V60",220,"+3...-3",29,7.6,36,8.2799999999999994,-126,4.1399999999999997,-0.45,1000,null,null,13.279609680175781,"mono",60,"pseudo-square",1665,995,42,"aluminum","junction box",null,"www.ajitsolar.com","-","-","-","-","-",{"$f":"IF($O193=\"Sunpower Corp.\",3,(IF(OR($Q193=\"mono\",$Q193=\"poly\",$Q193=\"HIT\",$Q193=\"EFG\",$Q193=\"mono-LGBC\"),1,IF(OR($Q193=\"µc-Si / a-Si\",$Q193=\"a-Si (single)\",$Q193=\"a-Si (tandem)\",$Q193=\"a-Si (triple)\"),3,2))))","v":1},{"$f":"IF($O193=\"Sunpower Corp.\",3,(IF(OR($Q193=\"mono\",$Q193=\"poly\",$Q193=\"HIT\",$Q193=\"EFG\",$Q193=\"mono-LGBC\"),1,2)))","v":1},{"$f":"IF($O193=\"Sunpower Corp.\",3,(IF(OR($Q193=\"mono\",$Q193=\"poly\",$Q193=\"HIT\",$Q193=\"EFG\",$Q193=\"mono-LGBC\"),1,IF(OR($Q193=\"µc-Si / a-Si\",$Q193=\"a-Si (single)\",$Q193=\"a-Si (tandem)\",$Q193=\"a-Si (triple)\"),3,2))))","v":1},0,null,null,13645,null,null,191]
["Akhter Group PLC Akhter 135","Akhter Group PLC ","Akhter 135",135,"+3...-3",18.2,7.52,22.5,8.1,-65.25,7.29,-0.32,1000,"Pakistan","Q-Cells AG",13.952409744262695,"poly",36,"square",1455,665,34,"aluminum","cable MC new",12,"www.akhterrenewables.com","-","-","-","-","-",{"$f":"IF($O194=\"Sunpower Corp.\",3,(IF(OR($Q194=\"mono\",$Q194=\"poly\",$Q194=\"HIT\",$Q194=\"EFG\",$Q194=\"mono-LGBC\"),1,IF(OR($Q194=\"µc-Si / a-Si\",$Q194=\"a-Si (single)\",$Q194=\"a-Si (tandem)\",$Q194=\"a-Si (triple)\"),3,2))))","v":1},{"$f":"IF($O194=\"Sunpower Corp.\",3,(IF(OR($Q194=\"mono\",$Q194=\"poly\",$Q194=\"HIT\",$Q194=\"EFG\",$Q194=\"mono-LGBC\"),1,2)))","v":1},{"$f":"IF($O194=\"Sunpower Corp.\",3,(IF(OR($Q194=\"mono\",$Q194=\"poly\",$Q194=\"HIT\",$Q194=\"EFG\",$Q194=\"mono-LGBC\"),1,IF(OR($Q194=\"µc-Si / a-Si\",$Q194=\"a-Si (single)\",$Q194=\"a-Si (tandem)\",$Q194=\"a-Si (triple)\"),3,2))))","v":1},0,null,null,3595,null,null,192]
["Akhter Group PLC Akhter 200","Akhter Group PLC ","Akhter 200",200,"+3...-3",27.3,7.5,33.75,8.08,-97.875,7.2720000000000002,-0.32,1000,"Pakistan","Q-Cells AG",14.244250297546387,"poly",54,"square",1455,965,34,"aluminum","cable MC new",18,"www.akhterrenewables.com","-","-","-","-","-",{"$f":"IF($O195=\"Sunpower Corp.\",3,(IF(OR($Q195=\"mono\",$Q195=\"poly\",$Q195=\"HIT\",$Q195=\"EFG\",$Q195=\"mono-LGBC\"),1,IF(OR($Q195=\"µc-Si / a-Si\",$Q195=\"a-Si (single)\",$Q195=\"a-Si (tandem)\",$Q195=\"a-Si (triple)\"),3,2))))","v":1},{"$f":"IF($O195=\"Sunpower Corp.\",3,(IF(OR($Q195=\"mono\",$Q195=\"poly\",$Q195=\"HIT\",$Q195=\"EFG\",$Q195=\"mono-LGBC\"),1,2)))","v":1},{"$f":"IF($O195=\"Sunpower Corp.\",3,(IF(OR($Q195=\"mono\",$Q195=\"poly\",$Q195=\"HIT\",$Q195=\"EFG\",$Q195=\"mono-LGBC\"),1,IF(OR($Q195=\"µc-Si / a-Si\",$Q195=\"a-Si (single)\",$Q195=\"a-Si (tandem)\",$Q195=\"a-Si (triple)\"),3,2))))","v":1},0,null,null,3594,null,null,193]
["Akhter Group PLC Akhter 220","Akhter Group PLC ","Akhter 220",220,"+3...-3",30.3,7.5,37.5,8.1,-108.75,7.29,-0.32,1000,"Pakistan","Q-Cells AG",13.744629859924316,"poly",60,"square",1625,985,34,"aluminum","cable MC new",20,"www.akhterrenewables.com","-","-","-","-","-",{"$f":"IF($O196=\"Sunpower Corp.\",3,(IF(OR($Q196=\"mono\",$Q196=\"poly\",$Q196=\"HIT\",$Q196=\"EFG\",$Q196=\"mono-LGBC\"),1,IF(OR($Q196=\"µc-Si / a-Si\",$Q196=\"a-Si (single)\",$Q196=\"a-Si (tandem)\",$Q196=\"a-Si (triple)\"),3,2))))","v":1},{"$f":"IF($O196=\"Sunpower Corp.\",3,(IF(OR($Q196=\"mono\",$Q196=\"poly\",$Q196=\"HIT\",$Q196=\"EFG\",$Q196=\"mono-LGBC\"),1,2)))","v":1},{"$f":"IF($O196=\"Sunpower Corp.\",3,(IF(OR($Q196=\"mono\",$Q196=\"poly\",$Q196=\"HIT\",$Q196=\"EFG\",$Q196=\"mono-LGBC\"),1,IF(OR($Q196=\"µc-Si / a-Si\",$Q196=\"a-Si (single)\",$Q196=\"a-Si (tandem)\",$Q196=\"a-Si (triple)\"),3,2))))","v":1},0,null,null,5679,null,null,194]
["Akhter Group PLC Akhter 245","Akhter Group PLC ","Akhter 245",245,"+3...-3",33.369999999999997,7.55,41.25,8.1300000000000008,-119.625,7.3170000000000002,-0.32,1000,"Pakistan","Q-Cells AG",14.384480476379395,"poly",66,"square",1765,965,34,"aluminum","cable MC new",22,"www.akhterrenewables.com","-","-","-","-","-",{"$f":"IF($O197=\"Sunpower Corp.\",3,(IF(OR($Q197=\"mono\",$Q197=\"poly\",$Q197=\"HIT\",$Q197=\"EFG\",$Q197=\"mono-LGBC\"),1,IF(OR($Q197=\"µc-Si / a-Si\",$Q197=\"a-Si (single)\",$Q197=\"a-Si (tandem)\",$Q197=\"a-Si (triple)\"),3,2))))","v":1},{"$f":"IF($O197=\"Sunpower Corp.\",3,(IF(OR($Q197=\"mono\",$Q197=\"poly\",$Q197=\"HIT\",$Q197=\"EFG\",$Q197=\"mono-LGBC\"),1,2)))","v":1},{"$f":"IF($O197=\"Sunpower Corp.\",3,(IF(OR($Q197=\"mono\",$Q197=\"poly\",$Q197=\"HIT\",$Q197=\"EFG\",$Q197=\"mono-LGBC\"),1,IF(OR($Q197=\"µc-Si / a-Si\",$Q197=\"a-Si (single)\",$Q197=\"a-Si (tandem)\",$Q197=\"a-Si (triple)\"),3,2))))","v":1},0,null,null,3601,null,null,195]
["Akhter Group PLC Akhter 90","Akhter Group PLC ","Akhter 90",90,"+3...-3",18.2,5.01,22.5,5.4,-65.25,4.8600000000000003,-0.32,1000,"Pakistan","Q-Cells AG",13.739930152893066,"poly",36,"square",985,665,34,"aluminum","cable MC new",8.5,"www.akhterrenewables.com","-","-","-","-","-",{"$f":"IF($O198=\"Sunpower Corp.\",3,(IF(OR($Q198=\"mono\",$Q198=\"poly\",$Q198=\"HIT\",$Q198=\"EFG\",$Q198=\"mono-LGBC\"),1,IF(OR($Q198=\"µc-Si / a-Si\",$Q198=\"a-Si (single)\",$Q198=\"a-Si (tandem)\",$Q198=\"a-Si (triple)\"),3,2))))","v":1},{"$f":"IF($O198=\"Sunpower Corp.\",3,(IF(OR($Q198=\"mono\",$Q198=\"poly\",$Q198=\"HIT\",$Q198=\"EFG\",$Q198=\"mono-LGBC\"),1,2)))","v":1},{"$f":"IF($O198=\"Sunpower Corp.\",3,(IF(OR($Q198=\"mono\",$Q198=\"poly\",$Q198=\"HIT\",$Q198=\"EFG\",$Q198=\"mono-LGBC\"),1,IF(OR($Q198=\"µc-Si / a-Si\",$Q198=\"a-Si (single)\",$Q198=\"a-Si (tandem)\",$Q198=\"a-Si (triple)\"),3,2))))","v":1},0,null,null,3596,null,null,196]
["Akhter Group PLC ASL-130 W/12 V","Akhter Group PLC ","ASL-130 W/12 V",130,"+3...-3",17.8,7.2,21.6,8.4,-62.64,7.56,-0.32,1000,"Pakistan","Q-Cells AG",13.536029815673828,"poly",36,"square",980,980,35,"aluminum","cable MC new",12,"www.akhterrenewables.com","-","-","-","-","-",{"$f":"IF($O199=\"Sunpower Corp.\",3,(IF(OR($Q199=\"mono\",$Q199=\"poly\",$Q199=\"HIT\",$Q199=\"EFG\",$Q199=\"mono-LGBC\"),1,IF(OR($Q199=\"µc-Si / a-Si\",$Q199=\"a-Si (single)\",$Q199=\"a-Si (tandem)\",$Q199=\"a-Si (triple)\"),3,2))))","v":1},{"$f":"IF($O199=\"Sunpower Corp.\",3,(IF(OR($Q199=\"mono\",$Q199=\"poly\",$Q199=\"HIT\",$Q199=\"EFG\",$Q199=\"mono-LGBC\"),1,2)))","v":1},{"$f":"IF($O199=\"Sunpower Corp.\",3,(IF(OR($Q199=\"mono\",$Q199=\"poly\",$Q199=\"HIT\",$Q199=\"EFG\",$Q199=\"mono-LGBC\"),1,IF(OR($Q199=\"µc-Si / a-Si\",$Q199=\"a-Si (single)\",$Q199=\"a-Si (tandem)\",$Q199=\"a-Si (triple)\"),3,2))))","v":1},0,null,null,9484,null,null,197]
["Akhter Group PLC ASL-165 W/12 V","Akhter Group PLC ","ASL-165 W/12 V",165,"+3...-3",17.8,9.1999999999999993,21.6,10.199999999999999,-62.64,9.18,-0.32,1000,"Pakistan","Q-Cells AG",13.053799629211426,"poly",72,"square",1580,800,35,"aluminum","cable MC new",16.5,"www.akhterrenewables.com","-","-","-","-","-",{"$f":"IF($O200=\"Sunpower Corp.\",3,(IF(OR($Q200=\"mono\",$Q200=\"poly\",$Q200=\"HIT\",$Q200=\"EFG\",$Q200=\"mono-LGBC\"),1,IF(OR($Q200=\"µc-Si / a-Si\",$Q200=\"a-Si (single)\",$Q200=\"a-Si (tandem)\",$Q200=\"a-Si (triple)\"),3,2))))","v":1},{"$f":"IF($O200=\"Sunpower Corp.\",3,(IF(OR($Q200=\"mono\",$Q200=\"poly\",$Q200=\"HIT\",$Q200=\"EFG\",$Q200=\"mono-LGBC\"),1,2)))","v":1},{"$f":"IF($O200=\"Sunpower Corp.\",3,(IF(OR($Q200=\"mono\",$Q200=\"poly\",$Q200=\"HIT\",$Q200=\"EFG\",$Q200=\"mono-LGBC\"),1,IF(OR($Q200=\"µc-Si / a-Si\",$Q200=\"a-Si (single)\",$Q200=\"a-Si (tandem)\",$Q200=\"a-Si (triple)\"),3,2))))","v":1},0,null,null,9485,null,null,198]
["Akhter Group PLC ASL-165 W/24 V","Akhter Group PLC ","ASL-165 W/24 V",165,"+3...-3",33.799999999999997,4.8,43.2,5.8,-125.28,5.22,-0.32,1000,"Pakistan","Q-Cells AG",13.053799629211426,"poly",72,"square",1580,800,35,"aluminum","cable MC new",16.5,"www.akhterrenewables.com","-","-","-","-","-",{"$f":"IF($O201=\"Sunpower Corp.\",3,(IF(OR($Q201=\"mono\",$Q201=\"poly\",$Q201=\"HIT\",$Q201=\"EFG\",$Q201=\"mono-LGBC\"),1,IF(OR($Q201=\"µc-Si / a-Si\",$Q201=\"a-Si (single)\",$Q201=\"a-Si (tandem)\",$Q201=\"a-Si (triple)\"),3,2))))","v":1},{"$f":"IF($O201=\"Sunpower Corp.\",3,(IF(OR($Q201=\"mono\",$Q201=\"poly\",$Q201=\"HIT\",$Q201=\"EFG\",$Q201=\"mono-LGBC\"),1,2)))","v":1},{"$f":"IF($O201=\"Sunpower Corp.\",3,(IF(OR($Q201=\"mono\",$Q201=\"poly\",$Q201=\"HIT\",$Q201=\"EFG\",$Q201=\"mono-LGBC\"),1,IF(OR($Q201=\"µc-Si / a-Si\",$Q201=\"a-Si (single)\",$Q201=\"a-Si (tandem)\",$Q201=\"a-Si (triple)\"),3,2))))","v":1},0,null,null,9486,null,null,199]
["Akhter Group PLC ASL-200 W/24 V","Akhter Group PLC ","ASL-200 W/24 V",200,"+3...-3",28.8,6.8,36.799999999999997,8.1999999999999993,-106.72,7.38,-0.32,1000,"Pakistan","Q-Cells AG",12.147720336914063,"poly",54,"square",1680,980,35,"aluminum","cable MC new",19,"www.akhterrenewables.com","-","-","-","-","-",{"$f":"IF($O202=\"Sunpower Corp.\",3,(IF(OR($Q202=\"mono\",$Q202=\"poly\",$Q202=\"HIT\",$Q202=\"EFG\",$Q202=\"mono-LGBC\"),1,IF(OR($Q202=\"µc-Si / a-Si\",$Q202=\"a-Si (single)\",$Q202=\"a-Si (tandem)\",$Q202=\"a-Si (triple)\"),3,2))))","v":1},{"$f":"IF($O202=\"Sunpower Corp.\",3,(IF(OR($Q202=\"mono\",$Q202=\"poly\",$Q202=\"HIT\",$Q202=\"EFG\",$Q202=\"mono-LGBC\"),1,2)))","v":1},{"$f":"IF($O202=\"Sunpower Corp.\",3,(IF(OR($Q202=\"mono\",$Q202=\"poly\",$Q202=\"HIT\",$Q202=\"EFG\",$Q202=\"mono-LGBC\"),1,IF(OR($Q202=\"µc-Si / a-Si\",$Q202=\"a-Si (single)\",$Q202=\"a-Si (tandem)\",$Q202=\"a-Si (triple)\"),3,2))))","v":1},0,null,null,9487,null,null,200]
["Akhter Group PLC ASL-250 W/24 V","Akhter Group PLC ","ASL-250 W/24 V",250,"+3...-3",34.200000000000003,7.2,43.2,9,-125.28,8.1,-0.32,1000,"Pakistan","Q-Cells AG",14.33158016204834,"poly",66,"square",1780,980,35,"aluminum","cable MC new",23,"www.akhterrenewables.com","-","-","-","-","-",{"$f":"IF($O203=\"Sunpower Corp.\",3,(IF(OR($Q203=\"mono\",$Q203=\"poly\",$Q203=\"HIT\",$Q203=\"EFG\",$Q203=\"mono-LGBC\"),1,IF(OR($Q203=\"µc-Si / a-Si\",$Q203=\"a-Si (single)\",$Q203=\"a-Si (tandem)\",$Q203=\"a-Si (triple)\"),3,2))))","v":1},{"$f":"IF($O203=\"Sunpower Corp.\",3,(IF(OR($Q203=\"mono\",$Q203=\"poly\",$Q203=\"HIT\",$Q203=\"EFG\",$Q203=\"mono-LGBC\"),1,2)))","v":1},{"$f":"IF($O203=\"Sunpower Corp.\",3,(IF(OR($Q203=\"mono\",$Q203=\"poly\",$Q203=\"HIT\",$Q203=\"EFG\",$Q203=\"mono-LGBC\"),1,IF(OR($Q203=\"µc-Si / a-Si\",$Q203=\"a-Si (single)\",$Q203=\"a-Si (tandem)\",$Q203=\"a-Si (triple)\"),3,2))))","v":1},0,null,null,9488,null,null,201]
["Akhter Group PLC ASL-65 W/12 V","Akhter Group PLC ","ASL-65 W/12 V",65,"+3...-3",18.2,3.6,21.6,4.2,-62.64,3.78,-0.32,1000,"Pakistan","Q-Cells AG",12.958530426025391,"poly",36,"square",760,660,35,"aluminum","cable MC new",5,"www.akhterrenewables.com","-","-","-","-","-",{"$f":"IF($O204=\"Sunpower Corp.\",3,(IF(OR($Q204=\"mono\",$Q204=\"poly\",$Q204=\"HIT\",$Q204=\"EFG\",$Q204=\"mono-LGBC\"),1,IF(OR($Q204=\"µc-Si / a-Si\",$Q204=\"a-Si (single)\",$Q204=\"a-Si (tandem)\",$Q204=\"a-Si (triple)\"),3,2))))","v":1},{"$f":"IF($O204=\"Sunpower Corp.\",3,(IF(OR($Q204=\"mono\",$Q204=\"poly\",$Q204=\"HIT\",$Q204=\"EFG\",$Q204=\"mono-LGBC\"),1,2)))","v":1},{"$f":"IF($O204=\"Sunpower Corp.\",3,(IF(OR($Q204=\"mono\",$Q204=\"poly\",$Q204=\"HIT\",$Q204=\"EFG\",$Q204=\"mono-LGBC\"),1,IF(OR($Q204=\"µc-Si / a-Si\",$Q204=\"a-Si (single)\",$Q204=\"a-Si (tandem)\",$Q204=\"a-Si (triple)\"),3,2))))","v":1},0,null,null,9481,null,null,202]
["Akhter Group PLC ASL-80 W/12 V","Akhter Group PLC ","ASL-80 W/12 V",80,"+3...-3",17.600000000000001,4.5999999999999996,21.6,5.2,-62.64,4.68,-0.32,1000,"Pakistan","Q-Cells AG",12.368579864501953,"poly",36,"square",980,660,35,"aluminum","cable MC new",9,"www.akhterrenewables.com","-","-","-","-","-",{"$f":"IF($O205=\"Sunpower Corp.\",3,(IF(OR($Q205=\"mono\",$Q205=\"poly\",$Q205=\"HIT\",$Q205=\"EFG\",$Q205=\"mono-LGBC\"),1,IF(OR($Q205=\"µc-Si / a-Si\",$Q205=\"a-Si (single)\",$Q205=\"a-Si (tandem)\",$Q205=\"a-Si (triple)\"),3,2))))","v":1},{"$f":"IF($O205=\"Sunpower Corp.\",3,(IF(OR($Q205=\"mono\",$Q205=\"poly\",$Q205=\"HIT\",$Q205=\"EFG\",$Q205=\"mono-LGBC\"),1,2)))","v":1},{"$f":"IF($O205=\"Sunpower Corp.\",3,(IF(OR($Q205=\"mono\",$Q205=\"poly\",$Q205=\"HIT\",$Q205=\"EFG\",$Q205=\"mono-LGBC\"),1,IF(OR($Q205=\"µc-Si / a-Si\",$Q205=\"a-Si (single)\",$Q205=\"a-Si (tandem)\",$Q205=\"a-Si (triple)\"),3,2))))","v":1},0,null,null,9482,null,null,203]
["Akhter Group PLC ASL-85 W/12 V","Akhter Group PLC ","ASL-85 W/12 V",85,"+3...-3",17.8,4.8,21.6,5.4,-62.64,4.8600000000000003,-0.32,1000,"Pakistan","Q-Cells AG",13.141619682312012,"poly",36,"square",980,660,35,"aluminum","cable MC new",9,"www.akhterrenewables.com","-","-","-","-","-",{"$f":"IF($O206=\"Sunpower Corp.\",3,(IF(OR($Q206=\"mono\",$Q206=\"poly\",$Q206=\"HIT\",$Q206=\"EFG\",$Q206=\"mono-LGBC\"),1,IF(OR($Q206=\"µc-Si / a-Si\",$Q206=\"a-Si (single)\",$Q206=\"a-Si (tandem)\",$Q206=\"a-Si (triple)\"),3,2))))","v":1},{"$f":"IF($O206=\"Sunpower Corp.\",3,(IF(OR($Q206=\"mono\",$Q206=\"poly\",$Q206=\"HIT\",$Q206=\"EFG\",$Q206=\"mono-LGBC\"),1,2)))","v":1},{"$f":"IF($O206=\"Sunpower Corp.\",3,(IF(OR($Q206=\"mono\",$Q206=\"poly\",$Q206=\"HIT\",$Q206=\"EFG\",$Q206=\"mono-LGBC\"),1,IF(OR($Q206=\"µc-Si / a-Si\",$Q206=\"a-Si (single)\",$Q206=\"a-Si (tandem)\",$Q206=\"a-Si (triple)\"),3,2))))","v":1},0,null,null,9483,null,null,204]
["Albasolar S.r.l. A0290TSP240","Albasolar S.r.l. ","A0290TSP240",240,"+3...-3",30.7,7.85,37.200000000000003,8.5,-130.19999999999999,2.9750000000000001,-0.47,1000,null,null,14.781970024108887,"poly",60,"square",1640,990,50,"aluminum","junction box",20,null,"-","-","-","-","-",{"$f":"IF($O207=\"Sunpower Corp.\",3,(IF(OR($Q207=\"mono\",$Q207=\"poly\",$Q207=\"HIT\",$Q207=\"EFG\",$Q207=\"mono-LGBC\"),1,IF(OR($Q207=\"µc-Si / a-Si\",$Q207=\"a-Si (single)\",$Q207=\"a-Si (tandem)\",$Q207=\"a-Si (triple)\"),3,2))))","v":1},{"$f":"IF($O207=\"Sunpower Corp.\",3,(IF(OR($Q207=\"mono\",$Q207=\"poly\",$Q207=\"HIT\",$Q207=\"EFG\",$Q207=\"mono-LGBC\"),1,2)))","v":1},{"$f":"IF($O207=\"Sunpower Corp.\",3,(IF(OR($Q207=\"mono\",$Q207=\"poly\",$Q207=\"HIT\",$Q207=\"EFG\",$Q207=\"mono-LGBC\"),1,IF(OR($Q207=\"µc-Si / a-Si\",$Q207=\"a-Si (single)\",$Q207=\"a-Si (tandem)\",$Q207=\"a-Si (triple)\"),3,2))))","v":1},0,null,null,30220,null,null,205]
["Albatech S.r.l. EGM-72 170","Albatech S.r.l. ","EGM-72 170",170,"+3...-3",35,4.8600000000000003,44,5.15,-156.63999999999999,1.4420000000000004,null,1000,null,null,13.31620979309082,"mono",72,"pseudo-square",1580,808,50,null,null,16,"www.albatech.com","-","-","-","-","-",{"$f":"IF($O208=\"Sunpower Corp.\",3,(IF(OR($Q208=\"mono\",$Q208=\"poly\",$Q208=\"HIT\",$Q208=\"EFG\",$Q208=\"mono-LGBC\"),1,IF(OR($Q208=\"µc-Si / a-Si\",$Q208=\"a-Si (single)\",$Q208=\"a-Si (tandem)\",$Q208=\"a-Si (triple)\"),3,2))))","v":1},{"$f":"IF($O208=\"Sunpower Corp.\",3,(IF(OR($Q208=\"mono\",$Q208=\"poly\",$Q208=\"HIT\",$Q208=\"EFG\",$Q208=\"mono-LGBC\"),1,2)))","v":1},{"$f":"IF($O208=\"Sunpower Corp.\",3,(IF(OR($Q208=\"mono\",$Q208=\"poly\",$Q208=\"HIT\",$Q208=\"EFG\",$Q208=\"mono-LGBC\"),1,IF(OR($Q208=\"µc-Si / a-Si\",$Q208=\"a-Si (single)\",$Q208=\"a-Si (tandem)\",$Q208=\"a-Si (triple)\"),3,2))))","v":1},0,null,null,12315,null,null,206]
["Albatech S.r.l. EGM-72 175","Albatech S.r.l. ","EGM-72 175",175,"+3...-3",35.200000000000003,4.97,44.2,5.25,-157.352,1.47,null,1000,null,null,13.707859992980957,"mono",72,"pseudo-square",1580,808,50,null,null,16,"www.albatech.com","-","-","-","-","-",{"$f":"IF($O209=\"Sunpower Corp.\",3,(IF(OR($Q209=\"mono\",$Q209=\"poly\",$Q209=\"HIT\",$Q209=\"EFG\",$Q209=\"mono-LGBC\"),1,IF(OR($Q209=\"µc-Si / a-Si\",$Q209=\"a-Si (single)\",$Q209=\"a-Si (tandem)\",$Q209=\"a-Si (triple)\"),3,2))))","v":1},{"$f":"IF($O209=\"Sunpower Corp.\",3,(IF(OR($Q209=\"mono\",$Q209=\"poly\",$Q209=\"HIT\",$Q209=\"EFG\",$Q209=\"mono-LGBC\"),1,2)))","v":1},{"$f":"IF($O209=\"Sunpower Corp.\",3,(IF(OR($Q209=\"mono\",$Q209=\"poly\",$Q209=\"HIT\",$Q209=\"EFG\",$Q209=\"mono-LGBC\"),1,IF(OR($Q209=\"µc-Si / a-Si\",$Q209=\"a-Si (single)\",$Q209=\"a-Si (tandem)\",$Q209=\"a-Si (triple)\"),3,2))))","v":1},0,null,null,12314,null,null,207]
["Albatech S.r.l. EGM-72 180","Albatech S.r.l. ","EGM-72 180",180,"+3...-3",35.4,5.08,44.4,5.35,-158.06399999999999,1.498,null,1000,null,null,14.099510192871094,"mono",72,"pseudo-square",1580,808,50,null,null,16,"www.albatech.com","-","-","-","-","-",{"$f":"IF($O210=\"Sunpower Corp.\",3,(IF(OR($Q210=\"mono\",$Q210=\"poly\",$Q210=\"HIT\",$Q210=\"EFG\",$Q210=\"mono-LGBC\"),1,IF(OR($Q210=\"µc-Si / a-Si\",$Q210=\"a-Si (single)\",$Q210=\"a-Si (tandem)\",$Q210=\"a-Si (triple)\"),3,2))))","v":1},{"$f":"IF($O210=\"Sunpower Corp.\",3,(IF(OR($Q210=\"mono\",$Q210=\"poly\",$Q210=\"HIT\",$Q210=\"EFG\",$Q210=\"mono-LGBC\"),1,2)))","v":1},{"$f":"IF($O210=\"Sunpower Corp.\",3,(IF(OR($Q210=\"mono\",$Q210=\"poly\",$Q210=\"HIT\",$Q210=\"EFG\",$Q210=\"mono-LGBC\"),1,IF(OR($Q210=\"µc-Si / a-Si\",$Q210=\"a-Si (single)\",$Q210=\"a-Si (tandem)\",$Q210=\"a-Si (triple)\"),3,2))))","v":1},0,null,null,12316,null,null,208]
["Albatech S.r.l. GPM-A-72 180","Albatech S.r.l. ","GPM-A-72 180",180,"+3...-3",36,5,44.8,5.48,-170.24,5.48,-0.47,1000,null,null,14.099510192871094,"mono",72,"pseudo-square",1580,808,40,"aluminum","junction box MC4",15.5,"www.albatech.com","-","-","-","-","-",{"$f":"IF($O211=\"Sunpower Corp.\",3,(IF(OR($Q211=\"mono\",$Q211=\"poly\",$Q211=\"HIT\",$Q211=\"EFG\",$Q211=\"mono-LGBC\"),1,IF(OR($Q211=\"µc-Si / a-Si\",$Q211=\"a-Si (single)\",$Q211=\"a-Si (tandem)\",$Q211=\"a-Si (triple)\"),3,2))))","v":1},{"$f":"IF($O211=\"Sunpower Corp.\",3,(IF(OR($Q211=\"mono\",$Q211=\"poly\",$Q211=\"HIT\",$Q211=\"EFG\",$Q211=\"mono-LGBC\"),1,2)))","v":1},{"$f":"IF($O211=\"Sunpower Corp.\",3,(IF(OR($Q211=\"mono\",$Q211=\"poly\",$Q211=\"HIT\",$Q211=\"EFG\",$Q211=\"mono-LGBC\"),1,IF(OR($Q211=\"µc-Si / a-Si\",$Q211=\"a-Si (single)\",$Q211=\"a-Si (tandem)\",$Q211=\"a-Si (triple)\"),3,2))))","v":1},0,null,null,30858,null,null,209]
["Albatech S.r.l. GPM-A-72 185","Albatech S.r.l. ","GPM-A-72 185",185,"+3...-3",36.200000000000003,5.1100000000000003,44.8,5.51,-170.24,5.51,-0.47,1000,null,null,14.49116039276123,"mono",72,"pseudo-square",1580,808,40,"aluminum","junction box MC4",15.5,"www.albatech.com","-","-","-","-","-",{"$f":"IF($O212=\"Sunpower Corp.\",3,(IF(OR($Q212=\"mono\",$Q212=\"poly\",$Q212=\"HIT\",$Q212=\"EFG\",$Q212=\"mono-LGBC\"),1,IF(OR($Q212=\"µc-Si / a-Si\",$Q212=\"a-Si (single)\",$Q212=\"a-Si (tandem)\",$Q212=\"a-Si (triple)\"),3,2))))","v":1},{"$f":"IF($O212=\"Sunpower Corp.\",3,(IF(OR($Q212=\"mono\",$Q212=\"poly\",$Q212=\"HIT\",$Q212=\"EFG\",$Q212=\"mono-LGBC\"),1,2)))","v":1},{"$f":"IF($O212=\"Sunpower Corp.\",3,(IF(OR($Q212=\"mono\",$Q212=\"poly\",$Q212=\"HIT\",$Q212=\"EFG\",$Q212=\"mono-LGBC\"),1,IF(OR($Q212=\"µc-Si / a-Si\",$Q212=\"a-Si (single)\",$Q212=\"a-Si (tandem)\",$Q212=\"a-Si (triple)\"),3,2))))","v":1},0,null,null,30859,null,null,210]
["Albatech S.r.l. GPM-A-72 190","Albatech S.r.l. ","GPM-A-72 190",190,"+3...-3",36.4,5.2,44.8,5.62,-170.24,5.62,-0.47,1000,null,null,14.882820129394531,"mono",72,"pseudo-square",1580,808,40,"aluminum","junction box MC4",15.5,"www.albatech.com","-","-","-","-","-",{"$f":"IF($O213=\"Sunpower Corp.\",3,(IF(OR($Q213=\"mono\",$Q213=\"poly\",$Q213=\"HIT\",$Q213=\"EFG\",$Q213=\"mono-LGBC\"),1,IF(OR($Q213=\"µc-Si / a-Si\",$Q213=\"a-Si (single)\",$Q213=\"a-Si (tandem)\",$Q213=\"a-Si (triple)\"),3,2))))","v":1},{"$f":"IF($O213=\"Sunpower Corp.\",3,(IF(OR($Q213=\"mono\",$Q213=\"poly\",$Q213=\"HIT\",$Q213=\"EFG\",$Q213=\"mono-LGBC\"),1,2)))","v":1},{"$f":"IF($O213=\"Sunpower Corp.\",3,(IF(OR($Q213=\"mono\",$Q213=\"poly\",$Q213=\"HIT\",$Q213=\"EFG\",$Q213=\"mono-LGBC\"),1,IF(OR($Q213=\"µc-Si / a-Si\",$Q213=\"a-Si (single)\",$Q213=\"a-Si (tandem)\",$Q213=\"a-Si (triple)\"),3,2))))","v":1},0,null,null,30860,null,null,211]
["Albatech S.r.l. GPM-B-60 230","Albatech S.r.l. ","GPM-B-60 230",230,"+3...-3",29.8,7.73,37,8.2200000000000006,-118.4,6.5760000000000014,-0.38,1000,null,null,14.166049957275391,"poly",60,"square",1640,990,50,"aluminum","junction box MC4",21,"www.albatech.com","-","-","-","-","-",{"$f":"IF($O214=\"Sunpower Corp.\",3,(IF(OR($Q214=\"mono\",$Q214=\"poly\",$Q214=\"HIT\",$Q214=\"EFG\",$Q214=\"mono-LGBC\"),1,IF(OR($Q214=\"µc-Si / a-Si\",$Q214=\"a-Si (single)\",$Q214=\"a-Si (tandem)\",$Q214=\"a-Si (triple)\"),3,2))))","v":1},{"$f":"IF($O214=\"Sunpower Corp.\",3,(IF(OR($Q214=\"mono\",$Q214=\"poly\",$Q214=\"HIT\",$Q214=\"EFG\",$Q214=\"mono-LGBC\"),1,2)))","v":1},{"$f":"IF($O214=\"Sunpower Corp.\",3,(IF(OR($Q214=\"mono\",$Q214=\"poly\",$Q214=\"HIT\",$Q214=\"EFG\",$Q214=\"mono-LGBC\"),1,IF(OR($Q214=\"µc-Si / a-Si\",$Q214=\"a-Si (single)\",$Q214=\"a-Si (tandem)\",$Q214=\"a-Si (triple)\"),3,2))))","v":1},0,null,null,30855,null,null,212]
["Albatech S.r.l. GPM-B-60 235","Albatech S.r.l. ","GPM-B-60 235",235,"+3...-3",30,7.83,37,8.2899999999999991,-118.4,6.6319999999999997,-0.38,1000,null,null,14.474010467529297,"poly",60,"square",1640,990,50,"aluminum","junction box MC4",21,"www.albatech.com","-","-","-","-","-",{"$f":"IF($O215=\"Sunpower Corp.\",3,(IF(OR($Q215=\"mono\",$Q215=\"poly\",$Q215=\"HIT\",$Q215=\"EFG\",$Q215=\"mono-LGBC\"),1,IF(OR($Q215=\"µc-Si / a-Si\",$Q215=\"a-Si (single)\",$Q215=\"a-Si (tandem)\",$Q215=\"a-Si (triple)\"),3,2))))","v":1},{"$f":"IF($O215=\"Sunpower Corp.\",3,(IF(OR($Q215=\"mono\",$Q215=\"poly\",$Q215=\"HIT\",$Q215=\"EFG\",$Q215=\"mono-LGBC\"),1,2)))","v":1},{"$f":"IF($O215=\"Sunpower Corp.\",3,(IF(OR($Q215=\"mono\",$Q215=\"poly\",$Q215=\"HIT\",$Q215=\"EFG\",$Q215=\"mono-LGBC\"),1,IF(OR($Q215=\"µc-Si / a-Si\",$Q215=\"a-Si (single)\",$Q215=\"a-Si (tandem)\",$Q215=\"a-Si (triple)\"),3,2))))","v":1},0,null,null,30856,null,null,213]
["Albatech S.r.l. GPM-B-60 240","Albatech S.r.l. ","GPM-B-60 240",240,"+3...-3",30.2,7.95,37.200000000000003,8.33,-119.04,6.6640000000000006,-0.38,1000,null,null,14.781970024108887,"poly",60,"square",1640,990,50,"aluminum","junction box MC4",21,"www.albatech.com","-","-","-","-","-",{"$f":"IF($O216=\"Sunpower Corp.\",3,(IF(OR($Q216=\"mono\",$Q216=\"poly\",$Q216=\"HIT\",$Q216=\"EFG\",$Q216=\"mono-LGBC\"),1,IF(OR($Q216=\"µc-Si / a-Si\",$Q216=\"a-Si (single)\",$Q216=\"a-Si (tandem)\",$Q216=\"a-Si (triple)\"),3,2))))","v":1},{"$f":"IF($O216=\"Sunpower Corp.\",3,(IF(OR($Q216=\"mono\",$Q216=\"poly\",$Q216=\"HIT\",$Q216=\"EFG\",$Q216=\"mono-LGBC\"),1,2)))","v":1},{"$f":"IF($O216=\"Sunpower Corp.\",3,(IF(OR($Q216=\"mono\",$Q216=\"poly\",$Q216=\"HIT\",$Q216=\"EFG\",$Q216=\"mono-LGBC\"),1,IF(OR($Q216=\"µc-Si / a-Si\",$Q216=\"a-Si (single)\",$Q216=\"a-Si (tandem)\",$Q216=\"a-Si (triple)\"),3,2))))","v":1},0,null,null,30857,null,null,214]
["Albatech S.r.l. JCM-24/Bb 230","Albatech S.r.l. ","JCM-24/Bb 230",230,"+3...-3",29.1,7.9,37.299999999999997,8.27,-111.9,3.3080000000000003,-0.4,1000,null,null,14.137490272521973,"poly",60,"square",1640,992,50,"aluminum","junction box MC4",23,"www.albatech.com","-","-","-","-","-",{"$f":"IF($O217=\"Sunpower Corp.\",3,(IF(OR($Q217=\"mono\",$Q217=\"poly\",$Q217=\"HIT\",$Q217=\"EFG\",$Q217=\"mono-LGBC\"),1,IF(OR($Q217=\"µc-Si / a-Si\",$Q217=\"a-Si (single)\",$Q217=\"a-Si (tandem)\",$Q217=\"a-Si (triple)\"),3,2))))","v":1},{"$f":"IF($O217=\"Sunpower Corp.\",3,(IF(OR($Q217=\"mono\",$Q217=\"poly\",$Q217=\"HIT\",$Q217=\"EFG\",$Q217=\"mono-LGBC\"),1,2)))","v":1},{"$f":"IF($O217=\"Sunpower Corp.\",3,(IF(OR($Q217=\"mono\",$Q217=\"poly\",$Q217=\"HIT\",$Q217=\"EFG\",$Q217=\"mono-LGBC\"),1,IF(OR($Q217=\"µc-Si / a-Si\",$Q217=\"a-Si (single)\",$Q217=\"a-Si (tandem)\",$Q217=\"a-Si (triple)\"),3,2))))","v":1},0,null,null,30861,null,null,215]
["Albatech S.r.l. JCM-24/Bb 235","Albatech S.r.l. ","JCM-24/Bb 235",235,"+3...-3",29.3,8.02,37.4,8.41,-112.2,3.3640000000000003,-0.4,1000,null,null,14.444829940795898,"poly",60,"square",1640,992,50,"aluminum","junction box MC4",23,"www.albatech.com","-","-","-","-","-",{"$f":"IF($O218=\"Sunpower Corp.\",3,(IF(OR($Q218=\"mono\",$Q218=\"poly\",$Q218=\"HIT\",$Q218=\"EFG\",$Q218=\"mono-LGBC\"),1,IF(OR($Q218=\"µc-Si / a-Si\",$Q218=\"a-Si (single)\",$Q218=\"a-Si (tandem)\",$Q218=\"a-Si (triple)\"),3,2))))","v":1},{"$f":"IF($O218=\"Sunpower Corp.\",3,(IF(OR($Q218=\"mono\",$Q218=\"poly\",$Q218=\"HIT\",$Q218=\"EFG\",$Q218=\"mono-LGBC\"),1,2)))","v":1},{"$f":"IF($O218=\"Sunpower Corp.\",3,(IF(OR($Q218=\"mono\",$Q218=\"poly\",$Q218=\"HIT\",$Q218=\"EFG\",$Q218=\"mono-LGBC\"),1,IF(OR($Q218=\"µc-Si / a-Si\",$Q218=\"a-Si (single)\",$Q218=\"a-Si (tandem)\",$Q218=\"a-Si (triple)\"),3,2))))","v":1},0,null,null,30862,null,null,216]
["Albatech S.r.l. JCM-24/Bb 240","Albatech S.r.l. ","JCM-24/Bb 240",240,"+3...-3",29.6,8.11,37.5,8.5500000000000007,-112.5,3.42,-0.4,1000,null,null,14.75216007232666,"poly",60,"square",1640,992,50,"aluminum","junction box MC4",23,"www.albatech.com","-","-","-","-","-",{"$f":"IF($O219=\"Sunpower Corp.\",3,(IF(OR($Q219=\"mono\",$Q219=\"poly\",$Q219=\"HIT\",$Q219=\"EFG\",$Q219=\"mono-LGBC\"),1,IF(OR($Q219=\"µc-Si / a-Si\",$Q219=\"a-Si (single)\",$Q219=\"a-Si (tandem)\",$Q219=\"a-Si (triple)\"),3,2))))","v":1},{"$f":"IF($O219=\"Sunpower Corp.\",3,(IF(OR($Q219=\"mono\",$Q219=\"poly\",$Q219=\"HIT\",$Q219=\"EFG\",$Q219=\"mono-LGBC\"),1,2)))","v":1},{"$f":"IF($O219=\"Sunpower Corp.\",3,(IF(OR($Q219=\"mono\",$Q219=\"poly\",$Q219=\"HIT\",$Q219=\"EFG\",$Q219=\"mono-LGBC\"),1,IF(OR($Q219=\"µc-Si / a-Si\",$Q219=\"a-Si (single)\",$Q219=\"a-Si (tandem)\",$Q219=\"a-Si (triple)\"),3,2))))","v":1},0,null,null,30863,null,null,217]
["Albatech S.r.l. SF125x125-72M(L) 170","Albatech S.r.l. ","SF125x125-72M(L) 170",170,"+3...-3",34.799999999999997,4.88,43.4,5.2,-156.24,3.12,null,1000,null,null,13.31620979309082,"mono",72,"pseudo-square",1580,808,35,null,null,16,"www.albatech.com","-","-","-","-","-",{"$f":"IF($O220=\"Sunpower Corp.\",3,(IF(OR($Q220=\"mono\",$Q220=\"poly\",$Q220=\"HIT\",$Q220=\"EFG\",$Q220=\"mono-LGBC\"),1,IF(OR($Q220=\"µc-Si / a-Si\",$Q220=\"a-Si (single)\",$Q220=\"a-Si (tandem)\",$Q220=\"a-Si (triple)\"),3,2))))","v":1},{"$f":"IF($O220=\"Sunpower Corp.\",3,(IF(OR($Q220=\"mono\",$Q220=\"poly\",$Q220=\"HIT\",$Q220=\"EFG\",$Q220=\"mono-LGBC\"),1,2)))","v":1},{"$f":"IF($O220=\"Sunpower Corp.\",3,(IF(OR($Q220=\"mono\",$Q220=\"poly\",$Q220=\"HIT\",$Q220=\"EFG\",$Q220=\"mono-LGBC\"),1,IF(OR($Q220=\"µc-Si / a-Si\",$Q220=\"a-Si (single)\",$Q220=\"a-Si (tandem)\",$Q220=\"a-Si (triple)\"),3,2))))","v":1},0,null,null,12317,null,null,218]
["Albatech S.r.l. SF125x125-72M(L) 175","Albatech S.r.l. ","SF125x125-72M(L) 175",175,"+3...-3",35,5,43.7,5.3,-157.32,3.18,null,1000,null,null,13.707859992980957,"mono",72,"pseudo-square",1580,808,35,null,null,16,"www.albatech.com","-","-","-","-","-",{"$f":"IF($O221=\"Sunpower Corp.\",3,(IF(OR($Q221=\"mono\",$Q221=\"poly\",$Q221=\"HIT\",$Q221=\"EFG\",$Q221=\"mono-LGBC\"),1,IF(OR($Q221=\"µc-Si / a-Si\",$Q221=\"a-Si (single)\",$Q221=\"a-Si (tandem)\",$Q221=\"a-Si (triple)\"),3,2))))","v":1},{"$f":"IF($O221=\"Sunpower Corp.\",3,(IF(OR($Q221=\"mono\",$Q221=\"poly\",$Q221=\"HIT\",$Q221=\"EFG\",$Q221=\"mono-LGBC\"),1,2)))","v":1},{"$f":"IF($O221=\"Sunpower Corp.\",3,(IF(OR($Q221=\"mono\",$Q221=\"poly\",$Q221=\"HIT\",$Q221=\"EFG\",$Q221=\"mono-LGBC\"),1,IF(OR($Q221=\"µc-Si / a-Si\",$Q221=\"a-Si (single)\",$Q221=\"a-Si (tandem)\",$Q221=\"a-Si (triple)\"),3,2))))","v":1},0,null,null,12318,null,null,219]
["Albatech S.r.l. SF125x125-72M(L) 180","Albatech S.r.l. ","SF125x125-72M(L) 180",180,"+3...-3",35.4,5.08,44.2,5.4,-159.12,3.24,null,1000,null,null,14.099510192871094,"mono",72,"pseudo-square",1580,808,35,null,null,16,"www.albatech.com","-","-","-","-","-",{"$f":"IF($O222=\"Sunpower Corp.\",3,(IF(OR($Q222=\"mono\",$Q222=\"poly\",$Q222=\"HIT\",$Q222=\"EFG\",$Q222=\"mono-LGBC\"),1,IF(OR($Q222=\"µc-Si / a-Si\",$Q222=\"a-Si (single)\",$Q222=\"a-Si (tandem)\",$Q222=\"a-Si (triple)\"),3,2))))","v":1},{"$f":"IF($O222=\"Sunpower Corp.\",3,(IF(OR($Q222=\"mono\",$Q222=\"poly\",$Q222=\"HIT\",$Q222=\"EFG\",$Q222=\"mono-LGBC\"),1,2)))","v":1},{"$f":"IF($O222=\"Sunpower Corp.\",3,(IF(OR($Q222=\"mono\",$Q222=\"poly\",$Q222=\"HIT\",$Q222=\"EFG\",$Q222=\"mono-LGBC\"),1,IF(OR($Q222=\"µc-Si / a-Si\",$Q222=\"a-Si (single)\",$Q222=\"a-Si (tandem)\",$Q222=\"a-Si (triple)\"),3,2))))","v":1},0,null,null,12319,null,null,220]
["Albatech S.r.l. SF125x125-72-M(L) 190","Albatech S.r.l. ","SF125x125-72-M(L) 190",190,"+3...-3",36.200000000000003,4.9000000000000004,45.1,5.58,-157.85,2.2320000000000002,-0.45,1000,null,null,14.882820129394531,"mono",72,"pseudo-square",1580,808,35,"aluminum","junction box MC4",15.5,"www.albatech.com","-","-","-","-","-",{"$f":"IF($O223=\"Sunpower Corp.\",3,(IF(OR($Q223=\"mono\",$Q223=\"poly\",$Q223=\"HIT\",$Q223=\"EFG\",$Q223=\"mono-LGBC\"),1,IF(OR($Q223=\"µc-Si / a-Si\",$Q223=\"a-Si (single)\",$Q223=\"a-Si (tandem)\",$Q223=\"a-Si (triple)\"),3,2))))","v":1},{"$f":"IF($O223=\"Sunpower Corp.\",3,(IF(OR($Q223=\"mono\",$Q223=\"poly\",$Q223=\"HIT\",$Q223=\"EFG\",$Q223=\"mono-LGBC\"),1,2)))","v":1},{"$f":"IF($O223=\"Sunpower Corp.\",3,(IF(OR($Q223=\"mono\",$Q223=\"poly\",$Q223=\"HIT\",$Q223=\"EFG\",$Q223=\"mono-LGBC\"),1,IF(OR($Q223=\"µc-Si / a-Si\",$Q223=\"a-Si (single)\",$Q223=\"a-Si (tandem)\",$Q223=\"a-Si (triple)\"),3,2))))","v":1},0,null,null,30867,null,null,221]
["Albatech S.r.l. SF125x125-72-M(L) 195","Albatech S.r.l. ","SF125x125-72-M(L) 195",195,"+3...-3",36.4,5,45.2,5.71,-158.19999999999999,2.2839999999999998,-0.45,1000,null,null,15.274470329284668,"mono",72,"pseudo-square",1580,808,35,"aluminum","junction box MC4",15.5,"www.albatech.com","-","-","-","-","-",{"$f":"IF($O224=\"Sunpower Corp.\",3,(IF(OR($Q224=\"mono\",$Q224=\"poly\",$Q224=\"HIT\",$Q224=\"EFG\",$Q224=\"mono-LGBC\"),1,IF(OR($Q224=\"µc-Si / a-Si\",$Q224=\"a-Si (single)\",$Q224=\"a-Si (tandem)\",$Q224=\"a-Si (triple)\"),3,2))))","v":1},{"$f":"IF($O224=\"Sunpower Corp.\",3,(IF(OR($Q224=\"mono\",$Q224=\"poly\",$Q224=\"HIT\",$Q224=\"EFG\",$Q224=\"mono-LGBC\"),1,2)))","v":1},{"$f":"IF($O224=\"Sunpower Corp.\",3,(IF(OR($Q224=\"mono\",$Q224=\"poly\",$Q224=\"HIT\",$Q224=\"EFG\",$Q224=\"mono-LGBC\"),1,IF(OR($Q224=\"µc-Si / a-Si\",$Q224=\"a-Si (single)\",$Q224=\"a-Si (tandem)\",$Q224=\"a-Si (triple)\"),3,2))))","v":1},0,null,null,30868,null,null,222]
["Albatech S.r.l. SF125x125-72-M(L) 200","Albatech S.r.l. ","SF125x125-72-M(L) 200",200,"+3...-3",36.6,5.15,45.3,5.85,-158.55000000000001,2.34,-0.45,1000,null,null,15.666119575500488,"mono",72,"pseudo-square",1580,808,35,"aluminum","junction box MC4",15.5,"www.albatech.com","-","-","-","-","-",{"$f":"IF($O225=\"Sunpower Corp.\",3,(IF(OR($Q225=\"mono\",$Q225=\"poly\",$Q225=\"HIT\",$Q225=\"EFG\",$Q225=\"mono-LGBC\"),1,IF(OR($Q225=\"µc-Si / a-Si\",$Q225=\"a-Si (single)\",$Q225=\"a-Si (tandem)\",$Q225=\"a-Si (triple)\"),3,2))))","v":1},{"$f":"IF($O225=\"Sunpower Corp.\",3,(IF(OR($Q225=\"mono\",$Q225=\"poly\",$Q225=\"HIT\",$Q225=\"EFG\",$Q225=\"mono-LGBC\"),1,2)))","v":1},{"$f":"IF($O225=\"Sunpower Corp.\",3,(IF(OR($Q225=\"mono\",$Q225=\"poly\",$Q225=\"HIT\",$Q225=\"EFG\",$Q225=\"mono-LGBC\"),1,IF(OR($Q225=\"µc-Si / a-Si\",$Q225=\"a-Si (single)\",$Q225=\"a-Si (tandem)\",$Q225=\"a-Si (triple)\"),3,2))))","v":1},0,null,null,30869,null,null,223]
["Albatech S.r.l. SF156x156-60-M 230","Albatech S.r.l. ","SF156x156-60-M 230",230,"+3...-3",29.85,7.71,36.950000000000003,8.19,-121.935,4.0949999999999998,-0.44,1000,null,null,14.051810264587402,"mono",60,"pseudo-square",1650,992,50,"aluminum","junction box MC4",19.5,"www.albatech.com","-","-","-","-","-",{"$f":"IF($O226=\"Sunpower Corp.\",3,(IF(OR($Q226=\"mono\",$Q226=\"poly\",$Q226=\"HIT\",$Q226=\"EFG\",$Q226=\"mono-LGBC\"),1,IF(OR($Q226=\"µc-Si / a-Si\",$Q226=\"a-Si (single)\",$Q226=\"a-Si (tandem)\",$Q226=\"a-Si (triple)\"),3,2))))","v":1},{"$f":"IF($O226=\"Sunpower Corp.\",3,(IF(OR($Q226=\"mono\",$Q226=\"poly\",$Q226=\"HIT\",$Q226=\"EFG\",$Q226=\"mono-LGBC\"),1,2)))","v":1},{"$f":"IF($O226=\"Sunpower Corp.\",3,(IF(OR($Q226=\"mono\",$Q226=\"poly\",$Q226=\"HIT\",$Q226=\"EFG\",$Q226=\"mono-LGBC\"),1,IF(OR($Q226=\"µc-Si / a-Si\",$Q226=\"a-Si (single)\",$Q226=\"a-Si (tandem)\",$Q226=\"a-Si (triple)\"),3,2))))","v":1},0,null,null,30864,null,null,224]
["Albatech S.r.l. SF156x156-60-M 235","Albatech S.r.l. ","SF156x156-60-M 235",235,"+3...-3",29.95,7.85,37,8.36,-122.1,4.18,-0.44,1000,null,null,14.357279777526855,"mono",60,"pseudo-square",1650,992,50,"aluminum","junction box MC4",19.5,"www.albatech.com","-","-","-","-","-",{"$f":"IF($O227=\"Sunpower Corp.\",3,(IF(OR($Q227=\"mono\",$Q227=\"poly\",$Q227=\"HIT\",$Q227=\"EFG\",$Q227=\"mono-LGBC\"),1,IF(OR($Q227=\"µc-Si / a-Si\",$Q227=\"a-Si (single)\",$Q227=\"a-Si (tandem)\",$Q227=\"a-Si (triple)\"),3,2))))","v":1},{"$f":"IF($O227=\"Sunpower Corp.\",3,(IF(OR($Q227=\"mono\",$Q227=\"poly\",$Q227=\"HIT\",$Q227=\"EFG\",$Q227=\"mono-LGBC\"),1,2)))","v":1},{"$f":"IF($O227=\"Sunpower Corp.\",3,(IF(OR($Q227=\"mono\",$Q227=\"poly\",$Q227=\"HIT\",$Q227=\"EFG\",$Q227=\"mono-LGBC\"),1,IF(OR($Q227=\"µc-Si / a-Si\",$Q227=\"a-Si (single)\",$Q227=\"a-Si (tandem)\",$Q227=\"a-Si (triple)\"),3,2))))","v":1},0,null,null,30865,null,null,225]
["Albatech S.r.l. SF156x156-60-M 240","Albatech S.r.l. ","SF156x156-60-M 240",240,"+3...-3",30.05,7.99,37.049999999999997,8.52,-122.265,4.26,-0.44,1000,null,null,14.662759780883789,"mono",60,"pseudo-square",1650,992,50,"aluminum","junction box MC4",19.5,"www.albatech.com","-","-","-","-","-",{"$f":"IF($O228=\"Sunpower Corp.\",3,(IF(OR($Q228=\"mono\",$Q228=\"poly\",$Q228=\"HIT\",$Q228=\"EFG\",$Q228=\"mono-LGBC\"),1,IF(OR($Q228=\"µc-Si / a-Si\",$Q228=\"a-Si (single)\",$Q228=\"a-Si (tandem)\",$Q228=\"a-Si (triple)\"),3,2))))","v":1},{"$f":"IF($O228=\"Sunpower Corp.\",3,(IF(OR($Q228=\"mono\",$Q228=\"poly\",$Q228=\"HIT\",$Q228=\"EFG\",$Q228=\"mono-LGBC\"),1,2)))","v":1},{"$f":"IF($O228=\"Sunpower Corp.\",3,(IF(OR($Q228=\"mono\",$Q228=\"poly\",$Q228=\"HIT\",$Q228=\"EFG\",$Q228=\"mono-LGBC\"),1,IF(OR($Q228=\"µc-Si / a-Si\",$Q228=\"a-Si (single)\",$Q228=\"a-Si (tandem)\",$Q228=\"a-Si (triple)\"),3,2))))","v":1},0,null,null,30866,null,null,226]
["Aleo Solar AG aleo S_16 165","Aleo Solar AG ","aleo S_16 165",165,"+3,02...0",23.2,7.11,29.6,7.69,-100.64,3.0760000000000001,-0.46,1000,null,null,11.97560977935791,"poly",50,"square",1660,830,50,"aluminum","cable",17,"www.aleo-solar.com","-","-","-","-","-",{"$f":"IF($O229=\"Sunpower Corp.\",3,(IF(OR($Q229=\"mono\",$Q229=\"poly\",$Q229=\"HIT\",$Q229=\"EFG\",$Q229=\"mono-LGBC\"),1,IF(OR($Q229=\"µc-Si / a-Si\",$Q229=\"a-Si (single)\",$Q229=\"a-Si (tandem)\",$Q229=\"a-Si (triple)\"),3,2))))","v":1},{"$f":"IF($O229=\"Sunpower Corp.\",3,(IF(OR($Q229=\"mono\",$Q229=\"poly\",$Q229=\"HIT\",$Q229=\"EFG\",$Q229=\"mono-LGBC\"),1,2)))","v":1},{"$f":"IF($O229=\"Sunpower Corp.\",3,(IF(OR($Q229=\"mono\",$Q229=\"poly\",$Q229=\"HIT\",$Q229=\"EFG\",$Q229=\"mono-LGBC\"),1,IF(OR($Q229=\"µc-Si / a-Si\",$Q229=\"a-Si (single)\",$Q229=\"a-Si (tandem)\",$Q229=\"a-Si (triple)\"),3,2))))","v":1},0,null,null,26802,null,null,227]
["Aleo Solar AG aleo S_16 165 sol","Aleo Solar AG ","aleo S_16 165 sol",165,"+3,02...0",23.2,7.11,29.6,7.69,-100.64,3.0760000000000001,-0.46,1000,null,null,11.88383960723877,"poly",50,"square",1704,855,17,"aluminum","cable",16,"www.aleo-solar.com","-","-","-","-","-",{"$f":"IF($O230=\"Sunpower Corp.\",3,(IF(OR($Q230=\"mono\",$Q230=\"poly\",$Q230=\"HIT\",$Q230=\"EFG\",$Q230=\"mono-LGBC\"),1,IF(OR($Q230=\"µc-Si / a-Si\",$Q230=\"a-Si (single)\",$Q230=\"a-Si (tandem)\",$Q230=\"a-Si (triple)\"),3,2))))","v":1},{"$f":"IF($O230=\"Sunpower Corp.\",3,(IF(OR($Q230=\"mono\",$Q230=\"poly\",$Q230=\"HIT\",$Q230=\"EFG\",$Q230=\"mono-LGBC\"),1,2)))","v":1},{"$f":"IF($O230=\"Sunpower Corp.\",3,(IF(OR($Q230=\"mono\",$Q230=\"poly\",$Q230=\"HIT\",$Q230=\"EFG\",$Q230=\"mono-LGBC\"),1,IF(OR($Q230=\"µc-Si / a-Si\",$Q230=\"a-Si (single)\",$Q230=\"a-Si (tandem)\",$Q230=\"a-Si (triple)\"),3,2))))","v":1},0,null,null,26803,null,null,228]
["Aleo Solar AG aleo S_16 165 UL0","Aleo Solar AG ","aleo S_16 165 UL0",165,"+3,02...0",23.2,7.11,29.6,7.69,-100.64,3.0760000000000001,-0.46,null,null,null,11.97560977935791,"poly",50,"square",1660,830,50,"aluminum","cable",17,"www.aleo-solar.com","-","-","-","-","-",{"$f":"IF($O231=\"Sunpower Corp.\",3,(IF(OR($Q231=\"mono\",$Q231=\"poly\",$Q231=\"HIT\",$Q231=\"EFG\",$Q231=\"mono-LGBC\"),1,IF(OR($Q231=\"µc-Si / a-Si\",$Q231=\"a-Si (single)\",$Q231=\"a-Si (tandem)\",$Q231=\"a-Si (triple)\"),3,2))))","v":1},{"$f":"IF($O231=\"Sunpower Corp.\",3,(IF(OR($Q231=\"mono\",$Q231=\"poly\",$Q231=\"HIT\",$Q231=\"EFG\",$Q231=\"mono-LGBC\"),1,2)))","v":1},{"$f":"IF($O231=\"Sunpower Corp.\",3,(IF(OR($Q231=\"mono\",$Q231=\"poly\",$Q231=\"HIT\",$Q231=\"EFG\",$Q231=\"mono-LGBC\"),1,IF(OR($Q231=\"µc-Si / a-Si\",$Q231=\"a-Si (single)\",$Q231=\"a-Si (tandem)\",$Q231=\"a-Si (triple)\"),3,2))))","v":1},0,null,null,26804,null,null,229]
["Aleo Solar AG aleo S_16 170","Aleo Solar AG ","aleo S_16 170",170,"+2,94...0",23.4,7.26,29.8,7.82,-101.32,3.1280000000000001,-0.46,1000,null,null,12.338509559631348,"poly",50,"square",1660,830,50,"aluminum","cable",16,"www.aleo-solar.com","-","-","-","-","-",{"$f":"IF($O232=\"Sunpower Corp.\",3,(IF(OR($Q232=\"mono\",$Q232=\"poly\",$Q232=\"HIT\",$Q232=\"EFG\",$Q232=\"mono-LGBC\"),1,IF(OR($Q232=\"µc-Si / a-Si\",$Q232=\"a-Si (single)\",$Q232=\"a-Si (tandem)\",$Q232=\"a-Si (triple)\"),3,2))))","v":1},{"$f":"IF($O232=\"Sunpower Corp.\",3,(IF(OR($Q232=\"mono\",$Q232=\"poly\",$Q232=\"HIT\",$Q232=\"EFG\",$Q232=\"mono-LGBC\"),1,2)))","v":1},{"$f":"IF($O232=\"Sunpower Corp.\",3,(IF(OR($Q232=\"mono\",$Q232=\"poly\",$Q232=\"HIT\",$Q232=\"EFG\",$Q232=\"mono-LGBC\"),1,IF(OR($Q232=\"µc-Si / a-Si\",$Q232=\"a-Si (single)\",$Q232=\"a-Si (tandem)\",$Q232=\"a-Si (triple)\"),3,2))))","v":1},0,null,null,26805,null,null,230]
["Aleo Solar AG aleo S_16 170 sol","Aleo Solar AG ","aleo S_16 170 sol",170,"+2,94...0",23.4,7.26,29.8,7.82,-101.32,3.1280000000000001,-0.46,1000,null,null,12.243960380554199,"poly",50,"square",1704,855,17,"aluminum","cable",16,"www.aleo-solar.com","-","-","-","-","-",{"$f":"IF($O233=\"Sunpower Corp.\",3,(IF(OR($Q233=\"mono\",$Q233=\"poly\",$Q233=\"HIT\",$Q233=\"EFG\",$Q233=\"mono-LGBC\"),1,IF(OR($Q233=\"µc-Si / a-Si\",$Q233=\"a-Si (single)\",$Q233=\"a-Si (tandem)\",$Q233=\"a-Si (triple)\"),3,2))))","v":1},{"$f":"IF($O233=\"Sunpower Corp.\",3,(IF(OR($Q233=\"mono\",$Q233=\"poly\",$Q233=\"HIT\",$Q233=\"EFG\",$Q233=\"mono-LGBC\"),1,2)))","v":1},{"$f":"IF($O233=\"Sunpower Corp.\",3,(IF(OR($Q233=\"mono\",$Q233=\"poly\",$Q233=\"HIT\",$Q233=\"EFG\",$Q233=\"mono-LGBC\"),1,IF(OR($Q233=\"µc-Si / a-Si\",$Q233=\"a-Si (single)\",$Q233=\"a-Si (tandem)\",$Q233=\"a-Si (triple)\"),3,2))))","v":1},0,null,null,26806,null,null,231]
["Aleo Solar AG aleo S_16 170 UL0","Aleo Solar AG ","aleo S_16 170 UL0",170,"+2,94...0",23.4,7.26,29.8,7.82,-101.32,3.1280000000000001,-0.46,null,null,null,12.338509559631348,"poly",50,"square",1660,830,50,"aluminum","cable",17,"www.aleo-solar.com","-","-","-","-","-",{"$f":"IF($O234=\"Sunpower Corp.\",3,(IF(OR($Q234=\"mono\",$Q234=\"poly\",$Q234=\"HIT\",$Q234=\"EFG\",$Q234=\"mono-LGBC\"),1,IF(OR($Q234=\"µc-Si / a-Si\",$Q234=\"a-Si (single)\",$Q234=\"a-Si (tandem)\",$Q234=\"a-Si (triple)\"),3,2))))","v":1},{"$f":"IF($O234=\"Sunpower Corp.\",3,(IF(OR($Q234=\"mono\",$Q234=\"poly\",$Q234=\"HIT\",$Q234=\"EFG\",$Q234=\"mono-LGBC\"),1,2)))","v":1},{"$f":"IF($O234=\"Sunpower Corp.\",3,(IF(OR($Q234=\"mono\",$Q234=\"poly\",$Q234=\"HIT\",$Q234=\"EFG\",$Q234=\"mono-LGBC\"),1,IF(OR($Q234=\"µc-Si / a-Si\",$Q234=\"a-Si (single)\",$Q234=\"a-Si (tandem)\",$Q234=\"a-Si (triple)\"),3,2))))","v":1},0,null,null,26807,null,null,232]
["Aleo Solar AG aleo S_16 175","Aleo Solar AG ","aleo S_16 175",175,"+2,86...0",23.6,7.41,30,7.95,-102,3.18,-0.46,1000,"worldwide",null,12.701410293579102,"poly",50,"square",1660,830,50,"aluminum","cable",17,"www.aleo-solar.com","-","-","-","-","-",{"$f":"IF($O235=\"Sunpower Corp.\",3,(IF(OR($Q235=\"mono\",$Q235=\"poly\",$Q235=\"HIT\",$Q235=\"EFG\",$Q235=\"mono-LGBC\"),1,IF(OR($Q235=\"µc-Si / a-Si\",$Q235=\"a-Si (single)\",$Q235=\"a-Si (tandem)\",$Q235=\"a-Si (triple)\"),3,2))))","v":1},{"$f":"IF($O235=\"Sunpower Corp.\",3,(IF(OR($Q235=\"mono\",$Q235=\"poly\",$Q235=\"HIT\",$Q235=\"EFG\",$Q235=\"mono-LGBC\"),1,2)))","v":1},{"$f":"IF($O235=\"Sunpower Corp.\",3,(IF(OR($Q235=\"mono\",$Q235=\"poly\",$Q235=\"HIT\",$Q235=\"EFG\",$Q235=\"mono-LGBC\"),1,IF(OR($Q235=\"µc-Si / a-Si\",$Q235=\"a-Si (single)\",$Q235=\"a-Si (tandem)\",$Q235=\"a-Si (triple)\"),3,2))))","v":1},0,null,null,2151,null,null,233]
["Aleo Solar AG aleo S_16 175 sol","Aleo Solar AG ","aleo S_16 175 sol",175,"+2,86...0",23.6,7.41,30,7.95,-102,3.18,-0.46,1000,"worldwide",null,12.604069709777832,"poly",50,"square",1704,855,17,"aluminum","cable",16,"www.aleo-solar.com","-","-","-","-","-",{"$f":"IF($O236=\"Sunpower Corp.\",3,(IF(OR($Q236=\"mono\",$Q236=\"poly\",$Q236=\"HIT\",$Q236=\"EFG\",$Q236=\"mono-LGBC\"),1,IF(OR($Q236=\"µc-Si / a-Si\",$Q236=\"a-Si (single)\",$Q236=\"a-Si (tandem)\",$Q236=\"a-Si (triple)\"),3,2))))","v":1},{"$f":"IF($O236=\"Sunpower Corp.\",3,(IF(OR($Q236=\"mono\",$Q236=\"poly\",$Q236=\"HIT\",$Q236=\"EFG\",$Q236=\"mono-LGBC\"),1,2)))","v":1},{"$f":"IF($O236=\"Sunpower Corp.\",3,(IF(OR($Q236=\"mono\",$Q236=\"poly\",$Q236=\"HIT\",$Q236=\"EFG\",$Q236=\"mono-LGBC\"),1,IF(OR($Q236=\"µc-Si / a-Si\",$Q236=\"a-Si (single)\",$Q236=\"a-Si (tandem)\",$Q236=\"a-Si (triple)\"),3,2))))","v":1},0,null,null,26780,null,null,234]
["Aleo Solar AG aleo S_16 175 UL0","Aleo Solar AG ","aleo S_16 175 UL0",175,"+2,86...0",23.6,7.41,30,7.95,-102,3.18,-0.46,null,"worldwide",null,12.701410293579102,"poly",50,"square",1660,830,50,"aluminum","cable",17,"www.aleo-solar.com","-","-","-","-","-",{"$f":"IF($O237=\"Sunpower Corp.\",3,(IF(OR($Q237=\"mono\",$Q237=\"poly\",$Q237=\"HIT\",$Q237=\"EFG\",$Q237=\"mono-LGBC\"),1,IF(OR($Q237=\"µc-Si / a-Si\",$Q237=\"a-Si (single)\",$Q237=\"a-Si (tandem)\",$Q237=\"a-Si (triple)\"),3,2))))","v":1},{"$f":"IF($O237=\"Sunpower Corp.\",3,(IF(OR($Q237=\"mono\",$Q237=\"poly\",$Q237=\"HIT\",$Q237=\"EFG\",$Q237=\"mono-LGBC\"),1,2)))","v":1},{"$f":"IF($O237=\"Sunpower Corp.\",3,(IF(OR($Q237=\"mono\",$Q237=\"poly\",$Q237=\"HIT\",$Q237=\"EFG\",$Q237=\"mono-LGBC\"),1,IF(OR($Q237=\"µc-Si / a-Si\",$Q237=\"a-Si (single)\",$Q237=\"a-Si (tandem)\",$Q237=\"a-Si (triple)\"),3,2))))","v":1},0,null,null,14707,null,null,235]
["Aleo Solar AG aleo S_16 180","Aleo Solar AG ","aleo S_16 180",180,"+2,78...0",23.8,7.55,30.2,8.07,-102.68,3.2280000000000002,-0.46,1000,"worldwide",null,13.064310073852539,"poly",50,"square",1660,830,50,"aluminum","cable",17,"www.aleo-solar.com","-","-","-","-","-",{"$f":"IF($O238=\"Sunpower Corp.\",3,(IF(OR($Q238=\"mono\",$Q238=\"poly\",$Q238=\"HIT\",$Q238=\"EFG\",$Q238=\"mono-LGBC\"),1,IF(OR($Q238=\"µc-Si / a-Si\",$Q238=\"a-Si (single)\",$Q238=\"a-Si (tandem)\",$Q238=\"a-Si (triple)\"),3,2))))","v":1},{"$f":"IF($O238=\"Sunpower Corp.\",3,(IF(OR($Q238=\"mono\",$Q238=\"poly\",$Q238=\"HIT\",$Q238=\"EFG\",$Q238=\"mono-LGBC\"),1,2)))","v":1},{"$f":"IF($O238=\"Sunpower Corp.\",3,(IF(OR($Q238=\"mono\",$Q238=\"poly\",$Q238=\"HIT\",$Q238=\"EFG\",$Q238=\"mono-LGBC\"),1,IF(OR($Q238=\"µc-Si / a-Si\",$Q238=\"a-Si (single)\",$Q238=\"a-Si (tandem)\",$Q238=\"a-Si (triple)\"),3,2))))","v":1},0,null,null,2152,null,null,236]
["Aleo Solar AG aleo S_16 180 sol","Aleo Solar AG ","aleo S_16 180 sol",180,"+2,78...0",23.8,7.55,30.2,8.07,-102.68,3.2280000000000002,-0.46,1000,"worldwide",null,12.964189529418945,"poly",50,"square",1704,855,17,"aluminum","cable",16,"www.aleo-solar.com","-","-","-","-","-",{"$f":"IF($O239=\"Sunpower Corp.\",3,(IF(OR($Q239=\"mono\",$Q239=\"poly\",$Q239=\"HIT\",$Q239=\"EFG\",$Q239=\"mono-LGBC\"),1,IF(OR($Q239=\"µc-Si / a-Si\",$Q239=\"a-Si (single)\",$Q239=\"a-Si (tandem)\",$Q239=\"a-Si (triple)\"),3,2))))","v":1},{"$f":"IF($O239=\"Sunpower Corp.\",3,(IF(OR($Q239=\"mono\",$Q239=\"poly\",$Q239=\"HIT\",$Q239=\"EFG\",$Q239=\"mono-LGBC\"),1,2)))","v":1},{"$f":"IF($O239=\"Sunpower Corp.\",3,(IF(OR($Q239=\"mono\",$Q239=\"poly\",$Q239=\"HIT\",$Q239=\"EFG\",$Q239=\"mono-LGBC\"),1,IF(OR($Q239=\"µc-Si / a-Si\",$Q239=\"a-Si (single)\",$Q239=\"a-Si (tandem)\",$Q239=\"a-Si (triple)\"),3,2))))","v":1},0,null,null,26781,null,null,237]
["Aleo Solar AG aleo S_16 180 UL0","Aleo Solar AG ","aleo S_16 180 UL0",180,"+2,78...0",23.8,7.55,30.2,8.07,-102.68,3.2280000000000002,-0.46,null,"worldwide",null,13.064310073852539,"poly",50,"square",1660,830,50,"aluminum","cable",17,"www.aleo-solar.com","-","-","-","-","-",{"$f":"IF($O240=\"Sunpower Corp.\",3,(IF(OR($Q240=\"mono\",$Q240=\"poly\",$Q240=\"HIT\",$Q240=\"EFG\",$Q240=\"mono-LGBC\"),1,IF(OR($Q240=\"µc-Si / a-Si\",$Q240=\"a-Si (single)\",$Q240=\"a-Si (tandem)\",$Q240=\"a-Si (triple)\"),3,2))))","v":1},{"$f":"IF($O240=\"Sunpower Corp.\",3,(IF(OR($Q240=\"mono\",$Q240=\"poly\",$Q240=\"HIT\",$Q240=\"EFG\",$Q240=\"mono-LGBC\"),1,2)))","v":1},{"$f":"IF($O240=\"Sunpower Corp.\",3,(IF(OR($Q240=\"mono\",$Q240=\"poly\",$Q240=\"HIT\",$Q240=\"EFG\",$Q240=\"mono-LGBC\"),1,IF(OR($Q240=\"µc-Si / a-Si\",$Q240=\"a-Si (single)\",$Q240=\"a-Si (tandem)\",$Q240=\"a-Si (triple)\"),3,2))))","v":1},0,null,null,14708,null,null,238]
["Aleo Solar AG aleo S_16 185","Aleo Solar AG ","aleo S_16 185",185,"+2,7...0",24,7.7,30.4,8.1999999999999993,-103.36,3.28,-0.46,1000,"worldwide",null,13.427200317382813,"poly",50,"square",1660,830,50,"aluminum","cable",17,"www.aleo-solar.com","-","-","-","-","-",{"$f":"IF($O241=\"Sunpower Corp.\",3,(IF(OR($Q241=\"mono\",$Q241=\"poly\",$Q241=\"HIT\",$Q241=\"EFG\",$Q241=\"mono-LGBC\"),1,IF(OR($Q241=\"µc-Si / a-Si\",$Q241=\"a-Si (single)\",$Q241=\"a-Si (tandem)\",$Q241=\"a-Si (triple)\"),3,2))))","v":1},{"$f":"IF($O241=\"Sunpower Corp.\",3,(IF(OR($Q241=\"mono\",$Q241=\"poly\",$Q241=\"HIT\",$Q241=\"EFG\",$Q241=\"mono-LGBC\"),1,2)))","v":1},{"$f":"IF($O241=\"Sunpower Corp.\",3,(IF(OR($Q241=\"mono\",$Q241=\"poly\",$Q241=\"HIT\",$Q241=\"EFG\",$Q241=\"mono-LGBC\"),1,IF(OR($Q241=\"µc-Si / a-Si\",$Q241=\"a-Si (single)\",$Q241=\"a-Si (tandem)\",$Q241=\"a-Si (triple)\"),3,2))))","v":1},0,null,null,2153,null,null,239]
["Aleo Solar AG aleo S_16 185 sol","Aleo Solar AG ","aleo S_16 185 sol",185,"+2,7...0",24,7.7,30.4,8.1999999999999993,-103.36,3.28,-0.46,1000,"worldwide",null,13.324310302734375,"poly",50,"square",1704,855,17,"aluminum","cable",16,"www.aleo-solar.com","-","-","-","-","-",{"$f":"IF($O242=\"Sunpower Corp.\",3,(IF(OR($Q242=\"mono\",$Q242=\"poly\",$Q242=\"HIT\",$Q242=\"EFG\",$Q242=\"mono-LGBC\"),1,IF(OR($Q242=\"µc-Si / a-Si\",$Q242=\"a-Si (single)\",$Q242=\"a-Si (tandem)\",$Q242=\"a-Si (triple)\"),3,2))))","v":1},{"$f":"IF($O242=\"Sunpower Corp.\",3,(IF(OR($Q242=\"mono\",$Q242=\"poly\",$Q242=\"HIT\",$Q242=\"EFG\",$Q242=\"mono-LGBC\"),1,2)))","v":1},{"$f":"IF($O242=\"Sunpower Corp.\",3,(IF(OR($Q242=\"mono\",$Q242=\"poly\",$Q242=\"HIT\",$Q242=\"EFG\",$Q242=\"mono-LGBC\"),1,IF(OR($Q242=\"µc-Si / a-Si\",$Q242=\"a-Si (single)\",$Q242=\"a-Si (tandem)\",$Q242=\"a-Si (triple)\"),3,2))))","v":1},0,null,null,26782,null,null,240]
["Aleo Solar AG aleo S_16 185 UL0","Aleo Solar AG ","aleo S_16 185 UL0",185,"+2,7...0",24,7.7,30.4,8.1999999999999993,-103.36,3.28,-0.46,null,"worldwide",null,13.427200317382813,"poly",50,"square",1660,830,50,"aluminum","cable",17,"www.aleo-solar.com","-","-","-","-","-",{"$f":"IF($O243=\"Sunpower Corp.\",3,(IF(OR($Q243=\"mono\",$Q243=\"poly\",$Q243=\"HIT\",$Q243=\"EFG\",$Q243=\"mono-LGBC\"),1,IF(OR($Q243=\"µc-Si / a-Si\",$Q243=\"a-Si (single)\",$Q243=\"a-Si (tandem)\",$Q243=\"a-Si (triple)\"),3,2))))","v":1},{"$f":"IF($O243=\"Sunpower Corp.\",3,(IF(OR($Q243=\"mono\",$Q243=\"poly\",$Q243=\"HIT\",$Q243=\"EFG\",$Q243=\"mono-LGBC\"),1,2)))","v":1},{"$f":"IF($O243=\"Sunpower Corp.\",3,(IF(OR($Q243=\"mono\",$Q243=\"poly\",$Q243=\"HIT\",$Q243=\"EFG\",$Q243=\"mono-LGBC\"),1,IF(OR($Q243=\"µc-Si / a-Si\",$Q243=\"a-Si (single)\",$Q243=\"a-Si (tandem)\",$Q243=\"a-Si (triple)\"),3,2))))","v":1},0,null,null,14709,null,null,241]
["Aleo Solar AG aleo S_16 190","Aleo Solar AG ","aleo S_16 190",190,"+2,63...0",24.2,7.84,30.6,8.33,-104.04,3.3320000000000003,-0.46,1000,null,null,13.79010009765625,"poly",50,"square",1660,830,50,"aluminum","cable",17,"www.aleo-solar.com","-","-","-","-","-",{"$f":"IF($O244=\"Sunpower Corp.\",3,(IF(OR($Q244=\"mono\",$Q244=\"poly\",$Q244=\"HIT\",$Q244=\"EFG\",$Q244=\"mono-LGBC\"),1,IF(OR($Q244=\"µc-Si / a-Si\",$Q244=\"a-Si (single)\",$Q244=\"a-Si (tandem)\",$Q244=\"a-Si (triple)\"),3,2))))","v":1},{"$f":"IF($O244=\"Sunpower Corp.\",3,(IF(OR($Q244=\"mono\",$Q244=\"poly\",$Q244=\"HIT\",$Q244=\"EFG\",$Q244=\"mono-LGBC\"),1,2)))","v":1},{"$f":"IF($O244=\"Sunpower Corp.\",3,(IF(OR($Q244=\"mono\",$Q244=\"poly\",$Q244=\"HIT\",$Q244=\"EFG\",$Q244=\"mono-LGBC\"),1,IF(OR($Q244=\"µc-Si / a-Si\",$Q244=\"a-Si (single)\",$Q244=\"a-Si (tandem)\",$Q244=\"a-Si (triple)\"),3,2))))","v":1},0,null,null,26808,null,null,242]
["Aleo Solar AG aleo S_16 190 sol","Aleo Solar AG ","aleo S_16 190 sol",190,"+2,63...0",24.2,7.84,30.6,8.33,-104.04,3.3320000000000003,-0.46,1000,null,null,13.684419631958008,"poly",50,"square",1704,855,17,"aluminum","cable",16,"www.aleo-solar.com","-","-","-","-","-",{"$f":"IF($O245=\"Sunpower Corp.\",3,(IF(OR($Q245=\"mono\",$Q245=\"poly\",$Q245=\"HIT\",$Q245=\"EFG\",$Q245=\"mono-LGBC\"),1,IF(OR($Q245=\"µc-Si / a-Si\",$Q245=\"a-Si (single)\",$Q245=\"a-Si (tandem)\",$Q245=\"a-Si (triple)\"),3,2))))","v":1},{"$f":"IF($O245=\"Sunpower Corp.\",3,(IF(OR($Q245=\"mono\",$Q245=\"poly\",$Q245=\"HIT\",$Q245=\"EFG\",$Q245=\"mono-LGBC\"),1,2)))","v":1},{"$f":"IF($O245=\"Sunpower Corp.\",3,(IF(OR($Q245=\"mono\",$Q245=\"poly\",$Q245=\"HIT\",$Q245=\"EFG\",$Q245=\"mono-LGBC\"),1,IF(OR($Q245=\"µc-Si / a-Si\",$Q245=\"a-Si (single)\",$Q245=\"a-Si (tandem)\",$Q245=\"a-Si (triple)\"),3,2))))","v":1},0,null,null,26809,null,null,243]
["Aleo Solar AG aleo S_16 195","Aleo Solar AG ","aleo S_16 195",195,"+2,56...0",24.4,7.98,30.8,8.4499999999999993,-104.72,3.38,-0.46,1000,null,null,14.152999877929688,"poly",50,"square",1660,830,50,"aluminum","cable",17,"www.aleo-solar.com","-","-","-","-","-",{"$f":"IF($O246=\"Sunpower Corp.\",3,(IF(OR($Q246=\"mono\",$Q246=\"poly\",$Q246=\"HIT\",$Q246=\"EFG\",$Q246=\"mono-LGBC\"),1,IF(OR($Q246=\"µc-Si / a-Si\",$Q246=\"a-Si (single)\",$Q246=\"a-Si (tandem)\",$Q246=\"a-Si (triple)\"),3,2))))","v":1},{"$f":"IF($O246=\"Sunpower Corp.\",3,(IF(OR($Q246=\"mono\",$Q246=\"poly\",$Q246=\"HIT\",$Q246=\"EFG\",$Q246=\"mono-LGBC\"),1,2)))","v":1},{"$f":"IF($O246=\"Sunpower Corp.\",3,(IF(OR($Q246=\"mono\",$Q246=\"poly\",$Q246=\"HIT\",$Q246=\"EFG\",$Q246=\"mono-LGBC\"),1,IF(OR($Q246=\"µc-Si / a-Si\",$Q246=\"a-Si (single)\",$Q246=\"a-Si (tandem)\",$Q246=\"a-Si (triple)\"),3,2))))","v":1},0,null,null,26810,null,null,244]
["Aleo Solar AG aleo S_16 195 sol","Aleo Solar AG ","aleo S_16 195 sol",195,"+2,56...0",24.4,7.98,30.8,8.4499999999999993,-104.72,3.38,-0.46,1000,null,null,14.044540405273438,"poly",50,"square",1704,855,17,"aluminum","cable",16,"www.aleo-solar.com","-","-","-","-","-",{"$f":"IF($O247=\"Sunpower Corp.\",3,(IF(OR($Q247=\"mono\",$Q247=\"poly\",$Q247=\"HIT\",$Q247=\"EFG\",$Q247=\"mono-LGBC\"),1,IF(OR($Q247=\"µc-Si / a-Si\",$Q247=\"a-Si (single)\",$Q247=\"a-Si (tandem)\",$Q247=\"a-Si (triple)\"),3,2))))","v":1},{"$f":"IF($O247=\"Sunpower Corp.\",3,(IF(OR($Q247=\"mono\",$Q247=\"poly\",$Q247=\"HIT\",$Q247=\"EFG\",$Q247=\"mono-LGBC\"),1,2)))","v":1},{"$f":"IF($O247=\"Sunpower Corp.\",3,(IF(OR($Q247=\"mono\",$Q247=\"poly\",$Q247=\"HIT\",$Q247=\"EFG\",$Q247=\"mono-LGBC\"),1,IF(OR($Q247=\"µc-Si / a-Si\",$Q247=\"a-Si (single)\",$Q247=\"a-Si (tandem)\",$Q247=\"a-Si (triple)\"),3,2))))","v":1},0,null,null,26811,null,null,245]
["Aleo Solar AG aleo S_17 170","Aleo Solar AG ","aleo S_17 170",170,"+2,94...0",22.6,7.52,30.2,8.4,-102.68,2.52,-0.48,1000,null,null,12.338509559631348,"mono",50,"pseudo-square",1660,830,50,"aluminum","cable",17,"www.aleo-solar.com","-","-","-","-","-",{"$f":"IF($O248=\"Sunpower Corp.\",3,(IF(OR($Q248=\"mono\",$Q248=\"poly\",$Q248=\"HIT\",$Q248=\"EFG\",$Q248=\"mono-LGBC\"),1,IF(OR($Q248=\"µc-Si / a-Si\",$Q248=\"a-Si (single)\",$Q248=\"a-Si (tandem)\",$Q248=\"a-Si (triple)\"),3,2))))","v":1},{"$f":"IF($O248=\"Sunpower Corp.\",3,(IF(OR($Q248=\"mono\",$Q248=\"poly\",$Q248=\"HIT\",$Q248=\"EFG\",$Q248=\"mono-LGBC\"),1,2)))","v":1},{"$f":"IF($O248=\"Sunpower Corp.\",3,(IF(OR($Q248=\"mono\",$Q248=\"poly\",$Q248=\"HIT\",$Q248=\"EFG\",$Q248=\"mono-LGBC\"),1,IF(OR($Q248=\"µc-Si / a-Si\",$Q248=\"a-Si (single)\",$Q248=\"a-Si (tandem)\",$Q248=\"a-Si (triple)\"),3,2))))","v":1},0,null,null,26812,null,null,246]
["Aleo Solar AG aleo S_17 170 sol","Aleo Solar AG ","aleo S_17 170 sol",170,"+2,94...0",22.6,7.52,30.2,8.4,-102.68,2.52,-0.48,1000,null,null,12.243960380554199,"mono",50,"pseudo-square",1704,855,17,"aluminum","cable",16,"www.aleo-solar.com","-","-","-","-","-",{"$f":"IF($O249=\"Sunpower Corp.\",3,(IF(OR($Q249=\"mono\",$Q249=\"poly\",$Q249=\"HIT\",$Q249=\"EFG\",$Q249=\"mono-LGBC\"),1,IF(OR($Q249=\"µc-Si / a-Si\",$Q249=\"a-Si (single)\",$Q249=\"a-Si (tandem)\",$Q249=\"a-Si (triple)\"),3,2))))","v":1},{"$f":"IF($O249=\"Sunpower Corp.\",3,(IF(OR($Q249=\"mono\",$Q249=\"poly\",$Q249=\"HIT\",$Q249=\"EFG\",$Q249=\"mono-LGBC\"),1,2)))","v":1},{"$f":"IF($O249=\"Sunpower Corp.\",3,(IF(OR($Q249=\"mono\",$Q249=\"poly\",$Q249=\"HIT\",$Q249=\"EFG\",$Q249=\"mono-LGBC\"),1,IF(OR($Q249=\"µc-Si / a-Si\",$Q249=\"a-Si (single)\",$Q249=\"a-Si (tandem)\",$Q249=\"a-Si (triple)\"),3,2))))","v":1},0,null,null,26813,null,null,247]
["Aleo Solar AG aleo S_17 175","Aleo Solar AG ","aleo S_17 175",175,"+2,86...0",23.1,7.58,30.3,8.41,-103.02,2.5229999999999997,-0.48,1000,null,null,12.701410293579102,"mono",50,"pseudo-square",1660,830,50,"aluminum","cable",17,"www.aleo-solar.com","-","-","-","-","-",{"$f":"IF($O250=\"Sunpower Corp.\",3,(IF(OR($Q250=\"mono\",$Q250=\"poly\",$Q250=\"HIT\",$Q250=\"EFG\",$Q250=\"mono-LGBC\"),1,IF(OR($Q250=\"µc-Si / a-Si\",$Q250=\"a-Si (single)\",$Q250=\"a-Si (tandem)\",$Q250=\"a-Si (triple)\"),3,2))))","v":1},{"$f":"IF($O250=\"Sunpower Corp.\",3,(IF(OR($Q250=\"mono\",$Q250=\"poly\",$Q250=\"HIT\",$Q250=\"EFG\",$Q250=\"mono-LGBC\"),1,2)))","v":1},{"$f":"IF($O250=\"Sunpower Corp.\",3,(IF(OR($Q250=\"mono\",$Q250=\"poly\",$Q250=\"HIT\",$Q250=\"EFG\",$Q250=\"mono-LGBC\"),1,IF(OR($Q250=\"µc-Si / a-Si\",$Q250=\"a-Si (single)\",$Q250=\"a-Si (tandem)\",$Q250=\"a-Si (triple)\"),3,2))))","v":1},0,null,null,26814,null,null,248]
["Aleo Solar AG aleo S_17 175 sol","Aleo Solar AG ","aleo S_17 175 sol",175,"+2,86...0",23.1,7.58,30.3,8.41,-103.02,2.5229999999999997,-0.48,1000,null,null,12.604069709777832,"mono",50,"pseudo-square",1704,855,17,"aluminum","cable",16,"www.aleo-solar.com","-","-","-","-","-",{"$f":"IF($O251=\"Sunpower Corp.\",3,(IF(OR($Q251=\"mono\",$Q251=\"poly\",$Q251=\"HIT\",$Q251=\"EFG\",$Q251=\"mono-LGBC\"),1,IF(OR($Q251=\"µc-Si / a-Si\",$Q251=\"a-Si (single)\",$Q251=\"a-Si (tandem)\",$Q251=\"a-Si (triple)\"),3,2))))","v":1},{"$f":"IF($O251=\"Sunpower Corp.\",3,(IF(OR($Q251=\"mono\",$Q251=\"poly\",$Q251=\"HIT\",$Q251=\"EFG\",$Q251=\"mono-LGBC\"),1,2)))","v":1},{"$f":"IF($O251=\"Sunpower Corp.\",3,(IF(OR($Q251=\"mono\",$Q251=\"poly\",$Q251=\"HIT\",$Q251=\"EFG\",$Q251=\"mono-LGBC\"),1,IF(OR($Q251=\"µc-Si / a-Si\",$Q251=\"a-Si (single)\",$Q251=\"a-Si (tandem)\",$Q251=\"a-Si (triple)\"),3,2))))","v":1},0,null,null,26815,null,null,249]
["Aleo Solar AG aleo S_17 180","Aleo Solar AG ","aleo S_17 180",180,"+2,78...0",23.6,7.63,30.4,8.42,-103.36,2.5259999999999998,-0.48,1000,"worldwide",null,13.064310073852539,"mono",50,"pseudo-square",1660,830,50,"aluminum","cable",17,"www.aleo-solar.com","-","-","-","-","-",{"$f":"IF($O252=\"Sunpower Corp.\",3,(IF(OR($Q252=\"mono\",$Q252=\"poly\",$Q252=\"HIT\",$Q252=\"EFG\",$Q252=\"mono-LGBC\"),1,IF(OR($Q252=\"µc-Si / a-Si\",$Q252=\"a-Si (single)\",$Q252=\"a-Si (tandem)\",$Q252=\"a-Si (triple)\"),3,2))))","v":1},{"$f":"IF($O252=\"Sunpower Corp.\",3,(IF(OR($Q252=\"mono\",$Q252=\"poly\",$Q252=\"HIT\",$Q252=\"EFG\",$Q252=\"mono-LGBC\"),1,2)))","v":1},{"$f":"IF($O252=\"Sunpower Corp.\",3,(IF(OR($Q252=\"mono\",$Q252=\"poly\",$Q252=\"HIT\",$Q252=\"EFG\",$Q252=\"mono-LGBC\"),1,IF(OR($Q252=\"µc-Si / a-Si\",$Q252=\"a-Si (single)\",$Q252=\"a-Si (tandem)\",$Q252=\"a-Si (triple)\"),3,2))))","v":1},0,null,null,2067,null,null,250]
["Aleo Solar AG aleo S_17 180 sol","Aleo Solar AG ","aleo S_17 180 sol",180,"+2,78...0",23.6,7.63,30.4,8.42,-103.36,2.5259999999999998,-0.48,1000,"worldwide",null,12.964189529418945,"mono",50,"pseudo-square",1704,855,17,"aluminum","cable",16,"www.aleo-solar.com","-","-","-","-","-",{"$f":"IF($O253=\"Sunpower Corp.\",3,(IF(OR($Q253=\"mono\",$Q253=\"poly\",$Q253=\"HIT\",$Q253=\"EFG\",$Q253=\"mono-LGBC\"),1,IF(OR($Q253=\"µc-Si / a-Si\",$Q253=\"a-Si (single)\",$Q253=\"a-Si (tandem)\",$Q253=\"a-Si (triple)\"),3,2))))","v":1},{"$f":"IF($O253=\"Sunpower Corp.\",3,(IF(OR($Q253=\"mono\",$Q253=\"poly\",$Q253=\"HIT\",$Q253=\"EFG\",$Q253=\"mono-LGBC\"),1,2)))","v":1},{"$f":"IF($O253=\"Sunpower Corp.\",3,(IF(OR($Q253=\"mono\",$Q253=\"poly\",$Q253=\"HIT\",$Q253=\"EFG\",$Q253=\"mono-LGBC\"),1,IF(OR($Q253=\"µc-Si / a-Si\",$Q253=\"a-Si (single)\",$Q253=\"a-Si (tandem)\",$Q253=\"a-Si (triple)\"),3,2))))","v":1},0,null,null,26783,null,null,251]
["Aleo Solar AG aleo S_17 185","Aleo Solar AG ","aleo S_17 185",185,"+2,7...0",24.1,7.68,30.5,8.43,-103.7,2.5289999999999995,-0.48,1000,"worldwide",null,13.427200317382813,"mono",50,"pseudo-square",1660,830,50,"aluminum","cable",17,"www.aleo-solar.com","-","-","-","-","-",{"$f":"IF($O254=\"Sunpower Corp.\",3,(IF(OR($Q254=\"mono\",$Q254=\"poly\",$Q254=\"HIT\",$Q254=\"EFG\",$Q254=\"mono-LGBC\"),1,IF(OR($Q254=\"µc-Si / a-Si\",$Q254=\"a-Si (single)\",$Q254=\"a-Si (tandem)\",$Q254=\"a-Si (triple)\"),3,2))))","v":1},{"$f":"IF($O254=\"Sunpower Corp.\",3,(IF(OR($Q254=\"mono\",$Q254=\"poly\",$Q254=\"HIT\",$Q254=\"EFG\",$Q254=\"mono-LGBC\"),1,2)))","v":1},{"$f":"IF($O254=\"Sunpower Corp.\",3,(IF(OR($Q254=\"mono\",$Q254=\"poly\",$Q254=\"HIT\",$Q254=\"EFG\",$Q254=\"mono-LGBC\"),1,IF(OR($Q254=\"µc-Si / a-Si\",$Q254=\"a-Si (single)\",$Q254=\"a-Si (tandem)\",$Q254=\"a-Si (triple)\"),3,2))))","v":1},0,null,null,2068,null,null,252]
["Aleo Solar AG aleo S_17 185 sol","Aleo Solar AG ","aleo S_17 185 sol",185,"+2,7...0",24.1,7.68,30.5,8.43,-103.7,2.5289999999999995,-0.48,1000,"worldwide",null,13.324310302734375,"mono",50,"pseudo-square",1704,855,17,"aluminum","cable",16,"www.aleo-solar.com","-","-","-","-","-",{"$f":"IF($O255=\"Sunpower Corp.\",3,(IF(OR($Q255=\"mono\",$Q255=\"poly\",$Q255=\"HIT\",$Q255=\"EFG\",$Q255=\"mono-LGBC\"),1,IF(OR($Q255=\"µc-Si / a-Si\",$Q255=\"a-Si (single)\",$Q255=\"a-Si (tandem)\",$Q255=\"a-Si (triple)\"),3,2))))","v":1},{"$f":"IF($O255=\"Sunpower Corp.\",3,(IF(OR($Q255=\"mono\",$Q255=\"poly\",$Q255=\"HIT\",$Q255=\"EFG\",$Q255=\"mono-LGBC\"),1,2)))","v":1},{"$f":"IF($O255=\"Sunpower Corp.\",3,(IF(OR($Q255=\"mono\",$Q255=\"poly\",$Q255=\"HIT\",$Q255=\"EFG\",$Q255=\"mono-LGBC\"),1,IF(OR($Q255=\"µc-Si / a-Si\",$Q255=\"a-Si (single)\",$Q255=\"a-Si (tandem)\",$Q255=\"a-Si (triple)\"),3,2))))","v":1},0,null,null,26784,null,null,253]
["Aleo Solar AG aleo S_17 190","Aleo Solar AG ","aleo S_17 190",190,"+2,63...0",24.6,7.72,30.6,8.44,-104.04,2.5319999999999996,-0.48,1000,"worldwide",null,13.79010009765625,"mono",50,"pseudo-square",1660,830,50,"aluminum","cable",17,"www.aleo-solar.com","-","-","-","-","-",{"$f":"IF($O256=\"Sunpower Corp.\",3,(IF(OR($Q256=\"mono\",$Q256=\"poly\",$Q256=\"HIT\",$Q256=\"EFG\",$Q256=\"mono-LGBC\"),1,IF(OR($Q256=\"µc-Si / a-Si\",$Q256=\"a-Si (single)\",$Q256=\"a-Si (tandem)\",$Q256=\"a-Si (triple)\"),3,2))))","v":1},{"$f":"IF($O256=\"Sunpower Corp.\",3,(IF(OR($Q256=\"mono\",$Q256=\"poly\",$Q256=\"HIT\",$Q256=\"EFG\",$Q256=\"mono-LGBC\"),1,2)))","v":1},{"$f":"IF($O256=\"Sunpower Corp.\",3,(IF(OR($Q256=\"mono\",$Q256=\"poly\",$Q256=\"HIT\",$Q256=\"EFG\",$Q256=\"mono-LGBC\"),1,IF(OR($Q256=\"µc-Si / a-Si\",$Q256=\"a-Si (single)\",$Q256=\"a-Si (tandem)\",$Q256=\"a-Si (triple)\"),3,2))))","v":1},0,null,null,2148,null,null,254]
["Aleo Solar AG aleo S_17 190 sol","Aleo Solar AG ","aleo S_17 190 sol",190,"+2,63...0",24.6,7.72,30.6,8.44,-104.04,2.5319999999999996,-0.48,1000,"worldwide",null,13.684419631958008,"mono",50,"pseudo-square",1704,855,17,"aluminum","cable",16,"www.aleo-solar.com","-","-","-","-","-",{"$f":"IF($O257=\"Sunpower Corp.\",3,(IF(OR($Q257=\"mono\",$Q257=\"poly\",$Q257=\"HIT\",$Q257=\"EFG\",$Q257=\"mono-LGBC\"),1,IF(OR($Q257=\"µc-Si / a-Si\",$Q257=\"a-Si (single)\",$Q257=\"a-Si (tandem)\",$Q257=\"a-Si (triple)\"),3,2))))","v":1},{"$f":"IF($O257=\"Sunpower Corp.\",3,(IF(OR($Q257=\"mono\",$Q257=\"poly\",$Q257=\"HIT\",$Q257=\"EFG\",$Q257=\"mono-LGBC\"),1,2)))","v":1},{"$f":"IF($O257=\"Sunpower Corp.\",3,(IF(OR($Q257=\"mono\",$Q257=\"poly\",$Q257=\"HIT\",$Q257=\"EFG\",$Q257=\"mono-LGBC\"),1,IF(OR($Q257=\"µc-Si / a-Si\",$Q257=\"a-Si (single)\",$Q257=\"a-Si (tandem)\",$Q257=\"a-Si (triple)\"),3,2))))","v":1},0,null,null,26785,null,null,255]
["Aleo Solar AG aleo S_17 195","Aleo Solar AG ","aleo S_17 195",195,"+2,56...0",25.1,7.77,30.7,8.4499999999999993,-104.38,2.5350000000000001,-0.48,1000,null,null,14.152999877929688,"mono",50,"pseudo-square",1660,830,50,"aluminum","cable",17,"www.aleo-solar.com","-","-","-","-","-",{"$f":"IF($O258=\"Sunpower Corp.\",3,(IF(OR($Q258=\"mono\",$Q258=\"poly\",$Q258=\"HIT\",$Q258=\"EFG\",$Q258=\"mono-LGBC\"),1,IF(OR($Q258=\"µc-Si / a-Si\",$Q258=\"a-Si (single)\",$Q258=\"a-Si (tandem)\",$Q258=\"a-Si (triple)\"),3,2))))","v":1},{"$f":"IF($O258=\"Sunpower Corp.\",3,(IF(OR($Q258=\"mono\",$Q258=\"poly\",$Q258=\"HIT\",$Q258=\"EFG\",$Q258=\"mono-LGBC\"),1,2)))","v":1},{"$f":"IF($O258=\"Sunpower Corp.\",3,(IF(OR($Q258=\"mono\",$Q258=\"poly\",$Q258=\"HIT\",$Q258=\"EFG\",$Q258=\"mono-LGBC\"),1,IF(OR($Q258=\"µc-Si / a-Si\",$Q258=\"a-Si (single)\",$Q258=\"a-Si (tandem)\",$Q258=\"a-Si (triple)\"),3,2))))","v":1},0,null,null,26816,null,null,256]
["Aleo Solar AG aleo S_17 195 sol","Aleo Solar AG ","aleo S_17 195 sol",195,"+2,56...0",25.1,7.77,30.7,8.4499999999999993,-104.38,2.5350000000000001,-0.48,1000,null,null,14.044540405273438,"mono",50,"pseudo-square",1704,855,17,"aluminum","cable",16,"www.aleo-solar.com","-","-","-","-","-",{"$f":"IF($O259=\"Sunpower Corp.\",3,(IF(OR($Q259=\"mono\",$Q259=\"poly\",$Q259=\"HIT\",$Q259=\"EFG\",$Q259=\"mono-LGBC\"),1,IF(OR($Q259=\"µc-Si / a-Si\",$Q259=\"a-Si (single)\",$Q259=\"a-Si (tandem)\",$Q259=\"a-Si (triple)\"),3,2))))","v":1},{"$f":"IF($O259=\"Sunpower Corp.\",3,(IF(OR($Q259=\"mono\",$Q259=\"poly\",$Q259=\"HIT\",$Q259=\"EFG\",$Q259=\"mono-LGBC\"),1,2)))","v":1},{"$f":"IF($O259=\"Sunpower Corp.\",3,(IF(OR($Q259=\"mono\",$Q259=\"poly\",$Q259=\"HIT\",$Q259=\"EFG\",$Q259=\"mono-LGBC\"),1,IF(OR($Q259=\"µc-Si / a-Si\",$Q259=\"a-Si (single)\",$Q259=\"a-Si (tandem)\",$Q259=\"a-Si (triple)\"),3,2))))","v":1},0,null,null,26817,null,null,257]
["Aleo Solar AG aleo S_17 200","Aleo Solar AG ","aleo S_17 200",200,"+2,5...0",25.6,7.82,30.8,8.4600000000000009,-104.72,2.5379999999999998,-0.48,1000,null,null,14.515890121459961,"mono",50,"pseudo-square",1660,830,50,"aluminum","cable",17,"www.aleo-solar.com","-","-","-","-","-",{"$f":"IF($O260=\"Sunpower Corp.\",3,(IF(OR($Q260=\"mono\",$Q260=\"poly\",$Q260=\"HIT\",$Q260=\"EFG\",$Q260=\"mono-LGBC\"),1,IF(OR($Q260=\"µc-Si / a-Si\",$Q260=\"a-Si (single)\",$Q260=\"a-Si (tandem)\",$Q260=\"a-Si (triple)\"),3,2))))","v":1},{"$f":"IF($O260=\"Sunpower Corp.\",3,(IF(OR($Q260=\"mono\",$Q260=\"poly\",$Q260=\"HIT\",$Q260=\"EFG\",$Q260=\"mono-LGBC\"),1,2)))","v":1},{"$f":"IF($O260=\"Sunpower Corp.\",3,(IF(OR($Q260=\"mono\",$Q260=\"poly\",$Q260=\"HIT\",$Q260=\"EFG\",$Q260=\"mono-LGBC\"),1,IF(OR($Q260=\"µc-Si / a-Si\",$Q260=\"a-Si (single)\",$Q260=\"a-Si (tandem)\",$Q260=\"a-Si (triple)\"),3,2))))","v":1},0,null,null,26818,null,null,258]
["Aleo Solar AG aleo S_17 200 sol","Aleo Solar AG ","aleo S_17 200 sol",200,"+2,5...0",25.6,7.82,30.8,8.4600000000000009,-104.72,2.5379999999999998,-0.48,1000,null,null,14.404660224914551,"mono",50,"pseudo-square",1704,855,17,"aluminum","cable",16,"www.aleo-solar.com","-","-","-","-","-",{"$f":"IF($O261=\"Sunpower Corp.\",3,(IF(OR($Q261=\"mono\",$Q261=\"poly\",$Q261=\"HIT\",$Q261=\"EFG\",$Q261=\"mono-LGBC\"),1,IF(OR($Q261=\"µc-Si / a-Si\",$Q261=\"a-Si (single)\",$Q261=\"a-Si (tandem)\",$Q261=\"a-Si (triple)\"),3,2))))","v":1},{"$f":"IF($O261=\"Sunpower Corp.\",3,(IF(OR($Q261=\"mono\",$Q261=\"poly\",$Q261=\"HIT\",$Q261=\"EFG\",$Q261=\"mono-LGBC\"),1,2)))","v":1},{"$f":"IF($O261=\"Sunpower Corp.\",3,(IF(OR($Q261=\"mono\",$Q261=\"poly\",$Q261=\"HIT\",$Q261=\"EFG\",$Q261=\"mono-LGBC\"),1,IF(OR($Q261=\"µc-Si / a-Si\",$Q261=\"a-Si (single)\",$Q261=\"a-Si (tandem)\",$Q261=\"a-Si (triple)\"),3,2))))","v":1},0,null,null,26819,null,null,259]
["Aleo Solar AG aleo S_18 210","Aleo Solar AG ","aleo S_18 210",210,"+2,38...0",28.4,7.41,35.9,8.0299999999999994,-122.06,3.2120000000000002,-0.46,1000,null,null,12.778389930725098,"poly",60,"square",1660,990,50,"aluminum","cable",21,"www.aleo-solar.com","-","-","-","-","-",{"$f":"IF($O262=\"Sunpower Corp.\",3,(IF(OR($Q262=\"mono\",$Q262=\"poly\",$Q262=\"HIT\",$Q262=\"EFG\",$Q262=\"mono-LGBC\"),1,IF(OR($Q262=\"µc-Si / a-Si\",$Q262=\"a-Si (single)\",$Q262=\"a-Si (tandem)\",$Q262=\"a-Si (triple)\"),3,2))))","v":1},{"$f":"IF($O262=\"Sunpower Corp.\",3,(IF(OR($Q262=\"mono\",$Q262=\"poly\",$Q262=\"HIT\",$Q262=\"EFG\",$Q262=\"mono-LGBC\"),1,2)))","v":1},{"$f":"IF($O262=\"Sunpower Corp.\",3,(IF(OR($Q262=\"mono\",$Q262=\"poly\",$Q262=\"HIT\",$Q262=\"EFG\",$Q262=\"mono-LGBC\"),1,IF(OR($Q262=\"µc-Si / a-Si\",$Q262=\"a-Si (single)\",$Q262=\"a-Si (tandem)\",$Q262=\"a-Si (triple)\"),3,2))))","v":1},0,null,null,26820,null,null,260]
["Aleo Solar AG aleo S_18 210 sol","Aleo Solar AG ","aleo S_18 210 sol",210,"+2,38...0",28.4,7.41,35.9,8.0299999999999994,-122.06,3.2120000000000002,-0.46,1000,null,null,12.665559768676758,"poly",60,"square",1704,1015,17,"aluminum","cable",19,"www.aleo-solar.com","-","-","-","-","-",{"$f":"IF($O263=\"Sunpower Corp.\",3,(IF(OR($Q263=\"mono\",$Q263=\"poly\",$Q263=\"HIT\",$Q263=\"EFG\",$Q263=\"mono-LGBC\"),1,IF(OR($Q263=\"µc-Si / a-Si\",$Q263=\"a-Si (single)\",$Q263=\"a-Si (tandem)\",$Q263=\"a-Si (triple)\"),3,2))))","v":1},{"$f":"IF($O263=\"Sunpower Corp.\",3,(IF(OR($Q263=\"mono\",$Q263=\"poly\",$Q263=\"HIT\",$Q263=\"EFG\",$Q263=\"mono-LGBC\"),1,2)))","v":1},{"$f":"IF($O263=\"Sunpower Corp.\",3,(IF(OR($Q263=\"mono\",$Q263=\"poly\",$Q263=\"HIT\",$Q263=\"EFG\",$Q263=\"mono-LGBC\"),1,IF(OR($Q263=\"µc-Si / a-Si\",$Q263=\"a-Si (single)\",$Q263=\"a-Si (tandem)\",$Q263=\"a-Si (triple)\"),3,2))))","v":1},0,null,null,26821,null,null,261]
["Aleo Solar AG aleo S_18 210 UL0","Aleo Solar AG ","aleo S_18 210 UL0",210,"+2,38...0",28.4,7.41,35.9,8.0299999999999994,-122.06,3.2120000000000002,-0.46,null,null,null,12.778389930725098,"poly",60,"square",1660,990,50,"aluminum","cable",21,"www.aleo-solar.com","-","-","-","-","-",{"$f":"IF($O264=\"Sunpower Corp.\",3,(IF(OR($Q264=\"mono\",$Q264=\"poly\",$Q264=\"HIT\",$Q264=\"EFG\",$Q264=\"mono-LGBC\"),1,IF(OR($Q264=\"µc-Si / a-Si\",$Q264=\"a-Si (single)\",$Q264=\"a-Si (tandem)\",$Q264=\"a-Si (triple)\"),3,2))))","v":1},{"$f":"IF($O264=\"Sunpower Corp.\",3,(IF(OR($Q264=\"mono\",$Q264=\"poly\",$Q264=\"HIT\",$Q264=\"EFG\",$Q264=\"mono-LGBC\"),1,2)))","v":1},{"$f":"IF($O264=\"Sunpower Corp.\",3,(IF(OR($Q264=\"mono\",$Q264=\"poly\",$Q264=\"HIT\",$Q264=\"EFG\",$Q264=\"mono-LGBC\"),1,IF(OR($Q264=\"µc-Si / a-Si\",$Q264=\"a-Si (single)\",$Q264=\"a-Si (tandem)\",$Q264=\"a-Si (triple)\"),3,2))))","v":1},0,null,null,26822,null,null,262]
["Aleo Solar AG aleo S_18 215","Aleo Solar AG ","aleo S_18 215",215,"+2,32...0",28.6,7.53,36.1,8.1300000000000008,-122.74,3.2520000000000007,-0.46,1000,null,null,13.082630157470703,"poly",60,"square",1660,990,50,"aluminum","cable",21,"www.aleo-solar.com","-","-","-","-","-",{"$f":"IF($O265=\"Sunpower Corp.\",3,(IF(OR($Q265=\"mono\",$Q265=\"poly\",$Q265=\"HIT\",$Q265=\"EFG\",$Q265=\"mono-LGBC\"),1,IF(OR($Q265=\"µc-Si / a-Si\",$Q265=\"a-Si (single)\",$Q265=\"a-Si (tandem)\",$Q265=\"a-Si (triple)\"),3,2))))","v":1},{"$f":"IF($O265=\"Sunpower Corp.\",3,(IF(OR($Q265=\"mono\",$Q265=\"poly\",$Q265=\"HIT\",$Q265=\"EFG\",$Q265=\"mono-LGBC\"),1,2)))","v":1},{"$f":"IF($O265=\"Sunpower Corp.\",3,(IF(OR($Q265=\"mono\",$Q265=\"poly\",$Q265=\"HIT\",$Q265=\"EFG\",$Q265=\"mono-LGBC\"),1,IF(OR($Q265=\"µc-Si / a-Si\",$Q265=\"a-Si (single)\",$Q265=\"a-Si (tandem)\",$Q265=\"a-Si (triple)\"),3,2))))","v":1},0,null,null,26823,null,null,263]
["Aleo Solar AG aleo S_18 215 sol","Aleo Solar AG ","aleo S_18 215 sol",215,"+2,32...0",28.6,7.53,36.1,8.1300000000000008,-122.74,3.2520000000000007,-0.46,1000,"worldwide",null,12.967120170593262,"poly",60,"square",1704,1015,37,"aluminum","cable",19,"www.aleo-solar.com","-","-","-","-","-",{"$f":"IF($O266=\"Sunpower Corp.\",3,(IF(OR($Q266=\"mono\",$Q266=\"poly\",$Q266=\"HIT\",$Q266=\"EFG\",$Q266=\"mono-LGBC\"),1,IF(OR($Q266=\"µc-Si / a-Si\",$Q266=\"a-Si (single)\",$Q266=\"a-Si (tandem)\",$Q266=\"a-Si (triple)\"),3,2))))","v":1},{"$f":"IF($O266=\"Sunpower Corp.\",3,(IF(OR($Q266=\"mono\",$Q266=\"poly\",$Q266=\"HIT\",$Q266=\"EFG\",$Q266=\"mono-LGBC\"),1,2)))","v":1},{"$f":"IF($O266=\"Sunpower Corp.\",3,(IF(OR($Q266=\"mono\",$Q266=\"poly\",$Q266=\"HIT\",$Q266=\"EFG\",$Q266=\"mono-LGBC\"),1,IF(OR($Q266=\"µc-Si / a-Si\",$Q266=\"a-Si (single)\",$Q266=\"a-Si (tandem)\",$Q266=\"a-Si (triple)\"),3,2))))","v":1},0,null,null,26786,null,null,264]
["Aleo Solar AG aleo S_18 215 UL0","Aleo Solar AG ","aleo S_18 215 UL0",215,"+2,32...0",28.6,7.53,36.1,8.1300000000000008,-122.74,3.2520000000000007,-0.46,null,null,null,13.082630157470703,"poly",60,"square",1660,990,50,"aluminum","cable",21,"www.aleo-solar.com","-","-","-","-","-",{"$f":"IF($O267=\"Sunpower Corp.\",3,(IF(OR($Q267=\"mono\",$Q267=\"poly\",$Q267=\"HIT\",$Q267=\"EFG\",$Q267=\"mono-LGBC\"),1,IF(OR($Q267=\"µc-Si / a-Si\",$Q267=\"a-Si (single)\",$Q267=\"a-Si (tandem)\",$Q267=\"a-Si (triple)\"),3,2))))","v":1},{"$f":"IF($O267=\"Sunpower Corp.\",3,(IF(OR($Q267=\"mono\",$Q267=\"poly\",$Q267=\"HIT\",$Q267=\"EFG\",$Q267=\"mono-LGBC\"),1,2)))","v":1},{"$f":"IF($O267=\"Sunpower Corp.\",3,(IF(OR($Q267=\"mono\",$Q267=\"poly\",$Q267=\"HIT\",$Q267=\"EFG\",$Q267=\"mono-LGBC\"),1,IF(OR($Q267=\"µc-Si / a-Si\",$Q267=\"a-Si (single)\",$Q267=\"a-Si (tandem)\",$Q267=\"a-Si (triple)\"),3,2))))","v":1},0,null,null,26824,null,null,265]
["Aleo Solar AG aleo S_18 220","Aleo Solar AG ","aleo S_18 220",220,"+2,27...0",28.7,7.65,36.299999999999997,8.24,-123.42,3.2960000000000003,-0.46,1000,"worldwide",null,13.386879920959473,"poly",60,"square",1660,990,50,"aluminum","cable",21,"www.aleo-solar.com","-","-","-","-","-",{"$f":"IF($O268=\"Sunpower Corp.\",3,(IF(OR($Q268=\"mono\",$Q268=\"poly\",$Q268=\"HIT\",$Q268=\"EFG\",$Q268=\"mono-LGBC\"),1,IF(OR($Q268=\"µc-Si / a-Si\",$Q268=\"a-Si (single)\",$Q268=\"a-Si (tandem)\",$Q268=\"a-Si (triple)\"),3,2))))","v":1},{"$f":"IF($O268=\"Sunpower Corp.\",3,(IF(OR($Q268=\"mono\",$Q268=\"poly\",$Q268=\"HIT\",$Q268=\"EFG\",$Q268=\"mono-LGBC\"),1,2)))","v":1},{"$f":"IF($O268=\"Sunpower Corp.\",3,(IF(OR($Q268=\"mono\",$Q268=\"poly\",$Q268=\"HIT\",$Q268=\"EFG\",$Q268=\"mono-LGBC\"),1,IF(OR($Q268=\"µc-Si / a-Si\",$Q268=\"a-Si (single)\",$Q268=\"a-Si (tandem)\",$Q268=\"a-Si (triple)\"),3,2))))","v":1},0,null,null,3341,null,null,266]
["Aleo Solar AG aleo S_18 220 sol","Aleo Solar AG ","aleo S_18 220 sol",220,"+2,27...0",28.7,7.65,36.299999999999997,8.24,-123.42,3.2960000000000003,-0.46,1000,"worldwide",null,13.268679618835449,"poly",60,"square",1704,1015,17,"aluminum","cable",19,"www.aleo-solar.com","-","-","-","-","-",{"$f":"IF($O269=\"Sunpower Corp.\",3,(IF(OR($Q269=\"mono\",$Q269=\"poly\",$Q269=\"HIT\",$Q269=\"EFG\",$Q269=\"mono-LGBC\"),1,IF(OR($Q269=\"µc-Si / a-Si\",$Q269=\"a-Si (single)\",$Q269=\"a-Si (tandem)\",$Q269=\"a-Si (triple)\"),3,2))))","v":1},{"$f":"IF($O269=\"Sunpower Corp.\",3,(IF(OR($Q269=\"mono\",$Q269=\"poly\",$Q269=\"HIT\",$Q269=\"EFG\",$Q269=\"mono-LGBC\"),1,2)))","v":1},{"$f":"IF($O269=\"Sunpower Corp.\",3,(IF(OR($Q269=\"mono\",$Q269=\"poly\",$Q269=\"HIT\",$Q269=\"EFG\",$Q269=\"mono-LGBC\"),1,IF(OR($Q269=\"µc-Si / a-Si\",$Q269=\"a-Si (single)\",$Q269=\"a-Si (tandem)\",$Q269=\"a-Si (triple)\"),3,2))))","v":1},0,null,null,26787,null,null,267]
["Aleo Solar AG aleo S_18 220 UL0","Aleo Solar AG ","aleo S_18 220 UL0",220,"+2,27...0",28.7,7.65,36.299999999999997,8.24,-123.42,3.2960000000000003,-0.46,null,"worldwide",null,13.386879920959473,"poly",60,"square",1660,990,50,"aluminum","cable",21,"www.aleo-solar.com","-","-","-","-","-",{"$f":"IF($O270=\"Sunpower Corp.\",3,(IF(OR($Q270=\"mono\",$Q270=\"poly\",$Q270=\"HIT\",$Q270=\"EFG\",$Q270=\"mono-LGBC\"),1,IF(OR($Q270=\"µc-Si / a-Si\",$Q270=\"a-Si (single)\",$Q270=\"a-Si (tandem)\",$Q270=\"a-Si (triple)\"),3,2))))","v":1},{"$f":"IF($O270=\"Sunpower Corp.\",3,(IF(OR($Q270=\"mono\",$Q270=\"poly\",$Q270=\"HIT\",$Q270=\"EFG\",$Q270=\"mono-LGBC\"),1,2)))","v":1},{"$f":"IF($O270=\"Sunpower Corp.\",3,(IF(OR($Q270=\"mono\",$Q270=\"poly\",$Q270=\"HIT\",$Q270=\"EFG\",$Q270=\"mono-LGBC\"),1,IF(OR($Q270=\"µc-Si / a-Si\",$Q270=\"a-Si (single)\",$Q270=\"a-Si (tandem)\",$Q270=\"a-Si (triple)\"),3,2))))","v":1},0,null,null,14710,null,null,268]
["Aleo Solar AG aleo S_18 225","Aleo Solar AG ","aleo S_18 225",225,"+2,22...0",28.9,7.78,36.4,8.34,-123.76,3.3359999999999999,-0.46,1000,"worldwide",null,13.691129684448242,"poly",60,"square",1660,990,50,"aluminum","cable",21,"www.aleo-solar.com","-","-","-","-","-",{"$f":"IF($O271=\"Sunpower Corp.\",3,(IF(OR($Q271=\"mono\",$Q271=\"poly\",$Q271=\"HIT\",$Q271=\"EFG\",$Q271=\"mono-LGBC\"),1,IF(OR($Q271=\"µc-Si / a-Si\",$Q271=\"a-Si (single)\",$Q271=\"a-Si (tandem)\",$Q271=\"a-Si (triple)\"),3,2))))","v":1},{"$f":"IF($O271=\"Sunpower Corp.\",3,(IF(OR($Q271=\"mono\",$Q271=\"poly\",$Q271=\"HIT\",$Q271=\"EFG\",$Q271=\"mono-LGBC\"),1,2)))","v":1},{"$f":"IF($O271=\"Sunpower Corp.\",3,(IF(OR($Q271=\"mono\",$Q271=\"poly\",$Q271=\"HIT\",$Q271=\"EFG\",$Q271=\"mono-LGBC\"),1,IF(OR($Q271=\"µc-Si / a-Si\",$Q271=\"a-Si (single)\",$Q271=\"a-Si (tandem)\",$Q271=\"a-Si (triple)\"),3,2))))","v":1},0,null,null,3109,null,null,269]
["Aleo Solar AG aleo S_18 225 sol","Aleo Solar AG ","aleo S_18 225 sol",225,"+2,22...0",28.9,7.78,36.4,8.34,-123.76,3.3359999999999999,-0.46,1000,"worldwide",null,13.570240020751953,"poly",60,"square",1704,1015,17,"aluminum","cable",19,"www.aleo-solar.com","-","-","-","-","-",{"$f":"IF($O272=\"Sunpower Corp.\",3,(IF(OR($Q272=\"mono\",$Q272=\"poly\",$Q272=\"HIT\",$Q272=\"EFG\",$Q272=\"mono-LGBC\"),1,IF(OR($Q272=\"µc-Si / a-Si\",$Q272=\"a-Si (single)\",$Q272=\"a-Si (tandem)\",$Q272=\"a-Si (triple)\"),3,2))))","v":1},{"$f":"IF($O272=\"Sunpower Corp.\",3,(IF(OR($Q272=\"mono\",$Q272=\"poly\",$Q272=\"HIT\",$Q272=\"EFG\",$Q272=\"mono-LGBC\"),1,2)))","v":1},{"$f":"IF($O272=\"Sunpower Corp.\",3,(IF(OR($Q272=\"mono\",$Q272=\"poly\",$Q272=\"HIT\",$Q272=\"EFG\",$Q272=\"mono-LGBC\"),1,IF(OR($Q272=\"µc-Si / a-Si\",$Q272=\"a-Si (single)\",$Q272=\"a-Si (tandem)\",$Q272=\"a-Si (triple)\"),3,2))))","v":1},0,null,null,26788,null,null,270]
["Aleo Solar AG aleo S_18 225 UL0","Aleo Solar AG ","aleo S_18 225 UL0",225,"+2,22...0",28.9,7.78,36.4,8.34,-123.76,3.3359999999999999,-0.46,null,"worldwide",null,13.691129684448242,"poly",60,"square",1660,990,50,"aluminum","cable",21,"www.aleo-solar.com","-","-","-","-","-",{"$f":"IF($O273=\"Sunpower Corp.\",3,(IF(OR($Q273=\"mono\",$Q273=\"poly\",$Q273=\"HIT\",$Q273=\"EFG\",$Q273=\"mono-LGBC\"),1,IF(OR($Q273=\"µc-Si / a-Si\",$Q273=\"a-Si (single)\",$Q273=\"a-Si (tandem)\",$Q273=\"a-Si (triple)\"),3,2))))","v":1},{"$f":"IF($O273=\"Sunpower Corp.\",3,(IF(OR($Q273=\"mono\",$Q273=\"poly\",$Q273=\"HIT\",$Q273=\"EFG\",$Q273=\"mono-LGBC\"),1,2)))","v":1},{"$f":"IF($O273=\"Sunpower Corp.\",3,(IF(OR($Q273=\"mono\",$Q273=\"poly\",$Q273=\"HIT\",$Q273=\"EFG\",$Q273=\"mono-LGBC\"),1,IF(OR($Q273=\"µc-Si / a-Si\",$Q273=\"a-Si (single)\",$Q273=\"a-Si (tandem)\",$Q273=\"a-Si (triple)\"),3,2))))","v":1},0,null,null,14711,null,null,271]
["Aleo Solar AG aleo S_18 230","Aleo Solar AG ","aleo S_18 230",230,"+2,17...0",29.1,7.9,36.6,8.44,-124.44,3.3759999999999999,-0.46,1000,"worldwide",null,13.995380401611328,"poly",60,"square",1660,990,50,"aluminum","cable",21,"www.aleo-solar.com","-","-","-","-","-",{"$f":"IF($O274=\"Sunpower Corp.\",3,(IF(OR($Q274=\"mono\",$Q274=\"poly\",$Q274=\"HIT\",$Q274=\"EFG\",$Q274=\"mono-LGBC\"),1,IF(OR($Q274=\"µc-Si / a-Si\",$Q274=\"a-Si (single)\",$Q274=\"a-Si (tandem)\",$Q274=\"a-Si (triple)\"),3,2))))","v":1},{"$f":"IF($O274=\"Sunpower Corp.\",3,(IF(OR($Q274=\"mono\",$Q274=\"poly\",$Q274=\"HIT\",$Q274=\"EFG\",$Q274=\"mono-LGBC\"),1,2)))","v":1},{"$f":"IF($O274=\"Sunpower Corp.\",3,(IF(OR($Q274=\"mono\",$Q274=\"poly\",$Q274=\"HIT\",$Q274=\"EFG\",$Q274=\"mono-LGBC\"),1,IF(OR($Q274=\"µc-Si / a-Si\",$Q274=\"a-Si (single)\",$Q274=\"a-Si (tandem)\",$Q274=\"a-Si (triple)\"),3,2))))","v":1},0,null,null,3340,null,null,272]
["Aleo Solar AG aleo S_18 230 sol","Aleo Solar AG ","aleo S_18 230 sol",230,"+2,17...0",29.1,7.9,36.6,8.44,-124.44,3.3759999999999999,-0.46,1000,"worldwide",null,13.871800422668457,"poly",60,"square",1704,1015,17,"aluminum","cable",19,"www.aleo-solar.com","-","-","-","-","-",{"$f":"IF($O275=\"Sunpower Corp.\",3,(IF(OR($Q275=\"mono\",$Q275=\"poly\",$Q275=\"HIT\",$Q275=\"EFG\",$Q275=\"mono-LGBC\"),1,IF(OR($Q275=\"µc-Si / a-Si\",$Q275=\"a-Si (single)\",$Q275=\"a-Si (tandem)\",$Q275=\"a-Si (triple)\"),3,2))))","v":1},{"$f":"IF($O275=\"Sunpower Corp.\",3,(IF(OR($Q275=\"mono\",$Q275=\"poly\",$Q275=\"HIT\",$Q275=\"EFG\",$Q275=\"mono-LGBC\"),1,2)))","v":1},{"$f":"IF($O275=\"Sunpower Corp.\",3,(IF(OR($Q275=\"mono\",$Q275=\"poly\",$Q275=\"HIT\",$Q275=\"EFG\",$Q275=\"mono-LGBC\"),1,IF(OR($Q275=\"µc-Si / a-Si\",$Q275=\"a-Si (single)\",$Q275=\"a-Si (tandem)\",$Q275=\"a-Si (triple)\"),3,2))))","v":1},0,null,null,26789,null,null,273]
["Aleo Solar AG aleo S_18 230 UL0","Aleo Solar AG ","aleo S_18 230 UL0",230,"+2,17...0",29.1,7.9,36.6,8.44,-124.44,3.3759999999999999,-0.46,null,"worldwide",null,13.995380401611328,"poly",60,"square",1660,990,50,"aluminum","cable",21,"www.aleo-solar.com","-","-","-","-","-",{"$f":"IF($O276=\"Sunpower Corp.\",3,(IF(OR($Q276=\"mono\",$Q276=\"poly\",$Q276=\"HIT\",$Q276=\"EFG\",$Q276=\"mono-LGBC\"),1,IF(OR($Q276=\"µc-Si / a-Si\",$Q276=\"a-Si (single)\",$Q276=\"a-Si (tandem)\",$Q276=\"a-Si (triple)\"),3,2))))","v":1},{"$f":"IF($O276=\"Sunpower Corp.\",3,(IF(OR($Q276=\"mono\",$Q276=\"poly\",$Q276=\"HIT\",$Q276=\"EFG\",$Q276=\"mono-LGBC\"),1,2)))","v":1},{"$f":"IF($O276=\"Sunpower Corp.\",3,(IF(OR($Q276=\"mono\",$Q276=\"poly\",$Q276=\"HIT\",$Q276=\"EFG\",$Q276=\"mono-LGBC\"),1,IF(OR($Q276=\"µc-Si / a-Si\",$Q276=\"a-Si (single)\",$Q276=\"a-Si (tandem)\",$Q276=\"a-Si (triple)\"),3,2))))","v":1},0,null,null,14712,null,null,274]
["Aleo Solar AG aleo S_18 235","Aleo Solar AG ","aleo S_18 235",235,"+2,13...0",29.3,8.01,36.799999999999997,8.5399999999999991,-125.12,3.4159999999999999,-0.46,1000,"worldwide",null,14.299619674682617,"poly",60,"square",1660,990,50,"aluminum","cable",21,"www.aleo-solar.com","-","-","-","-","-",{"$f":"IF($O277=\"Sunpower Corp.\",3,(IF(OR($Q277=\"mono\",$Q277=\"poly\",$Q277=\"HIT\",$Q277=\"EFG\",$Q277=\"mono-LGBC\"),1,IF(OR($Q277=\"µc-Si / a-Si\",$Q277=\"a-Si (single)\",$Q277=\"a-Si (tandem)\",$Q277=\"a-Si (triple)\"),3,2))))","v":1},{"$f":"IF($O277=\"Sunpower Corp.\",3,(IF(OR($Q277=\"mono\",$Q277=\"poly\",$Q277=\"HIT\",$Q277=\"EFG\",$Q277=\"mono-LGBC\"),1,2)))","v":1},{"$f":"IF($O277=\"Sunpower Corp.\",3,(IF(OR($Q277=\"mono\",$Q277=\"poly\",$Q277=\"HIT\",$Q277=\"EFG\",$Q277=\"mono-LGBC\"),1,IF(OR($Q277=\"µc-Si / a-Si\",$Q277=\"a-Si (single)\",$Q277=\"a-Si (tandem)\",$Q277=\"a-Si (triple)\"),3,2))))","v":1},0,null,null,5993,null,null,275]
["Aleo Solar AG aleo S_18 235 sol","Aleo Solar AG ","aleo S_18 235 sol",235,"+2,13...0",29.3,8.01,36.799999999999997,8.5399999999999991,-125.12,3.4159999999999999,-0.46,1000,"worldwide",null,14.173359870910645,"poly",60,"square",1704,1015,17,"aluminum","cable",19,"www.aleo-solar.com","-","-","-","-","-",{"$f":"IF($O278=\"Sunpower Corp.\",3,(IF(OR($Q278=\"mono\",$Q278=\"poly\",$Q278=\"HIT\",$Q278=\"EFG\",$Q278=\"mono-LGBC\"),1,IF(OR($Q278=\"µc-Si / a-Si\",$Q278=\"a-Si (single)\",$Q278=\"a-Si (tandem)\",$Q278=\"a-Si (triple)\"),3,2))))","v":1},{"$f":"IF($O278=\"Sunpower Corp.\",3,(IF(OR($Q278=\"mono\",$Q278=\"poly\",$Q278=\"HIT\",$Q278=\"EFG\",$Q278=\"mono-LGBC\"),1,2)))","v":1},{"$f":"IF($O278=\"Sunpower Corp.\",3,(IF(OR($Q278=\"mono\",$Q278=\"poly\",$Q278=\"HIT\",$Q278=\"EFG\",$Q278=\"mono-LGBC\"),1,IF(OR($Q278=\"µc-Si / a-Si\",$Q278=\"a-Si (single)\",$Q278=\"a-Si (tandem)\",$Q278=\"a-Si (triple)\"),3,2))))","v":1},0,null,null,26790,null,null,276]
["Aleo Solar AG aleo S_18 235 UL0","Aleo Solar AG ","aleo S_18 235 UL0",235,"+2,13...0",29.3,8.01,36.799999999999997,8.5399999999999991,-125.12,3.4159999999999999,-0.46,null,"worldwide",null,14.299619674682617,"poly",60,"square",1660,990,50,"aluminum","cable others",21,"www.aleo-solar.com","-","-","-","-","-",{"$f":"IF($O279=\"Sunpower Corp.\",3,(IF(OR($Q279=\"mono\",$Q279=\"poly\",$Q279=\"HIT\",$Q279=\"EFG\",$Q279=\"mono-LGBC\"),1,IF(OR($Q279=\"µc-Si / a-Si\",$Q279=\"a-Si (single)\",$Q279=\"a-Si (tandem)\",$Q279=\"a-Si (triple)\"),3,2))))","v":1},{"$f":"IF($O279=\"Sunpower Corp.\",3,(IF(OR($Q279=\"mono\",$Q279=\"poly\",$Q279=\"HIT\",$Q279=\"EFG\",$Q279=\"mono-LGBC\"),1,2)))","v":1},{"$f":"IF($O279=\"Sunpower Corp.\",3,(IF(OR($Q279=\"mono\",$Q279=\"poly\",$Q279=\"HIT\",$Q279=\"EFG\",$Q279=\"mono-LGBC\"),1,IF(OR($Q279=\"µc-Si / a-Si\",$Q279=\"a-Si (single)\",$Q279=\"a-Si (tandem)\",$Q279=\"a-Si (triple)\"),3,2))))","v":1},0,null,null,14713,null,null,277]
["Aleo Solar AG aleo S_18 240","Aleo Solar AG ","aleo S_18 240",240,"+2,08...0",29.5,8.1300000000000008,37,8.65,-125.8,3.46,-0.46,1000,null,null,14.603870391845703,"poly",60,"square",1660,990,50,"aluminum","cable",21,"www.aleo-solar.com","-","-","-","-","-",{"$f":"IF($O280=\"Sunpower Corp.\",3,(IF(OR($Q280=\"mono\",$Q280=\"poly\",$Q280=\"HIT\",$Q280=\"EFG\",$Q280=\"mono-LGBC\"),1,IF(OR($Q280=\"µc-Si / a-Si\",$Q280=\"a-Si (single)\",$Q280=\"a-Si (tandem)\",$Q280=\"a-Si (triple)\"),3,2))))","v":1},{"$f":"IF($O280=\"Sunpower Corp.\",3,(IF(OR($Q280=\"mono\",$Q280=\"poly\",$Q280=\"HIT\",$Q280=\"EFG\",$Q280=\"mono-LGBC\"),1,2)))","v":1},{"$f":"IF($O280=\"Sunpower Corp.\",3,(IF(OR($Q280=\"mono\",$Q280=\"poly\",$Q280=\"HIT\",$Q280=\"EFG\",$Q280=\"mono-LGBC\"),1,IF(OR($Q280=\"µc-Si / a-Si\",$Q280=\"a-Si (single)\",$Q280=\"a-Si (tandem)\",$Q280=\"a-Si (triple)\"),3,2))))","v":1},0,null,null,26825,null,null,278]
["Aleo Solar AG aleo S_18 240 sol","Aleo Solar AG ","aleo S_18 240 sol",240,"+2,08...0",29.5,8.1300000000000008,37,8.65,-125.8,3.46,-0.46,1000,null,null,14.474920272827148,"poly",60,"square",1704,1015,17,"aluminum","cable",19,"www.aleo-solar.com","-","-","-","-","-",{"$f":"IF($O281=\"Sunpower Corp.\",3,(IF(OR($Q281=\"mono\",$Q281=\"poly\",$Q281=\"HIT\",$Q281=\"EFG\",$Q281=\"mono-LGBC\"),1,IF(OR($Q281=\"µc-Si / a-Si\",$Q281=\"a-Si (single)\",$Q281=\"a-Si (tandem)\",$Q281=\"a-Si (triple)\"),3,2))))","v":1},{"$f":"IF($O281=\"Sunpower Corp.\",3,(IF(OR($Q281=\"mono\",$Q281=\"poly\",$Q281=\"HIT\",$Q281=\"EFG\",$Q281=\"mono-LGBC\"),1,2)))","v":1},{"$f":"IF($O281=\"Sunpower Corp.\",3,(IF(OR($Q281=\"mono\",$Q281=\"poly\",$Q281=\"HIT\",$Q281=\"EFG\",$Q281=\"mono-LGBC\"),1,IF(OR($Q281=\"µc-Si / a-Si\",$Q281=\"a-Si (single)\",$Q281=\"a-Si (tandem)\",$Q281=\"a-Si (triple)\"),3,2))))","v":1},0,null,null,26826,null,null,279]
["Aleo Solar AG aleo S_19 210","Aleo Solar AG ","aleo S_19 210",210,"+2,38...0",27.8,7.55,36.200000000000003,8.39,-123.08,2.5170000000000003,-0.48,1000,"worldwide",null,12.778389930725098,"mono",60,"pseudo-square",1660,990,50,"aluminum","cable",21,"www.aleo-solar.com","-","-","-","-","-",{"$f":"IF($O282=\"Sunpower Corp.\",3,(IF(OR($Q282=\"mono\",$Q282=\"poly\",$Q282=\"HIT\",$Q282=\"EFG\",$Q282=\"mono-LGBC\"),1,IF(OR($Q282=\"µc-Si / a-Si\",$Q282=\"a-Si (single)\",$Q282=\"a-Si (tandem)\",$Q282=\"a-Si (triple)\"),3,2))))","v":1},{"$f":"IF($O282=\"Sunpower Corp.\",3,(IF(OR($Q282=\"mono\",$Q282=\"poly\",$Q282=\"HIT\",$Q282=\"EFG\",$Q282=\"mono-LGBC\"),1,2)))","v":1},{"$f":"IF($O282=\"Sunpower Corp.\",3,(IF(OR($Q282=\"mono\",$Q282=\"poly\",$Q282=\"HIT\",$Q282=\"EFG\",$Q282=\"mono-LGBC\"),1,IF(OR($Q282=\"µc-Si / a-Si\",$Q282=\"a-Si (single)\",$Q282=\"a-Si (tandem)\",$Q282=\"a-Si (triple)\"),3,2))))","v":1},0,null,null,17030,null,null,280]
["Aleo Solar AG aleo S_19 215","Aleo Solar AG ","aleo S_19 215",215,"+2,32...0",28.3,7.59,36.299999999999997,8.4,-123.42,2.52,-0.48,1000,"worldwide",null,13.082630157470703,"mono",60,"pseudo-square",1660,990,50,"aluminum","cable",21,"www.aleo-solar.com","-","-","-","-","-",{"$f":"IF($O283=\"Sunpower Corp.\",3,(IF(OR($Q283=\"mono\",$Q283=\"poly\",$Q283=\"HIT\",$Q283=\"EFG\",$Q283=\"mono-LGBC\"),1,IF(OR($Q283=\"µc-Si / a-Si\",$Q283=\"a-Si (single)\",$Q283=\"a-Si (tandem)\",$Q283=\"a-Si (triple)\"),3,2))))","v":1},{"$f":"IF($O283=\"Sunpower Corp.\",3,(IF(OR($Q283=\"mono\",$Q283=\"poly\",$Q283=\"HIT\",$Q283=\"EFG\",$Q283=\"mono-LGBC\"),1,2)))","v":1},{"$f":"IF($O283=\"Sunpower Corp.\",3,(IF(OR($Q283=\"mono\",$Q283=\"poly\",$Q283=\"HIT\",$Q283=\"EFG\",$Q283=\"mono-LGBC\"),1,IF(OR($Q283=\"µc-Si / a-Si\",$Q283=\"a-Si (single)\",$Q283=\"a-Si (tandem)\",$Q283=\"a-Si (triple)\"),3,2))))","v":1},0,null,null,17032,null,null,281]
["Aleo Solar AG aleo S_19 215 sol","Aleo Solar AG ","aleo S_19 215 sol",215,"+2,32...0",28.3,7.59,36.299999999999997,8.4,-123.42,2.52,-0.48,1000,null,null,12.967120170593262,"mono",60,"pseudo-square",1704,1015,17,"aluminum","cable",19,"www.aleo-solar.com","-","-","-","-","-",{"$f":"IF($O284=\"Sunpower Corp.\",3,(IF(OR($Q284=\"mono\",$Q284=\"poly\",$Q284=\"HIT\",$Q284=\"EFG\",$Q284=\"mono-LGBC\"),1,IF(OR($Q284=\"µc-Si / a-Si\",$Q284=\"a-Si (single)\",$Q284=\"a-Si (tandem)\",$Q284=\"a-Si (triple)\"),3,2))))","v":1},{"$f":"IF($O284=\"Sunpower Corp.\",3,(IF(OR($Q284=\"mono\",$Q284=\"poly\",$Q284=\"HIT\",$Q284=\"EFG\",$Q284=\"mono-LGBC\"),1,2)))","v":1},{"$f":"IF($O284=\"Sunpower Corp.\",3,(IF(OR($Q284=\"mono\",$Q284=\"poly\",$Q284=\"HIT\",$Q284=\"EFG\",$Q284=\"mono-LGBC\"),1,IF(OR($Q284=\"µc-Si / a-Si\",$Q284=\"a-Si (single)\",$Q284=\"a-Si (tandem)\",$Q284=\"a-Si (triple)\"),3,2))))","v":1},0,null,null,26827,null,null,282]
["Aleo Solar AG aleo S_19 220","Aleo Solar AG ","aleo S_19 220",220,"+2,27...0",28.8,7.63,36.4,8.41,-123.76,2.5229999999999997,-0.48,1000,"worldwide",null,13.386879920959473,"mono",60,"pseudo-square",1660,990,50,"aluminum","cable",21,"www.aleo-solar.com","-","-","-","-","-",{"$f":"IF($O285=\"Sunpower Corp.\",3,(IF(OR($Q285=\"mono\",$Q285=\"poly\",$Q285=\"HIT\",$Q285=\"EFG\",$Q285=\"mono-LGBC\"),1,IF(OR($Q285=\"µc-Si / a-Si\",$Q285=\"a-Si (single)\",$Q285=\"a-Si (tandem)\",$Q285=\"a-Si (triple)\"),3,2))))","v":1},{"$f":"IF($O285=\"Sunpower Corp.\",3,(IF(OR($Q285=\"mono\",$Q285=\"poly\",$Q285=\"HIT\",$Q285=\"EFG\",$Q285=\"mono-LGBC\"),1,2)))","v":1},{"$f":"IF($O285=\"Sunpower Corp.\",3,(IF(OR($Q285=\"mono\",$Q285=\"poly\",$Q285=\"HIT\",$Q285=\"EFG\",$Q285=\"mono-LGBC\"),1,IF(OR($Q285=\"µc-Si / a-Si\",$Q285=\"a-Si (single)\",$Q285=\"a-Si (tandem)\",$Q285=\"a-Si (triple)\"),3,2))))","v":1},0,null,null,14690,null,null,283]
["Aleo Solar AG aleo S_19 220 sol","Aleo Solar AG ","aleo S_19 220 sol",220,"+2,27...0",28.8,7.63,36.4,8.41,-123.76,2.5229999999999997,-0.48,1000,"worldwide",null,13.268679618835449,"mono",60,"pseudo-square",1704,1015,17,"aluminum","cable",19,"www.aleo-solar.com","-","-","-","-","-",{"$f":"IF($O286=\"Sunpower Corp.\",3,(IF(OR($Q286=\"mono\",$Q286=\"poly\",$Q286=\"HIT\",$Q286=\"EFG\",$Q286=\"mono-LGBC\"),1,IF(OR($Q286=\"µc-Si / a-Si\",$Q286=\"a-Si (single)\",$Q286=\"a-Si (tandem)\",$Q286=\"a-Si (triple)\"),3,2))))","v":1},{"$f":"IF($O286=\"Sunpower Corp.\",3,(IF(OR($Q286=\"mono\",$Q286=\"poly\",$Q286=\"HIT\",$Q286=\"EFG\",$Q286=\"mono-LGBC\"),1,2)))","v":1},{"$f":"IF($O286=\"Sunpower Corp.\",3,(IF(OR($Q286=\"mono\",$Q286=\"poly\",$Q286=\"HIT\",$Q286=\"EFG\",$Q286=\"mono-LGBC\"),1,IF(OR($Q286=\"µc-Si / a-Si\",$Q286=\"a-Si (single)\",$Q286=\"a-Si (tandem)\",$Q286=\"a-Si (triple)\"),3,2))))","v":1},0,null,null,26791,null,null,284]
["Aleo Solar AG aleo S_19 225","Aleo Solar AG ","aleo S_19 225",225,"+2,22...0",29.3,7.68,36.6,8.43,-124.44,2.5289999999999995,-0.48,1000,"worldwide",null,13.691129684448242,"mono",60,"pseudo-square",1660,990,50,"aluminum","cable",21,"www.aleo-solar.com","-","-","-","-","-",{"$f":"IF($O287=\"Sunpower Corp.\",3,(IF(OR($Q287=\"mono\",$Q287=\"poly\",$Q287=\"HIT\",$Q287=\"EFG\",$Q287=\"mono-LGBC\"),1,IF(OR($Q287=\"µc-Si / a-Si\",$Q287=\"a-Si (single)\",$Q287=\"a-Si (tandem)\",$Q287=\"a-Si (triple)\"),3,2))))","v":1},{"$f":"IF($O287=\"Sunpower Corp.\",3,(IF(OR($Q287=\"mono\",$Q287=\"poly\",$Q287=\"HIT\",$Q287=\"EFG\",$Q287=\"mono-LGBC\"),1,2)))","v":1},{"$f":"IF($O287=\"Sunpower Corp.\",3,(IF(OR($Q287=\"mono\",$Q287=\"poly\",$Q287=\"HIT\",$Q287=\"EFG\",$Q287=\"mono-LGBC\"),1,IF(OR($Q287=\"µc-Si / a-Si\",$Q287=\"a-Si (single)\",$Q287=\"a-Si (tandem)\",$Q287=\"a-Si (triple)\"),3,2))))","v":1},0,null,null,14691,null,null,285]
["Aleo Solar AG aleo S_19 225 sol","Aleo Solar AG ","aleo S_19 225 sol",225,"+2,22...0",29.3,7.68,36.6,8.43,-124.44,2.5289999999999995,-0.48,1000,"worldwide",null,13.570240020751953,"mono",60,"pseudo-square",1704,1015,17,"aluminum","cable",19,"www.aleo-solar.com","-","-","-","-","-",{"$f":"IF($O288=\"Sunpower Corp.\",3,(IF(OR($Q288=\"mono\",$Q288=\"poly\",$Q288=\"HIT\",$Q288=\"EFG\",$Q288=\"mono-LGBC\"),1,IF(OR($Q288=\"µc-Si / a-Si\",$Q288=\"a-Si (single)\",$Q288=\"a-Si (tandem)\",$Q288=\"a-Si (triple)\"),3,2))))","v":1},{"$f":"IF($O288=\"Sunpower Corp.\",3,(IF(OR($Q288=\"mono\",$Q288=\"poly\",$Q288=\"HIT\",$Q288=\"EFG\",$Q288=\"mono-LGBC\"),1,2)))","v":1},{"$f":"IF($O288=\"Sunpower Corp.\",3,(IF(OR($Q288=\"mono\",$Q288=\"poly\",$Q288=\"HIT\",$Q288=\"EFG\",$Q288=\"mono-LGBC\"),1,IF(OR($Q288=\"µc-Si / a-Si\",$Q288=\"a-Si (single)\",$Q288=\"a-Si (tandem)\",$Q288=\"a-Si (triple)\"),3,2))))","v":1},0,null,null,26793,null,null,286]
["Aleo Solar AG aleo S_19 230","Aleo Solar AG ","aleo S_19 230",230,"+2,17...0",29.8,7.72,36.700000000000003,8.44,-124.78,2.5319999999999996,-0.48,1000,"worldwide",null,13.995380401611328,"mono",60,"pseudo-square",1660,990,50,"aluminum","cable",21,"www.aleo-solar.com","-","-","-","-","-",{"$f":"IF($O289=\"Sunpower Corp.\",3,(IF(OR($Q289=\"mono\",$Q289=\"poly\",$Q289=\"HIT\",$Q289=\"EFG\",$Q289=\"mono-LGBC\"),1,IF(OR($Q289=\"µc-Si / a-Si\",$Q289=\"a-Si (single)\",$Q289=\"a-Si (tandem)\",$Q289=\"a-Si (triple)\"),3,2))))","v":1},{"$f":"IF($O289=\"Sunpower Corp.\",3,(IF(OR($Q289=\"mono\",$Q289=\"poly\",$Q289=\"HIT\",$Q289=\"EFG\",$Q289=\"mono-LGBC\"),1,2)))","v":1},{"$f":"IF($O289=\"Sunpower Corp.\",3,(IF(OR($Q289=\"mono\",$Q289=\"poly\",$Q289=\"HIT\",$Q289=\"EFG\",$Q289=\"mono-LGBC\"),1,IF(OR($Q289=\"µc-Si / a-Si\",$Q289=\"a-Si (single)\",$Q289=\"a-Si (tandem)\",$Q289=\"a-Si (triple)\"),3,2))))","v":1},0,null,null,14692,null,null,287]
["Aleo Solar AG aleo S_19 230 sol","Aleo Solar AG ","aleo S_19 230 sol",230,"+2,17...0",29.8,7.72,36.700000000000003,8.44,-124.78,2.5319999999999996,-0.48,1000,"worldwide",null,13.871800422668457,"mono",60,"pseudo-square",1704,1015,17,"aluminum","cable",19,"www.aleo-solar.com","-","-","-","-","-",{"$f":"IF($O290=\"Sunpower Corp.\",3,(IF(OR($Q290=\"mono\",$Q290=\"poly\",$Q290=\"HIT\",$Q290=\"EFG\",$Q290=\"mono-LGBC\"),1,IF(OR($Q290=\"µc-Si / a-Si\",$Q290=\"a-Si (single)\",$Q290=\"a-Si (tandem)\",$Q290=\"a-Si (triple)\"),3,2))))","v":1},{"$f":"IF($O290=\"Sunpower Corp.\",3,(IF(OR($Q290=\"mono\",$Q290=\"poly\",$Q290=\"HIT\",$Q290=\"EFG\",$Q290=\"mono-LGBC\"),1,2)))","v":1},{"$f":"IF($O290=\"Sunpower Corp.\",3,(IF(OR($Q290=\"mono\",$Q290=\"poly\",$Q290=\"HIT\",$Q290=\"EFG\",$Q290=\"mono-LGBC\"),1,IF(OR($Q290=\"µc-Si / a-Si\",$Q290=\"a-Si (single)\",$Q290=\"a-Si (tandem)\",$Q290=\"a-Si (triple)\"),3,2))))","v":1},0,null,null,26795,null,null,288]
["Aleo Solar AG aleo S_19 235","Aleo Solar AG ","aleo S_19 235",235,"+2,13...0",30.3,7.76,36.799999999999997,8.4499999999999993,-125.12,2.5350000000000001,-0.48,1000,"worldwide",null,14.299619674682617,"mono",60,"pseudo-square",1660,990,50,"aluminum","cable",21,"www.aleo-solar.com","-","-","-","-","-",{"$f":"IF($O291=\"Sunpower Corp.\",3,(IF(OR($Q291=\"mono\",$Q291=\"poly\",$Q291=\"HIT\",$Q291=\"EFG\",$Q291=\"mono-LGBC\"),1,IF(OR($Q291=\"µc-Si / a-Si\",$Q291=\"a-Si (single)\",$Q291=\"a-Si (tandem)\",$Q291=\"a-Si (triple)\"),3,2))))","v":1},{"$f":"IF($O291=\"Sunpower Corp.\",3,(IF(OR($Q291=\"mono\",$Q291=\"poly\",$Q291=\"HIT\",$Q291=\"EFG\",$Q291=\"mono-LGBC\"),1,2)))","v":1},{"$f":"IF($O291=\"Sunpower Corp.\",3,(IF(OR($Q291=\"mono\",$Q291=\"poly\",$Q291=\"HIT\",$Q291=\"EFG\",$Q291=\"mono-LGBC\"),1,IF(OR($Q291=\"µc-Si / a-Si\",$Q291=\"a-Si (single)\",$Q291=\"a-Si (tandem)\",$Q291=\"a-Si (triple)\"),3,2))))","v":1},0,null,null,14714,null,null,289]
["Aleo Solar AG aleo S_19 235 sol","Aleo Solar AG ","aleo S_19 235 sol",235,"+2,13...0",30.2,7.78,36.799999999999997,8.4499999999999993,-125.12,2.5350000000000001,-0.48,1000,"worldwide",null,14.173359870910645,"mono",60,"pseudo-square",1704,1015,17,"aluminum","cable",19,"www.aleo-solar.com","-","-","-","-","-",{"$f":"IF($O292=\"Sunpower Corp.\",3,(IF(OR($Q292=\"mono\",$Q292=\"poly\",$Q292=\"HIT\",$Q292=\"EFG\",$Q292=\"mono-LGBC\"),1,IF(OR($Q292=\"µc-Si / a-Si\",$Q292=\"a-Si (single)\",$Q292=\"a-Si (tandem)\",$Q292=\"a-Si (triple)\"),3,2))))","v":1},{"$f":"IF($O292=\"Sunpower Corp.\",3,(IF(OR($Q292=\"mono\",$Q292=\"poly\",$Q292=\"HIT\",$Q292=\"EFG\",$Q292=\"mono-LGBC\"),1,2)))","v":1},{"$f":"IF($O292=\"Sunpower Corp.\",3,(IF(OR($Q292=\"mono\",$Q292=\"poly\",$Q292=\"HIT\",$Q292=\"EFG\",$Q292=\"mono-LGBC\"),1,IF(OR($Q292=\"µc-Si / a-Si\",$Q292=\"a-Si (single)\",$Q292=\"a-Si (tandem)\",$Q292=\"a-Si (triple)\"),3,2))))","v":1},0,null,null,26797,null,null,290]
["Aleo Solar AG aleo S_19 240","Aleo Solar AG ","aleo S_19 240",240,"+2,08...0",30.8,7.8,36.9,8.4700000000000006,-125.46,2.5409999999999999,-0.48,1000,null,null,14.603870391845703,"mono",60,"pseudo-square",1660,990,50,"aluminum","cable",21,"www.aleo-solar.com","-","-","-","-","-",{"$f":"IF($O293=\"Sunpower Corp.\",3,(IF(OR($Q293=\"mono\",$Q293=\"poly\",$Q293=\"HIT\",$Q293=\"EFG\",$Q293=\"mono-LGBC\"),1,IF(OR($Q293=\"µc-Si / a-Si\",$Q293=\"a-Si (single)\",$Q293=\"a-Si (tandem)\",$Q293=\"a-Si (triple)\"),3,2))))","v":1},{"$f":"IF($O293=\"Sunpower Corp.\",3,(IF(OR($Q293=\"mono\",$Q293=\"poly\",$Q293=\"HIT\",$Q293=\"EFG\",$Q293=\"mono-LGBC\"),1,2)))","v":1},{"$f":"IF($O293=\"Sunpower Corp.\",3,(IF(OR($Q293=\"mono\",$Q293=\"poly\",$Q293=\"HIT\",$Q293=\"EFG\",$Q293=\"mono-LGBC\"),1,IF(OR($Q293=\"µc-Si / a-Si\",$Q293=\"a-Si (single)\",$Q293=\"a-Si (tandem)\",$Q293=\"a-Si (triple)\"),3,2))))","v":1},0,null,null,26828,null,null,291]
["Aleo Solar AG aleo S_19 240 sol","Aleo Solar AG ","aleo S_19 240 sol",240,"+2,08...0",30.8,7.8,36.9,8.4700000000000006,-125.46,2.5409999999999999,-0.48,1000,null,null,14.474920272827148,"mono",60,"pseudo-square",1704,1015,17,"aluminum","cable",19,"www.aleo-solar.com","-","-","-","-","-",{"$f":"IF($O294=\"Sunpower Corp.\",3,(IF(OR($Q294=\"mono\",$Q294=\"poly\",$Q294=\"HIT\",$Q294=\"EFG\",$Q294=\"mono-LGBC\"),1,IF(OR($Q294=\"µc-Si / a-Si\",$Q294=\"a-Si (single)\",$Q294=\"a-Si (tandem)\",$Q294=\"a-Si (triple)\"),3,2))))","v":1},{"$f":"IF($O294=\"Sunpower Corp.\",3,(IF(OR($Q294=\"mono\",$Q294=\"poly\",$Q294=\"HIT\",$Q294=\"EFG\",$Q294=\"mono-LGBC\"),1,2)))","v":1},{"$f":"IF($O294=\"Sunpower Corp.\",3,(IF(OR($Q294=\"mono\",$Q294=\"poly\",$Q294=\"HIT\",$Q294=\"EFG\",$Q294=\"mono-LGBC\"),1,IF(OR($Q294=\"µc-Si / a-Si\",$Q294=\"a-Si (single)\",$Q294=\"a-Si (tandem)\",$Q294=\"a-Si (triple)\"),3,2))))","v":1},0,null,null,26829,null,null,292]
["Aleo Solar AG aleo S_19 245","Aleo Solar AG ","aleo S_19 245",245,"+2,04...0",31.3,7.84,37.1,8.48,-126.14,2.544,-0.48,1000,null,null,14.908120155334473,"mono",60,"pseudo-square",1660,990,50,"aluminum","cable",21,"www.aleo-solar.com","-","-","-","-","-",{"$f":"IF($O295=\"Sunpower Corp.\",3,(IF(OR($Q295=\"mono\",$Q295=\"poly\",$Q295=\"HIT\",$Q295=\"EFG\",$Q295=\"mono-LGBC\"),1,IF(OR($Q295=\"µc-Si / a-Si\",$Q295=\"a-Si (single)\",$Q295=\"a-Si (tandem)\",$Q295=\"a-Si (triple)\"),3,2))))","v":1},{"$f":"IF($O295=\"Sunpower Corp.\",3,(IF(OR($Q295=\"mono\",$Q295=\"poly\",$Q295=\"HIT\",$Q295=\"EFG\",$Q295=\"mono-LGBC\"),1,2)))","v":1},{"$f":"IF($O295=\"Sunpower Corp.\",3,(IF(OR($Q295=\"mono\",$Q295=\"poly\",$Q295=\"HIT\",$Q295=\"EFG\",$Q295=\"mono-LGBC\"),1,IF(OR($Q295=\"µc-Si / a-Si\",$Q295=\"a-Si (single)\",$Q295=\"a-Si (tandem)\",$Q295=\"a-Si (triple)\"),3,2))))","v":1},0,null,null,26830,null,null,293]
["Aleo Solar AG aleo S_19 245 sol","Aleo Solar AG ","aleo S_19 245 sol",245,"+2,04...0",31.3,7.84,37.1,8.48,-126.14,2.544,-0.48,1000,null,null,14.776479721069336,"mono",60,"pseudo-square",1704,1015,17,"aluminum","cable",19,"www.aleo-solar.com","-","-","-","-","-",{"$f":"IF($O296=\"Sunpower Corp.\",3,(IF(OR($Q296=\"mono\",$Q296=\"poly\",$Q296=\"HIT\",$Q296=\"EFG\",$Q296=\"mono-LGBC\"),1,IF(OR($Q296=\"µc-Si / a-Si\",$Q296=\"a-Si (single)\",$Q296=\"a-Si (tandem)\",$Q296=\"a-Si (triple)\"),3,2))))","v":1},{"$f":"IF($O296=\"Sunpower Corp.\",3,(IF(OR($Q296=\"mono\",$Q296=\"poly\",$Q296=\"HIT\",$Q296=\"EFG\",$Q296=\"mono-LGBC\"),1,2)))","v":1},{"$f":"IF($O296=\"Sunpower Corp.\",3,(IF(OR($Q296=\"mono\",$Q296=\"poly\",$Q296=\"HIT\",$Q296=\"EFG\",$Q296=\"mono-LGBC\"),1,IF(OR($Q296=\"µc-Si / a-Si\",$Q296=\"a-Si (single)\",$Q296=\"a-Si (tandem)\",$Q296=\"a-Si (triple)\"),3,2))))","v":1},0,null,null,26831,null,null,294]
["Aleo Solar AG aleo S_24 165","Aleo Solar AG ","aleo S_24 165",165,"+3,02...0",23.1,7.16,29,7.63,-98.6,3.052,-0.46,1000,null,null,12.391570091247559,"poly",48,"square",1345,990,50,"aluminum","cable",17,"www.aleo-solar.com","-","-","-","-","-",{"$f":"IF($O297=\"Sunpower Corp.\",3,(IF(OR($Q297=\"mono\",$Q297=\"poly\",$Q297=\"HIT\",$Q297=\"EFG\",$Q297=\"mono-LGBC\"),1,IF(OR($Q297=\"µc-Si / a-Si\",$Q297=\"a-Si (single)\",$Q297=\"a-Si (tandem)\",$Q297=\"a-Si (triple)\"),3,2))))","v":1},{"$f":"IF($O297=\"Sunpower Corp.\",3,(IF(OR($Q297=\"mono\",$Q297=\"poly\",$Q297=\"HIT\",$Q297=\"EFG\",$Q297=\"mono-LGBC\"),1,2)))","v":1},{"$f":"IF($O297=\"Sunpower Corp.\",3,(IF(OR($Q297=\"mono\",$Q297=\"poly\",$Q297=\"HIT\",$Q297=\"EFG\",$Q297=\"mono-LGBC\"),1,IF(OR($Q297=\"µc-Si / a-Si\",$Q297=\"a-Si (single)\",$Q297=\"a-Si (tandem)\",$Q297=\"a-Si (triple)\"),3,2))))","v":1},0,null,null,26832,null,null,295]
["Aleo Solar AG aleo S_24 170","Aleo Solar AG ","aleo S_24 170",170,"+2,94...0",23.2,7.33,29.1,7.8,-98.94,3.12,-0.46,1000,null,null,12.767080307006836,"poly",48,"square",1345,990,50,"aluminum","cable",17,"www.aleo-solar.com","-","-","-","-","-",{"$f":"IF($O298=\"Sunpower Corp.\",3,(IF(OR($Q298=\"mono\",$Q298=\"poly\",$Q298=\"HIT\",$Q298=\"EFG\",$Q298=\"mono-LGBC\"),1,IF(OR($Q298=\"µc-Si / a-Si\",$Q298=\"a-Si (single)\",$Q298=\"a-Si (tandem)\",$Q298=\"a-Si (triple)\"),3,2))))","v":1},{"$f":"IF($O298=\"Sunpower Corp.\",3,(IF(OR($Q298=\"mono\",$Q298=\"poly\",$Q298=\"HIT\",$Q298=\"EFG\",$Q298=\"mono-LGBC\"),1,2)))","v":1},{"$f":"IF($O298=\"Sunpower Corp.\",3,(IF(OR($Q298=\"mono\",$Q298=\"poly\",$Q298=\"HIT\",$Q298=\"EFG\",$Q298=\"mono-LGBC\"),1,IF(OR($Q298=\"µc-Si / a-Si\",$Q298=\"a-Si (single)\",$Q298=\"a-Si (tandem)\",$Q298=\"a-Si (triple)\"),3,2))))","v":1},0,null,null,26833,null,null,296]
["Aleo Solar AG aleo S_24 175","Aleo Solar AG ","aleo S_24 175",175,"+2,86...0",23.3,7.51,29.2,7.97,-99.28,3.1879999999999997,-0.46,1000,"worldwide",null,13.142580032348633,"poly",48,"square",1345,990,50,"aluminum","cable",17,"www.aleo-solar.com","-","-","-","-","-",{"$f":"IF($O299=\"Sunpower Corp.\",3,(IF(OR($Q299=\"mono\",$Q299=\"poly\",$Q299=\"HIT\",$Q299=\"EFG\",$Q299=\"mono-LGBC\"),1,IF(OR($Q299=\"µc-Si / a-Si\",$Q299=\"a-Si (single)\",$Q299=\"a-Si (tandem)\",$Q299=\"a-Si (triple)\"),3,2))))","v":1},{"$f":"IF($O299=\"Sunpower Corp.\",3,(IF(OR($Q299=\"mono\",$Q299=\"poly\",$Q299=\"HIT\",$Q299=\"EFG\",$Q299=\"mono-LGBC\"),1,2)))","v":1},{"$f":"IF($O299=\"Sunpower Corp.\",3,(IF(OR($Q299=\"mono\",$Q299=\"poly\",$Q299=\"HIT\",$Q299=\"EFG\",$Q299=\"mono-LGBC\"),1,IF(OR($Q299=\"µc-Si / a-Si\",$Q299=\"a-Si (single)\",$Q299=\"a-Si (tandem)\",$Q299=\"a-Si (triple)\"),3,2))))","v":1},0,null,null,3720,null,null,297]
["Aleo Solar AG aleo S_24 180","Aleo Solar AG ","aleo S_24 180",180,"+2,77...0",23.4,7.68,29.3,8.14,-99.62,3.2560000000000002,-0.46,1000,"worldwide",null,13.51807975769043,"poly",48,"square",1345,990,50,"aluminum","cable",17,"www.aleo-solar.com","-","-","-","-","-",{"$f":"IF($O300=\"Sunpower Corp.\",3,(IF(OR($Q300=\"mono\",$Q300=\"poly\",$Q300=\"HIT\",$Q300=\"EFG\",$Q300=\"mono-LGBC\"),1,IF(OR($Q300=\"µc-Si / a-Si\",$Q300=\"a-Si (single)\",$Q300=\"a-Si (tandem)\",$Q300=\"a-Si (triple)\"),3,2))))","v":1},{"$f":"IF($O300=\"Sunpower Corp.\",3,(IF(OR($Q300=\"mono\",$Q300=\"poly\",$Q300=\"HIT\",$Q300=\"EFG\",$Q300=\"mono-LGBC\"),1,2)))","v":1},{"$f":"IF($O300=\"Sunpower Corp.\",3,(IF(OR($Q300=\"mono\",$Q300=\"poly\",$Q300=\"HIT\",$Q300=\"EFG\",$Q300=\"mono-LGBC\"),1,IF(OR($Q300=\"µc-Si / a-Si\",$Q300=\"a-Si (single)\",$Q300=\"a-Si (tandem)\",$Q300=\"a-Si (triple)\"),3,2))))","v":1},0,null,null,3721,null,null,298]
["Aleo Solar AG aleo S_24 185","Aleo Solar AG ","aleo S_24 185",185,"+2,7...0",23.6,7.85,29.4,8.31,-99.96,3.3240000000000007,-0.46,1000,"worldwide",null,13.893580436706543,"poly",48,"square",1345,990,50,"aluminum","cable",17,"www.aleo-solar.com","-","-","-","-","-",{"$f":"IF($O301=\"Sunpower Corp.\",3,(IF(OR($Q301=\"mono\",$Q301=\"poly\",$Q301=\"HIT\",$Q301=\"EFG\",$Q301=\"mono-LGBC\"),1,IF(OR($Q301=\"µc-Si / a-Si\",$Q301=\"a-Si (single)\",$Q301=\"a-Si (tandem)\",$Q301=\"a-Si (triple)\"),3,2))))","v":1},{"$f":"IF($O301=\"Sunpower Corp.\",3,(IF(OR($Q301=\"mono\",$Q301=\"poly\",$Q301=\"HIT\",$Q301=\"EFG\",$Q301=\"mono-LGBC\"),1,2)))","v":1},{"$f":"IF($O301=\"Sunpower Corp.\",3,(IF(OR($Q301=\"mono\",$Q301=\"poly\",$Q301=\"HIT\",$Q301=\"EFG\",$Q301=\"mono-LGBC\"),1,IF(OR($Q301=\"µc-Si / a-Si\",$Q301=\"a-Si (single)\",$Q301=\"a-Si (tandem)\",$Q301=\"a-Si (triple)\"),3,2))))","v":1},0,null,null,3722,null,null,299]
["Aleo Solar AG aleo S_24 190","Aleo Solar AG ","aleo S_24 190",190,"+2,63...0",23.7,8.01,29.58,8.4700000000000006,-100.57199999999999,3.3880000000000003,-0.46,1000,null,null,14.26908016204834,"poly",48,"square",1345,990,50,"aluminum","cable",17,"www.aleo-solar.com","-","-","-","-","-",{"$f":"IF($O302=\"Sunpower Corp.\",3,(IF(OR($Q302=\"mono\",$Q302=\"poly\",$Q302=\"HIT\",$Q302=\"EFG\",$Q302=\"mono-LGBC\"),1,IF(OR($Q302=\"µc-Si / a-Si\",$Q302=\"a-Si (single)\",$Q302=\"a-Si (tandem)\",$Q302=\"a-Si (triple)\"),3,2))))","v":1},{"$f":"IF($O302=\"Sunpower Corp.\",3,(IF(OR($Q302=\"mono\",$Q302=\"poly\",$Q302=\"HIT\",$Q302=\"EFG\",$Q302=\"mono-LGBC\"),1,2)))","v":1},{"$f":"IF($O302=\"Sunpower Corp.\",3,(IF(OR($Q302=\"mono\",$Q302=\"poly\",$Q302=\"HIT\",$Q302=\"EFG\",$Q302=\"mono-LGBC\"),1,IF(OR($Q302=\"µc-Si / a-Si\",$Q302=\"a-Si (single)\",$Q302=\"a-Si (tandem)\",$Q302=\"a-Si (triple)\"),3,2))))","v":1},0,null,null,26834,null,null,300]
["Aleo Solar AG aleo S_24 195","Aleo Solar AG ","aleo S_24 195",195,"+2,45...0",23.8,8.18,29.6,8.64,-100.64,3.4560000000000004,-0.46,1000,null,null,14.644590377807617,"poly",48,"square",1345,990,50,"aluminum","cable",17,"www.aleo-solar.com","-","-","-","-","-",{"$f":"IF($O303=\"Sunpower Corp.\",3,(IF(OR($Q303=\"mono\",$Q303=\"poly\",$Q303=\"HIT\",$Q303=\"EFG\",$Q303=\"mono-LGBC\"),1,IF(OR($Q303=\"µc-Si / a-Si\",$Q303=\"a-Si (single)\",$Q303=\"a-Si (tandem)\",$Q303=\"a-Si (triple)\"),3,2))))","v":1},{"$f":"IF($O303=\"Sunpower Corp.\",3,(IF(OR($Q303=\"mono\",$Q303=\"poly\",$Q303=\"HIT\",$Q303=\"EFG\",$Q303=\"mono-LGBC\"),1,2)))","v":1},{"$f":"IF($O303=\"Sunpower Corp.\",3,(IF(OR($Q303=\"mono\",$Q303=\"poly\",$Q303=\"HIT\",$Q303=\"EFG\",$Q303=\"mono-LGBC\"),1,IF(OR($Q303=\"µc-Si / a-Si\",$Q303=\"a-Si (single)\",$Q303=\"a-Si (tandem)\",$Q303=\"a-Si (triple)\"),3,2))))","v":1},0,null,null,26835,null,null,301]
["Aleo Solar AG aleo S_77 170","Aleo Solar AG ","aleo S_77 170",170,"+2,94...0",22.6,7.52,30.2,8.4,-102.68,2.52,-0.48,1000,null,null,12.338509559631348,"mono",50,"pseudo-square",1660,830,50,"aluminum","cable",17,"www.aleo-solar.com","-","-","-","-","-",{"$f":"IF($O304=\"Sunpower Corp.\",3,(IF(OR($Q304=\"mono\",$Q304=\"poly\",$Q304=\"HIT\",$Q304=\"EFG\",$Q304=\"mono-LGBC\"),1,IF(OR($Q304=\"µc-Si / a-Si\",$Q304=\"a-Si (single)\",$Q304=\"a-Si (tandem)\",$Q304=\"a-Si (triple)\"),3,2))))","v":1},{"$f":"IF($O304=\"Sunpower Corp.\",3,(IF(OR($Q304=\"mono\",$Q304=\"poly\",$Q304=\"HIT\",$Q304=\"EFG\",$Q304=\"mono-LGBC\"),1,2)))","v":1},{"$f":"IF($O304=\"Sunpower Corp.\",3,(IF(OR($Q304=\"mono\",$Q304=\"poly\",$Q304=\"HIT\",$Q304=\"EFG\",$Q304=\"mono-LGBC\"),1,IF(OR($Q304=\"µc-Si / a-Si\",$Q304=\"a-Si (single)\",$Q304=\"a-Si (tandem)\",$Q304=\"a-Si (triple)\"),3,2))))","v":1},0,null,null,26836,null,null,302]
["Aleo Solar AG aleo S_77 170 sol","Aleo Solar AG ","aleo S_77 170 sol",170,"+2,94...0",22.6,7.52,30.2,8.4,-102.68,2.52,-0.48,1000,null,null,12.243960380554199,"mono",50,"pseudo-square",1704,855,17,"aluminum","cable",16,"www.aleo-solar.com","-","-","-","-","-",{"$f":"IF($O305=\"Sunpower Corp.\",3,(IF(OR($Q305=\"mono\",$Q305=\"poly\",$Q305=\"HIT\",$Q305=\"EFG\",$Q305=\"mono-LGBC\"),1,IF(OR($Q305=\"µc-Si / a-Si\",$Q305=\"a-Si (single)\",$Q305=\"a-Si (tandem)\",$Q305=\"a-Si (triple)\"),3,2))))","v":1},{"$f":"IF($O305=\"Sunpower Corp.\",3,(IF(OR($Q305=\"mono\",$Q305=\"poly\",$Q305=\"HIT\",$Q305=\"EFG\",$Q305=\"mono-LGBC\"),1,2)))","v":1},{"$f":"IF($O305=\"Sunpower Corp.\",3,(IF(OR($Q305=\"mono\",$Q305=\"poly\",$Q305=\"HIT\",$Q305=\"EFG\",$Q305=\"mono-LGBC\"),1,IF(OR($Q305=\"µc-Si / a-Si\",$Q305=\"a-Si (single)\",$Q305=\"a-Si (tandem)\",$Q305=\"a-Si (triple)\"),3,2))))","v":1},0,null,null,26837,null,null,303]
["Aleo Solar AG aleo S_77 175","Aleo Solar AG ","aleo S_77 175",175,"+2,86...0",23.1,7.58,30.3,8.41,-103.02,2.5229999999999997,-0.48,1000,null,null,12.701410293579102,"mono",50,"pseudo-square",1660,830,50,"aluminum","cable",17,"www.aleo-solar.com","-","-","-","-","-",{"$f":"IF($O306=\"Sunpower Corp.\",3,(IF(OR($Q306=\"mono\",$Q306=\"poly\",$Q306=\"HIT\",$Q306=\"EFG\",$Q306=\"mono-LGBC\"),1,IF(OR($Q306=\"µc-Si / a-Si\",$Q306=\"a-Si (single)\",$Q306=\"a-Si (tandem)\",$Q306=\"a-Si (triple)\"),3,2))))","v":1},{"$f":"IF($O306=\"Sunpower Corp.\",3,(IF(OR($Q306=\"mono\",$Q306=\"poly\",$Q306=\"HIT\",$Q306=\"EFG\",$Q306=\"mono-LGBC\"),1,2)))","v":1},{"$f":"IF($O306=\"Sunpower Corp.\",3,(IF(OR($Q306=\"mono\",$Q306=\"poly\",$Q306=\"HIT\",$Q306=\"EFG\",$Q306=\"mono-LGBC\"),1,IF(OR($Q306=\"µc-Si / a-Si\",$Q306=\"a-Si (single)\",$Q306=\"a-Si (tandem)\",$Q306=\"a-Si (triple)\"),3,2))))","v":1},0,null,null,26838,null,null,304]
["Aleo Solar AG aleo S_77 175 sol","Aleo Solar AG ","aleo S_77 175 sol",175,"+2,86...0",23.1,7.58,30.3,8.41,-103.02,2.5229999999999997,-0.48,1000,null,null,12.604069709777832,"mono",50,"pseudo-square",1704,855,17,"aluminum","cable",16,"www.aleo-solar.com","-","-","-","-","-",{"$f":"IF($O307=\"Sunpower Corp.\",3,(IF(OR($Q307=\"mono\",$Q307=\"poly\",$Q307=\"HIT\",$Q307=\"EFG\",$Q307=\"mono-LGBC\"),1,IF(OR($Q307=\"µc-Si / a-Si\",$Q307=\"a-Si (single)\",$Q307=\"a-Si (tandem)\",$Q307=\"a-Si (triple)\"),3,2))))","v":1},{"$f":"IF($O307=\"Sunpower Corp.\",3,(IF(OR($Q307=\"mono\",$Q307=\"poly\",$Q307=\"HIT\",$Q307=\"EFG\",$Q307=\"mono-LGBC\"),1,2)))","v":1},{"$f":"IF($O307=\"Sunpower Corp.\",3,(IF(OR($Q307=\"mono\",$Q307=\"poly\",$Q307=\"HIT\",$Q307=\"EFG\",$Q307=\"mono-LGBC\"),1,IF(OR($Q307=\"µc-Si / a-Si\",$Q307=\"a-Si (single)\",$Q307=\"a-Si (tandem)\",$Q307=\"a-Si (triple)\"),3,2))))","v":1},0,null,null,26839,null,null,305]
["Aleo Solar AG aleo S_77 180","Aleo Solar AG ","aleo S_77 180",180,"+2,77...0",23.6,7.63,30.4,8.42,-103.36,2.5259999999999998,-0.48,1000,"worldwide",null,13.064310073852539,"mono",50,"pseudo-square",1660,830,50,"aluminum","cable",17,"www.aleo-solar.com","-","-","-","-","-",{"$f":"IF($O308=\"Sunpower Corp.\",3,(IF(OR($Q308=\"mono\",$Q308=\"poly\",$Q308=\"HIT\",$Q308=\"EFG\",$Q308=\"mono-LGBC\"),1,IF(OR($Q308=\"µc-Si / a-Si\",$Q308=\"a-Si (single)\",$Q308=\"a-Si (tandem)\",$Q308=\"a-Si (triple)\"),3,2))))","v":1},{"$f":"IF($O308=\"Sunpower Corp.\",3,(IF(OR($Q308=\"mono\",$Q308=\"poly\",$Q308=\"HIT\",$Q308=\"EFG\",$Q308=\"mono-LGBC\"),1,2)))","v":1},{"$f":"IF($O308=\"Sunpower Corp.\",3,(IF(OR($Q308=\"mono\",$Q308=\"poly\",$Q308=\"HIT\",$Q308=\"EFG\",$Q308=\"mono-LGBC\"),1,IF(OR($Q308=\"µc-Si / a-Si\",$Q308=\"a-Si (single)\",$Q308=\"a-Si (tandem)\",$Q308=\"a-Si (triple)\"),3,2))))","v":1},0,null,null,6218,null,null,306]
["Aleo Solar AG aleo S_77 180 sol","Aleo Solar AG ","aleo S_77 180 sol",180,"+2,77...0",23.6,7.63,30.4,8.42,-103.36,2.5259999999999998,-0.48,1000,"worldwide",null,12.964189529418945,"mono",50,"pseudo-square",1704,855,17,"aluminum","cable",16,"www.aleo-solar.com","-","-","-","-","-",{"$f":"IF($O309=\"Sunpower Corp.\",3,(IF(OR($Q309=\"mono\",$Q309=\"poly\",$Q309=\"HIT\",$Q309=\"EFG\",$Q309=\"mono-LGBC\"),1,IF(OR($Q309=\"µc-Si / a-Si\",$Q309=\"a-Si (single)\",$Q309=\"a-Si (tandem)\",$Q309=\"a-Si (triple)\"),3,2))))","v":1},{"$f":"IF($O309=\"Sunpower Corp.\",3,(IF(OR($Q309=\"mono\",$Q309=\"poly\",$Q309=\"HIT\",$Q309=\"EFG\",$Q309=\"mono-LGBC\"),1,2)))","v":1},{"$f":"IF($O309=\"Sunpower Corp.\",3,(IF(OR($Q309=\"mono\",$Q309=\"poly\",$Q309=\"HIT\",$Q309=\"EFG\",$Q309=\"mono-LGBC\"),1,IF(OR($Q309=\"µc-Si / a-Si\",$Q309=\"a-Si (single)\",$Q309=\"a-Si (tandem)\",$Q309=\"a-Si (triple)\"),3,2))))","v":1},0,null,null,26799,null,null,307]
["Aleo Solar AG aleo S_77 185","Aleo Solar AG ","aleo S_77 185",185,"+2,7...0",24.1,7.68,30.5,8.43,-103.7,2.5289999999999995,-0.48,1000,"worldwide",null,13.427200317382813,"mono",50,"pseudo-square",1660,830,50,"aluminum","cable",17,"www.aleo-solar.com","-","-","-","-","-",{"$f":"IF($O310=\"Sunpower Corp.\",3,(IF(OR($Q310=\"mono\",$Q310=\"poly\",$Q310=\"HIT\",$Q310=\"EFG\",$Q310=\"mono-LGBC\"),1,IF(OR($Q310=\"µc-Si / a-Si\",$Q310=\"a-Si (single)\",$Q310=\"a-Si (tandem)\",$Q310=\"a-Si (triple)\"),3,2))))","v":1},{"$f":"IF($O310=\"Sunpower Corp.\",3,(IF(OR($Q310=\"mono\",$Q310=\"poly\",$Q310=\"HIT\",$Q310=\"EFG\",$Q310=\"mono-LGBC\"),1,2)))","v":1},{"$f":"IF($O310=\"Sunpower Corp.\",3,(IF(OR($Q310=\"mono\",$Q310=\"poly\",$Q310=\"HIT\",$Q310=\"EFG\",$Q310=\"mono-LGBC\"),1,IF(OR($Q310=\"µc-Si / a-Si\",$Q310=\"a-Si (single)\",$Q310=\"a-Si (tandem)\",$Q310=\"a-Si (triple)\"),3,2))))","v":1},0,null,null,6219,null,null,308]
["Aleo Solar AG aleo S_77 185 sol","Aleo Solar AG ","aleo S_77 185 sol",185,"+2,7...0",24.1,7.68,30.5,8.43,-103.7,2.5289999999999995,-0.48,1000,"worldwide",null,13.324310302734375,"mono",50,"pseudo-square",1704,855,17,"aluminum","cable",16,"www.aleo-solar.com","-","-","-","-","-",{"$f":"IF($O311=\"Sunpower Corp.\",3,(IF(OR($Q311=\"mono\",$Q311=\"poly\",$Q311=\"HIT\",$Q311=\"EFG\",$Q311=\"mono-LGBC\"),1,IF(OR($Q311=\"µc-Si / a-Si\",$Q311=\"a-Si (single)\",$Q311=\"a-Si (tandem)\",$Q311=\"a-Si (triple)\"),3,2))))","v":1},{"$f":"IF($O311=\"Sunpower Corp.\",3,(IF(OR($Q311=\"mono\",$Q311=\"poly\",$Q311=\"HIT\",$Q311=\"EFG\",$Q311=\"mono-LGBC\"),1,2)))","v":1},{"$f":"IF($O311=\"Sunpower Corp.\",3,(IF(OR($Q311=\"mono\",$Q311=\"poly\",$Q311=\"HIT\",$Q311=\"EFG\",$Q311=\"mono-LGBC\"),1,IF(OR($Q311=\"µc-Si / a-Si\",$Q311=\"a-Si (single)\",$Q311=\"a-Si (tandem)\",$Q311=\"a-Si (triple)\"),3,2))))","v":1},0,null,null,26800,null,null,309]
["Aleo Solar AG aleo S_77 190","Aleo Solar AG ","aleo S_77 190",190,"+2,63...0",24.6,7.72,30.6,8.44,-104.04,2.5319999999999996,-0.48,1000,"worldwide",null,13.79010009765625,"mono",50,"pseudo-square",1660,830,50,"aluminum","cable",17,"www.aleo-solar.com","-","-","-","-","-",{"$f":"IF($O312=\"Sunpower Corp.\",3,(IF(OR($Q312=\"mono\",$Q312=\"poly\",$Q312=\"HIT\",$Q312=\"EFG\",$Q312=\"mono-LGBC\"),1,IF(OR($Q312=\"µc-Si / a-Si\",$Q312=\"a-Si (single)\",$Q312=\"a-Si (tandem)\",$Q312=\"a-Si (triple)\"),3,2))))","v":1},{"$f":"IF($O312=\"Sunpower Corp.\",3,(IF(OR($Q312=\"mono\",$Q312=\"poly\",$Q312=\"HIT\",$Q312=\"EFG\",$Q312=\"mono-LGBC\"),1,2)))","v":1},{"$f":"IF($O312=\"Sunpower Corp.\",3,(IF(OR($Q312=\"mono\",$Q312=\"poly\",$Q312=\"HIT\",$Q312=\"EFG\",$Q312=\"mono-LGBC\"),1,IF(OR($Q312=\"µc-Si / a-Si\",$Q312=\"a-Si (single)\",$Q312=\"a-Si (tandem)\",$Q312=\"a-Si (triple)\"),3,2))))","v":1},0,null,null,6220,null,null,310]
["Aleo Solar AG aleo S_77 190 sol","Aleo Solar AG ","aleo S_77 190 sol",190,"+2,63...0",24.6,7.72,30.6,8.44,-104.04,2.5319999999999996,-0.48,1000,"worldwide",null,13.684419631958008,"mono",50,"pseudo-square",1704,855,17,"aluminum","cable",16,"www.aleo-solar.com","-","-","-","-","-",{"$f":"IF($O313=\"Sunpower Corp.\",3,(IF(OR($Q313=\"mono\",$Q313=\"poly\",$Q313=\"HIT\",$Q313=\"EFG\",$Q313=\"mono-LGBC\"),1,IF(OR($Q313=\"µc-Si / a-Si\",$Q313=\"a-Si (single)\",$Q313=\"a-Si (tandem)\",$Q313=\"a-Si (triple)\"),3,2))))","v":1},{"$f":"IF($O313=\"Sunpower Corp.\",3,(IF(OR($Q313=\"mono\",$Q313=\"poly\",$Q313=\"HIT\",$Q313=\"EFG\",$Q313=\"mono-LGBC\"),1,2)))","v":1},{"$f":"IF($O313=\"Sunpower Corp.\",3,(IF(OR($Q313=\"mono\",$Q313=\"poly\",$Q313=\"HIT\",$Q313=\"EFG\",$Q313=\"mono-LGBC\"),1,IF(OR($Q313=\"µc-Si / a-Si\",$Q313=\"a-Si (single)\",$Q313=\"a-Si (tandem)\",$Q313=\"a-Si (triple)\"),3,2))))","v":1},0,null,null,26801,null,null,311]
["Aleo Solar AG aleo S_77 195","Aleo Solar AG ","aleo S_77 195",195,"+2,56...0",25.1,7.77,30.7,8.4499999999999993,-104.38,2.5350000000000001,-0.48,1000,null,null,14.152999877929688,"mono",50,"pseudo-square",1660,830,50,"aluminum","cable",17,"www.aleo-solar.com","-","-","-","-","-",{"$f":"IF($O314=\"Sunpower Corp.\",3,(IF(OR($Q314=\"mono\",$Q314=\"poly\",$Q314=\"HIT\",$Q314=\"EFG\",$Q314=\"mono-LGBC\"),1,IF(OR($Q314=\"µc-Si / a-Si\",$Q314=\"a-Si (single)\",$Q314=\"a-Si (tandem)\",$Q314=\"a-Si (triple)\"),3,2))))","v":1},{"$f":"IF($O314=\"Sunpower Corp.\",3,(IF(OR($Q314=\"mono\",$Q314=\"poly\",$Q314=\"HIT\",$Q314=\"EFG\",$Q314=\"mono-LGBC\"),1,2)))","v":1},{"$f":"IF($O314=\"Sunpower Corp.\",3,(IF(OR($Q314=\"mono\",$Q314=\"poly\",$Q314=\"HIT\",$Q314=\"EFG\",$Q314=\"mono-LGBC\"),1,IF(OR($Q314=\"µc-Si / a-Si\",$Q314=\"a-Si (single)\",$Q314=\"a-Si (tandem)\",$Q314=\"a-Si (triple)\"),3,2))))","v":1},0,null,null,26840,null,null,312]
["Aleo Solar AG aleo S_77 195 sol","Aleo Solar AG ","aleo S_77 195 sol",195,"+2,56...0",25.1,7.77,30.7,8.4499999999999993,-104.38,2.5350000000000001,-0.48,1000,null,null,14.044540405273438,"mono",50,"pseudo-square",1704,855,17,"aluminum","cable",16,"www.aleo-solar.com","-","-","-","-","-",{"$f":"IF($O315=\"Sunpower Corp.\",3,(IF(OR($Q315=\"mono\",$Q315=\"poly\",$Q315=\"HIT\",$Q315=\"EFG\",$Q315=\"mono-LGBC\"),1,IF(OR($Q315=\"µc-Si / a-Si\",$Q315=\"a-Si (single)\",$Q315=\"a-Si (tandem)\",$Q315=\"a-Si (triple)\"),3,2))))","v":1},{"$f":"IF($O315=\"Sunpower Corp.\",3,(IF(OR($Q315=\"mono\",$Q315=\"poly\",$Q315=\"HIT\",$Q315=\"EFG\",$Q315=\"mono-LGBC\"),1,2)))","v":1},{"$f":"IF($O315=\"Sunpower Corp.\",3,(IF(OR($Q315=\"mono\",$Q315=\"poly\",$Q315=\"HIT\",$Q315=\"EFG\",$Q315=\"mono-LGBC\"),1,IF(OR($Q315=\"µc-Si / a-Si\",$Q315=\"a-Si (single)\",$Q315=\"a-Si (tandem)\",$Q315=\"a-Si (triple)\"),3,2))))","v":1},0,null,null,26841,null,null,313]
["Aleo Solar AG aleo S_77 200","Aleo Solar AG ","aleo S_77 200",200,"+2,5...0",25.6,7.82,30.8,8.4600000000000009,-104.72,2.5379999999999998,-0.48,1000,null,null,14.515890121459961,"mono",50,"pseudo-square",1660,830,50,"aluminum","cable",17,"www.aleo-solar.com","-","-","-","-","-",{"$f":"IF($O316=\"Sunpower Corp.\",3,(IF(OR($Q316=\"mono\",$Q316=\"poly\",$Q316=\"HIT\",$Q316=\"EFG\",$Q316=\"mono-LGBC\"),1,IF(OR($Q316=\"µc-Si / a-Si\",$Q316=\"a-Si (single)\",$Q316=\"a-Si (tandem)\",$Q316=\"a-Si (triple)\"),3,2))))","v":1},{"$f":"IF($O316=\"Sunpower Corp.\",3,(IF(OR($Q316=\"mono\",$Q316=\"poly\",$Q316=\"HIT\",$Q316=\"EFG\",$Q316=\"mono-LGBC\"),1,2)))","v":1},{"$f":"IF($O316=\"Sunpower Corp.\",3,(IF(OR($Q316=\"mono\",$Q316=\"poly\",$Q316=\"HIT\",$Q316=\"EFG\",$Q316=\"mono-LGBC\"),1,IF(OR($Q316=\"µc-Si / a-Si\",$Q316=\"a-Si (single)\",$Q316=\"a-Si (tandem)\",$Q316=\"a-Si (triple)\"),3,2))))","v":1},0,null,null,26842,null,null,314]
["Aleo Solar AG aleo S_77 200 sol","Aleo Solar AG ","aleo S_77 200 sol",200,"+2,5...0",25.6,7.82,30.8,8.4600000000000009,-104.72,2.5379999999999998,-0.48,1000,null,null,14.404660224914551,"mono",50,"pseudo-square",1704,855,17,"aluminum","cable",16,"www.aleo-solar.com","-","-","-","-","-",{"$f":"IF($O317=\"Sunpower Corp.\",3,(IF(OR($Q317=\"mono\",$Q317=\"poly\",$Q317=\"HIT\",$Q317=\"EFG\",$Q317=\"mono-LGBC\"),1,IF(OR($Q317=\"µc-Si / a-Si\",$Q317=\"a-Si (single)\",$Q317=\"a-Si (tandem)\",$Q317=\"a-Si (triple)\"),3,2))))","v":1},{"$f":"IF($O317=\"Sunpower Corp.\",3,(IF(OR($Q317=\"mono\",$Q317=\"poly\",$Q317=\"HIT\",$Q317=\"EFG\",$Q317=\"mono-LGBC\"),1,2)))","v":1},{"$f":"IF($O317=\"Sunpower Corp.\",3,(IF(OR($Q317=\"mono\",$Q317=\"poly\",$Q317=\"HIT\",$Q317=\"EFG\",$Q317=\"mono-LGBC\"),1,IF(OR($Q317=\"µc-Si / a-Si\",$Q317=\"a-Si (single)\",$Q317=\"a-Si (tandem)\",$Q317=\"a-Si (triple)\"),3,2))))","v":1},0,null,null,26843,null,null,315]
["Aleo Solar AG aleo S_79 235","Aleo Solar AG ","aleo S_79 235",235,"+2,13...0",29.4,8,36.4,8.5299999999999994,-123.76,2.5589999999999997,-0.48,1000,null,null,14.299619674682617,"mono",60,"pseudo-square",1660,990,50,"aluminum","junction box MC old",21,"www.aleo-solar.de","-","-","-","-","-",{"$f":"IF($O318=\"Sunpower Corp.\",3,(IF(OR($Q318=\"mono\",$Q318=\"poly\",$Q318=\"HIT\",$Q318=\"EFG\",$Q318=\"mono-LGBC\"),1,IF(OR($Q318=\"µc-Si / a-Si\",$Q318=\"a-Si (single)\",$Q318=\"a-Si (tandem)\",$Q318=\"a-Si (triple)\"),3,2))))","v":1},{"$f":"IF($O318=\"Sunpower Corp.\",3,(IF(OR($Q318=\"mono\",$Q318=\"poly\",$Q318=\"HIT\",$Q318=\"EFG\",$Q318=\"mono-LGBC\"),1,2)))","v":1},{"$f":"IF($O318=\"Sunpower Corp.\",3,(IF(OR($Q318=\"mono\",$Q318=\"poly\",$Q318=\"HIT\",$Q318=\"EFG\",$Q318=\"mono-LGBC\"),1,IF(OR($Q318=\"µc-Si / a-Si\",$Q318=\"a-Si (single)\",$Q318=\"a-Si (tandem)\",$Q318=\"a-Si (triple)\"),3,2))))","v":1},0,null,null,30567,null,null,316]
["Aleo Solar AG aleo S_79 235 sol","Aleo Solar AG ","aleo S_79 235 sol",235,"+2,13...0",29.4,8,36.4,8.5299999999999994,-123.76,2.5589999999999997,-0.48,1000,null,null,13.57390022277832,"mono",60,"pseudo-square",1704,1016,17,"aluminum","junction box MC old",21,"www.aleo-solar.de","-","-","-","-","-",{"$f":"IF($O319=\"Sunpower Corp.\",3,(IF(OR($Q319=\"mono\",$Q319=\"poly\",$Q319=\"HIT\",$Q319=\"EFG\",$Q319=\"mono-LGBC\"),1,IF(OR($Q319=\"µc-Si / a-Si\",$Q319=\"a-Si (single)\",$Q319=\"a-Si (tandem)\",$Q319=\"a-Si (triple)\"),3,2))))","v":1},{"$f":"IF($O319=\"Sunpower Corp.\",3,(IF(OR($Q319=\"mono\",$Q319=\"poly\",$Q319=\"HIT\",$Q319=\"EFG\",$Q319=\"mono-LGBC\"),1,2)))","v":1},{"$f":"IF($O319=\"Sunpower Corp.\",3,(IF(OR($Q319=\"mono\",$Q319=\"poly\",$Q319=\"HIT\",$Q319=\"EFG\",$Q319=\"mono-LGBC\"),1,IF(OR($Q319=\"µc-Si / a-Si\",$Q319=\"a-Si (single)\",$Q319=\"a-Si (tandem)\",$Q319=\"a-Si (triple)\"),3,2))))","v":1},0,null,null,30570,null,null,317]
["Aleo Solar AG aleo S_79 240","Aleo Solar AG ","aleo S_79 240",240,"+2,08...0",29.8,8.0500000000000007,36.799999999999997,8.56,-125.12,2.5680000000000001,-0.48,1000,null,null,14.603870391845703,"mono",60,"pseudo-square",1660,990,50,"aluminum","junction box MC old",21,"www.aleo-solar.de","-","-","-","-","-",{"$f":"IF($O320=\"Sunpower Corp.\",3,(IF(OR($Q320=\"mono\",$Q320=\"poly\",$Q320=\"HIT\",$Q320=\"EFG\",$Q320=\"mono-LGBC\"),1,IF(OR($Q320=\"µc-Si / a-Si\",$Q320=\"a-Si (single)\",$Q320=\"a-Si (tandem)\",$Q320=\"a-Si (triple)\"),3,2))))","v":1},{"$f":"IF($O320=\"Sunpower Corp.\",3,(IF(OR($Q320=\"mono\",$Q320=\"poly\",$Q320=\"HIT\",$Q320=\"EFG\",$Q320=\"mono-LGBC\"),1,2)))","v":1},{"$f":"IF($O320=\"Sunpower Corp.\",3,(IF(OR($Q320=\"mono\",$Q320=\"poly\",$Q320=\"HIT\",$Q320=\"EFG\",$Q320=\"mono-LGBC\"),1,IF(OR($Q320=\"µc-Si / a-Si\",$Q320=\"a-Si (single)\",$Q320=\"a-Si (tandem)\",$Q320=\"a-Si (triple)\"),3,2))))","v":1},0,null,null,30568,null,null,318]
["Aleo Solar AG aleo S_79 240 sol","Aleo Solar AG ","aleo S_79 240 sol",240,"+2,08...0",29.8,8.0500000000000007,36.799999999999997,8.56,-125.12,2.5680000000000001,-0.48,1000,null,null,13.862700462341309,"mono",60,"pseudo-square",1704,1016,17,"aluminum","junction box MC old",21,"www.aleo-solar.de","-","-","-","-","-",{"$f":"IF($O321=\"Sunpower Corp.\",3,(IF(OR($Q321=\"mono\",$Q321=\"poly\",$Q321=\"HIT\",$Q321=\"EFG\",$Q321=\"mono-LGBC\"),1,IF(OR($Q321=\"µc-Si / a-Si\",$Q321=\"a-Si (single)\",$Q321=\"a-Si (tandem)\",$Q321=\"a-Si (triple)\"),3,2))))","v":1},{"$f":"IF($O321=\"Sunpower Corp.\",3,(IF(OR($Q321=\"mono\",$Q321=\"poly\",$Q321=\"HIT\",$Q321=\"EFG\",$Q321=\"mono-LGBC\"),1,2)))","v":1},{"$f":"IF($O321=\"Sunpower Corp.\",3,(IF(OR($Q321=\"mono\",$Q321=\"poly\",$Q321=\"HIT\",$Q321=\"EFG\",$Q321=\"mono-LGBC\"),1,IF(OR($Q321=\"µc-Si / a-Si\",$Q321=\"a-Si (single)\",$Q321=\"a-Si (tandem)\",$Q321=\"a-Si (triple)\"),3,2))))","v":1},0,null,null,30571,null,null,319]
["Aleo Solar AG aleo S_79 245","Aleo Solar AG ","aleo S_79 245",245,"+2,04...0",30.2,8.1,37.200000000000003,8.6,-126.48,2.58,-0.48,1000,null,null,14.908120155334473,"mono",60,"pseudo-square",1660,990,50,"aluminum","junction box MC old",21,"www.aleo-solar.de","-","-","-","-","-",{"$f":"IF($O322=\"Sunpower Corp.\",3,(IF(OR($Q322=\"mono\",$Q322=\"poly\",$Q322=\"HIT\",$Q322=\"EFG\",$Q322=\"mono-LGBC\"),1,IF(OR($Q322=\"µc-Si / a-Si\",$Q322=\"a-Si (single)\",$Q322=\"a-Si (tandem)\",$Q322=\"a-Si (triple)\"),3,2))))","v":1},{"$f":"IF($O322=\"Sunpower Corp.\",3,(IF(OR($Q322=\"mono\",$Q322=\"poly\",$Q322=\"HIT\",$Q322=\"EFG\",$Q322=\"mono-LGBC\"),1,2)))","v":1},{"$f":"IF($O322=\"Sunpower Corp.\",3,(IF(OR($Q322=\"mono\",$Q322=\"poly\",$Q322=\"HIT\",$Q322=\"EFG\",$Q322=\"mono-LGBC\"),1,IF(OR($Q322=\"µc-Si / a-Si\",$Q322=\"a-Si (single)\",$Q322=\"a-Si (tandem)\",$Q322=\"a-Si (triple)\"),3,2))))","v":1},0,null,null,30569,null,null,320]
["Aleo Solar AG aleo S_79 245 sol","Aleo Solar AG ","aleo S_79 245 sol",245,"+2,04...0",30.2,8.1,37.200000000000003,8.6,-126.48,2.58,-0.48,1000,null,null,14.151510238647461,"mono",60,"pseudo-square",1704,1016,17,"aluminum","junction box MC old",21,"www.aleo-solar.de","-","-","-","-","-",{"$f":"IF($O323=\"Sunpower Corp.\",3,(IF(OR($Q323=\"mono\",$Q323=\"poly\",$Q323=\"HIT\",$Q323=\"EFG\",$Q323=\"mono-LGBC\"),1,IF(OR($Q323=\"µc-Si / a-Si\",$Q323=\"a-Si (single)\",$Q323=\"a-Si (tandem)\",$Q323=\"a-Si (triple)\"),3,2))))","v":1},{"$f":"IF($O323=\"Sunpower Corp.\",3,(IF(OR($Q323=\"mono\",$Q323=\"poly\",$Q323=\"HIT\",$Q323=\"EFG\",$Q323=\"mono-LGBC\"),1,2)))","v":1},{"$f":"IF($O323=\"Sunpower Corp.\",3,(IF(OR($Q323=\"mono\",$Q323=\"poly\",$Q323=\"HIT\",$Q323=\"EFG\",$Q323=\"mono-LGBC\"),1,IF(OR($Q323=\"µc-Si / a-Si\",$Q323=\"a-Si (single)\",$Q323=\"a-Si (tandem)\",$Q323=\"a-Si (triple)\"),3,2))))","v":1},0,null,null,30572,null,null,321]
["Aleo Solar AG  Aleo S-19  Sol 285W","Aleo Solar AG ","Aleo S-19 Sol 285W","285,0","3,0","31,3","9,1","39,2","9,73","-117,6","4,86","-0,43","1000,0","-","-","16,45","mono",60,"-","1016,0","1704,0","36,0","-","-","19,0","-","-","-","-","-","-",{"$f":"IF($O324=\"Sunpower Corp.\",3,(IF(OR($Q324=\"mono\",$Q324=\"poly\",$Q324=\"HIT\",$Q324=\"EFG\",$Q324=\"mono-LGBC\"),1,IF(OR($Q324=\"µc-Si / a-Si\",$Q324=\"a-Si (single)\",$Q324=\"a-Si (tandem)\",$Q324=\"a-Si (triple)\"),3,2))))","v":1},{"$f":"IF($O324=\"Sunpower Corp.\",3,(IF(OR($Q324=\"mono\",$Q324=\"poly\",$Q324=\"HIT\",$Q324=\"EFG\",$Q324=\"mono-LGBC\"),1,2)))","v":1},{"$f":"IF($O324=\"Sunpower Corp.\",3,(IF(OR($Q324=\"mono\",$Q324=\"poly\",$Q324=\"HIT\",$Q324=\"EFG\",$Q324=\"mono-LGBC\"),1,IF(OR($Q324=\"µc-Si / a-Si\",$Q324=\"a-Si (single)\",$Q324=\"a-Si (tandem)\",$Q324=\"a-Si (triple)\"),3,2))))","v":1},null,null,null,"NEW",null,null,322]
["alfasolar Vertriebs-GmbH alfasolar 120 P-6 (120)","alfasolar Vertriebs-GmbH ","alfasolar 120 P-6 (120)",120,"+3...-3",17.100000000000001,7,22,8.2100000000000009,-72.599999999999994,5.7470000000000017,-0.43,1000,"Germany","Photovoltech NV SA",12.243840217590332,"poly",36,"square",1465,669,34,"aluminum","junction box",10.5,"www.alfasolar.de","-","-","-","-","-",{"$f":"IF($O325=\"Sunpower Corp.\",3,(IF(OR($Q325=\"mono\",$Q325=\"poly\",$Q325=\"HIT\",$Q325=\"EFG\",$Q325=\"mono-LGBC\"),1,IF(OR($Q325=\"µc-Si / a-Si\",$Q325=\"a-Si (single)\",$Q325=\"a-Si (tandem)\",$Q325=\"a-Si (triple)\"),3,2))))","v":1},{"$f":"IF($O325=\"Sunpower Corp.\",3,(IF(OR($Q325=\"mono\",$Q325=\"poly\",$Q325=\"HIT\",$Q325=\"EFG\",$Q325=\"mono-LGBC\"),1,2)))","v":1},{"$f":"IF($O325=\"Sunpower Corp.\",3,(IF(OR($Q325=\"mono\",$Q325=\"poly\",$Q325=\"HIT\",$Q325=\"EFG\",$Q325=\"mono-LGBC\"),1,IF(OR($Q325=\"µc-Si / a-Si\",$Q325=\"a-Si (single)\",$Q325=\"a-Si (tandem)\",$Q325=\"a-Si (triple)\"),3,2))))","v":1},0,null,null,3731,null,null,323]
["alfasolar Vertriebs-GmbH alfasolar 120 P-6 (125)","alfasolar Vertriebs-GmbH ","alfasolar 120 P-6 (125)",125,"+3...-3",17.2,7.3,22,8.26,-72.599999999999994,5.7820000000000009,-0.43,1000,"Germany","Photovoltech NV SA",12.753999710083008,"poly",36,"square",1465,669,34,"aluminum","junction box",10.5,"www.alfasolar.de","-","-","-","-","-",{"$f":"IF($O326=\"Sunpower Corp.\",3,(IF(OR($Q326=\"mono\",$Q326=\"poly\",$Q326=\"HIT\",$Q326=\"EFG\",$Q326=\"mono-LGBC\"),1,IF(OR($Q326=\"µc-Si / a-Si\",$Q326=\"a-Si (single)\",$Q326=\"a-Si (tandem)\",$Q326=\"a-Si (triple)\"),3,2))))","v":1},{"$f":"IF($O326=\"Sunpower Corp.\",3,(IF(OR($Q326=\"mono\",$Q326=\"poly\",$Q326=\"HIT\",$Q326=\"EFG\",$Q326=\"mono-LGBC\"),1,2)))","v":1},{"$f":"IF($O326=\"Sunpower Corp.\",3,(IF(OR($Q326=\"mono\",$Q326=\"poly\",$Q326=\"HIT\",$Q326=\"EFG\",$Q326=\"mono-LGBC\"),1,IF(OR($Q326=\"µc-Si / a-Si\",$Q326=\"a-Si (single)\",$Q326=\"a-Si (tandem)\",$Q326=\"a-Si (triple)\"),3,2))))","v":1},0,null,null,3300,null,null,324]
["alfasolar Vertriebs-GmbH alfasolar 120 P-6 (130)","alfasolar Vertriebs-GmbH ","alfasolar 120 P-6 (130)",130,"+3...-3",16.760000000000002,7.76,22.2,8.7100000000000009,-73.260000000000005,6.0970000000000013,-0.43,1000,"Germany","Photovoltech NV SA",13.26416015625,"poly",36,"square",1465,669,34,"aluminum","junction box",10.5,"www.alfasolar.de","-","-","-","-","-",{"$f":"IF($O327=\"Sunpower Corp.\",3,(IF(OR($Q327=\"mono\",$Q327=\"poly\",$Q327=\"HIT\",$Q327=\"EFG\",$Q327=\"mono-LGBC\"),1,IF(OR($Q327=\"µc-Si / a-Si\",$Q327=\"a-Si (single)\",$Q327=\"a-Si (tandem)\",$Q327=\"a-Si (triple)\"),3,2))))","v":1},{"$f":"IF($O327=\"Sunpower Corp.\",3,(IF(OR($Q327=\"mono\",$Q327=\"poly\",$Q327=\"HIT\",$Q327=\"EFG\",$Q327=\"mono-LGBC\"),1,2)))","v":1},{"$f":"IF($O327=\"Sunpower Corp.\",3,(IF(OR($Q327=\"mono\",$Q327=\"poly\",$Q327=\"HIT\",$Q327=\"EFG\",$Q327=\"mono-LGBC\"),1,IF(OR($Q327=\"µc-Si / a-Si\",$Q327=\"a-Si (single)\",$Q327=\"a-Si (tandem)\",$Q327=\"a-Si (triple)\"),3,2))))","v":1},0,null,null,3301,null,null,325]
["alfasolar Vertriebs-GmbH alfasolar 120 P-6 (135)","alfasolar Vertriebs-GmbH ","alfasolar 120 P-6 (135)",135,"+3...-3",17.03,7.93,22.2,8.7100000000000009,-73.260000000000005,6.0970000000000013,-0.43,1000,"Germany","Photovoltech NV SA",13.774319648742676,"poly",36,"square",1465,669,34,"aluminum","junction box",10.5,"www.alfasolar.de","-","-","-","-","-",{"$f":"IF($O328=\"Sunpower Corp.\",3,(IF(OR($Q328=\"mono\",$Q328=\"poly\",$Q328=\"HIT\",$Q328=\"EFG\",$Q328=\"mono-LGBC\"),1,IF(OR($Q328=\"µc-Si / a-Si\",$Q328=\"a-Si (single)\",$Q328=\"a-Si (tandem)\",$Q328=\"a-Si (triple)\"),3,2))))","v":1},{"$f":"IF($O328=\"Sunpower Corp.\",3,(IF(OR($Q328=\"mono\",$Q328=\"poly\",$Q328=\"HIT\",$Q328=\"EFG\",$Q328=\"mono-LGBC\"),1,2)))","v":1},{"$f":"IF($O328=\"Sunpower Corp.\",3,(IF(OR($Q328=\"mono\",$Q328=\"poly\",$Q328=\"HIT\",$Q328=\"EFG\",$Q328=\"mono-LGBC\"),1,IF(OR($Q328=\"µc-Si / a-Si\",$Q328=\"a-Si (single)\",$Q328=\"a-Si (tandem)\",$Q328=\"a-Si (triple)\"),3,2))))","v":1},0,null,null,3302,null,null,326]
["alfasolar Vertriebs-GmbH alfasolar 120 P-6 (140)","alfasolar Vertriebs-GmbH ","alfasolar 120 P-6 (140)",140,"+3...-3",17.309999999999999,8.09,22.6,8.83,-74.58,6.1810000000000009,-0.43,1000,"Germany","Photovoltech NV SA",14.284480094909668,"poly",36,"square",1465,669,34,"aluminum","junction box",10.5,"www.alfasolar.de","-","-","-","-","-",{"$f":"IF($O329=\"Sunpower Corp.\",3,(IF(OR($Q329=\"mono\",$Q329=\"poly\",$Q329=\"HIT\",$Q329=\"EFG\",$Q329=\"mono-LGBC\"),1,IF(OR($Q329=\"µc-Si / a-Si\",$Q329=\"a-Si (single)\",$Q329=\"a-Si (tandem)\",$Q329=\"a-Si (triple)\"),3,2))))","v":1},{"$f":"IF($O329=\"Sunpower Corp.\",3,(IF(OR($Q329=\"mono\",$Q329=\"poly\",$Q329=\"HIT\",$Q329=\"EFG\",$Q329=\"mono-LGBC\"),1,2)))","v":1},{"$f":"IF($O329=\"Sunpower Corp.\",3,(IF(OR($Q329=\"mono\",$Q329=\"poly\",$Q329=\"HIT\",$Q329=\"EFG\",$Q329=\"mono-LGBC\"),1,IF(OR($Q329=\"µc-Si / a-Si\",$Q329=\"a-Si (single)\",$Q329=\"a-Si (tandem)\",$Q329=\"a-Si (triple)\"),3,2))))","v":1},0,null,null,14013,null,null,327]
["alfasolar Vertriebs-GmbH alfasolar 65P","alfasolar Vertriebs-GmbH ","alfasolar 65P",65,"+10...-10",17.559999999999999,3.7,21.8,4.16,-71.94,2.9120000000000004,-0.4,1000,"Germany",null,12.599340438842773,"poly",36,"rectangular",770,670,34,"aluminum","junction box",6.2,"www.alfasolar.de","-","-","-","-","-",{"$f":"IF($O330=\"Sunpower Corp.\",3,(IF(OR($Q330=\"mono\",$Q330=\"poly\",$Q330=\"HIT\",$Q330=\"EFG\",$Q330=\"mono-LGBC\"),1,IF(OR($Q330=\"µc-Si / a-Si\",$Q330=\"a-Si (single)\",$Q330=\"a-Si (tandem)\",$Q330=\"a-Si (triple)\"),3,2))))","v":1},{"$f":"IF($O330=\"Sunpower Corp.\",3,(IF(OR($Q330=\"mono\",$Q330=\"poly\",$Q330=\"HIT\",$Q330=\"EFG\",$Q330=\"mono-LGBC\"),1,2)))","v":1},{"$f":"IF($O330=\"Sunpower Corp.\",3,(IF(OR($Q330=\"mono\",$Q330=\"poly\",$Q330=\"HIT\",$Q330=\"EFG\",$Q330=\"mono-LGBC\"),1,IF(OR($Q330=\"µc-Si / a-Si\",$Q330=\"a-Si (single)\",$Q330=\"a-Si (tandem)\",$Q330=\"a-Si (triple)\"),3,2))))","v":1},0,null,null,3730,null,null,328]
["alfasolar Vertriebs-GmbH alfasolar Pyramid 54 195","alfasolar Vertriebs-GmbH ","alfasolar Pyramid 54 195",195,"+2,5...0",25.06,7.82,33.18,8.66,-109.494,6.0620000000000003,-0.4,1000,"Germany","Photovoltech NV SA",13.499569892883301,"poly",54,"square",1465,986,35,"aluminum","cable H + S",18.2,"www.alfasolar.de","-","-","-","-","-",{"$f":"IF($O331=\"Sunpower Corp.\",3,(IF(OR($Q331=\"mono\",$Q331=\"poly\",$Q331=\"HIT\",$Q331=\"EFG\",$Q331=\"mono-LGBC\"),1,IF(OR($Q331=\"µc-Si / a-Si\",$Q331=\"a-Si (single)\",$Q331=\"a-Si (tandem)\",$Q331=\"a-Si (triple)\"),3,2))))","v":1},{"$f":"IF($O331=\"Sunpower Corp.\",3,(IF(OR($Q331=\"mono\",$Q331=\"poly\",$Q331=\"HIT\",$Q331=\"EFG\",$Q331=\"mono-LGBC\"),1,2)))","v":1},{"$f":"IF($O331=\"Sunpower Corp.\",3,(IF(OR($Q331=\"mono\",$Q331=\"poly\",$Q331=\"HIT\",$Q331=\"EFG\",$Q331=\"mono-LGBC\"),1,IF(OR($Q331=\"µc-Si / a-Si\",$Q331=\"a-Si (single)\",$Q331=\"a-Si (tandem)\",$Q331=\"a-Si (triple)\"),3,2))))","v":1},0,null,null,3724,null,null,329]
["alfasolar Vertriebs-GmbH alfasolar Pyramid 54 200","alfasolar Vertriebs-GmbH ","alfasolar Pyramid 54 200",200,"+2,5...0",25.27,7.95,33.200000000000003,8.7200000000000006,-109.56,6.104000000000001,-0.4,1000,"Germany","Photovoltech NV SA",13.845720291137695,"poly",54,"square",1465,986,35,"aluminum","cable H + S",18.2,"www.alfasolar.de","-","-","-","-","-",{"$f":"IF($O332=\"Sunpower Corp.\",3,(IF(OR($Q332=\"mono\",$Q332=\"poly\",$Q332=\"HIT\",$Q332=\"EFG\",$Q332=\"mono-LGBC\"),1,IF(OR($Q332=\"µc-Si / a-Si\",$Q332=\"a-Si (single)\",$Q332=\"a-Si (tandem)\",$Q332=\"a-Si (triple)\"),3,2))))","v":1},{"$f":"IF($O332=\"Sunpower Corp.\",3,(IF(OR($Q332=\"mono\",$Q332=\"poly\",$Q332=\"HIT\",$Q332=\"EFG\",$Q332=\"mono-LGBC\"),1,2)))","v":1},{"$f":"IF($O332=\"Sunpower Corp.\",3,(IF(OR($Q332=\"mono\",$Q332=\"poly\",$Q332=\"HIT\",$Q332=\"EFG\",$Q332=\"mono-LGBC\"),1,IF(OR($Q332=\"µc-Si / a-Si\",$Q332=\"a-Si (single)\",$Q332=\"a-Si (tandem)\",$Q332=\"a-Si (triple)\"),3,2))))","v":1},0,null,null,3725,null,null,330]
["alfasolar Vertriebs-GmbH alfasolar Pyramid 54 205","alfasolar Vertriebs-GmbH ","alfasolar Pyramid 54 205",205,"+1,5...-1",25.32,8.1,33.299999999999997,8.8000000000000007,-109.89,6.16,-0.4,1000,"Germany","Photovoltech NV SA",14.191860198974609,"poly",54,"square",1465,986,35,"aluminum","cable H + S",18.2,"www.alfasolar.de","-","-","-","-","-",{"$f":"IF($O333=\"Sunpower Corp.\",3,(IF(OR($Q333=\"mono\",$Q333=\"poly\",$Q333=\"HIT\",$Q333=\"EFG\",$Q333=\"mono-LGBC\"),1,IF(OR($Q333=\"µc-Si / a-Si\",$Q333=\"a-Si (single)\",$Q333=\"a-Si (tandem)\",$Q333=\"a-Si (triple)\"),3,2))))","v":1},{"$f":"IF($O333=\"Sunpower Corp.\",3,(IF(OR($Q333=\"mono\",$Q333=\"poly\",$Q333=\"HIT\",$Q333=\"EFG\",$Q333=\"mono-LGBC\"),1,2)))","v":1},{"$f":"IF($O333=\"Sunpower Corp.\",3,(IF(OR($Q333=\"mono\",$Q333=\"poly\",$Q333=\"HIT\",$Q333=\"EFG\",$Q333=\"mono-LGBC\"),1,IF(OR($Q333=\"µc-Si / a-Si\",$Q333=\"a-Si (single)\",$Q333=\"a-Si (tandem)\",$Q333=\"a-Si (triple)\"),3,2))))","v":1},0,null,null,3726,null,null,331]
["alfasolar Vertriebs-GmbH alfasolar Pyramid 54 210","alfasolar Vertriebs-GmbH ","alfasolar Pyramid 54 210",210,"+1,5...-1",25.58,8.2100000000000009,33.5,8.89,-110.55,6.2230000000000008,-0.4,1000,"Germany","Photovoltech NV SA",14.538000106811523,"poly",54,"square",1465,986,35,"aluminum","cable H + S",18.2,"www.alfasolar.de","-","-","-","-","-",{"$f":"IF($O334=\"Sunpower Corp.\",3,(IF(OR($Q334=\"mono\",$Q334=\"poly\",$Q334=\"HIT\",$Q334=\"EFG\",$Q334=\"mono-LGBC\"),1,IF(OR($Q334=\"µc-Si / a-Si\",$Q334=\"a-Si (single)\",$Q334=\"a-Si (tandem)\",$Q334=\"a-Si (triple)\"),3,2))))","v":1},{"$f":"IF($O334=\"Sunpower Corp.\",3,(IF(OR($Q334=\"mono\",$Q334=\"poly\",$Q334=\"HIT\",$Q334=\"EFG\",$Q334=\"mono-LGBC\"),1,2)))","v":1},{"$f":"IF($O334=\"Sunpower Corp.\",3,(IF(OR($Q334=\"mono\",$Q334=\"poly\",$Q334=\"HIT\",$Q334=\"EFG\",$Q334=\"mono-LGBC\"),1,IF(OR($Q334=\"µc-Si / a-Si\",$Q334=\"a-Si (single)\",$Q334=\"a-Si (tandem)\",$Q334=\"a-Si (triple)\"),3,2))))","v":1},0,null,null,3727,null,null,332]
["alfasolar Vertriebs-GmbH alfasolar Pyramid 54 215","alfasolar Vertriebs-GmbH ","alfasolar Pyramid 54 215",215,"+2,5...0",25.88,8.31,33.54,8.9499999999999993,-110.682,6.2649999999999997,-0.4,1000,"Germany","Photovoltech NV SA",14.884149551391602,"poly",54,"square",1465,986,35,"aluminum","cable H + S",18.2,"www.alfasolar.de","-","-","-","-","-",{"$f":"IF($O335=\"Sunpower Corp.\",3,(IF(OR($Q335=\"mono\",$Q335=\"poly\",$Q335=\"HIT\",$Q335=\"EFG\",$Q335=\"mono-LGBC\"),1,IF(OR($Q335=\"µc-Si / a-Si\",$Q335=\"a-Si (single)\",$Q335=\"a-Si (tandem)\",$Q335=\"a-Si (triple)\"),3,2))))","v":1},{"$f":"IF($O335=\"Sunpower Corp.\",3,(IF(OR($Q335=\"mono\",$Q335=\"poly\",$Q335=\"HIT\",$Q335=\"EFG\",$Q335=\"mono-LGBC\"),1,2)))","v":1},{"$f":"IF($O335=\"Sunpower Corp.\",3,(IF(OR($Q335=\"mono\",$Q335=\"poly\",$Q335=\"HIT\",$Q335=\"EFG\",$Q335=\"mono-LGBC\"),1,IF(OR($Q335=\"µc-Si / a-Si\",$Q335=\"a-Si (single)\",$Q335=\"a-Si (tandem)\",$Q335=\"a-Si (triple)\"),3,2))))","v":1},0,null,null,3728,null,null,333]
["alfasolar Vertriebs-GmbH alfasolar Pyramid 54 220","alfasolar Vertriebs-GmbH ","alfasolar Pyramid 54 220",220,"+2,5...0",26.1,8.43,33.6,9.1,-110.88,6.37,-0.4,1000,"Germany",null,15.230290412902832,"poly",54,"square",1465,986,35,"aluminum","cable H + S",18.2,"www.alfasolar.de","-","-","-","-","-",{"$f":"IF($O336=\"Sunpower Corp.\",3,(IF(OR($Q336=\"mono\",$Q336=\"poly\",$Q336=\"HIT\",$Q336=\"EFG\",$Q336=\"mono-LGBC\"),1,IF(OR($Q336=\"µc-Si / a-Si\",$Q336=\"a-Si (single)\",$Q336=\"a-Si (tandem)\",$Q336=\"a-Si (triple)\"),3,2))))","v":1},{"$f":"IF($O336=\"Sunpower Corp.\",3,(IF(OR($Q336=\"mono\",$Q336=\"poly\",$Q336=\"HIT\",$Q336=\"EFG\",$Q336=\"mono-LGBC\"),1,2)))","v":1},{"$f":"IF($O336=\"Sunpower Corp.\",3,(IF(OR($Q336=\"mono\",$Q336=\"poly\",$Q336=\"HIT\",$Q336=\"EFG\",$Q336=\"mono-LGBC\"),1,IF(OR($Q336=\"µc-Si / a-Si\",$Q336=\"a-Si (single)\",$Q336=\"a-Si (tandem)\",$Q336=\"a-Si (triple)\"),3,2))))","v":1},0,null,null,11581,null,null,334]
["alfasolar Vertriebs-GmbH alfasolar Pyramid 60 222","alfasolar Vertriebs-GmbH ","alfasolar Pyramid 60 222",222,"+1,8...0",27.69,8.02,36.409999999999997,8.76,-120.15299999999998,6.1320000000000014,-0.4,1000,"Germany","Photovoltech NV SA",13.872590065002441,"poly",60,"square",1623,986,35,"aluminum","cable H + S",20.399999999999999,"www.alfasolar.de","-","-","-","-","-",{"$f":"IF($O337=\"Sunpower Corp.\",3,(IF(OR($Q337=\"mono\",$Q337=\"poly\",$Q337=\"HIT\",$Q337=\"EFG\",$Q337=\"mono-LGBC\"),1,IF(OR($Q337=\"µc-Si / a-Si\",$Q337=\"a-Si (single)\",$Q337=\"a-Si (tandem)\",$Q337=\"a-Si (triple)\"),3,2))))","v":1},{"$f":"IF($O337=\"Sunpower Corp.\",3,(IF(OR($Q337=\"mono\",$Q337=\"poly\",$Q337=\"HIT\",$Q337=\"EFG\",$Q337=\"mono-LGBC\"),1,2)))","v":1},{"$f":"IF($O337=\"Sunpower Corp.\",3,(IF(OR($Q337=\"mono\",$Q337=\"poly\",$Q337=\"HIT\",$Q337=\"EFG\",$Q337=\"mono-LGBC\"),1,IF(OR($Q337=\"µc-Si / a-Si\",$Q337=\"a-Si (single)\",$Q337=\"a-Si (tandem)\",$Q337=\"a-Si (triple)\"),3,2))))","v":1},0,null,null,9017,null,null,335]
["alfasolar Vertriebs-GmbH alfasolar Pyramid 60 226","alfasolar Vertriebs-GmbH ","alfasolar Pyramid 60 226",226,"+1,8...0",27.94,8.09,36.630000000000003,8.83,-120.87900000000002,6.1810000000000009,-0.4,1000,"Germany","Photovoltech NV SA",14.122550010681152,"poly",60,"square",1623,986,35,"aluminum","cable H + S",20.399999999999999,"www.alfasolar.de","-","-","-","-","-",{"$f":"IF($O338=\"Sunpower Corp.\",3,(IF(OR($Q338=\"mono\",$Q338=\"poly\",$Q338=\"HIT\",$Q338=\"EFG\",$Q338=\"mono-LGBC\"),1,IF(OR($Q338=\"µc-Si / a-Si\",$Q338=\"a-Si (single)\",$Q338=\"a-Si (tandem)\",$Q338=\"a-Si (triple)\"),3,2))))","v":1},{"$f":"IF($O338=\"Sunpower Corp.\",3,(IF(OR($Q338=\"mono\",$Q338=\"poly\",$Q338=\"HIT\",$Q338=\"EFG\",$Q338=\"mono-LGBC\"),1,2)))","v":1},{"$f":"IF($O338=\"Sunpower Corp.\",3,(IF(OR($Q338=\"mono\",$Q338=\"poly\",$Q338=\"HIT\",$Q338=\"EFG\",$Q338=\"mono-LGBC\"),1,IF(OR($Q338=\"µc-Si / a-Si\",$Q338=\"a-Si (single)\",$Q338=\"a-Si (tandem)\",$Q338=\"a-Si (triple)\"),3,2))))","v":1},0,null,null,9517,null,null,336]
["alfasolar Vertriebs-GmbH alfasolar Pyramid 60 229","alfasolar Vertriebs-GmbH ","alfasolar Pyramid 60 229",229,"+1,8...0",28.07,8.16,36.78,8.8800000000000008,-121.37400000000001,6.2160000000000011,-0.4,1000,"Germany","Photovoltech NV SA",14.310009956359863,"poly",60,"square",1623,986,35,"aluminum","cable H + S",20.399999999999999,"www.alfasolar.de","-","-","-","-","-",{"$f":"IF($O339=\"Sunpower Corp.\",3,(IF(OR($Q339=\"mono\",$Q339=\"poly\",$Q339=\"HIT\",$Q339=\"EFG\",$Q339=\"mono-LGBC\"),1,IF(OR($Q339=\"µc-Si / a-Si\",$Q339=\"a-Si (single)\",$Q339=\"a-Si (tandem)\",$Q339=\"a-Si (triple)\"),3,2))))","v":1},{"$f":"IF($O339=\"Sunpower Corp.\",3,(IF(OR($Q339=\"mono\",$Q339=\"poly\",$Q339=\"HIT\",$Q339=\"EFG\",$Q339=\"mono-LGBC\"),1,2)))","v":1},{"$f":"IF($O339=\"Sunpower Corp.\",3,(IF(OR($Q339=\"mono\",$Q339=\"poly\",$Q339=\"HIT\",$Q339=\"EFG\",$Q339=\"mono-LGBC\"),1,IF(OR($Q339=\"µc-Si / a-Si\",$Q339=\"a-Si (single)\",$Q339=\"a-Si (tandem)\",$Q339=\"a-Si (triple)\"),3,2))))","v":1},0,null,null,9518,null,null,337]
["alfasolar Vertriebs-GmbH alfasolar Pyramid 60 233","alfasolar Vertriebs-GmbH ","alfasolar Pyramid 60 233",233,"+1,8...0",28.28,8.24,37.049999999999997,8.9499999999999993,-122.265,6.2649999999999997,-0.4,1000,"Germany","Photovoltech NV SA",14.559969902038574,"poly",60,"square",1623,986,35,"aluminum","cable H + S",20.399999999999999,"www.alfasolar.de","-","-","-","-","-",{"$f":"IF($O340=\"Sunpower Corp.\",3,(IF(OR($Q340=\"mono\",$Q340=\"poly\",$Q340=\"HIT\",$Q340=\"EFG\",$Q340=\"mono-LGBC\"),1,IF(OR($Q340=\"µc-Si / a-Si\",$Q340=\"a-Si (single)\",$Q340=\"a-Si (tandem)\",$Q340=\"a-Si (triple)\"),3,2))))","v":1},{"$f":"IF($O340=\"Sunpower Corp.\",3,(IF(OR($Q340=\"mono\",$Q340=\"poly\",$Q340=\"HIT\",$Q340=\"EFG\",$Q340=\"mono-LGBC\"),1,2)))","v":1},{"$f":"IF($O340=\"Sunpower Corp.\",3,(IF(OR($Q340=\"mono\",$Q340=\"poly\",$Q340=\"HIT\",$Q340=\"EFG\",$Q340=\"mono-LGBC\"),1,IF(OR($Q340=\"µc-Si / a-Si\",$Q340=\"a-Si (single)\",$Q340=\"a-Si (tandem)\",$Q340=\"a-Si (triple)\"),3,2))))","v":1},0,null,null,9519,null,null,338]
["alfasolar Vertriebs-GmbH alfasolar Pyramid 60 237","alfasolar Vertriebs-GmbH ","alfasolar Pyramid 60 237",237,"+1,8...0",28.52,8.31,37.369999999999997,9,-123.32099999999998,6.3,-0.4,1000,"Germany","Photovoltech NV SA",14.809929847717285,"poly",60,"square",1623,986,35,"aluminum","cable H + S",20.399999999999999,"www.alfasolar.de","-","-","-","-","-",{"$f":"IF($O341=\"Sunpower Corp.\",3,(IF(OR($Q341=\"mono\",$Q341=\"poly\",$Q341=\"HIT\",$Q341=\"EFG\",$Q341=\"mono-LGBC\"),1,IF(OR($Q341=\"µc-Si / a-Si\",$Q341=\"a-Si (single)\",$Q341=\"a-Si (tandem)\",$Q341=\"a-Si (triple)\"),3,2))))","v":1},{"$f":"IF($O341=\"Sunpower Corp.\",3,(IF(OR($Q341=\"mono\",$Q341=\"poly\",$Q341=\"HIT\",$Q341=\"EFG\",$Q341=\"mono-LGBC\"),1,2)))","v":1},{"$f":"IF($O341=\"Sunpower Corp.\",3,(IF(OR($Q341=\"mono\",$Q341=\"poly\",$Q341=\"HIT\",$Q341=\"EFG\",$Q341=\"mono-LGBC\"),1,IF(OR($Q341=\"µc-Si / a-Si\",$Q341=\"a-Si (single)\",$Q341=\"a-Si (tandem)\",$Q341=\"a-Si (triple)\"),3,2))))","v":1},0,null,null,9020,null,null,339]
["alfasolar Vertriebs-GmbH alfasolar Pyramid 60 241","alfasolar Vertriebs-GmbH ","alfasolar Pyramid 60 241",241,"+1,8...0",28.76,8.3800000000000008,37.46,9.0500000000000007,-123.61800000000001,6.335,-0.4,1000,"Germany","Photovoltech NV SA",15.059880256652832,"poly",60,"square",1623,986,35,"aluminum","cable H + S",20.399999999999999,"www.alfasolar.de","-","-","-","-","-",{"$f":"IF($O342=\"Sunpower Corp.\",3,(IF(OR($Q342=\"mono\",$Q342=\"poly\",$Q342=\"HIT\",$Q342=\"EFG\",$Q342=\"mono-LGBC\"),1,IF(OR($Q342=\"µc-Si / a-Si\",$Q342=\"a-Si (single)\",$Q342=\"a-Si (tandem)\",$Q342=\"a-Si (triple)\"),3,2))))","v":1},{"$f":"IF($O342=\"Sunpower Corp.\",3,(IF(OR($Q342=\"mono\",$Q342=\"poly\",$Q342=\"HIT\",$Q342=\"EFG\",$Q342=\"mono-LGBC\"),1,2)))","v":1},{"$f":"IF($O342=\"Sunpower Corp.\",3,(IF(OR($Q342=\"mono\",$Q342=\"poly\",$Q342=\"HIT\",$Q342=\"EFG\",$Q342=\"mono-LGBC\"),1,IF(OR($Q342=\"µc-Si / a-Si\",$Q342=\"a-Si (single)\",$Q342=\"a-Si (tandem)\",$Q342=\"a-Si (triple)\"),3,2))))","v":1},0,null,null,9520,null,null,340]
["alfasolar Vertriebs-GmbH alfasolar Pyramid 60 244","alfasolar Vertriebs-GmbH ","alfasolar Pyramid 60 244",244,"+1,8...0",28.95,8.43,37.56,9.1,-123.94800000000001,6.37,-0.4,1000,"Germany","Photovoltech NV SA",15.247349739074707,"poly",60,"square",1623,986,35,"aluminum","cable H + S",20.399999999999999,"www.alfasolar.de","-","-","-","-","-",{"$f":"IF($O343=\"Sunpower Corp.\",3,(IF(OR($Q343=\"mono\",$Q343=\"poly\",$Q343=\"HIT\",$Q343=\"EFG\",$Q343=\"mono-LGBC\"),1,IF(OR($Q343=\"µc-Si / a-Si\",$Q343=\"a-Si (single)\",$Q343=\"a-Si (tandem)\",$Q343=\"a-Si (triple)\"),3,2))))","v":1},{"$f":"IF($O343=\"Sunpower Corp.\",3,(IF(OR($Q343=\"mono\",$Q343=\"poly\",$Q343=\"HIT\",$Q343=\"EFG\",$Q343=\"mono-LGBC\"),1,2)))","v":1},{"$f":"IF($O343=\"Sunpower Corp.\",3,(IF(OR($Q343=\"mono\",$Q343=\"poly\",$Q343=\"HIT\",$Q343=\"EFG\",$Q343=\"mono-LGBC\"),1,IF(OR($Q343=\"µc-Si / a-Si\",$Q343=\"a-Si (single)\",$Q343=\"a-Si (tandem)\",$Q343=\"a-Si (triple)\"),3,2))))","v":1},0,null,null,9521,null,null,341]
["alfasolar Vertriebs-GmbH alfasolar Pyramid 80 296","alfasolar Vertriebs-GmbH ","alfasolar Pyramid 80 296",296,"+1,7...0",36.909999999999997,8.02,48.48,8.76,-159.98399999999998,6.1320000000000014,-0.4,1000,"Germany",null,13.996800422668457,"poly",80,"square",1623,1303,35,"aluminum","cable H + S",26,"www.alfasolar.de","-","-","-","-","-",{"$f":"IF($O344=\"Sunpower Corp.\",3,(IF(OR($Q344=\"mono\",$Q344=\"poly\",$Q344=\"HIT\",$Q344=\"EFG\",$Q344=\"mono-LGBC\"),1,IF(OR($Q344=\"µc-Si / a-Si\",$Q344=\"a-Si (single)\",$Q344=\"a-Si (tandem)\",$Q344=\"a-Si (triple)\"),3,2))))","v":1},{"$f":"IF($O344=\"Sunpower Corp.\",3,(IF(OR($Q344=\"mono\",$Q344=\"poly\",$Q344=\"HIT\",$Q344=\"EFG\",$Q344=\"mono-LGBC\"),1,2)))","v":1},{"$f":"IF($O344=\"Sunpower Corp.\",3,(IF(OR($Q344=\"mono\",$Q344=\"poly\",$Q344=\"HIT\",$Q344=\"EFG\",$Q344=\"mono-LGBC\"),1,IF(OR($Q344=\"µc-Si / a-Si\",$Q344=\"a-Si (single)\",$Q344=\"a-Si (tandem)\",$Q344=\"a-Si (triple)\"),3,2))))","v":1},0,null,null,9522,null,null,342]
["alfasolar Vertriebs-GmbH alfasolar Pyramid 80 301","alfasolar Vertriebs-GmbH ","alfasolar Pyramid 80 301",301,"+1,7...0",37.21,8.09,48.7,8.83,-160.71,6.1810000000000009,-0.4,1000,"Germany",null,14.233229637145996,"poly",80,"square",1623,1303,35,"aluminum","cable H + S",26,"www.alfasolar.de","-","-","-","-","-",{"$f":"IF($O345=\"Sunpower Corp.\",3,(IF(OR($Q345=\"mono\",$Q345=\"poly\",$Q345=\"HIT\",$Q345=\"EFG\",$Q345=\"mono-LGBC\"),1,IF(OR($Q345=\"µc-Si / a-Si\",$Q345=\"a-Si (single)\",$Q345=\"a-Si (tandem)\",$Q345=\"a-Si (triple)\"),3,2))))","v":1},{"$f":"IF($O345=\"Sunpower Corp.\",3,(IF(OR($Q345=\"mono\",$Q345=\"poly\",$Q345=\"HIT\",$Q345=\"EFG\",$Q345=\"mono-LGBC\"),1,2)))","v":1},{"$f":"IF($O345=\"Sunpower Corp.\",3,(IF(OR($Q345=\"mono\",$Q345=\"poly\",$Q345=\"HIT\",$Q345=\"EFG\",$Q345=\"mono-LGBC\"),1,IF(OR($Q345=\"µc-Si / a-Si\",$Q345=\"a-Si (single)\",$Q345=\"a-Si (tandem)\",$Q345=\"a-Si (triple)\"),3,2))))","v":1},0,null,null,9523,null,null,343]
["alfasolar Vertriebs-GmbH alfasolar Pyramid 80 306","alfasolar Vertriebs-GmbH ","alfasolar Pyramid 80 306",306,"+1,7...0",37.5,8.16,49.09,8.8800000000000008,-161.99700000000001,6.2160000000000011,-0.4,1000,"Germany",null,14.469670295715332,"poly",80,"square",1623,1303,35,"aluminum","cable H + S",26,"www.alfasolar.de","-","-","-","-","-",{"$f":"IF($O346=\"Sunpower Corp.\",3,(IF(OR($Q346=\"mono\",$Q346=\"poly\",$Q346=\"HIT\",$Q346=\"EFG\",$Q346=\"mono-LGBC\"),1,IF(OR($Q346=\"µc-Si / a-Si\",$Q346=\"a-Si (single)\",$Q346=\"a-Si (tandem)\",$Q346=\"a-Si (triple)\"),3,2))))","v":1},{"$f":"IF($O346=\"Sunpower Corp.\",3,(IF(OR($Q346=\"mono\",$Q346=\"poly\",$Q346=\"HIT\",$Q346=\"EFG\",$Q346=\"mono-LGBC\"),1,2)))","v":1},{"$f":"IF($O346=\"Sunpower Corp.\",3,(IF(OR($Q346=\"mono\",$Q346=\"poly\",$Q346=\"HIT\",$Q346=\"EFG\",$Q346=\"mono-LGBC\"),1,IF(OR($Q346=\"µc-Si / a-Si\",$Q346=\"a-Si (single)\",$Q346=\"a-Si (tandem)\",$Q346=\"a-Si (triple)\"),3,2))))","v":1},0,null,null,9524,null,null,344]
["alfasolar Vertriebs-GmbH alfasolar Pyramid 80 311","alfasolar Vertriebs-GmbH ","alfasolar Pyramid 80 311",311,"+1,7...0",37.75,8.24,49.37,8.9499999999999993,-162.92099999999999,6.2649999999999997,-0.4,1000,"Germany",null,14.706100463867188,"poly",80,"square",1623,1303,35,"aluminum","cable H + S",26,"www.alfasolar.de","-","-","-","-","-",{"$f":"IF($O347=\"Sunpower Corp.\",3,(IF(OR($Q347=\"mono\",$Q347=\"poly\",$Q347=\"HIT\",$Q347=\"EFG\",$Q347=\"mono-LGBC\"),1,IF(OR($Q347=\"µc-Si / a-Si\",$Q347=\"a-Si (single)\",$Q347=\"a-Si (tandem)\",$Q347=\"a-Si (triple)\"),3,2))))","v":1},{"$f":"IF($O347=\"Sunpower Corp.\",3,(IF(OR($Q347=\"mono\",$Q347=\"poly\",$Q347=\"HIT\",$Q347=\"EFG\",$Q347=\"mono-LGBC\"),1,2)))","v":1},{"$f":"IF($O347=\"Sunpower Corp.\",3,(IF(OR($Q347=\"mono\",$Q347=\"poly\",$Q347=\"HIT\",$Q347=\"EFG\",$Q347=\"mono-LGBC\"),1,IF(OR($Q347=\"µc-Si / a-Si\",$Q347=\"a-Si (single)\",$Q347=\"a-Si (tandem)\",$Q347=\"a-Si (triple)\"),3,2))))","v":1},0,null,null,9525,null,null,345]
["alfasolar Vertriebs-GmbH alfasolar Pyramid 80 316","alfasolar Vertriebs-GmbH ","alfasolar Pyramid 80 316",316,"+1,7...0",38.03,8.31,49.74,9,-164.142,6.3,-0.4,1000,"Germany",null,14.942529678344727,"poly",80,"square",1623,1303,35,"aluminum","cable H + S",26,"www.alfasolar.de","-","-","-","-","-",{"$f":"IF($O348=\"Sunpower Corp.\",3,(IF(OR($Q348=\"mono\",$Q348=\"poly\",$Q348=\"HIT\",$Q348=\"EFG\",$Q348=\"mono-LGBC\"),1,IF(OR($Q348=\"µc-Si / a-Si\",$Q348=\"a-Si (single)\",$Q348=\"a-Si (tandem)\",$Q348=\"a-Si (triple)\"),3,2))))","v":1},{"$f":"IF($O348=\"Sunpower Corp.\",3,(IF(OR($Q348=\"mono\",$Q348=\"poly\",$Q348=\"HIT\",$Q348=\"EFG\",$Q348=\"mono-LGBC\"),1,2)))","v":1},{"$f":"IF($O348=\"Sunpower Corp.\",3,(IF(OR($Q348=\"mono\",$Q348=\"poly\",$Q348=\"HIT\",$Q348=\"EFG\",$Q348=\"mono-LGBC\"),1,IF(OR($Q348=\"µc-Si / a-Si\",$Q348=\"a-Si (single)\",$Q348=\"a-Si (tandem)\",$Q348=\"a-Si (triple)\"),3,2))))","v":1},0,null,null,9526,null,null,346]
["alfasolar Vertriebs-GmbH alfasolar Pyramid 80 321","alfasolar Vertriebs-GmbH ","alfasolar Pyramid 80 321",321,"+1,7...0",38.31,8.3800000000000008,49.86,9.0500000000000007,-164.53799999999998,6.335,-0.4,1000,"Germany",null,15.178959846496582,"poly",80,"square",1623,1303,35,"aluminum","cable H + S",26,"www.alfasolar.de","-","-","-","-","-",{"$f":"IF($O349=\"Sunpower Corp.\",3,(IF(OR($Q349=\"mono\",$Q349=\"poly\",$Q349=\"HIT\",$Q349=\"EFG\",$Q349=\"mono-LGBC\"),1,IF(OR($Q349=\"µc-Si / a-Si\",$Q349=\"a-Si (single)\",$Q349=\"a-Si (tandem)\",$Q349=\"a-Si (triple)\"),3,2))))","v":1},{"$f":"IF($O349=\"Sunpower Corp.\",3,(IF(OR($Q349=\"mono\",$Q349=\"poly\",$Q349=\"HIT\",$Q349=\"EFG\",$Q349=\"mono-LGBC\"),1,2)))","v":1},{"$f":"IF($O349=\"Sunpower Corp.\",3,(IF(OR($Q349=\"mono\",$Q349=\"poly\",$Q349=\"HIT\",$Q349=\"EFG\",$Q349=\"mono-LGBC\"),1,IF(OR($Q349=\"µc-Si / a-Si\",$Q349=\"a-Si (single)\",$Q349=\"a-Si (tandem)\",$Q349=\"a-Si (triple)\"),3,2))))","v":1},0,null,null,9527,null,null,347]
["alfasolar Vertriebs-GmbH alfasolar Pyramid 80 326","alfasolar Vertriebs-GmbH ","alfasolar Pyramid 80 326",326,"+1,7...0",38.68,8.43,50.09,9.1,-165.297,6.37,-0.4,1000,"Germany",null,15.415390014648438,"poly",80,"square",1623,1303,35,"aluminum","cable H + S",26,"www.alfasolar.de","-","-","-","-","-",{"$f":"IF($O350=\"Sunpower Corp.\",3,(IF(OR($Q350=\"mono\",$Q350=\"poly\",$Q350=\"HIT\",$Q350=\"EFG\",$Q350=\"mono-LGBC\"),1,IF(OR($Q350=\"µc-Si / a-Si\",$Q350=\"a-Si (single)\",$Q350=\"a-Si (tandem)\",$Q350=\"a-Si (triple)\"),3,2))))","v":1},{"$f":"IF($O350=\"Sunpower Corp.\",3,(IF(OR($Q350=\"mono\",$Q350=\"poly\",$Q350=\"HIT\",$Q350=\"EFG\",$Q350=\"mono-LGBC\"),1,2)))","v":1},{"$f":"IF($O350=\"Sunpower Corp.\",3,(IF(OR($Q350=\"mono\",$Q350=\"poly\",$Q350=\"HIT\",$Q350=\"EFG\",$Q350=\"mono-LGBC\"),1,IF(OR($Q350=\"µc-Si / a-Si\",$Q350=\"a-Si (single)\",$Q350=\"a-Si (tandem)\",$Q350=\"a-Si (triple)\"),3,2))))","v":1},0,null,null,9528,null,null,348]
["alfasolar Vertriebs-GmbH Signet Solar SI S4-85.A2","alfasolar Vertriebs-GmbH ","Signet Solar SI S4-85.A2",87.300003051757813,"+3...-3",71.599999999999994,1.22,93.6,1.5,-280.8,1.5,-0.25,1000,"Germany",null,6.1048951148986816,"a-Si (single)",null,null,1300,1100,8,"frameless","junction box MC4",28.5,"www.alfasolar.de","-","-","-","-","-",{"$f":"IF($O351=\"Sunpower Corp.\",3,(IF(OR($Q351=\"mono\",$Q351=\"poly\",$Q351=\"HIT\",$Q351=\"EFG\",$Q351=\"mono-LGBC\"),1,IF(OR($Q351=\"µc-Si / a-Si\",$Q351=\"a-Si (single)\",$Q351=\"a-Si (tandem)\",$Q351=\"a-Si (triple)\"),3,2))))","v":3},{"$f":"IF($O351=\"Sunpower Corp.\",3,(IF(OR($Q351=\"mono\",$Q351=\"poly\",$Q351=\"HIT\",$Q351=\"EFG\",$Q351=\"mono-LGBC\"),1,2)))","v":2},{"$f":"IF($O351=\"Sunpower Corp.\",3,(IF(OR($Q351=\"mono\",$Q351=\"poly\",$Q351=\"HIT\",$Q351=\"EFG\",$Q351=\"mono-LGBC\"),1,IF(OR($Q351=\"µc-Si / a-Si\",$Q351=\"a-Si (single)\",$Q351=\"a-Si (tandem)\",$Q351=\"a-Si (triple)\"),3,2))))","v":3},0,null,null,26608,null,null,349]
["Alien Inspired Technologies AIT Sp. z o.o. AIT (120W)","Alien Inspired Technologies AIT Sp. z o.o. ","AIT (120W)",120,"+10...-10",16.100000000000001,7.45,21.6,7.9,-83.16,3.16,-0.47,1000,null,null,10.871029853820801,"poly",36,"rectangular",1531,721,35,"aluminum","cable",11,"www.ait-tech.eu","-","-","-","-","-",{"$f":"IF($O352=\"Sunpower Corp.\",3,(IF(OR($Q352=\"mono\",$Q352=\"poly\",$Q352=\"HIT\",$Q352=\"EFG\",$Q352=\"mono-LGBC\"),1,IF(OR($Q352=\"µc-Si / a-Si\",$Q352=\"a-Si (single)\",$Q352=\"a-Si (tandem)\",$Q352=\"a-Si (triple)\"),3,2))))","v":1},{"$f":"IF($O352=\"Sunpower Corp.\",3,(IF(OR($Q352=\"mono\",$Q352=\"poly\",$Q352=\"HIT\",$Q352=\"EFG\",$Q352=\"mono-LGBC\"),1,2)))","v":1},{"$f":"IF($O352=\"Sunpower Corp.\",3,(IF(OR($Q352=\"mono\",$Q352=\"poly\",$Q352=\"HIT\",$Q352=\"EFG\",$Q352=\"mono-LGBC\"),1,IF(OR($Q352=\"µc-Si / a-Si\",$Q352=\"a-Si (single)\",$Q352=\"a-Si (tandem)\",$Q352=\"a-Si (triple)\"),3,2))))","v":1},0,null,null,15199,null,null,350]
["Alien Inspired Technologies AIT Sp. z o.o. AIT (65W)","Alien Inspired Technologies AIT Sp. z o.o. ","AIT (65W)",65,"+10...-10",17.57,3.7,22,4.2,-84.7,1.68,-0.47,null,null,null,10.361869812011719,"poly",36,"rectangular",850,738,35,"aluminum","cable",8,"www.ait-tech.eu","-","-","-","-","-",{"$f":"IF($O353=\"Sunpower Corp.\",3,(IF(OR($Q353=\"mono\",$Q353=\"poly\",$Q353=\"HIT\",$Q353=\"EFG\",$Q353=\"mono-LGBC\"),1,IF(OR($Q353=\"µc-Si / a-Si\",$Q353=\"a-Si (single)\",$Q353=\"a-Si (tandem)\",$Q353=\"a-Si (triple)\"),3,2))))","v":1},{"$f":"IF($O353=\"Sunpower Corp.\",3,(IF(OR($Q353=\"mono\",$Q353=\"poly\",$Q353=\"HIT\",$Q353=\"EFG\",$Q353=\"mono-LGBC\"),1,2)))","v":1},{"$f":"IF($O353=\"Sunpower Corp.\",3,(IF(OR($Q353=\"mono\",$Q353=\"poly\",$Q353=\"HIT\",$Q353=\"EFG\",$Q353=\"mono-LGBC\"),1,IF(OR($Q353=\"µc-Si / a-Si\",$Q353=\"a-Si (single)\",$Q353=\"a-Si (tandem)\",$Q353=\"a-Si (triple)\"),3,2))))","v":1},0,null,null,15201,null,null,351]
["Alien Inspired Technologies AIT Sp. z o.o. AIT (90W)","Alien Inspired Technologies AIT Sp. z o.o. ","AIT (90W)",90,"+10...-10",null,null,22.5,5.65,-87.75,2.2599999999999998,-0.47,null,null,null,11.025970458984375,"poly",36,"rectangular",1067,765,35,"aluminum","cable",10,"www.ait-tech.eu","-","-","-","-","-",{"$f":"IF($O354=\"Sunpower Corp.\",3,(IF(OR($Q354=\"mono\",$Q354=\"poly\",$Q354=\"HIT\",$Q354=\"EFG\",$Q354=\"mono-LGBC\"),1,IF(OR($Q354=\"µc-Si / a-Si\",$Q354=\"a-Si (single)\",$Q354=\"a-Si (tandem)\",$Q354=\"a-Si (triple)\"),3,2))))","v":1},{"$f":"IF($O354=\"Sunpower Corp.\",3,(IF(OR($Q354=\"mono\",$Q354=\"poly\",$Q354=\"HIT\",$Q354=\"EFG\",$Q354=\"mono-LGBC\"),1,2)))","v":1},{"$f":"IF($O354=\"Sunpower Corp.\",3,(IF(OR($Q354=\"mono\",$Q354=\"poly\",$Q354=\"HIT\",$Q354=\"EFG\",$Q354=\"mono-LGBC\"),1,IF(OR($Q354=\"µc-Si / a-Si\",$Q354=\"a-Si (single)\",$Q354=\"a-Si (tandem)\",$Q354=\"a-Si (triple)\"),3,2))))","v":1},0,null,null,15200,null,null,352]
["Alien Inspired Technologies AIT Sp. z o.o. AIT-6 Classic (180W)","Alien Inspired Technologies AIT Sp. z o.o. ","AIT-6 Classic (180W)",180,"+3...-3",null,null,29.62,8.1,-115.51800000000001,3.24,-0.47,1000,null,null,13.736109733581543,"poly",48,"square",1317,995,40,"aluminum","cable",16,"www.ait-tech.eu","-","-","-","-","-",{"$f":"IF($O355=\"Sunpower Corp.\",3,(IF(OR($Q355=\"mono\",$Q355=\"poly\",$Q355=\"HIT\",$Q355=\"EFG\",$Q355=\"mono-LGBC\"),1,IF(OR($Q355=\"µc-Si / a-Si\",$Q355=\"a-Si (single)\",$Q355=\"a-Si (tandem)\",$Q355=\"a-Si (triple)\"),3,2))))","v":1},{"$f":"IF($O355=\"Sunpower Corp.\",3,(IF(OR($Q355=\"mono\",$Q355=\"poly\",$Q355=\"HIT\",$Q355=\"EFG\",$Q355=\"mono-LGBC\"),1,2)))","v":1},{"$f":"IF($O355=\"Sunpower Corp.\",3,(IF(OR($Q355=\"mono\",$Q355=\"poly\",$Q355=\"HIT\",$Q355=\"EFG\",$Q355=\"mono-LGBC\"),1,IF(OR($Q355=\"µc-Si / a-Si\",$Q355=\"a-Si (single)\",$Q355=\"a-Si (tandem)\",$Q355=\"a-Si (triple)\"),3,2))))","v":1},0,null,null,15196,null,null,353]
["Alien Inspired Technologies AIT Sp. z o.o. AIT-6 Classic (225W)","Alien Inspired Technologies AIT Sp. z o.o. ","AIT-6 Classic (225W)",225,"+3...-3",null,null,36.799999999999997,8.1999999999999993,-143.52000000000001,3.28,-0.47,1000,null,null,13.788450241088867,"poly",60,"square",1640,995,40,"aluminum","cable",21,"www.ait-tech.eu","-","-","-","-","-",{"$f":"IF($O356=\"Sunpower Corp.\",3,(IF(OR($Q356=\"mono\",$Q356=\"poly\",$Q356=\"HIT\",$Q356=\"EFG\",$Q356=\"mono-LGBC\"),1,IF(OR($Q356=\"µc-Si / a-Si\",$Q356=\"a-Si (single)\",$Q356=\"a-Si (tandem)\",$Q356=\"a-Si (triple)\"),3,2))))","v":1},{"$f":"IF($O356=\"Sunpower Corp.\",3,(IF(OR($Q356=\"mono\",$Q356=\"poly\",$Q356=\"HIT\",$Q356=\"EFG\",$Q356=\"mono-LGBC\"),1,2)))","v":1},{"$f":"IF($O356=\"Sunpower Corp.\",3,(IF(OR($Q356=\"mono\",$Q356=\"poly\",$Q356=\"HIT\",$Q356=\"EFG\",$Q356=\"mono-LGBC\"),1,IF(OR($Q356=\"µc-Si / a-Si\",$Q356=\"a-Si (single)\",$Q356=\"a-Si (tandem)\",$Q356=\"a-Si (triple)\"),3,2))))","v":1},0,null,null,15197,null,null,354]
["Alien Inspired Technologies AIT Sp. z o.o. AIT-6 Classic (240W)","Alien Inspired Technologies AIT Sp. z o.o. ","AIT-6 Classic (240W)",240,"+3...-3",null,null,39.49,8.4,-154.011,3.36,-0.47,1000,null,null,13.910869598388672,"poly",64,"square",1317,1310,40,"aluminum","cable",22,"www.ait-tech.eu","-","-","-","-","-",{"$f":"IF($O357=\"Sunpower Corp.\",3,(IF(OR($Q357=\"mono\",$Q357=\"poly\",$Q357=\"HIT\",$Q357=\"EFG\",$Q357=\"mono-LGBC\"),1,IF(OR($Q357=\"µc-Si / a-Si\",$Q357=\"a-Si (single)\",$Q357=\"a-Si (tandem)\",$Q357=\"a-Si (triple)\"),3,2))))","v":1},{"$f":"IF($O357=\"Sunpower Corp.\",3,(IF(OR($Q357=\"mono\",$Q357=\"poly\",$Q357=\"HIT\",$Q357=\"EFG\",$Q357=\"mono-LGBC\"),1,2)))","v":1},{"$f":"IF($O357=\"Sunpower Corp.\",3,(IF(OR($Q357=\"mono\",$Q357=\"poly\",$Q357=\"HIT\",$Q357=\"EFG\",$Q357=\"mono-LGBC\"),1,IF(OR($Q357=\"µc-Si / a-Si\",$Q357=\"a-Si (single)\",$Q357=\"a-Si (tandem)\",$Q357=\"a-Si (triple)\"),3,2))))","v":1},0,null,null,15198,null,null,355]
["Alien Inspired Technologies AIT Sp. z o.o. Revolution 6 (180W)","Alien Inspired Technologies AIT Sp. z o.o. ","Revolution 6 (180W)",180,"+3...-3",null,null,29.62,8.1,-115.51800000000001,3.24,-0.47,1000,null,null,13.732489585876465,"poly",48,"square",1324,990,6.5,"frameless","cable",22,"www.ait-tech.eu","-","-","-","-","-",{"$f":"IF($O358=\"Sunpower Corp.\",3,(IF(OR($Q358=\"mono\",$Q358=\"poly\",$Q358=\"HIT\",$Q358=\"EFG\",$Q358=\"mono-LGBC\"),1,IF(OR($Q358=\"µc-Si / a-Si\",$Q358=\"a-Si (single)\",$Q358=\"a-Si (tandem)\",$Q358=\"a-Si (triple)\"),3,2))))","v":1},{"$f":"IF($O358=\"Sunpower Corp.\",3,(IF(OR($Q358=\"mono\",$Q358=\"poly\",$Q358=\"HIT\",$Q358=\"EFG\",$Q358=\"mono-LGBC\"),1,2)))","v":1},{"$f":"IF($O358=\"Sunpower Corp.\",3,(IF(OR($Q358=\"mono\",$Q358=\"poly\",$Q358=\"HIT\",$Q358=\"EFG\",$Q358=\"mono-LGBC\"),1,IF(OR($Q358=\"µc-Si / a-Si\",$Q358=\"a-Si (single)\",$Q358=\"a-Si (tandem)\",$Q358=\"a-Si (triple)\"),3,2))))","v":1},0,null,null,15193,null,null,356]
["Alien Inspired Technologies AIT Sp. z o.o. Revolution 6 (225W)","Alien Inspired Technologies AIT Sp. z o.o. ","Revolution 6 (225W)",225,"+3...-3",null,null,36.799999999999997,8.1999999999999993,-143.52000000000001,3.28,-0.47,1000,null,null,13.858090400695801,"poly",60,"square",1640,990,7.5,"frameless","cable",30,"www.ait-tech.eu","-","-","-","-","-",{"$f":"IF($O359=\"Sunpower Corp.\",3,(IF(OR($Q359=\"mono\",$Q359=\"poly\",$Q359=\"HIT\",$Q359=\"EFG\",$Q359=\"mono-LGBC\"),1,IF(OR($Q359=\"µc-Si / a-Si\",$Q359=\"a-Si (single)\",$Q359=\"a-Si (tandem)\",$Q359=\"a-Si (triple)\"),3,2))))","v":1},{"$f":"IF($O359=\"Sunpower Corp.\",3,(IF(OR($Q359=\"mono\",$Q359=\"poly\",$Q359=\"HIT\",$Q359=\"EFG\",$Q359=\"mono-LGBC\"),1,2)))","v":1},{"$f":"IF($O359=\"Sunpower Corp.\",3,(IF(OR($Q359=\"mono\",$Q359=\"poly\",$Q359=\"HIT\",$Q359=\"EFG\",$Q359=\"mono-LGBC\"),1,IF(OR($Q359=\"µc-Si / a-Si\",$Q359=\"a-Si (single)\",$Q359=\"a-Si (tandem)\",$Q359=\"a-Si (triple)\"),3,2))))","v":1},0,null,null,15194,null,null,357]
["Alien Inspired Technologies AIT Sp. z o.o. Revolution 6 (240W)","Alien Inspired Technologies AIT Sp. z o.o. ","Revolution 6 (240W)",240,"+3...-3",null,null,39.49,8.4,-154.011,3.36,-0.47,1000,null,null,13.87969970703125,"poly",64,"square",1324,1306,7.5,"frameless","cable",32,"www.ait-tech.eu","-","-","-","-","-",{"$f":"IF($O360=\"Sunpower Corp.\",3,(IF(OR($Q360=\"mono\",$Q360=\"poly\",$Q360=\"HIT\",$Q360=\"EFG\",$Q360=\"mono-LGBC\"),1,IF(OR($Q360=\"µc-Si / a-Si\",$Q360=\"a-Si (single)\",$Q360=\"a-Si (tandem)\",$Q360=\"a-Si (triple)\"),3,2))))","v":1},{"$f":"IF($O360=\"Sunpower Corp.\",3,(IF(OR($Q360=\"mono\",$Q360=\"poly\",$Q360=\"HIT\",$Q360=\"EFG\",$Q360=\"mono-LGBC\"),1,2)))","v":1},{"$f":"IF($O360=\"Sunpower Corp.\",3,(IF(OR($Q360=\"mono\",$Q360=\"poly\",$Q360=\"HIT\",$Q360=\"EFG\",$Q360=\"mono-LGBC\"),1,IF(OR($Q360=\"µc-Si / a-Si\",$Q360=\"a-Si (single)\",$Q360=\"a-Si (tandem)\",$Q360=\"a-Si (triple)\"),3,2))))","v":1},0,null,null,15195,null,null,358]
["A-L-K PRIMEX SOLAR GmbH AJP M660 225-235 / WS-230 6P","A-L-K PRIMEX SOLAR GmbH ","AJP M660 225-235 / WS-230 6P",230,"+3...-3",29.38,7.83,36.909999999999997,8.4700000000000006,-129.185,10.164,-0.46,1000,null,"diverse",14.276129722595215,"poly",60,"square",1629,989,50,"aluminum","junction box Tyco",22,"www.primex-solar.de","-","-","-","-","-",{"$f":"IF($O361=\"Sunpower Corp.\",3,(IF(OR($Q361=\"mono\",$Q361=\"poly\",$Q361=\"HIT\",$Q361=\"EFG\",$Q361=\"mono-LGBC\"),1,IF(OR($Q361=\"µc-Si / a-Si\",$Q361=\"a-Si (single)\",$Q361=\"a-Si (tandem)\",$Q361=\"a-Si (triple)\"),3,2))))","v":1},{"$f":"IF($O361=\"Sunpower Corp.\",3,(IF(OR($Q361=\"mono\",$Q361=\"poly\",$Q361=\"HIT\",$Q361=\"EFG\",$Q361=\"mono-LGBC\"),1,2)))","v":1},{"$f":"IF($O361=\"Sunpower Corp.\",3,(IF(OR($Q361=\"mono\",$Q361=\"poly\",$Q361=\"HIT\",$Q361=\"EFG\",$Q361=\"mono-LGBC\"),1,IF(OR($Q361=\"µc-Si / a-Si\",$Q361=\"a-Si (single)\",$Q361=\"a-Si (tandem)\",$Q361=\"a-Si (triple)\"),3,2))))","v":1},0,null,null,17253,null,null,359]
["alkaSOL GmbH alka MFE 175","alkaSOL GmbH ","alka MFE 175",175,"+4...0",36.200000000000003,4.8499999999999996,43.9,5.3,-149.26,2.0139999999999998,-0.47,1000,null,null,13.707859992980957,"mono",72,"pseudo-square",1580,808,40,"aluminum","junction box MC",15,null,"-","-","-","-","-",{"$f":"IF($O362=\"Sunpower Corp.\",3,(IF(OR($Q362=\"mono\",$Q362=\"poly\",$Q362=\"HIT\",$Q362=\"EFG\",$Q362=\"mono-LGBC\"),1,IF(OR($Q362=\"µc-Si / a-Si\",$Q362=\"a-Si (single)\",$Q362=\"a-Si (tandem)\",$Q362=\"a-Si (triple)\"),3,2))))","v":1},{"$f":"IF($O362=\"Sunpower Corp.\",3,(IF(OR($Q362=\"mono\",$Q362=\"poly\",$Q362=\"HIT\",$Q362=\"EFG\",$Q362=\"mono-LGBC\"),1,2)))","v":1},{"$f":"IF($O362=\"Sunpower Corp.\",3,(IF(OR($Q362=\"mono\",$Q362=\"poly\",$Q362=\"HIT\",$Q362=\"EFG\",$Q362=\"mono-LGBC\"),1,IF(OR($Q362=\"µc-Si / a-Si\",$Q362=\"a-Si (single)\",$Q362=\"a-Si (tandem)\",$Q362=\"a-Si (triple)\"),3,2))))","v":1},0,null,null,9921,null,null,360]
["alkaSOL GmbH alka MFE 180","alkaSOL GmbH ","alka MFE 180",180,"+4...0",36.799999999999997,4.9000000000000004,44.2,5.35,-150.28,2.0329999999999995,-0.47,1000,null,null,14.099510192871094,"mono",72,"pseudo-square",1580,808,40,"aluminum","junction box MC",15,"www.alkasol.de","-","-","-","-","-",{"$f":"IF($O363=\"Sunpower Corp.\",3,(IF(OR($Q363=\"mono\",$Q363=\"poly\",$Q363=\"HIT\",$Q363=\"EFG\",$Q363=\"mono-LGBC\"),1,IF(OR($Q363=\"µc-Si / a-Si\",$Q363=\"a-Si (single)\",$Q363=\"a-Si (tandem)\",$Q363=\"a-Si (triple)\"),3,2))))","v":1},{"$f":"IF($O363=\"Sunpower Corp.\",3,(IF(OR($Q363=\"mono\",$Q363=\"poly\",$Q363=\"HIT\",$Q363=\"EFG\",$Q363=\"mono-LGBC\"),1,2)))","v":1},{"$f":"IF($O363=\"Sunpower Corp.\",3,(IF(OR($Q363=\"mono\",$Q363=\"poly\",$Q363=\"HIT\",$Q363=\"EFG\",$Q363=\"mono-LGBC\"),1,IF(OR($Q363=\"µc-Si / a-Si\",$Q363=\"a-Si (single)\",$Q363=\"a-Si (tandem)\",$Q363=\"a-Si (triple)\"),3,2))))","v":1},0,null,null,9922,null,null,361]
["alkaSOL GmbH alka MFE 185","alkaSOL GmbH ","alka MFE 185",185,"+4...0",37.5,4.95,44.5,5.4,-151.30000000000001,2.052,-0.47,1000,null,null,14.49116039276123,"mono",72,"pseudo-square",1580,808,40,"aluminum","junction box MC",15,null,"-","-","-","-","-",{"$f":"IF($O364=\"Sunpower Corp.\",3,(IF(OR($Q364=\"mono\",$Q364=\"poly\",$Q364=\"HIT\",$Q364=\"EFG\",$Q364=\"mono-LGBC\"),1,IF(OR($Q364=\"µc-Si / a-Si\",$Q364=\"a-Si (single)\",$Q364=\"a-Si (tandem)\",$Q364=\"a-Si (triple)\"),3,2))))","v":1},{"$f":"IF($O364=\"Sunpower Corp.\",3,(IF(OR($Q364=\"mono\",$Q364=\"poly\",$Q364=\"HIT\",$Q364=\"EFG\",$Q364=\"mono-LGBC\"),1,2)))","v":1},{"$f":"IF($O364=\"Sunpower Corp.\",3,(IF(OR($Q364=\"mono\",$Q364=\"poly\",$Q364=\"HIT\",$Q364=\"EFG\",$Q364=\"mono-LGBC\"),1,IF(OR($Q364=\"µc-Si / a-Si\",$Q364=\"a-Si (single)\",$Q364=\"a-Si (tandem)\",$Q364=\"a-Si (triple)\"),3,2))))","v":1},0,null,null,9923,null,null,362]
["alkaSOL GmbH alka MGL 180-E","alkaSOL GmbH ","alka MGL 180-E",180,"+3...-3",36,5,45,5.33,-138.6,1.2259,-0.5,1000,"Taiwan (Formosa)","E-Ton",13.966549873352051,"mono",72,"pseudo-square",1599,806,40,"aluminum","cable Tyco",15.8,"www.alkasol.de","-","-","-","-","-",{"$f":"IF($O365=\"Sunpower Corp.\",3,(IF(OR($Q365=\"mono\",$Q365=\"poly\",$Q365=\"HIT\",$Q365=\"EFG\",$Q365=\"mono-LGBC\"),1,IF(OR($Q365=\"µc-Si / a-Si\",$Q365=\"a-Si (single)\",$Q365=\"a-Si (tandem)\",$Q365=\"a-Si (triple)\"),3,2))))","v":1},{"$f":"IF($O365=\"Sunpower Corp.\",3,(IF(OR($Q365=\"mono\",$Q365=\"poly\",$Q365=\"HIT\",$Q365=\"EFG\",$Q365=\"mono-LGBC\"),1,2)))","v":1},{"$f":"IF($O365=\"Sunpower Corp.\",3,(IF(OR($Q365=\"mono\",$Q365=\"poly\",$Q365=\"HIT\",$Q365=\"EFG\",$Q365=\"mono-LGBC\"),1,IF(OR($Q365=\"µc-Si / a-Si\",$Q365=\"a-Si (single)\",$Q365=\"a-Si (tandem)\",$Q365=\"a-Si (triple)\"),3,2))))","v":1},0,null,null,8944,null,null,363]
["alkaSOL GmbH alka MGL 185-E","alkaSOL GmbH ","alka MGL 185-E",185,"+3...-3",36.200000000000003,5.0999999999999996,45.64,5.38,-136.91999999999999,1.2374000000000001,-0.5,1000,"Taiwan (Formosa)","E-Ton",14.354510307312012,"mono",72,"pseudo-square",1599,806,40,"aluminum","cable Tyco",15.8,"www.alkasol.de","-","-","-","-","-",{"$f":"IF($O366=\"Sunpower Corp.\",3,(IF(OR($Q366=\"mono\",$Q366=\"poly\",$Q366=\"HIT\",$Q366=\"EFG\",$Q366=\"mono-LGBC\"),1,IF(OR($Q366=\"µc-Si / a-Si\",$Q366=\"a-Si (single)\",$Q366=\"a-Si (tandem)\",$Q366=\"a-Si (triple)\"),3,2))))","v":1},{"$f":"IF($O366=\"Sunpower Corp.\",3,(IF(OR($Q366=\"mono\",$Q366=\"poly\",$Q366=\"HIT\",$Q366=\"EFG\",$Q366=\"mono-LGBC\"),1,2)))","v":1},{"$f":"IF($O366=\"Sunpower Corp.\",3,(IF(OR($Q366=\"mono\",$Q366=\"poly\",$Q366=\"HIT\",$Q366=\"EFG\",$Q366=\"mono-LGBC\"),1,IF(OR($Q366=\"µc-Si / a-Si\",$Q366=\"a-Si (single)\",$Q366=\"a-Si (tandem)\",$Q366=\"a-Si (triple)\"),3,2))))","v":1},0,null,null,8945,null,null,364]
["alkaSOL GmbH alka MPS 180","alkaSOL GmbH ","alka MPS 180",180,"+4...0",36.200000000000003,4.9800000000000004,44.6,5.25,-156.1,2.625,-0.48,1000,null,null,14.099510192871094,"mono",72,"pseudo-square",1580,808,40,"aluminum","junction box MC",15,"www.alkasol.de","-","-","-","-","-",{"$f":"IF($O367=\"Sunpower Corp.\",3,(IF(OR($Q367=\"mono\",$Q367=\"poly\",$Q367=\"HIT\",$Q367=\"EFG\",$Q367=\"mono-LGBC\"),1,IF(OR($Q367=\"µc-Si / a-Si\",$Q367=\"a-Si (single)\",$Q367=\"a-Si (tandem)\",$Q367=\"a-Si (triple)\"),3,2))))","v":1},{"$f":"IF($O367=\"Sunpower Corp.\",3,(IF(OR($Q367=\"mono\",$Q367=\"poly\",$Q367=\"HIT\",$Q367=\"EFG\",$Q367=\"mono-LGBC\"),1,2)))","v":1},{"$f":"IF($O367=\"Sunpower Corp.\",3,(IF(OR($Q367=\"mono\",$Q367=\"poly\",$Q367=\"HIT\",$Q367=\"EFG\",$Q367=\"mono-LGBC\"),1,IF(OR($Q367=\"µc-Si / a-Si\",$Q367=\"a-Si (single)\",$Q367=\"a-Si (tandem)\",$Q367=\"a-Si (triple)\"),3,2))))","v":1},0,null,null,23233,null,null,365]
["alkaSOL GmbH alka MPS 185","alkaSOL GmbH ","alka MPS 185",185,"+3...-3",36.6,5.0599999999999996,44.8,5.3,-156.80000000000001,2.65,-0.48,1000,null,null,14.49116039276123,"mono",72,"pseudo-square",1580,808,40,"aluminum","junction box MC",15,"www.alkasol.de","-","-","-","-","-",{"$f":"IF($O368=\"Sunpower Corp.\",3,(IF(OR($Q368=\"mono\",$Q368=\"poly\",$Q368=\"HIT\",$Q368=\"EFG\",$Q368=\"mono-LGBC\"),1,IF(OR($Q368=\"µc-Si / a-Si\",$Q368=\"a-Si (single)\",$Q368=\"a-Si (tandem)\",$Q368=\"a-Si (triple)\"),3,2))))","v":1},{"$f":"IF($O368=\"Sunpower Corp.\",3,(IF(OR($Q368=\"mono\",$Q368=\"poly\",$Q368=\"HIT\",$Q368=\"EFG\",$Q368=\"mono-LGBC\"),1,2)))","v":1},{"$f":"IF($O368=\"Sunpower Corp.\",3,(IF(OR($Q368=\"mono\",$Q368=\"poly\",$Q368=\"HIT\",$Q368=\"EFG\",$Q368=\"mono-LGBC\"),1,IF(OR($Q368=\"µc-Si / a-Si\",$Q368=\"a-Si (single)\",$Q368=\"a-Si (tandem)\",$Q368=\"a-Si (triple)\"),3,2))))","v":1},0,null,null,23234,null,null,366]
["alkaSOL GmbH alka MPS 190","alkaSOL GmbH ","alka MPS 190",190,"+3...-3",37,5.14,45,5.35,-157.5,2.6749999999999998,-0.48,1000,null,null,14.882820129394531,"mono",72,"pseudo-square",1580,808,40,"aluminum","junction box MC",15,"www.alkasol.de","-","-","-","-","-",{"$f":"IF($O369=\"Sunpower Corp.\",3,(IF(OR($Q369=\"mono\",$Q369=\"poly\",$Q369=\"HIT\",$Q369=\"EFG\",$Q369=\"mono-LGBC\"),1,IF(OR($Q369=\"µc-Si / a-Si\",$Q369=\"a-Si (single)\",$Q369=\"a-Si (tandem)\",$Q369=\"a-Si (triple)\"),3,2))))","v":1},{"$f":"IF($O369=\"Sunpower Corp.\",3,(IF(OR($Q369=\"mono\",$Q369=\"poly\",$Q369=\"HIT\",$Q369=\"EFG\",$Q369=\"mono-LGBC\"),1,2)))","v":1},{"$f":"IF($O369=\"Sunpower Corp.\",3,(IF(OR($Q369=\"mono\",$Q369=\"poly\",$Q369=\"HIT\",$Q369=\"EFG\",$Q369=\"mono-LGBC\"),1,IF(OR($Q369=\"µc-Si / a-Si\",$Q369=\"a-Si (single)\",$Q369=\"a-Si (tandem)\",$Q369=\"a-Si (triple)\"),3,2))))","v":1},0,null,null,23235,null,null,367]
["alkaSOL GmbH alka PGL 230-E","alkaSOL GmbH ","alka PGL 230-E",230,"+3...-3",29.5,7.76,36.9,8.26,-129.15,4.13,-0.46,1000,"Taiwan (Formosa)","diverse",14.034799575805664,"poly",60,"square",1652,992,50,"aluminum","cable Tyco",22,"www.alkasol.de","-","-","-","-","-",{"$f":"IF($O370=\"Sunpower Corp.\",3,(IF(OR($Q370=\"mono\",$Q370=\"poly\",$Q370=\"HIT\",$Q370=\"EFG\",$Q370=\"mono-LGBC\"),1,IF(OR($Q370=\"µc-Si / a-Si\",$Q370=\"a-Si (single)\",$Q370=\"a-Si (tandem)\",$Q370=\"a-Si (triple)\"),3,2))))","v":1},{"$f":"IF($O370=\"Sunpower Corp.\",3,(IF(OR($Q370=\"mono\",$Q370=\"poly\",$Q370=\"HIT\",$Q370=\"EFG\",$Q370=\"mono-LGBC\"),1,2)))","v":1},{"$f":"IF($O370=\"Sunpower Corp.\",3,(IF(OR($Q370=\"mono\",$Q370=\"poly\",$Q370=\"HIT\",$Q370=\"EFG\",$Q370=\"mono-LGBC\"),1,IF(OR($Q370=\"µc-Si / a-Si\",$Q370=\"a-Si (single)\",$Q370=\"a-Si (tandem)\",$Q370=\"a-Si (triple)\"),3,2))))","v":1},0,null,null,8946,null,null,368]
["Alpex Solar Pvt. LTD alpex 130","Alpex Solar Pvt. LTD ","alpex 130",130,"+...",18,7.4,22,8.3000000000000007,-132,0,null,null,null,null,13.492400169372559,"poly",36,"square",1471,655,35,"aluminum","junction box",11.8,null,"-","-","-","-","-",{"$f":"IF($O371=\"Sunpower Corp.\",3,(IF(OR($Q371=\"mono\",$Q371=\"poly\",$Q371=\"HIT\",$Q371=\"EFG\",$Q371=\"mono-LGBC\"),1,IF(OR($Q371=\"µc-Si / a-Si\",$Q371=\"a-Si (single)\",$Q371=\"a-Si (tandem)\",$Q371=\"a-Si (triple)\"),3,2))))","v":1},{"$f":"IF($O371=\"Sunpower Corp.\",3,(IF(OR($Q371=\"mono\",$Q371=\"poly\",$Q371=\"HIT\",$Q371=\"EFG\",$Q371=\"mono-LGBC\"),1,2)))","v":1},{"$f":"IF($O371=\"Sunpower Corp.\",3,(IF(OR($Q371=\"mono\",$Q371=\"poly\",$Q371=\"HIT\",$Q371=\"EFG\",$Q371=\"mono-LGBC\"),1,IF(OR($Q371=\"µc-Si / a-Si\",$Q371=\"a-Si (single)\",$Q371=\"a-Si (tandem)\",$Q371=\"a-Si (triple)\"),3,2))))","v":1},0,null,null,6870,null,null,369]
["Alpex Solar Pvt. LTD alpex 160","Alpex Solar Pvt. LTD ","alpex 160",160,"+...",35.5,4.4000000000000004,45,5.5,-90,3.3,-0.5,600,null,null,12.93280029296875,"poly",72,"square",1574,786,35,"aluminum","junction box",14,null,"-","-","-","-","-",{"$f":"IF($O372=\"Sunpower Corp.\",3,(IF(OR($Q372=\"mono\",$Q372=\"poly\",$Q372=\"HIT\",$Q372=\"EFG\",$Q372=\"mono-LGBC\"),1,IF(OR($Q372=\"µc-Si / a-Si\",$Q372=\"a-Si (single)\",$Q372=\"a-Si (tandem)\",$Q372=\"a-Si (triple)\"),3,2))))","v":1},{"$f":"IF($O372=\"Sunpower Corp.\",3,(IF(OR($Q372=\"mono\",$Q372=\"poly\",$Q372=\"HIT\",$Q372=\"EFG\",$Q372=\"mono-LGBC\"),1,2)))","v":1},{"$f":"IF($O372=\"Sunpower Corp.\",3,(IF(OR($Q372=\"mono\",$Q372=\"poly\",$Q372=\"HIT\",$Q372=\"EFG\",$Q372=\"mono-LGBC\"),1,IF(OR($Q372=\"µc-Si / a-Si\",$Q372=\"a-Si (single)\",$Q372=\"a-Si (tandem)\",$Q372=\"a-Si (triple)\"),3,2))))","v":1},0,null,null,6869,null,null,370]
["Alpex Solar Pvt. LTD alpex 220","Alpex Solar Pvt. LTD ","alpex 220",220,"+...",28.5,7.4,37,8.3000000000000007,-155.4,4.9800000000000004,-0.5,1000,null,null,13.744330406188965,"poly",60,"square",1630,982,35,"aluminum","junction box",22.7,null,"-","-","-","-","-",{"$f":"IF($O373=\"Sunpower Corp.\",3,(IF(OR($Q373=\"mono\",$Q373=\"poly\",$Q373=\"HIT\",$Q373=\"EFG\",$Q373=\"mono-LGBC\"),1,IF(OR($Q373=\"µc-Si / a-Si\",$Q373=\"a-Si (single)\",$Q373=\"a-Si (tandem)\",$Q373=\"a-Si (triple)\"),3,2))))","v":1},{"$f":"IF($O373=\"Sunpower Corp.\",3,(IF(OR($Q373=\"mono\",$Q373=\"poly\",$Q373=\"HIT\",$Q373=\"EFG\",$Q373=\"mono-LGBC\"),1,2)))","v":1},{"$f":"IF($O373=\"Sunpower Corp.\",3,(IF(OR($Q373=\"mono\",$Q373=\"poly\",$Q373=\"HIT\",$Q373=\"EFG\",$Q373=\"mono-LGBC\"),1,IF(OR($Q373=\"µc-Si / a-Si\",$Q373=\"a-Si (single)\",$Q373=\"a-Si (tandem)\",$Q373=\"a-Si (triple)\"),3,2))))","v":1},0,null,null,6871,null,null,371]
["Alpex Solar Pvt. LTD alpex 80","Alpex Solar Pvt. LTD ","alpex 80",80,"+...",18,4.4000000000000004,22,5.5,-154,0,null,null,null,null,12.705670356750488,"poly",36,"square",1188,530,35,"aluminum","junction box",7.7,null,"-","-","-","-","-",{"$f":"IF($O374=\"Sunpower Corp.\",3,(IF(OR($Q374=\"mono\",$Q374=\"poly\",$Q374=\"HIT\",$Q374=\"EFG\",$Q374=\"mono-LGBC\"),1,IF(OR($Q374=\"µc-Si / a-Si\",$Q374=\"a-Si (single)\",$Q374=\"a-Si (tandem)\",$Q374=\"a-Si (triple)\"),3,2))))","v":1},{"$f":"IF($O374=\"Sunpower Corp.\",3,(IF(OR($Q374=\"mono\",$Q374=\"poly\",$Q374=\"HIT\",$Q374=\"EFG\",$Q374=\"mono-LGBC\"),1,2)))","v":1},{"$f":"IF($O374=\"Sunpower Corp.\",3,(IF(OR($Q374=\"mono\",$Q374=\"poly\",$Q374=\"HIT\",$Q374=\"EFG\",$Q374=\"mono-LGBC\"),1,IF(OR($Q374=\"µc-Si / a-Si\",$Q374=\"a-Si (single)\",$Q374=\"a-Si (tandem)\",$Q374=\"a-Si (triple)\"),3,2))))","v":1},0,null,null,6868,null,null,372]
["alti-solar ALTS-S1007","alti-solar ","ALTS-S1007",100,"+3...-3",75,1.34,100,1.66,-300,1.494,null,1000,"South Korea",null,6.3484158515930176,"a-Si (single)",null,null,1414,1114,37.5,"aluminum","junction box",21.5,null,"-","-","-","-","-",{"$f":"IF($O375=\"Sunpower Corp.\",3,(IF(OR($Q375=\"mono\",$Q375=\"poly\",$Q375=\"HIT\",$Q375=\"EFG\",$Q375=\"mono-LGBC\"),1,IF(OR($Q375=\"µc-Si / a-Si\",$Q375=\"a-Si (single)\",$Q375=\"a-Si (tandem)\",$Q375=\"a-Si (triple)\"),3,2))))","v":3},{"$f":"IF($O375=\"Sunpower Corp.\",3,(IF(OR($Q375=\"mono\",$Q375=\"poly\",$Q375=\"HIT\",$Q375=\"EFG\",$Q375=\"mono-LGBC\"),1,2)))","v":2},{"$f":"IF($O375=\"Sunpower Corp.\",3,(IF(OR($Q375=\"mono\",$Q375=\"poly\",$Q375=\"HIT\",$Q375=\"EFG\",$Q375=\"mono-LGBC\"),1,IF(OR($Q375=\"µc-Si / a-Si\",$Q375=\"a-Si (single)\",$Q375=\"a-Si (tandem)\",$Q375=\"a-Si (triple)\"),3,2))))","v":3},0,null,null,7583,null,null,373]
["alwitra GmbH & Co. Evalon V-Solar 136","alwitra GmbH & Co. ","Evalon V-Solar 136",136,"+5...-5",33,4.13,46.2,5.0999999999999996,-143.22,5.0999999999999996,-0.21,1000,"Germany","United Solar Ovonic LLC",4.3059778213500977,"a-Si (triple)",22,"rectangular",3360,1050,null,"frameless","cable",15,"www.alwitra.de","-","-","-","-","-",{"$f":"IF($O376=\"Sunpower Corp.\",3,(IF(OR($Q376=\"mono\",$Q376=\"poly\",$Q376=\"HIT\",$Q376=\"EFG\",$Q376=\"mono-LGBC\"),1,IF(OR($Q376=\"µc-Si / a-Si\",$Q376=\"a-Si (single)\",$Q376=\"a-Si (tandem)\",$Q376=\"a-Si (triple)\"),3,2))))","v":3},{"$f":"IF($O376=\"Sunpower Corp.\",3,(IF(OR($Q376=\"mono\",$Q376=\"poly\",$Q376=\"HIT\",$Q376=\"EFG\",$Q376=\"mono-LGBC\"),1,2)))","v":2},{"$f":"IF($O376=\"Sunpower Corp.\",3,(IF(OR($Q376=\"mono\",$Q376=\"poly\",$Q376=\"HIT\",$Q376=\"EFG\",$Q376=\"mono-LGBC\"),1,IF(OR($Q376=\"µc-Si / a-Si\",$Q376=\"a-Si (single)\",$Q376=\"a-Si (tandem)\",$Q376=\"a-Si (triple)\"),3,2))))","v":3},0,null,null,2143,null,null,374]
["alwitra GmbH & Co. Evalon V-Solar 204","alwitra GmbH & Co. ","Evalon V-Solar 204",204,"+5...-5",49.5,4.13,69.3,5.0999999999999996,-214.83,5.0999999999999996,-0.21,1000,"Germany","United Solar Ovonic LLC",4.2162699699401855,"a-Si (triple)",33,"rectangular",3360,1550,null,"frameless","cable",22.4,"www.alwitra.de","-","-","-","-","-",{"$f":"IF($O377=\"Sunpower Corp.\",3,(IF(OR($Q377=\"mono\",$Q377=\"poly\",$Q377=\"HIT\",$Q377=\"EFG\",$Q377=\"mono-LGBC\"),1,IF(OR($Q377=\"µc-Si / a-Si\",$Q377=\"a-Si (single)\",$Q377=\"a-Si (tandem)\",$Q377=\"a-Si (triple)\"),3,2))))","v":3},{"$f":"IF($O377=\"Sunpower Corp.\",3,(IF(OR($Q377=\"mono\",$Q377=\"poly\",$Q377=\"HIT\",$Q377=\"EFG\",$Q377=\"mono-LGBC\"),1,2)))","v":2},{"$f":"IF($O377=\"Sunpower Corp.\",3,(IF(OR($Q377=\"mono\",$Q377=\"poly\",$Q377=\"HIT\",$Q377=\"EFG\",$Q377=\"mono-LGBC\"),1,IF(OR($Q377=\"µc-Si / a-Si\",$Q377=\"a-Si (single)\",$Q377=\"a-Si (tandem)\",$Q377=\"a-Si (triple)\"),3,2))))","v":3},0,null,null,2089,null,null,375]
["alwitra GmbH & Co. Evalon V-Solar 272","alwitra GmbH & Co. ","Evalon V-Solar 272",272,"+5...-5",66,4.13,92.4,5.0999999999999996,-286.44,5.0999999999999996,-0.21,1000,"Germany","United Solar Ovonic LLC",4.8226947784423828,"a-Si (triple)",44,"rectangular",6000,1050,null,"frameless","cable",30,"www.alwitra.de","-","-","-","-","-",{"$f":"IF($O378=\"Sunpower Corp.\",3,(IF(OR($Q378=\"mono\",$Q378=\"poly\",$Q378=\"HIT\",$Q378=\"EFG\",$Q378=\"mono-LGBC\"),1,IF(OR($Q378=\"µc-Si / a-Si\",$Q378=\"a-Si (single)\",$Q378=\"a-Si (tandem)\",$Q378=\"a-Si (triple)\"),3,2))))","v":3},{"$f":"IF($O378=\"Sunpower Corp.\",3,(IF(OR($Q378=\"mono\",$Q378=\"poly\",$Q378=\"HIT\",$Q378=\"EFG\",$Q378=\"mono-LGBC\"),1,2)))","v":2},{"$f":"IF($O378=\"Sunpower Corp.\",3,(IF(OR($Q378=\"mono\",$Q378=\"poly\",$Q378=\"HIT\",$Q378=\"EFG\",$Q378=\"mono-LGBC\"),1,IF(OR($Q378=\"µc-Si / a-Si\",$Q378=\"a-Si (single)\",$Q378=\"a-Si (tandem)\",$Q378=\"a-Si (triple)\"),3,2))))","v":3},0,null,null,2142,null,null,376]
["alwitra GmbH & Co. Evalon V-Solar 288","alwitra GmbH & Co. ","Evalon V-Solar 288",288,"+5...-5",66,4.3600000000000003,92.4,5.3,-286.44,5.3,-0.21,1000,"Germany","United Solar Ovonic LLC",5.1063828468322754,"a-Si (triple)",44,"rectangular",6000,1050,null,"frameless","cable",30,"www.alwitra.de","-","-","-","-","-",{"$f":"IF($O379=\"Sunpower Corp.\",3,(IF(OR($Q379=\"mono\",$Q379=\"poly\",$Q379=\"HIT\",$Q379=\"EFG\",$Q379=\"mono-LGBC\"),1,IF(OR($Q379=\"µc-Si / a-Si\",$Q379=\"a-Si (single)\",$Q379=\"a-Si (tandem)\",$Q379=\"a-Si (triple)\"),3,2))))","v":3},{"$f":"IF($O379=\"Sunpower Corp.\",3,(IF(OR($Q379=\"mono\",$Q379=\"poly\",$Q379=\"HIT\",$Q379=\"EFG\",$Q379=\"mono-LGBC\"),1,2)))","v":2},{"$f":"IF($O379=\"Sunpower Corp.\",3,(IF(OR($Q379=\"mono\",$Q379=\"poly\",$Q379=\"HIT\",$Q379=\"EFG\",$Q379=\"mono-LGBC\"),1,IF(OR($Q379=\"µc-Si / a-Si\",$Q379=\"a-Si (single)\",$Q379=\"a-Si (tandem)\",$Q379=\"a-Si (triple)\"),3,2))))","v":3},0,null,null,8437,null,null,377]
["alwitra GmbH & Co. Evalon V-Solar 408","alwitra GmbH & Co. ","Evalon V-Solar 408",408,"+5...-5",99,4.13,138.6,5.0999999999999996,-429.66,5.0999999999999996,-0.21,1000,"Germany","United Solar Ovonic LLC",4.722221851348877,"a-Si (triple)",66,"rectangular",6000,1550,null,"frameless","cable",40,"www.alwitra.de","-","-","-","-","-",{"$f":"IF($O380=\"Sunpower Corp.\",3,(IF(OR($Q380=\"mono\",$Q380=\"poly\",$Q380=\"HIT\",$Q380=\"EFG\",$Q380=\"mono-LGBC\"),1,IF(OR($Q380=\"µc-Si / a-Si\",$Q380=\"a-Si (single)\",$Q380=\"a-Si (tandem)\",$Q380=\"a-Si (triple)\"),3,2))))","v":3},{"$f":"IF($O380=\"Sunpower Corp.\",3,(IF(OR($Q380=\"mono\",$Q380=\"poly\",$Q380=\"HIT\",$Q380=\"EFG\",$Q380=\"mono-LGBC\"),1,2)))","v":2},{"$f":"IF($O380=\"Sunpower Corp.\",3,(IF(OR($Q380=\"mono\",$Q380=\"poly\",$Q380=\"HIT\",$Q380=\"EFG\",$Q380=\"mono-LGBC\"),1,IF(OR($Q380=\"µc-Si / a-Si\",$Q380=\"a-Si (single)\",$Q380=\"a-Si (tandem)\",$Q380=\"a-Si (triple)\"),3,2))))","v":3},0,null,null,2088,null,null,378]
["alwitra GmbH & Co. Evalon V-Solar 432","alwitra GmbH & Co. ","Evalon V-Solar 432",432,"+5...-5",99,4.3600000000000003,138.6,5.3,-429.66,5.3,-0.21,1000,"Germany","United Solar Ovonic LLC",5,"a-Si (triple)",66,"rectangular",6000,1550,null,"frameless","cable",40,"www.alwitra.de","-","-","-","-","-",{"$f":"IF($O381=\"Sunpower Corp.\",3,(IF(OR($Q381=\"mono\",$Q381=\"poly\",$Q381=\"HIT\",$Q381=\"EFG\",$Q381=\"mono-LGBC\"),1,IF(OR($Q381=\"µc-Si / a-Si\",$Q381=\"a-Si (single)\",$Q381=\"a-Si (tandem)\",$Q381=\"a-Si (triple)\"),3,2))))","v":3},{"$f":"IF($O381=\"Sunpower Corp.\",3,(IF(OR($Q381=\"mono\",$Q381=\"poly\",$Q381=\"HIT\",$Q381=\"EFG\",$Q381=\"mono-LGBC\"),1,2)))","v":2},{"$f":"IF($O381=\"Sunpower Corp.\",3,(IF(OR($Q381=\"mono\",$Q381=\"poly\",$Q381=\"HIT\",$Q381=\"EFG\",$Q381=\"mono-LGBC\"),1,IF(OR($Q381=\"µc-Si / a-Si\",$Q381=\"a-Si (single)\",$Q381=\"a-Si (tandem)\",$Q381=\"a-Si (triple)\"),3,2))))","v":3},0,null,null,8438,null,null,379]
["Ammini Solar Pvt Ltd. ASM-12050A","Ammini Solar Pvt Ltd. ","ASM-12050A",50,"+10...-10",16.399999999999999,3.05,21,3.3,-94.5,1.32,-0.5,500,"India","Q-Cells AG",11.602270126342773,"poly",36,"square",845,510,38.5,"aluminum","junction box",5.4,"www.ammini.com","-","-","-","-","-",{"$f":"IF($O382=\"Sunpower Corp.\",3,(IF(OR($Q382=\"mono\",$Q382=\"poly\",$Q382=\"HIT\",$Q382=\"EFG\",$Q382=\"mono-LGBC\"),1,IF(OR($Q382=\"µc-Si / a-Si\",$Q382=\"a-Si (single)\",$Q382=\"a-Si (tandem)\",$Q382=\"a-Si (triple)\"),3,2))))","v":1},{"$f":"IF($O382=\"Sunpower Corp.\",3,(IF(OR($Q382=\"mono\",$Q382=\"poly\",$Q382=\"HIT\",$Q382=\"EFG\",$Q382=\"mono-LGBC\"),1,2)))","v":1},{"$f":"IF($O382=\"Sunpower Corp.\",3,(IF(OR($Q382=\"mono\",$Q382=\"poly\",$Q382=\"HIT\",$Q382=\"EFG\",$Q382=\"mono-LGBC\"),1,IF(OR($Q382=\"µc-Si / a-Si\",$Q382=\"a-Si (single)\",$Q382=\"a-Si (tandem)\",$Q382=\"a-Si (triple)\"),3,2))))","v":1},0,null,null,2655,null,null,380]
["Ammini Solar Pvt Ltd. ASM-12065A","Ammini Solar Pvt Ltd. ","ASM-12065A",65,"+10...-10",16.399999999999999,3.96,21,4.3499999999999996,-94.5,1.74,-0.5,500,"India","Q-Cells AG",12.31410026550293,"poly",36,"square",1035,510,38.5,"aluminum","junction box",6.6,"www.ammini.com","-","-","-","-","-",{"$f":"IF($O383=\"Sunpower Corp.\",3,(IF(OR($Q383=\"mono\",$Q383=\"poly\",$Q383=\"HIT\",$Q383=\"EFG\",$Q383=\"mono-LGBC\"),1,IF(OR($Q383=\"µc-Si / a-Si\",$Q383=\"a-Si (single)\",$Q383=\"a-Si (tandem)\",$Q383=\"a-Si (triple)\"),3,2))))","v":1},{"$f":"IF($O383=\"Sunpower Corp.\",3,(IF(OR($Q383=\"mono\",$Q383=\"poly\",$Q383=\"HIT\",$Q383=\"EFG\",$Q383=\"mono-LGBC\"),1,2)))","v":1},{"$f":"IF($O383=\"Sunpower Corp.\",3,(IF(OR($Q383=\"mono\",$Q383=\"poly\",$Q383=\"HIT\",$Q383=\"EFG\",$Q383=\"mono-LGBC\"),1,IF(OR($Q383=\"µc-Si / a-Si\",$Q383=\"a-Si (single)\",$Q383=\"a-Si (tandem)\",$Q383=\"a-Si (triple)\"),3,2))))","v":1},0,null,null,2656,null,null,381]
["Ammini Solar Pvt Ltd. ASM-12070A","Ammini Solar Pvt Ltd. ","ASM-12070A",70,"+10...-10",16.399999999999999,4.2699999999999996,21,4.7,-94.5,1.88,-0.5,500,"India","Q-Cells AG",10.269579887390137,"poly",36,"square",1025,665,38.5,"aluminum","junction box",7.7,"www.ammini.com","-","-","-","-","-",{"$f":"IF($O384=\"Sunpower Corp.\",3,(IF(OR($Q384=\"mono\",$Q384=\"poly\",$Q384=\"HIT\",$Q384=\"EFG\",$Q384=\"mono-LGBC\"),1,IF(OR($Q384=\"µc-Si / a-Si\",$Q384=\"a-Si (single)\",$Q384=\"a-Si (tandem)\",$Q384=\"a-Si (triple)\"),3,2))))","v":1},{"$f":"IF($O384=\"Sunpower Corp.\",3,(IF(OR($Q384=\"mono\",$Q384=\"poly\",$Q384=\"HIT\",$Q384=\"EFG\",$Q384=\"mono-LGBC\"),1,2)))","v":1},{"$f":"IF($O384=\"Sunpower Corp.\",3,(IF(OR($Q384=\"mono\",$Q384=\"poly\",$Q384=\"HIT\",$Q384=\"EFG\",$Q384=\"mono-LGBC\"),1,IF(OR($Q384=\"µc-Si / a-Si\",$Q384=\"a-Si (single)\",$Q384=\"a-Si (tandem)\",$Q384=\"a-Si (triple)\"),3,2))))","v":1},0,null,null,2657,null,null,382]
["Ammini Solar Pvt Ltd. ASM-12075A","Ammini Solar Pvt Ltd. ","ASM-12075A",75,"+10...-10",16.399999999999999,4.57,21,5,-94.5,2,-0.5,500,"India","Q-Cells AG",11.003120422363281,"poly",36,"square",1025,665,38.5,"aluminum","junction box",7.7,"www.ammini.com","-","-","-","-","-",{"$f":"IF($O385=\"Sunpower Corp.\",3,(IF(OR($Q385=\"mono\",$Q385=\"poly\",$Q385=\"HIT\",$Q385=\"EFG\",$Q385=\"mono-LGBC\"),1,IF(OR($Q385=\"µc-Si / a-Si\",$Q385=\"a-Si (single)\",$Q385=\"a-Si (tandem)\",$Q385=\"a-Si (triple)\"),3,2))))","v":1},{"$f":"IF($O385=\"Sunpower Corp.\",3,(IF(OR($Q385=\"mono\",$Q385=\"poly\",$Q385=\"HIT\",$Q385=\"EFG\",$Q385=\"mono-LGBC\"),1,2)))","v":1},{"$f":"IF($O385=\"Sunpower Corp.\",3,(IF(OR($Q385=\"mono\",$Q385=\"poly\",$Q385=\"HIT\",$Q385=\"EFG\",$Q385=\"mono-LGBC\"),1,IF(OR($Q385=\"µc-Si / a-Si\",$Q385=\"a-Si (single)\",$Q385=\"a-Si (tandem)\",$Q385=\"a-Si (triple)\"),3,2))))","v":1},0,null,null,2658,null,null,383]
["Ammini Solar Pvt Ltd. ASM-12090A","Ammini Solar Pvt Ltd. ","ASM-12090A",90,"+10...-10",16.399999999999999,5.49,21,6,-94.5,2.4,-0.5,500,"India","Q-Cells AG",11.871789932250977,"poly",36,"square",1140,665,38.5,"aluminum","junction box",9.5,"www.ammini.com","-","-","-","-","-",{"$f":"IF($O386=\"Sunpower Corp.\",3,(IF(OR($Q386=\"mono\",$Q386=\"poly\",$Q386=\"HIT\",$Q386=\"EFG\",$Q386=\"mono-LGBC\"),1,IF(OR($Q386=\"µc-Si / a-Si\",$Q386=\"a-Si (single)\",$Q386=\"a-Si (tandem)\",$Q386=\"a-Si (triple)\"),3,2))))","v":1},{"$f":"IF($O386=\"Sunpower Corp.\",3,(IF(OR($Q386=\"mono\",$Q386=\"poly\",$Q386=\"HIT\",$Q386=\"EFG\",$Q386=\"mono-LGBC\"),1,2)))","v":1},{"$f":"IF($O386=\"Sunpower Corp.\",3,(IF(OR($Q386=\"mono\",$Q386=\"poly\",$Q386=\"HIT\",$Q386=\"EFG\",$Q386=\"mono-LGBC\"),1,IF(OR($Q386=\"µc-Si / a-Si\",$Q386=\"a-Si (single)\",$Q386=\"a-Si (tandem)\",$Q386=\"a-Si (triple)\"),3,2))))","v":1},0,null,null,2659,null,null,384]
["Ammini Solar Pvt Ltd. ASM-12120A","Ammini Solar Pvt Ltd. ","ASM-12120A",120,"+10...-10",16.399999999999999,7.32,21,8,-94.5,3.2,-0.5,500,"India","Q-Cells AG",12.110810279846191,"poly",36,"square",1490,665,38.5,"aluminum","junction box",12.4,"www.ammini.com","-","-","-","-","-",{"$f":"IF($O387=\"Sunpower Corp.\",3,(IF(OR($Q387=\"mono\",$Q387=\"poly\",$Q387=\"HIT\",$Q387=\"EFG\",$Q387=\"mono-LGBC\"),1,IF(OR($Q387=\"µc-Si / a-Si\",$Q387=\"a-Si (single)\",$Q387=\"a-Si (tandem)\",$Q387=\"a-Si (triple)\"),3,2))))","v":1},{"$f":"IF($O387=\"Sunpower Corp.\",3,(IF(OR($Q387=\"mono\",$Q387=\"poly\",$Q387=\"HIT\",$Q387=\"EFG\",$Q387=\"mono-LGBC\"),1,2)))","v":1},{"$f":"IF($O387=\"Sunpower Corp.\",3,(IF(OR($Q387=\"mono\",$Q387=\"poly\",$Q387=\"HIT\",$Q387=\"EFG\",$Q387=\"mono-LGBC\"),1,IF(OR($Q387=\"µc-Si / a-Si\",$Q387=\"a-Si (single)\",$Q387=\"a-Si (tandem)\",$Q387=\"a-Si (triple)\"),3,2))))","v":1},0,null,null,2660,null,null,385]
["Anaf Solar S.p.A AN60 - P (230W)","Anaf Solar S.p.A ","AN60 - P (230W)",230,"+3...0",30,7.67,36.799999999999997,8.34,-132.47999999999999,4.17,-0.45,1000,"China","Jangxi Risun Solar Energy",13.922519683837891,"poly",60,"square",1652,1000,45,"aluminum","junction box",22,"www,anafsolar.eu","-","-","-","-","-",{"$f":"IF($O388=\"Sunpower Corp.\",3,(IF(OR($Q388=\"mono\",$Q388=\"poly\",$Q388=\"HIT\",$Q388=\"EFG\",$Q388=\"mono-LGBC\"),1,IF(OR($Q388=\"µc-Si / a-Si\",$Q388=\"a-Si (single)\",$Q388=\"a-Si (tandem)\",$Q388=\"a-Si (triple)\"),3,2))))","v":1},{"$f":"IF($O388=\"Sunpower Corp.\",3,(IF(OR($Q388=\"mono\",$Q388=\"poly\",$Q388=\"HIT\",$Q388=\"EFG\",$Q388=\"mono-LGBC\"),1,2)))","v":1},{"$f":"IF($O388=\"Sunpower Corp.\",3,(IF(OR($Q388=\"mono\",$Q388=\"poly\",$Q388=\"HIT\",$Q388=\"EFG\",$Q388=\"mono-LGBC\"),1,IF(OR($Q388=\"µc-Si / a-Si\",$Q388=\"a-Si (single)\",$Q388=\"a-Si (tandem)\",$Q388=\"a-Si (triple)\"),3,2))))","v":1},0,null,null,17352,null,null,386]
["Anaf Solar S.p.A AN60 - P (240W)","Anaf Solar S.p.A ","AN60 - P (240W)",240,"+3...0",30.2,7.95,37,8.5399999999999991,-133.19999999999999,4.2699999999999996,-0.45,1000,"China","Jangxi Risun Solar Energy",14.527850151062012,"poly",60,"square",1652,1000,45,"aluminum","junction box",22,"www,anafsolar.eu","-","-","-","-","-",{"$f":"IF($O389=\"Sunpower Corp.\",3,(IF(OR($Q389=\"mono\",$Q389=\"poly\",$Q389=\"HIT\",$Q389=\"EFG\",$Q389=\"mono-LGBC\"),1,IF(OR($Q389=\"µc-Si / a-Si\",$Q389=\"a-Si (single)\",$Q389=\"a-Si (tandem)\",$Q389=\"a-Si (triple)\"),3,2))))","v":1},{"$f":"IF($O389=\"Sunpower Corp.\",3,(IF(OR($Q389=\"mono\",$Q389=\"poly\",$Q389=\"HIT\",$Q389=\"EFG\",$Q389=\"mono-LGBC\"),1,2)))","v":1},{"$f":"IF($O389=\"Sunpower Corp.\",3,(IF(OR($Q389=\"mono\",$Q389=\"poly\",$Q389=\"HIT\",$Q389=\"EFG\",$Q389=\"mono-LGBC\"),1,IF(OR($Q389=\"µc-Si / a-Si\",$Q389=\"a-Si (single)\",$Q389=\"a-Si (tandem)\",$Q389=\"a-Si (triple)\"),3,2))))","v":1},0,null,null,17353,null,null,387]
["Anaf Solar S.p.A H-NRG","Anaf Solar S.p.A ","H-NRG",230,"+3...0",30,7.67,36.799999999999997,8.34,-132.47999999999999,4.17,-0.45,1000,"Italy","Jangxi Risun Solar Energy",13.922519683837891,"poly",60,"square",1652,1000,45,"aluminum","junction box",34,"www.anafsolar.eu","-","-","-","-","-",{"$f":"IF($O390=\"Sunpower Corp.\",3,(IF(OR($Q390=\"mono\",$Q390=\"poly\",$Q390=\"HIT\",$Q390=\"EFG\",$Q390=\"mono-LGBC\"),1,IF(OR($Q390=\"µc-Si / a-Si\",$Q390=\"a-Si (single)\",$Q390=\"a-Si (tandem)\",$Q390=\"a-Si (triple)\"),3,2))))","v":1},{"$f":"IF($O390=\"Sunpower Corp.\",3,(IF(OR($Q390=\"mono\",$Q390=\"poly\",$Q390=\"HIT\",$Q390=\"EFG\",$Q390=\"mono-LGBC\"),1,2)))","v":1},{"$f":"IF($O390=\"Sunpower Corp.\",3,(IF(OR($Q390=\"mono\",$Q390=\"poly\",$Q390=\"HIT\",$Q390=\"EFG\",$Q390=\"mono-LGBC\"),1,IF(OR($Q390=\"µc-Si / a-Si\",$Q390=\"a-Si (single)\",$Q390=\"a-Si (tandem)\",$Q390=\"a-Si (triple)\"),3,2))))","v":1},0,null,null,27064,null,null,388]
["AnelEnerji ANP 190 NEC","AnelEnerji ","ANP 190 NEC",190,"+3...0",25.91,7.38,32.130000000000003,7.68,-96.39,3.6095999999999999,-0.39,1000,"Turkey","NEC",12.70950984954834,"poly",54,"square",1507,992,33,null,"junction box Tyco",16.5,null,"-","-","-","-","-",{"$f":"IF($O391=\"Sunpower Corp.\",3,(IF(OR($Q391=\"mono\",$Q391=\"poly\",$Q391=\"HIT\",$Q391=\"EFG\",$Q391=\"mono-LGBC\"),1,IF(OR($Q391=\"µc-Si / a-Si\",$Q391=\"a-Si (single)\",$Q391=\"a-Si (tandem)\",$Q391=\"a-Si (triple)\"),3,2))))","v":1},{"$f":"IF($O391=\"Sunpower Corp.\",3,(IF(OR($Q391=\"mono\",$Q391=\"poly\",$Q391=\"HIT\",$Q391=\"EFG\",$Q391=\"mono-LGBC\"),1,2)))","v":1},{"$f":"IF($O391=\"Sunpower Corp.\",3,(IF(OR($Q391=\"mono\",$Q391=\"poly\",$Q391=\"HIT\",$Q391=\"EFG\",$Q391=\"mono-LGBC\"),1,IF(OR($Q391=\"µc-Si / a-Si\",$Q391=\"a-Si (single)\",$Q391=\"a-Si (tandem)\",$Q391=\"a-Si (triple)\"),3,2))))","v":1},0,null,null,34932,null,null,389]
["AnelEnerji ANP 195 NEC","AnelEnerji ","ANP 195 NEC",195,"+3...0",26.08,7.49,32.71,8.08,-98.13,3.7976000000000001,-0.39,1000,"Turkey","NEC",13.043970108032227,"poly",54,"square",1507,992,33,null,"junction box Tyco",16.5,null,"-","-","-","-","-",{"$f":"IF($O392=\"Sunpower Corp.\",3,(IF(OR($Q392=\"mono\",$Q392=\"poly\",$Q392=\"HIT\",$Q392=\"EFG\",$Q392=\"mono-LGBC\"),1,IF(OR($Q392=\"µc-Si / a-Si\",$Q392=\"a-Si (single)\",$Q392=\"a-Si (tandem)\",$Q392=\"a-Si (triple)\"),3,2))))","v":1},{"$f":"IF($O392=\"Sunpower Corp.\",3,(IF(OR($Q392=\"mono\",$Q392=\"poly\",$Q392=\"HIT\",$Q392=\"EFG\",$Q392=\"mono-LGBC\"),1,2)))","v":1},{"$f":"IF($O392=\"Sunpower Corp.\",3,(IF(OR($Q392=\"mono\",$Q392=\"poly\",$Q392=\"HIT\",$Q392=\"EFG\",$Q392=\"mono-LGBC\"),1,IF(OR($Q392=\"µc-Si / a-Si\",$Q392=\"a-Si (single)\",$Q392=\"a-Si (tandem)\",$Q392=\"a-Si (triple)\"),3,2))))","v":1},0,null,null,34933,null,null,390]
["AnelEnerji ANP 200 NEC","AnelEnerji ","ANP 200 NEC",200,"+3...0",26.34,7.63,32.909999999999997,8.3000000000000007,-98.73,3.9010000000000002,-0.39,1000,"Turkey","NEC",13.378430366516113,"poly",54,"square",1507,992,33,null,"junction box Tyco",16.5,null,"-","-","-","-","-",{"$f":"IF($O393=\"Sunpower Corp.\",3,(IF(OR($Q393=\"mono\",$Q393=\"poly\",$Q393=\"HIT\",$Q393=\"EFG\",$Q393=\"mono-LGBC\"),1,IF(OR($Q393=\"µc-Si / a-Si\",$Q393=\"a-Si (single)\",$Q393=\"a-Si (tandem)\",$Q393=\"a-Si (triple)\"),3,2))))","v":1},{"$f":"IF($O393=\"Sunpower Corp.\",3,(IF(OR($Q393=\"mono\",$Q393=\"poly\",$Q393=\"HIT\",$Q393=\"EFG\",$Q393=\"mono-LGBC\"),1,2)))","v":1},{"$f":"IF($O393=\"Sunpower Corp.\",3,(IF(OR($Q393=\"mono\",$Q393=\"poly\",$Q393=\"HIT\",$Q393=\"EFG\",$Q393=\"mono-LGBC\"),1,IF(OR($Q393=\"µc-Si / a-Si\",$Q393=\"a-Si (single)\",$Q393=\"a-Si (tandem)\",$Q393=\"a-Si (triple)\"),3,2))))","v":1},0,null,null,34934,null,null,391]
["AnelEnerji ANP 215 NEC","AnelEnerji ","ANP 215 NEC",215,"+3...0",26.51,8.1300000000000008,33.450000000000003,8.8000000000000007,-100.35,4.1360000000000001,-0.39,1000,"Turkey","NEC",14.381810188293457,"poly",54,"square",1507,992,33,null,"junction box Tyco",16.5,null,"-","-","-","-","-",{"$f":"IF($O394=\"Sunpower Corp.\",3,(IF(OR($Q394=\"mono\",$Q394=\"poly\",$Q394=\"HIT\",$Q394=\"EFG\",$Q394=\"mono-LGBC\"),1,IF(OR($Q394=\"µc-Si / a-Si\",$Q394=\"a-Si (single)\",$Q394=\"a-Si (tandem)\",$Q394=\"a-Si (triple)\"),3,2))))","v":1},{"$f":"IF($O394=\"Sunpower Corp.\",3,(IF(OR($Q394=\"mono\",$Q394=\"poly\",$Q394=\"HIT\",$Q394=\"EFG\",$Q394=\"mono-LGBC\"),1,2)))","v":1},{"$f":"IF($O394=\"Sunpower Corp.\",3,(IF(OR($Q394=\"mono\",$Q394=\"poly\",$Q394=\"HIT\",$Q394=\"EFG\",$Q394=\"mono-LGBC\"),1,IF(OR($Q394=\"µc-Si / a-Si\",$Q394=\"a-Si (single)\",$Q394=\"a-Si (tandem)\",$Q394=\"a-Si (triple)\"),3,2))))","v":1},0,null,null,34935,null,null,392]
["AnelEnerji ANP 235 NEC","AnelEnerji ","ANP 235 NEC",235,"+3...0",29.45,7.98,36.82,8.65,-110.46,4.0655000000000001,-0.39,1000,"Turkey","NEC",14.245050430297852,"poly",60,"square",1663,992,33,null,"junction box Tyco",18,null,"-","-","-","-","-",{"$f":"IF($O395=\"Sunpower Corp.\",3,(IF(OR($Q395=\"mono\",$Q395=\"poly\",$Q395=\"HIT\",$Q395=\"EFG\",$Q395=\"mono-LGBC\"),1,IF(OR($Q395=\"µc-Si / a-Si\",$Q395=\"a-Si (single)\",$Q395=\"a-Si (tandem)\",$Q395=\"a-Si (triple)\"),3,2))))","v":1},{"$f":"IF($O395=\"Sunpower Corp.\",3,(IF(OR($Q395=\"mono\",$Q395=\"poly\",$Q395=\"HIT\",$Q395=\"EFG\",$Q395=\"mono-LGBC\"),1,2)))","v":1},{"$f":"IF($O395=\"Sunpower Corp.\",3,(IF(OR($Q395=\"mono\",$Q395=\"poly\",$Q395=\"HIT\",$Q395=\"EFG\",$Q395=\"mono-LGBC\"),1,IF(OR($Q395=\"µc-Si / a-Si\",$Q395=\"a-Si (single)\",$Q395=\"a-Si (tandem)\",$Q395=\"a-Si (triple)\"),3,2))))","v":1},0,null,null,34936,null,null,393]
["AnelEnerji GP-M 205","AnelEnerji ","GP-M 205",205,"+3...0",26.32,7.79,33.42,8.26,-110.28600000000002,2.8910000000000005,-0.46,1000,null,null,13.856829643249512,"mono",54,"pseudo-square",1505,983,40,"aluminum","junction box Tyco",20,"www.anelenerji.com.tr","-","-","-","-","-",{"$f":"IF($O396=\"Sunpower Corp.\",3,(IF(OR($Q396=\"mono\",$Q396=\"poly\",$Q396=\"HIT\",$Q396=\"EFG\",$Q396=\"mono-LGBC\"),1,IF(OR($Q396=\"µc-Si / a-Si\",$Q396=\"a-Si (single)\",$Q396=\"a-Si (tandem)\",$Q396=\"a-Si (triple)\"),3,2))))","v":1},{"$f":"IF($O396=\"Sunpower Corp.\",3,(IF(OR($Q396=\"mono\",$Q396=\"poly\",$Q396=\"HIT\",$Q396=\"EFG\",$Q396=\"mono-LGBC\"),1,2)))","v":1},{"$f":"IF($O396=\"Sunpower Corp.\",3,(IF(OR($Q396=\"mono\",$Q396=\"poly\",$Q396=\"HIT\",$Q396=\"EFG\",$Q396=\"mono-LGBC\"),1,IF(OR($Q396=\"µc-Si / a-Si\",$Q396=\"a-Si (single)\",$Q396=\"a-Si (tandem)\",$Q396=\"a-Si (triple)\"),3,2))))","v":1},0,null,null,21617,null,null,394]
["AnelEnerji GP-M 210","AnelEnerji ","GP-M 210",210,"+3...0",26.9,7.81,34.25,8.1999999999999993,-113.02500000000001,2.87,-0.46,1000,null,null,14.19480037689209,"mono",54,"pseudo-square",1505,983,40,"aluminum","junction box Tyco",20,"www.anelenerji.com.tr","-","-","-","-","-",{"$f":"IF($O397=\"Sunpower Corp.\",3,(IF(OR($Q397=\"mono\",$Q397=\"poly\",$Q397=\"HIT\",$Q397=\"EFG\",$Q397=\"mono-LGBC\"),1,IF(OR($Q397=\"µc-Si / a-Si\",$Q397=\"a-Si (single)\",$Q397=\"a-Si (tandem)\",$Q397=\"a-Si (triple)\"),3,2))))","v":1},{"$f":"IF($O397=\"Sunpower Corp.\",3,(IF(OR($Q397=\"mono\",$Q397=\"poly\",$Q397=\"HIT\",$Q397=\"EFG\",$Q397=\"mono-LGBC\"),1,2)))","v":1},{"$f":"IF($O397=\"Sunpower Corp.\",3,(IF(OR($Q397=\"mono\",$Q397=\"poly\",$Q397=\"HIT\",$Q397=\"EFG\",$Q397=\"mono-LGBC\"),1,IF(OR($Q397=\"µc-Si / a-Si\",$Q397=\"a-Si (single)\",$Q397=\"a-Si (tandem)\",$Q397=\"a-Si (triple)\"),3,2))))","v":1},0,null,null,21620,null,null,395]
["AnelEnerji GP-M 220","AnelEnerji ","GP-M 220",220,"+3...0",29.1,7.57,37.020000000000003,8.0299999999999994,-122.16600000000001,2.8105000000000002,-0.46,1000,null,null,13.457889556884766,"mono",60,"pseudo-square",1663,983,40,"aluminum","junction box Tyco",22,"www.anelenerji.com.tr","-","-","-","-","-",{"$f":"IF($O398=\"Sunpower Corp.\",3,(IF(OR($Q398=\"mono\",$Q398=\"poly\",$Q398=\"HIT\",$Q398=\"EFG\",$Q398=\"mono-LGBC\"),1,IF(OR($Q398=\"µc-Si / a-Si\",$Q398=\"a-Si (single)\",$Q398=\"a-Si (tandem)\",$Q398=\"a-Si (triple)\"),3,2))))","v":1},{"$f":"IF($O398=\"Sunpower Corp.\",3,(IF(OR($Q398=\"mono\",$Q398=\"poly\",$Q398=\"HIT\",$Q398=\"EFG\",$Q398=\"mono-LGBC\"),1,2)))","v":1},{"$f":"IF($O398=\"Sunpower Corp.\",3,(IF(OR($Q398=\"mono\",$Q398=\"poly\",$Q398=\"HIT\",$Q398=\"EFG\",$Q398=\"mono-LGBC\"),1,IF(OR($Q398=\"µc-Si / a-Si\",$Q398=\"a-Si (single)\",$Q398=\"a-Si (tandem)\",$Q398=\"a-Si (triple)\"),3,2))))","v":1},0,null,null,21621,null,null,396]
["AnelEnerji GP-M 225","AnelEnerji ","GP-M 225",225,"+3...0",29.2,7.72,37.08,8.16,-122.364,2.8560000000000003,-0.46,1000,null,null,13.763750076293945,"mono",60,"pseudo-square",1663,983,40,"aluminum","junction box Tyco",22,"www.anelenerji.com.tr","-","-","-","-","-",{"$f":"IF($O399=\"Sunpower Corp.\",3,(IF(OR($Q399=\"mono\",$Q399=\"poly\",$Q399=\"HIT\",$Q399=\"EFG\",$Q399=\"mono-LGBC\"),1,IF(OR($Q399=\"µc-Si / a-Si\",$Q399=\"a-Si (single)\",$Q399=\"a-Si (tandem)\",$Q399=\"a-Si (triple)\"),3,2))))","v":1},{"$f":"IF($O399=\"Sunpower Corp.\",3,(IF(OR($Q399=\"mono\",$Q399=\"poly\",$Q399=\"HIT\",$Q399=\"EFG\",$Q399=\"mono-LGBC\"),1,2)))","v":1},{"$f":"IF($O399=\"Sunpower Corp.\",3,(IF(OR($Q399=\"mono\",$Q399=\"poly\",$Q399=\"HIT\",$Q399=\"EFG\",$Q399=\"mono-LGBC\"),1,IF(OR($Q399=\"µc-Si / a-Si\",$Q399=\"a-Si (single)\",$Q399=\"a-Si (tandem)\",$Q399=\"a-Si (triple)\"),3,2))))","v":1},0,null,null,21622,null,null,397]
["AnelEnerji GP-M 230","AnelEnerji ","GP-M 230",230,"+3...0",29.41,7.83,37.14,8.3000000000000007,-122.562,2.9049999999999998,-0.46,1000,null,null,14.069609642028809,"mono",60,"pseudo-square",1663,983,40,"aluminum","junction box Tyco",22,"www.anelenerji.com.tr","-","-","-","-","-",{"$f":"IF($O400=\"Sunpower Corp.\",3,(IF(OR($Q400=\"mono\",$Q400=\"poly\",$Q400=\"HIT\",$Q400=\"EFG\",$Q400=\"mono-LGBC\"),1,IF(OR($Q400=\"µc-Si / a-Si\",$Q400=\"a-Si (single)\",$Q400=\"a-Si (tandem)\",$Q400=\"a-Si (triple)\"),3,2))))","v":1},{"$f":"IF($O400=\"Sunpower Corp.\",3,(IF(OR($Q400=\"mono\",$Q400=\"poly\",$Q400=\"HIT\",$Q400=\"EFG\",$Q400=\"mono-LGBC\"),1,2)))","v":1},{"$f":"IF($O400=\"Sunpower Corp.\",3,(IF(OR($Q400=\"mono\",$Q400=\"poly\",$Q400=\"HIT\",$Q400=\"EFG\",$Q400=\"mono-LGBC\"),1,IF(OR($Q400=\"µc-Si / a-Si\",$Q400=\"a-Si (single)\",$Q400=\"a-Si (tandem)\",$Q400=\"a-Si (triple)\"),3,2))))","v":1},0,null,null,21623,null,null,398]
["AnelEnerji GP-P 195","AnelEnerji ","GP-P 195",195,"+3...0",26.75,7.29,31.95,8.17,-111.825,3.2680000000000002,-0.4,1000,null,null,13.043970108032227,"poly",54,"square",1507,992,33,"aluminum","junction box Tyco",15,"www.anelenerji.com.tr","-","-","-","-","-",{"$f":"IF($O401=\"Sunpower Corp.\",3,(IF(OR($Q401=\"mono\",$Q401=\"poly\",$Q401=\"HIT\",$Q401=\"EFG\",$Q401=\"mono-LGBC\"),1,IF(OR($Q401=\"µc-Si / a-Si\",$Q401=\"a-Si (single)\",$Q401=\"a-Si (tandem)\",$Q401=\"a-Si (triple)\"),3,2))))","v":1},{"$f":"IF($O401=\"Sunpower Corp.\",3,(IF(OR($Q401=\"mono\",$Q401=\"poly\",$Q401=\"HIT\",$Q401=\"EFG\",$Q401=\"mono-LGBC\"),1,2)))","v":1},{"$f":"IF($O401=\"Sunpower Corp.\",3,(IF(OR($Q401=\"mono\",$Q401=\"poly\",$Q401=\"HIT\",$Q401=\"EFG\",$Q401=\"mono-LGBC\"),1,IF(OR($Q401=\"µc-Si / a-Si\",$Q401=\"a-Si (single)\",$Q401=\"a-Si (tandem)\",$Q401=\"a-Si (triple)\"),3,2))))","v":1},0,null,null,21624,null,null,399]
["AnelEnerji GP-P 200","AnelEnerji ","GP-P 200",200,"+3...0",26.91,7.43,32.369999999999997,8.2100000000000009,-113.295,3.2840000000000003,-0.4,1000,null,null,13.378430366516113,"poly",54,"square",1507,992,33,"aluminum","junction box Tyco",15,"www.anelenerji.com.tr","-","-","-","-","-",{"$f":"IF($O402=\"Sunpower Corp.\",3,(IF(OR($Q402=\"mono\",$Q402=\"poly\",$Q402=\"HIT\",$Q402=\"EFG\",$Q402=\"mono-LGBC\"),1,IF(OR($Q402=\"µc-Si / a-Si\",$Q402=\"a-Si (single)\",$Q402=\"a-Si (tandem)\",$Q402=\"a-Si (triple)\"),3,2))))","v":1},{"$f":"IF($O402=\"Sunpower Corp.\",3,(IF(OR($Q402=\"mono\",$Q402=\"poly\",$Q402=\"HIT\",$Q402=\"EFG\",$Q402=\"mono-LGBC\"),1,2)))","v":1},{"$f":"IF($O402=\"Sunpower Corp.\",3,(IF(OR($Q402=\"mono\",$Q402=\"poly\",$Q402=\"HIT\",$Q402=\"EFG\",$Q402=\"mono-LGBC\"),1,IF(OR($Q402=\"µc-Si / a-Si\",$Q402=\"a-Si (single)\",$Q402=\"a-Si (tandem)\",$Q402=\"a-Si (triple)\"),3,2))))","v":1},0,null,null,21625,null,null,400]
["AnelEnerji GP-P 205","AnelEnerji ","GP-P 205",205,"+3...0",27.07,7.57,32.53,8.26,-113.855,3.3040000000000003,-0.4,1000,null,null,13.712889671325684,"poly",54,"square",1507,992,33,"aluminum","junction box Tyco",15,"www.anelenerji.com.tr","-","-","-","-","-",{"$f":"IF($O403=\"Sunpower Corp.\",3,(IF(OR($Q403=\"mono\",$Q403=\"poly\",$Q403=\"HIT\",$Q403=\"EFG\",$Q403=\"mono-LGBC\"),1,IF(OR($Q403=\"µc-Si / a-Si\",$Q403=\"a-Si (single)\",$Q403=\"a-Si (tandem)\",$Q403=\"a-Si (triple)\"),3,2))))","v":1},{"$f":"IF($O403=\"Sunpower Corp.\",3,(IF(OR($Q403=\"mono\",$Q403=\"poly\",$Q403=\"HIT\",$Q403=\"EFG\",$Q403=\"mono-LGBC\"),1,2)))","v":1},{"$f":"IF($O403=\"Sunpower Corp.\",3,(IF(OR($Q403=\"mono\",$Q403=\"poly\",$Q403=\"HIT\",$Q403=\"EFG\",$Q403=\"mono-LGBC\"),1,IF(OR($Q403=\"µc-Si / a-Si\",$Q403=\"a-Si (single)\",$Q403=\"a-Si (tandem)\",$Q403=\"a-Si (triple)\"),3,2))))","v":1},0,null,null,21626,null,null,401]
["Anhui Chaoqun Power CO.,Ltd CQM165-24","Anhui Chaoqun Power CO.,Ltd ","CQM165-24",165,"+5...-5",34.799999999999997,4.74,43.6,5.04,-151.72799999999998,1.5624,null,null,null,null,12.92455005645752,"mono",72,"pseudo-square",1580,808,35,"aluminum","junction box",15.5,"www.wxrcdl.com","-","-","-","-","-",{"$f":"IF($O404=\"Sunpower Corp.\",3,(IF(OR($Q404=\"mono\",$Q404=\"poly\",$Q404=\"HIT\",$Q404=\"EFG\",$Q404=\"mono-LGBC\"),1,IF(OR($Q404=\"µc-Si / a-Si\",$Q404=\"a-Si (single)\",$Q404=\"a-Si (tandem)\",$Q404=\"a-Si (triple)\"),3,2))))","v":1},{"$f":"IF($O404=\"Sunpower Corp.\",3,(IF(OR($Q404=\"mono\",$Q404=\"poly\",$Q404=\"HIT\",$Q404=\"EFG\",$Q404=\"mono-LGBC\"),1,2)))","v":1},{"$f":"IF($O404=\"Sunpower Corp.\",3,(IF(OR($Q404=\"mono\",$Q404=\"poly\",$Q404=\"HIT\",$Q404=\"EFG\",$Q404=\"mono-LGBC\"),1,IF(OR($Q404=\"µc-Si / a-Si\",$Q404=\"a-Si (single)\",$Q404=\"a-Si (tandem)\",$Q404=\"a-Si (triple)\"),3,2))))","v":1},0,null,null,33961,null,null,402]
["Anhui Chaoqun Power CO.,Ltd CQM170-24","Anhui Chaoqun Power CO.,Ltd ","CQM170-24",170,"+5...-5",35.200000000000003,4.83,43.8,5.14,-152.42399999999998,1.5933999999999997,null,null,null,null,13.31620979309082,"mono",72,"pseudo-square",1580,808,35,"aluminum","junction box",15.5,"www.wxrcdl.com","-","-","-","-","-",{"$f":"IF($O405=\"Sunpower Corp.\",3,(IF(OR($Q405=\"mono\",$Q405=\"poly\",$Q405=\"HIT\",$Q405=\"EFG\",$Q405=\"mono-LGBC\"),1,IF(OR($Q405=\"µc-Si / a-Si\",$Q405=\"a-Si (single)\",$Q405=\"a-Si (tandem)\",$Q405=\"a-Si (triple)\"),3,2))))","v":1},{"$f":"IF($O405=\"Sunpower Corp.\",3,(IF(OR($Q405=\"mono\",$Q405=\"poly\",$Q405=\"HIT\",$Q405=\"EFG\",$Q405=\"mono-LGBC\"),1,2)))","v":1},{"$f":"IF($O405=\"Sunpower Corp.\",3,(IF(OR($Q405=\"mono\",$Q405=\"poly\",$Q405=\"HIT\",$Q405=\"EFG\",$Q405=\"mono-LGBC\"),1,IF(OR($Q405=\"µc-Si / a-Si\",$Q405=\"a-Si (single)\",$Q405=\"a-Si (tandem)\",$Q405=\"a-Si (triple)\"),3,2))))","v":1},0,null,null,33962,null,null,403]
["Anhui Chaoqun Power CO.,Ltd CQM175-24","Anhui Chaoqun Power CO.,Ltd ","CQM175-24",175,"+5...-5",35.299999999999997,4.96,44.2,5.2,-153.81599999999997,1.6120000000000001,null,null,null,null,13.707859992980957,"mono",72,"pseudo-square",1580,808,35,"aluminum","junction box",15.5,"www.wxrcdl.com","-","-","-","-","-",{"$f":"IF($O406=\"Sunpower Corp.\",3,(IF(OR($Q406=\"mono\",$Q406=\"poly\",$Q406=\"HIT\",$Q406=\"EFG\",$Q406=\"mono-LGBC\"),1,IF(OR($Q406=\"µc-Si / a-Si\",$Q406=\"a-Si (single)\",$Q406=\"a-Si (tandem)\",$Q406=\"a-Si (triple)\"),3,2))))","v":1},{"$f":"IF($O406=\"Sunpower Corp.\",3,(IF(OR($Q406=\"mono\",$Q406=\"poly\",$Q406=\"HIT\",$Q406=\"EFG\",$Q406=\"mono-LGBC\"),1,2)))","v":1},{"$f":"IF($O406=\"Sunpower Corp.\",3,(IF(OR($Q406=\"mono\",$Q406=\"poly\",$Q406=\"HIT\",$Q406=\"EFG\",$Q406=\"mono-LGBC\"),1,IF(OR($Q406=\"µc-Si / a-Si\",$Q406=\"a-Si (single)\",$Q406=\"a-Si (tandem)\",$Q406=\"a-Si (triple)\"),3,2))))","v":1},0,null,null,33963,null,null,404]
["Anhui Chaoqun Power CO.,Ltd CQM180-24","Anhui Chaoqun Power CO.,Ltd ","CQM180-24",180,"+5...-5",35.299999999999997,5.0999999999999996,44.35,5.35,-154.33799999999997,1.6584999999999999,null,null,null,null,14.099510192871094,"mono",72,"pseudo-square",1580,808,35,"aluminum","junction box",15.5,"www.wxrcdl.com","-","-","-","-","-",{"$f":"IF($O407=\"Sunpower Corp.\",3,(IF(OR($Q407=\"mono\",$Q407=\"poly\",$Q407=\"HIT\",$Q407=\"EFG\",$Q407=\"mono-LGBC\"),1,IF(OR($Q407=\"µc-Si / a-Si\",$Q407=\"a-Si (single)\",$Q407=\"a-Si (tandem)\",$Q407=\"a-Si (triple)\"),3,2))))","v":1},{"$f":"IF($O407=\"Sunpower Corp.\",3,(IF(OR($Q407=\"mono\",$Q407=\"poly\",$Q407=\"HIT\",$Q407=\"EFG\",$Q407=\"mono-LGBC\"),1,2)))","v":1},{"$f":"IF($O407=\"Sunpower Corp.\",3,(IF(OR($Q407=\"mono\",$Q407=\"poly\",$Q407=\"HIT\",$Q407=\"EFG\",$Q407=\"mono-LGBC\"),1,IF(OR($Q407=\"µc-Si / a-Si\",$Q407=\"a-Si (single)\",$Q407=\"a-Si (tandem)\",$Q407=\"a-Si (triple)\"),3,2))))","v":1},0,null,null,33960,null,null,405]
["Anhui Chaoqun Power CO.,Ltd CQM185-24","Anhui Chaoqun Power CO.,Ltd ","CQM185-24",185,"+5...-5",35.58,5.2,45.2,5.4,-157.29599999999999,1.6740000000000002,null,null,null,null,14.49116039276123,"mono",72,"pseudo-square",1580,808,35,"aluminum","junction box",15.5,"www.wxrcdl.com","-","-","-","-","-",{"$f":"IF($O408=\"Sunpower Corp.\",3,(IF(OR($Q408=\"mono\",$Q408=\"poly\",$Q408=\"HIT\",$Q408=\"EFG\",$Q408=\"mono-LGBC\"),1,IF(OR($Q408=\"µc-Si / a-Si\",$Q408=\"a-Si (single)\",$Q408=\"a-Si (tandem)\",$Q408=\"a-Si (triple)\"),3,2))))","v":1},{"$f":"IF($O408=\"Sunpower Corp.\",3,(IF(OR($Q408=\"mono\",$Q408=\"poly\",$Q408=\"HIT\",$Q408=\"EFG\",$Q408=\"mono-LGBC\"),1,2)))","v":1},{"$f":"IF($O408=\"Sunpower Corp.\",3,(IF(OR($Q408=\"mono\",$Q408=\"poly\",$Q408=\"HIT\",$Q408=\"EFG\",$Q408=\"mono-LGBC\"),1,IF(OR($Q408=\"µc-Si / a-Si\",$Q408=\"a-Si (single)\",$Q408=\"a-Si (tandem)\",$Q408=\"a-Si (triple)\"),3,2))))","v":1},0,null,null,33964,null,null,406]
["Anhui Chaoqun Power CO.,Ltd CQM190-24","Anhui Chaoqun Power CO.,Ltd ","CQM190-24",190,"+5...-5",36.200000000000003,5.25,45.4,5.51,-157.99199999999996,1.7081,null,null,null,null,14.882820129394531,"mono",72,"pseudo-square",1580,808,35,"aluminum","junction box",15.5,"www.wxrcdl.com","-","-","-","-","-",{"$f":"IF($O409=\"Sunpower Corp.\",3,(IF(OR($Q409=\"mono\",$Q409=\"poly\",$Q409=\"HIT\",$Q409=\"EFG\",$Q409=\"mono-LGBC\"),1,IF(OR($Q409=\"µc-Si / a-Si\",$Q409=\"a-Si (single)\",$Q409=\"a-Si (tandem)\",$Q409=\"a-Si (triple)\"),3,2))))","v":1},{"$f":"IF($O409=\"Sunpower Corp.\",3,(IF(OR($Q409=\"mono\",$Q409=\"poly\",$Q409=\"HIT\",$Q409=\"EFG\",$Q409=\"mono-LGBC\"),1,2)))","v":1},{"$f":"IF($O409=\"Sunpower Corp.\",3,(IF(OR($Q409=\"mono\",$Q409=\"poly\",$Q409=\"HIT\",$Q409=\"EFG\",$Q409=\"mono-LGBC\"),1,IF(OR($Q409=\"µc-Si / a-Si\",$Q409=\"a-Si (single)\",$Q409=\"a-Si (tandem)\",$Q409=\"a-Si (triple)\"),3,2))))","v":1},0,null,null,33965,null,null,407]
["Anhui Chaoqun Power CO.,Ltd CQM195-24","Anhui Chaoqun Power CO.,Ltd ","CQM195-24",195,"+5...-5",36.74,5.31,45.5,5.65,-158.34,1.7515000000000001,null,null,null,null,15.274470329284668,"mono",72,"pseudo-square",1580,808,35,"aluminum","junction box",15.5,"www.wxrcdl.com","-","-","-","-","-",{"$f":"IF($O410=\"Sunpower Corp.\",3,(IF(OR($Q410=\"mono\",$Q410=\"poly\",$Q410=\"HIT\",$Q410=\"EFG\",$Q410=\"mono-LGBC\"),1,IF(OR($Q410=\"µc-Si / a-Si\",$Q410=\"a-Si (single)\",$Q410=\"a-Si (tandem)\",$Q410=\"a-Si (triple)\"),3,2))))","v":1},{"$f":"IF($O410=\"Sunpower Corp.\",3,(IF(OR($Q410=\"mono\",$Q410=\"poly\",$Q410=\"HIT\",$Q410=\"EFG\",$Q410=\"mono-LGBC\"),1,2)))","v":1},{"$f":"IF($O410=\"Sunpower Corp.\",3,(IF(OR($Q410=\"mono\",$Q410=\"poly\",$Q410=\"HIT\",$Q410=\"EFG\",$Q410=\"mono-LGBC\"),1,IF(OR($Q410=\"µc-Si / a-Si\",$Q410=\"a-Si (single)\",$Q410=\"a-Si (tandem)\",$Q410=\"a-Si (triple)\"),3,2))))","v":1},0,null,null,33966,null,null,408]
["Anhui Chaoqun Power CO.,Ltd CQM220-30","Anhui Chaoqun Power CO.,Ltd ","CQM220-30",220,"+5...-5",46.8,4.71,57.5,5.13,-200.1,1.5903,null,null,null,null,13.037500381469727,"mono",96,"pseudo-square",1580,1068,50,"aluminum","junction box",20,"www.wxrcdl.com","-","-","-","-","-",{"$f":"IF($O411=\"Sunpower Corp.\",3,(IF(OR($Q411=\"mono\",$Q411=\"poly\",$Q411=\"HIT\",$Q411=\"EFG\",$Q411=\"mono-LGBC\"),1,IF(OR($Q411=\"µc-Si / a-Si\",$Q411=\"a-Si (single)\",$Q411=\"a-Si (tandem)\",$Q411=\"a-Si (triple)\"),3,2))))","v":1},{"$f":"IF($O411=\"Sunpower Corp.\",3,(IF(OR($Q411=\"mono\",$Q411=\"poly\",$Q411=\"HIT\",$Q411=\"EFG\",$Q411=\"mono-LGBC\"),1,2)))","v":1},{"$f":"IF($O411=\"Sunpower Corp.\",3,(IF(OR($Q411=\"mono\",$Q411=\"poly\",$Q411=\"HIT\",$Q411=\"EFG\",$Q411=\"mono-LGBC\"),1,IF(OR($Q411=\"µc-Si / a-Si\",$Q411=\"a-Si (single)\",$Q411=\"a-Si (tandem)\",$Q411=\"a-Si (triple)\"),3,2))))","v":1},0,null,null,33967,null,null,409]
["Anhui Chaoqun Power CO.,Ltd CQM225-30","Anhui Chaoqun Power CO.,Ltd ","CQM225-30",225,"+5...-5",47.1,4.78,57.5,5.25,-200.1,1.6274999999999999,null,null,null,null,13.333809852600098,"mono",96,"pseudo-square",1580,1068,50,"aluminum","junction box",20,"www.wxrcdl.com","-","-","-","-","-",{"$f":"IF($O412=\"Sunpower Corp.\",3,(IF(OR($Q412=\"mono\",$Q412=\"poly\",$Q412=\"HIT\",$Q412=\"EFG\",$Q412=\"mono-LGBC\"),1,IF(OR($Q412=\"µc-Si / a-Si\",$Q412=\"a-Si (single)\",$Q412=\"a-Si (tandem)\",$Q412=\"a-Si (triple)\"),3,2))))","v":1},{"$f":"IF($O412=\"Sunpower Corp.\",3,(IF(OR($Q412=\"mono\",$Q412=\"poly\",$Q412=\"HIT\",$Q412=\"EFG\",$Q412=\"mono-LGBC\"),1,2)))","v":1},{"$f":"IF($O412=\"Sunpower Corp.\",3,(IF(OR($Q412=\"mono\",$Q412=\"poly\",$Q412=\"HIT\",$Q412=\"EFG\",$Q412=\"mono-LGBC\"),1,IF(OR($Q412=\"µc-Si / a-Si\",$Q412=\"a-Si (single)\",$Q412=\"a-Si (tandem)\",$Q412=\"a-Si (triple)\"),3,2))))","v":1},0,null,null,33968,null,null,410]
["Anhui Chaoqun Power CO.,Ltd CQM230-30","Anhui Chaoqun Power CO.,Ltd ","CQM230-30",230,"+5...-5",47.23,4.87,57.6,5.34,-200.44799999999998,1.6554,null,null,null,null,13.630109786987305,"mono",96,"pseudo-square",1580,1068,50,"aluminum","junction box",20,"www.wxrcdl.com","-","-","-","-","-",{"$f":"IF($O413=\"Sunpower Corp.\",3,(IF(OR($Q413=\"mono\",$Q413=\"poly\",$Q413=\"HIT\",$Q413=\"EFG\",$Q413=\"mono-LGBC\"),1,IF(OR($Q413=\"µc-Si / a-Si\",$Q413=\"a-Si (single)\",$Q413=\"a-Si (tandem)\",$Q413=\"a-Si (triple)\"),3,2))))","v":1},{"$f":"IF($O413=\"Sunpower Corp.\",3,(IF(OR($Q413=\"mono\",$Q413=\"poly\",$Q413=\"HIT\",$Q413=\"EFG\",$Q413=\"mono-LGBC\"),1,2)))","v":1},{"$f":"IF($O413=\"Sunpower Corp.\",3,(IF(OR($Q413=\"mono\",$Q413=\"poly\",$Q413=\"HIT\",$Q413=\"EFG\",$Q413=\"mono-LGBC\"),1,IF(OR($Q413=\"µc-Si / a-Si\",$Q413=\"a-Si (single)\",$Q413=\"a-Si (tandem)\",$Q413=\"a-Si (triple)\"),3,2))))","v":1},0,null,null,33969,null,null,411]
["Anhui Chaoqun Power CO.,Ltd CQM235-30","Anhui Chaoqun Power CO.,Ltd ","CQM235-30",235,"+5...-5",47.31,4.97,57.65,5.42,-200.62199999999996,1.6801999999999999,null,null,null,null,13.926420211791992,"mono",96,"pseudo-square",1580,1068,50,"aluminum","junction box",20,"www.wxrcdl.com","-","-","-","-","-",{"$f":"IF($O414=\"Sunpower Corp.\",3,(IF(OR($Q414=\"mono\",$Q414=\"poly\",$Q414=\"HIT\",$Q414=\"EFG\",$Q414=\"mono-LGBC\"),1,IF(OR($Q414=\"µc-Si / a-Si\",$Q414=\"a-Si (single)\",$Q414=\"a-Si (tandem)\",$Q414=\"a-Si (triple)\"),3,2))))","v":1},{"$f":"IF($O414=\"Sunpower Corp.\",3,(IF(OR($Q414=\"mono\",$Q414=\"poly\",$Q414=\"HIT\",$Q414=\"EFG\",$Q414=\"mono-LGBC\"),1,2)))","v":1},{"$f":"IF($O414=\"Sunpower Corp.\",3,(IF(OR($Q414=\"mono\",$Q414=\"poly\",$Q414=\"HIT\",$Q414=\"EFG\",$Q414=\"mono-LGBC\"),1,IF(OR($Q414=\"µc-Si / a-Si\",$Q414=\"a-Si (single)\",$Q414=\"a-Si (tandem)\",$Q414=\"a-Si (triple)\"),3,2))))","v":1},0,null,null,33970,null,null,412]
["Anhui Chaoqun Power CO.,Ltd CQM240-30","Anhui Chaoqun Power CO.,Ltd ","CQM240-30",240,"+5...-5",47.44,5.0599999999999996,57.7,5.54,-200.79599999999996,1.7174,null,null,null,null,14.222729682922363,"mono",96,"pseudo-square",1580,1068,50,"aluminum","junction box",20,"www.wxrcdl.com","-","-","-","-","-",{"$f":"IF($O415=\"Sunpower Corp.\",3,(IF(OR($Q415=\"mono\",$Q415=\"poly\",$Q415=\"HIT\",$Q415=\"EFG\",$Q415=\"mono-LGBC\"),1,IF(OR($Q415=\"µc-Si / a-Si\",$Q415=\"a-Si (single)\",$Q415=\"a-Si (tandem)\",$Q415=\"a-Si (triple)\"),3,2))))","v":1},{"$f":"IF($O415=\"Sunpower Corp.\",3,(IF(OR($Q415=\"mono\",$Q415=\"poly\",$Q415=\"HIT\",$Q415=\"EFG\",$Q415=\"mono-LGBC\"),1,2)))","v":1},{"$f":"IF($O415=\"Sunpower Corp.\",3,(IF(OR($Q415=\"mono\",$Q415=\"poly\",$Q415=\"HIT\",$Q415=\"EFG\",$Q415=\"mono-LGBC\"),1,IF(OR($Q415=\"µc-Si / a-Si\",$Q415=\"a-Si (single)\",$Q415=\"a-Si (tandem)\",$Q415=\"a-Si (triple)\"),3,2))))","v":1},0,null,null,33971,null,null,413]
["Anhui Chaoqun Power CO.,Ltd CQM245-30","Anhui Chaoqun Power CO.,Ltd ","CQM245-30",245,"+5...-5",47.5,5.16,57.75,5.6,-200.97,1.736,null,null,null,null,14.51902961730957,"mono",96,"pseudo-square",1580,1068,50,"aluminum","junction box",20,"www.wxrcdl.com","-","-","-","-","-",{"$f":"IF($O416=\"Sunpower Corp.\",3,(IF(OR($Q416=\"mono\",$Q416=\"poly\",$Q416=\"HIT\",$Q416=\"EFG\",$Q416=\"mono-LGBC\"),1,IF(OR($Q416=\"µc-Si / a-Si\",$Q416=\"a-Si (single)\",$Q416=\"a-Si (tandem)\",$Q416=\"a-Si (triple)\"),3,2))))","v":1},{"$f":"IF($O416=\"Sunpower Corp.\",3,(IF(OR($Q416=\"mono\",$Q416=\"poly\",$Q416=\"HIT\",$Q416=\"EFG\",$Q416=\"mono-LGBC\"),1,2)))","v":1},{"$f":"IF($O416=\"Sunpower Corp.\",3,(IF(OR($Q416=\"mono\",$Q416=\"poly\",$Q416=\"HIT\",$Q416=\"EFG\",$Q416=\"mono-LGBC\"),1,IF(OR($Q416=\"µc-Si / a-Si\",$Q416=\"a-Si (single)\",$Q416=\"a-Si (tandem)\",$Q416=\"a-Si (triple)\"),3,2))))","v":1},0,null,null,33972,null,null,414]
["Anhui Chaoqun Power CO.,Ltd CQM250-30","Anhui Chaoqun Power CO.,Ltd ","CQM250-30",250,"+5...-5",47.6,5.25,57.8,5.7,-201.14399999999995,1.7670000000000001,null,null,null,null,14.815340042114258,"mono",96,"pseudo-square",1580,1068,50,"aluminum","junction box",20,"www.wxrcdl.com","-","-","-","-","-",{"$f":"IF($O417=\"Sunpower Corp.\",3,(IF(OR($Q417=\"mono\",$Q417=\"poly\",$Q417=\"HIT\",$Q417=\"EFG\",$Q417=\"mono-LGBC\"),1,IF(OR($Q417=\"µc-Si / a-Si\",$Q417=\"a-Si (single)\",$Q417=\"a-Si (tandem)\",$Q417=\"a-Si (triple)\"),3,2))))","v":1},{"$f":"IF($O417=\"Sunpower Corp.\",3,(IF(OR($Q417=\"mono\",$Q417=\"poly\",$Q417=\"HIT\",$Q417=\"EFG\",$Q417=\"mono-LGBC\"),1,2)))","v":1},{"$f":"IF($O417=\"Sunpower Corp.\",3,(IF(OR($Q417=\"mono\",$Q417=\"poly\",$Q417=\"HIT\",$Q417=\"EFG\",$Q417=\"mono-LGBC\"),1,IF(OR($Q417=\"µc-Si / a-Si\",$Q417=\"a-Si (single)\",$Q417=\"a-Si (tandem)\",$Q417=\"a-Si (triple)\"),3,2))))","v":1},0,null,null,33974,null,null,415]
["Anhui Chaoqun Power CO.,Ltd CQM255-30","Anhui Chaoqun Power CO.,Ltd ","CQM255-30",255,"+5...-5",47.75,5.34,57.85,5.8,-201.31799999999996,1.7979999999999998,null,null,null,null,15.111650466918945,"mono",96,"pseudo-square",1580,1068,50,"aluminum","junction box",20,"www.wxrcdl.com","-","-","-","-","-",{"$f":"IF($O418=\"Sunpower Corp.\",3,(IF(OR($Q418=\"mono\",$Q418=\"poly\",$Q418=\"HIT\",$Q418=\"EFG\",$Q418=\"mono-LGBC\"),1,IF(OR($Q418=\"µc-Si / a-Si\",$Q418=\"a-Si (single)\",$Q418=\"a-Si (tandem)\",$Q418=\"a-Si (triple)\"),3,2))))","v":1},{"$f":"IF($O418=\"Sunpower Corp.\",3,(IF(OR($Q418=\"mono\",$Q418=\"poly\",$Q418=\"HIT\",$Q418=\"EFG\",$Q418=\"mono-LGBC\"),1,2)))","v":1},{"$f":"IF($O418=\"Sunpower Corp.\",3,(IF(OR($Q418=\"mono\",$Q418=\"poly\",$Q418=\"HIT\",$Q418=\"EFG\",$Q418=\"mono-LGBC\"),1,IF(OR($Q418=\"µc-Si / a-Si\",$Q418=\"a-Si (single)\",$Q418=\"a-Si (tandem)\",$Q418=\"a-Si (triple)\"),3,2))))","v":1},0,null,null,33975,null,null,416]
["Anhui Chaoqun Power CO.,Ltd CQM260-30","Anhui Chaoqun Power CO.,Ltd ","CQM260-30",260,"+5...-5",47.85,5.44,57.93,5.9,-201.59639999999999,1.8290000000000002,null,null,null,null,15.407959938049316,"mono",96,"pseudo-square",1580,1068,50,"aluminum","junction box",20,"www.wxrcdl.com","-","-","-","-","-",{"$f":"IF($O419=\"Sunpower Corp.\",3,(IF(OR($Q419=\"mono\",$Q419=\"poly\",$Q419=\"HIT\",$Q419=\"EFG\",$Q419=\"mono-LGBC\"),1,IF(OR($Q419=\"µc-Si / a-Si\",$Q419=\"a-Si (single)\",$Q419=\"a-Si (tandem)\",$Q419=\"a-Si (triple)\"),3,2))))","v":1},{"$f":"IF($O419=\"Sunpower Corp.\",3,(IF(OR($Q419=\"mono\",$Q419=\"poly\",$Q419=\"HIT\",$Q419=\"EFG\",$Q419=\"mono-LGBC\"),1,2)))","v":1},{"$f":"IF($O419=\"Sunpower Corp.\",3,(IF(OR($Q419=\"mono\",$Q419=\"poly\",$Q419=\"HIT\",$Q419=\"EFG\",$Q419=\"mono-LGBC\"),1,IF(OR($Q419=\"µc-Si / a-Si\",$Q419=\"a-Si (single)\",$Q419=\"a-Si (tandem)\",$Q419=\"a-Si (triple)\"),3,2))))","v":1},0,null,null,33976,null,null,417]
["Anhui Chaoqun Power CO.,Ltd CQP180-18","Anhui Chaoqun Power CO.,Ltd ","CQP180-18",180,"+5...-5",25.8,6.98,32.4,7.7,-100.44,2.31,null,null,null,null,12.24370002746582,"poly",54,"square",1482,992,50,"aluminum","junction box",17,"www.wxrcdl.com","-","-","-","-","-",{"$f":"IF($O420=\"Sunpower Corp.\",3,(IF(OR($Q420=\"mono\",$Q420=\"poly\",$Q420=\"HIT\",$Q420=\"EFG\",$Q420=\"mono-LGBC\"),1,IF(OR($Q420=\"µc-Si / a-Si\",$Q420=\"a-Si (single)\",$Q420=\"a-Si (tandem)\",$Q420=\"a-Si (triple)\"),3,2))))","v":1},{"$f":"IF($O420=\"Sunpower Corp.\",3,(IF(OR($Q420=\"mono\",$Q420=\"poly\",$Q420=\"HIT\",$Q420=\"EFG\",$Q420=\"mono-LGBC\"),1,2)))","v":1},{"$f":"IF($O420=\"Sunpower Corp.\",3,(IF(OR($Q420=\"mono\",$Q420=\"poly\",$Q420=\"HIT\",$Q420=\"EFG\",$Q420=\"mono-LGBC\"),1,IF(OR($Q420=\"µc-Si / a-Si\",$Q420=\"a-Si (single)\",$Q420=\"a-Si (tandem)\",$Q420=\"a-Si (triple)\"),3,2))))","v":1},0,null,null,33977,null,null,418]
["Anhui Chaoqun Power CO.,Ltd CQP180-20","Anhui Chaoqun Power CO.,Ltd ","CQP180-20",180,"+5...-5",28.8,6.25,36,6.66,-111.6,1.9979999999999998,null,null,null,null,11.064120292663574,"poly",60,"square",1640,992,50,"aluminum","junction box",18,"www.wxrcdl.com","-","-","-","-","-",{"$f":"IF($O421=\"Sunpower Corp.\",3,(IF(OR($Q421=\"mono\",$Q421=\"poly\",$Q421=\"HIT\",$Q421=\"EFG\",$Q421=\"mono-LGBC\"),1,IF(OR($Q421=\"µc-Si / a-Si\",$Q421=\"a-Si (single)\",$Q421=\"a-Si (tandem)\",$Q421=\"a-Si (triple)\"),3,2))))","v":1},{"$f":"IF($O421=\"Sunpower Corp.\",3,(IF(OR($Q421=\"mono\",$Q421=\"poly\",$Q421=\"HIT\",$Q421=\"EFG\",$Q421=\"mono-LGBC\"),1,2)))","v":1},{"$f":"IF($O421=\"Sunpower Corp.\",3,(IF(OR($Q421=\"mono\",$Q421=\"poly\",$Q421=\"HIT\",$Q421=\"EFG\",$Q421=\"mono-LGBC\"),1,IF(OR($Q421=\"µc-Si / a-Si\",$Q421=\"a-Si (single)\",$Q421=\"a-Si (tandem)\",$Q421=\"a-Si (triple)\"),3,2))))","v":1},0,null,null,33996,null,null,419]
["Anhui Chaoqun Power CO.,Ltd CQP185-18","Anhui Chaoqun Power CO.,Ltd ","CQP185-18",185,"+5...-5",26.02,7.11,32.4,7.75,-100.44,2.3250000000000002,null,null,null,null,12.583800315856934,"poly",54,"square",1482,992,50,"aluminum","junction box",17,"www.wxrcdl.com","-","-","-","-","-",{"$f":"IF($O422=\"Sunpower Corp.\",3,(IF(OR($Q422=\"mono\",$Q422=\"poly\",$Q422=\"HIT\",$Q422=\"EFG\",$Q422=\"mono-LGBC\"),1,IF(OR($Q422=\"µc-Si / a-Si\",$Q422=\"a-Si (single)\",$Q422=\"a-Si (tandem)\",$Q422=\"a-Si (triple)\"),3,2))))","v":1},{"$f":"IF($O422=\"Sunpower Corp.\",3,(IF(OR($Q422=\"mono\",$Q422=\"poly\",$Q422=\"HIT\",$Q422=\"EFG\",$Q422=\"mono-LGBC\"),1,2)))","v":1},{"$f":"IF($O422=\"Sunpower Corp.\",3,(IF(OR($Q422=\"mono\",$Q422=\"poly\",$Q422=\"HIT\",$Q422=\"EFG\",$Q422=\"mono-LGBC\"),1,IF(OR($Q422=\"µc-Si / a-Si\",$Q422=\"a-Si (single)\",$Q422=\"a-Si (tandem)\",$Q422=\"a-Si (triple)\"),3,2))))","v":1},0,null,null,33982,null,null,420]
["Anhui Chaoqun Power CO.,Ltd CQP185-20","Anhui Chaoqun Power CO.,Ltd ","CQP185-20",185,"+5...-5",29.42,6.29,36.200000000000003,6.72,-112.22,2.0159999999999996,null,null,null,null,11.3714599609375,"poly",60,"square",1640,992,50,"aluminum","junction box",18,"www.wxrcdl.com","-","-","-","-","-",{"$f":"IF($O423=\"Sunpower Corp.\",3,(IF(OR($Q423=\"mono\",$Q423=\"poly\",$Q423=\"HIT\",$Q423=\"EFG\",$Q423=\"mono-LGBC\"),1,IF(OR($Q423=\"µc-Si / a-Si\",$Q423=\"a-Si (single)\",$Q423=\"a-Si (tandem)\",$Q423=\"a-Si (triple)\"),3,2))))","v":1},{"$f":"IF($O423=\"Sunpower Corp.\",3,(IF(OR($Q423=\"mono\",$Q423=\"poly\",$Q423=\"HIT\",$Q423=\"EFG\",$Q423=\"mono-LGBC\"),1,2)))","v":1},{"$f":"IF($O423=\"Sunpower Corp.\",3,(IF(OR($Q423=\"mono\",$Q423=\"poly\",$Q423=\"HIT\",$Q423=\"EFG\",$Q423=\"mono-LGBC\"),1,IF(OR($Q423=\"µc-Si / a-Si\",$Q423=\"a-Si (single)\",$Q423=\"a-Si (tandem)\",$Q423=\"a-Si (triple)\"),3,2))))","v":1},0,null,null,33997,null,null,421]
["Anhui Chaoqun Power CO.,Ltd CQP190-18","Anhui Chaoqun Power CO.,Ltd ","CQP190-18",190,"+5...-5",26.3,7.24,32.4,7.82,-100.44,2.3460000000000001,null,null,null,null,12.92389965057373,"poly",54,"square",1482,992,50,"aluminum","junction box",17,"www.wxrcdl.com","-","-","-","-","-",{"$f":"IF($O424=\"Sunpower Corp.\",3,(IF(OR($Q424=\"mono\",$Q424=\"poly\",$Q424=\"HIT\",$Q424=\"EFG\",$Q424=\"mono-LGBC\"),1,IF(OR($Q424=\"µc-Si / a-Si\",$Q424=\"a-Si (single)\",$Q424=\"a-Si (tandem)\",$Q424=\"a-Si (triple)\"),3,2))))","v":1},{"$f":"IF($O424=\"Sunpower Corp.\",3,(IF(OR($Q424=\"mono\",$Q424=\"poly\",$Q424=\"HIT\",$Q424=\"EFG\",$Q424=\"mono-LGBC\"),1,2)))","v":1},{"$f":"IF($O424=\"Sunpower Corp.\",3,(IF(OR($Q424=\"mono\",$Q424=\"poly\",$Q424=\"HIT\",$Q424=\"EFG\",$Q424=\"mono-LGBC\"),1,IF(OR($Q424=\"µc-Si / a-Si\",$Q424=\"a-Si (single)\",$Q424=\"a-Si (tandem)\",$Q424=\"a-Si (triple)\"),3,2))))","v":1},0,null,null,33984,null,null,422]
["Anhui Chaoqun Power CO.,Ltd CQP190-20","Anhui Chaoqun Power CO.,Ltd ","CQP190-20",190,"+5...-5",30.1,6.32,36.700000000000003,6.8,-113.77,2.04,null,null,null,null,11.678799629211426,"poly",60,"square",1640,992,50,"aluminum","junction box",18,"www.wxrcdl.com","-","-","-","-","-",{"$f":"IF($O425=\"Sunpower Corp.\",3,(IF(OR($Q425=\"mono\",$Q425=\"poly\",$Q425=\"HIT\",$Q425=\"EFG\",$Q425=\"mono-LGBC\"),1,IF(OR($Q425=\"µc-Si / a-Si\",$Q425=\"a-Si (single)\",$Q425=\"a-Si (tandem)\",$Q425=\"a-Si (triple)\"),3,2))))","v":1},{"$f":"IF($O425=\"Sunpower Corp.\",3,(IF(OR($Q425=\"mono\",$Q425=\"poly\",$Q425=\"HIT\",$Q425=\"EFG\",$Q425=\"mono-LGBC\"),1,2)))","v":1},{"$f":"IF($O425=\"Sunpower Corp.\",3,(IF(OR($Q425=\"mono\",$Q425=\"poly\",$Q425=\"HIT\",$Q425=\"EFG\",$Q425=\"mono-LGBC\"),1,IF(OR($Q425=\"µc-Si / a-Si\",$Q425=\"a-Si (single)\",$Q425=\"a-Si (tandem)\",$Q425=\"a-Si (triple)\"),3,2))))","v":1},0,null,null,33998,null,null,423]
["Anhui Chaoqun Power CO.,Ltd CQP195-18","Anhui Chaoqun Power CO.,Ltd ","CQP195-18",195,"+5...-5",26.34,7.59,32.5,7.9,-100.75,2.37,null,null,null,null,13.264010429382324,"poly",54,"square",1482,992,50,"aluminum","junction box",17,"www.wxrcdl.com","-","-","-","-","-",{"$f":"IF($O426=\"Sunpower Corp.\",3,(IF(OR($Q426=\"mono\",$Q426=\"poly\",$Q426=\"HIT\",$Q426=\"EFG\",$Q426=\"mono-LGBC\"),1,IF(OR($Q426=\"µc-Si / a-Si\",$Q426=\"a-Si (single)\",$Q426=\"a-Si (tandem)\",$Q426=\"a-Si (triple)\"),3,2))))","v":1},{"$f":"IF($O426=\"Sunpower Corp.\",3,(IF(OR($Q426=\"mono\",$Q426=\"poly\",$Q426=\"HIT\",$Q426=\"EFG\",$Q426=\"mono-LGBC\"),1,2)))","v":1},{"$f":"IF($O426=\"Sunpower Corp.\",3,(IF(OR($Q426=\"mono\",$Q426=\"poly\",$Q426=\"HIT\",$Q426=\"EFG\",$Q426=\"mono-LGBC\"),1,IF(OR($Q426=\"µc-Si / a-Si\",$Q426=\"a-Si (single)\",$Q426=\"a-Si (tandem)\",$Q426=\"a-Si (triple)\"),3,2))))","v":1},0,null,null,33985,null,null,424]
["Anhui Chaoqun Power CO.,Ltd CQP195-20","Anhui Chaoqun Power CO.,Ltd ","CQP195-20",195,"+5...-5",30.52,6.39,37.200000000000003,6.9,-115.32,2.0699999999999998,null,null,null,null,11.986129760742188,"poly",60,"square",1640,992,50,"aluminum","junction box",18,"www.wxrcdl.com","-","-","-","-","-",{"$f":"IF($O427=\"Sunpower Corp.\",3,(IF(OR($Q427=\"mono\",$Q427=\"poly\",$Q427=\"HIT\",$Q427=\"EFG\",$Q427=\"mono-LGBC\"),1,IF(OR($Q427=\"µc-Si / a-Si\",$Q427=\"a-Si (single)\",$Q427=\"a-Si (tandem)\",$Q427=\"a-Si (triple)\"),3,2))))","v":1},{"$f":"IF($O427=\"Sunpower Corp.\",3,(IF(OR($Q427=\"mono\",$Q427=\"poly\",$Q427=\"HIT\",$Q427=\"EFG\",$Q427=\"mono-LGBC\"),1,2)))","v":1},{"$f":"IF($O427=\"Sunpower Corp.\",3,(IF(OR($Q427=\"mono\",$Q427=\"poly\",$Q427=\"HIT\",$Q427=\"EFG\",$Q427=\"mono-LGBC\"),1,IF(OR($Q427=\"µc-Si / a-Si\",$Q427=\"a-Si (single)\",$Q427=\"a-Si (tandem)\",$Q427=\"a-Si (triple)\"),3,2))))","v":1},0,null,null,34000,null,null,425]
["Anhui Chaoqun Power CO.,Ltd CQP200-18","Anhui Chaoqun Power CO.,Ltd ","CQP200-18",200,"+5...-5",26.34,7.6,32.799999999999997,8,-101.68,2.4,null,null,null,null,13.604109764099121,"poly",54,"square",1482,992,50,"aluminum","junction box",17,"www.wxrcdl.com","-","-","-","-","-",{"$f":"IF($O428=\"Sunpower Corp.\",3,(IF(OR($Q428=\"mono\",$Q428=\"poly\",$Q428=\"HIT\",$Q428=\"EFG\",$Q428=\"mono-LGBC\"),1,IF(OR($Q428=\"µc-Si / a-Si\",$Q428=\"a-Si (single)\",$Q428=\"a-Si (tandem)\",$Q428=\"a-Si (triple)\"),3,2))))","v":1},{"$f":"IF($O428=\"Sunpower Corp.\",3,(IF(OR($Q428=\"mono\",$Q428=\"poly\",$Q428=\"HIT\",$Q428=\"EFG\",$Q428=\"mono-LGBC\"),1,2)))","v":1},{"$f":"IF($O428=\"Sunpower Corp.\",3,(IF(OR($Q428=\"mono\",$Q428=\"poly\",$Q428=\"HIT\",$Q428=\"EFG\",$Q428=\"mono-LGBC\"),1,IF(OR($Q428=\"µc-Si / a-Si\",$Q428=\"a-Si (single)\",$Q428=\"a-Si (tandem)\",$Q428=\"a-Si (triple)\"),3,2))))","v":1},0,null,null,33986,null,null,426]
["Anhui Chaoqun Power CO.,Ltd CQP200-20","Anhui Chaoqun Power CO.,Ltd ","CQP200-20",200,"+5...-5",30.62,6.53,37.299999999999997,7.1,-115.63,2.13,null,null,null,null,12.29347038269043,"poly",60,"square",1640,992,50,"aluminum","junction box",18,"www.wxrcdl.com","-","-","-","-","-",{"$f":"IF($O429=\"Sunpower Corp.\",3,(IF(OR($Q429=\"mono\",$Q429=\"poly\",$Q429=\"HIT\",$Q429=\"EFG\",$Q429=\"mono-LGBC\"),1,IF(OR($Q429=\"µc-Si / a-Si\",$Q429=\"a-Si (single)\",$Q429=\"a-Si (tandem)\",$Q429=\"a-Si (triple)\"),3,2))))","v":1},{"$f":"IF($O429=\"Sunpower Corp.\",3,(IF(OR($Q429=\"mono\",$Q429=\"poly\",$Q429=\"HIT\",$Q429=\"EFG\",$Q429=\"mono-LGBC\"),1,2)))","v":1},{"$f":"IF($O429=\"Sunpower Corp.\",3,(IF(OR($Q429=\"mono\",$Q429=\"poly\",$Q429=\"HIT\",$Q429=\"EFG\",$Q429=\"mono-LGBC\"),1,IF(OR($Q429=\"µc-Si / a-Si\",$Q429=\"a-Si (single)\",$Q429=\"a-Si (tandem)\",$Q429=\"a-Si (triple)\"),3,2))))","v":1},0,null,null,34002,null,null,427]
["Anhui Chaoqun Power CO.,Ltd CQP205-18","Anhui Chaoqun Power CO.,Ltd ","CQP205-18",205,"+5...-5",26.5,7.74,33.5,8.0500000000000007,-103.85,2.415,null,null,null,null,13.944210052490234,"poly",54,"square",1482,992,50,"aluminum","junction box",17,"www.wxrcdl.com","-","-","-","-","-",{"$f":"IF($O430=\"Sunpower Corp.\",3,(IF(OR($Q430=\"mono\",$Q430=\"poly\",$Q430=\"HIT\",$Q430=\"EFG\",$Q430=\"mono-LGBC\"),1,IF(OR($Q430=\"µc-Si / a-Si\",$Q430=\"a-Si (single)\",$Q430=\"a-Si (tandem)\",$Q430=\"a-Si (triple)\"),3,2))))","v":1},{"$f":"IF($O430=\"Sunpower Corp.\",3,(IF(OR($Q430=\"mono\",$Q430=\"poly\",$Q430=\"HIT\",$Q430=\"EFG\",$Q430=\"mono-LGBC\"),1,2)))","v":1},{"$f":"IF($O430=\"Sunpower Corp.\",3,(IF(OR($Q430=\"mono\",$Q430=\"poly\",$Q430=\"HIT\",$Q430=\"EFG\",$Q430=\"mono-LGBC\"),1,IF(OR($Q430=\"µc-Si / a-Si\",$Q430=\"a-Si (single)\",$Q430=\"a-Si (tandem)\",$Q430=\"a-Si (triple)\"),3,2))))","v":1},0,null,null,33987,null,null,428]
["Anhui Chaoqun Power CO.,Ltd CQP205-20","Anhui Chaoqun Power CO.,Ltd ","CQP205-20",205,"+5...-5",30.7,6.68,37.5,7.2,-116.25,2.16,null,null,null,null,12.600810050964355,"poly",60,"square",1640,992,50,"aluminum","junction box",18,"www.wxrcdl.com","-","-","-","-","-",{"$f":"IF($O431=\"Sunpower Corp.\",3,(IF(OR($Q431=\"mono\",$Q431=\"poly\",$Q431=\"HIT\",$Q431=\"EFG\",$Q431=\"mono-LGBC\"),1,IF(OR($Q431=\"µc-Si / a-Si\",$Q431=\"a-Si (single)\",$Q431=\"a-Si (tandem)\",$Q431=\"a-Si (triple)\"),3,2))))","v":1},{"$f":"IF($O431=\"Sunpower Corp.\",3,(IF(OR($Q431=\"mono\",$Q431=\"poly\",$Q431=\"HIT\",$Q431=\"EFG\",$Q431=\"mono-LGBC\"),1,2)))","v":1},{"$f":"IF($O431=\"Sunpower Corp.\",3,(IF(OR($Q431=\"mono\",$Q431=\"poly\",$Q431=\"HIT\",$Q431=\"EFG\",$Q431=\"mono-LGBC\"),1,IF(OR($Q431=\"µc-Si / a-Si\",$Q431=\"a-Si (single)\",$Q431=\"a-Si (tandem)\",$Q431=\"a-Si (triple)\"),3,2))))","v":1},0,null,null,34003,null,null,429]
["Anhui Chaoqun Power CO.,Ltd CQP210-18","Anhui Chaoqun Power CO.,Ltd ","CQP210-18",210,"+5...-5",26.9,7.81,33.799999999999997,8.15,-104.78,2.4449999999999998,null,null,null,null,14.284319877624512,"poly",54,"square",1482,992,50,"aluminum","junction box",17,"www.wxrcdl.com","-","-","-","-","-",{"$f":"IF($O432=\"Sunpower Corp.\",3,(IF(OR($Q432=\"mono\",$Q432=\"poly\",$Q432=\"HIT\",$Q432=\"EFG\",$Q432=\"mono-LGBC\"),1,IF(OR($Q432=\"µc-Si / a-Si\",$Q432=\"a-Si (single)\",$Q432=\"a-Si (tandem)\",$Q432=\"a-Si (triple)\"),3,2))))","v":1},{"$f":"IF($O432=\"Sunpower Corp.\",3,(IF(OR($Q432=\"mono\",$Q432=\"poly\",$Q432=\"HIT\",$Q432=\"EFG\",$Q432=\"mono-LGBC\"),1,2)))","v":1},{"$f":"IF($O432=\"Sunpower Corp.\",3,(IF(OR($Q432=\"mono\",$Q432=\"poly\",$Q432=\"HIT\",$Q432=\"EFG\",$Q432=\"mono-LGBC\"),1,IF(OR($Q432=\"µc-Si / a-Si\",$Q432=\"a-Si (single)\",$Q432=\"a-Si (tandem)\",$Q432=\"a-Si (triple)\"),3,2))))","v":1},0,null,null,33989,null,null,430]
["Anhui Chaoqun Power CO.,Ltd CQP210-20","Anhui Chaoqun Power CO.,Ltd ","CQP210-20",210,"+5...-5",30.75,6.84,37.700000000000003,7.3,-116.87,2.19,null,null,null,null,12.908140182495117,"poly",60,"square",1640,992,50,"aluminum","junction box",18,"www.wxrcdl.com","-","-","-","-","-",{"$f":"IF($O433=\"Sunpower Corp.\",3,(IF(OR($Q433=\"mono\",$Q433=\"poly\",$Q433=\"HIT\",$Q433=\"EFG\",$Q433=\"mono-LGBC\"),1,IF(OR($Q433=\"µc-Si / a-Si\",$Q433=\"a-Si (single)\",$Q433=\"a-Si (tandem)\",$Q433=\"a-Si (triple)\"),3,2))))","v":1},{"$f":"IF($O433=\"Sunpower Corp.\",3,(IF(OR($Q433=\"mono\",$Q433=\"poly\",$Q433=\"HIT\",$Q433=\"EFG\",$Q433=\"mono-LGBC\"),1,2)))","v":1},{"$f":"IF($O433=\"Sunpower Corp.\",3,(IF(OR($Q433=\"mono\",$Q433=\"poly\",$Q433=\"HIT\",$Q433=\"EFG\",$Q433=\"mono-LGBC\"),1,IF(OR($Q433=\"µc-Si / a-Si\",$Q433=\"a-Si (single)\",$Q433=\"a-Si (tandem)\",$Q433=\"a-Si (triple)\"),3,2))))","v":1},0,null,null,34006,null,null,431]
["Anhui Chaoqun Power CO.,Ltd CQP215-18","Anhui Chaoqun Power CO.,Ltd ","CQP215-18",215,"+5...-5",27.36,7.86,34.4,8.1999999999999993,-106.64,2.46,null,null,null,null,14.624420166015625,"poly",54,"square",1482,992,50,"aluminum","junction box",17,"www.wxrcdl.com","-","-","-","-","-",{"$f":"IF($O434=\"Sunpower Corp.\",3,(IF(OR($Q434=\"mono\",$Q434=\"poly\",$Q434=\"HIT\",$Q434=\"EFG\",$Q434=\"mono-LGBC\"),1,IF(OR($Q434=\"µc-Si / a-Si\",$Q434=\"a-Si (single)\",$Q434=\"a-Si (tandem)\",$Q434=\"a-Si (triple)\"),3,2))))","v":1},{"$f":"IF($O434=\"Sunpower Corp.\",3,(IF(OR($Q434=\"mono\",$Q434=\"poly\",$Q434=\"HIT\",$Q434=\"EFG\",$Q434=\"mono-LGBC\"),1,2)))","v":1},{"$f":"IF($O434=\"Sunpower Corp.\",3,(IF(OR($Q434=\"mono\",$Q434=\"poly\",$Q434=\"HIT\",$Q434=\"EFG\",$Q434=\"mono-LGBC\"),1,IF(OR($Q434=\"µc-Si / a-Si\",$Q434=\"a-Si (single)\",$Q434=\"a-Si (tandem)\",$Q434=\"a-Si (triple)\"),3,2))))","v":1},0,null,null,33991,null,null,432]
["Anhui Chaoqun Power CO.,Ltd CQP215-20","Anhui Chaoqun Power CO.,Ltd ","CQP215-20",215,"+5...-5",30.81,6.98,38,7.4,-117.8,2.2200000000000002,null,null,null,null,13.215479850769043,"poly",60,"square",1640,992,50,"aluminum","junction box",18,"www.wxrcdl.com","-","-","-","-","-",{"$f":"IF($O435=\"Sunpower Corp.\",3,(IF(OR($Q435=\"mono\",$Q435=\"poly\",$Q435=\"HIT\",$Q435=\"EFG\",$Q435=\"mono-LGBC\"),1,IF(OR($Q435=\"µc-Si / a-Si\",$Q435=\"a-Si (single)\",$Q435=\"a-Si (tandem)\",$Q435=\"a-Si (triple)\"),3,2))))","v":1},{"$f":"IF($O435=\"Sunpower Corp.\",3,(IF(OR($Q435=\"mono\",$Q435=\"poly\",$Q435=\"HIT\",$Q435=\"EFG\",$Q435=\"mono-LGBC\"),1,2)))","v":1},{"$f":"IF($O435=\"Sunpower Corp.\",3,(IF(OR($Q435=\"mono\",$Q435=\"poly\",$Q435=\"HIT\",$Q435=\"EFG\",$Q435=\"mono-LGBC\"),1,IF(OR($Q435=\"µc-Si / a-Si\",$Q435=\"a-Si (single)\",$Q435=\"a-Si (tandem)\",$Q435=\"a-Si (triple)\"),3,2))))","v":1},0,null,null,34008,null,null,433]
["Anhui Chaoqun Power CO.,Ltd CQP220-18","Anhui Chaoqun Power CO.,Ltd ","CQP220-18",220,"+5...-5",27.57,7.98,34.700000000000003,8.3000000000000007,-107.57,2.4900000000000002,null,null,null,null,14.964520454406738,"poly",54,"square",1482,992,50,"aluminum","junction box",17,"www.wxrcdl.com","-","-","-","-","-",{"$f":"IF($O436=\"Sunpower Corp.\",3,(IF(OR($Q436=\"mono\",$Q436=\"poly\",$Q436=\"HIT\",$Q436=\"EFG\",$Q436=\"mono-LGBC\"),1,IF(OR($Q436=\"µc-Si / a-Si\",$Q436=\"a-Si (single)\",$Q436=\"a-Si (tandem)\",$Q436=\"a-Si (triple)\"),3,2))))","v":1},{"$f":"IF($O436=\"Sunpower Corp.\",3,(IF(OR($Q436=\"mono\",$Q436=\"poly\",$Q436=\"HIT\",$Q436=\"EFG\",$Q436=\"mono-LGBC\"),1,2)))","v":1},{"$f":"IF($O436=\"Sunpower Corp.\",3,(IF(OR($Q436=\"mono\",$Q436=\"poly\",$Q436=\"HIT\",$Q436=\"EFG\",$Q436=\"mono-LGBC\"),1,IF(OR($Q436=\"µc-Si / a-Si\",$Q436=\"a-Si (single)\",$Q436=\"a-Si (tandem)\",$Q436=\"a-Si (triple)\"),3,2))))","v":1},0,null,null,33994,null,null,434]
["Anhui Chaoqun Power CO.,Ltd CQP220-20","Anhui Chaoqun Power CO.,Ltd ","CQP220-20",220,"+5...-5",31.2,7.05,38.4,7.5,-119.04,2.25,null,null,null,null,13.522820472717285,"poly",60,"square",1640,992,50,"aluminum","junction box",18,"www.wxrcdl.com","-","-","-","-","-",{"$f":"IF($O437=\"Sunpower Corp.\",3,(IF(OR($Q437=\"mono\",$Q437=\"poly\",$Q437=\"HIT\",$Q437=\"EFG\",$Q437=\"mono-LGBC\"),1,IF(OR($Q437=\"µc-Si / a-Si\",$Q437=\"a-Si (single)\",$Q437=\"a-Si (tandem)\",$Q437=\"a-Si (triple)\"),3,2))))","v":1},{"$f":"IF($O437=\"Sunpower Corp.\",3,(IF(OR($Q437=\"mono\",$Q437=\"poly\",$Q437=\"HIT\",$Q437=\"EFG\",$Q437=\"mono-LGBC\"),1,2)))","v":1},{"$f":"IF($O437=\"Sunpower Corp.\",3,(IF(OR($Q437=\"mono\",$Q437=\"poly\",$Q437=\"HIT\",$Q437=\"EFG\",$Q437=\"mono-LGBC\"),1,IF(OR($Q437=\"µc-Si / a-Si\",$Q437=\"a-Si (single)\",$Q437=\"a-Si (tandem)\",$Q437=\"a-Si (triple)\"),3,2))))","v":1},0,null,null,34009,null,null,435]
["Anhui Chaoqun Power CO.,Ltd CQP240-24","Anhui Chaoqun Power CO.,Ltd ","CQP240-24",240,"+5...-5",34.4,6.98,43.2,7.7,-133.91999999999999,2.31,null,null,null,null,12.368889808654785,"poly",72,"square",1956,992,50,"aluminum","junction box",23,"www.wxrcdl.com","-","-","-","-","-",{"$f":"IF($O438=\"Sunpower Corp.\",3,(IF(OR($Q438=\"mono\",$Q438=\"poly\",$Q438=\"HIT\",$Q438=\"EFG\",$Q438=\"mono-LGBC\"),1,IF(OR($Q438=\"µc-Si / a-Si\",$Q438=\"a-Si (single)\",$Q438=\"a-Si (tandem)\",$Q438=\"a-Si (triple)\"),3,2))))","v":1},{"$f":"IF($O438=\"Sunpower Corp.\",3,(IF(OR($Q438=\"mono\",$Q438=\"poly\",$Q438=\"HIT\",$Q438=\"EFG\",$Q438=\"mono-LGBC\"),1,2)))","v":1},{"$f":"IF($O438=\"Sunpower Corp.\",3,(IF(OR($Q438=\"mono\",$Q438=\"poly\",$Q438=\"HIT\",$Q438=\"EFG\",$Q438=\"mono-LGBC\"),1,IF(OR($Q438=\"µc-Si / a-Si\",$Q438=\"a-Si (single)\",$Q438=\"a-Si (tandem)\",$Q438=\"a-Si (triple)\"),3,2))))","v":1},0,null,null,34013,null,null,436]
["Anhui Chaoqun Power CO.,Ltd CQP245-24","Anhui Chaoqun Power CO.,Ltd ","CQP245-24",245,"+5...-5",34.409999999999997,7.12,43.3,7.75,-134.22999999999999,2.3250000000000002,null,null,null,null,12.626569747924805,"poly",72,"square",1956,992,50,"aluminum","junction box",23,"www.wxrcdl.com","-","-","-","-","-",{"$f":"IF($O439=\"Sunpower Corp.\",3,(IF(OR($Q439=\"mono\",$Q439=\"poly\",$Q439=\"HIT\",$Q439=\"EFG\",$Q439=\"mono-LGBC\"),1,IF(OR($Q439=\"µc-Si / a-Si\",$Q439=\"a-Si (single)\",$Q439=\"a-Si (tandem)\",$Q439=\"a-Si (triple)\"),3,2))))","v":1},{"$f":"IF($O439=\"Sunpower Corp.\",3,(IF(OR($Q439=\"mono\",$Q439=\"poly\",$Q439=\"HIT\",$Q439=\"EFG\",$Q439=\"mono-LGBC\"),1,2)))","v":1},{"$f":"IF($O439=\"Sunpower Corp.\",3,(IF(OR($Q439=\"mono\",$Q439=\"poly\",$Q439=\"HIT\",$Q439=\"EFG\",$Q439=\"mono-LGBC\"),1,IF(OR($Q439=\"µc-Si / a-Si\",$Q439=\"a-Si (single)\",$Q439=\"a-Si (tandem)\",$Q439=\"a-Si (triple)\"),3,2))))","v":1},0,null,null,34017,null,null,437]
["Anhui Chaoqun Power CO.,Ltd CQP250-24","Anhui Chaoqun Power CO.,Ltd ","CQP250-24",250,"+5...-5",34.5,7.25,43.4,7.82,-134.54,2.3460000000000001,null,null,null,null,12.884260177612305,"poly",72,"square",1956,992,50,"aluminum","junction box",23,"www.wxrcdl.com","-","-","-","-","-",{"$f":"IF($O440=\"Sunpower Corp.\",3,(IF(OR($Q440=\"mono\",$Q440=\"poly\",$Q440=\"HIT\",$Q440=\"EFG\",$Q440=\"mono-LGBC\"),1,IF(OR($Q440=\"µc-Si / a-Si\",$Q440=\"a-Si (single)\",$Q440=\"a-Si (tandem)\",$Q440=\"a-Si (triple)\"),3,2))))","v":1},{"$f":"IF($O440=\"Sunpower Corp.\",3,(IF(OR($Q440=\"mono\",$Q440=\"poly\",$Q440=\"HIT\",$Q440=\"EFG\",$Q440=\"mono-LGBC\"),1,2)))","v":1},{"$f":"IF($O440=\"Sunpower Corp.\",3,(IF(OR($Q440=\"mono\",$Q440=\"poly\",$Q440=\"HIT\",$Q440=\"EFG\",$Q440=\"mono-LGBC\"),1,IF(OR($Q440=\"µc-Si / a-Si\",$Q440=\"a-Si (single)\",$Q440=\"a-Si (tandem)\",$Q440=\"a-Si (triple)\"),3,2))))","v":1},0,null,null,34018,null,null,438]
["Anhui Chaoqun Power CO.,Ltd CQP255-24","Anhui Chaoqun Power CO.,Ltd ","CQP255-24",255,"+5...-5",34.700000000000003,7.35,43.5,7.9,-134.85,2.37,null,null,null,null,13.141949653625488,"poly",72,"square",1956,992,50,"aluminum","junction box",23,"www.wxrcdl.com","-","-","-","-","-",{"$f":"IF($O441=\"Sunpower Corp.\",3,(IF(OR($Q441=\"mono\",$Q441=\"poly\",$Q441=\"HIT\",$Q441=\"EFG\",$Q441=\"mono-LGBC\"),1,IF(OR($Q441=\"µc-Si / a-Si\",$Q441=\"a-Si (single)\",$Q441=\"a-Si (tandem)\",$Q441=\"a-Si (triple)\"),3,2))))","v":1},{"$f":"IF($O441=\"Sunpower Corp.\",3,(IF(OR($Q441=\"mono\",$Q441=\"poly\",$Q441=\"HIT\",$Q441=\"EFG\",$Q441=\"mono-LGBC\"),1,2)))","v":1},{"$f":"IF($O441=\"Sunpower Corp.\",3,(IF(OR($Q441=\"mono\",$Q441=\"poly\",$Q441=\"HIT\",$Q441=\"EFG\",$Q441=\"mono-LGBC\"),1,IF(OR($Q441=\"µc-Si / a-Si\",$Q441=\"a-Si (single)\",$Q441=\"a-Si (tandem)\",$Q441=\"a-Si (triple)\"),3,2))))","v":1},0,null,null,34019,null,null,439]
["Anhui Chaoqun Power CO.,Ltd CQP260-24","Anhui Chaoqun Power CO.,Ltd ","CQP260-24",260,"+5...-5",34.799999999999997,7.47,43.6,7.9,-135.16,2.37,null,null,null,null,13.399629592895508,"poly",72,"square",1956,992,50,"aluminum","junction box",23,"www.wxrcdl.com","-","-","-","-","-",{"$f":"IF($O442=\"Sunpower Corp.\",3,(IF(OR($Q442=\"mono\",$Q442=\"poly\",$Q442=\"HIT\",$Q442=\"EFG\",$Q442=\"mono-LGBC\"),1,IF(OR($Q442=\"µc-Si / a-Si\",$Q442=\"a-Si (single)\",$Q442=\"a-Si (tandem)\",$Q442=\"a-Si (triple)\"),3,2))))","v":1},{"$f":"IF($O442=\"Sunpower Corp.\",3,(IF(OR($Q442=\"mono\",$Q442=\"poly\",$Q442=\"HIT\",$Q442=\"EFG\",$Q442=\"mono-LGBC\"),1,2)))","v":1},{"$f":"IF($O442=\"Sunpower Corp.\",3,(IF(OR($Q442=\"mono\",$Q442=\"poly\",$Q442=\"HIT\",$Q442=\"EFG\",$Q442=\"mono-LGBC\"),1,IF(OR($Q442=\"µc-Si / a-Si\",$Q442=\"a-Si (single)\",$Q442=\"a-Si (tandem)\",$Q442=\"a-Si (triple)\"),3,2))))","v":1},0,null,null,34020,null,null,440]
["Anhui Chaoqun Power CO.,Ltd CQP265-24","Anhui Chaoqun Power CO.,Ltd ","CQP265-24",265,"+5...-5",35.24,7.52,43.8,8.0500000000000007,-135.78,2.415,null,null,null,null,13.657320022583008,"poly",72,"square",1956,992,50,"aluminum","junction box",23,"www.wxrcdl.com","-","-","-","-","-",{"$f":"IF($O443=\"Sunpower Corp.\",3,(IF(OR($Q443=\"mono\",$Q443=\"poly\",$Q443=\"HIT\",$Q443=\"EFG\",$Q443=\"mono-LGBC\"),1,IF(OR($Q443=\"µc-Si / a-Si\",$Q443=\"a-Si (single)\",$Q443=\"a-Si (tandem)\",$Q443=\"a-Si (triple)\"),3,2))))","v":1},{"$f":"IF($O443=\"Sunpower Corp.\",3,(IF(OR($Q443=\"mono\",$Q443=\"poly\",$Q443=\"HIT\",$Q443=\"EFG\",$Q443=\"mono-LGBC\"),1,2)))","v":1},{"$f":"IF($O443=\"Sunpower Corp.\",3,(IF(OR($Q443=\"mono\",$Q443=\"poly\",$Q443=\"HIT\",$Q443=\"EFG\",$Q443=\"mono-LGBC\"),1,IF(OR($Q443=\"µc-Si / a-Si\",$Q443=\"a-Si (single)\",$Q443=\"a-Si (tandem)\",$Q443=\"a-Si (triple)\"),3,2))))","v":1},0,null,null,34022,null,null,441]
["Anhui Chaoqun Power CO.,Ltd CQP270-24","Anhui Chaoqun Power CO.,Ltd ","CQP270-24",270,"+5...-5",35.24,7.66,43.8,8.1,-135.78,2.4300000000000002,null,null,null,null,13.914999961853027,"poly",72,"square",1956,992,50,"aluminum","junction box",23,"www.wxrcdl.com","-","-","-","-","-",{"$f":"IF($O444=\"Sunpower Corp.\",3,(IF(OR($Q444=\"mono\",$Q444=\"poly\",$Q444=\"HIT\",$Q444=\"EFG\",$Q444=\"mono-LGBC\"),1,IF(OR($Q444=\"µc-Si / a-Si\",$Q444=\"a-Si (single)\",$Q444=\"a-Si (tandem)\",$Q444=\"a-Si (triple)\"),3,2))))","v":1},{"$f":"IF($O444=\"Sunpower Corp.\",3,(IF(OR($Q444=\"mono\",$Q444=\"poly\",$Q444=\"HIT\",$Q444=\"EFG\",$Q444=\"mono-LGBC\"),1,2)))","v":1},{"$f":"IF($O444=\"Sunpower Corp.\",3,(IF(OR($Q444=\"mono\",$Q444=\"poly\",$Q444=\"HIT\",$Q444=\"EFG\",$Q444=\"mono-LGBC\"),1,IF(OR($Q444=\"µc-Si / a-Si\",$Q444=\"a-Si (single)\",$Q444=\"a-Si (tandem)\",$Q444=\"a-Si (triple)\"),3,2))))","v":1},0,null,null,34023,null,null,442]
["Anhui Chaoqun Power CO.,Ltd CQP275-24","Anhui Chaoqun Power CO.,Ltd ","CQP275-24",275,"+5...-5",35.54,7.74,43.8,8.2799999999999994,-135.78,2.4839999999999995,null,null,null,null,14.172690391540527,"poly",72,"square",1956,992,50,"aluminum","junction box",23,"www.wxrcdl.com","-","-","-","-","-",{"$f":"IF($O445=\"Sunpower Corp.\",3,(IF(OR($Q445=\"mono\",$Q445=\"poly\",$Q445=\"HIT\",$Q445=\"EFG\",$Q445=\"mono-LGBC\"),1,IF(OR($Q445=\"µc-Si / a-Si\",$Q445=\"a-Si (single)\",$Q445=\"a-Si (tandem)\",$Q445=\"a-Si (triple)\"),3,2))))","v":1},{"$f":"IF($O445=\"Sunpower Corp.\",3,(IF(OR($Q445=\"mono\",$Q445=\"poly\",$Q445=\"HIT\",$Q445=\"EFG\",$Q445=\"mono-LGBC\"),1,2)))","v":1},{"$f":"IF($O445=\"Sunpower Corp.\",3,(IF(OR($Q445=\"mono\",$Q445=\"poly\",$Q445=\"HIT\",$Q445=\"EFG\",$Q445=\"mono-LGBC\"),1,IF(OR($Q445=\"µc-Si / a-Si\",$Q445=\"a-Si (single)\",$Q445=\"a-Si (tandem)\",$Q445=\"a-Si (triple)\"),3,2))))","v":1},0,null,null,34024,null,null,443]
["Anhui Chaoqun Power CO.,Ltd CQP280-24","Anhui Chaoqun Power CO.,Ltd ","CQP280-24",280,"+5...-5",35.68,7.85,44.2,8.3000000000000007,-137.02000000000001,2.4900000000000002,null,null,null,null,14.430370330810547,"poly",72,"square",1956,992,50,"aluminum","junction box",23,"www.wxrcdl.com","-","-","-","-","-",{"$f":"IF($O446=\"Sunpower Corp.\",3,(IF(OR($Q446=\"mono\",$Q446=\"poly\",$Q446=\"HIT\",$Q446=\"EFG\",$Q446=\"mono-LGBC\"),1,IF(OR($Q446=\"µc-Si / a-Si\",$Q446=\"a-Si (single)\",$Q446=\"a-Si (tandem)\",$Q446=\"a-Si (triple)\"),3,2))))","v":1},{"$f":"IF($O446=\"Sunpower Corp.\",3,(IF(OR($Q446=\"mono\",$Q446=\"poly\",$Q446=\"HIT\",$Q446=\"EFG\",$Q446=\"mono-LGBC\"),1,2)))","v":1},{"$f":"IF($O446=\"Sunpower Corp.\",3,(IF(OR($Q446=\"mono\",$Q446=\"poly\",$Q446=\"HIT\",$Q446=\"EFG\",$Q446=\"mono-LGBC\"),1,IF(OR($Q446=\"µc-Si / a-Si\",$Q446=\"a-Si (single)\",$Q446=\"a-Si (tandem)\",$Q446=\"a-Si (triple)\"),3,2))))","v":1},0,null,null,34025,null,null,444]
["Anhui Chaoqun Power CO.,Ltd CQP285-24","Anhui Chaoqun Power CO.,Ltd ","CQP285-24",285,"+5...-5",35.81,7.96,44.3,8.42,-137.33000000000001,2.5259999999999998,null,null,null,null,14.68805980682373,"poly",72,"square",1956,992,50,"aluminum","junction box",23,"www.wxrcdl.com","-","-","-","-","-",{"$f":"IF($O447=\"Sunpower Corp.\",3,(IF(OR($Q447=\"mono\",$Q447=\"poly\",$Q447=\"HIT\",$Q447=\"EFG\",$Q447=\"mono-LGBC\"),1,IF(OR($Q447=\"µc-Si / a-Si\",$Q447=\"a-Si (single)\",$Q447=\"a-Si (tandem)\",$Q447=\"a-Si (triple)\"),3,2))))","v":1},{"$f":"IF($O447=\"Sunpower Corp.\",3,(IF(OR($Q447=\"mono\",$Q447=\"poly\",$Q447=\"HIT\",$Q447=\"EFG\",$Q447=\"mono-LGBC\"),1,2)))","v":1},{"$f":"IF($O447=\"Sunpower Corp.\",3,(IF(OR($Q447=\"mono\",$Q447=\"poly\",$Q447=\"HIT\",$Q447=\"EFG\",$Q447=\"mono-LGBC\"),1,IF(OR($Q447=\"µc-Si / a-Si\",$Q447=\"a-Si (single)\",$Q447=\"a-Si (tandem)\",$Q447=\"a-Si (triple)\"),3,2))))","v":1},0,null,null,34026,null,null,445]
["Anhui Rineng Zhongtian Semiconductor QJM160","Anhui Rineng Zhongtian Semiconductor ","QJM160",160,"+2,8...-2,8",34.9,4.58,43.6,4.97,-152.6,2.9819999999999993,-0.45,1000,null,null,12.523530006408691,"mono",72,"pseudo-square",1595,801,40,"aluminum","junction box",15.5,null,"-","-","-","-","-",{"$f":"IF($O448=\"Sunpower Corp.\",3,(IF(OR($Q448=\"mono\",$Q448=\"poly\",$Q448=\"HIT\",$Q448=\"EFG\",$Q448=\"mono-LGBC\"),1,IF(OR($Q448=\"µc-Si / a-Si\",$Q448=\"a-Si (single)\",$Q448=\"a-Si (tandem)\",$Q448=\"a-Si (triple)\"),3,2))))","v":1},{"$f":"IF($O448=\"Sunpower Corp.\",3,(IF(OR($Q448=\"mono\",$Q448=\"poly\",$Q448=\"HIT\",$Q448=\"EFG\",$Q448=\"mono-LGBC\"),1,2)))","v":1},{"$f":"IF($O448=\"Sunpower Corp.\",3,(IF(OR($Q448=\"mono\",$Q448=\"poly\",$Q448=\"HIT\",$Q448=\"EFG\",$Q448=\"mono-LGBC\"),1,IF(OR($Q448=\"µc-Si / a-Si\",$Q448=\"a-Si (single)\",$Q448=\"a-Si (tandem)\",$Q448=\"a-Si (triple)\"),3,2))))","v":1},0,null,null,9936,null,null,446]
["Anhui Rineng Zhongtian Semiconductor QJM170","Anhui Rineng Zhongtian Semiconductor ","QJM170",170,"+2,8...-2,8",35.5,4.79,44.1,5.19,-154.35,3.1139999999999999,-0.45,1000,null,null,13.306249618530273,"mono",72,"pseudo-square",1595,801,40,"aluminum","junction box",15.5,null,"-","-","-","-","-",{"$f":"IF($O449=\"Sunpower Corp.\",3,(IF(OR($Q449=\"mono\",$Q449=\"poly\",$Q449=\"HIT\",$Q449=\"EFG\",$Q449=\"mono-LGBC\"),1,IF(OR($Q449=\"µc-Si / a-Si\",$Q449=\"a-Si (single)\",$Q449=\"a-Si (tandem)\",$Q449=\"a-Si (triple)\"),3,2))))","v":1},{"$f":"IF($O449=\"Sunpower Corp.\",3,(IF(OR($Q449=\"mono\",$Q449=\"poly\",$Q449=\"HIT\",$Q449=\"EFG\",$Q449=\"mono-LGBC\"),1,2)))","v":1},{"$f":"IF($O449=\"Sunpower Corp.\",3,(IF(OR($Q449=\"mono\",$Q449=\"poly\",$Q449=\"HIT\",$Q449=\"EFG\",$Q449=\"mono-LGBC\"),1,IF(OR($Q449=\"µc-Si / a-Si\",$Q449=\"a-Si (single)\",$Q449=\"a-Si (tandem)\",$Q449=\"a-Si (triple)\"),3,2))))","v":1},0,null,null,9937,null,null,447]
["Anhui Rineng Zhongtian Semiconductor QJM180","Anhui Rineng Zhongtian Semiconductor ","QJM180",180,"+2,8...-2,8",36.1,4.99,44.5,5.4,-155.75,3.24,-0.45,1000,null,null,14.088970184326172,"mono",72,"pseudo-square",1595,801,40,"aluminum","junction box",15.5,null,"-","-","-","-","-",{"$f":"IF($O450=\"Sunpower Corp.\",3,(IF(OR($Q450=\"mono\",$Q450=\"poly\",$Q450=\"HIT\",$Q450=\"EFG\",$Q450=\"mono-LGBC\"),1,IF(OR($Q450=\"µc-Si / a-Si\",$Q450=\"a-Si (single)\",$Q450=\"a-Si (tandem)\",$Q450=\"a-Si (triple)\"),3,2))))","v":1},{"$f":"IF($O450=\"Sunpower Corp.\",3,(IF(OR($Q450=\"mono\",$Q450=\"poly\",$Q450=\"HIT\",$Q450=\"EFG\",$Q450=\"mono-LGBC\"),1,2)))","v":1},{"$f":"IF($O450=\"Sunpower Corp.\",3,(IF(OR($Q450=\"mono\",$Q450=\"poly\",$Q450=\"HIT\",$Q450=\"EFG\",$Q450=\"mono-LGBC\"),1,IF(OR($Q450=\"µc-Si / a-Si\",$Q450=\"a-Si (single)\",$Q450=\"a-Si (tandem)\",$Q450=\"a-Si (triple)\"),3,2))))","v":1},0,null,null,9938,null,null,448]
["Anhui Rineng Zhongtian Semiconductor QJM36-85","Anhui Rineng Zhongtian Semiconductor ","QJM36-85",85,"+3...-3",17.399999999999999,4.8899999999999997,20.9,5.48,-73.150000000000006,2.74,-0.45,1000,null,null,12.832130432128906,"mono",36,"pseudo-square",1200,552,35,"aluminum","junction box",7.8,"www.qjsolar.com","-","-","-","-","-",{"$f":"IF($O451=\"Sunpower Corp.\",3,(IF(OR($Q451=\"mono\",$Q451=\"poly\",$Q451=\"HIT\",$Q451=\"EFG\",$Q451=\"mono-LGBC\"),1,IF(OR($Q451=\"µc-Si / a-Si\",$Q451=\"a-Si (single)\",$Q451=\"a-Si (tandem)\",$Q451=\"a-Si (triple)\"),3,2))))","v":1},{"$f":"IF($O451=\"Sunpower Corp.\",3,(IF(OR($Q451=\"mono\",$Q451=\"poly\",$Q451=\"HIT\",$Q451=\"EFG\",$Q451=\"mono-LGBC\"),1,2)))","v":1},{"$f":"IF($O451=\"Sunpower Corp.\",3,(IF(OR($Q451=\"mono\",$Q451=\"poly\",$Q451=\"HIT\",$Q451=\"EFG\",$Q451=\"mono-LGBC\"),1,IF(OR($Q451=\"µc-Si / a-Si\",$Q451=\"a-Si (single)\",$Q451=\"a-Si (tandem)\",$Q451=\"a-Si (triple)\"),3,2))))","v":1},0,null,null,21478,null,null,449]
["Anhui Rineng Zhongtian Semiconductor QJM36-90","Anhui Rineng Zhongtian Semiconductor ","QJM36-90",90,"+3...-3",17.600000000000001,5.1100000000000003,21.1,5.72,-73.849999999999994,2.86,-0.45,1000,null,null,13.586959838867188,"mono",36,"pseudo-square",1200,552,35,"aluminum","junction box",7.8,"www.qjsolar.com","-","-","-","-","-",{"$f":"IF($O452=\"Sunpower Corp.\",3,(IF(OR($Q452=\"mono\",$Q452=\"poly\",$Q452=\"HIT\",$Q452=\"EFG\",$Q452=\"mono-LGBC\"),1,IF(OR($Q452=\"µc-Si / a-Si\",$Q452=\"a-Si (single)\",$Q452=\"a-Si (tandem)\",$Q452=\"a-Si (triple)\"),3,2))))","v":1},{"$f":"IF($O452=\"Sunpower Corp.\",3,(IF(OR($Q452=\"mono\",$Q452=\"poly\",$Q452=\"HIT\",$Q452=\"EFG\",$Q452=\"mono-LGBC\"),1,2)))","v":1},{"$f":"IF($O452=\"Sunpower Corp.\",3,(IF(OR($Q452=\"mono\",$Q452=\"poly\",$Q452=\"HIT\",$Q452=\"EFG\",$Q452=\"mono-LGBC\"),1,IF(OR($Q452=\"µc-Si / a-Si\",$Q452=\"a-Si (single)\",$Q452=\"a-Si (tandem)\",$Q452=\"a-Si (triple)\"),3,2))))","v":1},0,null,null,21479,null,null,450]
["Anhui Rineng Zhongtian Semiconductor QJM36-95","Anhui Rineng Zhongtian Semiconductor ","QJM36-95",95,"+3...-3",17.899999999999999,5.31,21.5,5.94,-75.25,2.97,-0.45,1000,null,null,14.341790199279785,"mono",36,"pseudo-square",1200,552,35,"aluminum","junction box",7.8,"www.qjsolar.com","-","-","-","-","-",{"$f":"IF($O453=\"Sunpower Corp.\",3,(IF(OR($Q453=\"mono\",$Q453=\"poly\",$Q453=\"HIT\",$Q453=\"EFG\",$Q453=\"mono-LGBC\"),1,IF(OR($Q453=\"µc-Si / a-Si\",$Q453=\"a-Si (single)\",$Q453=\"a-Si (tandem)\",$Q453=\"a-Si (triple)\"),3,2))))","v":1},{"$f":"IF($O453=\"Sunpower Corp.\",3,(IF(OR($Q453=\"mono\",$Q453=\"poly\",$Q453=\"HIT\",$Q453=\"EFG\",$Q453=\"mono-LGBC\"),1,2)))","v":1},{"$f":"IF($O453=\"Sunpower Corp.\",3,(IF(OR($Q453=\"mono\",$Q453=\"poly\",$Q453=\"HIT\",$Q453=\"EFG\",$Q453=\"mono-LGBC\"),1,IF(OR($Q453=\"µc-Si / a-Si\",$Q453=\"a-Si (single)\",$Q453=\"a-Si (tandem)\",$Q453=\"a-Si (triple)\"),3,2))))","v":1},0,null,null,21480,null,null,451]
["Anhui Rineng Zhongtian Semiconductor QJM72-165","Anhui Rineng Zhongtian Semiconductor ","QJM72-165",165,"+3...-3",35.4,4.66,42.5,5.22,-148.75,2.61,-0.45,1000,null,null,12.92455005645752,"mono",72,"pseudo-square",1580,808,35,"aluminum","junction box",15.5,"www.qjsolar.com","-","-","-","-","-",{"$f":"IF($O454=\"Sunpower Corp.\",3,(IF(OR($Q454=\"mono\",$Q454=\"poly\",$Q454=\"HIT\",$Q454=\"EFG\",$Q454=\"mono-LGBC\"),1,IF(OR($Q454=\"µc-Si / a-Si\",$Q454=\"a-Si (single)\",$Q454=\"a-Si (tandem)\",$Q454=\"a-Si (triple)\"),3,2))))","v":1},{"$f":"IF($O454=\"Sunpower Corp.\",3,(IF(OR($Q454=\"mono\",$Q454=\"poly\",$Q454=\"HIT\",$Q454=\"EFG\",$Q454=\"mono-LGBC\"),1,2)))","v":1},{"$f":"IF($O454=\"Sunpower Corp.\",3,(IF(OR($Q454=\"mono\",$Q454=\"poly\",$Q454=\"HIT\",$Q454=\"EFG\",$Q454=\"mono-LGBC\"),1,IF(OR($Q454=\"µc-Si / a-Si\",$Q454=\"a-Si (single)\",$Q454=\"a-Si (tandem)\",$Q454=\"a-Si (triple)\"),3,2))))","v":1},0,null,null,21481,null,null,452]
["Anhui Rineng Zhongtian Semiconductor QJM72-170","Anhui Rineng Zhongtian Semiconductor ","QJM72-170",170,"+3...-3",35.6,4.78,42.7,5.35,-149.44999999999999,2.6749999999999998,-0.45,1000,null,null,13.31620979309082,"mono",72,"pseudo-square",1580,808,35,"aluminum","junction box",15.5,"www.qjsolar.com","-","-","-","-","-",{"$f":"IF($O455=\"Sunpower Corp.\",3,(IF(OR($Q455=\"mono\",$Q455=\"poly\",$Q455=\"HIT\",$Q455=\"EFG\",$Q455=\"mono-LGBC\"),1,IF(OR($Q455=\"µc-Si / a-Si\",$Q455=\"a-Si (single)\",$Q455=\"a-Si (tandem)\",$Q455=\"a-Si (triple)\"),3,2))))","v":1},{"$f":"IF($O455=\"Sunpower Corp.\",3,(IF(OR($Q455=\"mono\",$Q455=\"poly\",$Q455=\"HIT\",$Q455=\"EFG\",$Q455=\"mono-LGBC\"),1,2)))","v":1},{"$f":"IF($O455=\"Sunpower Corp.\",3,(IF(OR($Q455=\"mono\",$Q455=\"poly\",$Q455=\"HIT\",$Q455=\"EFG\",$Q455=\"mono-LGBC\"),1,IF(OR($Q455=\"µc-Si / a-Si\",$Q455=\"a-Si (single)\",$Q455=\"a-Si (tandem)\",$Q455=\"a-Si (triple)\"),3,2))))","v":1},0,null,null,21482,null,null,453]
["Anhui Rineng Zhongtian Semiconductor QJM72-175","Anhui Rineng Zhongtian Semiconductor ","QJM72-175",175,"+3...-3",35.9,4.87,43.1,5.45,-150.85,2.7250000000000001,-0.45,1000,null,null,13.707859992980957,"mono",72,"pseudo-square",1580,808,35,"aluminum","junction box",15.5,"www.qjsolar.com","-","-","-","-","-",{"$f":"IF($O456=\"Sunpower Corp.\",3,(IF(OR($Q456=\"mono\",$Q456=\"poly\",$Q456=\"HIT\",$Q456=\"EFG\",$Q456=\"mono-LGBC\"),1,IF(OR($Q456=\"µc-Si / a-Si\",$Q456=\"a-Si (single)\",$Q456=\"a-Si (tandem)\",$Q456=\"a-Si (triple)\"),3,2))))","v":1},{"$f":"IF($O456=\"Sunpower Corp.\",3,(IF(OR($Q456=\"mono\",$Q456=\"poly\",$Q456=\"HIT\",$Q456=\"EFG\",$Q456=\"mono-LGBC\"),1,2)))","v":1},{"$f":"IF($O456=\"Sunpower Corp.\",3,(IF(OR($Q456=\"mono\",$Q456=\"poly\",$Q456=\"HIT\",$Q456=\"EFG\",$Q456=\"mono-LGBC\"),1,IF(OR($Q456=\"µc-Si / a-Si\",$Q456=\"a-Si (single)\",$Q456=\"a-Si (tandem)\",$Q456=\"a-Si (triple)\"),3,2))))","v":1},0,null,null,21483,null,null,454]
["Anhui Rineng Zhongtian Semiconductor QJM72-180","Anhui Rineng Zhongtian Semiconductor ","QJM72-180",180,"+3...-3",36.1,4.99,43.3,5.59,-151.55000000000001,2.7949999999999999,-0.45,1000,null,null,14.099510192871094,"mono",72,"pseudo-square",1580,808,35,"aluminum","junction box",15.5,"www.qjsolar.com","-","-","-","-","-",{"$f":"IF($O457=\"Sunpower Corp.\",3,(IF(OR($Q457=\"mono\",$Q457=\"poly\",$Q457=\"HIT\",$Q457=\"EFG\",$Q457=\"mono-LGBC\"),1,IF(OR($Q457=\"µc-Si / a-Si\",$Q457=\"a-Si (single)\",$Q457=\"a-Si (tandem)\",$Q457=\"a-Si (triple)\"),3,2))))","v":1},{"$f":"IF($O457=\"Sunpower Corp.\",3,(IF(OR($Q457=\"mono\",$Q457=\"poly\",$Q457=\"HIT\",$Q457=\"EFG\",$Q457=\"mono-LGBC\"),1,2)))","v":1},{"$f":"IF($O457=\"Sunpower Corp.\",3,(IF(OR($Q457=\"mono\",$Q457=\"poly\",$Q457=\"HIT\",$Q457=\"EFG\",$Q457=\"mono-LGBC\"),1,IF(OR($Q457=\"µc-Si / a-Si\",$Q457=\"a-Si (single)\",$Q457=\"a-Si (tandem)\",$Q457=\"a-Si (triple)\"),3,2))))","v":1},0,null,null,21484,null,null,455]
["Anhui Rineng Zhongtian Semiconductor QJM72-185","Anhui Rineng Zhongtian Semiconductor ","QJM72-185",185,"+3...-3",36.200000000000003,5.1100000000000003,43.4,5.72,-151.9,2.86,-0.45,1000,null,null,14.49116039276123,"mono",72,"pseudo-square",1580,808,35,"aluminum","junction box",15.5,"www.qjsolar.com","-","-","-","-","-",{"$f":"IF($O458=\"Sunpower Corp.\",3,(IF(OR($Q458=\"mono\",$Q458=\"poly\",$Q458=\"HIT\",$Q458=\"EFG\",$Q458=\"mono-LGBC\"),1,IF(OR($Q458=\"µc-Si / a-Si\",$Q458=\"a-Si (single)\",$Q458=\"a-Si (tandem)\",$Q458=\"a-Si (triple)\"),3,2))))","v":1},{"$f":"IF($O458=\"Sunpower Corp.\",3,(IF(OR($Q458=\"mono\",$Q458=\"poly\",$Q458=\"HIT\",$Q458=\"EFG\",$Q458=\"mono-LGBC\"),1,2)))","v":1},{"$f":"IF($O458=\"Sunpower Corp.\",3,(IF(OR($Q458=\"mono\",$Q458=\"poly\",$Q458=\"HIT\",$Q458=\"EFG\",$Q458=\"mono-LGBC\"),1,IF(OR($Q458=\"µc-Si / a-Si\",$Q458=\"a-Si (single)\",$Q458=\"a-Si (tandem)\",$Q458=\"a-Si (triple)\"),3,2))))","v":1},0,null,null,21485,null,null,456]
["Anhui Rineng Zhongtian Semiconductor QJM72-190","Anhui Rineng Zhongtian Semiconductor ","QJM72-190",190,"+3...-3",36.299999999999997,5.23,43.5,5.86,-152.25,2.93,-0.45,1000,null,null,14.882820129394531,"mono",72,"pseudo-square",1580,808,35,"aluminum","junction box",15.5,"www.qjsolar.com","-","-","-","-","-",{"$f":"IF($O459=\"Sunpower Corp.\",3,(IF(OR($Q459=\"mono\",$Q459=\"poly\",$Q459=\"HIT\",$Q459=\"EFG\",$Q459=\"mono-LGBC\"),1,IF(OR($Q459=\"µc-Si / a-Si\",$Q459=\"a-Si (single)\",$Q459=\"a-Si (tandem)\",$Q459=\"a-Si (triple)\"),3,2))))","v":1},{"$f":"IF($O459=\"Sunpower Corp.\",3,(IF(OR($Q459=\"mono\",$Q459=\"poly\",$Q459=\"HIT\",$Q459=\"EFG\",$Q459=\"mono-LGBC\"),1,2)))","v":1},{"$f":"IF($O459=\"Sunpower Corp.\",3,(IF(OR($Q459=\"mono\",$Q459=\"poly\",$Q459=\"HIT\",$Q459=\"EFG\",$Q459=\"mono-LGBC\"),1,IF(OR($Q459=\"µc-Si / a-Si\",$Q459=\"a-Si (single)\",$Q459=\"a-Si (tandem)\",$Q459=\"a-Si (triple)\"),3,2))))","v":1},0,null,null,21486,null,null,457]
["Anhui Rineng Zhongtian Semiconductor QJM72-195","Anhui Rineng Zhongtian Semiconductor ","QJM72-195",195,"+3...-3",36.4,5.37,43.6,6.01,-152.6,3.0049999999999999,-0.45,1000,null,null,15.274470329284668,"mono",72,"pseudo-square",1580,808,35,"aluminum","junction box",15.5,"www.qjsolar.com","-","-","-","-","-",{"$f":"IF($O460=\"Sunpower Corp.\",3,(IF(OR($Q460=\"mono\",$Q460=\"poly\",$Q460=\"HIT\",$Q460=\"EFG\",$Q460=\"mono-LGBC\"),1,IF(OR($Q460=\"µc-Si / a-Si\",$Q460=\"a-Si (single)\",$Q460=\"a-Si (tandem)\",$Q460=\"a-Si (triple)\"),3,2))))","v":1},{"$f":"IF($O460=\"Sunpower Corp.\",3,(IF(OR($Q460=\"mono\",$Q460=\"poly\",$Q460=\"HIT\",$Q460=\"EFG\",$Q460=\"mono-LGBC\"),1,2)))","v":1},{"$f":"IF($O460=\"Sunpower Corp.\",3,(IF(OR($Q460=\"mono\",$Q460=\"poly\",$Q460=\"HIT\",$Q460=\"EFG\",$Q460=\"mono-LGBC\"),1,IF(OR($Q460=\"µc-Si / a-Si\",$Q460=\"a-Si (single)\",$Q460=\"a-Si (tandem)\",$Q460=\"a-Si (triple)\"),3,2))))","v":1},0,null,null,21487,null,null,458]
["Anhui Rineng Zhongtian Semiconductor QJM96-220","Anhui Rineng Zhongtian Semiconductor ","QJM96-220",220,"+3...-3",47.5,4.63,57,5.17,-199.5,2.585,-0.45,1000,null,null,13.061960220336914,"mono",96,"pseudo-square",1580,1066,50,"aluminum","junction box",21,"www.qjsolar.com","-","-","-","-","-",{"$f":"IF($O461=\"Sunpower Corp.\",3,(IF(OR($Q461=\"mono\",$Q461=\"poly\",$Q461=\"HIT\",$Q461=\"EFG\",$Q461=\"mono-LGBC\"),1,IF(OR($Q461=\"µc-Si / a-Si\",$Q461=\"a-Si (single)\",$Q461=\"a-Si (tandem)\",$Q461=\"a-Si (triple)\"),3,2))))","v":1},{"$f":"IF($O461=\"Sunpower Corp.\",3,(IF(OR($Q461=\"mono\",$Q461=\"poly\",$Q461=\"HIT\",$Q461=\"EFG\",$Q461=\"mono-LGBC\"),1,2)))","v":1},{"$f":"IF($O461=\"Sunpower Corp.\",3,(IF(OR($Q461=\"mono\",$Q461=\"poly\",$Q461=\"HIT\",$Q461=\"EFG\",$Q461=\"mono-LGBC\"),1,IF(OR($Q461=\"µc-Si / a-Si\",$Q461=\"a-Si (single)\",$Q461=\"a-Si (tandem)\",$Q461=\"a-Si (triple)\"),3,2))))","v":1},0,null,null,21488,null,null,459]
["Anhui Rineng Zhongtian Semiconductor QJM96-225","Anhui Rineng Zhongtian Semiconductor ","QJM96-225",225,"+3...-3",47.7,4.72,57.2,5.28,-200.2,2.64,-0.45,1000,null,null,13.358819961547852,"mono",96,"pseudo-square",1580,1066,50,"aluminum","junction box",21,"www.qjsolar.com","-","-","-","-","-",{"$f":"IF($O462=\"Sunpower Corp.\",3,(IF(OR($Q462=\"mono\",$Q462=\"poly\",$Q462=\"HIT\",$Q462=\"EFG\",$Q462=\"mono-LGBC\"),1,IF(OR($Q462=\"µc-Si / a-Si\",$Q462=\"a-Si (single)\",$Q462=\"a-Si (tandem)\",$Q462=\"a-Si (triple)\"),3,2))))","v":1},{"$f":"IF($O462=\"Sunpower Corp.\",3,(IF(OR($Q462=\"mono\",$Q462=\"poly\",$Q462=\"HIT\",$Q462=\"EFG\",$Q462=\"mono-LGBC\"),1,2)))","v":1},{"$f":"IF($O462=\"Sunpower Corp.\",3,(IF(OR($Q462=\"mono\",$Q462=\"poly\",$Q462=\"HIT\",$Q462=\"EFG\",$Q462=\"mono-LGBC\"),1,IF(OR($Q462=\"µc-Si / a-Si\",$Q462=\"a-Si (single)\",$Q462=\"a-Si (tandem)\",$Q462=\"a-Si (triple)\"),3,2))))","v":1},0,null,null,21489,null,null,460]
["Anhui Rineng Zhongtian Semiconductor QJM96-230","Anhui Rineng Zhongtian Semiconductor ","QJM96-230",230,"+3...-3",47.8,4.8099999999999996,57.3,5.39,-200.55,2.6949999999999998,-0.45,1000,null,null,13.65569019317627,"mono",96,"pseudo-square",1580,1066,50,"aluminum","junction box",21,"www.qjsolar.com","-","-","-","-","-",{"$f":"IF($O463=\"Sunpower Corp.\",3,(IF(OR($Q463=\"mono\",$Q463=\"poly\",$Q463=\"HIT\",$Q463=\"EFG\",$Q463=\"mono-LGBC\"),1,IF(OR($Q463=\"µc-Si / a-Si\",$Q463=\"a-Si (single)\",$Q463=\"a-Si (tandem)\",$Q463=\"a-Si (triple)\"),3,2))))","v":1},{"$f":"IF($O463=\"Sunpower Corp.\",3,(IF(OR($Q463=\"mono\",$Q463=\"poly\",$Q463=\"HIT\",$Q463=\"EFG\",$Q463=\"mono-LGBC\"),1,2)))","v":1},{"$f":"IF($O463=\"Sunpower Corp.\",3,(IF(OR($Q463=\"mono\",$Q463=\"poly\",$Q463=\"HIT\",$Q463=\"EFG\",$Q463=\"mono-LGBC\"),1,IF(OR($Q463=\"µc-Si / a-Si\",$Q463=\"a-Si (single)\",$Q463=\"a-Si (tandem)\",$Q463=\"a-Si (triple)\"),3,2))))","v":1},0,null,null,21490,null,null,461]
["Anhui Rineng Zhongtian Semiconductor QJM96-235","Anhui Rineng Zhongtian Semiconductor ","QJM96-235",235,"+3...-3",47.9,4.91,57.4,5.49,-200.9,2.7450000000000001,-0.45,1000,null,null,13.952549934387207,"mono",96,"pseudo-square",1580,1066,50,"aluminum","junction box",21,"www.qjsolar.com","-","-","-","-","-",{"$f":"IF($O464=\"Sunpower Corp.\",3,(IF(OR($Q464=\"mono\",$Q464=\"poly\",$Q464=\"HIT\",$Q464=\"EFG\",$Q464=\"mono-LGBC\"),1,IF(OR($Q464=\"µc-Si / a-Si\",$Q464=\"a-Si (single)\",$Q464=\"a-Si (tandem)\",$Q464=\"a-Si (triple)\"),3,2))))","v":1},{"$f":"IF($O464=\"Sunpower Corp.\",3,(IF(OR($Q464=\"mono\",$Q464=\"poly\",$Q464=\"HIT\",$Q464=\"EFG\",$Q464=\"mono-LGBC\"),1,2)))","v":1},{"$f":"IF($O464=\"Sunpower Corp.\",3,(IF(OR($Q464=\"mono\",$Q464=\"poly\",$Q464=\"HIT\",$Q464=\"EFG\",$Q464=\"mono-LGBC\"),1,IF(OR($Q464=\"µc-Si / a-Si\",$Q464=\"a-Si (single)\",$Q464=\"a-Si (tandem)\",$Q464=\"a-Si (triple)\"),3,2))))","v":1},0,null,null,21491,null,null,462]
["Anhui Rineng Zhongtian Semiconductor QJM96-240","Anhui Rineng Zhongtian Semiconductor ","QJM96-240",240,"+3...-3",48,5.01,57.6,5.61,-201.6,2.8050000000000002,-0.45,1000,null,null,14.249409675598145,"mono",96,"pseudo-square",1580,1066,50,"aluminum","junction box",21,"www.qjsolar.com","-","-","-","-","-",{"$f":"IF($O465=\"Sunpower Corp.\",3,(IF(OR($Q465=\"mono\",$Q465=\"poly\",$Q465=\"HIT\",$Q465=\"EFG\",$Q465=\"mono-LGBC\"),1,IF(OR($Q465=\"µc-Si / a-Si\",$Q465=\"a-Si (single)\",$Q465=\"a-Si (tandem)\",$Q465=\"a-Si (triple)\"),3,2))))","v":1},{"$f":"IF($O465=\"Sunpower Corp.\",3,(IF(OR($Q465=\"mono\",$Q465=\"poly\",$Q465=\"HIT\",$Q465=\"EFG\",$Q465=\"mono-LGBC\"),1,2)))","v":1},{"$f":"IF($O465=\"Sunpower Corp.\",3,(IF(OR($Q465=\"mono\",$Q465=\"poly\",$Q465=\"HIT\",$Q465=\"EFG\",$Q465=\"mono-LGBC\"),1,IF(OR($Q465=\"µc-Si / a-Si\",$Q465=\"a-Si (single)\",$Q465=\"a-Si (tandem)\",$Q465=\"a-Si (triple)\"),3,2))))","v":1},0,null,null,21492,null,null,463]
["Anhui Rineng Zhongtian Semiconductor QJM96-245","Anhui Rineng Zhongtian Semiconductor ","QJM96-245",245,"+3...-3",48.1,5.0999999999999996,57.7,5.71,-201.95,2.855,-0.45,1000,null,null,14.546279907226563,"mono",96,"pseudo-square",1580,1066,50,"aluminum","junction box",21,"www.qjsolar.com","-","-","-","-","-",{"$f":"IF($O466=\"Sunpower Corp.\",3,(IF(OR($Q466=\"mono\",$Q466=\"poly\",$Q466=\"HIT\",$Q466=\"EFG\",$Q466=\"mono-LGBC\"),1,IF(OR($Q466=\"µc-Si / a-Si\",$Q466=\"a-Si (single)\",$Q466=\"a-Si (tandem)\",$Q466=\"a-Si (triple)\"),3,2))))","v":1},{"$f":"IF($O466=\"Sunpower Corp.\",3,(IF(OR($Q466=\"mono\",$Q466=\"poly\",$Q466=\"HIT\",$Q466=\"EFG\",$Q466=\"mono-LGBC\"),1,2)))","v":1},{"$f":"IF($O466=\"Sunpower Corp.\",3,(IF(OR($Q466=\"mono\",$Q466=\"poly\",$Q466=\"HIT\",$Q466=\"EFG\",$Q466=\"mono-LGBC\"),1,IF(OR($Q466=\"µc-Si / a-Si\",$Q466=\"a-Si (single)\",$Q466=\"a-Si (tandem)\",$Q466=\"a-Si (triple)\"),3,2))))","v":1},0,null,null,21493,null,null,464]
["Anhui Rineng Zhongtian Semiconductor QJM96-250","Anhui Rineng Zhongtian Semiconductor ","QJM96-250",250,"+3...-3",48.2,5.19,57.8,5.81,-202.3,2.9049999999999998,-0.45,1000,null,null,14.8431396484375,"mono",96,"pseudo-square",1580,1066,50,"aluminum","junction box",21,"www.qjsolar.com","-","-","-","-","-",{"$f":"IF($O467=\"Sunpower Corp.\",3,(IF(OR($Q467=\"mono\",$Q467=\"poly\",$Q467=\"HIT\",$Q467=\"EFG\",$Q467=\"mono-LGBC\"),1,IF(OR($Q467=\"µc-Si / a-Si\",$Q467=\"a-Si (single)\",$Q467=\"a-Si (tandem)\",$Q467=\"a-Si (triple)\"),3,2))))","v":1},{"$f":"IF($O467=\"Sunpower Corp.\",3,(IF(OR($Q467=\"mono\",$Q467=\"poly\",$Q467=\"HIT\",$Q467=\"EFG\",$Q467=\"mono-LGBC\"),1,2)))","v":1},{"$f":"IF($O467=\"Sunpower Corp.\",3,(IF(OR($Q467=\"mono\",$Q467=\"poly\",$Q467=\"HIT\",$Q467=\"EFG\",$Q467=\"mono-LGBC\"),1,IF(OR($Q467=\"µc-Si / a-Si\",$Q467=\"a-Si (single)\",$Q467=\"a-Si (tandem)\",$Q467=\"a-Si (triple)\"),3,2))))","v":1},0,null,null,21494,null,null,465]
["Anhui Rineng Zhongtian Semiconductor QJM96-255","Anhui Rineng Zhongtian Semiconductor ","QJM96-255",255,"+3...-3",48.3,5.28,58,5.91,-203,2.9550000000000001,-0.45,1000,null,null,15.140000343322754,"mono",96,"pseudo-square",1580,1066,50,"aluminum","junction box",21,"www.qjsolar.com","-","-","-","-","-",{"$f":"IF($O468=\"Sunpower Corp.\",3,(IF(OR($Q468=\"mono\",$Q468=\"poly\",$Q468=\"HIT\",$Q468=\"EFG\",$Q468=\"mono-LGBC\"),1,IF(OR($Q468=\"µc-Si / a-Si\",$Q468=\"a-Si (single)\",$Q468=\"a-Si (tandem)\",$Q468=\"a-Si (triple)\"),3,2))))","v":1},{"$f":"IF($O468=\"Sunpower Corp.\",3,(IF(OR($Q468=\"mono\",$Q468=\"poly\",$Q468=\"HIT\",$Q468=\"EFG\",$Q468=\"mono-LGBC\"),1,2)))","v":1},{"$f":"IF($O468=\"Sunpower Corp.\",3,(IF(OR($Q468=\"mono\",$Q468=\"poly\",$Q468=\"HIT\",$Q468=\"EFG\",$Q468=\"mono-LGBC\"),1,IF(OR($Q468=\"µc-Si / a-Si\",$Q468=\"a-Si (single)\",$Q468=\"a-Si (tandem)\",$Q468=\"a-Si (triple)\"),3,2))))","v":1},0,null,null,21495,null,null,466]
["Anhui Rineng Zhongtian Semiconductor QJM96-260","Anhui Rineng Zhongtian Semiconductor ","QJM96-260",260,"+3...-3",48.5,5.36,58.2,6,-203.7,3,-0.45,1000,null,null,15.436860084533691,"mono",96,"pseudo-square",1580,1066,50,"aluminum","junction box",21,"www.qjsolar.com","-","-","-","-","-",{"$f":"IF($O469=\"Sunpower Corp.\",3,(IF(OR($Q469=\"mono\",$Q469=\"poly\",$Q469=\"HIT\",$Q469=\"EFG\",$Q469=\"mono-LGBC\"),1,IF(OR($Q469=\"µc-Si / a-Si\",$Q469=\"a-Si (single)\",$Q469=\"a-Si (tandem)\",$Q469=\"a-Si (triple)\"),3,2))))","v":1},{"$f":"IF($O469=\"Sunpower Corp.\",3,(IF(OR($Q469=\"mono\",$Q469=\"poly\",$Q469=\"HIT\",$Q469=\"EFG\",$Q469=\"mono-LGBC\"),1,2)))","v":1},{"$f":"IF($O469=\"Sunpower Corp.\",3,(IF(OR($Q469=\"mono\",$Q469=\"poly\",$Q469=\"HIT\",$Q469=\"EFG\",$Q469=\"mono-LGBC\"),1,IF(OR($Q469=\"µc-Si / a-Si\",$Q469=\"a-Si (single)\",$Q469=\"a-Si (tandem)\",$Q469=\"a-Si (triple)\"),3,2))))","v":1},0,null,null,21496,null,null,467]
["Anhui Rineng Zhongtian Semiconductor QJP160","Anhui Rineng Zhongtian Semiconductor ","QJP160",160,"+2,8...-2,8",23.1,6.92,28.9,7.51,-101.15,4.5059999999999993,-0.45,1000,null,null,12.306099891662598,"poly",48,"square",1324,982,40,"aluminum","junction box",16,null,"-","-","-","-","-",{"$f":"IF($O470=\"Sunpower Corp.\",3,(IF(OR($Q470=\"mono\",$Q470=\"poly\",$Q470=\"HIT\",$Q470=\"EFG\",$Q470=\"mono-LGBC\"),1,IF(OR($Q470=\"µc-Si / a-Si\",$Q470=\"a-Si (single)\",$Q470=\"a-Si (tandem)\",$Q470=\"a-Si (triple)\"),3,2))))","v":1},{"$f":"IF($O470=\"Sunpower Corp.\",3,(IF(OR($Q470=\"mono\",$Q470=\"poly\",$Q470=\"HIT\",$Q470=\"EFG\",$Q470=\"mono-LGBC\"),1,2)))","v":1},{"$f":"IF($O470=\"Sunpower Corp.\",3,(IF(OR($Q470=\"mono\",$Q470=\"poly\",$Q470=\"HIT\",$Q470=\"EFG\",$Q470=\"mono-LGBC\"),1,IF(OR($Q470=\"µc-Si / a-Si\",$Q470=\"a-Si (single)\",$Q470=\"a-Si (tandem)\",$Q470=\"a-Si (triple)\"),3,2))))","v":1},0,null,null,9939,null,null,468]
["Anhui Rineng Zhongtian Semiconductor QJP170","Anhui Rineng Zhongtian Semiconductor ","QJP170",170,"+2,8...-2,8",23.2,7.33,29.2,7.85,-102.2,4.71,-0.45,1000,null,null,13.075229644775391,"poly",48,"square",1324,982,40,"aluminum","junction box",16,null,"-","-","-","-","-",{"$f":"IF($O471=\"Sunpower Corp.\",3,(IF(OR($Q471=\"mono\",$Q471=\"poly\",$Q471=\"HIT\",$Q471=\"EFG\",$Q471=\"mono-LGBC\"),1,IF(OR($Q471=\"µc-Si / a-Si\",$Q471=\"a-Si (single)\",$Q471=\"a-Si (tandem)\",$Q471=\"a-Si (triple)\"),3,2))))","v":1},{"$f":"IF($O471=\"Sunpower Corp.\",3,(IF(OR($Q471=\"mono\",$Q471=\"poly\",$Q471=\"HIT\",$Q471=\"EFG\",$Q471=\"mono-LGBC\"),1,2)))","v":1},{"$f":"IF($O471=\"Sunpower Corp.\",3,(IF(OR($Q471=\"mono\",$Q471=\"poly\",$Q471=\"HIT\",$Q471=\"EFG\",$Q471=\"mono-LGBC\"),1,IF(OR($Q471=\"µc-Si / a-Si\",$Q471=\"a-Si (single)\",$Q471=\"a-Si (tandem)\",$Q471=\"a-Si (triple)\"),3,2))))","v":1},0,null,null,9940,null,null,469]
["Anhui Rineng Zhongtian Semiconductor QJP-170","Anhui Rineng Zhongtian Semiconductor ","QJP-170",170,"+2,5...-2,5",28.7,5.93,35.799999999999997,6.62,-125.3,3.972,-0.45,1000,null,null,10.568750381469727,null,60,null,1638,982,40,"aluminum","junction box",18.5,null,"-","-","-","-","-",{"$f":"IF($O472=\"Sunpower Corp.\",3,(IF(OR($Q472=\"mono\",$Q472=\"poly\",$Q472=\"HIT\",$Q472=\"EFG\",$Q472=\"mono-LGBC\"),1,IF(OR($Q472=\"µc-Si / a-Si\",$Q472=\"a-Si (single)\",$Q472=\"a-Si (tandem)\",$Q472=\"a-Si (triple)\"),3,2))))","v":2},{"$f":"IF($O472=\"Sunpower Corp.\",3,(IF(OR($Q472=\"mono\",$Q472=\"poly\",$Q472=\"HIT\",$Q472=\"EFG\",$Q472=\"mono-LGBC\"),1,2)))","v":2},{"$f":"IF($O472=\"Sunpower Corp.\",3,(IF(OR($Q472=\"mono\",$Q472=\"poly\",$Q472=\"HIT\",$Q472=\"EFG\",$Q472=\"mono-LGBC\"),1,IF(OR($Q472=\"µc-Si / a-Si\",$Q472=\"a-Si (single)\",$Q472=\"a-Si (tandem)\",$Q472=\"a-Si (triple)\"),3,2))))","v":2},0,null,null,9947,null,null,470]
["Anhui Rineng Zhongtian Semiconductor QJP180","Anhui Rineng Zhongtian Semiconductor ","QJP180",180,"+2,8...-2,8",23.6,7.62,29.4,8.1999999999999993,-102.9,4.92,-0.45,1000,null,null,13.844369888305664,"poly",48,"square",1324,982,40,"aluminum","junction box",16,null,"-","-","-","-","-",{"$f":"IF($O473=\"Sunpower Corp.\",3,(IF(OR($Q473=\"mono\",$Q473=\"poly\",$Q473=\"HIT\",$Q473=\"EFG\",$Q473=\"mono-LGBC\"),1,IF(OR($Q473=\"µc-Si / a-Si\",$Q473=\"a-Si (single)\",$Q473=\"a-Si (tandem)\",$Q473=\"a-Si (triple)\"),3,2))))","v":1},{"$f":"IF($O473=\"Sunpower Corp.\",3,(IF(OR($Q473=\"mono\",$Q473=\"poly\",$Q473=\"HIT\",$Q473=\"EFG\",$Q473=\"mono-LGBC\"),1,2)))","v":1},{"$f":"IF($O473=\"Sunpower Corp.\",3,(IF(OR($Q473=\"mono\",$Q473=\"poly\",$Q473=\"HIT\",$Q473=\"EFG\",$Q473=\"mono-LGBC\"),1,IF(OR($Q473=\"µc-Si / a-Si\",$Q473=\"a-Si (single)\",$Q473=\"a-Si (tandem)\",$Q473=\"a-Si (triple)\"),3,2))))","v":1},0,null,null,9941,null,null,471]
["Anhui Rineng Zhongtian Semiconductor QJP-180","Anhui Rineng Zhongtian Semiconductor ","QJP-180",180,"+2,5...-2,5",28.7,6.26,35.9,6.98,-125.65,4.1879999999999997,-0.45,1000,null,null,11.19044017791748,null,60,null,1638,982,40,"aluminum","junction box",18.5,null,"-","-","-","-","-",{"$f":"IF($O474=\"Sunpower Corp.\",3,(IF(OR($Q474=\"mono\",$Q474=\"poly\",$Q474=\"HIT\",$Q474=\"EFG\",$Q474=\"mono-LGBC\"),1,IF(OR($Q474=\"µc-Si / a-Si\",$Q474=\"a-Si (single)\",$Q474=\"a-Si (tandem)\",$Q474=\"a-Si (triple)\"),3,2))))","v":2},{"$f":"IF($O474=\"Sunpower Corp.\",3,(IF(OR($Q474=\"mono\",$Q474=\"poly\",$Q474=\"HIT\",$Q474=\"EFG\",$Q474=\"mono-LGBC\"),1,2)))","v":2},{"$f":"IF($O474=\"Sunpower Corp.\",3,(IF(OR($Q474=\"mono\",$Q474=\"poly\",$Q474=\"HIT\",$Q474=\"EFG\",$Q474=\"mono-LGBC\"),1,IF(OR($Q474=\"µc-Si / a-Si\",$Q474=\"a-Si (single)\",$Q474=\"a-Si (tandem)\",$Q474=\"a-Si (triple)\"),3,2))))","v":2},0,null,null,9948,null,null,472]
["Anhui Rineng Zhongtian Semiconductor QJP-190","Anhui Rineng Zhongtian Semiconductor ","QJP-190",190,"+2,5...-2,5",28.8,6.6,36,7.33,-126,4.3979999999999997,-0.45,1000,null,null,11.812129974365234,null,60,null,1638,982,40,"aluminum","junction box",18.5,null,"-","-","-","-","-",{"$f":"IF($O475=\"Sunpower Corp.\",3,(IF(OR($Q475=\"mono\",$Q475=\"poly\",$Q475=\"HIT\",$Q475=\"EFG\",$Q475=\"mono-LGBC\"),1,IF(OR($Q475=\"µc-Si / a-Si\",$Q475=\"a-Si (single)\",$Q475=\"a-Si (tandem)\",$Q475=\"a-Si (triple)\"),3,2))))","v":2},{"$f":"IF($O475=\"Sunpower Corp.\",3,(IF(OR($Q475=\"mono\",$Q475=\"poly\",$Q475=\"HIT\",$Q475=\"EFG\",$Q475=\"mono-LGBC\"),1,2)))","v":2},{"$f":"IF($O475=\"Sunpower Corp.\",3,(IF(OR($Q475=\"mono\",$Q475=\"poly\",$Q475=\"HIT\",$Q475=\"EFG\",$Q475=\"mono-LGBC\"),1,IF(OR($Q475=\"µc-Si / a-Si\",$Q475=\"a-Si (single)\",$Q475=\"a-Si (tandem)\",$Q475=\"a-Si (triple)\"),3,2))))","v":2},0,null,null,9949,null,null,473]
["Anhui Rineng Zhongtian Semiconductor QJP200","Anhui Rineng Zhongtian Semiconductor ","QJP200",200,"+2,1...-2,1",46.4,4.3099999999999996,57.4,4.78,-200.9,2.8679999999999999,-0.45,1000,null,null,11.766630172729492,"poly",96,"square",1602,1061,40,"aluminum","junction box",20,null,"-","-","-","-","-",{"$f":"IF($O476=\"Sunpower Corp.\",3,(IF(OR($Q476=\"mono\",$Q476=\"poly\",$Q476=\"HIT\",$Q476=\"EFG\",$Q476=\"mono-LGBC\"),1,IF(OR($Q476=\"µc-Si / a-Si\",$Q476=\"a-Si (single)\",$Q476=\"a-Si (tandem)\",$Q476=\"a-Si (triple)\"),3,2))))","v":1},{"$f":"IF($O476=\"Sunpower Corp.\",3,(IF(OR($Q476=\"mono\",$Q476=\"poly\",$Q476=\"HIT\",$Q476=\"EFG\",$Q476=\"mono-LGBC\"),1,2)))","v":1},{"$f":"IF($O476=\"Sunpower Corp.\",3,(IF(OR($Q476=\"mono\",$Q476=\"poly\",$Q476=\"HIT\",$Q476=\"EFG\",$Q476=\"mono-LGBC\"),1,IF(OR($Q476=\"µc-Si / a-Si\",$Q476=\"a-Si (single)\",$Q476=\"a-Si (tandem)\",$Q476=\"a-Si (triple)\"),3,2))))","v":1},0,null,null,9942,null,null,474]
["Anhui Rineng Zhongtian Semiconductor QJP-200","Anhui Rineng Zhongtian Semiconductor ","QJP-200",200,"+2,5...-2,5",28.9,6.93,36.200000000000003,7.68,-126.7,4.6079999999999997,-0.45,1000,null,null,12.433819770812988,null,60,null,1638,982,40,"aluminum","junction box",18.5,null,"-","-","-","-","-",{"$f":"IF($O477=\"Sunpower Corp.\",3,(IF(OR($Q477=\"mono\",$Q477=\"poly\",$Q477=\"HIT\",$Q477=\"EFG\",$Q477=\"mono-LGBC\"),1,IF(OR($Q477=\"µc-Si / a-Si\",$Q477=\"a-Si (single)\",$Q477=\"a-Si (tandem)\",$Q477=\"a-Si (triple)\"),3,2))))","v":2},{"$f":"IF($O477=\"Sunpower Corp.\",3,(IF(OR($Q477=\"mono\",$Q477=\"poly\",$Q477=\"HIT\",$Q477=\"EFG\",$Q477=\"mono-LGBC\"),1,2)))","v":2},{"$f":"IF($O477=\"Sunpower Corp.\",3,(IF(OR($Q477=\"mono\",$Q477=\"poly\",$Q477=\"HIT\",$Q477=\"EFG\",$Q477=\"mono-LGBC\"),1,IF(OR($Q477=\"µc-Si / a-Si\",$Q477=\"a-Si (single)\",$Q477=\"a-Si (tandem)\",$Q477=\"a-Si (triple)\"),3,2))))","v":2},0,null,null,9950,null,null,475]
["Anhui Rineng Zhongtian Semiconductor QJP210","Anhui Rineng Zhongtian Semiconductor ","QJP210",210,"+2,1...-2,1",46.6,4.51,57.9,4.9400000000000004,-202.65,2.964,-0.45,1000,null,null,12.354960441589355,"poly",96,"square",1602,1061,40,"aluminum","junction box",20,null,"-","-","-","-","-",{"$f":"IF($O478=\"Sunpower Corp.\",3,(IF(OR($Q478=\"mono\",$Q478=\"poly\",$Q478=\"HIT\",$Q478=\"EFG\",$Q478=\"mono-LGBC\"),1,IF(OR($Q478=\"µc-Si / a-Si\",$Q478=\"a-Si (single)\",$Q478=\"a-Si (tandem)\",$Q478=\"a-Si (triple)\"),3,2))))","v":1},{"$f":"IF($O478=\"Sunpower Corp.\",3,(IF(OR($Q478=\"mono\",$Q478=\"poly\",$Q478=\"HIT\",$Q478=\"EFG\",$Q478=\"mono-LGBC\"),1,2)))","v":1},{"$f":"IF($O478=\"Sunpower Corp.\",3,(IF(OR($Q478=\"mono\",$Q478=\"poly\",$Q478=\"HIT\",$Q478=\"EFG\",$Q478=\"mono-LGBC\"),1,IF(OR($Q478=\"µc-Si / a-Si\",$Q478=\"a-Si (single)\",$Q478=\"a-Si (tandem)\",$Q478=\"a-Si (triple)\"),3,2))))","v":1},0,null,null,9943,null,null,476]
["Anhui Rineng Zhongtian Semiconductor QJP220","Anhui Rineng Zhongtian Semiconductor ","QJP220",220,"+2,1...-2,1",46.9,4.6900000000000004,58.4,5.0999999999999996,-204.4,3.06,-0.45,1000,null,null,12.943289756774902,"poly",96,"square",1602,1061,40,"aluminum","junction box",20,null,"-","-","-","-","-",{"$f":"IF($O479=\"Sunpower Corp.\",3,(IF(OR($Q479=\"mono\",$Q479=\"poly\",$Q479=\"HIT\",$Q479=\"EFG\",$Q479=\"mono-LGBC\"),1,IF(OR($Q479=\"µc-Si / a-Si\",$Q479=\"a-Si (single)\",$Q479=\"a-Si (tandem)\",$Q479=\"a-Si (triple)\"),3,2))))","v":1},{"$f":"IF($O479=\"Sunpower Corp.\",3,(IF(OR($Q479=\"mono\",$Q479=\"poly\",$Q479=\"HIT\",$Q479=\"EFG\",$Q479=\"mono-LGBC\"),1,2)))","v":1},{"$f":"IF($O479=\"Sunpower Corp.\",3,(IF(OR($Q479=\"mono\",$Q479=\"poly\",$Q479=\"HIT\",$Q479=\"EFG\",$Q479=\"mono-LGBC\"),1,IF(OR($Q479=\"µc-Si / a-Si\",$Q479=\"a-Si (single)\",$Q479=\"a-Si (tandem)\",$Q479=\"a-Si (triple)\"),3,2))))","v":1},0,null,null,9944,null,null,477]
["Anhui Rineng Zhongtian Semiconductor QJP230","Anhui Rineng Zhongtian Semiconductor ","QJP230",230,"+2,1...-2,1",47.5,4.84,58.8,5.25,-205.8,3.15,-0.45,1000,null,null,13.531620025634766,"poly",96,"square",1602,1061,40,"aluminum","junction box",20,null,"-","-","-","-","-",{"$f":"IF($O480=\"Sunpower Corp.\",3,(IF(OR($Q480=\"mono\",$Q480=\"poly\",$Q480=\"HIT\",$Q480=\"EFG\",$Q480=\"mono-LGBC\"),1,IF(OR($Q480=\"µc-Si / a-Si\",$Q480=\"a-Si (single)\",$Q480=\"a-Si (tandem)\",$Q480=\"a-Si (triple)\"),3,2))))","v":1},{"$f":"IF($O480=\"Sunpower Corp.\",3,(IF(OR($Q480=\"mono\",$Q480=\"poly\",$Q480=\"HIT\",$Q480=\"EFG\",$Q480=\"mono-LGBC\"),1,2)))","v":1},{"$f":"IF($O480=\"Sunpower Corp.\",3,(IF(OR($Q480=\"mono\",$Q480=\"poly\",$Q480=\"HIT\",$Q480=\"EFG\",$Q480=\"mono-LGBC\"),1,IF(OR($Q480=\"µc-Si / a-Si\",$Q480=\"a-Si (single)\",$Q480=\"a-Si (tandem)\",$Q480=\"a-Si (triple)\"),3,2))))","v":1},0,null,null,9945,null,null,478]
["Anhui Rineng Zhongtian Semiconductor QJP240","Anhui Rineng Zhongtian Semiconductor ","QJP240",240,"+2,1...-2,1",48.1,4.99,59.3,5.4,-207.55,3.24,-0.45,1000,null,null,14.119959831237793,"poly",96,"square",1602,1061,40,"aluminum","junction box",20,null,"-","-","-","-","-",{"$f":"IF($O481=\"Sunpower Corp.\",3,(IF(OR($Q481=\"mono\",$Q481=\"poly\",$Q481=\"HIT\",$Q481=\"EFG\",$Q481=\"mono-LGBC\"),1,IF(OR($Q481=\"µc-Si / a-Si\",$Q481=\"a-Si (single)\",$Q481=\"a-Si (tandem)\",$Q481=\"a-Si (triple)\"),3,2))))","v":1},{"$f":"IF($O481=\"Sunpower Corp.\",3,(IF(OR($Q481=\"mono\",$Q481=\"poly\",$Q481=\"HIT\",$Q481=\"EFG\",$Q481=\"mono-LGBC\"),1,2)))","v":1},{"$f":"IF($O481=\"Sunpower Corp.\",3,(IF(OR($Q481=\"mono\",$Q481=\"poly\",$Q481=\"HIT\",$Q481=\"EFG\",$Q481=\"mono-LGBC\"),1,IF(OR($Q481=\"µc-Si / a-Si\",$Q481=\"a-Si (single)\",$Q481=\"a-Si (tandem)\",$Q481=\"a-Si (triple)\"),3,2))))","v":1},0,null,null,9946,null,null,479]
["Anhui Rineng Zhongtian Semiconductor QJP54-165","Anhui Rineng Zhongtian Semiconductor ","QJP54-165",165,"+3...-3",26,6.35,31.2,7.11,-109.2,3.5550000000000002,-0.45,100,null,null,11.223389625549316,"poly",54,"square",1482,992,50,"aluminum","junction box",17,"www.qjsolar.com","-","-","-","-","-",{"$f":"IF($O482=\"Sunpower Corp.\",3,(IF(OR($Q482=\"mono\",$Q482=\"poly\",$Q482=\"HIT\",$Q482=\"EFG\",$Q482=\"mono-LGBC\"),1,IF(OR($Q482=\"µc-Si / a-Si\",$Q482=\"a-Si (single)\",$Q482=\"a-Si (tandem)\",$Q482=\"a-Si (triple)\"),3,2))))","v":1},{"$f":"IF($O482=\"Sunpower Corp.\",3,(IF(OR($Q482=\"mono\",$Q482=\"poly\",$Q482=\"HIT\",$Q482=\"EFG\",$Q482=\"mono-LGBC\"),1,2)))","v":1},{"$f":"IF($O482=\"Sunpower Corp.\",3,(IF(OR($Q482=\"mono\",$Q482=\"poly\",$Q482=\"HIT\",$Q482=\"EFG\",$Q482=\"mono-LGBC\"),1,IF(OR($Q482=\"µc-Si / a-Si\",$Q482=\"a-Si (single)\",$Q482=\"a-Si (tandem)\",$Q482=\"a-Si (triple)\"),3,2))))","v":1},0,null,null,21497,null,null,480]
["Anhui Rineng Zhongtian Semiconductor QJP54-170","Anhui Rineng Zhongtian Semiconductor ","QJP54-170",170,"+3...-3",26.1,6.51,31.3,7.3,-109.55,3.65,-0.45,100,null,null,11.56348991394043,"poly",54,"square",1482,992,50,"aluminum","junction box",17,"www.qjsolar.com","-","-","-","-","-",{"$f":"IF($O483=\"Sunpower Corp.\",3,(IF(OR($Q483=\"mono\",$Q483=\"poly\",$Q483=\"HIT\",$Q483=\"EFG\",$Q483=\"mono-LGBC\"),1,IF(OR($Q483=\"µc-Si / a-Si\",$Q483=\"a-Si (single)\",$Q483=\"a-Si (tandem)\",$Q483=\"a-Si (triple)\"),3,2))))","v":1},{"$f":"IF($O483=\"Sunpower Corp.\",3,(IF(OR($Q483=\"mono\",$Q483=\"poly\",$Q483=\"HIT\",$Q483=\"EFG\",$Q483=\"mono-LGBC\"),1,2)))","v":1},{"$f":"IF($O483=\"Sunpower Corp.\",3,(IF(OR($Q483=\"mono\",$Q483=\"poly\",$Q483=\"HIT\",$Q483=\"EFG\",$Q483=\"mono-LGBC\"),1,IF(OR($Q483=\"µc-Si / a-Si\",$Q483=\"a-Si (single)\",$Q483=\"a-Si (tandem)\",$Q483=\"a-Si (triple)\"),3,2))))","v":1},0,null,null,21498,null,null,481]
["Anhui Rineng Zhongtian Semiconductor QJP54-175","Anhui Rineng Zhongtian Semiconductor ","QJP54-175",175,"+3...-3",26.2,6.68,31.4,7.48,-109.9,3.74,-0.45,100,null,null,11.903599739074707,"poly",54,"square",1482,992,50,"aluminum","junction box",17,"www.qjsolar.com","-","-","-","-","-",{"$f":"IF($O484=\"Sunpower Corp.\",3,(IF(OR($Q484=\"mono\",$Q484=\"poly\",$Q484=\"HIT\",$Q484=\"EFG\",$Q484=\"mono-LGBC\"),1,IF(OR($Q484=\"µc-Si / a-Si\",$Q484=\"a-Si (single)\",$Q484=\"a-Si (tandem)\",$Q484=\"a-Si (triple)\"),3,2))))","v":1},{"$f":"IF($O484=\"Sunpower Corp.\",3,(IF(OR($Q484=\"mono\",$Q484=\"poly\",$Q484=\"HIT\",$Q484=\"EFG\",$Q484=\"mono-LGBC\"),1,2)))","v":1},{"$f":"IF($O484=\"Sunpower Corp.\",3,(IF(OR($Q484=\"mono\",$Q484=\"poly\",$Q484=\"HIT\",$Q484=\"EFG\",$Q484=\"mono-LGBC\"),1,IF(OR($Q484=\"µc-Si / a-Si\",$Q484=\"a-Si (single)\",$Q484=\"a-Si (tandem)\",$Q484=\"a-Si (triple)\"),3,2))))","v":1},0,null,null,21499,null,null,482]
["Anhui Rineng Zhongtian Semiconductor QJP54-180","Anhui Rineng Zhongtian Semiconductor ","QJP54-180",180,"+3...-3",26.3,6.84,31.6,7.67,-110.6,3.835,-0.45,100,null,null,12.24370002746582,"poly",54,"square",1482,992,50,"aluminum","junction box",17,"www.qjsolar.com","-","-","-","-","-",{"$f":"IF($O485=\"Sunpower Corp.\",3,(IF(OR($Q485=\"mono\",$Q485=\"poly\",$Q485=\"HIT\",$Q485=\"EFG\",$Q485=\"mono-LGBC\"),1,IF(OR($Q485=\"µc-Si / a-Si\",$Q485=\"a-Si (single)\",$Q485=\"a-Si (tandem)\",$Q485=\"a-Si (triple)\"),3,2))))","v":1},{"$f":"IF($O485=\"Sunpower Corp.\",3,(IF(OR($Q485=\"mono\",$Q485=\"poly\",$Q485=\"HIT\",$Q485=\"EFG\",$Q485=\"mono-LGBC\"),1,2)))","v":1},{"$f":"IF($O485=\"Sunpower Corp.\",3,(IF(OR($Q485=\"mono\",$Q485=\"poly\",$Q485=\"HIT\",$Q485=\"EFG\",$Q485=\"mono-LGBC\"),1,IF(OR($Q485=\"µc-Si / a-Si\",$Q485=\"a-Si (single)\",$Q485=\"a-Si (tandem)\",$Q485=\"a-Si (triple)\"),3,2))))","v":1},0,null,null,21500,null,null,483]
["Anhui Rineng Zhongtian Semiconductor QJP54-185","Anhui Rineng Zhongtian Semiconductor ","QJP54-185",185,"+3...-3",26.5,6.98,31.8,7.82,-111.3,3.91,-0.45,100,null,null,12.583800315856934,"poly",54,"square",1482,992,50,"aluminum","junction box",17,"www.qjsolar.com","-","-","-","-","-",{"$f":"IF($O486=\"Sunpower Corp.\",3,(IF(OR($Q486=\"mono\",$Q486=\"poly\",$Q486=\"HIT\",$Q486=\"EFG\",$Q486=\"mono-LGBC\"),1,IF(OR($Q486=\"µc-Si / a-Si\",$Q486=\"a-Si (single)\",$Q486=\"a-Si (tandem)\",$Q486=\"a-Si (triple)\"),3,2))))","v":1},{"$f":"IF($O486=\"Sunpower Corp.\",3,(IF(OR($Q486=\"mono\",$Q486=\"poly\",$Q486=\"HIT\",$Q486=\"EFG\",$Q486=\"mono-LGBC\"),1,2)))","v":1},{"$f":"IF($O486=\"Sunpower Corp.\",3,(IF(OR($Q486=\"mono\",$Q486=\"poly\",$Q486=\"HIT\",$Q486=\"EFG\",$Q486=\"mono-LGBC\"),1,IF(OR($Q486=\"µc-Si / a-Si\",$Q486=\"a-Si (single)\",$Q486=\"a-Si (tandem)\",$Q486=\"a-Si (triple)\"),3,2))))","v":1},0,null,null,21501,null,null,484]
["Anhui Rineng Zhongtian Semiconductor QJP54-190","Anhui Rineng Zhongtian Semiconductor ","QJP54-190",190,"+3...-3",26.7,7.12,32,7.97,-112,3.9849999999999999,-0.45,100,null,null,12.92389965057373,"poly",54,"square",1482,992,50,"aluminum","junction box",17,"www.qjsolar.com","-","-","-","-","-",{"$f":"IF($O487=\"Sunpower Corp.\",3,(IF(OR($Q487=\"mono\",$Q487=\"poly\",$Q487=\"HIT\",$Q487=\"EFG\",$Q487=\"mono-LGBC\"),1,IF(OR($Q487=\"µc-Si / a-Si\",$Q487=\"a-Si (single)\",$Q487=\"a-Si (tandem)\",$Q487=\"a-Si (triple)\"),3,2))))","v":1},{"$f":"IF($O487=\"Sunpower Corp.\",3,(IF(OR($Q487=\"mono\",$Q487=\"poly\",$Q487=\"HIT\",$Q487=\"EFG\",$Q487=\"mono-LGBC\"),1,2)))","v":1},{"$f":"IF($O487=\"Sunpower Corp.\",3,(IF(OR($Q487=\"mono\",$Q487=\"poly\",$Q487=\"HIT\",$Q487=\"EFG\",$Q487=\"mono-LGBC\"),1,IF(OR($Q487=\"µc-Si / a-Si\",$Q487=\"a-Si (single)\",$Q487=\"a-Si (tandem)\",$Q487=\"a-Si (triple)\"),3,2))))","v":1},0,null,null,21502,null,null,485]
["Anhui Rineng Zhongtian Semiconductor QJP54-195","Anhui Rineng Zhongtian Semiconductor ","QJP54-195",195,"+3...-3",26.9,7.25,32.299999999999997,8.1199999999999992,-113.05,4.0599999999999996,-0.45,100,null,null,13.264010429382324,"poly",54,"square",1482,992,50,"aluminum","junction box",17,"www.qjsolar.com","-","-","-","-","-",{"$f":"IF($O488=\"Sunpower Corp.\",3,(IF(OR($Q488=\"mono\",$Q488=\"poly\",$Q488=\"HIT\",$Q488=\"EFG\",$Q488=\"mono-LGBC\"),1,IF(OR($Q488=\"µc-Si / a-Si\",$Q488=\"a-Si (single)\",$Q488=\"a-Si (tandem)\",$Q488=\"a-Si (triple)\"),3,2))))","v":1},{"$f":"IF($O488=\"Sunpower Corp.\",3,(IF(OR($Q488=\"mono\",$Q488=\"poly\",$Q488=\"HIT\",$Q488=\"EFG\",$Q488=\"mono-LGBC\"),1,2)))","v":1},{"$f":"IF($O488=\"Sunpower Corp.\",3,(IF(OR($Q488=\"mono\",$Q488=\"poly\",$Q488=\"HIT\",$Q488=\"EFG\",$Q488=\"mono-LGBC\"),1,IF(OR($Q488=\"µc-Si / a-Si\",$Q488=\"a-Si (single)\",$Q488=\"a-Si (tandem)\",$Q488=\"a-Si (triple)\"),3,2))))","v":1},0,null,null,21503,null,null,486]
["Anhui Rineng Zhongtian Semiconductor QJP60-200","Anhui Rineng Zhongtian Semiconductor ","QJP60-200",200,"+3...-3",29.2,6.85,35,7.67,-122.5,3.835,-0.45,1000,null,null,12.29347038269043,"poly",60,"square",1640,992,50,"aluminum","junction box",19,"www.qjsolar.com","-","-","-","-","-",{"$f":"IF($O489=\"Sunpower Corp.\",3,(IF(OR($Q489=\"mono\",$Q489=\"poly\",$Q489=\"HIT\",$Q489=\"EFG\",$Q489=\"mono-LGBC\"),1,IF(OR($Q489=\"µc-Si / a-Si\",$Q489=\"a-Si (single)\",$Q489=\"a-Si (tandem)\",$Q489=\"a-Si (triple)\"),3,2))))","v":1},{"$f":"IF($O489=\"Sunpower Corp.\",3,(IF(OR($Q489=\"mono\",$Q489=\"poly\",$Q489=\"HIT\",$Q489=\"EFG\",$Q489=\"mono-LGBC\"),1,2)))","v":1},{"$f":"IF($O489=\"Sunpower Corp.\",3,(IF(OR($Q489=\"mono\",$Q489=\"poly\",$Q489=\"HIT\",$Q489=\"EFG\",$Q489=\"mono-LGBC\"),1,IF(OR($Q489=\"µc-Si / a-Si\",$Q489=\"a-Si (single)\",$Q489=\"a-Si (tandem)\",$Q489=\"a-Si (triple)\"),3,2))))","v":1},0,null,null,21504,null,null,487]
["Anhui Rineng Zhongtian Semiconductor QJP60-210","Anhui Rineng Zhongtian Semiconductor ","QJP60-210",210,"+3...-3",29.4,7.14,35.200000000000003,8.01,-123.2,4.0049999999999999,-0.45,1000,null,null,12.908140182495117,"poly",60,"square",1640,992,50,"aluminum","junction box",19,"www.qjsolar.com","-","-","-","-","-",{"$f":"IF($O490=\"Sunpower Corp.\",3,(IF(OR($Q490=\"mono\",$Q490=\"poly\",$Q490=\"HIT\",$Q490=\"EFG\",$Q490=\"mono-LGBC\"),1,IF(OR($Q490=\"µc-Si / a-Si\",$Q490=\"a-Si (single)\",$Q490=\"a-Si (tandem)\",$Q490=\"a-Si (triple)\"),3,2))))","v":1},{"$f":"IF($O490=\"Sunpower Corp.\",3,(IF(OR($Q490=\"mono\",$Q490=\"poly\",$Q490=\"HIT\",$Q490=\"EFG\",$Q490=\"mono-LGBC\"),1,2)))","v":1},{"$f":"IF($O490=\"Sunpower Corp.\",3,(IF(OR($Q490=\"mono\",$Q490=\"poly\",$Q490=\"HIT\",$Q490=\"EFG\",$Q490=\"mono-LGBC\"),1,IF(OR($Q490=\"µc-Si / a-Si\",$Q490=\"a-Si (single)\",$Q490=\"a-Si (tandem)\",$Q490=\"a-Si (triple)\"),3,2))))","v":1},0,null,null,21505,null,null,488]
["Anhui Rineng Zhongtian Semiconductor QJP60-215","Anhui Rineng Zhongtian Semiconductor ","QJP60-215",215,"+3...-3",29.5,7.29,35.4,8.16,-123.9,4.08,-0.45,1000,null,null,13.215479850769043,"poly",60,"square",1640,992,50,"aluminum","junction box",19,"www.qjsolar.com","-","-","-","-","-",{"$f":"IF($O491=\"Sunpower Corp.\",3,(IF(OR($Q491=\"mono\",$Q491=\"poly\",$Q491=\"HIT\",$Q491=\"EFG\",$Q491=\"mono-LGBC\"),1,IF(OR($Q491=\"µc-Si / a-Si\",$Q491=\"a-Si (single)\",$Q491=\"a-Si (tandem)\",$Q491=\"a-Si (triple)\"),3,2))))","v":1},{"$f":"IF($O491=\"Sunpower Corp.\",3,(IF(OR($Q491=\"mono\",$Q491=\"poly\",$Q491=\"HIT\",$Q491=\"EFG\",$Q491=\"mono-LGBC\"),1,2)))","v":1},{"$f":"IF($O491=\"Sunpower Corp.\",3,(IF(OR($Q491=\"mono\",$Q491=\"poly\",$Q491=\"HIT\",$Q491=\"EFG\",$Q491=\"mono-LGBC\"),1,IF(OR($Q491=\"µc-Si / a-Si\",$Q491=\"a-Si (single)\",$Q491=\"a-Si (tandem)\",$Q491=\"a-Si (triple)\"),3,2))))","v":1},0,null,null,21506,null,null,489]
["Anhui Rineng Zhongtian Semiconductor QJP60-220","Anhui Rineng Zhongtian Semiconductor ","QJP60-220",220,"+3...-3",29.6,7.43,35.5,8.32,-124.25,4.16,-0.45,1000,null,null,13.522820472717285,"poly",60,"square",1640,992,50,"aluminum","junction box",19,"www.qjsolar.com","-","-","-","-","-",{"$f":"IF($O492=\"Sunpower Corp.\",3,(IF(OR($Q492=\"mono\",$Q492=\"poly\",$Q492=\"HIT\",$Q492=\"EFG\",$Q492=\"mono-LGBC\"),1,IF(OR($Q492=\"µc-Si / a-Si\",$Q492=\"a-Si (single)\",$Q492=\"a-Si (tandem)\",$Q492=\"a-Si (triple)\"),3,2))))","v":1},{"$f":"IF($O492=\"Sunpower Corp.\",3,(IF(OR($Q492=\"mono\",$Q492=\"poly\",$Q492=\"HIT\",$Q492=\"EFG\",$Q492=\"mono-LGBC\"),1,2)))","v":1},{"$f":"IF($O492=\"Sunpower Corp.\",3,(IF(OR($Q492=\"mono\",$Q492=\"poly\",$Q492=\"HIT\",$Q492=\"EFG\",$Q492=\"mono-LGBC\"),1,IF(OR($Q492=\"µc-Si / a-Si\",$Q492=\"a-Si (single)\",$Q492=\"a-Si (tandem)\",$Q492=\"a-Si (triple)\"),3,2))))","v":1},0,null,null,21507,null,null,490]
["Anhui Rineng Zhongtian Semiconductor QJP60-225","Anhui Rineng Zhongtian Semiconductor ","QJP60-225",225,"+3...-3",29.8,7.55,35.799999999999997,8.4600000000000009,-125.3,4.2300000000000004,-0.45,1000,null,null,13.83014965057373,"poly",60,"square",1640,992,50,"aluminum","junction box",19,"www.qjsolar.com","-","-","-","-","-",{"$f":"IF($O493=\"Sunpower Corp.\",3,(IF(OR($Q493=\"mono\",$Q493=\"poly\",$Q493=\"HIT\",$Q493=\"EFG\",$Q493=\"mono-LGBC\"),1,IF(OR($Q493=\"µc-Si / a-Si\",$Q493=\"a-Si (single)\",$Q493=\"a-Si (tandem)\",$Q493=\"a-Si (triple)\"),3,2))))","v":1},{"$f":"IF($O493=\"Sunpower Corp.\",3,(IF(OR($Q493=\"mono\",$Q493=\"poly\",$Q493=\"HIT\",$Q493=\"EFG\",$Q493=\"mono-LGBC\"),1,2)))","v":1},{"$f":"IF($O493=\"Sunpower Corp.\",3,(IF(OR($Q493=\"mono\",$Q493=\"poly\",$Q493=\"HIT\",$Q493=\"EFG\",$Q493=\"mono-LGBC\"),1,IF(OR($Q493=\"µc-Si / a-Si\",$Q493=\"a-Si (single)\",$Q493=\"a-Si (tandem)\",$Q493=\"a-Si (triple)\"),3,2))))","v":1},0,null,null,21508,null,null,491]
["Anhui Rineng Zhongtian Semiconductor QJP60-230","Anhui Rineng Zhongtian Semiconductor ","QJP60-230",230,"+3...-3",30,7.67,36,8.6,-126,4.3,-0.45,1000,null,null,14.137490272521973,"poly",60,"square",1640,992,50,"aluminum","junction box",19,"www.qjsolar.com","-","-","-","-","-",{"$f":"IF($O494=\"Sunpower Corp.\",3,(IF(OR($Q494=\"mono\",$Q494=\"poly\",$Q494=\"HIT\",$Q494=\"EFG\",$Q494=\"mono-LGBC\"),1,IF(OR($Q494=\"µc-Si / a-Si\",$Q494=\"a-Si (single)\",$Q494=\"a-Si (tandem)\",$Q494=\"a-Si (triple)\"),3,2))))","v":1},{"$f":"IF($O494=\"Sunpower Corp.\",3,(IF(OR($Q494=\"mono\",$Q494=\"poly\",$Q494=\"HIT\",$Q494=\"EFG\",$Q494=\"mono-LGBC\"),1,2)))","v":1},{"$f":"IF($O494=\"Sunpower Corp.\",3,(IF(OR($Q494=\"mono\",$Q494=\"poly\",$Q494=\"HIT\",$Q494=\"EFG\",$Q494=\"mono-LGBC\"),1,IF(OR($Q494=\"µc-Si / a-Si\",$Q494=\"a-Si (single)\",$Q494=\"a-Si (tandem)\",$Q494=\"a-Si (triple)\"),3,2))))","v":1},0,null,null,21509,null,null,492]
["Anhui Rineng Zhongtian Semiconductor QJP60-235","Anhui Rineng Zhongtian Semiconductor ","QJP60-235",235,"+3...-3",30.1,7.81,36.1,8.75,-126.35,4.375,-0.45,1000,null,null,14.444829940795898,"poly",60,"square",1640,992,50,"aluminum","junction box",19,"www.qjsolar.com","-","-","-","-","-",{"$f":"IF($O495=\"Sunpower Corp.\",3,(IF(OR($Q495=\"mono\",$Q495=\"poly\",$Q495=\"HIT\",$Q495=\"EFG\",$Q495=\"mono-LGBC\"),1,IF(OR($Q495=\"µc-Si / a-Si\",$Q495=\"a-Si (single)\",$Q495=\"a-Si (tandem)\",$Q495=\"a-Si (triple)\"),3,2))))","v":1},{"$f":"IF($O495=\"Sunpower Corp.\",3,(IF(OR($Q495=\"mono\",$Q495=\"poly\",$Q495=\"HIT\",$Q495=\"EFG\",$Q495=\"mono-LGBC\"),1,2)))","v":1},{"$f":"IF($O495=\"Sunpower Corp.\",3,(IF(OR($Q495=\"mono\",$Q495=\"poly\",$Q495=\"HIT\",$Q495=\"EFG\",$Q495=\"mono-LGBC\"),1,IF(OR($Q495=\"µc-Si / a-Si\",$Q495=\"a-Si (single)\",$Q495=\"a-Si (tandem)\",$Q495=\"a-Si (triple)\"),3,2))))","v":1},0,null,null,21510,null,null,493]
["Anhui Rineng Zhongtian Semiconductor QJP60-240","Anhui Rineng Zhongtian Semiconductor ","QJP60-240",240,"+3...-3",30.2,7.95,36.200000000000003,8.9,-126.7,4.45,-0.45,1000,null,null,14.75216007232666,"poly",60,"square",1640,992,50,"aluminum","junction box",19,"www.qjsolar.com","-","-","-","-","-",{"$f":"IF($O496=\"Sunpower Corp.\",3,(IF(OR($Q496=\"mono\",$Q496=\"poly\",$Q496=\"HIT\",$Q496=\"EFG\",$Q496=\"mono-LGBC\"),1,IF(OR($Q496=\"µc-Si / a-Si\",$Q496=\"a-Si (single)\",$Q496=\"a-Si (tandem)\",$Q496=\"a-Si (triple)\"),3,2))))","v":1},{"$f":"IF($O496=\"Sunpower Corp.\",3,(IF(OR($Q496=\"mono\",$Q496=\"poly\",$Q496=\"HIT\",$Q496=\"EFG\",$Q496=\"mono-LGBC\"),1,2)))","v":1},{"$f":"IF($O496=\"Sunpower Corp.\",3,(IF(OR($Q496=\"mono\",$Q496=\"poly\",$Q496=\"HIT\",$Q496=\"EFG\",$Q496=\"mono-LGBC\"),1,IF(OR($Q496=\"µc-Si / a-Si\",$Q496=\"a-Si (single)\",$Q496=\"a-Si (tandem)\",$Q496=\"a-Si (triple)\"),3,2))))","v":1},0,null,null,21511,null,null,494]
["Anhui Rineng Zhongtian Semiconductor QJP72-250","Anhui Rineng Zhongtian Semiconductor ","QJP72-250",250,"+3...-3",35,7.14,42,8,-147,4,-0.45,1000,null,null,12.884260177612305,"poly",72,"square",1956,992,50,"aluminum","junction box",23.5,"www.qjsolar.com","-","-","-","-","-",{"$f":"IF($O497=\"Sunpower Corp.\",3,(IF(OR($Q497=\"mono\",$Q497=\"poly\",$Q497=\"HIT\",$Q497=\"EFG\",$Q497=\"mono-LGBC\"),1,IF(OR($Q497=\"µc-Si / a-Si\",$Q497=\"a-Si (single)\",$Q497=\"a-Si (tandem)\",$Q497=\"a-Si (triple)\"),3,2))))","v":1},{"$f":"IF($O497=\"Sunpower Corp.\",3,(IF(OR($Q497=\"mono\",$Q497=\"poly\",$Q497=\"HIT\",$Q497=\"EFG\",$Q497=\"mono-LGBC\"),1,2)))","v":1},{"$f":"IF($O497=\"Sunpower Corp.\",3,(IF(OR($Q497=\"mono\",$Q497=\"poly\",$Q497=\"HIT\",$Q497=\"EFG\",$Q497=\"mono-LGBC\"),1,IF(OR($Q497=\"µc-Si / a-Si\",$Q497=\"a-Si (single)\",$Q497=\"a-Si (tandem)\",$Q497=\"a-Si (triple)\"),3,2))))","v":1},0,null,null,21512,null,null,495]
["Anhui Rineng Zhongtian Semiconductor QJP72-255","Anhui Rineng Zhongtian Semiconductor ","QJP72-255",255,"+3...-3",35.1,7.26,42.1,8.1300000000000008,-147.35,4.0650000000000004,-0.45,1000,null,null,13.141949653625488,"poly",72,"square",1956,992,50,"aluminum","junction box",23.5,"www.qjsolar.com","-","-","-","-","-",{"$f":"IF($O498=\"Sunpower Corp.\",3,(IF(OR($Q498=\"mono\",$Q498=\"poly\",$Q498=\"HIT\",$Q498=\"EFG\",$Q498=\"mono-LGBC\"),1,IF(OR($Q498=\"µc-Si / a-Si\",$Q498=\"a-Si (single)\",$Q498=\"a-Si (tandem)\",$Q498=\"a-Si (triple)\"),3,2))))","v":1},{"$f":"IF($O498=\"Sunpower Corp.\",3,(IF(OR($Q498=\"mono\",$Q498=\"poly\",$Q498=\"HIT\",$Q498=\"EFG\",$Q498=\"mono-LGBC\"),1,2)))","v":1},{"$f":"IF($O498=\"Sunpower Corp.\",3,(IF(OR($Q498=\"mono\",$Q498=\"poly\",$Q498=\"HIT\",$Q498=\"EFG\",$Q498=\"mono-LGBC\"),1,IF(OR($Q498=\"µc-Si / a-Si\",$Q498=\"a-Si (single)\",$Q498=\"a-Si (tandem)\",$Q498=\"a-Si (triple)\"),3,2))))","v":1},0,null,null,21513,null,null,496]
["Anhui Rineng Zhongtian Semiconductor QJP72-260","Anhui Rineng Zhongtian Semiconductor ","QJP72-260",260,"+3...-3",35.200000000000003,7.39,42.2,8.27,-147.69999999999999,4.1349999999999998,-0.45,1000,null,null,13.399629592895508,"poly",72,"square",1956,992,50,"aluminum","junction box",23.5,"www.qjsolar.com","-","-","-","-","-",{"$f":"IF($O499=\"Sunpower Corp.\",3,(IF(OR($Q499=\"mono\",$Q499=\"poly\",$Q499=\"HIT\",$Q499=\"EFG\",$Q499=\"mono-LGBC\"),1,IF(OR($Q499=\"µc-Si / a-Si\",$Q499=\"a-Si (single)\",$Q499=\"a-Si (tandem)\",$Q499=\"a-Si (triple)\"),3,2))))","v":1},{"$f":"IF($O499=\"Sunpower Corp.\",3,(IF(OR($Q499=\"mono\",$Q499=\"poly\",$Q499=\"HIT\",$Q499=\"EFG\",$Q499=\"mono-LGBC\"),1,2)))","v":1},{"$f":"IF($O499=\"Sunpower Corp.\",3,(IF(OR($Q499=\"mono\",$Q499=\"poly\",$Q499=\"HIT\",$Q499=\"EFG\",$Q499=\"mono-LGBC\"),1,IF(OR($Q499=\"µc-Si / a-Si\",$Q499=\"a-Si (single)\",$Q499=\"a-Si (tandem)\",$Q499=\"a-Si (triple)\"),3,2))))","v":1},0,null,null,21514,null,null,497]
["Anhui Rineng Zhongtian Semiconductor QJP72-265","Anhui Rineng Zhongtian Semiconductor ","QJP72-265",265,"+3...-3",35.299999999999997,7.51,42.3,8.41,-148.05000000000001,4.2050000000000001,-0.45,1000,null,null,13.657320022583008,"poly",72,"square",1956,992,50,"aluminum","junction box",23.5,"www.qjsolar.com","-","-","-","-","-",{"$f":"IF($O500=\"Sunpower Corp.\",3,(IF(OR($Q500=\"mono\",$Q500=\"poly\",$Q500=\"HIT\",$Q500=\"EFG\",$Q500=\"mono-LGBC\"),1,IF(OR($Q500=\"µc-Si / a-Si\",$Q500=\"a-Si (single)\",$Q500=\"a-Si (tandem)\",$Q500=\"a-Si (triple)\"),3,2))))","v":1},{"$f":"IF($O500=\"Sunpower Corp.\",3,(IF(OR($Q500=\"mono\",$Q500=\"poly\",$Q500=\"HIT\",$Q500=\"EFG\",$Q500=\"mono-LGBC\"),1,2)))","v":1},{"$f":"IF($O500=\"Sunpower Corp.\",3,(IF(OR($Q500=\"mono\",$Q500=\"poly\",$Q500=\"HIT\",$Q500=\"EFG\",$Q500=\"mono-LGBC\"),1,IF(OR($Q500=\"µc-Si / a-Si\",$Q500=\"a-Si (single)\",$Q500=\"a-Si (tandem)\",$Q500=\"a-Si (triple)\"),3,2))))","v":1},0,null,null,21515,null,null,498]
["Anhui Rineng Zhongtian Semiconductor QJP72-270","Anhui Rineng Zhongtian Semiconductor ","QJP72-270",270,"+3...-3",35.4,7.65,42.4,8.57,-148.4,4.2850000000000001,-0.45,1000,null,null,13.914999961853027,"poly",72,"square",1956,992,50,"aluminum","junction box",23.5,"www.qjsolar.com","-","-","-","-","-",{"$f":"IF($O501=\"Sunpower Corp.\",3,(IF(OR($Q501=\"mono\",$Q501=\"poly\",$Q501=\"HIT\",$Q501=\"EFG\",$Q501=\"mono-LGBC\"),1,IF(OR($Q501=\"µc-Si / a-Si\",$Q501=\"a-Si (single)\",$Q501=\"a-Si (tandem)\",$Q501=\"a-Si (triple)\"),3,2))))","v":1},{"$f":"IF($O501=\"Sunpower Corp.\",3,(IF(OR($Q501=\"mono\",$Q501=\"poly\",$Q501=\"HIT\",$Q501=\"EFG\",$Q501=\"mono-LGBC\"),1,2)))","v":1},{"$f":"IF($O501=\"Sunpower Corp.\",3,(IF(OR($Q501=\"mono\",$Q501=\"poly\",$Q501=\"HIT\",$Q501=\"EFG\",$Q501=\"mono-LGBC\"),1,IF(OR($Q501=\"µc-Si / a-Si\",$Q501=\"a-Si (single)\",$Q501=\"a-Si (tandem)\",$Q501=\"a-Si (triple)\"),3,2))))","v":1},0,null,null,21516,null,null,499]
["Anhui Rineng Zhongtian Semiconductor QJP72-275","Anhui Rineng Zhongtian Semiconductor ","QJP72-275",275,"+3...-3",35.5,7.75,42.6,8.68,-149.1,4.34,-0.45,1000,null,null,14.172690391540527,"poly",72,"square",1956,992,50,"aluminum","junction box",23.5,"www.qjsolar.com","-","-","-","-","-",{"$f":"IF($O502=\"Sunpower Corp.\",3,(IF(OR($Q502=\"mono\",$Q502=\"poly\",$Q502=\"HIT\",$Q502=\"EFG\",$Q502=\"mono-LGBC\"),1,IF(OR($Q502=\"µc-Si / a-Si\",$Q502=\"a-Si (single)\",$Q502=\"a-Si (tandem)\",$Q502=\"a-Si (triple)\"),3,2))))","v":1},{"$f":"IF($O502=\"Sunpower Corp.\",3,(IF(OR($Q502=\"mono\",$Q502=\"poly\",$Q502=\"HIT\",$Q502=\"EFG\",$Q502=\"mono-LGBC\"),1,2)))","v":1},{"$f":"IF($O502=\"Sunpower Corp.\",3,(IF(OR($Q502=\"mono\",$Q502=\"poly\",$Q502=\"HIT\",$Q502=\"EFG\",$Q502=\"mono-LGBC\"),1,IF(OR($Q502=\"µc-Si / a-Si\",$Q502=\"a-Si (single)\",$Q502=\"a-Si (tandem)\",$Q502=\"a-Si (triple)\"),3,2))))","v":1},0,null,null,21517,null,null,500]
["Anhui Rineng Zhongtian Semiconductor QJP72-280","Anhui Rineng Zhongtian Semiconductor ","QJP72-280",280,"+3...-3",35.700000000000003,7.84,42.8,8.7799999999999994,-149.80000000000001,4.3899999999999997,-0.45,1000,null,null,14.430370330810547,"poly",72,"square",1956,992,50,"aluminum","junction box",23.5,"www.qjsolar.com","-","-","-","-","-",{"$f":"IF($O503=\"Sunpower Corp.\",3,(IF(OR($Q503=\"mono\",$Q503=\"poly\",$Q503=\"HIT\",$Q503=\"EFG\",$Q503=\"mono-LGBC\"),1,IF(OR($Q503=\"µc-Si / a-Si\",$Q503=\"a-Si (single)\",$Q503=\"a-Si (tandem)\",$Q503=\"a-Si (triple)\"),3,2))))","v":1},{"$f":"IF($O503=\"Sunpower Corp.\",3,(IF(OR($Q503=\"mono\",$Q503=\"poly\",$Q503=\"HIT\",$Q503=\"EFG\",$Q503=\"mono-LGBC\"),1,2)))","v":1},{"$f":"IF($O503=\"Sunpower Corp.\",3,(IF(OR($Q503=\"mono\",$Q503=\"poly\",$Q503=\"HIT\",$Q503=\"EFG\",$Q503=\"mono-LGBC\"),1,IF(OR($Q503=\"µc-Si / a-Si\",$Q503=\"a-Si (single)\",$Q503=\"a-Si (tandem)\",$Q503=\"a-Si (triple)\"),3,2))))","v":1},0,null,null,21518,null,null,501]
["Anhui Rineng Zhongtian Semiconductor QJP72-285","Anhui Rineng Zhongtian Semiconductor ","QJP72-285",285,"+3...-3",35.9,7.94,43.1,8.89,-150.85,4.4450000000000003,-0.45,1000,null,null,14.68805980682373,"poly",72,"square",1956,992,50,"aluminum","junction box",23.5,"www.qjsolar.com","-","-","-","-","-",{"$f":"IF($O504=\"Sunpower Corp.\",3,(IF(OR($Q504=\"mono\",$Q504=\"poly\",$Q504=\"HIT\",$Q504=\"EFG\",$Q504=\"mono-LGBC\"),1,IF(OR($Q504=\"µc-Si / a-Si\",$Q504=\"a-Si (single)\",$Q504=\"a-Si (tandem)\",$Q504=\"a-Si (triple)\"),3,2))))","v":1},{"$f":"IF($O504=\"Sunpower Corp.\",3,(IF(OR($Q504=\"mono\",$Q504=\"poly\",$Q504=\"HIT\",$Q504=\"EFG\",$Q504=\"mono-LGBC\"),1,2)))","v":1},{"$f":"IF($O504=\"Sunpower Corp.\",3,(IF(OR($Q504=\"mono\",$Q504=\"poly\",$Q504=\"HIT\",$Q504=\"EFG\",$Q504=\"mono-LGBC\"),1,IF(OR($Q504=\"µc-Si / a-Si\",$Q504=\"a-Si (single)\",$Q504=\"a-Si (tandem)\",$Q504=\"a-Si (triple)\"),3,2))))","v":1},0,null,null,21519,null,null,502]
["Anhui Rineng Zhongtian Semiconductor QJP72-290","Anhui Rineng Zhongtian Semiconductor ","QJP72-290",290,"+3...-3",36,8.0500000000000007,43.2,9.01,-151.19999999999999,4.5049999999999999,-0.45,1000,null,null,14.94573974609375,"poly",72,"square",1956,992,50,"aluminum","junction box",23.5,"www.qjsolar.com","-","-","-","-","-",{"$f":"IF($O505=\"Sunpower Corp.\",3,(IF(OR($Q505=\"mono\",$Q505=\"poly\",$Q505=\"HIT\",$Q505=\"EFG\",$Q505=\"mono-LGBC\"),1,IF(OR($Q505=\"µc-Si / a-Si\",$Q505=\"a-Si (single)\",$Q505=\"a-Si (tandem)\",$Q505=\"a-Si (triple)\"),3,2))))","v":1},{"$f":"IF($O505=\"Sunpower Corp.\",3,(IF(OR($Q505=\"mono\",$Q505=\"poly\",$Q505=\"HIT\",$Q505=\"EFG\",$Q505=\"mono-LGBC\"),1,2)))","v":1},{"$f":"IF($O505=\"Sunpower Corp.\",3,(IF(OR($Q505=\"mono\",$Q505=\"poly\",$Q505=\"HIT\",$Q505=\"EFG\",$Q505=\"mono-LGBC\"),1,IF(OR($Q505=\"µc-Si / a-Si\",$Q505=\"a-Si (single)\",$Q505=\"a-Si (tandem)\",$Q505=\"a-Si (triple)\"),3,2))))","v":1},0,null,null,21520,null,null,503]
["Anhui Rineng Zhongtian Semiconductor QJP72-295","Anhui Rineng Zhongtian Semiconductor ","QJP72-295",295,"+3...-3",36.1,8.17,43.3,9.15,-151.55000000000001,4.5750000000000002,-0.45,1000,null,null,15.20343017578125,"poly",72,"square",1956,992,50,"aluminum","junction box",23.5,"www.qjsolar.com","-","-","-","-","-",{"$f":"IF($O506=\"Sunpower Corp.\",3,(IF(OR($Q506=\"mono\",$Q506=\"poly\",$Q506=\"HIT\",$Q506=\"EFG\",$Q506=\"mono-LGBC\"),1,IF(OR($Q506=\"µc-Si / a-Si\",$Q506=\"a-Si (single)\",$Q506=\"a-Si (tandem)\",$Q506=\"a-Si (triple)\"),3,2))))","v":1},{"$f":"IF($O506=\"Sunpower Corp.\",3,(IF(OR($Q506=\"mono\",$Q506=\"poly\",$Q506=\"HIT\",$Q506=\"EFG\",$Q506=\"mono-LGBC\"),1,2)))","v":1},{"$f":"IF($O506=\"Sunpower Corp.\",3,(IF(OR($Q506=\"mono\",$Q506=\"poly\",$Q506=\"HIT\",$Q506=\"EFG\",$Q506=\"mono-LGBC\"),1,IF(OR($Q506=\"µc-Si / a-Si\",$Q506=\"a-Si (single)\",$Q506=\"a-Si (tandem)\",$Q506=\"a-Si (triple)\"),3,2))))","v":1},0,null,null,21521,null,null,504]
["Anhui Rineng Zhongtian Semiconductor QJP72-300","Anhui Rineng Zhongtian Semiconductor ","QJP72-300",300,"+3...-3",36.200000000000003,8.2799999999999994,43.4,9.27,-151.9,4.6349999999999998,-0.45,1000,null,null,15.46111011505127,"poly",72,"square",1956,992,50,"aluminum","junction box",23.5,"www.qjsolar.com","-","-","-","-","-",{"$f":"IF($O507=\"Sunpower Corp.\",3,(IF(OR($Q507=\"mono\",$Q507=\"poly\",$Q507=\"HIT\",$Q507=\"EFG\",$Q507=\"mono-LGBC\"),1,IF(OR($Q507=\"µc-Si / a-Si\",$Q507=\"a-Si (single)\",$Q507=\"a-Si (tandem)\",$Q507=\"a-Si (triple)\"),3,2))))","v":1},{"$f":"IF($O507=\"Sunpower Corp.\",3,(IF(OR($Q507=\"mono\",$Q507=\"poly\",$Q507=\"HIT\",$Q507=\"EFG\",$Q507=\"mono-LGBC\"),1,2)))","v":1},{"$f":"IF($O507=\"Sunpower Corp.\",3,(IF(OR($Q507=\"mono\",$Q507=\"poly\",$Q507=\"HIT\",$Q507=\"EFG\",$Q507=\"mono-LGBC\"),1,IF(OR($Q507=\"µc-Si / a-Si\",$Q507=\"a-Si (single)\",$Q507=\"a-Si (tandem)\",$Q507=\"a-Si (triple)\"),3,2))))","v":1},0,null,null,21522,null,null,505]
["Anhui Titan PV Co. LTD TDM060P-B-24","Anhui Titan PV Co. LTD ","TDM060P-B-24",60,"+3...-3",10.1,5.94,12.21,6.55,-39.072000000000003,5.24,-0.38,1000,"China",null,8.6165304183959961,"poly",24,"square",1956,356,35,"aluminum","junction box MC",10,"www.titanpv.com","-","-","-","-","-",{"$f":"IF($O508=\"Sunpower Corp.\",3,(IF(OR($Q508=\"mono\",$Q508=\"poly\",$Q508=\"HIT\",$Q508=\"EFG\",$Q508=\"mono-LGBC\"),1,IF(OR($Q508=\"µc-Si / a-Si\",$Q508=\"a-Si (single)\",$Q508=\"a-Si (tandem)\",$Q508=\"a-Si (triple)\"),3,2))))","v":1},{"$f":"IF($O508=\"Sunpower Corp.\",3,(IF(OR($Q508=\"mono\",$Q508=\"poly\",$Q508=\"HIT\",$Q508=\"EFG\",$Q508=\"mono-LGBC\"),1,2)))","v":1},{"$f":"IF($O508=\"Sunpower Corp.\",3,(IF(OR($Q508=\"mono\",$Q508=\"poly\",$Q508=\"HIT\",$Q508=\"EFG\",$Q508=\"mono-LGBC\"),1,IF(OR($Q508=\"µc-Si / a-Si\",$Q508=\"a-Si (single)\",$Q508=\"a-Si (tandem)\",$Q508=\"a-Si (triple)\"),3,2))))","v":1},0,null,null,33307,null,null,506]
["Anhui Titan PV Co. LTD TDM070P-B-24","Anhui Titan PV Co. LTD ","TDM070P-B-24",70,"+3...-3",10.49,6.67,12.73,7.33,-40.736000000000004,5.8639999999999999,-0.38,1000,"China",null,10.052619934082031,"poly",24,"square",1956,356,35,"aluminum","junction box MC",10,"www.titanpv.com","-","-","-","-","-",{"$f":"IF($O509=\"Sunpower Corp.\",3,(IF(OR($Q509=\"mono\",$Q509=\"poly\",$Q509=\"HIT\",$Q509=\"EFG\",$Q509=\"mono-LGBC\"),1,IF(OR($Q509=\"µc-Si / a-Si\",$Q509=\"a-Si (single)\",$Q509=\"a-Si (tandem)\",$Q509=\"a-Si (triple)\"),3,2))))","v":1},{"$f":"IF($O509=\"Sunpower Corp.\",3,(IF(OR($Q509=\"mono\",$Q509=\"poly\",$Q509=\"HIT\",$Q509=\"EFG\",$Q509=\"mono-LGBC\"),1,2)))","v":1},{"$f":"IF($O509=\"Sunpower Corp.\",3,(IF(OR($Q509=\"mono\",$Q509=\"poly\",$Q509=\"HIT\",$Q509=\"EFG\",$Q509=\"mono-LGBC\"),1,IF(OR($Q509=\"µc-Si / a-Si\",$Q509=\"a-Si (single)\",$Q509=\"a-Si (tandem)\",$Q509=\"a-Si (triple)\"),3,2))))","v":1},0,null,null,33306,null,null,507]
["Anhui Titan PV Co. LTD TDM080P-B-24","Anhui Titan PV Co. LTD ","TDM080P-B-24",80,"+3...-3",11.25,7.11,13.54,7.88,-43.327999999999996,6.3040000000000003,-0.38,1000,"China",null,11.488710403442383,"poly",24,"square",1956,356,35,"aluminum","junction box MC",10,"www.titanpv.com","-","-","-","-","-",{"$f":"IF($O510=\"Sunpower Corp.\",3,(IF(OR($Q510=\"mono\",$Q510=\"poly\",$Q510=\"HIT\",$Q510=\"EFG\",$Q510=\"mono-LGBC\"),1,IF(OR($Q510=\"µc-Si / a-Si\",$Q510=\"a-Si (single)\",$Q510=\"a-Si (tandem)\",$Q510=\"a-Si (triple)\"),3,2))))","v":1},{"$f":"IF($O510=\"Sunpower Corp.\",3,(IF(OR($Q510=\"mono\",$Q510=\"poly\",$Q510=\"HIT\",$Q510=\"EFG\",$Q510=\"mono-LGBC\"),1,2)))","v":1},{"$f":"IF($O510=\"Sunpower Corp.\",3,(IF(OR($Q510=\"mono\",$Q510=\"poly\",$Q510=\"HIT\",$Q510=\"EFG\",$Q510=\"mono-LGBC\"),1,IF(OR($Q510=\"µc-Si / a-Si\",$Q510=\"a-Si (single)\",$Q510=\"a-Si (tandem)\",$Q510=\"a-Si (triple)\"),3,2))))","v":1},0,null,null,33305,null,null,508]
["Anhui Titan PV Co. LTD TDM090P-B-24","Anhui Titan PV Co. LTD ","TDM090P-B-24",90,"+3...-3",11.67,7.71,14.83,8.1999999999999993,-47.456000000000003,6.56,-0.38,1000,"China",null,12.924799919128418,"poly",24,"square",1956,356,35,"aluminum","junction box MC",10,"www.titanpv.com","-","-","-","-","-",{"$f":"IF($O511=\"Sunpower Corp.\",3,(IF(OR($Q511=\"mono\",$Q511=\"poly\",$Q511=\"HIT\",$Q511=\"EFG\",$Q511=\"mono-LGBC\"),1,IF(OR($Q511=\"µc-Si / a-Si\",$Q511=\"a-Si (single)\",$Q511=\"a-Si (tandem)\",$Q511=\"a-Si (triple)\"),3,2))))","v":1},{"$f":"IF($O511=\"Sunpower Corp.\",3,(IF(OR($Q511=\"mono\",$Q511=\"poly\",$Q511=\"HIT\",$Q511=\"EFG\",$Q511=\"mono-LGBC\"),1,2)))","v":1},{"$f":"IF($O511=\"Sunpower Corp.\",3,(IF(OR($Q511=\"mono\",$Q511=\"poly\",$Q511=\"HIT\",$Q511=\"EFG\",$Q511=\"mono-LGBC\"),1,IF(OR($Q511=\"µc-Si / a-Si\",$Q511=\"a-Si (single)\",$Q511=\"a-Si (tandem)\",$Q511=\"a-Si (triple)\"),3,2))))","v":1},0,null,null,33303,null,null,509]
["Anhui Titan PV Co. LTD TDM100P-B-24","Anhui Titan PV Co. LTD ","TDM100P-B-24",100,"+3...-3",12.47,8.02,15.46,8.4700000000000006,-49.472000000000001,6.7760000000000007,-0.38,1000,"China",null,14.360879898071289,"poly",24,"square",1956,356,35,"aluminum","junction box MC",10,"www.titanpv.com","-","-","-","-","-",{"$f":"IF($O512=\"Sunpower Corp.\",3,(IF(OR($Q512=\"mono\",$Q512=\"poly\",$Q512=\"HIT\",$Q512=\"EFG\",$Q512=\"mono-LGBC\"),1,IF(OR($Q512=\"µc-Si / a-Si\",$Q512=\"a-Si (single)\",$Q512=\"a-Si (tandem)\",$Q512=\"a-Si (triple)\"),3,2))))","v":1},{"$f":"IF($O512=\"Sunpower Corp.\",3,(IF(OR($Q512=\"mono\",$Q512=\"poly\",$Q512=\"HIT\",$Q512=\"EFG\",$Q512=\"mono-LGBC\"),1,2)))","v":1},{"$f":"IF($O512=\"Sunpower Corp.\",3,(IF(OR($Q512=\"mono\",$Q512=\"poly\",$Q512=\"HIT\",$Q512=\"EFG\",$Q512=\"mono-LGBC\"),1,IF(OR($Q512=\"µc-Si / a-Si\",$Q512=\"a-Si (single)\",$Q512=\"a-Si (tandem)\",$Q512=\"a-Si (triple)\"),3,2))))","v":1},0,null,null,33304,null,null,510]
["Anhui Titan PV Co. LTD TDM160-A-72","Anhui Titan PV Co. LTD ","TDM160-A-72",160,"+3...-3",35,4.57,44,5.0999999999999996,-167.2,5.0999999999999996,-0.47,1000,null,null,12.532899856567383,"mono",72,"pseudo-square",1580,808,40,"aluminum","junction box MC",16,"www.titanpv.com","-","-","-","-","-",{"$f":"IF($O513=\"Sunpower Corp.\",3,(IF(OR($Q513=\"mono\",$Q513=\"poly\",$Q513=\"HIT\",$Q513=\"EFG\",$Q513=\"mono-LGBC\"),1,IF(OR($Q513=\"µc-Si / a-Si\",$Q513=\"a-Si (single)\",$Q513=\"a-Si (tandem)\",$Q513=\"a-Si (triple)\"),3,2))))","v":1},{"$f":"IF($O513=\"Sunpower Corp.\",3,(IF(OR($Q513=\"mono\",$Q513=\"poly\",$Q513=\"HIT\",$Q513=\"EFG\",$Q513=\"mono-LGBC\"),1,2)))","v":1},{"$f":"IF($O513=\"Sunpower Corp.\",3,(IF(OR($Q513=\"mono\",$Q513=\"poly\",$Q513=\"HIT\",$Q513=\"EFG\",$Q513=\"mono-LGBC\"),1,IF(OR($Q513=\"µc-Si / a-Si\",$Q513=\"a-Si (single)\",$Q513=\"a-Si (tandem)\",$Q513=\"a-Si (triple)\"),3,2))))","v":1},0,null,null,21548,null,null,511]
["Anhui Titan PV Co. LTD TDM160-B-48","Anhui Titan PV Co. LTD ","TDM160-B-48",160,"+3...-3",23.1,6.93,29,7.65,-98.6,6.8849999999999998,-0.37,1000,null,null,12.206660270690918,"mono",48,"pseudo-square",1324,990,50,"aluminum","junction box MC",16.5,"www.titanpv.com","-","-","-","-","-",{"$f":"IF($O514=\"Sunpower Corp.\",3,(IF(OR($Q514=\"mono\",$Q514=\"poly\",$Q514=\"HIT\",$Q514=\"EFG\",$Q514=\"mono-LGBC\"),1,IF(OR($Q514=\"µc-Si / a-Si\",$Q514=\"a-Si (single)\",$Q514=\"a-Si (tandem)\",$Q514=\"a-Si (triple)\"),3,2))))","v":1},{"$f":"IF($O514=\"Sunpower Corp.\",3,(IF(OR($Q514=\"mono\",$Q514=\"poly\",$Q514=\"HIT\",$Q514=\"EFG\",$Q514=\"mono-LGBC\"),1,2)))","v":1},{"$f":"IF($O514=\"Sunpower Corp.\",3,(IF(OR($Q514=\"mono\",$Q514=\"poly\",$Q514=\"HIT\",$Q514=\"EFG\",$Q514=\"mono-LGBC\"),1,IF(OR($Q514=\"µc-Si / a-Si\",$Q514=\"a-Si (single)\",$Q514=\"a-Si (tandem)\",$Q514=\"a-Si (triple)\"),3,2))))","v":1},0,null,null,21523,null,null,512]
["Anhui Titan PV Co. LTD TDM160P-B-48","Anhui Titan PV Co. LTD ","TDM160P-B-48",160,"+3...-3",21.9,7.32,29.3,7.85,-93.76,6.28,-0.38,1000,null,null,12.206660270690918,"poly",48,"square",1324,990,50,"aluminum","junction box MC",16.5,"www.titanpv.com","-","-","-","-","-",{"$f":"IF($O515=\"Sunpower Corp.\",3,(IF(OR($Q515=\"mono\",$Q515=\"poly\",$Q515=\"HIT\",$Q515=\"EFG\",$Q515=\"mono-LGBC\"),1,IF(OR($Q515=\"µc-Si / a-Si\",$Q515=\"a-Si (single)\",$Q515=\"a-Si (tandem)\",$Q515=\"a-Si (triple)\"),3,2))))","v":1},{"$f":"IF($O515=\"Sunpower Corp.\",3,(IF(OR($Q515=\"mono\",$Q515=\"poly\",$Q515=\"HIT\",$Q515=\"EFG\",$Q515=\"mono-LGBC\"),1,2)))","v":1},{"$f":"IF($O515=\"Sunpower Corp.\",3,(IF(OR($Q515=\"mono\",$Q515=\"poly\",$Q515=\"HIT\",$Q515=\"EFG\",$Q515=\"mono-LGBC\"),1,IF(OR($Q515=\"µc-Si / a-Si\",$Q515=\"a-Si (single)\",$Q515=\"a-Si (tandem)\",$Q515=\"a-Si (triple)\"),3,2))))","v":1},0,null,null,21555,null,null,513]
["Anhui Titan PV Co. LTD TDM165-A-72","Anhui Titan PV Co. LTD ","TDM165-A-72",165,"+3...-3",35,4.71,44,5.36,-167.2,5.36,-0.47,1000,null,null,12.92455005645752,"mono",72,"pseudo-square",1580,808,40,"aluminum","junction box MC",16,"www.titanpv.com","-","-","-","-","-",{"$f":"IF($O516=\"Sunpower Corp.\",3,(IF(OR($Q516=\"mono\",$Q516=\"poly\",$Q516=\"HIT\",$Q516=\"EFG\",$Q516=\"mono-LGBC\"),1,IF(OR($Q516=\"µc-Si / a-Si\",$Q516=\"a-Si (single)\",$Q516=\"a-Si (tandem)\",$Q516=\"a-Si (triple)\"),3,2))))","v":1},{"$f":"IF($O516=\"Sunpower Corp.\",3,(IF(OR($Q516=\"mono\",$Q516=\"poly\",$Q516=\"HIT\",$Q516=\"EFG\",$Q516=\"mono-LGBC\"),1,2)))","v":1},{"$f":"IF($O516=\"Sunpower Corp.\",3,(IF(OR($Q516=\"mono\",$Q516=\"poly\",$Q516=\"HIT\",$Q516=\"EFG\",$Q516=\"mono-LGBC\"),1,IF(OR($Q516=\"µc-Si / a-Si\",$Q516=\"a-Si (single)\",$Q516=\"a-Si (tandem)\",$Q516=\"a-Si (triple)\"),3,2))))","v":1},0,null,null,21549,null,null,514]
["Anhui Titan PV Co. LTD TDM170-A-72","Anhui Titan PV Co. LTD ","TDM170-A-72",170,"+3...-3",35.6,4.7699999999999996,44.4,5.41,-168.72,5.41,-0.47,1000,null,null,13.31620979309082,"mono",72,"pseudo-square",1580,808,40,"aluminum","junction box MC",16,"www.titanpv.com","-","-","-","-","-",{"$f":"IF($O517=\"Sunpower Corp.\",3,(IF(OR($Q517=\"mono\",$Q517=\"poly\",$Q517=\"HIT\",$Q517=\"EFG\",$Q517=\"mono-LGBC\"),1,IF(OR($Q517=\"µc-Si / a-Si\",$Q517=\"a-Si (single)\",$Q517=\"a-Si (tandem)\",$Q517=\"a-Si (triple)\"),3,2))))","v":1},{"$f":"IF($O517=\"Sunpower Corp.\",3,(IF(OR($Q517=\"mono\",$Q517=\"poly\",$Q517=\"HIT\",$Q517=\"EFG\",$Q517=\"mono-LGBC\"),1,2)))","v":1},{"$f":"IF($O517=\"Sunpower Corp.\",3,(IF(OR($Q517=\"mono\",$Q517=\"poly\",$Q517=\"HIT\",$Q517=\"EFG\",$Q517=\"mono-LGBC\"),1,IF(OR($Q517=\"µc-Si / a-Si\",$Q517=\"a-Si (single)\",$Q517=\"a-Si (tandem)\",$Q517=\"a-Si (triple)\"),3,2))))","v":1},0,null,null,21550,null,null,515]
["Anhui Titan PV Co. LTD TDM170-B-48","Anhui Titan PV Co. LTD ","TDM170-B-48",170,"+3...-3",23.2,7.33,29.3,7.88,-99.62,7.0919999999999996,-0.37,1000,null,null,12.969570159912109,"mono",48,"pseudo-square",1324,990,50,"aluminum","junction box MC",16.5,"www.titanpv.com","-","-","-","-","-",{"$f":"IF($O518=\"Sunpower Corp.\",3,(IF(OR($Q518=\"mono\",$Q518=\"poly\",$Q518=\"HIT\",$Q518=\"EFG\",$Q518=\"mono-LGBC\"),1,IF(OR($Q518=\"µc-Si / a-Si\",$Q518=\"a-Si (single)\",$Q518=\"a-Si (tandem)\",$Q518=\"a-Si (triple)\"),3,2))))","v":1},{"$f":"IF($O518=\"Sunpower Corp.\",3,(IF(OR($Q518=\"mono\",$Q518=\"poly\",$Q518=\"HIT\",$Q518=\"EFG\",$Q518=\"mono-LGBC\"),1,2)))","v":1},{"$f":"IF($O518=\"Sunpower Corp.\",3,(IF(OR($Q518=\"mono\",$Q518=\"poly\",$Q518=\"HIT\",$Q518=\"EFG\",$Q518=\"mono-LGBC\"),1,IF(OR($Q518=\"µc-Si / a-Si\",$Q518=\"a-Si (single)\",$Q518=\"a-Si (tandem)\",$Q518=\"a-Si (triple)\"),3,2))))","v":1},0,null,null,21524,null,null,516]
["Anhui Titan PV Co. LTD TDM170P-B-48","Anhui Titan PV Co. LTD ","TDM170P-B-48",170,"+3...-3",22.3,7.61,29.6,8.11,-94.72,6.4879999999999995,-0.38,1000,null,null,12.969570159912109,"poly",48,"square",1324,990,50,"aluminum","junction box MC",16.5,"www.titanpv.com","-","-","-","-","-",{"$f":"IF($O519=\"Sunpower Corp.\",3,(IF(OR($Q519=\"mono\",$Q519=\"poly\",$Q519=\"HIT\",$Q519=\"EFG\",$Q519=\"mono-LGBC\"),1,IF(OR($Q519=\"µc-Si / a-Si\",$Q519=\"a-Si (single)\",$Q519=\"a-Si (tandem)\",$Q519=\"a-Si (triple)\"),3,2))))","v":1},{"$f":"IF($O519=\"Sunpower Corp.\",3,(IF(OR($Q519=\"mono\",$Q519=\"poly\",$Q519=\"HIT\",$Q519=\"EFG\",$Q519=\"mono-LGBC\"),1,2)))","v":1},{"$f":"IF($O519=\"Sunpower Corp.\",3,(IF(OR($Q519=\"mono\",$Q519=\"poly\",$Q519=\"HIT\",$Q519=\"EFG\",$Q519=\"mono-LGBC\"),1,IF(OR($Q519=\"µc-Si / a-Si\",$Q519=\"a-Si (single)\",$Q519=\"a-Si (tandem)\",$Q519=\"a-Si (triple)\"),3,2))))","v":1},0,null,null,21556,null,null,517]
["Anhui Titan PV Co. LTD TDM175-A-72","Anhui Titan PV Co. LTD ","TDM175-A-72",175,"+3...-3",35.799999999999997,4.88,44.6,5.43,-169.48,5.43,-0.47,1000,null,null,13.707859992980957,"mono",72,"pseudo-square",1580,808,40,"aluminum","junction box MC",16,"www.titanpv.com","-","-","-","-","-",{"$f":"IF($O520=\"Sunpower Corp.\",3,(IF(OR($Q520=\"mono\",$Q520=\"poly\",$Q520=\"HIT\",$Q520=\"EFG\",$Q520=\"mono-LGBC\"),1,IF(OR($Q520=\"µc-Si / a-Si\",$Q520=\"a-Si (single)\",$Q520=\"a-Si (tandem)\",$Q520=\"a-Si (triple)\"),3,2))))","v":1},{"$f":"IF($O520=\"Sunpower Corp.\",3,(IF(OR($Q520=\"mono\",$Q520=\"poly\",$Q520=\"HIT\",$Q520=\"EFG\",$Q520=\"mono-LGBC\"),1,2)))","v":1},{"$f":"IF($O520=\"Sunpower Corp.\",3,(IF(OR($Q520=\"mono\",$Q520=\"poly\",$Q520=\"HIT\",$Q520=\"EFG\",$Q520=\"mono-LGBC\"),1,IF(OR($Q520=\"µc-Si / a-Si\",$Q520=\"a-Si (single)\",$Q520=\"a-Si (tandem)\",$Q520=\"a-Si (triple)\"),3,2))))","v":1},0,null,null,21551,null,null,518]
["Anhui Titan PV Co. LTD TDM180-A-72","Anhui Titan PV Co. LTD ","TDM180-A-72",180,"+3...-3",36,5,44.8,5.48,-170.24,5.48,-0.47,1000,null,null,14.099510192871094,"mono",72,"pseudo-square",1580,808,40,"aluminum","junction box MC",16,"www.titanpv.com","-","-","-","-","-",{"$f":"IF($O521=\"Sunpower Corp.\",3,(IF(OR($Q521=\"mono\",$Q521=\"poly\",$Q521=\"HIT\",$Q521=\"EFG\",$Q521=\"mono-LGBC\"),1,IF(OR($Q521=\"µc-Si / a-Si\",$Q521=\"a-Si (single)\",$Q521=\"a-Si (tandem)\",$Q521=\"a-Si (triple)\"),3,2))))","v":1},{"$f":"IF($O521=\"Sunpower Corp.\",3,(IF(OR($Q521=\"mono\",$Q521=\"poly\",$Q521=\"HIT\",$Q521=\"EFG\",$Q521=\"mono-LGBC\"),1,2)))","v":1},{"$f":"IF($O521=\"Sunpower Corp.\",3,(IF(OR($Q521=\"mono\",$Q521=\"poly\",$Q521=\"HIT\",$Q521=\"EFG\",$Q521=\"mono-LGBC\"),1,IF(OR($Q521=\"µc-Si / a-Si\",$Q521=\"a-Si (single)\",$Q521=\"a-Si (tandem)\",$Q521=\"a-Si (triple)\"),3,2))))","v":1},0,null,null,21552,null,null,519]
["Anhui Titan PV Co. LTD TDM180-B-48","Anhui Titan PV Co. LTD ","TDM180-B-48",180,"+3...-3",23.3,7.71,29.6,8.1,-100.64,7.29,-0.37,1000,null,null,13.732489585876465,"mono",48,"pseudo-square",1324,990,50,"aluminum","junction box MC",16.5,"www.titanpv.com","-","-","-","-","-",{"$f":"IF($O522=\"Sunpower Corp.\",3,(IF(OR($Q522=\"mono\",$Q522=\"poly\",$Q522=\"HIT\",$Q522=\"EFG\",$Q522=\"mono-LGBC\"),1,IF(OR($Q522=\"µc-Si / a-Si\",$Q522=\"a-Si (single)\",$Q522=\"a-Si (tandem)\",$Q522=\"a-Si (triple)\"),3,2))))","v":1},{"$f":"IF($O522=\"Sunpower Corp.\",3,(IF(OR($Q522=\"mono\",$Q522=\"poly\",$Q522=\"HIT\",$Q522=\"EFG\",$Q522=\"mono-LGBC\"),1,2)))","v":1},{"$f":"IF($O522=\"Sunpower Corp.\",3,(IF(OR($Q522=\"mono\",$Q522=\"poly\",$Q522=\"HIT\",$Q522=\"EFG\",$Q522=\"mono-LGBC\"),1,IF(OR($Q522=\"µc-Si / a-Si\",$Q522=\"a-Si (single)\",$Q522=\"a-Si (tandem)\",$Q522=\"a-Si (triple)\"),3,2))))","v":1},0,null,null,21525,null,null,520]
["Anhui Titan PV Co. LTD TDM180P-B-48","Anhui Titan PV Co. LTD ","TDM180P-B-48",180,"+3...-3",22.6,7.95,29.6,8.33,-94.72,6.6640000000000006,-0.38,1000,null,null,13.732489585876465,"poly",48,"square",1324,990,50,"aluminum","junction box MC",16.5,"www.titanpv.com","-","-","-","-","-",{"$f":"IF($O523=\"Sunpower Corp.\",3,(IF(OR($Q523=\"mono\",$Q523=\"poly\",$Q523=\"HIT\",$Q523=\"EFG\",$Q523=\"mono-LGBC\"),1,IF(OR($Q523=\"µc-Si / a-Si\",$Q523=\"a-Si (single)\",$Q523=\"a-Si (tandem)\",$Q523=\"a-Si (triple)\"),3,2))))","v":1},{"$f":"IF($O523=\"Sunpower Corp.\",3,(IF(OR($Q523=\"mono\",$Q523=\"poly\",$Q523=\"HIT\",$Q523=\"EFG\",$Q523=\"mono-LGBC\"),1,2)))","v":1},{"$f":"IF($O523=\"Sunpower Corp.\",3,(IF(OR($Q523=\"mono\",$Q523=\"poly\",$Q523=\"HIT\",$Q523=\"EFG\",$Q523=\"mono-LGBC\"),1,IF(OR($Q523=\"µc-Si / a-Si\",$Q523=\"a-Si (single)\",$Q523=\"a-Si (tandem)\",$Q523=\"a-Si (triple)\"),3,2))))","v":1},0,null,null,21557,null,null,521]
["Anhui Titan PV Co. LTD TDM180P-B-54","Anhui Titan PV Co. LTD ","TDM180P-B-54",180,"+3...-3",25.8,6.98,32.700000000000003,7.65,-104.64,6.12,-0.38,1000,null,null,12.268429756164551,"poly",54,"square",1482,990,50,"aluminum","junction box MC",18.5,"www.titanpv.com","-","-","-","-","-",{"$f":"IF($O524=\"Sunpower Corp.\",3,(IF(OR($Q524=\"mono\",$Q524=\"poly\",$Q524=\"HIT\",$Q524=\"EFG\",$Q524=\"mono-LGBC\"),1,IF(OR($Q524=\"µc-Si / a-Si\",$Q524=\"a-Si (single)\",$Q524=\"a-Si (tandem)\",$Q524=\"a-Si (triple)\"),3,2))))","v":1},{"$f":"IF($O524=\"Sunpower Corp.\",3,(IF(OR($Q524=\"mono\",$Q524=\"poly\",$Q524=\"HIT\",$Q524=\"EFG\",$Q524=\"mono-LGBC\"),1,2)))","v":1},{"$f":"IF($O524=\"Sunpower Corp.\",3,(IF(OR($Q524=\"mono\",$Q524=\"poly\",$Q524=\"HIT\",$Q524=\"EFG\",$Q524=\"mono-LGBC\"),1,IF(OR($Q524=\"µc-Si / a-Si\",$Q524=\"a-Si (single)\",$Q524=\"a-Si (tandem)\",$Q524=\"a-Si (triple)\"),3,2))))","v":1},0,null,null,21559,null,null,522]
["Anhui Titan PV Co. LTD TDM185-A-72","Anhui Titan PV Co. LTD ","TDM185-A-72",185,"+3...-3",36.200000000000003,5.1100000000000003,44.8,5.51,-170.24,5.51,-0.47,1000,null,null,14.49116039276123,"mono",72,"pseudo-square",1580,808,40,"aluminum","junction box MC",16,"www.titanpv.com","-","-","-","-","-",{"$f":"IF($O525=\"Sunpower Corp.\",3,(IF(OR($Q525=\"mono\",$Q525=\"poly\",$Q525=\"HIT\",$Q525=\"EFG\",$Q525=\"mono-LGBC\"),1,IF(OR($Q525=\"µc-Si / a-Si\",$Q525=\"a-Si (single)\",$Q525=\"a-Si (tandem)\",$Q525=\"a-Si (triple)\"),3,2))))","v":1},{"$f":"IF($O525=\"Sunpower Corp.\",3,(IF(OR($Q525=\"mono\",$Q525=\"poly\",$Q525=\"HIT\",$Q525=\"EFG\",$Q525=\"mono-LGBC\"),1,2)))","v":1},{"$f":"IF($O525=\"Sunpower Corp.\",3,(IF(OR($Q525=\"mono\",$Q525=\"poly\",$Q525=\"HIT\",$Q525=\"EFG\",$Q525=\"mono-LGBC\"),1,IF(OR($Q525=\"µc-Si / a-Si\",$Q525=\"a-Si (single)\",$Q525=\"a-Si (tandem)\",$Q525=\"a-Si (triple)\"),3,2))))","v":1},0,null,null,21553,null,null,523]
["Anhui Titan PV Co. LTD TDM190-A-72","Anhui Titan PV Co. LTD ","TDM190-A-72",190,"+3...-3",36.4,5.2,44.8,5.62,-170.24,5.62,-0.47,1000,null,null,14.882820129394531,"mono",72,"pseudo-square",1580,808,40,"aluminum","junction box MC",16,"www.titanpv.com","-","-","-","-","-",{"$f":"IF($O526=\"Sunpower Corp.\",3,(IF(OR($Q526=\"mono\",$Q526=\"poly\",$Q526=\"HIT\",$Q526=\"EFG\",$Q526=\"mono-LGBC\"),1,IF(OR($Q526=\"µc-Si / a-Si\",$Q526=\"a-Si (single)\",$Q526=\"a-Si (tandem)\",$Q526=\"a-Si (triple)\"),3,2))))","v":1},{"$f":"IF($O526=\"Sunpower Corp.\",3,(IF(OR($Q526=\"mono\",$Q526=\"poly\",$Q526=\"HIT\",$Q526=\"EFG\",$Q526=\"mono-LGBC\"),1,2)))","v":1},{"$f":"IF($O526=\"Sunpower Corp.\",3,(IF(OR($Q526=\"mono\",$Q526=\"poly\",$Q526=\"HIT\",$Q526=\"EFG\",$Q526=\"mono-LGBC\"),1,IF(OR($Q526=\"µc-Si / a-Si\",$Q526=\"a-Si (single)\",$Q526=\"a-Si (tandem)\",$Q526=\"a-Si (triple)\"),3,2))))","v":1},0,null,null,21554,null,null,524]
["Anhui Titan PV Co. LTD TDM190-B-48","Anhui Titan PV Co. LTD ","TDM190-B-48",190,"+3...-3",23.9,7.95,29.8,8.33,-101.32,7.4969999999999999,-0.37,1000,null,null,14.495409965515137,"mono",48,"pseudo-square",1324,990,50,"aluminum","junction box MC",16.5,"www.titanpv.com","-","-","-","-","-",{"$f":"IF($O527=\"Sunpower Corp.\",3,(IF(OR($Q527=\"mono\",$Q527=\"poly\",$Q527=\"HIT\",$Q527=\"EFG\",$Q527=\"mono-LGBC\"),1,IF(OR($Q527=\"µc-Si / a-Si\",$Q527=\"a-Si (single)\",$Q527=\"a-Si (tandem)\",$Q527=\"a-Si (triple)\"),3,2))))","v":1},{"$f":"IF($O527=\"Sunpower Corp.\",3,(IF(OR($Q527=\"mono\",$Q527=\"poly\",$Q527=\"HIT\",$Q527=\"EFG\",$Q527=\"mono-LGBC\"),1,2)))","v":1},{"$f":"IF($O527=\"Sunpower Corp.\",3,(IF(OR($Q527=\"mono\",$Q527=\"poly\",$Q527=\"HIT\",$Q527=\"EFG\",$Q527=\"mono-LGBC\"),1,IF(OR($Q527=\"µc-Si / a-Si\",$Q527=\"a-Si (single)\",$Q527=\"a-Si (tandem)\",$Q527=\"a-Si (triple)\"),3,2))))","v":1},0,null,null,21526,null,null,525]
["Anhui Titan PV Co. LTD TDM190-B-54","Anhui Titan PV Co. LTD ","TDM190-B-54",190,"+3...-3",26.2,7.25,33.200000000000003,7.84,-112.88,7.056,-0.37,1000,null,null,12.950010299682617,"mono",54,"pseudo-square",1482,990,50,"aluminum","junction box MC",18.5,"www.titanpv.com","-","-","-","-","-",{"$f":"IF($O528=\"Sunpower Corp.\",3,(IF(OR($Q528=\"mono\",$Q528=\"poly\",$Q528=\"HIT\",$Q528=\"EFG\",$Q528=\"mono-LGBC\"),1,IF(OR($Q528=\"µc-Si / a-Si\",$Q528=\"a-Si (single)\",$Q528=\"a-Si (tandem)\",$Q528=\"a-Si (triple)\"),3,2))))","v":1},{"$f":"IF($O528=\"Sunpower Corp.\",3,(IF(OR($Q528=\"mono\",$Q528=\"poly\",$Q528=\"HIT\",$Q528=\"EFG\",$Q528=\"mono-LGBC\"),1,2)))","v":1},{"$f":"IF($O528=\"Sunpower Corp.\",3,(IF(OR($Q528=\"mono\",$Q528=\"poly\",$Q528=\"HIT\",$Q528=\"EFG\",$Q528=\"mono-LGBC\"),1,IF(OR($Q528=\"µc-Si / a-Si\",$Q528=\"a-Si (single)\",$Q528=\"a-Si (tandem)\",$Q528=\"a-Si (triple)\"),3,2))))","v":1},0,null,null,21528,null,null,526]
["Anhui Titan PV Co. LTD TDM190P-B-48","Anhui Titan PV Co. LTD ","TDM190P-B-48",190,"+3...-3",23.8,7.98,29.7,8.34,-95.04,6.6719999999999997,-0.38,1000,null,null,14.495409965515137,"poly",48,"square",1324,990,50,"aluminum","junction box MC",16.5,"www.titanpv.com","-","-","-","-","-",{"$f":"IF($O529=\"Sunpower Corp.\",3,(IF(OR($Q529=\"mono\",$Q529=\"poly\",$Q529=\"HIT\",$Q529=\"EFG\",$Q529=\"mono-LGBC\"),1,IF(OR($Q529=\"µc-Si / a-Si\",$Q529=\"a-Si (single)\",$Q529=\"a-Si (tandem)\",$Q529=\"a-Si (triple)\"),3,2))))","v":1},{"$f":"IF($O529=\"Sunpower Corp.\",3,(IF(OR($Q529=\"mono\",$Q529=\"poly\",$Q529=\"HIT\",$Q529=\"EFG\",$Q529=\"mono-LGBC\"),1,2)))","v":1},{"$f":"IF($O529=\"Sunpower Corp.\",3,(IF(OR($Q529=\"mono\",$Q529=\"poly\",$Q529=\"HIT\",$Q529=\"EFG\",$Q529=\"mono-LGBC\"),1,IF(OR($Q529=\"µc-Si / a-Si\",$Q529=\"a-Si (single)\",$Q529=\"a-Si (tandem)\",$Q529=\"a-Si (triple)\"),3,2))))","v":1},0,null,null,21558,null,null,527]
["Anhui Titan PV Co. LTD TDM190P-B-54","Anhui Titan PV Co. LTD ","TDM190P-B-54",190,"+3...-3",26,7.31,33,7.89,-105.6,6.3120000000000003,-0.38,1000,null,null,12.950010299682617,"poly",54,"square",1482,990,50,"aluminum","junction box MC",18.5,"www.titanpv.com","-","-","-","-","-",{"$f":"IF($O530=\"Sunpower Corp.\",3,(IF(OR($Q530=\"mono\",$Q530=\"poly\",$Q530=\"HIT\",$Q530=\"EFG\",$Q530=\"mono-LGBC\"),1,IF(OR($Q530=\"µc-Si / a-Si\",$Q530=\"a-Si (single)\",$Q530=\"a-Si (tandem)\",$Q530=\"a-Si (triple)\"),3,2))))","v":1},{"$f":"IF($O530=\"Sunpower Corp.\",3,(IF(OR($Q530=\"mono\",$Q530=\"poly\",$Q530=\"HIT\",$Q530=\"EFG\",$Q530=\"mono-LGBC\"),1,2)))","v":1},{"$f":"IF($O530=\"Sunpower Corp.\",3,(IF(OR($Q530=\"mono\",$Q530=\"poly\",$Q530=\"HIT\",$Q530=\"EFG\",$Q530=\"mono-LGBC\"),1,IF(OR($Q530=\"µc-Si / a-Si\",$Q530=\"a-Si (single)\",$Q530=\"a-Si (tandem)\",$Q530=\"a-Si (triple)\"),3,2))))","v":1},0,null,null,21560,null,null,528]
["Anhui Titan PV Co. LTD TDM200-A-96","Anhui Titan PV Co. LTD ","TDM200-A-96",200,"+3...-3",43.6,4.58,59,5.12,-224.2,5.12,-0.47,1000,null,null,11.941720008850098,"mono",96,"pseudo-square",1580,1060,50,"aluminum","junction box MC",21,"www.titanpv.com","-","-","-","-","-",{"$f":"IF($O531=\"Sunpower Corp.\",3,(IF(OR($Q531=\"mono\",$Q531=\"poly\",$Q531=\"HIT\",$Q531=\"EFG\",$Q531=\"mono-LGBC\"),1,IF(OR($Q531=\"µc-Si / a-Si\",$Q531=\"a-Si (single)\",$Q531=\"a-Si (tandem)\",$Q531=\"a-Si (triple)\"),3,2))))","v":1},{"$f":"IF($O531=\"Sunpower Corp.\",3,(IF(OR($Q531=\"mono\",$Q531=\"poly\",$Q531=\"HIT\",$Q531=\"EFG\",$Q531=\"mono-LGBC\"),1,2)))","v":1},{"$f":"IF($O531=\"Sunpower Corp.\",3,(IF(OR($Q531=\"mono\",$Q531=\"poly\",$Q531=\"HIT\",$Q531=\"EFG\",$Q531=\"mono-LGBC\"),1,IF(OR($Q531=\"µc-Si / a-Si\",$Q531=\"a-Si (single)\",$Q531=\"a-Si (tandem)\",$Q531=\"a-Si (triple)\"),3,2))))","v":1},0,null,null,21543,null,null,529]
["Anhui Titan PV Co. LTD TDM200-B-48","Anhui Titan PV Co. LTD ","TDM200-B-48",200,"+3...-3",24.8,8.06,30.2,8.5,-102.68,7.65,-0.37,1000,null,null,15.258319854736328,"mono",48,"pseudo-square",1324,990,50,"aluminum","junction box MC",16.5,"www.titanpv.com","-","-","-","-","-",{"$f":"IF($O532=\"Sunpower Corp.\",3,(IF(OR($Q532=\"mono\",$Q532=\"poly\",$Q532=\"HIT\",$Q532=\"EFG\",$Q532=\"mono-LGBC\"),1,IF(OR($Q532=\"µc-Si / a-Si\",$Q532=\"a-Si (single)\",$Q532=\"a-Si (tandem)\",$Q532=\"a-Si (triple)\"),3,2))))","v":1},{"$f":"IF($O532=\"Sunpower Corp.\",3,(IF(OR($Q532=\"mono\",$Q532=\"poly\",$Q532=\"HIT\",$Q532=\"EFG\",$Q532=\"mono-LGBC\"),1,2)))","v":1},{"$f":"IF($O532=\"Sunpower Corp.\",3,(IF(OR($Q532=\"mono\",$Q532=\"poly\",$Q532=\"HIT\",$Q532=\"EFG\",$Q532=\"mono-LGBC\"),1,IF(OR($Q532=\"µc-Si / a-Si\",$Q532=\"a-Si (single)\",$Q532=\"a-Si (tandem)\",$Q532=\"a-Si (triple)\"),3,2))))","v":1},0,null,null,21527,null,null,530]
["Anhui Titan PV Co. LTD TDM200-B-54","Anhui Titan PV Co. LTD ","TDM200-B-54",200,"+3...-3",26.2,7.63,33.6,8.1,-114.24,7.29,-0.37,1000,null,null,null,"mono",54,"pseudo-square",1480,null,50,"aluminum","junction box MC",18.5,"www.titanpv.com","-","-","-","-","-",{"$f":"IF($O533=\"Sunpower Corp.\",3,(IF(OR($Q533=\"mono\",$Q533=\"poly\",$Q533=\"HIT\",$Q533=\"EFG\",$Q533=\"mono-LGBC\"),1,IF(OR($Q533=\"µc-Si / a-Si\",$Q533=\"a-Si (single)\",$Q533=\"a-Si (tandem)\",$Q533=\"a-Si (triple)\"),3,2))))","v":1},{"$f":"IF($O533=\"Sunpower Corp.\",3,(IF(OR($Q533=\"mono\",$Q533=\"poly\",$Q533=\"HIT\",$Q533=\"EFG\",$Q533=\"mono-LGBC\"),1,2)))","v":1},{"$f":"IF($O533=\"Sunpower Corp.\",3,(IF(OR($Q533=\"mono\",$Q533=\"poly\",$Q533=\"HIT\",$Q533=\"EFG\",$Q533=\"mono-LGBC\"),1,IF(OR($Q533=\"µc-Si / a-Si\",$Q533=\"a-Si (single)\",$Q533=\"a-Si (tandem)\",$Q533=\"a-Si (triple)\"),3,2))))","v":1},0,null,null,21529,null,null,531]
["Anhui Titan PV Co. LTD TDM200P-B-54","Anhui Titan PV Co. LTD ","TDM200P-B-54",200,"+3...-3",26.2,7.63,33.4,8.1199999999999992,-106.88,6.4960000000000004,-0.38,1000,null,null,13.631589889526367,"poly",54,"square",1482,990,50,"aluminum","junction box MC",18.5,"www.titanpv.com","-","-","-","-","-",{"$f":"IF($O534=\"Sunpower Corp.\",3,(IF(OR($Q534=\"mono\",$Q534=\"poly\",$Q534=\"HIT\",$Q534=\"EFG\",$Q534=\"mono-LGBC\"),1,IF(OR($Q534=\"µc-Si / a-Si\",$Q534=\"a-Si (single)\",$Q534=\"a-Si (tandem)\",$Q534=\"a-Si (triple)\"),3,2))))","v":1},{"$f":"IF($O534=\"Sunpower Corp.\",3,(IF(OR($Q534=\"mono\",$Q534=\"poly\",$Q534=\"HIT\",$Q534=\"EFG\",$Q534=\"mono-LGBC\"),1,2)))","v":1},{"$f":"IF($O534=\"Sunpower Corp.\",3,(IF(OR($Q534=\"mono\",$Q534=\"poly\",$Q534=\"HIT\",$Q534=\"EFG\",$Q534=\"mono-LGBC\"),1,IF(OR($Q534=\"µc-Si / a-Si\",$Q534=\"a-Si (single)\",$Q534=\"a-Si (tandem)\",$Q534=\"a-Si (triple)\"),3,2))))","v":1},0,null,null,21561,null,null,532]
["Anhui Titan PV Co. LTD TDM200P-B-60","Anhui Titan PV Co. LTD ","TDM200P-B-60",200,"+3...-3",28.6,6.98,36.5,7.65,-116.8,6.12,-0.38,1000,null,null,12.318309783935547,"poly",60,"square",1640,990,50,"aluminum","junction box MC",21,"www.titanpv.com","-","-","-","-","-",{"$f":"IF($O535=\"Sunpower Corp.\",3,(IF(OR($Q535=\"mono\",$Q535=\"poly\",$Q535=\"HIT\",$Q535=\"EFG\",$Q535=\"mono-LGBC\"),1,IF(OR($Q535=\"µc-Si / a-Si\",$Q535=\"a-Si (single)\",$Q535=\"a-Si (tandem)\",$Q535=\"a-Si (triple)\"),3,2))))","v":1},{"$f":"IF($O535=\"Sunpower Corp.\",3,(IF(OR($Q535=\"mono\",$Q535=\"poly\",$Q535=\"HIT\",$Q535=\"EFG\",$Q535=\"mono-LGBC\"),1,2)))","v":1},{"$f":"IF($O535=\"Sunpower Corp.\",3,(IF(OR($Q535=\"mono\",$Q535=\"poly\",$Q535=\"HIT\",$Q535=\"EFG\",$Q535=\"mono-LGBC\"),1,IF(OR($Q535=\"µc-Si / a-Si\",$Q535=\"a-Si (single)\",$Q535=\"a-Si (tandem)\",$Q535=\"a-Si (triple)\"),3,2))))","v":1},0,null,null,21564,null,null,533]
["Anhui Titan PV Co. LTD TDM210-A-96","Anhui Titan PV Co. LTD ","TDM210-A-96",210,"+3...-3",44.3,4.74,59.2,5.2,-224.96,5.2,-0.47,1000,null,null,12.538809776306152,"mono",96,"pseudo-square",1580,1060,50,"aluminum","junction box MC",21,"www.titanpv.com","-","-","-","-","-",{"$f":"IF($O536=\"Sunpower Corp.\",3,(IF(OR($Q536=\"mono\",$Q536=\"poly\",$Q536=\"HIT\",$Q536=\"EFG\",$Q536=\"mono-LGBC\"),1,IF(OR($Q536=\"µc-Si / a-Si\",$Q536=\"a-Si (single)\",$Q536=\"a-Si (tandem)\",$Q536=\"a-Si (triple)\"),3,2))))","v":1},{"$f":"IF($O536=\"Sunpower Corp.\",3,(IF(OR($Q536=\"mono\",$Q536=\"poly\",$Q536=\"HIT\",$Q536=\"EFG\",$Q536=\"mono-LGBC\"),1,2)))","v":1},{"$f":"IF($O536=\"Sunpower Corp.\",3,(IF(OR($Q536=\"mono\",$Q536=\"poly\",$Q536=\"HIT\",$Q536=\"EFG\",$Q536=\"mono-LGBC\"),1,IF(OR($Q536=\"µc-Si / a-Si\",$Q536=\"a-Si (single)\",$Q536=\"a-Si (tandem)\",$Q536=\"a-Si (triple)\"),3,2))))","v":1},0,null,null,21544,null,null,534]
["Anhui Titan PV Co. LTD TDM210-B-54","Anhui Titan PV Co. LTD ","TDM210-B-54",210,"+3...-3",26.4,7.95,33.6,8.33,-114.24,7.4969999999999999,-0.37,1000,null,null,14.313170433044434,"mono",54,"pseudo-square",1482,990,50,"aluminum","junction box MC",18.5,"www.titanpv.com","-","-","-","-","-",{"$f":"IF($O537=\"Sunpower Corp.\",3,(IF(OR($Q537=\"mono\",$Q537=\"poly\",$Q537=\"HIT\",$Q537=\"EFG\",$Q537=\"mono-LGBC\"),1,IF(OR($Q537=\"µc-Si / a-Si\",$Q537=\"a-Si (single)\",$Q537=\"a-Si (tandem)\",$Q537=\"a-Si (triple)\"),3,2))))","v":1},{"$f":"IF($O537=\"Sunpower Corp.\",3,(IF(OR($Q537=\"mono\",$Q537=\"poly\",$Q537=\"HIT\",$Q537=\"EFG\",$Q537=\"mono-LGBC\"),1,2)))","v":1},{"$f":"IF($O537=\"Sunpower Corp.\",3,(IF(OR($Q537=\"mono\",$Q537=\"poly\",$Q537=\"HIT\",$Q537=\"EFG\",$Q537=\"mono-LGBC\"),1,IF(OR($Q537=\"µc-Si / a-Si\",$Q537=\"a-Si (single)\",$Q537=\"a-Si (tandem)\",$Q537=\"a-Si (triple)\"),3,2))))","v":1},0,null,null,21530,null,null,535]
["Anhui Titan PV Co. LTD TDM210-B-60","Anhui Titan PV Co. LTD ","TDM210-B-60",210,"+3...-3",29.6,7.1,36,7.76,-122.4,6.984,-0.37,1000,null,null,12.934220314025879,"mono",60,"pseudo-square",1640,990,50,"aluminum","junction box MC",21,"www.titanpv.com","-","-","-","-","-",{"$f":"IF($O538=\"Sunpower Corp.\",3,(IF(OR($Q538=\"mono\",$Q538=\"poly\",$Q538=\"HIT\",$Q538=\"EFG\",$Q538=\"mono-LGBC\"),1,IF(OR($Q538=\"µc-Si / a-Si\",$Q538=\"a-Si (single)\",$Q538=\"a-Si (tandem)\",$Q538=\"a-Si (triple)\"),3,2))))","v":1},{"$f":"IF($O538=\"Sunpower Corp.\",3,(IF(OR($Q538=\"mono\",$Q538=\"poly\",$Q538=\"HIT\",$Q538=\"EFG\",$Q538=\"mono-LGBC\"),1,2)))","v":1},{"$f":"IF($O538=\"Sunpower Corp.\",3,(IF(OR($Q538=\"mono\",$Q538=\"poly\",$Q538=\"HIT\",$Q538=\"EFG\",$Q538=\"mono-LGBC\"),1,IF(OR($Q538=\"µc-Si / a-Si\",$Q538=\"a-Si (single)\",$Q538=\"a-Si (tandem)\",$Q538=\"a-Si (triple)\"),3,2))))","v":1},0,null,null,21533,null,null,536]
["Anhui Titan PV Co. LTD TDM210P-B-54","Anhui Titan PV Co. LTD ","TDM210P-B-54",210,"+3...-3",26.4,7.95,33.6,8.33,-107.52,6.6640000000000006,-0.38,1000,null,null,14.313170433044434,"poly",54,"square",1482,990,50,"aluminum","junction box MC",18.5,"www.titanpv.com","-","-","-","-","-",{"$f":"IF($O539=\"Sunpower Corp.\",3,(IF(OR($Q539=\"mono\",$Q539=\"poly\",$Q539=\"HIT\",$Q539=\"EFG\",$Q539=\"mono-LGBC\"),1,IF(OR($Q539=\"µc-Si / a-Si\",$Q539=\"a-Si (single)\",$Q539=\"a-Si (tandem)\",$Q539=\"a-Si (triple)\"),3,2))))","v":1},{"$f":"IF($O539=\"Sunpower Corp.\",3,(IF(OR($Q539=\"mono\",$Q539=\"poly\",$Q539=\"HIT\",$Q539=\"EFG\",$Q539=\"mono-LGBC\"),1,2)))","v":1},{"$f":"IF($O539=\"Sunpower Corp.\",3,(IF(OR($Q539=\"mono\",$Q539=\"poly\",$Q539=\"HIT\",$Q539=\"EFG\",$Q539=\"mono-LGBC\"),1,IF(OR($Q539=\"µc-Si / a-Si\",$Q539=\"a-Si (single)\",$Q539=\"a-Si (tandem)\",$Q539=\"a-Si (triple)\"),3,2))))","v":1},0,null,null,21562,null,null,537]
["Anhui Titan PV Co. LTD TDM210P-B-60","Anhui Titan PV Co. LTD ","TDM210P-B-60",210,"+3...-3",29,7.24,36.5,7.88,-116.8,6.3040000000000003,-0.38,1000,null,null,12.934220314025879,"poly",60,"square",1640,990,50,"aluminum","junction box MC",21,"www.titanpv.com","-","-","-","-","-",{"$f":"IF($O540=\"Sunpower Corp.\",3,(IF(OR($Q540=\"mono\",$Q540=\"poly\",$Q540=\"HIT\",$Q540=\"EFG\",$Q540=\"mono-LGBC\"),1,IF(OR($Q540=\"µc-Si / a-Si\",$Q540=\"a-Si (single)\",$Q540=\"a-Si (tandem)\",$Q540=\"a-Si (triple)\"),3,2))))","v":1},{"$f":"IF($O540=\"Sunpower Corp.\",3,(IF(OR($Q540=\"mono\",$Q540=\"poly\",$Q540=\"HIT\",$Q540=\"EFG\",$Q540=\"mono-LGBC\"),1,2)))","v":1},{"$f":"IF($O540=\"Sunpower Corp.\",3,(IF(OR($Q540=\"mono\",$Q540=\"poly\",$Q540=\"HIT\",$Q540=\"EFG\",$Q540=\"mono-LGBC\"),1,IF(OR($Q540=\"µc-Si / a-Si\",$Q540=\"a-Si (single)\",$Q540=\"a-Si (tandem)\",$Q540=\"a-Si (triple)\"),3,2))))","v":1},0,null,null,21565,null,null,538]
["Anhui Titan PV Co. LTD TDM220-A-96","Anhui Titan PV Co. LTD ","TDM220-A-96",220,"+3...-3",45.2,4.87,59.2,5.43,-224.96,5.43,-0.47,1000,null,null,13.135899543762207,"mono",96,"pseudo-square",1580,1060,50,"aluminum","junction box MC",21,"www.titanpv.com","-","-","-","-","-",{"$f":"IF($O541=\"Sunpower Corp.\",3,(IF(OR($Q541=\"mono\",$Q541=\"poly\",$Q541=\"HIT\",$Q541=\"EFG\",$Q541=\"mono-LGBC\"),1,IF(OR($Q541=\"µc-Si / a-Si\",$Q541=\"a-Si (single)\",$Q541=\"a-Si (tandem)\",$Q541=\"a-Si (triple)\"),3,2))))","v":1},{"$f":"IF($O541=\"Sunpower Corp.\",3,(IF(OR($Q541=\"mono\",$Q541=\"poly\",$Q541=\"HIT\",$Q541=\"EFG\",$Q541=\"mono-LGBC\"),1,2)))","v":1},{"$f":"IF($O541=\"Sunpower Corp.\",3,(IF(OR($Q541=\"mono\",$Q541=\"poly\",$Q541=\"HIT\",$Q541=\"EFG\",$Q541=\"mono-LGBC\"),1,IF(OR($Q541=\"µc-Si / a-Si\",$Q541=\"a-Si (single)\",$Q541=\"a-Si (tandem)\",$Q541=\"a-Si (triple)\"),3,2))))","v":1},0,null,null,21545,null,null,539]
["Anhui Titan PV Co. LTD TDM220-B-54","Anhui Titan PV Co. LTD ","TDM220-B-54",220,"+3...-3",27.5,7.99,33.700000000000003,8.35,-114.58,7.5149999999999997,-0.37,1000,null,null,14.994750022888184,"mono",54,"pseudo-square",1482,990,50,"aluminum","junction box MC",18.5,"www.titanpv.com","-","-","-","-","-",{"$f":"IF($O542=\"Sunpower Corp.\",3,(IF(OR($Q542=\"mono\",$Q542=\"poly\",$Q542=\"HIT\",$Q542=\"EFG\",$Q542=\"mono-LGBC\"),1,IF(OR($Q542=\"µc-Si / a-Si\",$Q542=\"a-Si (single)\",$Q542=\"a-Si (tandem)\",$Q542=\"a-Si (triple)\"),3,2))))","v":1},{"$f":"IF($O542=\"Sunpower Corp.\",3,(IF(OR($Q542=\"mono\",$Q542=\"poly\",$Q542=\"HIT\",$Q542=\"EFG\",$Q542=\"mono-LGBC\"),1,2)))","v":1},{"$f":"IF($O542=\"Sunpower Corp.\",3,(IF(OR($Q542=\"mono\",$Q542=\"poly\",$Q542=\"HIT\",$Q542=\"EFG\",$Q542=\"mono-LGBC\"),1,IF(OR($Q542=\"µc-Si / a-Si\",$Q542=\"a-Si (single)\",$Q542=\"a-Si (tandem)\",$Q542=\"a-Si (triple)\"),3,2))))","v":1},0,null,null,21531,null,null,540]
["Anhui Titan PV Co. LTD TDM220-B-60","Anhui Titan PV Co. LTD ","TDM220-B-60",220,"+3...-3",29.9,7.35,36.5,8.02,-124.1,7.218,-0.37,1000,null,null,13.550140380859375,"mono",60,"pseudo-square",1640,990,50,"aluminum","junction box MC",21,"www.titanpv.com","-","-","-","-","-",{"$f":"IF($O543=\"Sunpower Corp.\",3,(IF(OR($Q543=\"mono\",$Q543=\"poly\",$Q543=\"HIT\",$Q543=\"EFG\",$Q543=\"mono-LGBC\"),1,IF(OR($Q543=\"µc-Si / a-Si\",$Q543=\"a-Si (single)\",$Q543=\"a-Si (tandem)\",$Q543=\"a-Si (triple)\"),3,2))))","v":1},{"$f":"IF($O543=\"Sunpower Corp.\",3,(IF(OR($Q543=\"mono\",$Q543=\"poly\",$Q543=\"HIT\",$Q543=\"EFG\",$Q543=\"mono-LGBC\"),1,2)))","v":1},{"$f":"IF($O543=\"Sunpower Corp.\",3,(IF(OR($Q543=\"mono\",$Q543=\"poly\",$Q543=\"HIT\",$Q543=\"EFG\",$Q543=\"mono-LGBC\"),1,IF(OR($Q543=\"µc-Si / a-Si\",$Q543=\"a-Si (single)\",$Q543=\"a-Si (tandem)\",$Q543=\"a-Si (triple)\"),3,2))))","v":1},0,null,null,21534,null,null,541]
["Anhui Titan PV Co. LTD TDM220P-B-54","Anhui Titan PV Co. LTD ","TDM220P-B-54",220,"+3...-3",27.3,8.06,33.799999999999997,8.35,-108.16,6.68,-0.38,1000,null,null,14.994750022888184,"poly",54,"square",1482,990,50,"aluminum","junction box MC",18.5,"www.titanpv.com","-","-","-","-","-",{"$f":"IF($O544=\"Sunpower Corp.\",3,(IF(OR($Q544=\"mono\",$Q544=\"poly\",$Q544=\"HIT\",$Q544=\"EFG\",$Q544=\"mono-LGBC\"),1,IF(OR($Q544=\"µc-Si / a-Si\",$Q544=\"a-Si (single)\",$Q544=\"a-Si (tandem)\",$Q544=\"a-Si (triple)\"),3,2))))","v":1},{"$f":"IF($O544=\"Sunpower Corp.\",3,(IF(OR($Q544=\"mono\",$Q544=\"poly\",$Q544=\"HIT\",$Q544=\"EFG\",$Q544=\"mono-LGBC\"),1,2)))","v":1},{"$f":"IF($O544=\"Sunpower Corp.\",3,(IF(OR($Q544=\"mono\",$Q544=\"poly\",$Q544=\"HIT\",$Q544=\"EFG\",$Q544=\"mono-LGBC\"),1,IF(OR($Q544=\"µc-Si / a-Si\",$Q544=\"a-Si (single)\",$Q544=\"a-Si (tandem)\",$Q544=\"a-Si (triple)\"),3,2))))","v":1},0,null,null,21563,null,null,542]
["Anhui Titan PV Co. LTD TDM220P-B-60","Anhui Titan PV Co. LTD ","TDM220P-B-60",220,"+3...-3",29.5,7.45,37,8.1,-118.4,6.48,-0.38,1000,null,null,13.550140380859375,"poly",60,"square",1640,990,50,"aluminum","junction box MC",21,"www.titanpv.com","-","-","-","-","-",{"$f":"IF($O545=\"Sunpower Corp.\",3,(IF(OR($Q545=\"mono\",$Q545=\"poly\",$Q545=\"HIT\",$Q545=\"EFG\",$Q545=\"mono-LGBC\"),1,IF(OR($Q545=\"µc-Si / a-Si\",$Q545=\"a-Si (single)\",$Q545=\"a-Si (tandem)\",$Q545=\"a-Si (triple)\"),3,2))))","v":1},{"$f":"IF($O545=\"Sunpower Corp.\",3,(IF(OR($Q545=\"mono\",$Q545=\"poly\",$Q545=\"HIT\",$Q545=\"EFG\",$Q545=\"mono-LGBC\"),1,2)))","v":1},{"$f":"IF($O545=\"Sunpower Corp.\",3,(IF(OR($Q545=\"mono\",$Q545=\"poly\",$Q545=\"HIT\",$Q545=\"EFG\",$Q545=\"mono-LGBC\"),1,IF(OR($Q545=\"µc-Si / a-Si\",$Q545=\"a-Si (single)\",$Q545=\"a-Si (tandem)\",$Q545=\"a-Si (triple)\"),3,2))))","v":1},0,null,null,21566,null,null,543]
["Anhui Titan PV Co. LTD TDM230-A-96","Anhui Titan PV Co. LTD ","TDM230-A-96",230,"+3...-3",46.4,4.96,59.5,5.47,-226.1,5.47,-0.47,1000,null,null,13.732979774475098,"mono",96,"pseudo-square",1580,1060,50,"aluminum","junction box MC",21,"www.titanpv.com","-","-","-","-","-",{"$f":"IF($O546=\"Sunpower Corp.\",3,(IF(OR($Q546=\"mono\",$Q546=\"poly\",$Q546=\"HIT\",$Q546=\"EFG\",$Q546=\"mono-LGBC\"),1,IF(OR($Q546=\"µc-Si / a-Si\",$Q546=\"a-Si (single)\",$Q546=\"a-Si (tandem)\",$Q546=\"a-Si (triple)\"),3,2))))","v":1},{"$f":"IF($O546=\"Sunpower Corp.\",3,(IF(OR($Q546=\"mono\",$Q546=\"poly\",$Q546=\"HIT\",$Q546=\"EFG\",$Q546=\"mono-LGBC\"),1,2)))","v":1},{"$f":"IF($O546=\"Sunpower Corp.\",3,(IF(OR($Q546=\"mono\",$Q546=\"poly\",$Q546=\"HIT\",$Q546=\"EFG\",$Q546=\"mono-LGBC\"),1,IF(OR($Q546=\"µc-Si / a-Si\",$Q546=\"a-Si (single)\",$Q546=\"a-Si (tandem)\",$Q546=\"a-Si (triple)\"),3,2))))","v":1},0,null,null,21546,null,null,544]
["Anhui Titan PV Co. LTD TDM230-B-54","Anhui Titan PV Co. LTD ","TDM230-B-54",230,"+3...-3",28.5,8.06,34.200000000000003,8.5,-116.28,7.65,-0.37,1000,null,null,15.676329612731934,"mono",54,"pseudo-square",1482,990,50,"aluminum","junction box MC",18.5,"www.titanpv.com","-","-","-","-","-",{"$f":"IF($O547=\"Sunpower Corp.\",3,(IF(OR($Q547=\"mono\",$Q547=\"poly\",$Q547=\"HIT\",$Q547=\"EFG\",$Q547=\"mono-LGBC\"),1,IF(OR($Q547=\"µc-Si / a-Si\",$Q547=\"a-Si (single)\",$Q547=\"a-Si (tandem)\",$Q547=\"a-Si (triple)\"),3,2))))","v":1},{"$f":"IF($O547=\"Sunpower Corp.\",3,(IF(OR($Q547=\"mono\",$Q547=\"poly\",$Q547=\"HIT\",$Q547=\"EFG\",$Q547=\"mono-LGBC\"),1,2)))","v":1},{"$f":"IF($O547=\"Sunpower Corp.\",3,(IF(OR($Q547=\"mono\",$Q547=\"poly\",$Q547=\"HIT\",$Q547=\"EFG\",$Q547=\"mono-LGBC\"),1,IF(OR($Q547=\"µc-Si / a-Si\",$Q547=\"a-Si (single)\",$Q547=\"a-Si (tandem)\",$Q547=\"a-Si (triple)\"),3,2))))","v":1},0,null,null,21532,null,null,545]
["Anhui Titan PV Co. LTD TDM230-B-60","Anhui Titan PV Co. LTD ","TDM230-B-60",230,"+3...-3",30.1,7.65,37,8.1,-125.8,7.29,-0.37,1000,null,null,14.166049957275391,"mono",60,"pseudo-square",1640,990,50,"aluminum","junction box MC",21,"www.titanpv.com","-","-","-","-","-",{"$f":"IF($O548=\"Sunpower Corp.\",3,(IF(OR($Q548=\"mono\",$Q548=\"poly\",$Q548=\"HIT\",$Q548=\"EFG\",$Q548=\"mono-LGBC\"),1,IF(OR($Q548=\"µc-Si / a-Si\",$Q548=\"a-Si (single)\",$Q548=\"a-Si (tandem)\",$Q548=\"a-Si (triple)\"),3,2))))","v":1},{"$f":"IF($O548=\"Sunpower Corp.\",3,(IF(OR($Q548=\"mono\",$Q548=\"poly\",$Q548=\"HIT\",$Q548=\"EFG\",$Q548=\"mono-LGBC\"),1,2)))","v":1},{"$f":"IF($O548=\"Sunpower Corp.\",3,(IF(OR($Q548=\"mono\",$Q548=\"poly\",$Q548=\"HIT\",$Q548=\"EFG\",$Q548=\"mono-LGBC\"),1,IF(OR($Q548=\"µc-Si / a-Si\",$Q548=\"a-Si (single)\",$Q548=\"a-Si (tandem)\",$Q548=\"a-Si (triple)\"),3,2))))","v":1},0,null,null,21535,null,null,546]
["Anhui Titan PV Co. LTD TDM230P-B-60","Anhui Titan PV Co. LTD ","TDM230P-B-60",230,"+3...-3",29.8,7.73,37,8.2200000000000006,-118.4,6.5760000000000014,-0.38,1000,null,null,14.166049957275391,"poly",60,"square",1640,990,50,"aluminum","junction box MC",21,"www.titanpv.com","-","-","-","-","-",{"$f":"IF($O549=\"Sunpower Corp.\",3,(IF(OR($Q549=\"mono\",$Q549=\"poly\",$Q549=\"HIT\",$Q549=\"EFG\",$Q549=\"mono-LGBC\"),1,IF(OR($Q549=\"µc-Si / a-Si\",$Q549=\"a-Si (single)\",$Q549=\"a-Si (tandem)\",$Q549=\"a-Si (triple)\"),3,2))))","v":1},{"$f":"IF($O549=\"Sunpower Corp.\",3,(IF(OR($Q549=\"mono\",$Q549=\"poly\",$Q549=\"HIT\",$Q549=\"EFG\",$Q549=\"mono-LGBC\"),1,2)))","v":1},{"$f":"IF($O549=\"Sunpower Corp.\",3,(IF(OR($Q549=\"mono\",$Q549=\"poly\",$Q549=\"HIT\",$Q549=\"EFG\",$Q549=\"mono-LGBC\"),1,IF(OR($Q549=\"µc-Si / a-Si\",$Q549=\"a-Si (single)\",$Q549=\"a-Si (tandem)\",$Q549=\"a-Si (triple)\"),3,2))))","v":1},0,null,null,21567,null,null,547]
["Anhui Titan PV Co. LTD TDM240-A-96","Anhui Titan PV Co. LTD ","TDM240-A-96",240,"+3...-3",46.9,5.1100000000000003,59.5,5.5,-226.1,5.5,-0.47,1000,null,null,14.330069541931152,"mono",96,"pseudo-square",1580,1060,50,"aluminum","junction box MC",21,"www.titanpv.com","-","-","-","-","-",{"$f":"IF($O550=\"Sunpower Corp.\",3,(IF(OR($Q550=\"mono\",$Q550=\"poly\",$Q550=\"HIT\",$Q550=\"EFG\",$Q550=\"mono-LGBC\"),1,IF(OR($Q550=\"µc-Si / a-Si\",$Q550=\"a-Si (single)\",$Q550=\"a-Si (tandem)\",$Q550=\"a-Si (triple)\"),3,2))))","v":1},{"$f":"IF($O550=\"Sunpower Corp.\",3,(IF(OR($Q550=\"mono\",$Q550=\"poly\",$Q550=\"HIT\",$Q550=\"EFG\",$Q550=\"mono-LGBC\"),1,2)))","v":1},{"$f":"IF($O550=\"Sunpower Corp.\",3,(IF(OR($Q550=\"mono\",$Q550=\"poly\",$Q550=\"HIT\",$Q550=\"EFG\",$Q550=\"mono-LGBC\"),1,IF(OR($Q550=\"µc-Si / a-Si\",$Q550=\"a-Si (single)\",$Q550=\"a-Si (tandem)\",$Q550=\"a-Si (triple)\"),3,2))))","v":1},0,null,null,21547,null,null,548]
["Anhui Titan PV Co. LTD TDM240-B-60","Anhui Titan PV Co. LTD ","TDM240-B-60",240,"+3...-3",30.3,7.92,37,8.31,-125.8,7.4790000000000001,-0.37,1000,null,null,14.781970024108887,"mono",60,"pseudo-square",1640,990,50,"aluminum","junction box MC",21,"www.titanpv.com","-","-","-","-","-",{"$f":"IF($O551=\"Sunpower Corp.\",3,(IF(OR($Q551=\"mono\",$Q551=\"poly\",$Q551=\"HIT\",$Q551=\"EFG\",$Q551=\"mono-LGBC\"),1,IF(OR($Q551=\"µc-Si / a-Si\",$Q551=\"a-Si (single)\",$Q551=\"a-Si (tandem)\",$Q551=\"a-Si (triple)\"),3,2))))","v":1},{"$f":"IF($O551=\"Sunpower Corp.\",3,(IF(OR($Q551=\"mono\",$Q551=\"poly\",$Q551=\"HIT\",$Q551=\"EFG\",$Q551=\"mono-LGBC\"),1,2)))","v":1},{"$f":"IF($O551=\"Sunpower Corp.\",3,(IF(OR($Q551=\"mono\",$Q551=\"poly\",$Q551=\"HIT\",$Q551=\"EFG\",$Q551=\"mono-LGBC\"),1,IF(OR($Q551=\"µc-Si / a-Si\",$Q551=\"a-Si (single)\",$Q551=\"a-Si (tandem)\",$Q551=\"a-Si (triple)\"),3,2))))","v":1},0,null,null,21536,null,null,549]
["Anhui Titan PV Co. LTD TDM240P-B-60","Anhui Titan PV Co. LTD ","TDM240P-B-60",240,"+3...-3",30.2,7.95,37.200000000000003,8.33,-119.04,6.6640000000000006,-0.38,1000,null,null,14.781970024108887,"poly",60,"square",1640,990,50,"aluminum","junction box MC",21,"www.titanpv.com","-","-","-","-","-",{"$f":"IF($O552=\"Sunpower Corp.\",3,(IF(OR($Q552=\"mono\",$Q552=\"poly\",$Q552=\"HIT\",$Q552=\"EFG\",$Q552=\"mono-LGBC\"),1,IF(OR($Q552=\"µc-Si / a-Si\",$Q552=\"a-Si (single)\",$Q552=\"a-Si (tandem)\",$Q552=\"a-Si (triple)\"),3,2))))","v":1},{"$f":"IF($O552=\"Sunpower Corp.\",3,(IF(OR($Q552=\"mono\",$Q552=\"poly\",$Q552=\"HIT\",$Q552=\"EFG\",$Q552=\"mono-LGBC\"),1,2)))","v":1},{"$f":"IF($O552=\"Sunpower Corp.\",3,(IF(OR($Q552=\"mono\",$Q552=\"poly\",$Q552=\"HIT\",$Q552=\"EFG\",$Q552=\"mono-LGBC\"),1,IF(OR($Q552=\"µc-Si / a-Si\",$Q552=\"a-Si (single)\",$Q552=\"a-Si (tandem)\",$Q552=\"a-Si (triple)\"),3,2))))","v":1},0,null,null,21568,null,null,550]
["Anhui Titan PV Co. LTD TDM240P-B-72","Anhui Titan PV Co. LTD ","TDM240P-B-72",240,"+3...-3",34.4,6.98,43.6,7.65,-139.52000000000001,6.12,-0.38,1000,null,null,12.393879890441895,"poly",72,"square",1956,990,50,"aluminum","junction box MC",24,"www.titanpv.com","-","-","-","-","-",{"$f":"IF($O553=\"Sunpower Corp.\",3,(IF(OR($Q553=\"mono\",$Q553=\"poly\",$Q553=\"HIT\",$Q553=\"EFG\",$Q553=\"mono-LGBC\"),1,IF(OR($Q553=\"µc-Si / a-Si\",$Q553=\"a-Si (single)\",$Q553=\"a-Si (tandem)\",$Q553=\"a-Si (triple)\"),3,2))))","v":1},{"$f":"IF($O553=\"Sunpower Corp.\",3,(IF(OR($Q553=\"mono\",$Q553=\"poly\",$Q553=\"HIT\",$Q553=\"EFG\",$Q553=\"mono-LGBC\"),1,2)))","v":1},{"$f":"IF($O553=\"Sunpower Corp.\",3,(IF(OR($Q553=\"mono\",$Q553=\"poly\",$Q553=\"HIT\",$Q553=\"EFG\",$Q553=\"mono-LGBC\"),1,IF(OR($Q553=\"µc-Si / a-Si\",$Q553=\"a-Si (single)\",$Q553=\"a-Si (tandem)\",$Q553=\"a-Si (triple)\"),3,2))))","v":1},0,null,null,21569,null,null,551]
["Anhui Titan PV Co. LTD TDM250-B-60","Anhui Titan PV Co. LTD ","TDM250-B-60",250,"+3...-3",31.4,7.96,37.200000000000003,8.3800000000000008,-126.48,7.5419999999999998,-0.37,1000,null,null,15.397879600524902,"mono",60,"pseudo-square",1640,990,50,"aluminum","junction box MC",21,"www.titanpv.com","-","-","-","-","-",{"$f":"IF($O554=\"Sunpower Corp.\",3,(IF(OR($Q554=\"mono\",$Q554=\"poly\",$Q554=\"HIT\",$Q554=\"EFG\",$Q554=\"mono-LGBC\"),1,IF(OR($Q554=\"µc-Si / a-Si\",$Q554=\"a-Si (single)\",$Q554=\"a-Si (tandem)\",$Q554=\"a-Si (triple)\"),3,2))))","v":1},{"$f":"IF($O554=\"Sunpower Corp.\",3,(IF(OR($Q554=\"mono\",$Q554=\"poly\",$Q554=\"HIT\",$Q554=\"EFG\",$Q554=\"mono-LGBC\"),1,2)))","v":1},{"$f":"IF($O554=\"Sunpower Corp.\",3,(IF(OR($Q554=\"mono\",$Q554=\"poly\",$Q554=\"HIT\",$Q554=\"EFG\",$Q554=\"mono-LGBC\"),1,IF(OR($Q554=\"µc-Si / a-Si\",$Q554=\"a-Si (single)\",$Q554=\"a-Si (tandem)\",$Q554=\"a-Si (triple)\"),3,2))))","v":1},0,null,null,21537,null,null,552]
["Anhui Titan PV Co. LTD TDM250-B-72","Anhui Titan PV Co. LTD ","TDM250-B-72",250,"+3...-3",34.700000000000003,7.2,44,7.87,-149.6,7.0830000000000002,-0.37,1000,null,null,12.910289764404297,"mono",72,"pseudo-square",1956,990,50,"aluminum","junction box MC",24,"www.titanpv.com","-","-","-","-","-",{"$f":"IF($O555=\"Sunpower Corp.\",3,(IF(OR($Q555=\"mono\",$Q555=\"poly\",$Q555=\"HIT\",$Q555=\"EFG\",$Q555=\"mono-LGBC\"),1,IF(OR($Q555=\"µc-Si / a-Si\",$Q555=\"a-Si (single)\",$Q555=\"a-Si (tandem)\",$Q555=\"a-Si (triple)\"),3,2))))","v":1},{"$f":"IF($O555=\"Sunpower Corp.\",3,(IF(OR($Q555=\"mono\",$Q555=\"poly\",$Q555=\"HIT\",$Q555=\"EFG\",$Q555=\"mono-LGBC\"),1,2)))","v":1},{"$f":"IF($O555=\"Sunpower Corp.\",3,(IF(OR($Q555=\"mono\",$Q555=\"poly\",$Q555=\"HIT\",$Q555=\"EFG\",$Q555=\"mono-LGBC\"),1,IF(OR($Q555=\"µc-Si / a-Si\",$Q555=\"a-Si (single)\",$Q555=\"a-Si (tandem)\",$Q555=\"a-Si (triple)\"),3,2))))","v":1},0,null,null,21538,null,null,553]
["Anhui Titan PV Co. LTD TDM250P-B-72","Anhui Titan PV Co. LTD ","TDM250P-B-72",250,"+3...-3",34.6,7.23,43.8,7.87,-140.16,6.2960000000000003,-0.38,1000,null,null,12.910289764404297,"poly",72,"square",1956,990,50,"aluminum","junction box MC",24,"www.titanpv.com","-","-","-","-","-",{"$f":"IF($O556=\"Sunpower Corp.\",3,(IF(OR($Q556=\"mono\",$Q556=\"poly\",$Q556=\"HIT\",$Q556=\"EFG\",$Q556=\"mono-LGBC\"),1,IF(OR($Q556=\"µc-Si / a-Si\",$Q556=\"a-Si (single)\",$Q556=\"a-Si (tandem)\",$Q556=\"a-Si (triple)\"),3,2))))","v":1},{"$f":"IF($O556=\"Sunpower Corp.\",3,(IF(OR($Q556=\"mono\",$Q556=\"poly\",$Q556=\"HIT\",$Q556=\"EFG\",$Q556=\"mono-LGBC\"),1,2)))","v":1},{"$f":"IF($O556=\"Sunpower Corp.\",3,(IF(OR($Q556=\"mono\",$Q556=\"poly\",$Q556=\"HIT\",$Q556=\"EFG\",$Q556=\"mono-LGBC\"),1,IF(OR($Q556=\"µc-Si / a-Si\",$Q556=\"a-Si (single)\",$Q556=\"a-Si (tandem)\",$Q556=\"a-Si (triple)\"),3,2))))","v":1},0,null,null,21570,null,null,554]
["Anhui Titan PV Co. LTD TDM260-B-72","Anhui Titan PV Co. LTD ","TDM260-B-72",260,"+3...-3",34.799999999999997,7.47,44.3,8.02,-150.62,7.218,-0.37,1000,null,null,13.426699638366699,"mono",72,"pseudo-square",1956,990,50,"aluminum","junction box MC",24,"www.titanpv.com","-","-","-","-","-",{"$f":"IF($O557=\"Sunpower Corp.\",3,(IF(OR($Q557=\"mono\",$Q557=\"poly\",$Q557=\"HIT\",$Q557=\"EFG\",$Q557=\"mono-LGBC\"),1,IF(OR($Q557=\"µc-Si / a-Si\",$Q557=\"a-Si (single)\",$Q557=\"a-Si (tandem)\",$Q557=\"a-Si (triple)\"),3,2))))","v":1},{"$f":"IF($O557=\"Sunpower Corp.\",3,(IF(OR($Q557=\"mono\",$Q557=\"poly\",$Q557=\"HIT\",$Q557=\"EFG\",$Q557=\"mono-LGBC\"),1,2)))","v":1},{"$f":"IF($O557=\"Sunpower Corp.\",3,(IF(OR($Q557=\"mono\",$Q557=\"poly\",$Q557=\"HIT\",$Q557=\"EFG\",$Q557=\"mono-LGBC\"),1,IF(OR($Q557=\"µc-Si / a-Si\",$Q557=\"a-Si (single)\",$Q557=\"a-Si (tandem)\",$Q557=\"a-Si (triple)\"),3,2))))","v":1},0,null,null,21539,null,null,555]
["Anhui Titan PV Co. LTD TDM260P-B-72","Anhui Titan PV Co. LTD ","TDM260P-B-72",260,"+3...-3",34.799999999999997,7.47,44,8.09,-140.80000000000001,6.4720000000000004,-0.38,1000,null,null,13.426699638366699,"poly",72,"square",1956,990,50,"aluminum","junction box MC",24,"www.titanpv.com","-","-","-","-","-",{"$f":"IF($O558=\"Sunpower Corp.\",3,(IF(OR($Q558=\"mono\",$Q558=\"poly\",$Q558=\"HIT\",$Q558=\"EFG\",$Q558=\"mono-LGBC\"),1,IF(OR($Q558=\"µc-Si / a-Si\",$Q558=\"a-Si (single)\",$Q558=\"a-Si (tandem)\",$Q558=\"a-Si (triple)\"),3,2))))","v":1},{"$f":"IF($O558=\"Sunpower Corp.\",3,(IF(OR($Q558=\"mono\",$Q558=\"poly\",$Q558=\"HIT\",$Q558=\"EFG\",$Q558=\"mono-LGBC\"),1,2)))","v":1},{"$f":"IF($O558=\"Sunpower Corp.\",3,(IF(OR($Q558=\"mono\",$Q558=\"poly\",$Q558=\"HIT\",$Q558=\"EFG\",$Q558=\"mono-LGBC\"),1,IF(OR($Q558=\"µc-Si / a-Si\",$Q558=\"a-Si (single)\",$Q558=\"a-Si (tandem)\",$Q558=\"a-Si (triple)\"),3,2))))","v":1},0,null,null,21571,null,null,556]
["Anhui Titan PV Co. LTD TDM270-B-72","Anhui Titan PV Co. LTD ","TDM270-B-72",270,"+3...-3",35,7.71,44.6,8.1199999999999992,-151.63999999999999,7.3079999999999998,-0.37,1000,null,null,13.943110466003418,"mono",72,"pseudo-square",1956,990,50,"aluminum","junction box MC",24,"www.titanpv.com","-","-","-","-","-",{"$f":"IF($O559=\"Sunpower Corp.\",3,(IF(OR($Q559=\"mono\",$Q559=\"poly\",$Q559=\"HIT\",$Q559=\"EFG\",$Q559=\"mono-LGBC\"),1,IF(OR($Q559=\"µc-Si / a-Si\",$Q559=\"a-Si (single)\",$Q559=\"a-Si (tandem)\",$Q559=\"a-Si (triple)\"),3,2))))","v":1},{"$f":"IF($O559=\"Sunpower Corp.\",3,(IF(OR($Q559=\"mono\",$Q559=\"poly\",$Q559=\"HIT\",$Q559=\"EFG\",$Q559=\"mono-LGBC\"),1,2)))","v":1},{"$f":"IF($O559=\"Sunpower Corp.\",3,(IF(OR($Q559=\"mono\",$Q559=\"poly\",$Q559=\"HIT\",$Q559=\"EFG\",$Q559=\"mono-LGBC\"),1,IF(OR($Q559=\"µc-Si / a-Si\",$Q559=\"a-Si (single)\",$Q559=\"a-Si (tandem)\",$Q559=\"a-Si (triple)\"),3,2))))","v":1},0,null,null,21540,null,null,557]
["Anhui Titan PV Co. LTD TDM270P-B-72","Anhui Titan PV Co. LTD ","TDM270P-B-72",270,"+3...-3",35,7.71,44.5,8.1999999999999993,-142.4,6.56,-0.38,1000,null,null,13.943110466003418,"poly",72,"square",1956,990,50,"aluminum","junction box MC",24,"www.titanpv.com","-","-","-","-","-",{"$f":"IF($O560=\"Sunpower Corp.\",3,(IF(OR($Q560=\"mono\",$Q560=\"poly\",$Q560=\"HIT\",$Q560=\"EFG\",$Q560=\"mono-LGBC\"),1,IF(OR($Q560=\"µc-Si / a-Si\",$Q560=\"a-Si (single)\",$Q560=\"a-Si (tandem)\",$Q560=\"a-Si (triple)\"),3,2))))","v":1},{"$f":"IF($O560=\"Sunpower Corp.\",3,(IF(OR($Q560=\"mono\",$Q560=\"poly\",$Q560=\"HIT\",$Q560=\"EFG\",$Q560=\"mono-LGBC\"),1,2)))","v":1},{"$f":"IF($O560=\"Sunpower Corp.\",3,(IF(OR($Q560=\"mono\",$Q560=\"poly\",$Q560=\"HIT\",$Q560=\"EFG\",$Q560=\"mono-LGBC\"),1,IF(OR($Q560=\"µc-Si / a-Si\",$Q560=\"a-Si (single)\",$Q560=\"a-Si (tandem)\",$Q560=\"a-Si (triple)\"),3,2))))","v":1},0,null,null,21572,null,null,558]
["Anhui Titan PV Co. LTD TDM280-B-72","Anhui Titan PV Co. LTD ","TDM280-B-72",280,"+3...-3",35.299999999999997,7.93,44.8,8.33,-152.32,7.4969999999999999,-0.37,1000,null,null,14.45952033996582,"mono",72,"pseudo-square",1956,990,50,"aluminum","junction box MC",24,"www.titanpv.com","-","-","-","-","-",{"$f":"IF($O561=\"Sunpower Corp.\",3,(IF(OR($Q561=\"mono\",$Q561=\"poly\",$Q561=\"HIT\",$Q561=\"EFG\",$Q561=\"mono-LGBC\"),1,IF(OR($Q561=\"µc-Si / a-Si\",$Q561=\"a-Si (single)\",$Q561=\"a-Si (tandem)\",$Q561=\"a-Si (triple)\"),3,2))))","v":1},{"$f":"IF($O561=\"Sunpower Corp.\",3,(IF(OR($Q561=\"mono\",$Q561=\"poly\",$Q561=\"HIT\",$Q561=\"EFG\",$Q561=\"mono-LGBC\"),1,2)))","v":1},{"$f":"IF($O561=\"Sunpower Corp.\",3,(IF(OR($Q561=\"mono\",$Q561=\"poly\",$Q561=\"HIT\",$Q561=\"EFG\",$Q561=\"mono-LGBC\"),1,IF(OR($Q561=\"µc-Si / a-Si\",$Q561=\"a-Si (single)\",$Q561=\"a-Si (tandem)\",$Q561=\"a-Si (triple)\"),3,2))))","v":1},0,null,null,21541,null,null,559]
["Anhui Titan PV Co. LTD TDM280P-B-72","Anhui Titan PV Co. LTD ","TDM280P-B-72",280,"+3...-3",35.200000000000003,7.95,44.8,8.33,-143.36000000000001,6.6640000000000006,-0.38,1000,null,null,14.45952033996582,"poly",72,"square",1956,990,50,"aluminum","junction box MC",24,"www.titanpv.com","-","-","-","-","-",{"$f":"IF($O562=\"Sunpower Corp.\",3,(IF(OR($Q562=\"mono\",$Q562=\"poly\",$Q562=\"HIT\",$Q562=\"EFG\",$Q562=\"mono-LGBC\"),1,IF(OR($Q562=\"µc-Si / a-Si\",$Q562=\"a-Si (single)\",$Q562=\"a-Si (tandem)\",$Q562=\"a-Si (triple)\"),3,2))))","v":1},{"$f":"IF($O562=\"Sunpower Corp.\",3,(IF(OR($Q562=\"mono\",$Q562=\"poly\",$Q562=\"HIT\",$Q562=\"EFG\",$Q562=\"mono-LGBC\"),1,2)))","v":1},{"$f":"IF($O562=\"Sunpower Corp.\",3,(IF(OR($Q562=\"mono\",$Q562=\"poly\",$Q562=\"HIT\",$Q562=\"EFG\",$Q562=\"mono-LGBC\"),1,IF(OR($Q562=\"µc-Si / a-Si\",$Q562=\"a-Si (single)\",$Q562=\"a-Si (tandem)\",$Q562=\"a-Si (triple)\"),3,2))))","v":1},0,null,null,21573,null,null,560]
["Anhui Titan PV Co. LTD TDM290-B-72","Anhui Titan PV Co. LTD ","TDM290-B-72",290,"+3...-3",35.700000000000003,8.1199999999999992,44.8,8.41,-152.32,7.569,-0.37,1000,null,null,14.975930213928223,"mono",72,"pseudo-square",1956,990,50,"aluminum","junction box MC",24,"www.titanpv.com","-","-","-","-","-",{"$f":"IF($O563=\"Sunpower Corp.\",3,(IF(OR($Q563=\"mono\",$Q563=\"poly\",$Q563=\"HIT\",$Q563=\"EFG\",$Q563=\"mono-LGBC\"),1,IF(OR($Q563=\"µc-Si / a-Si\",$Q563=\"a-Si (single)\",$Q563=\"a-Si (tandem)\",$Q563=\"a-Si (triple)\"),3,2))))","v":1},{"$f":"IF($O563=\"Sunpower Corp.\",3,(IF(OR($Q563=\"mono\",$Q563=\"poly\",$Q563=\"HIT\",$Q563=\"EFG\",$Q563=\"mono-LGBC\"),1,2)))","v":1},{"$f":"IF($O563=\"Sunpower Corp.\",3,(IF(OR($Q563=\"mono\",$Q563=\"poly\",$Q563=\"HIT\",$Q563=\"EFG\",$Q563=\"mono-LGBC\"),1,IF(OR($Q563=\"µc-Si / a-Si\",$Q563=\"a-Si (single)\",$Q563=\"a-Si (tandem)\",$Q563=\"a-Si (triple)\"),3,2))))","v":1},0,null,null,21542,null,null,561]
["Anji Dasol Solar Energy Science & Technoloy DS-A1-100","Anji Dasol Solar Energy Science & Technoloy ","DS-A1-100",100,"+5...-5",17.3,5.79,21.4,6.48,-81.319999999999993,6.48,null,1000,null,null,15.812780380249023,"mono",36,"pseudo-square",1240,510,35,"aluminum","cable MC",9.6,"www.dasol.cn","-","-","-","-","-",{"$f":"IF($O564=\"Sunpower Corp.\",3,(IF(OR($Q564=\"mono\",$Q564=\"poly\",$Q564=\"HIT\",$Q564=\"EFG\",$Q564=\"mono-LGBC\"),1,IF(OR($Q564=\"µc-Si / a-Si\",$Q564=\"a-Si (single)\",$Q564=\"a-Si (tandem)\",$Q564=\"a-Si (triple)\"),3,2))))","v":1},{"$f":"IF($O564=\"Sunpower Corp.\",3,(IF(OR($Q564=\"mono\",$Q564=\"poly\",$Q564=\"HIT\",$Q564=\"EFG\",$Q564=\"mono-LGBC\"),1,2)))","v":1},{"$f":"IF($O564=\"Sunpower Corp.\",3,(IF(OR($Q564=\"mono\",$Q564=\"poly\",$Q564=\"HIT\",$Q564=\"EFG\",$Q564=\"mono-LGBC\"),1,IF(OR($Q564=\"µc-Si / a-Si\",$Q564=\"a-Si (single)\",$Q564=\"a-Si (tandem)\",$Q564=\"a-Si (triple)\"),3,2))))","v":1},0,null,null,4861,null,null,562]
["Anji Dasol Solar Energy Science & Technoloy DS-A1-110","Anji Dasol Solar Energy Science & Technoloy ","DS-A1-110",110,"+5...-5",16.899999999999999,6.51,21,7.27,-79.8,7.27,null,1000,null,null,11.093179702758789,"mono",36,"pseudo-square",1480,670,40,"aluminum","cable MC",11.9,"www.dasol.cn","-","-","-","-","-",{"$f":"IF($O565=\"Sunpower Corp.\",3,(IF(OR($Q565=\"mono\",$Q565=\"poly\",$Q565=\"HIT\",$Q565=\"EFG\",$Q565=\"mono-LGBC\"),1,IF(OR($Q565=\"µc-Si / a-Si\",$Q565=\"a-Si (single)\",$Q565=\"a-Si (tandem)\",$Q565=\"a-Si (triple)\"),3,2))))","v":1},{"$f":"IF($O565=\"Sunpower Corp.\",3,(IF(OR($Q565=\"mono\",$Q565=\"poly\",$Q565=\"HIT\",$Q565=\"EFG\",$Q565=\"mono-LGBC\"),1,2)))","v":1},{"$f":"IF($O565=\"Sunpower Corp.\",3,(IF(OR($Q565=\"mono\",$Q565=\"poly\",$Q565=\"HIT\",$Q565=\"EFG\",$Q565=\"mono-LGBC\"),1,IF(OR($Q565=\"µc-Si / a-Si\",$Q565=\"a-Si (single)\",$Q565=\"a-Si (tandem)\",$Q565=\"a-Si (triple)\"),3,2))))","v":1},0,null,null,4862,null,null,563]
["Anji Dasol Solar Energy Science & Technoloy DS-A1-120","Anji Dasol Solar Energy Science & Technoloy ","DS-A1-120",120,"+5...-5",17.3,6.94,21.4,7.67,-81.319999999999993,7.67,null,1000,null,null,12.101650238037109,"mono",36,"pseudo-square",1480,670,40,"aluminum","cable MC",11.9,"www.dasol.cn","-","-","-","-","-",{"$f":"IF($O566=\"Sunpower Corp.\",3,(IF(OR($Q566=\"mono\",$Q566=\"poly\",$Q566=\"HIT\",$Q566=\"EFG\",$Q566=\"mono-LGBC\"),1,IF(OR($Q566=\"µc-Si / a-Si\",$Q566=\"a-Si (single)\",$Q566=\"a-Si (tandem)\",$Q566=\"a-Si (triple)\"),3,2))))","v":1},{"$f":"IF($O566=\"Sunpower Corp.\",3,(IF(OR($Q566=\"mono\",$Q566=\"poly\",$Q566=\"HIT\",$Q566=\"EFG\",$Q566=\"mono-LGBC\"),1,2)))","v":1},{"$f":"IF($O566=\"Sunpower Corp.\",3,(IF(OR($Q566=\"mono\",$Q566=\"poly\",$Q566=\"HIT\",$Q566=\"EFG\",$Q566=\"mono-LGBC\"),1,IF(OR($Q566=\"µc-Si / a-Si\",$Q566=\"a-Si (single)\",$Q566=\"a-Si (tandem)\",$Q566=\"a-Si (triple)\"),3,2))))","v":1},0,null,null,4863,null,null,564]
["Anji Dasol Solar Energy Science & Technoloy DS-A1-130","Anji Dasol Solar Energy Science & Technoloy ","DS-A1-130",130,"+5...-5",17.7,7.36,21.8,8.0500000000000007,-82.84,8.0500000000000007,null,1000,null,null,13.110119819641113,"mono",36,"pseudo-square",1480,670,40,"aluminum","cable MC",11.9,"www.dasol.cn","-","-","-","-","-",{"$f":"IF($O567=\"Sunpower Corp.\",3,(IF(OR($Q567=\"mono\",$Q567=\"poly\",$Q567=\"HIT\",$Q567=\"EFG\",$Q567=\"mono-LGBC\"),1,IF(OR($Q567=\"µc-Si / a-Si\",$Q567=\"a-Si (single)\",$Q567=\"a-Si (tandem)\",$Q567=\"a-Si (triple)\"),3,2))))","v":1},{"$f":"IF($O567=\"Sunpower Corp.\",3,(IF(OR($Q567=\"mono\",$Q567=\"poly\",$Q567=\"HIT\",$Q567=\"EFG\",$Q567=\"mono-LGBC\"),1,2)))","v":1},{"$f":"IF($O567=\"Sunpower Corp.\",3,(IF(OR($Q567=\"mono\",$Q567=\"poly\",$Q567=\"HIT\",$Q567=\"EFG\",$Q567=\"mono-LGBC\"),1,IF(OR($Q567=\"µc-Si / a-Si\",$Q567=\"a-Si (single)\",$Q567=\"a-Si (tandem)\",$Q567=\"a-Si (triple)\"),3,2))))","v":1},0,null,null,4864,null,null,565]
["Anji Dasol Solar Energy Science & Technoloy DS-A1-140","Anji Dasol Solar Energy Science & Technoloy ","DS-A1-140",140,"+5...-5",18.100000000000001,7.75,22.2,8.39,-84.36,8.39,null,1000,null,null,14.118599891662598,"mono",36,"pseudo-square",1480,670,40,"aluminum","cable MC",11.9,"www.dasol.cn","-","-","-","-","-",{"$f":"IF($O568=\"Sunpower Corp.\",3,(IF(OR($Q568=\"mono\",$Q568=\"poly\",$Q568=\"HIT\",$Q568=\"EFG\",$Q568=\"mono-LGBC\"),1,IF(OR($Q568=\"µc-Si / a-Si\",$Q568=\"a-Si (single)\",$Q568=\"a-Si (tandem)\",$Q568=\"a-Si (triple)\"),3,2))))","v":1},{"$f":"IF($O568=\"Sunpower Corp.\",3,(IF(OR($Q568=\"mono\",$Q568=\"poly\",$Q568=\"HIT\",$Q568=\"EFG\",$Q568=\"mono-LGBC\"),1,2)))","v":1},{"$f":"IF($O568=\"Sunpower Corp.\",3,(IF(OR($Q568=\"mono\",$Q568=\"poly\",$Q568=\"HIT\",$Q568=\"EFG\",$Q568=\"mono-LGBC\"),1,IF(OR($Q568=\"µc-Si / a-Si\",$Q568=\"a-Si (single)\",$Q568=\"a-Si (tandem)\",$Q568=\"a-Si (triple)\"),3,2))))","v":1},0,null,null,4865,null,null,566]
["Anji Dasol Solar Energy Science & Technoloy DS-A1-50","Anji Dasol Solar Energy Science & Technoloy ","DS-A1-50",50,"+5...-5",16.5,3.03,20.6,3.4,-78.28,3.4,null,1000,null,null,9.706852912902832,"mono",36,"pseudo-square",1010,510,35,"aluminum","cable MC",6.2,"www.dasol.cn","-","-","-","-","-",{"$f":"IF($O569=\"Sunpower Corp.\",3,(IF(OR($Q569=\"mono\",$Q569=\"poly\",$Q569=\"HIT\",$Q569=\"EFG\",$Q569=\"mono-LGBC\"),1,IF(OR($Q569=\"µc-Si / a-Si\",$Q569=\"a-Si (single)\",$Q569=\"a-Si (tandem)\",$Q569=\"a-Si (triple)\"),3,2))))","v":1},{"$f":"IF($O569=\"Sunpower Corp.\",3,(IF(OR($Q569=\"mono\",$Q569=\"poly\",$Q569=\"HIT\",$Q569=\"EFG\",$Q569=\"mono-LGBC\"),1,2)))","v":1},{"$f":"IF($O569=\"Sunpower Corp.\",3,(IF(OR($Q569=\"mono\",$Q569=\"poly\",$Q569=\"HIT\",$Q569=\"EFG\",$Q569=\"mono-LGBC\"),1,IF(OR($Q569=\"µc-Si / a-Si\",$Q569=\"a-Si (single)\",$Q569=\"a-Si (tandem)\",$Q569=\"a-Si (triple)\"),3,2))))","v":1},0,null,null,4710,null,null,567]
["Anji Dasol Solar Energy Science & Technoloy DS-A1-55","Anji Dasol Solar Energy Science & Technoloy ","DS-A1-55",55,"+5...-5",16.899999999999999,3.26,21,3.6,-79.8,3.6,null,1000,null,null,10.677539825439453,"mono",36,"pseudo-square",1010,510,35,"aluminum","cable MC",6.2,"www.dasol.cn","-","-","-","-","-",{"$f":"IF($O570=\"Sunpower Corp.\",3,(IF(OR($Q570=\"mono\",$Q570=\"poly\",$Q570=\"HIT\",$Q570=\"EFG\",$Q570=\"mono-LGBC\"),1,IF(OR($Q570=\"µc-Si / a-Si\",$Q570=\"a-Si (single)\",$Q570=\"a-Si (tandem)\",$Q570=\"a-Si (triple)\"),3,2))))","v":1},{"$f":"IF($O570=\"Sunpower Corp.\",3,(IF(OR($Q570=\"mono\",$Q570=\"poly\",$Q570=\"HIT\",$Q570=\"EFG\",$Q570=\"mono-LGBC\"),1,2)))","v":1},{"$f":"IF($O570=\"Sunpower Corp.\",3,(IF(OR($Q570=\"mono\",$Q570=\"poly\",$Q570=\"HIT\",$Q570=\"EFG\",$Q570=\"mono-LGBC\"),1,IF(OR($Q570=\"µc-Si / a-Si\",$Q570=\"a-Si (single)\",$Q570=\"a-Si (tandem)\",$Q570=\"a-Si (triple)\"),3,2))))","v":1},0,null,null,4711,null,null,568]
["Anji Dasol Solar Energy Science & Technoloy DS-A1-60","Anji Dasol Solar Energy Science & Technoloy ","DS-A1-60",60,"+5...-5",17.3,3.47,21.4,3.8,-81.319999999999993,3.8,null,1000,null,null,11.648220062255859,"mono",36,"pseudo-square",1010,510,35,"aluminum","cable MC",6.2,"www.dasol.cn","-","-","-","-","-",{"$f":"IF($O571=\"Sunpower Corp.\",3,(IF(OR($Q571=\"mono\",$Q571=\"poly\",$Q571=\"HIT\",$Q571=\"EFG\",$Q571=\"mono-LGBC\"),1,IF(OR($Q571=\"µc-Si / a-Si\",$Q571=\"a-Si (single)\",$Q571=\"a-Si (tandem)\",$Q571=\"a-Si (triple)\"),3,2))))","v":1},{"$f":"IF($O571=\"Sunpower Corp.\",3,(IF(OR($Q571=\"mono\",$Q571=\"poly\",$Q571=\"HIT\",$Q571=\"EFG\",$Q571=\"mono-LGBC\"),1,2)))","v":1},{"$f":"IF($O571=\"Sunpower Corp.\",3,(IF(OR($Q571=\"mono\",$Q571=\"poly\",$Q571=\"HIT\",$Q571=\"EFG\",$Q571=\"mono-LGBC\"),1,IF(OR($Q571=\"µc-Si / a-Si\",$Q571=\"a-Si (single)\",$Q571=\"a-Si (tandem)\",$Q571=\"a-Si (triple)\"),3,2))))","v":1},0,null,null,4712,null,null,569]
["Anji Dasol Solar Energy Science & Technoloy DS-A1-65","Anji Dasol Solar Energy Science & Technoloy ","DS-A1-65",65,"+5...-5",17.7,3.68,21.8,4,-82.84,4,null,1000,null,null,12.61890983581543,"mono",36,"pseudo-square",1010,510,35,"aluminum","cable MC",6.2,"www.dasol.cn","-","-","-","-","-",{"$f":"IF($O572=\"Sunpower Corp.\",3,(IF(OR($Q572=\"mono\",$Q572=\"poly\",$Q572=\"HIT\",$Q572=\"EFG\",$Q572=\"mono-LGBC\"),1,IF(OR($Q572=\"µc-Si / a-Si\",$Q572=\"a-Si (single)\",$Q572=\"a-Si (tandem)\",$Q572=\"a-Si (triple)\"),3,2))))","v":1},{"$f":"IF($O572=\"Sunpower Corp.\",3,(IF(OR($Q572=\"mono\",$Q572=\"poly\",$Q572=\"HIT\",$Q572=\"EFG\",$Q572=\"mono-LGBC\"),1,2)))","v":1},{"$f":"IF($O572=\"Sunpower Corp.\",3,(IF(OR($Q572=\"mono\",$Q572=\"poly\",$Q572=\"HIT\",$Q572=\"EFG\",$Q572=\"mono-LGBC\"),1,IF(OR($Q572=\"µc-Si / a-Si\",$Q572=\"a-Si (single)\",$Q572=\"a-Si (tandem)\",$Q572=\"a-Si (triple)\"),3,2))))","v":1},0,null,null,4713,null,null,570]
["Anji Dasol Solar Energy Science & Technoloy DS-A1-70","Anji Dasol Solar Energy Science & Technoloy ","DS-A1-70",70,"+5...-5",16.7,4.1900000000000004,20.8,4.74,-79.040000000000006,4.74,null,1000,null,null,13.589590072631836,"mono",36,"pseudo-square",1010,510,35,"aluminum","cable MC",7.9,"www.dasol.cn","-","-","-","-","-",{"$f":"IF($O573=\"Sunpower Corp.\",3,(IF(OR($Q573=\"mono\",$Q573=\"poly\",$Q573=\"HIT\",$Q573=\"EFG\",$Q573=\"mono-LGBC\"),1,IF(OR($Q573=\"µc-Si / a-Si\",$Q573=\"a-Si (single)\",$Q573=\"a-Si (tandem)\",$Q573=\"a-Si (triple)\"),3,2))))","v":1},{"$f":"IF($O573=\"Sunpower Corp.\",3,(IF(OR($Q573=\"mono\",$Q573=\"poly\",$Q573=\"HIT\",$Q573=\"EFG\",$Q573=\"mono-LGBC\"),1,2)))","v":1},{"$f":"IF($O573=\"Sunpower Corp.\",3,(IF(OR($Q573=\"mono\",$Q573=\"poly\",$Q573=\"HIT\",$Q573=\"EFG\",$Q573=\"mono-LGBC\"),1,IF(OR($Q573=\"µc-Si / a-Si\",$Q573=\"a-Si (single)\",$Q573=\"a-Si (tandem)\",$Q573=\"a-Si (triple)\"),3,2))))","v":1},0,null,null,4858,null,null,571]
["Anji Dasol Solar Energy Science & Technoloy DS-A1-80","Anji Dasol Solar Energy Science & Technoloy ","DS-A1-80",80,"+5...-5",17.3,4.63,21.4,5.19,-81.319999999999993,5.19,null,1000,null,null,15.530960083007813,"mono",36,"pseudo-square",1010,510,35,"aluminum","cable MC",7.9,"www.dasol.cn","-","-","-","-","-",{"$f":"IF($O574=\"Sunpower Corp.\",3,(IF(OR($Q574=\"mono\",$Q574=\"poly\",$Q574=\"HIT\",$Q574=\"EFG\",$Q574=\"mono-LGBC\"),1,IF(OR($Q574=\"µc-Si / a-Si\",$Q574=\"a-Si (single)\",$Q574=\"a-Si (tandem)\",$Q574=\"a-Si (triple)\"),3,2))))","v":1},{"$f":"IF($O574=\"Sunpower Corp.\",3,(IF(OR($Q574=\"mono\",$Q574=\"poly\",$Q574=\"HIT\",$Q574=\"EFG\",$Q574=\"mono-LGBC\"),1,2)))","v":1},{"$f":"IF($O574=\"Sunpower Corp.\",3,(IF(OR($Q574=\"mono\",$Q574=\"poly\",$Q574=\"HIT\",$Q574=\"EFG\",$Q574=\"mono-LGBC\"),1,IF(OR($Q574=\"µc-Si / a-Si\",$Q574=\"a-Si (single)\",$Q574=\"a-Si (tandem)\",$Q574=\"a-Si (triple)\"),3,2))))","v":1},0,null,null,4859,null,null,572]
["Anji Dasol Solar Energy Science & Technoloy DS-A1-90","Anji Dasol Solar Energy Science & Technoloy ","DS-A1-90",90,"+5...-5",16.8,5.36,20.9,6.06,-79.42,6.06,null,1000,null,null,14.231499671936035,"mono",36,"pseudo-square",1240,510,35,"aluminum","cable MC",9.6,"www.dasol.cn","-","-","-","-","-",{"$f":"IF($O575=\"Sunpower Corp.\",3,(IF(OR($Q575=\"mono\",$Q575=\"poly\",$Q575=\"HIT\",$Q575=\"EFG\",$Q575=\"mono-LGBC\"),1,IF(OR($Q575=\"µc-Si / a-Si\",$Q575=\"a-Si (single)\",$Q575=\"a-Si (tandem)\",$Q575=\"a-Si (triple)\"),3,2))))","v":1},{"$f":"IF($O575=\"Sunpower Corp.\",3,(IF(OR($Q575=\"mono\",$Q575=\"poly\",$Q575=\"HIT\",$Q575=\"EFG\",$Q575=\"mono-LGBC\"),1,2)))","v":1},{"$f":"IF($O575=\"Sunpower Corp.\",3,(IF(OR($Q575=\"mono\",$Q575=\"poly\",$Q575=\"HIT\",$Q575=\"EFG\",$Q575=\"mono-LGBC\"),1,IF(OR($Q575=\"µc-Si / a-Si\",$Q575=\"a-Si (single)\",$Q575=\"a-Si (tandem)\",$Q575=\"a-Si (triple)\"),3,2))))","v":1},0,null,null,4860,null,null,573]
["Anji Dasol Solar Energy Science & Technoloy DS-A2-100","Anji Dasol Solar Energy Science & Technoloy ","DS-A2-100",100,"+5...-5",22.7,4.42,28.1,4.9000000000000004,-106.78,4.9000000000000004,null,1000,null,null,11.307100296020508,"mono",48,"pseudo-square",1320,670,40,"aluminum","cable MC",10.6,"www.dasol.cn","-","-","-","-","-",{"$f":"IF($O576=\"Sunpower Corp.\",3,(IF(OR($Q576=\"mono\",$Q576=\"poly\",$Q576=\"HIT\",$Q576=\"EFG\",$Q576=\"mono-LGBC\"),1,IF(OR($Q576=\"µc-Si / a-Si\",$Q576=\"a-Si (single)\",$Q576=\"a-Si (tandem)\",$Q576=\"a-Si (triple)\"),3,2))))","v":1},{"$f":"IF($O576=\"Sunpower Corp.\",3,(IF(OR($Q576=\"mono\",$Q576=\"poly\",$Q576=\"HIT\",$Q576=\"EFG\",$Q576=\"mono-LGBC\"),1,2)))","v":1},{"$f":"IF($O576=\"Sunpower Corp.\",3,(IF(OR($Q576=\"mono\",$Q576=\"poly\",$Q576=\"HIT\",$Q576=\"EFG\",$Q576=\"mono-LGBC\"),1,IF(OR($Q576=\"µc-Si / a-Si\",$Q576=\"a-Si (single)\",$Q576=\"a-Si (tandem)\",$Q576=\"a-Si (triple)\"),3,2))))","v":1},0,null,null,4719,null,null,574]
["Anji Dasol Solar Energy Science & Technoloy DS-A2-110","Anji Dasol Solar Energy Science & Technoloy ","DS-A2-110",110,"+5...-5",23.2,4.74,28.8,5.2,-109.44,5.2,null,1000,null,null,12.437809944152832,"mono",48,"pseudo-square",1320,670,40,"aluminum","cable MC",10.6,"www.dasol.cn","-","-","-","-","-",{"$f":"IF($O577=\"Sunpower Corp.\",3,(IF(OR($Q577=\"mono\",$Q577=\"poly\",$Q577=\"HIT\",$Q577=\"EFG\",$Q577=\"mono-LGBC\"),1,IF(OR($Q577=\"µc-Si / a-Si\",$Q577=\"a-Si (single)\",$Q577=\"a-Si (tandem)\",$Q577=\"a-Si (triple)\"),3,2))))","v":1},{"$f":"IF($O577=\"Sunpower Corp.\",3,(IF(OR($Q577=\"mono\",$Q577=\"poly\",$Q577=\"HIT\",$Q577=\"EFG\",$Q577=\"mono-LGBC\"),1,2)))","v":1},{"$f":"IF($O577=\"Sunpower Corp.\",3,(IF(OR($Q577=\"mono\",$Q577=\"poly\",$Q577=\"HIT\",$Q577=\"EFG\",$Q577=\"mono-LGBC\"),1,IF(OR($Q577=\"µc-Si / a-Si\",$Q577=\"a-Si (single)\",$Q577=\"a-Si (tandem)\",$Q577=\"a-Si (triple)\"),3,2))))","v":1},0,null,null,4720,null,null,575]
["Anji Dasol Solar Energy Science & Technoloy DS-A2-120","Anji Dasol Solar Energy Science & Technoloy ","DS-A2-120",120,"+5...-5",23.8,5.04,29.4,5.5,-111.72,5.5,null,1000,null,null,13.568519592285156,"mono",48,"pseudo-square",1320,670,40,"aluminum","cable MC",10.6,"www.dasol.cn","-","-","-","-","-",{"$f":"IF($O578=\"Sunpower Corp.\",3,(IF(OR($Q578=\"mono\",$Q578=\"poly\",$Q578=\"HIT\",$Q578=\"EFG\",$Q578=\"mono-LGBC\"),1,IF(OR($Q578=\"µc-Si / a-Si\",$Q578=\"a-Si (single)\",$Q578=\"a-Si (tandem)\",$Q578=\"a-Si (triple)\"),3,2))))","v":1},{"$f":"IF($O578=\"Sunpower Corp.\",3,(IF(OR($Q578=\"mono\",$Q578=\"poly\",$Q578=\"HIT\",$Q578=\"EFG\",$Q578=\"mono-LGBC\"),1,2)))","v":1},{"$f":"IF($O578=\"Sunpower Corp.\",3,(IF(OR($Q578=\"mono\",$Q578=\"poly\",$Q578=\"HIT\",$Q578=\"EFG\",$Q578=\"mono-LGBC\"),1,IF(OR($Q578=\"µc-Si / a-Si\",$Q578=\"a-Si (single)\",$Q578=\"a-Si (tandem)\",$Q578=\"a-Si (triple)\"),3,2))))","v":1},0,null,null,4721,null,null,576]
["Anji Dasol Solar Energy Science & Technoloy DS-A2-130","Anji Dasol Solar Energy Science & Technoloy ","DS-A2-130",130,"+5...-5",22.9,5.68,28.4,6.4,-107.92,6.4,null,1000,null,null,11.903670310974121,"mono",48,"pseudo-square",1630,670,40,"aluminum","cable MC",13,"www.dasol.cn","-","-","-","-","-",{"$f":"IF($O579=\"Sunpower Corp.\",3,(IF(OR($Q579=\"mono\",$Q579=\"poly\",$Q579=\"HIT\",$Q579=\"EFG\",$Q579=\"mono-LGBC\"),1,IF(OR($Q579=\"µc-Si / a-Si\",$Q579=\"a-Si (single)\",$Q579=\"a-Si (tandem)\",$Q579=\"a-Si (triple)\"),3,2))))","v":1},{"$f":"IF($O579=\"Sunpower Corp.\",3,(IF(OR($Q579=\"mono\",$Q579=\"poly\",$Q579=\"HIT\",$Q579=\"EFG\",$Q579=\"mono-LGBC\"),1,2)))","v":1},{"$f":"IF($O579=\"Sunpower Corp.\",3,(IF(OR($Q579=\"mono\",$Q579=\"poly\",$Q579=\"HIT\",$Q579=\"EFG\",$Q579=\"mono-LGBC\"),1,IF(OR($Q579=\"µc-Si / a-Si\",$Q579=\"a-Si (single)\",$Q579=\"a-Si (tandem)\",$Q579=\"a-Si (triple)\"),3,2))))","v":1},0,null,null,4722,null,null,577]
["Anji Dasol Solar Energy Science & Technoloy DS-A2-140","Anji Dasol Solar Energy Science & Technoloy ","DS-A2-140",140,"+5...-5",23.4,5.99,28.9,6.5,-109.82,6.5,null,1000,null,null,12.819339752197266,"mono",48,"pseudo-square",1630,670,40,"aluminum","cable MC",13,"www.dasol.cn","-","-","-","-","-",{"$f":"IF($O580=\"Sunpower Corp.\",3,(IF(OR($Q580=\"mono\",$Q580=\"poly\",$Q580=\"HIT\",$Q580=\"EFG\",$Q580=\"mono-LGBC\"),1,IF(OR($Q580=\"µc-Si / a-Si\",$Q580=\"a-Si (single)\",$Q580=\"a-Si (tandem)\",$Q580=\"a-Si (triple)\"),3,2))))","v":1},{"$f":"IF($O580=\"Sunpower Corp.\",3,(IF(OR($Q580=\"mono\",$Q580=\"poly\",$Q580=\"HIT\",$Q580=\"EFG\",$Q580=\"mono-LGBC\"),1,2)))","v":1},{"$f":"IF($O580=\"Sunpower Corp.\",3,(IF(OR($Q580=\"mono\",$Q580=\"poly\",$Q580=\"HIT\",$Q580=\"EFG\",$Q580=\"mono-LGBC\"),1,IF(OR($Q580=\"µc-Si / a-Si\",$Q580=\"a-Si (single)\",$Q580=\"a-Si (tandem)\",$Q580=\"a-Si (triple)\"),3,2))))","v":1},0,null,null,4723,null,null,578]
["Anji Dasol Solar Energy Science & Technoloy DS-A2-150","Anji Dasol Solar Energy Science & Technoloy ","DS-A2-150",150,"+5...-5",22.7,6.61,28.2,7.4,-107.16,7.4,null,1000,null,null,11.455280303955078,"mono",48,"pseudo-square",1320,992,46,"aluminum","cable MC",15.7,"www.dasol.cn","-","-","-","-","-",{"$f":"IF($O581=\"Sunpower Corp.\",3,(IF(OR($Q581=\"mono\",$Q581=\"poly\",$Q581=\"HIT\",$Q581=\"EFG\",$Q581=\"mono-LGBC\"),1,IF(OR($Q581=\"µc-Si / a-Si\",$Q581=\"a-Si (single)\",$Q581=\"a-Si (tandem)\",$Q581=\"a-Si (triple)\"),3,2))))","v":1},{"$f":"IF($O581=\"Sunpower Corp.\",3,(IF(OR($Q581=\"mono\",$Q581=\"poly\",$Q581=\"HIT\",$Q581=\"EFG\",$Q581=\"mono-LGBC\"),1,2)))","v":1},{"$f":"IF($O581=\"Sunpower Corp.\",3,(IF(OR($Q581=\"mono\",$Q581=\"poly\",$Q581=\"HIT\",$Q581=\"EFG\",$Q581=\"mono-LGBC\"),1,IF(OR($Q581=\"µc-Si / a-Si\",$Q581=\"a-Si (single)\",$Q581=\"a-Si (tandem)\",$Q581=\"a-Si (triple)\"),3,2))))","v":1},0,null,null,4724,null,null,579]
["Anji Dasol Solar Energy Science & Technoloy DS-A2-160","Anji Dasol Solar Energy Science & Technoloy ","DS-A2-160",160,"+5...-5",23.1,6.94,28.6,7.8,-108.68,7.8,null,1000,null,null,12.218959808349609,"mono",48,"pseudo-square",1320,992,46,"aluminum","cable MC",15.7,"www.dasol.cn","-","-","-","-","-",{"$f":"IF($O582=\"Sunpower Corp.\",3,(IF(OR($Q582=\"mono\",$Q582=\"poly\",$Q582=\"HIT\",$Q582=\"EFG\",$Q582=\"mono-LGBC\"),1,IF(OR($Q582=\"µc-Si / a-Si\",$Q582=\"a-Si (single)\",$Q582=\"a-Si (tandem)\",$Q582=\"a-Si (triple)\"),3,2))))","v":1},{"$f":"IF($O582=\"Sunpower Corp.\",3,(IF(OR($Q582=\"mono\",$Q582=\"poly\",$Q582=\"HIT\",$Q582=\"EFG\",$Q582=\"mono-LGBC\"),1,2)))","v":1},{"$f":"IF($O582=\"Sunpower Corp.\",3,(IF(OR($Q582=\"mono\",$Q582=\"poly\",$Q582=\"HIT\",$Q582=\"EFG\",$Q582=\"mono-LGBC\"),1,IF(OR($Q582=\"µc-Si / a-Si\",$Q582=\"a-Si (single)\",$Q582=\"a-Si (tandem)\",$Q582=\"a-Si (triple)\"),3,2))))","v":1},0,null,null,4725,null,null,580]
["Anji Dasol Solar Energy Science & Technoloy DS-A2-170","Anji Dasol Solar Energy Science & Technoloy ","DS-A2-170",170,"+5...-5",23.4,7.26,28.9,7.9,-109.82,7.9,null,1000,null,null,12.982649803161621,"mono",48,"pseudo-square",1320,992,46,"aluminum","cable MC",15.7,"www.dasol.cn","-","-","-","-","-",{"$f":"IF($O583=\"Sunpower Corp.\",3,(IF(OR($Q583=\"mono\",$Q583=\"poly\",$Q583=\"HIT\",$Q583=\"EFG\",$Q583=\"mono-LGBC\"),1,IF(OR($Q583=\"µc-Si / a-Si\",$Q583=\"a-Si (single)\",$Q583=\"a-Si (tandem)\",$Q583=\"a-Si (triple)\"),3,2))))","v":1},{"$f":"IF($O583=\"Sunpower Corp.\",3,(IF(OR($Q583=\"mono\",$Q583=\"poly\",$Q583=\"HIT\",$Q583=\"EFG\",$Q583=\"mono-LGBC\"),1,2)))","v":1},{"$f":"IF($O583=\"Sunpower Corp.\",3,(IF(OR($Q583=\"mono\",$Q583=\"poly\",$Q583=\"HIT\",$Q583=\"EFG\",$Q583=\"mono-LGBC\"),1,IF(OR($Q583=\"µc-Si / a-Si\",$Q583=\"a-Si (single)\",$Q583=\"a-Si (tandem)\",$Q583=\"a-Si (triple)\"),3,2))))","v":1},0,null,null,4726,null,null,581]
["Anji Dasol Solar Energy Science & Technoloy DS-A2-180","Anji Dasol Solar Energy Science & Technoloy ","DS-A2-180",180,"+5...-5",23.8,7.56,29.4,8.1999999999999993,-111.72,8.1999999999999993,null,1000,null,null,13.746330261230469,"mono",48,"pseudo-square",1320,992,46,"aluminum","cable MC",15.7,"www.dasol.cn","-","-","-","-","-",{"$f":"IF($O584=\"Sunpower Corp.\",3,(IF(OR($Q584=\"mono\",$Q584=\"poly\",$Q584=\"HIT\",$Q584=\"EFG\",$Q584=\"mono-LGBC\"),1,IF(OR($Q584=\"µc-Si / a-Si\",$Q584=\"a-Si (single)\",$Q584=\"a-Si (tandem)\",$Q584=\"a-Si (triple)\"),3,2))))","v":1},{"$f":"IF($O584=\"Sunpower Corp.\",3,(IF(OR($Q584=\"mono\",$Q584=\"poly\",$Q584=\"HIT\",$Q584=\"EFG\",$Q584=\"mono-LGBC\"),1,2)))","v":1},{"$f":"IF($O584=\"Sunpower Corp.\",3,(IF(OR($Q584=\"mono\",$Q584=\"poly\",$Q584=\"HIT\",$Q584=\"EFG\",$Q584=\"mono-LGBC\"),1,IF(OR($Q584=\"µc-Si / a-Si\",$Q584=\"a-Si (single)\",$Q584=\"a-Si (tandem)\",$Q584=\"a-Si (triple)\"),3,2))))","v":1},0,null,null,4727,null,null,582]
["Anji Dasol Solar Energy Science & Technoloy DS-A2-190","Anji Dasol Solar Energy Science & Technoloy ","DS-A2-190",190,"+5...-5",24.3,7.84,29.8,8.5,-113.24,8.5,null,1000,null,null,14.51002025604248,"mono",48,"pseudo-square",1320,992,46,"aluminum","cable MC",15.7,"www.dasol.cn","-","-","-","-","-",{"$f":"IF($O585=\"Sunpower Corp.\",3,(IF(OR($Q585=\"mono\",$Q585=\"poly\",$Q585=\"HIT\",$Q585=\"EFG\",$Q585=\"mono-LGBC\"),1,IF(OR($Q585=\"µc-Si / a-Si\",$Q585=\"a-Si (single)\",$Q585=\"a-Si (tandem)\",$Q585=\"a-Si (triple)\"),3,2))))","v":1},{"$f":"IF($O585=\"Sunpower Corp.\",3,(IF(OR($Q585=\"mono\",$Q585=\"poly\",$Q585=\"HIT\",$Q585=\"EFG\",$Q585=\"mono-LGBC\"),1,2)))","v":1},{"$f":"IF($O585=\"Sunpower Corp.\",3,(IF(OR($Q585=\"mono\",$Q585=\"poly\",$Q585=\"HIT\",$Q585=\"EFG\",$Q585=\"mono-LGBC\"),1,IF(OR($Q585=\"µc-Si / a-Si\",$Q585=\"a-Si (single)\",$Q585=\"a-Si (tandem)\",$Q585=\"a-Si (triple)\"),3,2))))","v":1},0,null,null,4728,null,null,583]
["Anji Dasol Solar Energy Science & Technoloy DS-A2-50","Anji Dasol Solar Energy Science & Technoloy ","DS-A2-50",50,"+5...-5",22.7,2.21,28.1,2.5,-106.78,2.5,null,1000,null,null,10.660980224609375,"mono",48,"pseudo-square",700,670,35,"aluminum","cable MC",5.5,"www.dasol.cn","-","-","-","-","-",{"$f":"IF($O586=\"Sunpower Corp.\",3,(IF(OR($Q586=\"mono\",$Q586=\"poly\",$Q586=\"HIT\",$Q586=\"EFG\",$Q586=\"mono-LGBC\"),1,IF(OR($Q586=\"µc-Si / a-Si\",$Q586=\"a-Si (single)\",$Q586=\"a-Si (tandem)\",$Q586=\"a-Si (triple)\"),3,2))))","v":1},{"$f":"IF($O586=\"Sunpower Corp.\",3,(IF(OR($Q586=\"mono\",$Q586=\"poly\",$Q586=\"HIT\",$Q586=\"EFG\",$Q586=\"mono-LGBC\"),1,2)))","v":1},{"$f":"IF($O586=\"Sunpower Corp.\",3,(IF(OR($Q586=\"mono\",$Q586=\"poly\",$Q586=\"HIT\",$Q586=\"EFG\",$Q586=\"mono-LGBC\"),1,IF(OR($Q586=\"µc-Si / a-Si\",$Q586=\"a-Si (single)\",$Q586=\"a-Si (tandem)\",$Q586=\"a-Si (triple)\"),3,2))))","v":1},0,null,null,4714,null,null,584]
["Anji Dasol Solar Energy Science & Technoloy DS-A2-60","Anji Dasol Solar Energy Science & Technoloy ","DS-A2-60",60,"+5...-5",23.8,2.52,29.4,2.8,-111.72,2.8,null,1000,null,null,12.793180465698242,"mono",48,"pseudo-square",700,670,35,"aluminum","cable MC",5.5,"www.dasol.cn","-","-","-","-","-",{"$f":"IF($O587=\"Sunpower Corp.\",3,(IF(OR($Q587=\"mono\",$Q587=\"poly\",$Q587=\"HIT\",$Q587=\"EFG\",$Q587=\"mono-LGBC\"),1,IF(OR($Q587=\"µc-Si / a-Si\",$Q587=\"a-Si (single)\",$Q587=\"a-Si (tandem)\",$Q587=\"a-Si (triple)\"),3,2))))","v":1},{"$f":"IF($O587=\"Sunpower Corp.\",3,(IF(OR($Q587=\"mono\",$Q587=\"poly\",$Q587=\"HIT\",$Q587=\"EFG\",$Q587=\"mono-LGBC\"),1,2)))","v":1},{"$f":"IF($O587=\"Sunpower Corp.\",3,(IF(OR($Q587=\"mono\",$Q587=\"poly\",$Q587=\"HIT\",$Q587=\"EFG\",$Q587=\"mono-LGBC\"),1,IF(OR($Q587=\"µc-Si / a-Si\",$Q587=\"a-Si (single)\",$Q587=\"a-Si (tandem)\",$Q587=\"a-Si (triple)\"),3,2))))","v":1},0,null,null,4715,null,null,585]
["Anji Dasol Solar Energy Science & Technoloy DS-A2-70","Anji Dasol Solar Energy Science & Technoloy ","DS-A2-70",70,"+5...-5",22.3,3.15,27.7,3.6,-105.26,3.6,null,1000,null,null,10.344320297241211,"mono",48,"pseudo-square",1010,670,35,"aluminum","cable MC",7.8,"www.dasol.cn","-","-","-","-","-",{"$f":"IF($O588=\"Sunpower Corp.\",3,(IF(OR($Q588=\"mono\",$Q588=\"poly\",$Q588=\"HIT\",$Q588=\"EFG\",$Q588=\"mono-LGBC\"),1,IF(OR($Q588=\"µc-Si / a-Si\",$Q588=\"a-Si (single)\",$Q588=\"a-Si (tandem)\",$Q588=\"a-Si (triple)\"),3,2))))","v":1},{"$f":"IF($O588=\"Sunpower Corp.\",3,(IF(OR($Q588=\"mono\",$Q588=\"poly\",$Q588=\"HIT\",$Q588=\"EFG\",$Q588=\"mono-LGBC\"),1,2)))","v":1},{"$f":"IF($O588=\"Sunpower Corp.\",3,(IF(OR($Q588=\"mono\",$Q588=\"poly\",$Q588=\"HIT\",$Q588=\"EFG\",$Q588=\"mono-LGBC\"),1,IF(OR($Q588=\"µc-Si / a-Si\",$Q588=\"a-Si (single)\",$Q588=\"a-Si (tandem)\",$Q588=\"a-Si (triple)\"),3,2))))","v":1},0,null,null,4716,null,null,586]
["Anji Dasol Solar Energy Science & Technoloy DS-A2-80","Anji Dasol Solar Energy Science & Technoloy ","DS-A2-80",80,"+5...-5",23.1,3.47,28.6,3.9,-108.68,3.9,null,1000,null,null,11.822079658508301,"mono",48,"pseudo-square",1010,670,35,"aluminum","cable MC",7.8,"www.dasol.cn","-","-","-","-","-",{"$f":"IF($O589=\"Sunpower Corp.\",3,(IF(OR($Q589=\"mono\",$Q589=\"poly\",$Q589=\"HIT\",$Q589=\"EFG\",$Q589=\"mono-LGBC\"),1,IF(OR($Q589=\"µc-Si / a-Si\",$Q589=\"a-Si (single)\",$Q589=\"a-Si (tandem)\",$Q589=\"a-Si (triple)\"),3,2))))","v":1},{"$f":"IF($O589=\"Sunpower Corp.\",3,(IF(OR($Q589=\"mono\",$Q589=\"poly\",$Q589=\"HIT\",$Q589=\"EFG\",$Q589=\"mono-LGBC\"),1,2)))","v":1},{"$f":"IF($O589=\"Sunpower Corp.\",3,(IF(OR($Q589=\"mono\",$Q589=\"poly\",$Q589=\"HIT\",$Q589=\"EFG\",$Q589=\"mono-LGBC\"),1,IF(OR($Q589=\"µc-Si / a-Si\",$Q589=\"a-Si (single)\",$Q589=\"a-Si (tandem)\",$Q589=\"a-Si (triple)\"),3,2))))","v":1},0,null,null,4717,null,null,587]
["Anji Dasol Solar Energy Science & Technoloy DS-A2-90","Anji Dasol Solar Energy Science & Technoloy ","DS-A2-90",90,"+5...-5",23.9,3.77,29.4,4.0999999999999996,-111.72,4.0999999999999996,null,1000,null,null,13.299839973449707,"mono",48,"pseudo-square",1010,670,35,"aluminum","cable MC",7.8,"www.dasol.cn","-","-","-","-","-",{"$f":"IF($O590=\"Sunpower Corp.\",3,(IF(OR($Q590=\"mono\",$Q590=\"poly\",$Q590=\"HIT\",$Q590=\"EFG\",$Q590=\"mono-LGBC\"),1,IF(OR($Q590=\"µc-Si / a-Si\",$Q590=\"a-Si (single)\",$Q590=\"a-Si (tandem)\",$Q590=\"a-Si (triple)\"),3,2))))","v":1},{"$f":"IF($O590=\"Sunpower Corp.\",3,(IF(OR($Q590=\"mono\",$Q590=\"poly\",$Q590=\"HIT\",$Q590=\"EFG\",$Q590=\"mono-LGBC\"),1,2)))","v":1},{"$f":"IF($O590=\"Sunpower Corp.\",3,(IF(OR($Q590=\"mono\",$Q590=\"poly\",$Q590=\"HIT\",$Q590=\"EFG\",$Q590=\"mono-LGBC\"),1,IF(OR($Q590=\"µc-Si / a-Si\",$Q590=\"a-Si (single)\",$Q590=\"a-Si (tandem)\",$Q590=\"a-Si (triple)\"),3,2))))","v":1},0,null,null,4718,null,null,588]
["Anji Dasol Solar Energy Science & Technoloy DS-A3-160","Anji Dasol Solar Energy Science & Technoloy ","DS-A3-160",160,"+5...-5",25.2,6.36,31.3,7.2,-118.94,7.2,null,1000,null,null,10.88329029083252,"mono",54,"pseudo-square",1482,992,46,"aluminum","cable MC",null,"www.dasol.cn","-","-","-","-","-",{"$f":"IF($O591=\"Sunpower Corp.\",3,(IF(OR($Q591=\"mono\",$Q591=\"poly\",$Q591=\"HIT\",$Q591=\"EFG\",$Q591=\"mono-LGBC\"),1,IF(OR($Q591=\"µc-Si / a-Si\",$Q591=\"a-Si (single)\",$Q591=\"a-Si (tandem)\",$Q591=\"a-Si (triple)\"),3,2))))","v":1},{"$f":"IF($O591=\"Sunpower Corp.\",3,(IF(OR($Q591=\"mono\",$Q591=\"poly\",$Q591=\"HIT\",$Q591=\"EFG\",$Q591=\"mono-LGBC\"),1,2)))","v":1},{"$f":"IF($O591=\"Sunpower Corp.\",3,(IF(OR($Q591=\"mono\",$Q591=\"poly\",$Q591=\"HIT\",$Q591=\"EFG\",$Q591=\"mono-LGBC\"),1,IF(OR($Q591=\"µc-Si / a-Si\",$Q591=\"a-Si (single)\",$Q591=\"a-Si (tandem)\",$Q591=\"a-Si (triple)\"),3,2))))","v":1},0,null,null,4730,null,null,589]
["Anji Dasol Solar Energy Science & Technoloy DS-A3-170","Anji Dasol Solar Energy Science & Technoloy ","DS-A3-170",170,"+5...-5",25.6,6.66,31.7,7.4,-120.46,7.4,null,1000,null,null,11.56348991394043,"mono",54,"pseudo-square",1482,992,46,"aluminum","cable MC",18,"www.dasol.cn","-","-","-","-","-",{"$f":"IF($O592=\"Sunpower Corp.\",3,(IF(OR($Q592=\"mono\",$Q592=\"poly\",$Q592=\"HIT\",$Q592=\"EFG\",$Q592=\"mono-LGBC\"),1,IF(OR($Q592=\"µc-Si / a-Si\",$Q592=\"a-Si (single)\",$Q592=\"a-Si (tandem)\",$Q592=\"a-Si (triple)\"),3,2))))","v":1},{"$f":"IF($O592=\"Sunpower Corp.\",3,(IF(OR($Q592=\"mono\",$Q592=\"poly\",$Q592=\"HIT\",$Q592=\"EFG\",$Q592=\"mono-LGBC\"),1,2)))","v":1},{"$f":"IF($O592=\"Sunpower Corp.\",3,(IF(OR($Q592=\"mono\",$Q592=\"poly\",$Q592=\"HIT\",$Q592=\"EFG\",$Q592=\"mono-LGBC\"),1,IF(OR($Q592=\"µc-Si / a-Si\",$Q592=\"a-Si (single)\",$Q592=\"a-Si (tandem)\",$Q592=\"a-Si (triple)\"),3,2))))","v":1},0,null,null,4731,null,null,590]
["Anji Dasol Solar Energy Science & Technoloy DS-A3-180","Anji Dasol Solar Energy Science & Technoloy ","DS-A3-180",180,"+5...-5",25.9,6.94,32.1,7.8,-121.98,7.8,null,1000,null,null,12.24370002746582,"mono",54,"pseudo-square",1482,992,46,"aluminum","cable MC",18,"www.dasol.cn","-","-","-","-","-",{"$f":"IF($O593=\"Sunpower Corp.\",3,(IF(OR($Q593=\"mono\",$Q593=\"poly\",$Q593=\"HIT\",$Q593=\"EFG\",$Q593=\"mono-LGBC\"),1,IF(OR($Q593=\"µc-Si / a-Si\",$Q593=\"a-Si (single)\",$Q593=\"a-Si (tandem)\",$Q593=\"a-Si (triple)\"),3,2))))","v":1},{"$f":"IF($O593=\"Sunpower Corp.\",3,(IF(OR($Q593=\"mono\",$Q593=\"poly\",$Q593=\"HIT\",$Q593=\"EFG\",$Q593=\"mono-LGBC\"),1,2)))","v":1},{"$f":"IF($O593=\"Sunpower Corp.\",3,(IF(OR($Q593=\"mono\",$Q593=\"poly\",$Q593=\"HIT\",$Q593=\"EFG\",$Q593=\"mono-LGBC\"),1,IF(OR($Q593=\"µc-Si / a-Si\",$Q593=\"a-Si (single)\",$Q593=\"a-Si (tandem)\",$Q593=\"a-Si (triple)\"),3,2))))","v":1},0,null,null,4732,null,null,591]
["Anji Dasol Solar Energy Science & Technoloy DS-A3-190","Anji Dasol Solar Energy Science & Technoloy ","DS-A3-190",190,"+5...-5",26.3,7.22,32.5,8,-123.5,8,null,1000,null,null,12.92389965057373,"mono",54,"pseudo-square",1482,992,46,"aluminum","cable MC",18,"www.dasol.cn","-","-","-","-","-",{"$f":"IF($O594=\"Sunpower Corp.\",3,(IF(OR($Q594=\"mono\",$Q594=\"poly\",$Q594=\"HIT\",$Q594=\"EFG\",$Q594=\"mono-LGBC\"),1,IF(OR($Q594=\"µc-Si / a-Si\",$Q594=\"a-Si (single)\",$Q594=\"a-Si (tandem)\",$Q594=\"a-Si (triple)\"),3,2))))","v":1},{"$f":"IF($O594=\"Sunpower Corp.\",3,(IF(OR($Q594=\"mono\",$Q594=\"poly\",$Q594=\"HIT\",$Q594=\"EFG\",$Q594=\"mono-LGBC\"),1,2)))","v":1},{"$f":"IF($O594=\"Sunpower Corp.\",3,(IF(OR($Q594=\"mono\",$Q594=\"poly\",$Q594=\"HIT\",$Q594=\"EFG\",$Q594=\"mono-LGBC\"),1,IF(OR($Q594=\"µc-Si / a-Si\",$Q594=\"a-Si (single)\",$Q594=\"a-Si (tandem)\",$Q594=\"a-Si (triple)\"),3,2))))","v":1},0,null,null,4733,null,null,592]
["Anji Dasol Solar Energy Science & Technoloy DS-A3-200","Anji Dasol Solar Energy Science & Technoloy ","DS-A3-200",200,"+5...-5",26.7,7.49,33,8.1999999999999993,-125.4,8.1999999999999993,null,1000,null,null,13.604109764099121,"mono",54,"pseudo-square",1482,992,46,"aluminum","cable MC",18,"www.dasol.cn","-","-","-","-","-",{"$f":"IF($O595=\"Sunpower Corp.\",3,(IF(OR($Q595=\"mono\",$Q595=\"poly\",$Q595=\"HIT\",$Q595=\"EFG\",$Q595=\"mono-LGBC\"),1,IF(OR($Q595=\"µc-Si / a-Si\",$Q595=\"a-Si (single)\",$Q595=\"a-Si (tandem)\",$Q595=\"a-Si (triple)\"),3,2))))","v":1},{"$f":"IF($O595=\"Sunpower Corp.\",3,(IF(OR($Q595=\"mono\",$Q595=\"poly\",$Q595=\"HIT\",$Q595=\"EFG\",$Q595=\"mono-LGBC\"),1,2)))","v":1},{"$f":"IF($O595=\"Sunpower Corp.\",3,(IF(OR($Q595=\"mono\",$Q595=\"poly\",$Q595=\"HIT\",$Q595=\"EFG\",$Q595=\"mono-LGBC\"),1,IF(OR($Q595=\"µc-Si / a-Si\",$Q595=\"a-Si (single)\",$Q595=\"a-Si (tandem)\",$Q595=\"a-Si (triple)\"),3,2))))","v":1},0,null,null,4734,null,null,593]
["Anji Dasol Solar Energy Science & Technoloy DS-A3-210","Anji Dasol Solar Energy Science & Technoloy ","DS-A3-210",210,"+5...-5",27.1,7.75,33.4,8.4,-126.92,8.4,null,1000,null,null,14.284319877624512,"mono",54,"pseudo-square",1482,992,46,"aluminum","cable MC",18,"www.dasol.cn","-","-","-","-","-",{"$f":"IF($O596=\"Sunpower Corp.\",3,(IF(OR($Q596=\"mono\",$Q596=\"poly\",$Q596=\"HIT\",$Q596=\"EFG\",$Q596=\"mono-LGBC\"),1,IF(OR($Q596=\"µc-Si / a-Si\",$Q596=\"a-Si (single)\",$Q596=\"a-Si (tandem)\",$Q596=\"a-Si (triple)\"),3,2))))","v":1},{"$f":"IF($O596=\"Sunpower Corp.\",3,(IF(OR($Q596=\"mono\",$Q596=\"poly\",$Q596=\"HIT\",$Q596=\"EFG\",$Q596=\"mono-LGBC\"),1,2)))","v":1},{"$f":"IF($O596=\"Sunpower Corp.\",3,(IF(OR($Q596=\"mono\",$Q596=\"poly\",$Q596=\"HIT\",$Q596=\"EFG\",$Q596=\"mono-LGBC\"),1,IF(OR($Q596=\"µc-Si / a-Si\",$Q596=\"a-Si (single)\",$Q596=\"a-Si (tandem)\",$Q596=\"a-Si (triple)\"),3,2))))","v":1},0,null,null,4735,null,null,594]
["Anji Dasol Solar Energy Science & Technoloy DS-A3-215","Anji Dasol Solar Energy Science & Technoloy ","DS-A3-215",215,"+5...-5",27.3,7.88,33.6,8.5,-127.68,8.5,null,1000,null,null,14.624420166015625,"mono",54,"pseudo-square",1482,992,46,"aluminum","cable MC",18,"www.dasol.cn","-","-","-","-","-",{"$f":"IF($O597=\"Sunpower Corp.\",3,(IF(OR($Q597=\"mono\",$Q597=\"poly\",$Q597=\"HIT\",$Q597=\"EFG\",$Q597=\"mono-LGBC\"),1,IF(OR($Q597=\"µc-Si / a-Si\",$Q597=\"a-Si (single)\",$Q597=\"a-Si (tandem)\",$Q597=\"a-Si (triple)\"),3,2))))","v":1},{"$f":"IF($O597=\"Sunpower Corp.\",3,(IF(OR($Q597=\"mono\",$Q597=\"poly\",$Q597=\"HIT\",$Q597=\"EFG\",$Q597=\"mono-LGBC\"),1,2)))","v":1},{"$f":"IF($O597=\"Sunpower Corp.\",3,(IF(OR($Q597=\"mono\",$Q597=\"poly\",$Q597=\"HIT\",$Q597=\"EFG\",$Q597=\"mono-LGBC\"),1,IF(OR($Q597=\"µc-Si / a-Si\",$Q597=\"a-Si (single)\",$Q597=\"a-Si (tandem)\",$Q597=\"a-Si (triple)\"),3,2))))","v":1},0,null,null,4736,null,null,595]
["Anji Dasol Solar Energy Science & Technoloy DS-A4-180","Anji Dasol Solar Energy Science & Technoloy ","DS-A4-180",180,"+5...-5",28.2,6.42,35,7.24,-133,7.24,null,1000,null,null,10.930820465087891,"mono",60,"pseudo-square",1660,992,46,"aluminum","cable MC",19.5,"www.dasol.cn","-","-","-","-","-",{"$f":"IF($O598=\"Sunpower Corp.\",3,(IF(OR($Q598=\"mono\",$Q598=\"poly\",$Q598=\"HIT\",$Q598=\"EFG\",$Q598=\"mono-LGBC\"),1,IF(OR($Q598=\"µc-Si / a-Si\",$Q598=\"a-Si (single)\",$Q598=\"a-Si (tandem)\",$Q598=\"a-Si (triple)\"),3,2))))","v":1},{"$f":"IF($O598=\"Sunpower Corp.\",3,(IF(OR($Q598=\"mono\",$Q598=\"poly\",$Q598=\"HIT\",$Q598=\"EFG\",$Q598=\"mono-LGBC\"),1,2)))","v":1},{"$f":"IF($O598=\"Sunpower Corp.\",3,(IF(OR($Q598=\"mono\",$Q598=\"poly\",$Q598=\"HIT\",$Q598=\"EFG\",$Q598=\"mono-LGBC\"),1,IF(OR($Q598=\"µc-Si / a-Si\",$Q598=\"a-Si (single)\",$Q598=\"a-Si (tandem)\",$Q598=\"a-Si (triple)\"),3,2))))","v":1},0,null,null,13306,null,null,596]
["Anji Dasol Solar Energy Science & Technoloy DS-A4-185","Anji Dasol Solar Energy Science & Technoloy ","DS-A4-185",185,"+5...-5",28.2,6.56,35.1,7.3,-133.38,7.3,null,1000,null,null,11.234450340270996,"mono",60,"pseudo-square",1660,992,46,"aluminum","cable MC",null,"www.dasol.cn","-","-","-","-","-",{"$f":"IF($O599=\"Sunpower Corp.\",3,(IF(OR($Q599=\"mono\",$Q599=\"poly\",$Q599=\"HIT\",$Q599=\"EFG\",$Q599=\"mono-LGBC\"),1,IF(OR($Q599=\"µc-Si / a-Si\",$Q599=\"a-Si (single)\",$Q599=\"a-Si (tandem)\",$Q599=\"a-Si (triple)\"),3,2))))","v":1},{"$f":"IF($O599=\"Sunpower Corp.\",3,(IF(OR($Q599=\"mono\",$Q599=\"poly\",$Q599=\"HIT\",$Q599=\"EFG\",$Q599=\"mono-LGBC\"),1,2)))","v":1},{"$f":"IF($O599=\"Sunpower Corp.\",3,(IF(OR($Q599=\"mono\",$Q599=\"poly\",$Q599=\"HIT\",$Q599=\"EFG\",$Q599=\"mono-LGBC\"),1,IF(OR($Q599=\"µc-Si / a-Si\",$Q599=\"a-Si (single)\",$Q599=\"a-Si (tandem)\",$Q599=\"a-Si (triple)\"),3,2))))","v":1},0,null,null,4737,null,null,597]
["Anji Dasol Solar Energy Science & Technoloy DS-A4-190","Anji Dasol Solar Energy Science & Technoloy ","DS-A4-190",190,"+5...-5",28.4,6.69,35.299999999999997,7.5,-134.13999999999999,7.5,null,1000,null,null,11.538089752197266,"mono",60,"pseudo-square",1660,992,46,"aluminum","cable MC",null,"www.dasol.cn","-","-","-","-","-",{"$f":"IF($O600=\"Sunpower Corp.\",3,(IF(OR($Q600=\"mono\",$Q600=\"poly\",$Q600=\"HIT\",$Q600=\"EFG\",$Q600=\"mono-LGBC\"),1,IF(OR($Q600=\"µc-Si / a-Si\",$Q600=\"a-Si (single)\",$Q600=\"a-Si (tandem)\",$Q600=\"a-Si (triple)\"),3,2))))","v":1},{"$f":"IF($O600=\"Sunpower Corp.\",3,(IF(OR($Q600=\"mono\",$Q600=\"poly\",$Q600=\"HIT\",$Q600=\"EFG\",$Q600=\"mono-LGBC\"),1,2)))","v":1},{"$f":"IF($O600=\"Sunpower Corp.\",3,(IF(OR($Q600=\"mono\",$Q600=\"poly\",$Q600=\"HIT\",$Q600=\"EFG\",$Q600=\"mono-LGBC\"),1,IF(OR($Q600=\"µc-Si / a-Si\",$Q600=\"a-Si (single)\",$Q600=\"a-Si (tandem)\",$Q600=\"a-Si (triple)\"),3,2))))","v":1},0,null,null,4738,null,null,598]
["Anji Dasol Solar Energy Science & Technoloy DS-A4-195","Anji Dasol Solar Energy Science & Technoloy ","DS-A4-195",195,"+5...-5",28.6,6.82,35.5,7.6,-134.9,7.6,null,1000,null,null,11.841719627380371,"mono",60,"pseudo-square",1660,992,46,"aluminum","cable MC",null,"www.dasol.cn","-","-","-","-","-",{"$f":"IF($O601=\"Sunpower Corp.\",3,(IF(OR($Q601=\"mono\",$Q601=\"poly\",$Q601=\"HIT\",$Q601=\"EFG\",$Q601=\"mono-LGBC\"),1,IF(OR($Q601=\"µc-Si / a-Si\",$Q601=\"a-Si (single)\",$Q601=\"a-Si (tandem)\",$Q601=\"a-Si (triple)\"),3,2))))","v":1},{"$f":"IF($O601=\"Sunpower Corp.\",3,(IF(OR($Q601=\"mono\",$Q601=\"poly\",$Q601=\"HIT\",$Q601=\"EFG\",$Q601=\"mono-LGBC\"),1,2)))","v":1},{"$f":"IF($O601=\"Sunpower Corp.\",3,(IF(OR($Q601=\"mono\",$Q601=\"poly\",$Q601=\"HIT\",$Q601=\"EFG\",$Q601=\"mono-LGBC\"),1,IF(OR($Q601=\"µc-Si / a-Si\",$Q601=\"a-Si (single)\",$Q601=\"a-Si (tandem)\",$Q601=\"a-Si (triple)\"),3,2))))","v":1},0,null,null,4739,null,null,599]
["Anji Dasol Solar Energy Science & Technoloy DS-A4-200","Anji Dasol Solar Energy Science & Technoloy ","DS-A4-200",200,"+5...-5",28.8,6.94,35.700000000000003,7.8,-135.66,7.8,null,1000,null,null,12.145359992980957,"mono",60,"pseudo-square",1660,992,46,"aluminum","cable MC",null,"www.dasol.cn","-","-","-","-","-",{"$f":"IF($O602=\"Sunpower Corp.\",3,(IF(OR($Q602=\"mono\",$Q602=\"poly\",$Q602=\"HIT\",$Q602=\"EFG\",$Q602=\"mono-LGBC\"),1,IF(OR($Q602=\"µc-Si / a-Si\",$Q602=\"a-Si (single)\",$Q602=\"a-Si (tandem)\",$Q602=\"a-Si (triple)\"),3,2))))","v":1},{"$f":"IF($O602=\"Sunpower Corp.\",3,(IF(OR($Q602=\"mono\",$Q602=\"poly\",$Q602=\"HIT\",$Q602=\"EFG\",$Q602=\"mono-LGBC\"),1,2)))","v":1},{"$f":"IF($O602=\"Sunpower Corp.\",3,(IF(OR($Q602=\"mono\",$Q602=\"poly\",$Q602=\"HIT\",$Q602=\"EFG\",$Q602=\"mono-LGBC\"),1,IF(OR($Q602=\"µc-Si / a-Si\",$Q602=\"a-Si (single)\",$Q602=\"a-Si (tandem)\",$Q602=\"a-Si (triple)\"),3,2))))","v":1},0,null,null,4740,null,null,600]
["Anji Dasol Solar Energy Science & Technoloy DS-A4-205","Anji Dasol Solar Energy Science & Technoloy ","DS-A4-205",205,"+5...-5",29,7.07,35.9,7.8,-136.41999999999999,7.8,null,1000,null,null,12.448989868164063,"mono",60,"pseudo-square",1660,992,46,"aluminum","cable MC",null,"www.dasol.cn","-","-","-","-","-",{"$f":"IF($O603=\"Sunpower Corp.\",3,(IF(OR($Q603=\"mono\",$Q603=\"poly\",$Q603=\"HIT\",$Q603=\"EFG\",$Q603=\"mono-LGBC\"),1,IF(OR($Q603=\"µc-Si / a-Si\",$Q603=\"a-Si (single)\",$Q603=\"a-Si (tandem)\",$Q603=\"a-Si (triple)\"),3,2))))","v":1},{"$f":"IF($O603=\"Sunpower Corp.\",3,(IF(OR($Q603=\"mono\",$Q603=\"poly\",$Q603=\"HIT\",$Q603=\"EFG\",$Q603=\"mono-LGBC\"),1,2)))","v":1},{"$f":"IF($O603=\"Sunpower Corp.\",3,(IF(OR($Q603=\"mono\",$Q603=\"poly\",$Q603=\"HIT\",$Q603=\"EFG\",$Q603=\"mono-LGBC\"),1,IF(OR($Q603=\"µc-Si / a-Si\",$Q603=\"a-Si (single)\",$Q603=\"a-Si (tandem)\",$Q603=\"a-Si (triple)\"),3,2))))","v":1},0,null,null,4741,null,null,601]
["Anji Dasol Solar Energy Science & Technoloy DS-A4-210","Anji Dasol Solar Energy Science & Technoloy ","DS-A4-210",210,"+5...-5",29.2,7.19,36.1,8,-137.18,8,null,1000,null,null,12.752619743347168,"mono",60,"pseudo-square",1660,992,46,"aluminum","cable MC",null,"www.dasol.cn","-","-","-","-","-",{"$f":"IF($O604=\"Sunpower Corp.\",3,(IF(OR($Q604=\"mono\",$Q604=\"poly\",$Q604=\"HIT\",$Q604=\"EFG\",$Q604=\"mono-LGBC\"),1,IF(OR($Q604=\"µc-Si / a-Si\",$Q604=\"a-Si (single)\",$Q604=\"a-Si (tandem)\",$Q604=\"a-Si (triple)\"),3,2))))","v":1},{"$f":"IF($O604=\"Sunpower Corp.\",3,(IF(OR($Q604=\"mono\",$Q604=\"poly\",$Q604=\"HIT\",$Q604=\"EFG\",$Q604=\"mono-LGBC\"),1,2)))","v":1},{"$f":"IF($O604=\"Sunpower Corp.\",3,(IF(OR($Q604=\"mono\",$Q604=\"poly\",$Q604=\"HIT\",$Q604=\"EFG\",$Q604=\"mono-LGBC\"),1,IF(OR($Q604=\"µc-Si / a-Si\",$Q604=\"a-Si (single)\",$Q604=\"a-Si (tandem)\",$Q604=\"a-Si (triple)\"),3,2))))","v":1},0,null,null,4742,null,null,602]
["Anji Dasol Solar Energy Science & Technoloy DS-A4-215","Anji Dasol Solar Energy Science & Technoloy ","DS-A4-215",215,"+5...-5",29.4,7.31,36.299999999999997,8,-137.94,8,null,1000,null,null,13.056260108947754,"mono",60,"pseudo-square",1660,992,46,"aluminum","cable MC",null,"www.dasol.cn","-","-","-","-","-",{"$f":"IF($O605=\"Sunpower Corp.\",3,(IF(OR($Q605=\"mono\",$Q605=\"poly\",$Q605=\"HIT\",$Q605=\"EFG\",$Q605=\"mono-LGBC\"),1,IF(OR($Q605=\"µc-Si / a-Si\",$Q605=\"a-Si (single)\",$Q605=\"a-Si (tandem)\",$Q605=\"a-Si (triple)\"),3,2))))","v":1},{"$f":"IF($O605=\"Sunpower Corp.\",3,(IF(OR($Q605=\"mono\",$Q605=\"poly\",$Q605=\"HIT\",$Q605=\"EFG\",$Q605=\"mono-LGBC\"),1,2)))","v":1},{"$f":"IF($O605=\"Sunpower Corp.\",3,(IF(OR($Q605=\"mono\",$Q605=\"poly\",$Q605=\"HIT\",$Q605=\"EFG\",$Q605=\"mono-LGBC\"),1,IF(OR($Q605=\"µc-Si / a-Si\",$Q605=\"a-Si (single)\",$Q605=\"a-Si (tandem)\",$Q605=\"a-Si (triple)\"),3,2))))","v":1},0,null,null,4743,null,null,603]
["Anji Dasol Solar Energy Science & Technoloy DS-A4-220","Anji Dasol Solar Energy Science & Technoloy ","DS-A4-220",220,"+5...-5",29.6,7.44,36.5,8.1,-138.69999999999999,8.1,null,1000,null,null,13.359889984130859,"mono",60,"pseudo-square",1660,992,46,"aluminum","cable MC",null,"www.dasol.cn","-","-","-","-","-",{"$f":"IF($O606=\"Sunpower Corp.\",3,(IF(OR($Q606=\"mono\",$Q606=\"poly\",$Q606=\"HIT\",$Q606=\"EFG\",$Q606=\"mono-LGBC\"),1,IF(OR($Q606=\"µc-Si / a-Si\",$Q606=\"a-Si (single)\",$Q606=\"a-Si (tandem)\",$Q606=\"a-Si (triple)\"),3,2))))","v":1},{"$f":"IF($O606=\"Sunpower Corp.\",3,(IF(OR($Q606=\"mono\",$Q606=\"poly\",$Q606=\"HIT\",$Q606=\"EFG\",$Q606=\"mono-LGBC\"),1,2)))","v":1},{"$f":"IF($O606=\"Sunpower Corp.\",3,(IF(OR($Q606=\"mono\",$Q606=\"poly\",$Q606=\"HIT\",$Q606=\"EFG\",$Q606=\"mono-LGBC\"),1,IF(OR($Q606=\"µc-Si / a-Si\",$Q606=\"a-Si (single)\",$Q606=\"a-Si (tandem)\",$Q606=\"a-Si (triple)\"),3,2))))","v":1},0,null,null,4744,null,null,604]
["Anji Dasol Solar Energy Science & Technoloy DS-A4-225","Anji Dasol Solar Energy Science & Technoloy ","DS-A4-225",225,"+5...-5",29.8,7.55,36.700000000000003,8.1999999999999993,-139.46,8.1999999999999993,null,1000,null,null,13.663519859313965,"mono",60,"pseudo-square",1660,992,46,"aluminum","cable MC",null,"www.dasol.cn","-","-","-","-","-",{"$f":"IF($O607=\"Sunpower Corp.\",3,(IF(OR($Q607=\"mono\",$Q607=\"poly\",$Q607=\"HIT\",$Q607=\"EFG\",$Q607=\"mono-LGBC\"),1,IF(OR($Q607=\"µc-Si / a-Si\",$Q607=\"a-Si (single)\",$Q607=\"a-Si (tandem)\",$Q607=\"a-Si (triple)\"),3,2))))","v":1},{"$f":"IF($O607=\"Sunpower Corp.\",3,(IF(OR($Q607=\"mono\",$Q607=\"poly\",$Q607=\"HIT\",$Q607=\"EFG\",$Q607=\"mono-LGBC\"),1,2)))","v":1},{"$f":"IF($O607=\"Sunpower Corp.\",3,(IF(OR($Q607=\"mono\",$Q607=\"poly\",$Q607=\"HIT\",$Q607=\"EFG\",$Q607=\"mono-LGBC\"),1,IF(OR($Q607=\"µc-Si / a-Si\",$Q607=\"a-Si (single)\",$Q607=\"a-Si (tandem)\",$Q607=\"a-Si (triple)\"),3,2))))","v":1},0,null,null,4745,null,null,605]
["Anji Dasol Solar Energy Science & Technoloy DS-A4-230","Anji Dasol Solar Energy Science & Technoloy ","DS-A4-230",230,"+5...-5",30,7.67,36.9,8.3000000000000007,-140.22,8.3000000000000007,null,1000,null,null,13.967160224914551,"mono",60,"pseudo-square",1660,992,46,"aluminum","cable MC",null,"www.dasol.cn","-","-","-","-","-",{"$f":"IF($O608=\"Sunpower Corp.\",3,(IF(OR($Q608=\"mono\",$Q608=\"poly\",$Q608=\"HIT\",$Q608=\"EFG\",$Q608=\"mono-LGBC\"),1,IF(OR($Q608=\"µc-Si / a-Si\",$Q608=\"a-Si (single)\",$Q608=\"a-Si (tandem)\",$Q608=\"a-Si (triple)\"),3,2))))","v":1},{"$f":"IF($O608=\"Sunpower Corp.\",3,(IF(OR($Q608=\"mono\",$Q608=\"poly\",$Q608=\"HIT\",$Q608=\"EFG\",$Q608=\"mono-LGBC\"),1,2)))","v":1},{"$f":"IF($O608=\"Sunpower Corp.\",3,(IF(OR($Q608=\"mono\",$Q608=\"poly\",$Q608=\"HIT\",$Q608=\"EFG\",$Q608=\"mono-LGBC\"),1,IF(OR($Q608=\"µc-Si / a-Si\",$Q608=\"a-Si (single)\",$Q608=\"a-Si (tandem)\",$Q608=\"a-Si (triple)\"),3,2))))","v":1},0,null,null,4746,null,null,606]
["Anji Dasol Solar Energy Science & Technoloy DS-A4-235","Anji Dasol Solar Energy Science & Technoloy ","DS-A4-235",235,"+5...-5",30.2,7.79,37.1,8.4,-140.97999999999999,8.4,null,1000,null,null,14.270790100097656,"mono",60,"pseudo-square",1660,992,46,"aluminum","cable MC",null,"www.dasol.cn","-","-","-","-","-",{"$f":"IF($O609=\"Sunpower Corp.\",3,(IF(OR($Q609=\"mono\",$Q609=\"poly\",$Q609=\"HIT\",$Q609=\"EFG\",$Q609=\"mono-LGBC\"),1,IF(OR($Q609=\"µc-Si / a-Si\",$Q609=\"a-Si (single)\",$Q609=\"a-Si (tandem)\",$Q609=\"a-Si (triple)\"),3,2))))","v":1},{"$f":"IF($O609=\"Sunpower Corp.\",3,(IF(OR($Q609=\"mono\",$Q609=\"poly\",$Q609=\"HIT\",$Q609=\"EFG\",$Q609=\"mono-LGBC\"),1,2)))","v":1},{"$f":"IF($O609=\"Sunpower Corp.\",3,(IF(OR($Q609=\"mono\",$Q609=\"poly\",$Q609=\"HIT\",$Q609=\"EFG\",$Q609=\"mono-LGBC\"),1,IF(OR($Q609=\"µc-Si / a-Si\",$Q609=\"a-Si (single)\",$Q609=\"a-Si (tandem)\",$Q609=\"a-Si (triple)\"),3,2))))","v":1},0,null,null,4747,null,null,607]
["Anji Dasol Solar Energy Science & Technoloy DS-A4-240","Anji Dasol Solar Energy Science & Technoloy ","DS-A4-240",240,"+5...-5",30.4,7.9,37.299999999999997,8.6,-141.74,8.6,null,1000,null,null,14.574430465698242,"mono",60,"pseudo-square",1660,992,46,"aluminum","cable MC",null,"www.dasol.cn","-","-","-","-","-",{"$f":"IF($O610=\"Sunpower Corp.\",3,(IF(OR($Q610=\"mono\",$Q610=\"poly\",$Q610=\"HIT\",$Q610=\"EFG\",$Q610=\"mono-LGBC\"),1,IF(OR($Q610=\"µc-Si / a-Si\",$Q610=\"a-Si (single)\",$Q610=\"a-Si (tandem)\",$Q610=\"a-Si (triple)\"),3,2))))","v":1},{"$f":"IF($O610=\"Sunpower Corp.\",3,(IF(OR($Q610=\"mono\",$Q610=\"poly\",$Q610=\"HIT\",$Q610=\"EFG\",$Q610=\"mono-LGBC\"),1,2)))","v":1},{"$f":"IF($O610=\"Sunpower Corp.\",3,(IF(OR($Q610=\"mono\",$Q610=\"poly\",$Q610=\"HIT\",$Q610=\"EFG\",$Q610=\"mono-LGBC\"),1,IF(OR($Q610=\"µc-Si / a-Si\",$Q610=\"a-Si (single)\",$Q610=\"a-Si (tandem)\",$Q610=\"a-Si (triple)\"),3,2))))","v":1},0,null,null,4748,null,null,608]
["Anji Dasol Solar Energy Science & Technoloy DS-A4-245","Anji Dasol Solar Energy Science & Technoloy ","DS-A4-245",245,"+5...-5",30.6,8.01,37.5,8.6999999999999993,-142.5,8.6999999999999993,null,1000,null,null,14.878060340881348,"mono",60,"pseudo-square",1660,992,46,"aluminum","cable MC",null,"www.dasol.cn","-","-","-","-","-",{"$f":"IF($O611=\"Sunpower Corp.\",3,(IF(OR($Q611=\"mono\",$Q611=\"poly\",$Q611=\"HIT\",$Q611=\"EFG\",$Q611=\"mono-LGBC\"),1,IF(OR($Q611=\"µc-Si / a-Si\",$Q611=\"a-Si (single)\",$Q611=\"a-Si (tandem)\",$Q611=\"a-Si (triple)\"),3,2))))","v":1},{"$f":"IF($O611=\"Sunpower Corp.\",3,(IF(OR($Q611=\"mono\",$Q611=\"poly\",$Q611=\"HIT\",$Q611=\"EFG\",$Q611=\"mono-LGBC\"),1,2)))","v":1},{"$f":"IF($O611=\"Sunpower Corp.\",3,(IF(OR($Q611=\"mono\",$Q611=\"poly\",$Q611=\"HIT\",$Q611=\"EFG\",$Q611=\"mono-LGBC\"),1,IF(OR($Q611=\"µc-Si / a-Si\",$Q611=\"a-Si (single)\",$Q611=\"a-Si (tandem)\",$Q611=\"a-Si (triple)\"),3,2))))","v":1},0,null,null,4749,null,null,609]
["Anji Dasol Solar Energy Science & Technoloy DS-A5-170","Anji Dasol Solar Energy Science & Technoloy ","DS-A5-170",170,"+...",34.799999999999997,4.8899999999999997,43.2,5.47,-164.16,5.47,null,1000,null,null,11.983980178833008,"poly",null,"square",1430,992,46,"aluminum",null,16.8,"www.dasol.cn","-","-","-","-","-",{"$f":"IF($O612=\"Sunpower Corp.\",3,(IF(OR($Q612=\"mono\",$Q612=\"poly\",$Q612=\"HIT\",$Q612=\"EFG\",$Q612=\"mono-LGBC\"),1,IF(OR($Q612=\"µc-Si / a-Si\",$Q612=\"a-Si (single)\",$Q612=\"a-Si (tandem)\",$Q612=\"a-Si (triple)\"),3,2))))","v":1},{"$f":"IF($O612=\"Sunpower Corp.\",3,(IF(OR($Q612=\"mono\",$Q612=\"poly\",$Q612=\"HIT\",$Q612=\"EFG\",$Q612=\"mono-LGBC\"),1,2)))","v":1},{"$f":"IF($O612=\"Sunpower Corp.\",3,(IF(OR($Q612=\"mono\",$Q612=\"poly\",$Q612=\"HIT\",$Q612=\"EFG\",$Q612=\"mono-LGBC\"),1,IF(OR($Q612=\"µc-Si / a-Si\",$Q612=\"a-Si (single)\",$Q612=\"a-Si (tandem)\",$Q612=\"a-Si (triple)\"),3,2))))","v":1},0,null,null,18803,null,null,610]
["Anji Dasol Solar Energy Science & Technoloy DS-A5-180","Anji Dasol Solar Energy Science & Technoloy ","DS-A5-180",180,"+...",34.799999999999997,5.17,43.2,5.79,-164.16,5.79,null,1000,null,null,12.688920021057129,"poly",null,"square",1430,992,46,"aluminum",null,16.8,"www.dasol.cn","-","-","-","-","-",{"$f":"IF($O613=\"Sunpower Corp.\",3,(IF(OR($Q613=\"mono\",$Q613=\"poly\",$Q613=\"HIT\",$Q613=\"EFG\",$Q613=\"mono-LGBC\"),1,IF(OR($Q613=\"µc-Si / a-Si\",$Q613=\"a-Si (single)\",$Q613=\"a-Si (tandem)\",$Q613=\"a-Si (triple)\"),3,2))))","v":1},{"$f":"IF($O613=\"Sunpower Corp.\",3,(IF(OR($Q613=\"mono\",$Q613=\"poly\",$Q613=\"HIT\",$Q613=\"EFG\",$Q613=\"mono-LGBC\"),1,2)))","v":1},{"$f":"IF($O613=\"Sunpower Corp.\",3,(IF(OR($Q613=\"mono\",$Q613=\"poly\",$Q613=\"HIT\",$Q613=\"EFG\",$Q613=\"mono-LGBC\"),1,IF(OR($Q613=\"µc-Si / a-Si\",$Q613=\"a-Si (single)\",$Q613=\"a-Si (tandem)\",$Q613=\"a-Si (triple)\"),3,2))))","v":1},0,null,null,18804,null,null,611]
["Anji Dasol Solar Energy Science & Technoloy DS-A5-190","Anji Dasol Solar Energy Science & Technoloy ","DS-A5-190",190,"+...",34.799999999999997,5.46,43.2,6.11,-164.16,6.11,null,1000,null,null,13.39385986328125,"poly",null,"square",1430,992,46,"aluminum",null,16.8,"www.dasol.cn","-","-","-","-","-",{"$f":"IF($O614=\"Sunpower Corp.\",3,(IF(OR($Q614=\"mono\",$Q614=\"poly\",$Q614=\"HIT\",$Q614=\"EFG\",$Q614=\"mono-LGBC\"),1,IF(OR($Q614=\"µc-Si / a-Si\",$Q614=\"a-Si (single)\",$Q614=\"a-Si (tandem)\",$Q614=\"a-Si (triple)\"),3,2))))","v":1},{"$f":"IF($O614=\"Sunpower Corp.\",3,(IF(OR($Q614=\"mono\",$Q614=\"poly\",$Q614=\"HIT\",$Q614=\"EFG\",$Q614=\"mono-LGBC\"),1,2)))","v":1},{"$f":"IF($O614=\"Sunpower Corp.\",3,(IF(OR($Q614=\"mono\",$Q614=\"poly\",$Q614=\"HIT\",$Q614=\"EFG\",$Q614=\"mono-LGBC\"),1,IF(OR($Q614=\"µc-Si / a-Si\",$Q614=\"a-Si (single)\",$Q614=\"a-Si (tandem)\",$Q614=\"a-Si (triple)\"),3,2))))","v":1},0,null,null,18805,null,null,612]
["Anji Dasol Solar Energy Science & Technoloy DS-A5-200","Anji Dasol Solar Energy Science & Technoloy ","DS-A5-200",200,"+...",34.799999999999997,5.75,43.2,6.43,-164.16,6.43,null,1000,null,null,12.760310173034668,"poly",null,"square",1580,992,46,"aluminum",null,19.5,"www.dasol.cn","-","-","-","-","-",{"$f":"IF($O615=\"Sunpower Corp.\",3,(IF(OR($Q615=\"mono\",$Q615=\"poly\",$Q615=\"HIT\",$Q615=\"EFG\",$Q615=\"mono-LGBC\"),1,IF(OR($Q615=\"µc-Si / a-Si\",$Q615=\"a-Si (single)\",$Q615=\"a-Si (tandem)\",$Q615=\"a-Si (triple)\"),3,2))))","v":1},{"$f":"IF($O615=\"Sunpower Corp.\",3,(IF(OR($Q615=\"mono\",$Q615=\"poly\",$Q615=\"HIT\",$Q615=\"EFG\",$Q615=\"mono-LGBC\"),1,2)))","v":1},{"$f":"IF($O615=\"Sunpower Corp.\",3,(IF(OR($Q615=\"mono\",$Q615=\"poly\",$Q615=\"HIT\",$Q615=\"EFG\",$Q615=\"mono-LGBC\"),1,IF(OR($Q615=\"µc-Si / a-Si\",$Q615=\"a-Si (single)\",$Q615=\"a-Si (tandem)\",$Q615=\"a-Si (triple)\"),3,2))))","v":1},0,null,null,18806,null,null,613]
["Anji Dasol Solar Energy Science & Technoloy DS-A5-210","Anji Dasol Solar Energy Science & Technoloy ","DS-A5-210",200,"+...",34.799999999999997,6.03,43.2,6.75,-164.16,6.75,null,1000,null,null,12.760310173034668,"poly",null,"square",1580,992,46,"aluminum",null,19.5,"www.dasol.cn","-","-","-","-","-",{"$f":"IF($O616=\"Sunpower Corp.\",3,(IF(OR($Q616=\"mono\",$Q616=\"poly\",$Q616=\"HIT\",$Q616=\"EFG\",$Q616=\"mono-LGBC\"),1,IF(OR($Q616=\"µc-Si / a-Si\",$Q616=\"a-Si (single)\",$Q616=\"a-Si (tandem)\",$Q616=\"a-Si (triple)\"),3,2))))","v":1},{"$f":"IF($O616=\"Sunpower Corp.\",3,(IF(OR($Q616=\"mono\",$Q616=\"poly\",$Q616=\"HIT\",$Q616=\"EFG\",$Q616=\"mono-LGBC\"),1,2)))","v":1},{"$f":"IF($O616=\"Sunpower Corp.\",3,(IF(OR($Q616=\"mono\",$Q616=\"poly\",$Q616=\"HIT\",$Q616=\"EFG\",$Q616=\"mono-LGBC\"),1,IF(OR($Q616=\"µc-Si / a-Si\",$Q616=\"a-Si (single)\",$Q616=\"a-Si (tandem)\",$Q616=\"a-Si (triple)\"),3,2))))","v":1},0,null,null,18807,null,null,614]
["Anji Dasol Solar Energy Science & Technoloy DS-A5-220","Anji Dasol Solar Energy Science & Technoloy ","DS-A5-220",220,"+...",34.799999999999997,6.32,43.2,7.07,-164.16,7.07,null,1000,null,null,13.359889984130859,"poly",null,"square",1660,992,46,"aluminum",null,19.5,"www.dasol.cn","-","-","-","-","-",{"$f":"IF($O617=\"Sunpower Corp.\",3,(IF(OR($Q617=\"mono\",$Q617=\"poly\",$Q617=\"HIT\",$Q617=\"EFG\",$Q617=\"mono-LGBC\"),1,IF(OR($Q617=\"µc-Si / a-Si\",$Q617=\"a-Si (single)\",$Q617=\"a-Si (tandem)\",$Q617=\"a-Si (triple)\"),3,2))))","v":1},{"$f":"IF($O617=\"Sunpower Corp.\",3,(IF(OR($Q617=\"mono\",$Q617=\"poly\",$Q617=\"HIT\",$Q617=\"EFG\",$Q617=\"mono-LGBC\"),1,2)))","v":1},{"$f":"IF($O617=\"Sunpower Corp.\",3,(IF(OR($Q617=\"mono\",$Q617=\"poly\",$Q617=\"HIT\",$Q617=\"EFG\",$Q617=\"mono-LGBC\"),1,IF(OR($Q617=\"µc-Si / a-Si\",$Q617=\"a-Si (single)\",$Q617=\"a-Si (tandem)\",$Q617=\"a-Si (triple)\"),3,2))))","v":1},0,null,null,18808,null,null,615]
["Anji Dasol Solar Energy Science & Technoloy DS-A5-230","Anji Dasol Solar Energy Science & Technoloy ","DS-A5-230",230,"+...",34.200000000000003,6.73,42.4,7.64,-161.12,7.64,null,1000,null,null,11.829330444335938,"mono",null,"pseudo-square",1960,992,50,"aluminum","cable MC",27,"www.dasol.cn","-","-","-","-","-",{"$f":"IF($O618=\"Sunpower Corp.\",3,(IF(OR($Q618=\"mono\",$Q618=\"poly\",$Q618=\"HIT\",$Q618=\"EFG\",$Q618=\"mono-LGBC\"),1,IF(OR($Q618=\"µc-Si / a-Si\",$Q618=\"a-Si (single)\",$Q618=\"a-Si (tandem)\",$Q618=\"a-Si (triple)\"),3,2))))","v":1},{"$f":"IF($O618=\"Sunpower Corp.\",3,(IF(OR($Q618=\"mono\",$Q618=\"poly\",$Q618=\"HIT\",$Q618=\"EFG\",$Q618=\"mono-LGBC\"),1,2)))","v":1},{"$f":"IF($O618=\"Sunpower Corp.\",3,(IF(OR($Q618=\"mono\",$Q618=\"poly\",$Q618=\"HIT\",$Q618=\"EFG\",$Q618=\"mono-LGBC\"),1,IF(OR($Q618=\"µc-Si / a-Si\",$Q618=\"a-Si (single)\",$Q618=\"a-Si (tandem)\",$Q618=\"a-Si (triple)\"),3,2))))","v":1},0,null,null,7571,null,null,616]
["Anji Dasol Solar Energy Science & Technoloy DS-A5-235","Anji Dasol Solar Energy Science & Technoloy ","DS-A5-235",235,"+...",34.4,6.84,42.6,7.76,-161.88,7.76,null,1000,null,null,12.086489677429199,"mono",null,"pseudo-square",1960,992,50,"aluminum","cable MC",27,"www.dasol.cn","-","-","-","-","-",{"$f":"IF($O619=\"Sunpower Corp.\",3,(IF(OR($Q619=\"mono\",$Q619=\"poly\",$Q619=\"HIT\",$Q619=\"EFG\",$Q619=\"mono-LGBC\"),1,IF(OR($Q619=\"µc-Si / a-Si\",$Q619=\"a-Si (single)\",$Q619=\"a-Si (tandem)\",$Q619=\"a-Si (triple)\"),3,2))))","v":1},{"$f":"IF($O619=\"Sunpower Corp.\",3,(IF(OR($Q619=\"mono\",$Q619=\"poly\",$Q619=\"HIT\",$Q619=\"EFG\",$Q619=\"mono-LGBC\"),1,2)))","v":1},{"$f":"IF($O619=\"Sunpower Corp.\",3,(IF(OR($Q619=\"mono\",$Q619=\"poly\",$Q619=\"HIT\",$Q619=\"EFG\",$Q619=\"mono-LGBC\"),1,IF(OR($Q619=\"µc-Si / a-Si\",$Q619=\"a-Si (single)\",$Q619=\"a-Si (tandem)\",$Q619=\"a-Si (triple)\"),3,2))))","v":1},0,null,null,7569,null,null,617]
["Anji Dasol Solar Energy Science & Technoloy DS-A5-240","Anji Dasol Solar Energy Science & Technoloy ","DS-A5-240",240,"+...",34.6,6.94,42.8,7.89,-162.63999999999999,7.89,null,1000,null,null,12.343649864196777,"mono",null,"pseudo-square",1960,992,50,"aluminum","cable MC",27,"www.dasol.cn","-","-","-","-","-",{"$f":"IF($O620=\"Sunpower Corp.\",3,(IF(OR($Q620=\"mono\",$Q620=\"poly\",$Q620=\"HIT\",$Q620=\"EFG\",$Q620=\"mono-LGBC\"),1,IF(OR($Q620=\"µc-Si / a-Si\",$Q620=\"a-Si (single)\",$Q620=\"a-Si (tandem)\",$Q620=\"a-Si (triple)\"),3,2))))","v":1},{"$f":"IF($O620=\"Sunpower Corp.\",3,(IF(OR($Q620=\"mono\",$Q620=\"poly\",$Q620=\"HIT\",$Q620=\"EFG\",$Q620=\"mono-LGBC\"),1,2)))","v":1},{"$f":"IF($O620=\"Sunpower Corp.\",3,(IF(OR($Q620=\"mono\",$Q620=\"poly\",$Q620=\"HIT\",$Q620=\"EFG\",$Q620=\"mono-LGBC\"),1,IF(OR($Q620=\"µc-Si / a-Si\",$Q620=\"a-Si (single)\",$Q620=\"a-Si (tandem)\",$Q620=\"a-Si (triple)\"),3,2))))","v":1},0,null,null,7570,null,null,618]
["Anji Dasol Solar Energy Science & Technoloy DS-A5-245","Anji Dasol Solar Energy Science & Technoloy ","DS-A5-245",245,"+5...-5",34.799999999999997,7.05,43,8.02,-163.4,8.02,null,1000,null,null,12.600810050964355,"mono",72,"pseudo-square",1960,992,50,"aluminum","cable MC",27,"www.dasol.cn","-","-","-","-","-",{"$f":"IF($O621=\"Sunpower Corp.\",3,(IF(OR($Q621=\"mono\",$Q621=\"poly\",$Q621=\"HIT\",$Q621=\"EFG\",$Q621=\"mono-LGBC\"),1,IF(OR($Q621=\"µc-Si / a-Si\",$Q621=\"a-Si (single)\",$Q621=\"a-Si (tandem)\",$Q621=\"a-Si (triple)\"),3,2))))","v":1},{"$f":"IF($O621=\"Sunpower Corp.\",3,(IF(OR($Q621=\"mono\",$Q621=\"poly\",$Q621=\"HIT\",$Q621=\"EFG\",$Q621=\"mono-LGBC\"),1,2)))","v":1},{"$f":"IF($O621=\"Sunpower Corp.\",3,(IF(OR($Q621=\"mono\",$Q621=\"poly\",$Q621=\"HIT\",$Q621=\"EFG\",$Q621=\"mono-LGBC\"),1,IF(OR($Q621=\"µc-Si / a-Si\",$Q621=\"a-Si (single)\",$Q621=\"a-Si (tandem)\",$Q621=\"a-Si (triple)\"),3,2))))","v":1},0,null,null,4750,null,null,619]
["Anji Dasol Solar Energy Science & Technoloy DS-A5-250","Anji Dasol Solar Energy Science & Technoloy ","DS-A5-250",250,"+5...-5",35,7.15,43.2,8.0299999999999994,-164.16,8.0299999999999994,null,1000,null,null,12.857970237731934,"mono",72,"pseudo-square",1960,992,50,"aluminum","cable MC",27,"www.dasol.cn","-","-","-","-","-",{"$f":"IF($O622=\"Sunpower Corp.\",3,(IF(OR($Q622=\"mono\",$Q622=\"poly\",$Q622=\"HIT\",$Q622=\"EFG\",$Q622=\"mono-LGBC\"),1,IF(OR($Q622=\"µc-Si / a-Si\",$Q622=\"a-Si (single)\",$Q622=\"a-Si (tandem)\",$Q622=\"a-Si (triple)\"),3,2))))","v":1},{"$f":"IF($O622=\"Sunpower Corp.\",3,(IF(OR($Q622=\"mono\",$Q622=\"poly\",$Q622=\"HIT\",$Q622=\"EFG\",$Q622=\"mono-LGBC\"),1,2)))","v":1},{"$f":"IF($O622=\"Sunpower Corp.\",3,(IF(OR($Q622=\"mono\",$Q622=\"poly\",$Q622=\"HIT\",$Q622=\"EFG\",$Q622=\"mono-LGBC\"),1,IF(OR($Q622=\"µc-Si / a-Si\",$Q622=\"a-Si (single)\",$Q622=\"a-Si (tandem)\",$Q622=\"a-Si (triple)\"),3,2))))","v":1},0,null,null,4751,null,null,620]
["Anji Dasol Solar Energy Science & Technoloy DS-A5-255","Anji Dasol Solar Energy Science & Technoloy ","DS-A5-255",255,"+5...-5",35.200000000000003,7.25,43.5,7.93,-165.3,7.93,null,1000,null,null,13.115119934082031,"mono",72,"pseudo-square",1960,992,50,"aluminum","cable MC",27,"www.dasol.cn","-","-","-","-","-",{"$f":"IF($O623=\"Sunpower Corp.\",3,(IF(OR($Q623=\"mono\",$Q623=\"poly\",$Q623=\"HIT\",$Q623=\"EFG\",$Q623=\"mono-LGBC\"),1,IF(OR($Q623=\"µc-Si / a-Si\",$Q623=\"a-Si (single)\",$Q623=\"a-Si (tandem)\",$Q623=\"a-Si (triple)\"),3,2))))","v":1},{"$f":"IF($O623=\"Sunpower Corp.\",3,(IF(OR($Q623=\"mono\",$Q623=\"poly\",$Q623=\"HIT\",$Q623=\"EFG\",$Q623=\"mono-LGBC\"),1,2)))","v":1},{"$f":"IF($O623=\"Sunpower Corp.\",3,(IF(OR($Q623=\"mono\",$Q623=\"poly\",$Q623=\"HIT\",$Q623=\"EFG\",$Q623=\"mono-LGBC\"),1,IF(OR($Q623=\"µc-Si / a-Si\",$Q623=\"a-Si (single)\",$Q623=\"a-Si (tandem)\",$Q623=\"a-Si (triple)\"),3,2))))","v":1},0,null,null,4752,null,null,621]
["Anji Dasol Solar Energy Science & Technoloy DS-A5-260","Anji Dasol Solar Energy Science & Technoloy ","DS-A5-260",260,"+5...-5",35.4,7.35,43.7,8.0500000000000007,-166.06,8.0500000000000007,null,1000,null,null,13.372280120849609,"mono",72,"pseudo-square",1960,992,50,"aluminum","cable MC",27,"www.dasol.cn","-","-","-","-","-",{"$f":"IF($O624=\"Sunpower Corp.\",3,(IF(OR($Q624=\"mono\",$Q624=\"poly\",$Q624=\"HIT\",$Q624=\"EFG\",$Q624=\"mono-LGBC\"),1,IF(OR($Q624=\"µc-Si / a-Si\",$Q624=\"a-Si (single)\",$Q624=\"a-Si (tandem)\",$Q624=\"a-Si (triple)\"),3,2))))","v":1},{"$f":"IF($O624=\"Sunpower Corp.\",3,(IF(OR($Q624=\"mono\",$Q624=\"poly\",$Q624=\"HIT\",$Q624=\"EFG\",$Q624=\"mono-LGBC\"),1,2)))","v":1},{"$f":"IF($O624=\"Sunpower Corp.\",3,(IF(OR($Q624=\"mono\",$Q624=\"poly\",$Q624=\"HIT\",$Q624=\"EFG\",$Q624=\"mono-LGBC\"),1,IF(OR($Q624=\"µc-Si / a-Si\",$Q624=\"a-Si (single)\",$Q624=\"a-Si (tandem)\",$Q624=\"a-Si (triple)\"),3,2))))","v":1},0,null,null,4753,null,null,622]
["Anji Dasol Solar Energy Science & Technoloy DS-A5-265","Anji Dasol Solar Energy Science & Technoloy ","DS-A5-265",265,"+5...-5",35.6,7.45,43.9,8.16,-166.82,8.16,null,1000,null,null,13.629440307617188,"mono",72,"pseudo-square",1960,992,50,"aluminum","cable MC",27,"www.dasol.cn","-","-","-","-","-",{"$f":"IF($O625=\"Sunpower Corp.\",3,(IF(OR($Q625=\"mono\",$Q625=\"poly\",$Q625=\"HIT\",$Q625=\"EFG\",$Q625=\"mono-LGBC\"),1,IF(OR($Q625=\"µc-Si / a-Si\",$Q625=\"a-Si (single)\",$Q625=\"a-Si (tandem)\",$Q625=\"a-Si (triple)\"),3,2))))","v":1},{"$f":"IF($O625=\"Sunpower Corp.\",3,(IF(OR($Q625=\"mono\",$Q625=\"poly\",$Q625=\"HIT\",$Q625=\"EFG\",$Q625=\"mono-LGBC\"),1,2)))","v":1},{"$f":"IF($O625=\"Sunpower Corp.\",3,(IF(OR($Q625=\"mono\",$Q625=\"poly\",$Q625=\"HIT\",$Q625=\"EFG\",$Q625=\"mono-LGBC\"),1,IF(OR($Q625=\"µc-Si / a-Si\",$Q625=\"a-Si (single)\",$Q625=\"a-Si (tandem)\",$Q625=\"a-Si (triple)\"),3,2))))","v":1},0,null,null,4754,null,null,623]
["Anji Dasol Solar Energy Science & Technoloy DS-A5-270","Anji Dasol Solar Energy Science & Technoloy ","DS-A5-270",270,"+5...-5",35.799999999999997,7.55,44.1,8.17,-167.58,8.17,null,1000,null,null,13.886599540710449,"mono",72,"pseudo-square",1960,992,50,"aluminum","cable MC",27,"www.dasol.cn","-","-","-","-","-",{"$f":"IF($O626=\"Sunpower Corp.\",3,(IF(OR($Q626=\"mono\",$Q626=\"poly\",$Q626=\"HIT\",$Q626=\"EFG\",$Q626=\"mono-LGBC\"),1,IF(OR($Q626=\"µc-Si / a-Si\",$Q626=\"a-Si (single)\",$Q626=\"a-Si (tandem)\",$Q626=\"a-Si (triple)\"),3,2))))","v":1},{"$f":"IF($O626=\"Sunpower Corp.\",3,(IF(OR($Q626=\"mono\",$Q626=\"poly\",$Q626=\"HIT\",$Q626=\"EFG\",$Q626=\"mono-LGBC\"),1,2)))","v":1},{"$f":"IF($O626=\"Sunpower Corp.\",3,(IF(OR($Q626=\"mono\",$Q626=\"poly\",$Q626=\"HIT\",$Q626=\"EFG\",$Q626=\"mono-LGBC\"),1,IF(OR($Q626=\"µc-Si / a-Si\",$Q626=\"a-Si (single)\",$Q626=\"a-Si (tandem)\",$Q626=\"a-Si (triple)\"),3,2))))","v":1},0,null,null,4755,null,null,624]
["Anji Dasol Solar Energy Science & Technoloy DS-A5-275","Anji Dasol Solar Energy Science & Technoloy ","DS-A5-275",275,"+5...-5",36,7.65,44.3,8.2799999999999994,-168.34,8.2799999999999994,null,1000,null,null,14.143759727478027,"mono",72,"pseudo-square",1960,992,50,"aluminum","cable MC",27,"www.dasol.cn","-","-","-","-","-",{"$f":"IF($O627=\"Sunpower Corp.\",3,(IF(OR($Q627=\"mono\",$Q627=\"poly\",$Q627=\"HIT\",$Q627=\"EFG\",$Q627=\"mono-LGBC\"),1,IF(OR($Q627=\"µc-Si / a-Si\",$Q627=\"a-Si (single)\",$Q627=\"a-Si (tandem)\",$Q627=\"a-Si (triple)\"),3,2))))","v":1},{"$f":"IF($O627=\"Sunpower Corp.\",3,(IF(OR($Q627=\"mono\",$Q627=\"poly\",$Q627=\"HIT\",$Q627=\"EFG\",$Q627=\"mono-LGBC\"),1,2)))","v":1},{"$f":"IF($O627=\"Sunpower Corp.\",3,(IF(OR($Q627=\"mono\",$Q627=\"poly\",$Q627=\"HIT\",$Q627=\"EFG\",$Q627=\"mono-LGBC\"),1,IF(OR($Q627=\"µc-Si / a-Si\",$Q627=\"a-Si (single)\",$Q627=\"a-Si (tandem)\",$Q627=\"a-Si (triple)\"),3,2))))","v":1},0,null,null,4756,null,null,625]
["Anji Dasol Solar Energy Science & Technoloy DS-A5-280","Anji Dasol Solar Energy Science & Technoloy ","DS-A5-280",280,"+5...-5",36.200000000000003,7.75,44.5,8.39,-169.1,8.39,null,1000,null,null,14.400919914245605,"mono",72,"pseudo-square",1960,992,50,"aluminum","cable MC",27,"www.dasol.cn","-","-","-","-","-",{"$f":"IF($O628=\"Sunpower Corp.\",3,(IF(OR($Q628=\"mono\",$Q628=\"poly\",$Q628=\"HIT\",$Q628=\"EFG\",$Q628=\"mono-LGBC\"),1,IF(OR($Q628=\"µc-Si / a-Si\",$Q628=\"a-Si (single)\",$Q628=\"a-Si (tandem)\",$Q628=\"a-Si (triple)\"),3,2))))","v":1},{"$f":"IF($O628=\"Sunpower Corp.\",3,(IF(OR($Q628=\"mono\",$Q628=\"poly\",$Q628=\"HIT\",$Q628=\"EFG\",$Q628=\"mono-LGBC\"),1,2)))","v":1},{"$f":"IF($O628=\"Sunpower Corp.\",3,(IF(OR($Q628=\"mono\",$Q628=\"poly\",$Q628=\"HIT\",$Q628=\"EFG\",$Q628=\"mono-LGBC\"),1,IF(OR($Q628=\"µc-Si / a-Si\",$Q628=\"a-Si (single)\",$Q628=\"a-Si (tandem)\",$Q628=\"a-Si (triple)\"),3,2))))","v":1},0,null,null,4757,null,null,626]
["Anji Dasol Solar Energy Science & Technoloy DS-A5-290","Anji Dasol Solar Energy Science & Technoloy ","DS-A5-290",290,"+5...-5",36.5,7.94,44.9,8.61,-170.62,8.61,null,1000,null,null,14.915240287780762,"mono",72,"pseudo-square",1960,992,50,"aluminum","cable MC",27,"www.dasol.cn","-","-","-","-","-",{"$f":"IF($O629=\"Sunpower Corp.\",3,(IF(OR($Q629=\"mono\",$Q629=\"poly\",$Q629=\"HIT\",$Q629=\"EFG\",$Q629=\"mono-LGBC\"),1,IF(OR($Q629=\"µc-Si / a-Si\",$Q629=\"a-Si (single)\",$Q629=\"a-Si (tandem)\",$Q629=\"a-Si (triple)\"),3,2))))","v":1},{"$f":"IF($O629=\"Sunpower Corp.\",3,(IF(OR($Q629=\"mono\",$Q629=\"poly\",$Q629=\"HIT\",$Q629=\"EFG\",$Q629=\"mono-LGBC\"),1,2)))","v":1},{"$f":"IF($O629=\"Sunpower Corp.\",3,(IF(OR($Q629=\"mono\",$Q629=\"poly\",$Q629=\"HIT\",$Q629=\"EFG\",$Q629=\"mono-LGBC\"),1,IF(OR($Q629=\"µc-Si / a-Si\",$Q629=\"a-Si (single)\",$Q629=\"a-Si (tandem)\",$Q629=\"a-Si (triple)\"),3,2))))","v":1},0,null,null,4866,null,null,627]
["Anji Dasol Solar Energy Science & Technoloy DS-B1-70","Anji Dasol Solar Energy Science & Technoloy ","DS-B1-70",70,"+5...-5",17.100000000000001,4.0999999999999996,21.2,4.4000000000000004,-80.56,4.4000000000000004,null,1000,null,null,10.703359603881836,"mono",36,"pseudo-square",1200,545,35,"aluminum","cable MC",7.8,"www.dasol.cn","-","-","-","-","-",{"$f":"IF($O630=\"Sunpower Corp.\",3,(IF(OR($Q630=\"mono\",$Q630=\"poly\",$Q630=\"HIT\",$Q630=\"EFG\",$Q630=\"mono-LGBC\"),1,IF(OR($Q630=\"µc-Si / a-Si\",$Q630=\"a-Si (single)\",$Q630=\"a-Si (tandem)\",$Q630=\"a-Si (triple)\"),3,2))))","v":1},{"$f":"IF($O630=\"Sunpower Corp.\",3,(IF(OR($Q630=\"mono\",$Q630=\"poly\",$Q630=\"HIT\",$Q630=\"EFG\",$Q630=\"mono-LGBC\"),1,2)))","v":1},{"$f":"IF($O630=\"Sunpower Corp.\",3,(IF(OR($Q630=\"mono\",$Q630=\"poly\",$Q630=\"HIT\",$Q630=\"EFG\",$Q630=\"mono-LGBC\"),1,IF(OR($Q630=\"µc-Si / a-Si\",$Q630=\"a-Si (single)\",$Q630=\"a-Si (tandem)\",$Q630=\"a-Si (triple)\"),3,2))))","v":1},0,null,null,4764,null,null,628]
["Anji Dasol Solar Energy Science & Technoloy DS-B1-75","Anji Dasol Solar Energy Science & Technoloy ","DS-B1-75",75,"+5...-5",17.399999999999999,4.3099999999999996,21.5,4.5999999999999996,-81.7,4.5999999999999996,null,1000,null,null,11.467889785766602,"mono",36,"pseudo-square",1200,545,35,"aluminum","cable MC",7.8,"www.dasol.cn","-","-","-","-","-",{"$f":"IF($O631=\"Sunpower Corp.\",3,(IF(OR($Q631=\"mono\",$Q631=\"poly\",$Q631=\"HIT\",$Q631=\"EFG\",$Q631=\"mono-LGBC\"),1,IF(OR($Q631=\"µc-Si / a-Si\",$Q631=\"a-Si (single)\",$Q631=\"a-Si (tandem)\",$Q631=\"a-Si (triple)\"),3,2))))","v":1},{"$f":"IF($O631=\"Sunpower Corp.\",3,(IF(OR($Q631=\"mono\",$Q631=\"poly\",$Q631=\"HIT\",$Q631=\"EFG\",$Q631=\"mono-LGBC\"),1,2)))","v":1},{"$f":"IF($O631=\"Sunpower Corp.\",3,(IF(OR($Q631=\"mono\",$Q631=\"poly\",$Q631=\"HIT\",$Q631=\"EFG\",$Q631=\"mono-LGBC\"),1,IF(OR($Q631=\"µc-Si / a-Si\",$Q631=\"a-Si (single)\",$Q631=\"a-Si (tandem)\",$Q631=\"a-Si (triple)\"),3,2))))","v":1},0,null,null,4765,null,null,629]
["Anji Dasol Solar Energy Science & Technoloy DS-B1-80","Anji Dasol Solar Energy Science & Technoloy ","DS-B1-80",80,"+5...-5",17.7,4.51,21.9,4.9000000000000004,-83.22,4.9000000000000004,null,1000,null,null,12.232419967651367,"mono",36,"pseudo-square",1200,545,35,"aluminum","cable MC",7.8,"www.dasol.cn","-","-","-","-","-",{"$f":"IF($O632=\"Sunpower Corp.\",3,(IF(OR($Q632=\"mono\",$Q632=\"poly\",$Q632=\"HIT\",$Q632=\"EFG\",$Q632=\"mono-LGBC\"),1,IF(OR($Q632=\"µc-Si / a-Si\",$Q632=\"a-Si (single)\",$Q632=\"a-Si (tandem)\",$Q632=\"a-Si (triple)\"),3,2))))","v":1},{"$f":"IF($O632=\"Sunpower Corp.\",3,(IF(OR($Q632=\"mono\",$Q632=\"poly\",$Q632=\"HIT\",$Q632=\"EFG\",$Q632=\"mono-LGBC\"),1,2)))","v":1},{"$f":"IF($O632=\"Sunpower Corp.\",3,(IF(OR($Q632=\"mono\",$Q632=\"poly\",$Q632=\"HIT\",$Q632=\"EFG\",$Q632=\"mono-LGBC\"),1,IF(OR($Q632=\"µc-Si / a-Si\",$Q632=\"a-Si (single)\",$Q632=\"a-Si (tandem)\",$Q632=\"a-Si (triple)\"),3,2))))","v":1},0,null,null,4766,null,null,630]
["Anji Dasol Solar Energy Science & Technoloy DS-B1-85","Anji Dasol Solar Energy Science & Technoloy ","DS-B1-85",85,"+5...-5",18.100000000000001,4.71,22.2,5.0999999999999996,-84.36,5.0999999999999996,null,1000,null,null,12.996939659118652,"mono",36,"pseudo-square",1200,545,35,"aluminum","cable MC",7.8,"www.dasol.cn","-","-","-","-","-",{"$f":"IF($O633=\"Sunpower Corp.\",3,(IF(OR($Q633=\"mono\",$Q633=\"poly\",$Q633=\"HIT\",$Q633=\"EFG\",$Q633=\"mono-LGBC\"),1,IF(OR($Q633=\"µc-Si / a-Si\",$Q633=\"a-Si (single)\",$Q633=\"a-Si (tandem)\",$Q633=\"a-Si (triple)\"),3,2))))","v":1},{"$f":"IF($O633=\"Sunpower Corp.\",3,(IF(OR($Q633=\"mono\",$Q633=\"poly\",$Q633=\"HIT\",$Q633=\"EFG\",$Q633=\"mono-LGBC\"),1,2)))","v":1},{"$f":"IF($O633=\"Sunpower Corp.\",3,(IF(OR($Q633=\"mono\",$Q633=\"poly\",$Q633=\"HIT\",$Q633=\"EFG\",$Q633=\"mono-LGBC\"),1,IF(OR($Q633=\"µc-Si / a-Si\",$Q633=\"a-Si (single)\",$Q633=\"a-Si (tandem)\",$Q633=\"a-Si (triple)\"),3,2))))","v":1},0,null,null,4767,null,null,631]
["Anji Dasol Solar Energy Science & Technoloy DS-B1-90","Anji Dasol Solar Energy Science & Technoloy ","DS-B1-90",90,"+5...-5",18.399999999999999,4.9000000000000004,22.6,5.3,-85.88,5.3,null,1000,null,null,13.761469841003418,"mono",36,"pseudo-square",1200,545,35,"aluminum","cable MC",7.8,"www.dasol.cn","-","-","-","-","-",{"$f":"IF($O634=\"Sunpower Corp.\",3,(IF(OR($Q634=\"mono\",$Q634=\"poly\",$Q634=\"HIT\",$Q634=\"EFG\",$Q634=\"mono-LGBC\"),1,IF(OR($Q634=\"µc-Si / a-Si\",$Q634=\"a-Si (single)\",$Q634=\"a-Si (tandem)\",$Q634=\"a-Si (triple)\"),3,2))))","v":1},{"$f":"IF($O634=\"Sunpower Corp.\",3,(IF(OR($Q634=\"mono\",$Q634=\"poly\",$Q634=\"HIT\",$Q634=\"EFG\",$Q634=\"mono-LGBC\"),1,2)))","v":1},{"$f":"IF($O634=\"Sunpower Corp.\",3,(IF(OR($Q634=\"mono\",$Q634=\"poly\",$Q634=\"HIT\",$Q634=\"EFG\",$Q634=\"mono-LGBC\"),1,IF(OR($Q634=\"µc-Si / a-Si\",$Q634=\"a-Si (single)\",$Q634=\"a-Si (tandem)\",$Q634=\"a-Si (triple)\"),3,2))))","v":1},0,null,null,4768,null,null,632]
["Anji Dasol Solar Energy Science & Technoloy DS-B2-100","Anji Dasol Solar Energy Science & Technoloy ","DS-B2-100",100,"+5...-5",23.2,4.3099999999999996,28.7,4.8,-109.06,4.8,null,1000,null,null,11.566579818725586,"mono",48,"pseudo-square",1070,808,40,"aluminum","cable MC",10.5,"www.dasol.cn","-","-","-","-","-",{"$f":"IF($O635=\"Sunpower Corp.\",3,(IF(OR($Q635=\"mono\",$Q635=\"poly\",$Q635=\"HIT\",$Q635=\"EFG\",$Q635=\"mono-LGBC\"),1,IF(OR($Q635=\"µc-Si / a-Si\",$Q635=\"a-Si (single)\",$Q635=\"a-Si (tandem)\",$Q635=\"a-Si (triple)\"),3,2))))","v":1},{"$f":"IF($O635=\"Sunpower Corp.\",3,(IF(OR($Q635=\"mono\",$Q635=\"poly\",$Q635=\"HIT\",$Q635=\"EFG\",$Q635=\"mono-LGBC\"),1,2)))","v":1},{"$f":"IF($O635=\"Sunpower Corp.\",3,(IF(OR($Q635=\"mono\",$Q635=\"poly\",$Q635=\"HIT\",$Q635=\"EFG\",$Q635=\"mono-LGBC\"),1,IF(OR($Q635=\"µc-Si / a-Si\",$Q635=\"a-Si (single)\",$Q635=\"a-Si (tandem)\",$Q635=\"a-Si (triple)\"),3,2))))","v":1},0,null,null,4777,null,null,633]
["Anji Dasol Solar Energy Science & Technoloy DS-B2-105","Anji Dasol Solar Energy Science & Technoloy ","DS-B2-105",105,"+5...-5",23.5,4.46,29.1,4.9000000000000004,-110.58,4.9000000000000004,null,1000,null,null,12.144909858703613,"mono",48,"pseudo-square",1070,808,40,"aluminum","cable MC",10.5,"www.dasol.cn","-","-","-","-","-",{"$f":"IF($O636=\"Sunpower Corp.\",3,(IF(OR($Q636=\"mono\",$Q636=\"poly\",$Q636=\"HIT\",$Q636=\"EFG\",$Q636=\"mono-LGBC\"),1,IF(OR($Q636=\"µc-Si / a-Si\",$Q636=\"a-Si (single)\",$Q636=\"a-Si (tandem)\",$Q636=\"a-Si (triple)\"),3,2))))","v":1},{"$f":"IF($O636=\"Sunpower Corp.\",3,(IF(OR($Q636=\"mono\",$Q636=\"poly\",$Q636=\"HIT\",$Q636=\"EFG\",$Q636=\"mono-LGBC\"),1,2)))","v":1},{"$f":"IF($O636=\"Sunpower Corp.\",3,(IF(OR($Q636=\"mono\",$Q636=\"poly\",$Q636=\"HIT\",$Q636=\"EFG\",$Q636=\"mono-LGBC\"),1,IF(OR($Q636=\"µc-Si / a-Si\",$Q636=\"a-Si (single)\",$Q636=\"a-Si (tandem)\",$Q636=\"a-Si (triple)\"),3,2))))","v":1},0,null,null,4868,null,null,634]
["Anji Dasol Solar Energy Science & Technoloy DS-B2-110","Anji Dasol Solar Energy Science & Technoloy ","DS-B2-110",110,"+5...-5",23.9,4.6100000000000003,29.4,5,-111.72,5,null,1000,null,null,12.723239898681641,"mono",48,"pseudo-square",1070,808,40,"aluminum","cable MC",10.5,"www.dasol.cn","-","-","-","-","-",{"$f":"IF($O637=\"Sunpower Corp.\",3,(IF(OR($Q637=\"mono\",$Q637=\"poly\",$Q637=\"HIT\",$Q637=\"EFG\",$Q637=\"mono-LGBC\"),1,IF(OR($Q637=\"µc-Si / a-Si\",$Q637=\"a-Si (single)\",$Q637=\"a-Si (tandem)\",$Q637=\"a-Si (triple)\"),3,2))))","v":1},{"$f":"IF($O637=\"Sunpower Corp.\",3,(IF(OR($Q637=\"mono\",$Q637=\"poly\",$Q637=\"HIT\",$Q637=\"EFG\",$Q637=\"mono-LGBC\"),1,2)))","v":1},{"$f":"IF($O637=\"Sunpower Corp.\",3,(IF(OR($Q637=\"mono\",$Q637=\"poly\",$Q637=\"HIT\",$Q637=\"EFG\",$Q637=\"mono-LGBC\"),1,IF(OR($Q637=\"µc-Si / a-Si\",$Q637=\"a-Si (single)\",$Q637=\"a-Si (tandem)\",$Q637=\"a-Si (triple)\"),3,2))))","v":1},0,null,null,4778,null,null,635]
["Anji Dasol Solar Energy Science & Technoloy DS-B2-115","Anji Dasol Solar Energy Science & Technoloy ","DS-B2-115",115,"+5...-5",24.2,4.76,29.7,5.2,-112.86,5.2,null,1000,null,null,13.301560401916504,"mono",48,"pseudo-square",1070,808,40,"aluminum","cable MC",10.5,"www.dasol.cn","-","-","-","-","-",{"$f":"IF($O638=\"Sunpower Corp.\",3,(IF(OR($Q638=\"mono\",$Q638=\"poly\",$Q638=\"HIT\",$Q638=\"EFG\",$Q638=\"mono-LGBC\"),1,IF(OR($Q638=\"µc-Si / a-Si\",$Q638=\"a-Si (single)\",$Q638=\"a-Si (tandem)\",$Q638=\"a-Si (triple)\"),3,2))))","v":1},{"$f":"IF($O638=\"Sunpower Corp.\",3,(IF(OR($Q638=\"mono\",$Q638=\"poly\",$Q638=\"HIT\",$Q638=\"EFG\",$Q638=\"mono-LGBC\"),1,2)))","v":1},{"$f":"IF($O638=\"Sunpower Corp.\",3,(IF(OR($Q638=\"mono\",$Q638=\"poly\",$Q638=\"HIT\",$Q638=\"EFG\",$Q638=\"mono-LGBC\"),1,IF(OR($Q638=\"µc-Si / a-Si\",$Q638=\"a-Si (single)\",$Q638=\"a-Si (tandem)\",$Q638=\"a-Si (triple)\"),3,2))))","v":1},0,null,null,4869,null,null,636]
["Anji Dasol Solar Energy Science & Technoloy DS-B2-120","Anji Dasol Solar Energy Science & Technoloy ","DS-B2-120",120,"+5...-5",24.5,4.9000000000000004,30.1,5.3,-114.38,5.3,null,1000,null,null,13.879890441894531,"mono",48,"pseudo-square",1070,808,40,"aluminum","cable MC",10.5,"www.dasol.cn","-","-","-","-","-",{"$f":"IF($O639=\"Sunpower Corp.\",3,(IF(OR($Q639=\"mono\",$Q639=\"poly\",$Q639=\"HIT\",$Q639=\"EFG\",$Q639=\"mono-LGBC\"),1,IF(OR($Q639=\"µc-Si / a-Si\",$Q639=\"a-Si (single)\",$Q639=\"a-Si (tandem)\",$Q639=\"a-Si (triple)\"),3,2))))","v":1},{"$f":"IF($O639=\"Sunpower Corp.\",3,(IF(OR($Q639=\"mono\",$Q639=\"poly\",$Q639=\"HIT\",$Q639=\"EFG\",$Q639=\"mono-LGBC\"),1,2)))","v":1},{"$f":"IF($O639=\"Sunpower Corp.\",3,(IF(OR($Q639=\"mono\",$Q639=\"poly\",$Q639=\"HIT\",$Q639=\"EFG\",$Q639=\"mono-LGBC\"),1,IF(OR($Q639=\"µc-Si / a-Si\",$Q639=\"a-Si (single)\",$Q639=\"a-Si (tandem)\",$Q639=\"a-Si (triple)\"),3,2))))","v":1},0,null,null,4779,null,null,637]
["Anji Dasol Solar Energy Science & Technoloy DS-B2-55","Anji Dasol Solar Energy Science & Technoloy ","DS-B2-55",55,"+5...-5",23.9,2.31,29.4,2.5,-111.72,2.5,null,1000,null,null,12.307000160217285,"mono",48,"pseudo-square",820,545,35,"aluminum","cable MC",5.4,"www.dasol.cn","-","-","-","-","-",{"$f":"IF($O640=\"Sunpower Corp.\",3,(IF(OR($Q640=\"mono\",$Q640=\"poly\",$Q640=\"HIT\",$Q640=\"EFG\",$Q640=\"mono-LGBC\"),1,IF(OR($Q640=\"µc-Si / a-Si\",$Q640=\"a-Si (single)\",$Q640=\"a-Si (tandem)\",$Q640=\"a-Si (triple)\"),3,2))))","v":1},{"$f":"IF($O640=\"Sunpower Corp.\",3,(IF(OR($Q640=\"mono\",$Q640=\"poly\",$Q640=\"HIT\",$Q640=\"EFG\",$Q640=\"mono-LGBC\"),1,2)))","v":1},{"$f":"IF($O640=\"Sunpower Corp.\",3,(IF(OR($Q640=\"mono\",$Q640=\"poly\",$Q640=\"HIT\",$Q640=\"EFG\",$Q640=\"mono-LGBC\"),1,IF(OR($Q640=\"µc-Si / a-Si\",$Q640=\"a-Si (single)\",$Q640=\"a-Si (tandem)\",$Q640=\"a-Si (triple)\"),3,2))))","v":1},0,null,null,4774,null,null,638]
["Anji Dasol Solar Energy Science & Technoloy DS-B2-60","Anji Dasol Solar Energy Science & Technoloy ","DS-B2-60",60,"+5...-5",24.5,2.4500000000000002,30.1,2.7,-114.38,2.7,null,1000,null,null,13.425820350646973,"mono",48,"pseudo-square",820,545,35,"aluminum","cable MC",5.4,"www.dasol.cn","-","-","-","-","-",{"$f":"IF($O641=\"Sunpower Corp.\",3,(IF(OR($Q641=\"mono\",$Q641=\"poly\",$Q641=\"HIT\",$Q641=\"EFG\",$Q641=\"mono-LGBC\"),1,IF(OR($Q641=\"µc-Si / a-Si\",$Q641=\"a-Si (single)\",$Q641=\"a-Si (tandem)\",$Q641=\"a-Si (triple)\"),3,2))))","v":1},{"$f":"IF($O641=\"Sunpower Corp.\",3,(IF(OR($Q641=\"mono\",$Q641=\"poly\",$Q641=\"HIT\",$Q641=\"EFG\",$Q641=\"mono-LGBC\"),1,2)))","v":1},{"$f":"IF($O641=\"Sunpower Corp.\",3,(IF(OR($Q641=\"mono\",$Q641=\"poly\",$Q641=\"HIT\",$Q641=\"EFG\",$Q641=\"mono-LGBC\"),1,IF(OR($Q641=\"µc-Si / a-Si\",$Q641=\"a-Si (single)\",$Q641=\"a-Si (tandem)\",$Q641=\"a-Si (triple)\"),3,2))))","v":1},0,null,null,4775,null,null,639]
["Anji Dasol Solar Energy Science & Technoloy DS-B2-90","Anji Dasol Solar Energy Science & Technoloy ","DS-B2-90",90,"+5...-5",22.6,3.99,28.1,4.5,-106.78,4.5,null,1000,null,null,10.409919738769531,"mono",48,"pseudo-square",1070,808,40,"aluminum","cable MC",10.5,"www.dasol.cn","-","-","-","-","-",{"$f":"IF($O642=\"Sunpower Corp.\",3,(IF(OR($Q642=\"mono\",$Q642=\"poly\",$Q642=\"HIT\",$Q642=\"EFG\",$Q642=\"mono-LGBC\"),1,IF(OR($Q642=\"µc-Si / a-Si\",$Q642=\"a-Si (single)\",$Q642=\"a-Si (tandem)\",$Q642=\"a-Si (triple)\"),3,2))))","v":1},{"$f":"IF($O642=\"Sunpower Corp.\",3,(IF(OR($Q642=\"mono\",$Q642=\"poly\",$Q642=\"HIT\",$Q642=\"EFG\",$Q642=\"mono-LGBC\"),1,2)))","v":1},{"$f":"IF($O642=\"Sunpower Corp.\",3,(IF(OR($Q642=\"mono\",$Q642=\"poly\",$Q642=\"HIT\",$Q642=\"EFG\",$Q642=\"mono-LGBC\"),1,IF(OR($Q642=\"µc-Si / a-Si\",$Q642=\"a-Si (single)\",$Q642=\"a-Si (tandem)\",$Q642=\"a-Si (triple)\"),3,2))))","v":1},0,null,null,4776,null,null,640]
["Anji Dasol Solar Energy Science & Technoloy DS-B2-95","Anji Dasol Solar Energy Science & Technoloy ","DS-B2-95",95,"+5...-5",22.9,4.1500000000000004,28.4,4.5999999999999996,-107.92,4.5999999999999996,null,1000,null,null,10.988249778747559,"mono",48,"pseudo-square",1070,808,40,"aluminum","cable MC",10.5,"www.dasol.cn","-","-","-","-","-",{"$f":"IF($O643=\"Sunpower Corp.\",3,(IF(OR($Q643=\"mono\",$Q643=\"poly\",$Q643=\"HIT\",$Q643=\"EFG\",$Q643=\"mono-LGBC\"),1,IF(OR($Q643=\"µc-Si / a-Si\",$Q643=\"a-Si (single)\",$Q643=\"a-Si (tandem)\",$Q643=\"a-Si (triple)\"),3,2))))","v":1},{"$f":"IF($O643=\"Sunpower Corp.\",3,(IF(OR($Q643=\"mono\",$Q643=\"poly\",$Q643=\"HIT\",$Q643=\"EFG\",$Q643=\"mono-LGBC\"),1,2)))","v":1},{"$f":"IF($O643=\"Sunpower Corp.\",3,(IF(OR($Q643=\"mono\",$Q643=\"poly\",$Q643=\"HIT\",$Q643=\"EFG\",$Q643=\"mono-LGBC\"),1,IF(OR($Q643=\"µc-Si / a-Si\",$Q643=\"a-Si (single)\",$Q643=\"a-Si (tandem)\",$Q643=\"a-Si (triple)\"),3,2))))","v":1},0,null,null,4867,null,null,641]
["Anji Dasol Solar Energy Science & Technoloy DS-B3-100","Anji Dasol Solar Energy Science & Technoloy ","DS-B3-100",100,"+5...-5",25.3,3.95,31.5,4.4000000000000004,-119.7,4.4000000000000004,null,1000,null,null,10.313529968261719,"mono",54,"pseudo-square",1200,808,40,"aluminum","cable MC",11.5,"www.dasol.cn","-","-","-","-","-",{"$f":"IF($O644=\"Sunpower Corp.\",3,(IF(OR($Q644=\"mono\",$Q644=\"poly\",$Q644=\"HIT\",$Q644=\"EFG\",$Q644=\"mono-LGBC\"),1,IF(OR($Q644=\"µc-Si / a-Si\",$Q644=\"a-Si (single)\",$Q644=\"a-Si (tandem)\",$Q644=\"a-Si (triple)\"),3,2))))","v":1},{"$f":"IF($O644=\"Sunpower Corp.\",3,(IF(OR($Q644=\"mono\",$Q644=\"poly\",$Q644=\"HIT\",$Q644=\"EFG\",$Q644=\"mono-LGBC\"),1,2)))","v":1},{"$f":"IF($O644=\"Sunpower Corp.\",3,(IF(OR($Q644=\"mono\",$Q644=\"poly\",$Q644=\"HIT\",$Q644=\"EFG\",$Q644=\"mono-LGBC\"),1,IF(OR($Q644=\"µc-Si / a-Si\",$Q644=\"a-Si (single)\",$Q644=\"a-Si (tandem)\",$Q644=\"a-Si (triple)\"),3,2))))","v":1},0,null,null,4780,null,null,642]
["Anji Dasol Solar Energy Science & Technoloy DS-B3-110","Anji Dasol Solar Energy Science & Technoloy ","DS-B3-110",110,"+5...-5",26,4.24,32.200000000000003,4.8,-122.36,4.8,null,1000,null,null,11.344880104064941,"mono",54,"pseudo-square",1200,808,40,"aluminum","cable MC",11.5,"www.dasol.cn","-","-","-","-","-",{"$f":"IF($O645=\"Sunpower Corp.\",3,(IF(OR($Q645=\"mono\",$Q645=\"poly\",$Q645=\"HIT\",$Q645=\"EFG\",$Q645=\"mono-LGBC\"),1,IF(OR($Q645=\"µc-Si / a-Si\",$Q645=\"a-Si (single)\",$Q645=\"a-Si (tandem)\",$Q645=\"a-Si (triple)\"),3,2))))","v":1},{"$f":"IF($O645=\"Sunpower Corp.\",3,(IF(OR($Q645=\"mono\",$Q645=\"poly\",$Q645=\"HIT\",$Q645=\"EFG\",$Q645=\"mono-LGBC\"),1,2)))","v":1},{"$f":"IF($O645=\"Sunpower Corp.\",3,(IF(OR($Q645=\"mono\",$Q645=\"poly\",$Q645=\"HIT\",$Q645=\"EFG\",$Q645=\"mono-LGBC\"),1,IF(OR($Q645=\"µc-Si / a-Si\",$Q645=\"a-Si (single)\",$Q645=\"a-Si (tandem)\",$Q645=\"a-Si (triple)\"),3,2))))","v":1},0,null,null,4781,null,null,643]
["Anji Dasol Solar Energy Science & Technoloy DS-B3-120","Anji Dasol Solar Energy Science & Technoloy ","DS-B3-120",120,"+5...-5",26.6,4.51,32.799999999999997,5,-124.64,5,null,1000,null,null,12.376239776611328,"mono",54,"pseudo-square",1200,808,40,"aluminum","cable MC",11.5,"www.dasol.cn","-","-","-","-","-",{"$f":"IF($O646=\"Sunpower Corp.\",3,(IF(OR($Q646=\"mono\",$Q646=\"poly\",$Q646=\"HIT\",$Q646=\"EFG\",$Q646=\"mono-LGBC\"),1,IF(OR($Q646=\"µc-Si / a-Si\",$Q646=\"a-Si (single)\",$Q646=\"a-Si (tandem)\",$Q646=\"a-Si (triple)\"),3,2))))","v":1},{"$f":"IF($O646=\"Sunpower Corp.\",3,(IF(OR($Q646=\"mono\",$Q646=\"poly\",$Q646=\"HIT\",$Q646=\"EFG\",$Q646=\"mono-LGBC\"),1,2)))","v":1},{"$f":"IF($O646=\"Sunpower Corp.\",3,(IF(OR($Q646=\"mono\",$Q646=\"poly\",$Q646=\"HIT\",$Q646=\"EFG\",$Q646=\"mono-LGBC\"),1,IF(OR($Q646=\"µc-Si / a-Si\",$Q646=\"a-Si (single)\",$Q646=\"a-Si (tandem)\",$Q646=\"a-Si (triple)\"),3,2))))","v":1},0,null,null,4782,null,null,644]
["Anji Dasol Solar Energy Science & Technoloy DS-B3-130","Anji Dasol Solar Energy Science & Technoloy ","DS-B3-130",130,"+5...-5",27.3,4.78,33.5,5.2,-127.3,5.2,null,1000,null,null,13.407589912414551,"mono",54,"pseudo-square",1200,808,40,"aluminum","cable MC",11.5,"www.dasol.cn","-","-","-","-","-",{"$f":"IF($O647=\"Sunpower Corp.\",3,(IF(OR($Q647=\"mono\",$Q647=\"poly\",$Q647=\"HIT\",$Q647=\"EFG\",$Q647=\"mono-LGBC\"),1,IF(OR($Q647=\"µc-Si / a-Si\",$Q647=\"a-Si (single)\",$Q647=\"a-Si (tandem)\",$Q647=\"a-Si (triple)\"),3,2))))","v":1},{"$f":"IF($O647=\"Sunpower Corp.\",3,(IF(OR($Q647=\"mono\",$Q647=\"poly\",$Q647=\"HIT\",$Q647=\"EFG\",$Q647=\"mono-LGBC\"),1,2)))","v":1},{"$f":"IF($O647=\"Sunpower Corp.\",3,(IF(OR($Q647=\"mono\",$Q647=\"poly\",$Q647=\"HIT\",$Q647=\"EFG\",$Q647=\"mono-LGBC\"),1,IF(OR($Q647=\"µc-Si / a-Si\",$Q647=\"a-Si (single)\",$Q647=\"a-Si (tandem)\",$Q647=\"a-Si (triple)\"),3,2))))","v":1},0,null,null,4783,null,null,645]
["Anji Dasol Solar Energy Science & Technoloy DS-B3-140","Anji Dasol Solar Energy Science & Technoloy ","DS-B3-140",140,"+5...-5",27.9,5.0199999999999996,34.200000000000003,5.5,-129.96,5.5,null,1000,null,null,14.438940048217773,"mono",54,"pseudo-square",1200,808,40,"aluminum","cable MC",11.5,"www.dasol.cn","-","-","-","-","-",{"$f":"IF($O648=\"Sunpower Corp.\",3,(IF(OR($Q648=\"mono\",$Q648=\"poly\",$Q648=\"HIT\",$Q648=\"EFG\",$Q648=\"mono-LGBC\"),1,IF(OR($Q648=\"µc-Si / a-Si\",$Q648=\"a-Si (single)\",$Q648=\"a-Si (tandem)\",$Q648=\"a-Si (triple)\"),3,2))))","v":1},{"$f":"IF($O648=\"Sunpower Corp.\",3,(IF(OR($Q648=\"mono\",$Q648=\"poly\",$Q648=\"HIT\",$Q648=\"EFG\",$Q648=\"mono-LGBC\"),1,2)))","v":1},{"$f":"IF($O648=\"Sunpower Corp.\",3,(IF(OR($Q648=\"mono\",$Q648=\"poly\",$Q648=\"HIT\",$Q648=\"EFG\",$Q648=\"mono-LGBC\"),1,IF(OR($Q648=\"µc-Si / a-Si\",$Q648=\"a-Si (single)\",$Q648=\"a-Si (tandem)\",$Q648=\"a-Si (triple)\"),3,2))))","v":1},0,null,null,4784,null,null,646]
["Anji Dasol Solar Energy Science & Technoloy DS-B3-95","Anji Dasol Solar Energy Science & Technoloy ","DS-B3-95",95,"+...",25,3.8,31.1,4.3,-118.18,4.3,null,1000,null,null,9.7978544235229492,"mono",null,"pseudo-square",1200,808,40,"aluminum","cable MC",11.5,"www.dasol.cn","-","-","-","-","-",{"$f":"IF($O649=\"Sunpower Corp.\",3,(IF(OR($Q649=\"mono\",$Q649=\"poly\",$Q649=\"HIT\",$Q649=\"EFG\",$Q649=\"mono-LGBC\"),1,IF(OR($Q649=\"µc-Si / a-Si\",$Q649=\"a-Si (single)\",$Q649=\"a-Si (tandem)\",$Q649=\"a-Si (triple)\"),3,2))))","v":1},{"$f":"IF($O649=\"Sunpower Corp.\",3,(IF(OR($Q649=\"mono\",$Q649=\"poly\",$Q649=\"HIT\",$Q649=\"EFG\",$Q649=\"mono-LGBC\"),1,2)))","v":1},{"$f":"IF($O649=\"Sunpower Corp.\",3,(IF(OR($Q649=\"mono\",$Q649=\"poly\",$Q649=\"HIT\",$Q649=\"EFG\",$Q649=\"mono-LGBC\"),1,IF(OR($Q649=\"µc-Si / a-Si\",$Q649=\"a-Si (single)\",$Q649=\"a-Si (tandem)\",$Q649=\"a-Si (triple)\"),3,2))))","v":1},0,null,null,7572,null,null,647]
["Anji Dasol Solar Energy Science & Technoloy DS-B4-110","Anji Dasol Solar Energy Science & Technoloy ","DS-B4-110",110,"+5...-5",28.1,3.92,34.9,4.4000000000000004,-132.62,4.4000000000000004,null,1000,null,null,10.313529968261719,"mono",60,"pseudo-square",1320,808,40,"aluminum","cable MC",12.5,"www.dasol.cn","-","-","-","-","-",{"$f":"IF($O650=\"Sunpower Corp.\",3,(IF(OR($Q650=\"mono\",$Q650=\"poly\",$Q650=\"HIT\",$Q650=\"EFG\",$Q650=\"mono-LGBC\"),1,IF(OR($Q650=\"µc-Si / a-Si\",$Q650=\"a-Si (single)\",$Q650=\"a-Si (tandem)\",$Q650=\"a-Si (triple)\"),3,2))))","v":1},{"$f":"IF($O650=\"Sunpower Corp.\",3,(IF(OR($Q650=\"mono\",$Q650=\"poly\",$Q650=\"HIT\",$Q650=\"EFG\",$Q650=\"mono-LGBC\"),1,2)))","v":1},{"$f":"IF($O650=\"Sunpower Corp.\",3,(IF(OR($Q650=\"mono\",$Q650=\"poly\",$Q650=\"HIT\",$Q650=\"EFG\",$Q650=\"mono-LGBC\"),1,IF(OR($Q650=\"µc-Si / a-Si\",$Q650=\"a-Si (single)\",$Q650=\"a-Si (tandem)\",$Q650=\"a-Si (triple)\"),3,2))))","v":1},0,null,null,4870,null,null,648]
["Anji Dasol Solar Energy Science & Technoloy DS-B4-120","Anji Dasol Solar Energy Science & Technoloy ","DS-B4-120",120,"+5...-5",28.7,4.18,35.6,4.7,-135.28,4.7,null,1000,null,null,11.251130104064941,"mono",60,"pseudo-square",1320,808,40,"aluminum","cable MC",12.5,"www.dasol.cn","-","-","-","-","-",{"$f":"IF($O651=\"Sunpower Corp.\",3,(IF(OR($Q651=\"mono\",$Q651=\"poly\",$Q651=\"HIT\",$Q651=\"EFG\",$Q651=\"mono-LGBC\"),1,IF(OR($Q651=\"µc-Si / a-Si\",$Q651=\"a-Si (single)\",$Q651=\"a-Si (tandem)\",$Q651=\"a-Si (triple)\"),3,2))))","v":1},{"$f":"IF($O651=\"Sunpower Corp.\",3,(IF(OR($Q651=\"mono\",$Q651=\"poly\",$Q651=\"HIT\",$Q651=\"EFG\",$Q651=\"mono-LGBC\"),1,2)))","v":1},{"$f":"IF($O651=\"Sunpower Corp.\",3,(IF(OR($Q651=\"mono\",$Q651=\"poly\",$Q651=\"HIT\",$Q651=\"EFG\",$Q651=\"mono-LGBC\"),1,IF(OR($Q651=\"µc-Si / a-Si\",$Q651=\"a-Si (single)\",$Q651=\"a-Si (tandem)\",$Q651=\"a-Si (triple)\"),3,2))))","v":1},0,null,null,4785,null,null,649]
["Anji Dasol Solar Energy Science & Technoloy DS-B4-130","Anji Dasol Solar Energy Science & Technoloy ","DS-B4-130",130,"+5...-5",29.4,4.43,36.200000000000003,4.9000000000000004,-137.56,4.9000000000000004,null,1000,null,null,12.188719749450684,"mono",60,"pseudo-square",1320,808,40,"aluminum","cable MC",12.5,"www.dasol.cn","-","-","-","-","-",{"$f":"IF($O652=\"Sunpower Corp.\",3,(IF(OR($Q652=\"mono\",$Q652=\"poly\",$Q652=\"HIT\",$Q652=\"EFG\",$Q652=\"mono-LGBC\"),1,IF(OR($Q652=\"µc-Si / a-Si\",$Q652=\"a-Si (single)\",$Q652=\"a-Si (tandem)\",$Q652=\"a-Si (triple)\"),3,2))))","v":1},{"$f":"IF($O652=\"Sunpower Corp.\",3,(IF(OR($Q652=\"mono\",$Q652=\"poly\",$Q652=\"HIT\",$Q652=\"EFG\",$Q652=\"mono-LGBC\"),1,2)))","v":1},{"$f":"IF($O652=\"Sunpower Corp.\",3,(IF(OR($Q652=\"mono\",$Q652=\"poly\",$Q652=\"HIT\",$Q652=\"EFG\",$Q652=\"mono-LGBC\"),1,IF(OR($Q652=\"µc-Si / a-Si\",$Q652=\"a-Si (single)\",$Q652=\"a-Si (tandem)\",$Q652=\"a-Si (triple)\"),3,2))))","v":1},0,null,null,4786,null,null,650]
["Anji Dasol Solar Energy Science & Technoloy DS-B4-140","Anji Dasol Solar Energy Science & Technoloy ","DS-B4-140",140,"+5...-5",30,4.67,36.9,5.0999999999999996,-140.22,5.0999999999999996,null,1000,null,null,13.126310348510742,"mono",60,"pseudo-square",1320,808,40,"aluminum","cable MC",12.5,"www.dasol.cn","-","-","-","-","-",{"$f":"IF($O653=\"Sunpower Corp.\",3,(IF(OR($Q653=\"mono\",$Q653=\"poly\",$Q653=\"HIT\",$Q653=\"EFG\",$Q653=\"mono-LGBC\"),1,IF(OR($Q653=\"µc-Si / a-Si\",$Q653=\"a-Si (single)\",$Q653=\"a-Si (tandem)\",$Q653=\"a-Si (triple)\"),3,2))))","v":1},{"$f":"IF($O653=\"Sunpower Corp.\",3,(IF(OR($Q653=\"mono\",$Q653=\"poly\",$Q653=\"HIT\",$Q653=\"EFG\",$Q653=\"mono-LGBC\"),1,2)))","v":1},{"$f":"IF($O653=\"Sunpower Corp.\",3,(IF(OR($Q653=\"mono\",$Q653=\"poly\",$Q653=\"HIT\",$Q653=\"EFG\",$Q653=\"mono-LGBC\"),1,IF(OR($Q653=\"µc-Si / a-Si\",$Q653=\"a-Si (single)\",$Q653=\"a-Si (tandem)\",$Q653=\"a-Si (triple)\"),3,2))))","v":1},0,null,null,4787,null,null,651]
["Anji Dasol Solar Energy Science & Technoloy DS-B4-150","Anji Dasol Solar Energy Science & Technoloy ","DS-B4-150",150,"+5...-5",30.6,4.9000000000000004,37.6,5.3,-142.88,5.3,null,1000,null,null,14.063909530639648,"mono",60,"pseudo-square",1320,808,40,"aluminum","cable MC",12.5,"www.dasol.cn","-","-","-","-","-",{"$f":"IF($O654=\"Sunpower Corp.\",3,(IF(OR($Q654=\"mono\",$Q654=\"poly\",$Q654=\"HIT\",$Q654=\"EFG\",$Q654=\"mono-LGBC\"),1,IF(OR($Q654=\"µc-Si / a-Si\",$Q654=\"a-Si (single)\",$Q654=\"a-Si (tandem)\",$Q654=\"a-Si (triple)\"),3,2))))","v":1},{"$f":"IF($O654=\"Sunpower Corp.\",3,(IF(OR($Q654=\"mono\",$Q654=\"poly\",$Q654=\"HIT\",$Q654=\"EFG\",$Q654=\"mono-LGBC\"),1,2)))","v":1},{"$f":"IF($O654=\"Sunpower Corp.\",3,(IF(OR($Q654=\"mono\",$Q654=\"poly\",$Q654=\"HIT\",$Q654=\"EFG\",$Q654=\"mono-LGBC\"),1,IF(OR($Q654=\"µc-Si / a-Si\",$Q654=\"a-Si (single)\",$Q654=\"a-Si (tandem)\",$Q654=\"a-Si (triple)\"),3,2))))","v":1},0,null,null,4788,null,null,652]
["Anji Dasol Solar Energy Science & Technoloy DS-B4-155","Anji Dasol Solar Energy Science & Technoloy ","DS-B4-155",155,"+5...-5",31,5.01,37.9,5.4,-144.02000000000001,5.4,null,1000,null,null,14.532699584960938,"mono",60,"pseudo-square",1320,808,40,"aluminum","cable MC",12.5,"www.dasol.cn","-","-","-","-","-",{"$f":"IF($O655=\"Sunpower Corp.\",3,(IF(OR($Q655=\"mono\",$Q655=\"poly\",$Q655=\"HIT\",$Q655=\"EFG\",$Q655=\"mono-LGBC\"),1,IF(OR($Q655=\"µc-Si / a-Si\",$Q655=\"a-Si (single)\",$Q655=\"a-Si (tandem)\",$Q655=\"a-Si (triple)\"),3,2))))","v":1},{"$f":"IF($O655=\"Sunpower Corp.\",3,(IF(OR($Q655=\"mono\",$Q655=\"poly\",$Q655=\"HIT\",$Q655=\"EFG\",$Q655=\"mono-LGBC\"),1,2)))","v":1},{"$f":"IF($O655=\"Sunpower Corp.\",3,(IF(OR($Q655=\"mono\",$Q655=\"poly\",$Q655=\"HIT\",$Q655=\"EFG\",$Q655=\"mono-LGBC\"),1,IF(OR($Q655=\"µc-Si / a-Si\",$Q655=\"a-Si (single)\",$Q655=\"a-Si (tandem)\",$Q655=\"a-Si (triple)\"),3,2))))","v":1},0,null,null,4789,null,null,653]
["Anji Dasol Solar Energy Science & Technoloy DS-B5-140","Anji Dasol Solar Energy Science & Technoloy ","DS-B5-140",140,"+5...-5",34.200000000000003,4.0999999999999996,42.4,4.5999999999999996,-161.12,4.5999999999999996,null,1000,null,null,10.966290473937988,"mono",72,"pseudo-square",1580,808,46,"aluminum","cable MC",15.8,"www.dasol.cn","-","-","-","-","-",{"$f":"IF($O656=\"Sunpower Corp.\",3,(IF(OR($Q656=\"mono\",$Q656=\"poly\",$Q656=\"HIT\",$Q656=\"EFG\",$Q656=\"mono-LGBC\"),1,IF(OR($Q656=\"µc-Si / a-Si\",$Q656=\"a-Si (single)\",$Q656=\"a-Si (tandem)\",$Q656=\"a-Si (triple)\"),3,2))))","v":1},{"$f":"IF($O656=\"Sunpower Corp.\",3,(IF(OR($Q656=\"mono\",$Q656=\"poly\",$Q656=\"HIT\",$Q656=\"EFG\",$Q656=\"mono-LGBC\"),1,2)))","v":1},{"$f":"IF($O656=\"Sunpower Corp.\",3,(IF(OR($Q656=\"mono\",$Q656=\"poly\",$Q656=\"HIT\",$Q656=\"EFG\",$Q656=\"mono-LGBC\"),1,IF(OR($Q656=\"µc-Si / a-Si\",$Q656=\"a-Si (single)\",$Q656=\"a-Si (tandem)\",$Q656=\"a-Si (triple)\"),3,2))))","v":1},0,null,null,4791,null,null,654]
["Anji Dasol Solar Energy Science & Technoloy DS-B5-145","Anji Dasol Solar Energy Science & Technoloy ","DS-B5-145",145,"+5...-5",37.1,4.99,45.5,5.4,-172.9,5.4,null,1000,null,null,11.357939720153809,"mono",72,"pseudo-square",1580,808,46,"aluminum","cable MC",15.8,"www.dasol.cn","-","-","-","-","-",{"$f":"IF($O657=\"Sunpower Corp.\",3,(IF(OR($Q657=\"mono\",$Q657=\"poly\",$Q657=\"HIT\",$Q657=\"EFG\",$Q657=\"mono-LGBC\"),1,IF(OR($Q657=\"µc-Si / a-Si\",$Q657=\"a-Si (single)\",$Q657=\"a-Si (tandem)\",$Q657=\"a-Si (triple)\"),3,2))))","v":1},{"$f":"IF($O657=\"Sunpower Corp.\",3,(IF(OR($Q657=\"mono\",$Q657=\"poly\",$Q657=\"HIT\",$Q657=\"EFG\",$Q657=\"mono-LGBC\"),1,2)))","v":1},{"$f":"IF($O657=\"Sunpower Corp.\",3,(IF(OR($Q657=\"mono\",$Q657=\"poly\",$Q657=\"HIT\",$Q657=\"EFG\",$Q657=\"mono-LGBC\"),1,IF(OR($Q657=\"µc-Si / a-Si\",$Q657=\"a-Si (single)\",$Q657=\"a-Si (tandem)\",$Q657=\"a-Si (triple)\"),3,2))))","v":1},0,null,null,13310,null,null,655]
["Anji Dasol Solar Energy Science & Technoloy DS-B5-150","Anji Dasol Solar Energy Science & Technoloy ","DS-B5-150",150,"+5...-5",34.799999999999997,4.3099999999999996,43.1,4.8,-163.78,4.8,null,1000,null,null,11.749589920043945,"mono",72,"pseudo-square",1580,808,46,"aluminum","cable MC",15.8,"www.dasol.cn","-","-","-","-","-",{"$f":"IF($O658=\"Sunpower Corp.\",3,(IF(OR($Q658=\"mono\",$Q658=\"poly\",$Q658=\"HIT\",$Q658=\"EFG\",$Q658=\"mono-LGBC\"),1,IF(OR($Q658=\"µc-Si / a-Si\",$Q658=\"a-Si (single)\",$Q658=\"a-Si (tandem)\",$Q658=\"a-Si (triple)\"),3,2))))","v":1},{"$f":"IF($O658=\"Sunpower Corp.\",3,(IF(OR($Q658=\"mono\",$Q658=\"poly\",$Q658=\"HIT\",$Q658=\"EFG\",$Q658=\"mono-LGBC\"),1,2)))","v":1},{"$f":"IF($O658=\"Sunpower Corp.\",3,(IF(OR($Q658=\"mono\",$Q658=\"poly\",$Q658=\"HIT\",$Q658=\"EFG\",$Q658=\"mono-LGBC\"),1,IF(OR($Q658=\"µc-Si / a-Si\",$Q658=\"a-Si (single)\",$Q658=\"a-Si (tandem)\",$Q658=\"a-Si (triple)\"),3,2))))","v":1},0,null,null,4792,null,null,656]
["Anji Dasol Solar Energy Science & Technoloy DS-B5-155","Anji Dasol Solar Energy Science & Technoloy ","DS-B5-155",155,"+5...-5",35.200000000000003,4.41,43.4,4.9000000000000004,-164.92,4.9000000000000004,null,1000,null,null,12.141249656677246,"mono",72,"pseudo-square",1580,808,46,"aluminum","cable MC",15.8,"www.dasol.cn","-","-","-","-","-",{"$f":"IF($O659=\"Sunpower Corp.\",3,(IF(OR($Q659=\"mono\",$Q659=\"poly\",$Q659=\"HIT\",$Q659=\"EFG\",$Q659=\"mono-LGBC\"),1,IF(OR($Q659=\"µc-Si / a-Si\",$Q659=\"a-Si (single)\",$Q659=\"a-Si (tandem)\",$Q659=\"a-Si (triple)\"),3,2))))","v":1},{"$f":"IF($O659=\"Sunpower Corp.\",3,(IF(OR($Q659=\"mono\",$Q659=\"poly\",$Q659=\"HIT\",$Q659=\"EFG\",$Q659=\"mono-LGBC\"),1,2)))","v":1},{"$f":"IF($O659=\"Sunpower Corp.\",3,(IF(OR($Q659=\"mono\",$Q659=\"poly\",$Q659=\"HIT\",$Q659=\"EFG\",$Q659=\"mono-LGBC\"),1,IF(OR($Q659=\"µc-Si / a-Si\",$Q659=\"a-Si (single)\",$Q659=\"a-Si (tandem)\",$Q659=\"a-Si (triple)\"),3,2))))","v":1},0,null,null,13307,null,null,657]
["Anji Dasol Solar Energy Science & Technoloy DS-B5-160","Anji Dasol Solar Energy Science & Technoloy ","DS-B5-160",160,"+5...-5",35.5,4.51,43.8,5,-166.44,5,null,1000,null,null,12.532899856567383,"mono",72,"pseudo-square",1580,808,46,"aluminum","cable MC",15.8,"www.dasol.cn","-","-","-","-","-",{"$f":"IF($O660=\"Sunpower Corp.\",3,(IF(OR($Q660=\"mono\",$Q660=\"poly\",$Q660=\"HIT\",$Q660=\"EFG\",$Q660=\"mono-LGBC\"),1,IF(OR($Q660=\"µc-Si / a-Si\",$Q660=\"a-Si (single)\",$Q660=\"a-Si (tandem)\",$Q660=\"a-Si (triple)\"),3,2))))","v":1},{"$f":"IF($O660=\"Sunpower Corp.\",3,(IF(OR($Q660=\"mono\",$Q660=\"poly\",$Q660=\"HIT\",$Q660=\"EFG\",$Q660=\"mono-LGBC\"),1,2)))","v":1},{"$f":"IF($O660=\"Sunpower Corp.\",3,(IF(OR($Q660=\"mono\",$Q660=\"poly\",$Q660=\"HIT\",$Q660=\"EFG\",$Q660=\"mono-LGBC\"),1,IF(OR($Q660=\"µc-Si / a-Si\",$Q660=\"a-Si (single)\",$Q660=\"a-Si (tandem)\",$Q660=\"a-Si (triple)\"),3,2))))","v":1},0,null,null,4793,null,null,658]
["Anji Dasol Solar Energy Science & Technoloy DS-B5-165","Anji Dasol Solar Energy Science & Technoloy ","DS-B5-165",165,"+5...-5",35.799999999999997,4.6100000000000003,44.1,5.0999999999999996,-167.58,5.0999999999999996,null,1000,null,null,12.92455005645752,"mono",72,"pseudo-square",1580,808,46,"aluminum","cable MC",15.8,"www.dasol.cn","-","-","-","-","-",{"$f":"IF($O661=\"Sunpower Corp.\",3,(IF(OR($Q661=\"mono\",$Q661=\"poly\",$Q661=\"HIT\",$Q661=\"EFG\",$Q661=\"mono-LGBC\"),1,IF(OR($Q661=\"µc-Si / a-Si\",$Q661=\"a-Si (single)\",$Q661=\"a-Si (tandem)\",$Q661=\"a-Si (triple)\"),3,2))))","v":1},{"$f":"IF($O661=\"Sunpower Corp.\",3,(IF(OR($Q661=\"mono\",$Q661=\"poly\",$Q661=\"HIT\",$Q661=\"EFG\",$Q661=\"mono-LGBC\"),1,2)))","v":1},{"$f":"IF($O661=\"Sunpower Corp.\",3,(IF(OR($Q661=\"mono\",$Q661=\"poly\",$Q661=\"HIT\",$Q661=\"EFG\",$Q661=\"mono-LGBC\"),1,IF(OR($Q661=\"µc-Si / a-Si\",$Q661=\"a-Si (single)\",$Q661=\"a-Si (tandem)\",$Q661=\"a-Si (triple)\"),3,2))))","v":1},0,null,null,13308,null,null,659]
["Anji Dasol Solar Energy Science & Technoloy DS-B5-170","Anji Dasol Solar Energy Science & Technoloy ","DS-B5-170",170,"+5...-5",36.1,4.71,44.4,5.0999999999999996,-168.72,5.0999999999999996,null,1000,null,null,13.31620979309082,"mono",72,"pseudo-square",1580,808,46,"aluminum","cable MC",15.8,"www.dasol.cn","-","-","-","-","-",{"$f":"IF($O662=\"Sunpower Corp.\",3,(IF(OR($Q662=\"mono\",$Q662=\"poly\",$Q662=\"HIT\",$Q662=\"EFG\",$Q662=\"mono-LGBC\"),1,IF(OR($Q662=\"µc-Si / a-Si\",$Q662=\"a-Si (single)\",$Q662=\"a-Si (tandem)\",$Q662=\"a-Si (triple)\"),3,2))))","v":1},{"$f":"IF($O662=\"Sunpower Corp.\",3,(IF(OR($Q662=\"mono\",$Q662=\"poly\",$Q662=\"HIT\",$Q662=\"EFG\",$Q662=\"mono-LGBC\"),1,2)))","v":1},{"$f":"IF($O662=\"Sunpower Corp.\",3,(IF(OR($Q662=\"mono\",$Q662=\"poly\",$Q662=\"HIT\",$Q662=\"EFG\",$Q662=\"mono-LGBC\"),1,IF(OR($Q662=\"µc-Si / a-Si\",$Q662=\"a-Si (single)\",$Q662=\"a-Si (tandem)\",$Q662=\"a-Si (triple)\"),3,2))))","v":1},0,null,null,4794,null,null,660]
["Anji Dasol Solar Energy Science & Technoloy DS-B5-175","Anji Dasol Solar Energy Science & Technoloy ","DS-B5-175",175,"+5...-5",36.4,4.8099999999999996,44.8,5.2,-170.24,5.2,null,1000,null,null,13.707859992980957,"mono",72,"pseudo-square",1580,808,46,"aluminum","cable MC",15.8,"www.dasol.cn","-","-","-","-","-",{"$f":"IF($O663=\"Sunpower Corp.\",3,(IF(OR($Q663=\"mono\",$Q663=\"poly\",$Q663=\"HIT\",$Q663=\"EFG\",$Q663=\"mono-LGBC\"),1,IF(OR($Q663=\"µc-Si / a-Si\",$Q663=\"a-Si (single)\",$Q663=\"a-Si (tandem)\",$Q663=\"a-Si (triple)\"),3,2))))","v":1},{"$f":"IF($O663=\"Sunpower Corp.\",3,(IF(OR($Q663=\"mono\",$Q663=\"poly\",$Q663=\"HIT\",$Q663=\"EFG\",$Q663=\"mono-LGBC\"),1,2)))","v":1},{"$f":"IF($O663=\"Sunpower Corp.\",3,(IF(OR($Q663=\"mono\",$Q663=\"poly\",$Q663=\"HIT\",$Q663=\"EFG\",$Q663=\"mono-LGBC\"),1,IF(OR($Q663=\"µc-Si / a-Si\",$Q663=\"a-Si (single)\",$Q663=\"a-Si (tandem)\",$Q663=\"a-Si (triple)\"),3,2))))","v":1},0,null,null,13309,null,null,661]
["Anji Dasol Solar Energy Science & Technoloy DS-B5-180","Anji Dasol Solar Energy Science & Technoloy ","DS-B5-180",180,"+5...-5",36.799999999999997,4.9000000000000004,45.1,5.3,-171.38,5.3,null,1000,null,null,14.099510192871094,"mono",72,"pseudo-square",1580,808,46,"aluminum","cable MC",15.8,"www.dasol.cn","-","-","-","-","-",{"$f":"IF($O664=\"Sunpower Corp.\",3,(IF(OR($Q664=\"mono\",$Q664=\"poly\",$Q664=\"HIT\",$Q664=\"EFG\",$Q664=\"mono-LGBC\"),1,IF(OR($Q664=\"µc-Si / a-Si\",$Q664=\"a-Si (single)\",$Q664=\"a-Si (tandem)\",$Q664=\"a-Si (triple)\"),3,2))))","v":1},{"$f":"IF($O664=\"Sunpower Corp.\",3,(IF(OR($Q664=\"mono\",$Q664=\"poly\",$Q664=\"HIT\",$Q664=\"EFG\",$Q664=\"mono-LGBC\"),1,2)))","v":1},{"$f":"IF($O664=\"Sunpower Corp.\",3,(IF(OR($Q664=\"mono\",$Q664=\"poly\",$Q664=\"HIT\",$Q664=\"EFG\",$Q664=\"mono-LGBC\"),1,IF(OR($Q664=\"µc-Si / a-Si\",$Q664=\"a-Si (single)\",$Q664=\"a-Si (tandem)\",$Q664=\"a-Si (triple)\"),3,2))))","v":1},0,null,null,4795,null,null,662]
["Anji Dasol Solar Energy Science & Technoloy DS-B5-185","Anji Dasol Solar Energy Science & Technoloy ","DS-B5-185",185,"+5...-5",37.1,4.99,45.5,5.4,-172.9,5.4,null,1000,null,null,14.49116039276123,"mono",72,"pseudo-square",1580,808,46,"aluminum","cable MC",15.8,"www.dasol.cn","-","-","-","-","-",{"$f":"IF($O665=\"Sunpower Corp.\",3,(IF(OR($Q665=\"mono\",$Q665=\"poly\",$Q665=\"HIT\",$Q665=\"EFG\",$Q665=\"mono-LGBC\"),1,IF(OR($Q665=\"µc-Si / a-Si\",$Q665=\"a-Si (single)\",$Q665=\"a-Si (tandem)\",$Q665=\"a-Si (triple)\"),3,2))))","v":1},{"$f":"IF($O665=\"Sunpower Corp.\",3,(IF(OR($Q665=\"mono\",$Q665=\"poly\",$Q665=\"HIT\",$Q665=\"EFG\",$Q665=\"mono-LGBC\"),1,2)))","v":1},{"$f":"IF($O665=\"Sunpower Corp.\",3,(IF(OR($Q665=\"mono\",$Q665=\"poly\",$Q665=\"HIT\",$Q665=\"EFG\",$Q665=\"mono-LGBC\"),1,IF(OR($Q665=\"µc-Si / a-Si\",$Q665=\"a-Si (single)\",$Q665=\"a-Si (tandem)\",$Q665=\"a-Si (triple)\"),3,2))))","v":1},0,null,null,4796,null,null,663]
["Antaris Solar GmbH & Co KG AS M 180","Antaris Solar GmbH & Co KG ","AS M 180",180,"+3...-3",36,5,44.2,5.3,-163.54,5.3,-0.45,1000,null,null,14.099510192871094,"mono",72,"pseudo-square",1580,808,40,"aluminum","cable MC new",15,"www.antaris-solar.com","-","-","-","-","-",{"$f":"IF($O666=\"Sunpower Corp.\",3,(IF(OR($Q666=\"mono\",$Q666=\"poly\",$Q666=\"HIT\",$Q666=\"EFG\",$Q666=\"mono-LGBC\"),1,IF(OR($Q666=\"µc-Si / a-Si\",$Q666=\"a-Si (single)\",$Q666=\"a-Si (tandem)\",$Q666=\"a-Si (triple)\"),3,2))))","v":1},{"$f":"IF($O666=\"Sunpower Corp.\",3,(IF(OR($Q666=\"mono\",$Q666=\"poly\",$Q666=\"HIT\",$Q666=\"EFG\",$Q666=\"mono-LGBC\"),1,2)))","v":1},{"$f":"IF($O666=\"Sunpower Corp.\",3,(IF(OR($Q666=\"mono\",$Q666=\"poly\",$Q666=\"HIT\",$Q666=\"EFG\",$Q666=\"mono-LGBC\"),1,IF(OR($Q666=\"µc-Si / a-Si\",$Q666=\"a-Si (single)\",$Q666=\"a-Si (tandem)\",$Q666=\"a-Si (triple)\"),3,2))))","v":1},0,null,null,26867,null,null,664]
["Antaris Solar GmbH & Co KG AS M 185","Antaris Solar GmbH & Co KG ","AS M 185",185,"+3...-3",36.799999999999997,5.0999999999999996,44.5,5.5,-164.65,5.5,-0.45,1000,null,null,14.49116039276123,"mono",72,"pseudo-square",1580,808,40,"aluminum","cable MC new",15,"www.fotovoltaikshop.de","-","-","-","-","-",{"$f":"IF($O667=\"Sunpower Corp.\",3,(IF(OR($Q667=\"mono\",$Q667=\"poly\",$Q667=\"HIT\",$Q667=\"EFG\",$Q667=\"mono-LGBC\"),1,IF(OR($Q667=\"µc-Si / a-Si\",$Q667=\"a-Si (single)\",$Q667=\"a-Si (tandem)\",$Q667=\"a-Si (triple)\"),3,2))))","v":1},{"$f":"IF($O667=\"Sunpower Corp.\",3,(IF(OR($Q667=\"mono\",$Q667=\"poly\",$Q667=\"HIT\",$Q667=\"EFG\",$Q667=\"mono-LGBC\"),1,2)))","v":1},{"$f":"IF($O667=\"Sunpower Corp.\",3,(IF(OR($Q667=\"mono\",$Q667=\"poly\",$Q667=\"HIT\",$Q667=\"EFG\",$Q667=\"mono-LGBC\"),1,IF(OR($Q667=\"µc-Si / a-Si\",$Q667=\"a-Si (single)\",$Q667=\"a-Si (tandem)\",$Q667=\"a-Si (triple)\"),3,2))))","v":1},0,null,null,26868,null,null,665]
["Antaris Solar GmbH & Co KG AS P 180","Antaris Solar GmbH & Co KG ","AS P 180",180,"+3...-3",null,null,22,8.1999999999999993,-81.400000000000006,0.82,-0.45,1000,null,null,13.732489585876465,"poly",48,"square",1324,990,50,"aluminum","cable MC new",17,"www.antaris-solar.de","-","-","-","-","-",{"$f":"IF($O668=\"Sunpower Corp.\",3,(IF(OR($Q668=\"mono\",$Q668=\"poly\",$Q668=\"HIT\",$Q668=\"EFG\",$Q668=\"mono-LGBC\"),1,IF(OR($Q668=\"µc-Si / a-Si\",$Q668=\"a-Si (single)\",$Q668=\"a-Si (tandem)\",$Q668=\"a-Si (triple)\"),3,2))))","v":1},{"$f":"IF($O668=\"Sunpower Corp.\",3,(IF(OR($Q668=\"mono\",$Q668=\"poly\",$Q668=\"HIT\",$Q668=\"EFG\",$Q668=\"mono-LGBC\"),1,2)))","v":1},{"$f":"IF($O668=\"Sunpower Corp.\",3,(IF(OR($Q668=\"mono\",$Q668=\"poly\",$Q668=\"HIT\",$Q668=\"EFG\",$Q668=\"mono-LGBC\"),1,IF(OR($Q668=\"µc-Si / a-Si\",$Q668=\"a-Si (single)\",$Q668=\"a-Si (tandem)\",$Q668=\"a-Si (triple)\"),3,2))))","v":1},0,null,null,21041,null,null,666]
["Antaris Solar GmbH & Co KG AS P 210","Antaris Solar GmbH & Co KG ","AS P 210",210,"+3...-3",null,null,26.6,7.9,-98.42,0.79,-0.45,1000,null,null,14.313170433044434,"poly",54,"square",1482,990,50,"aluminum","cable MC new",18,"www.antaris-solar.de","-","-","-","-","-",{"$f":"IF($O669=\"Sunpower Corp.\",3,(IF(OR($Q669=\"mono\",$Q669=\"poly\",$Q669=\"HIT\",$Q669=\"EFG\",$Q669=\"mono-LGBC\"),1,IF(OR($Q669=\"µc-Si / a-Si\",$Q669=\"a-Si (single)\",$Q669=\"a-Si (tandem)\",$Q669=\"a-Si (triple)\"),3,2))))","v":1},{"$f":"IF($O669=\"Sunpower Corp.\",3,(IF(OR($Q669=\"mono\",$Q669=\"poly\",$Q669=\"HIT\",$Q669=\"EFG\",$Q669=\"mono-LGBC\"),1,2)))","v":1},{"$f":"IF($O669=\"Sunpower Corp.\",3,(IF(OR($Q669=\"mono\",$Q669=\"poly\",$Q669=\"HIT\",$Q669=\"EFG\",$Q669=\"mono-LGBC\"),1,IF(OR($Q669=\"µc-Si / a-Si\",$Q669=\"a-Si (single)\",$Q669=\"a-Si (tandem)\",$Q669=\"a-Si (triple)\"),3,2))))","v":1},0,null,null,21042,null,null,667]
["Antaris Solar GmbH & Co KG AS P 230","Antaris Solar GmbH & Co KG ","AS P 230",230,"+3...-3",null,null,30.31,7.62,-103.054,3.0480000000000005,-0.48,1000,null,null,14.166049957275391,"poly",60,"square",1640,990,50,"aluminum","cable MC new",19,"www.antaris-solar.de","-","-","-","-","-",{"$f":"IF($O670=\"Sunpower Corp.\",3,(IF(OR($Q670=\"mono\",$Q670=\"poly\",$Q670=\"HIT\",$Q670=\"EFG\",$Q670=\"mono-LGBC\"),1,IF(OR($Q670=\"µc-Si / a-Si\",$Q670=\"a-Si (single)\",$Q670=\"a-Si (tandem)\",$Q670=\"a-Si (triple)\"),3,2))))","v":1},{"$f":"IF($O670=\"Sunpower Corp.\",3,(IF(OR($Q670=\"mono\",$Q670=\"poly\",$Q670=\"HIT\",$Q670=\"EFG\",$Q670=\"mono-LGBC\"),1,2)))","v":1},{"$f":"IF($O670=\"Sunpower Corp.\",3,(IF(OR($Q670=\"mono\",$Q670=\"poly\",$Q670=\"HIT\",$Q670=\"EFG\",$Q670=\"mono-LGBC\"),1,IF(OR($Q670=\"µc-Si / a-Si\",$Q670=\"a-Si (single)\",$Q670=\"a-Si (tandem)\",$Q670=\"a-Si (triple)\"),3,2))))","v":1},0,null,null,21043,null,null,668]
["Antek Wts Qingdao Co. Ltd. AKM160M","Antek Wts Qingdao Co. Ltd. ","AKM160M",160,"+3...-3",36,4.49,44.59,4.95,-151.60600000000002,0.84150000000000014,-0.48,1000,null,null,12.532899856567383,"mono",72,"pseudo-square",1580,808,40,"aluminum","junction box",15.3,"www.antek-cn.com","-","-","-","-","-",{"$f":"IF($O671=\"Sunpower Corp.\",3,(IF(OR($Q671=\"mono\",$Q671=\"poly\",$Q671=\"HIT\",$Q671=\"EFG\",$Q671=\"mono-LGBC\"),1,IF(OR($Q671=\"µc-Si / a-Si\",$Q671=\"a-Si (single)\",$Q671=\"a-Si (tandem)\",$Q671=\"a-Si (triple)\"),3,2))))","v":1},{"$f":"IF($O671=\"Sunpower Corp.\",3,(IF(OR($Q671=\"mono\",$Q671=\"poly\",$Q671=\"HIT\",$Q671=\"EFG\",$Q671=\"mono-LGBC\"),1,2)))","v":1},{"$f":"IF($O671=\"Sunpower Corp.\",3,(IF(OR($Q671=\"mono\",$Q671=\"poly\",$Q671=\"HIT\",$Q671=\"EFG\",$Q671=\"mono-LGBC\"),1,IF(OR($Q671=\"µc-Si / a-Si\",$Q671=\"a-Si (single)\",$Q671=\"a-Si (tandem)\",$Q671=\"a-Si (triple)\"),3,2))))","v":1},0,null,null,32481,null,null,669]
["Antek Wts Qingdao Co. Ltd. AKM170M","Antek Wts Qingdao Co. Ltd. ","AKM170M",170,"+3...-3",36.700000000000003,4.67,44.6,5.0999999999999996,-151.63999999999999,0.86699999999999999,-0.48,1000,null,null,13.31620979309082,"mono",72,"pseudo-square",1580,808,40,"aluminum","junction box",15.3,"www.antek-cn.com","-","-","-","-","-",{"$f":"IF($O672=\"Sunpower Corp.\",3,(IF(OR($Q672=\"mono\",$Q672=\"poly\",$Q672=\"HIT\",$Q672=\"EFG\",$Q672=\"mono-LGBC\"),1,IF(OR($Q672=\"µc-Si / a-Si\",$Q672=\"a-Si (single)\",$Q672=\"a-Si (tandem)\",$Q672=\"a-Si (triple)\"),3,2))))","v":1},{"$f":"IF($O672=\"Sunpower Corp.\",3,(IF(OR($Q672=\"mono\",$Q672=\"poly\",$Q672=\"HIT\",$Q672=\"EFG\",$Q672=\"mono-LGBC\"),1,2)))","v":1},{"$f":"IF($O672=\"Sunpower Corp.\",3,(IF(OR($Q672=\"mono\",$Q672=\"poly\",$Q672=\"HIT\",$Q672=\"EFG\",$Q672=\"mono-LGBC\"),1,IF(OR($Q672=\"µc-Si / a-Si\",$Q672=\"a-Si (single)\",$Q672=\"a-Si (tandem)\",$Q672=\"a-Si (triple)\"),3,2))))","v":1},0,null,null,32483,null,null,670]
["Antek Wts Qingdao Co. Ltd. AKM180M","Antek Wts Qingdao Co. Ltd. ","AKM180M",180,"+3...-3",38.200000000000003,4.74,44.6,5.24,-151.63999999999999,0.89080000000000004,-0.48,1000,null,null,14.099510192871094,"mono",72,"pseudo-square",1580,808,40,"aluminum","junction box",15.3,"www.antek-cn.com","-","-","-","-","-",{"$f":"IF($O673=\"Sunpower Corp.\",3,(IF(OR($Q673=\"mono\",$Q673=\"poly\",$Q673=\"HIT\",$Q673=\"EFG\",$Q673=\"mono-LGBC\"),1,IF(OR($Q673=\"µc-Si / a-Si\",$Q673=\"a-Si (single)\",$Q673=\"a-Si (tandem)\",$Q673=\"a-Si (triple)\"),3,2))))","v":1},{"$f":"IF($O673=\"Sunpower Corp.\",3,(IF(OR($Q673=\"mono\",$Q673=\"poly\",$Q673=\"HIT\",$Q673=\"EFG\",$Q673=\"mono-LGBC\"),1,2)))","v":1},{"$f":"IF($O673=\"Sunpower Corp.\",3,(IF(OR($Q673=\"mono\",$Q673=\"poly\",$Q673=\"HIT\",$Q673=\"EFG\",$Q673=\"mono-LGBC\"),1,IF(OR($Q673=\"µc-Si / a-Si\",$Q673=\"a-Si (single)\",$Q673=\"a-Si (tandem)\",$Q673=\"a-Si (triple)\"),3,2))))","v":1},0,null,null,32484,null,null,671]
["Antek Wts Qingdao Co. Ltd. AKM180M-T","Antek Wts Qingdao Co. Ltd. ","AKM180M-T",180,"+3...-3",38.200000000000003,4.74,44.6,5.23,-151.63999999999999,0.88910000000000011,-0.48,1000,null,null,14.099510192871094,"mono",72,"pseudo-square",1580,808,40,"aluminum","junction box",15.3,"www.antek-cn.com","-","-","-","-","-",{"$f":"IF($O674=\"Sunpower Corp.\",3,(IF(OR($Q674=\"mono\",$Q674=\"poly\",$Q674=\"HIT\",$Q674=\"EFG\",$Q674=\"mono-LGBC\"),1,IF(OR($Q674=\"µc-Si / a-Si\",$Q674=\"a-Si (single)\",$Q674=\"a-Si (tandem)\",$Q674=\"a-Si (triple)\"),3,2))))","v":1},{"$f":"IF($O674=\"Sunpower Corp.\",3,(IF(OR($Q674=\"mono\",$Q674=\"poly\",$Q674=\"HIT\",$Q674=\"EFG\",$Q674=\"mono-LGBC\"),1,2)))","v":1},{"$f":"IF($O674=\"Sunpower Corp.\",3,(IF(OR($Q674=\"mono\",$Q674=\"poly\",$Q674=\"HIT\",$Q674=\"EFG\",$Q674=\"mono-LGBC\"),1,IF(OR($Q674=\"µc-Si / a-Si\",$Q674=\"a-Si (single)\",$Q674=\"a-Si (tandem)\",$Q674=\"a-Si (triple)\"),3,2))))","v":1},0,null,null,32485,null,null,672]
["Antek Wts Qingdao Co. Ltd. AKM180M-TS2","Antek Wts Qingdao Co. Ltd. ","AKM180M-TS2",180,"+3...-3",38.200000000000003,4.74,44.6,5.23,-151.63999999999999,0.88910000000000011,-0.48,1000,null,null,13.246979713439941,"mono",72,"pseudo-square",1580,860,40,"aluminum","junction box",15.3,"www.antek-cn.com","-","-","-","-","-",{"$f":"IF($O675=\"Sunpower Corp.\",3,(IF(OR($Q675=\"mono\",$Q675=\"poly\",$Q675=\"HIT\",$Q675=\"EFG\",$Q675=\"mono-LGBC\"),1,IF(OR($Q675=\"µc-Si / a-Si\",$Q675=\"a-Si (single)\",$Q675=\"a-Si (tandem)\",$Q675=\"a-Si (triple)\"),3,2))))","v":1},{"$f":"IF($O675=\"Sunpower Corp.\",3,(IF(OR($Q675=\"mono\",$Q675=\"poly\",$Q675=\"HIT\",$Q675=\"EFG\",$Q675=\"mono-LGBC\"),1,2)))","v":1},{"$f":"IF($O675=\"Sunpower Corp.\",3,(IF(OR($Q675=\"mono\",$Q675=\"poly\",$Q675=\"HIT\",$Q675=\"EFG\",$Q675=\"mono-LGBC\"),1,IF(OR($Q675=\"µc-Si / a-Si\",$Q675=\"a-Si (single)\",$Q675=\"a-Si (tandem)\",$Q675=\"a-Si (triple)\"),3,2))))","v":1},0,null,null,32486,null,null,673]
["Antek Wts Qingdao Co. Ltd. AKM185M","Antek Wts Qingdao Co. Ltd. ","AKM185M",185,"+3...-3",37,5,44.2,5.45,-150.28,0.9265000000000001,-0.48,1000,null,null,14.49116039276123,"mono",72,"pseudo-square",1580,808,40,"aluminum","junction box",15.3,"www.antek-cn.com","-","-","-","-","-",{"$f":"IF($O676=\"Sunpower Corp.\",3,(IF(OR($Q676=\"mono\",$Q676=\"poly\",$Q676=\"HIT\",$Q676=\"EFG\",$Q676=\"mono-LGBC\"),1,IF(OR($Q676=\"µc-Si / a-Si\",$Q676=\"a-Si (single)\",$Q676=\"a-Si (tandem)\",$Q676=\"a-Si (triple)\"),3,2))))","v":1},{"$f":"IF($O676=\"Sunpower Corp.\",3,(IF(OR($Q676=\"mono\",$Q676=\"poly\",$Q676=\"HIT\",$Q676=\"EFG\",$Q676=\"mono-LGBC\"),1,2)))","v":1},{"$f":"IF($O676=\"Sunpower Corp.\",3,(IF(OR($Q676=\"mono\",$Q676=\"poly\",$Q676=\"HIT\",$Q676=\"EFG\",$Q676=\"mono-LGBC\"),1,IF(OR($Q676=\"µc-Si / a-Si\",$Q676=\"a-Si (single)\",$Q676=\"a-Si (tandem)\",$Q676=\"a-Si (triple)\"),3,2))))","v":1},0,null,null,32489,null,null,674]
["Antek Wts Qingdao Co. Ltd. AKM190M","Antek Wts Qingdao Co. Ltd. ","AKM190M",190,"+3...-3",37.11,5.12,44.3,5.6,-150.62,0.95200000000000007,-0.48,1000,null,null,14.882820129394531,"mono",72,"pseudo-square",1580,808,40,"aluminum","junction box",15.3,"www.antek-cn.com","-","-","-","-","-",{"$f":"IF($O677=\"Sunpower Corp.\",3,(IF(OR($Q677=\"mono\",$Q677=\"poly\",$Q677=\"HIT\",$Q677=\"EFG\",$Q677=\"mono-LGBC\"),1,IF(OR($Q677=\"µc-Si / a-Si\",$Q677=\"a-Si (single)\",$Q677=\"a-Si (tandem)\",$Q677=\"a-Si (triple)\"),3,2))))","v":1},{"$f":"IF($O677=\"Sunpower Corp.\",3,(IF(OR($Q677=\"mono\",$Q677=\"poly\",$Q677=\"HIT\",$Q677=\"EFG\",$Q677=\"mono-LGBC\"),1,2)))","v":1},{"$f":"IF($O677=\"Sunpower Corp.\",3,(IF(OR($Q677=\"mono\",$Q677=\"poly\",$Q677=\"HIT\",$Q677=\"EFG\",$Q677=\"mono-LGBC\"),1,IF(OR($Q677=\"µc-Si / a-Si\",$Q677=\"a-Si (single)\",$Q677=\"a-Si (tandem)\",$Q677=\"a-Si (triple)\"),3,2))))","v":1},0,null,null,32490,null,null,675]
["Antek Wts Qingdao Co. Ltd. AKM210M","Antek Wts Qingdao Co. Ltd. ","AKM210M",210,"+3...-3",47,4.45,57.7,4.8499999999999996,-196.18,2.1825000000000001,-0.47,1000,null,null,12.515199661254883,"mono",96,"pseudo-square",1580,1062,50,"aluminum","junction box",19.7,"www.antek-cn.com","-","-","-","-","-",{"$f":"IF($O678=\"Sunpower Corp.\",3,(IF(OR($Q678=\"mono\",$Q678=\"poly\",$Q678=\"HIT\",$Q678=\"EFG\",$Q678=\"mono-LGBC\"),1,IF(OR($Q678=\"µc-Si / a-Si\",$Q678=\"a-Si (single)\",$Q678=\"a-Si (tandem)\",$Q678=\"a-Si (triple)\"),3,2))))","v":1},{"$f":"IF($O678=\"Sunpower Corp.\",3,(IF(OR($Q678=\"mono\",$Q678=\"poly\",$Q678=\"HIT\",$Q678=\"EFG\",$Q678=\"mono-LGBC\"),1,2)))","v":1},{"$f":"IF($O678=\"Sunpower Corp.\",3,(IF(OR($Q678=\"mono\",$Q678=\"poly\",$Q678=\"HIT\",$Q678=\"EFG\",$Q678=\"mono-LGBC\"),1,IF(OR($Q678=\"µc-Si / a-Si\",$Q678=\"a-Si (single)\",$Q678=\"a-Si (tandem)\",$Q678=\"a-Si (triple)\"),3,2))))","v":1},0,null,null,32491,null,null,676]
["Antek Wts Qingdao Co. Ltd. AKM210P-T","Antek Wts Qingdao Co. Ltd. ","AKM210P-T",210,"+3...-3",29.1,7.22,35.5,7.98,-120.7,3.5910000000000002,-0.47,1000,null,null,10.934080123901367,"poly",60,"square",1940,990,40,"aluminum","junction box",15.5,"www.antek-cn.com","-","-","-","-","-",{"$f":"IF($O679=\"Sunpower Corp.\",3,(IF(OR($Q679=\"mono\",$Q679=\"poly\",$Q679=\"HIT\",$Q679=\"EFG\",$Q679=\"mono-LGBC\"),1,IF(OR($Q679=\"µc-Si / a-Si\",$Q679=\"a-Si (single)\",$Q679=\"a-Si (tandem)\",$Q679=\"a-Si (triple)\"),3,2))))","v":1},{"$f":"IF($O679=\"Sunpower Corp.\",3,(IF(OR($Q679=\"mono\",$Q679=\"poly\",$Q679=\"HIT\",$Q679=\"EFG\",$Q679=\"mono-LGBC\"),1,2)))","v":1},{"$f":"IF($O679=\"Sunpower Corp.\",3,(IF(OR($Q679=\"mono\",$Q679=\"poly\",$Q679=\"HIT\",$Q679=\"EFG\",$Q679=\"mono-LGBC\"),1,IF(OR($Q679=\"µc-Si / a-Si\",$Q679=\"a-Si (single)\",$Q679=\"a-Si (tandem)\",$Q679=\"a-Si (triple)\"),3,2))))","v":1},0,null,null,32492,null,null,677]
["Antek Wts Qingdao Co. Ltd. AKM220M","Antek Wts Qingdao Co. Ltd. ","AKM220M",220,"+3...-3",47.8,4.5999999999999996,58.1,5.0199999999999996,-197.54,2.2589999999999999,-0.47,1000,null,null,13.111160278320313,"mono",96,"pseudo-square",1580,1062,50,"aluminum","junction box",19.7,"www.antek-cn.com","-","-","-","-","-",{"$f":"IF($O680=\"Sunpower Corp.\",3,(IF(OR($Q680=\"mono\",$Q680=\"poly\",$Q680=\"HIT\",$Q680=\"EFG\",$Q680=\"mono-LGBC\"),1,IF(OR($Q680=\"µc-Si / a-Si\",$Q680=\"a-Si (single)\",$Q680=\"a-Si (tandem)\",$Q680=\"a-Si (triple)\"),3,2))))","v":1},{"$f":"IF($O680=\"Sunpower Corp.\",3,(IF(OR($Q680=\"mono\",$Q680=\"poly\",$Q680=\"HIT\",$Q680=\"EFG\",$Q680=\"mono-LGBC\"),1,2)))","v":1},{"$f":"IF($O680=\"Sunpower Corp.\",3,(IF(OR($Q680=\"mono\",$Q680=\"poly\",$Q680=\"HIT\",$Q680=\"EFG\",$Q680=\"mono-LGBC\"),1,IF(OR($Q680=\"µc-Si / a-Si\",$Q680=\"a-Si (single)\",$Q680=\"a-Si (tandem)\",$Q680=\"a-Si (triple)\"),3,2))))","v":1},0,null,null,32493,null,null,678]
["Antek Wts Qingdao Co. Ltd. AKM220M-T","Antek Wts Qingdao Co. Ltd. ","AKM220M-T",220,"+3...-3",47.8,4.5999999999999996,58.1,5.01,-197.54,2.2545000000000002,-0.47,1000,null,null,13.111160278320313,"mono",96,"pseudo-square",1580,1062,50,"aluminum","junction box",20,"www.antek-cn.com","-","-","-","-","-",{"$f":"IF($O681=\"Sunpower Corp.\",3,(IF(OR($Q681=\"mono\",$Q681=\"poly\",$Q681=\"HIT\",$Q681=\"EFG\",$Q681=\"mono-LGBC\"),1,IF(OR($Q681=\"µc-Si / a-Si\",$Q681=\"a-Si (single)\",$Q681=\"a-Si (tandem)\",$Q681=\"a-Si (triple)\"),3,2))))","v":1},{"$f":"IF($O681=\"Sunpower Corp.\",3,(IF(OR($Q681=\"mono\",$Q681=\"poly\",$Q681=\"HIT\",$Q681=\"EFG\",$Q681=\"mono-LGBC\"),1,2)))","v":1},{"$f":"IF($O681=\"Sunpower Corp.\",3,(IF(OR($Q681=\"mono\",$Q681=\"poly\",$Q681=\"HIT\",$Q681=\"EFG\",$Q681=\"mono-LGBC\"),1,IF(OR($Q681=\"µc-Si / a-Si\",$Q681=\"a-Si (single)\",$Q681=\"a-Si (tandem)\",$Q681=\"a-Si (triple)\"),3,2))))","v":1},0,null,null,32494,null,null,679]
["Antek Wts Qingdao Co. Ltd. AKM220P","Antek Wts Qingdao Co. Ltd. ","AKM220P",220,"+3...-3",29.59,7.44,36.200000000000003,8.17,-123.08,3.6764999999999999,-0.47,1000,null,null,13.550140380859375,"poly",60,"square",1640,990,40,"aluminum","junction box",15.5,"www.antek-cn.com","-","-","-","-","-",{"$f":"IF($O682=\"Sunpower Corp.\",3,(IF(OR($Q682=\"mono\",$Q682=\"poly\",$Q682=\"HIT\",$Q682=\"EFG\",$Q682=\"mono-LGBC\"),1,IF(OR($Q682=\"µc-Si / a-Si\",$Q682=\"a-Si (single)\",$Q682=\"a-Si (tandem)\",$Q682=\"a-Si (triple)\"),3,2))))","v":1},{"$f":"IF($O682=\"Sunpower Corp.\",3,(IF(OR($Q682=\"mono\",$Q682=\"poly\",$Q682=\"HIT\",$Q682=\"EFG\",$Q682=\"mono-LGBC\"),1,2)))","v":1},{"$f":"IF($O682=\"Sunpower Corp.\",3,(IF(OR($Q682=\"mono\",$Q682=\"poly\",$Q682=\"HIT\",$Q682=\"EFG\",$Q682=\"mono-LGBC\"),1,IF(OR($Q682=\"µc-Si / a-Si\",$Q682=\"a-Si (single)\",$Q682=\"a-Si (tandem)\",$Q682=\"a-Si (triple)\"),3,2))))","v":1},0,null,null,32495,null,null,680]
["Antek Wts Qingdao Co. Ltd. AKM220P-T","Antek Wts Qingdao Co. Ltd. ","AKM220P-T",220,"+3...-3",29.6,7.43,36.200000000000003,8.17,-123.08,3.6764999999999999,-0.47,1000,null,null,13.550140380859375,"poly",60,"square",1640,990,40,"aluminum","junction box",15.5,"www.antek-cn.com","-","-","-","-","-",{"$f":"IF($O683=\"Sunpower Corp.\",3,(IF(OR($Q683=\"mono\",$Q683=\"poly\",$Q683=\"HIT\",$Q683=\"EFG\",$Q683=\"mono-LGBC\"),1,IF(OR($Q683=\"µc-Si / a-Si\",$Q683=\"a-Si (single)\",$Q683=\"a-Si (tandem)\",$Q683=\"a-Si (triple)\"),3,2))))","v":1},{"$f":"IF($O683=\"Sunpower Corp.\",3,(IF(OR($Q683=\"mono\",$Q683=\"poly\",$Q683=\"HIT\",$Q683=\"EFG\",$Q683=\"mono-LGBC\"),1,2)))","v":1},{"$f":"IF($O683=\"Sunpower Corp.\",3,(IF(OR($Q683=\"mono\",$Q683=\"poly\",$Q683=\"HIT\",$Q683=\"EFG\",$Q683=\"mono-LGBC\"),1,IF(OR($Q683=\"µc-Si / a-Si\",$Q683=\"a-Si (single)\",$Q683=\"a-Si (tandem)\",$Q683=\"a-Si (triple)\"),3,2))))","v":1},0,null,null,32497,null,null,681]
["Antek Wts Qingdao Co. Ltd. AKM230M","Antek Wts Qingdao Co. Ltd. ","AKM230M",230,"+3...-3",48.2,4.7699999999999996,58.4,5.1100000000000003,-198.56,2.2995000000000001,-0.47,1000,null,null,13.707119941711426,"mono",96,"pseudo-square",1580,1062,50,"aluminum","junction box",19.7,"www.antek-cn.com","-","-","-","-","-",{"$f":"IF($O684=\"Sunpower Corp.\",3,(IF(OR($Q684=\"mono\",$Q684=\"poly\",$Q684=\"HIT\",$Q684=\"EFG\",$Q684=\"mono-LGBC\"),1,IF(OR($Q684=\"µc-Si / a-Si\",$Q684=\"a-Si (single)\",$Q684=\"a-Si (tandem)\",$Q684=\"a-Si (triple)\"),3,2))))","v":1},{"$f":"IF($O684=\"Sunpower Corp.\",3,(IF(OR($Q684=\"mono\",$Q684=\"poly\",$Q684=\"HIT\",$Q684=\"EFG\",$Q684=\"mono-LGBC\"),1,2)))","v":1},{"$f":"IF($O684=\"Sunpower Corp.\",3,(IF(OR($Q684=\"mono\",$Q684=\"poly\",$Q684=\"HIT\",$Q684=\"EFG\",$Q684=\"mono-LGBC\"),1,IF(OR($Q684=\"µc-Si / a-Si\",$Q684=\"a-Si (single)\",$Q684=\"a-Si (tandem)\",$Q684=\"a-Si (triple)\"),3,2))))","v":1},0,null,null,32498,null,null,682]
["Antek Wts Qingdao Co. Ltd. AKM230M-T","Antek Wts Qingdao Co. Ltd. ","AKM230M-T",230,"+3...-3",48.2,4.7699999999999996,58.4,5.1100000000000003,-198.56,2.2995000000000001,-0.47,1000,null,null,13.707119941711426,"mono",96,"pseudo-square",1580,1062,50,"aluminum","junction box",20,"www.antek-cn.com","-","-","-","-","-",{"$f":"IF($O685=\"Sunpower Corp.\",3,(IF(OR($Q685=\"mono\",$Q685=\"poly\",$Q685=\"HIT\",$Q685=\"EFG\",$Q685=\"mono-LGBC\"),1,IF(OR($Q685=\"µc-Si / a-Si\",$Q685=\"a-Si (single)\",$Q685=\"a-Si (tandem)\",$Q685=\"a-Si (triple)\"),3,2))))","v":1},{"$f":"IF($O685=\"Sunpower Corp.\",3,(IF(OR($Q685=\"mono\",$Q685=\"poly\",$Q685=\"HIT\",$Q685=\"EFG\",$Q685=\"mono-LGBC\"),1,2)))","v":1},{"$f":"IF($O685=\"Sunpower Corp.\",3,(IF(OR($Q685=\"mono\",$Q685=\"poly\",$Q685=\"HIT\",$Q685=\"EFG\",$Q685=\"mono-LGBC\"),1,IF(OR($Q685=\"µc-Si / a-Si\",$Q685=\"a-Si (single)\",$Q685=\"a-Si (tandem)\",$Q685=\"a-Si (triple)\"),3,2))))","v":1},0,null,null,32499,null,null,683]
["Antek Wts Qingdao Co. Ltd. AKM230P","Antek Wts Qingdao Co. Ltd. ","AKM230P",230,"+3...-3",30.1,7.65,36.5,8.34,-124.1,3.7529999999999997,-0.47,1000,null,null,14.166049957275391,"poly",60,"square",1640,990,40,"aluminum","junction box",15.5,"www.antek-cn.com","-","-","-","-","-",{"$f":"IF($O686=\"Sunpower Corp.\",3,(IF(OR($Q686=\"mono\",$Q686=\"poly\",$Q686=\"HIT\",$Q686=\"EFG\",$Q686=\"mono-LGBC\"),1,IF(OR($Q686=\"µc-Si / a-Si\",$Q686=\"a-Si (single)\",$Q686=\"a-Si (tandem)\",$Q686=\"a-Si (triple)\"),3,2))))","v":1},{"$f":"IF($O686=\"Sunpower Corp.\",3,(IF(OR($Q686=\"mono\",$Q686=\"poly\",$Q686=\"HIT\",$Q686=\"EFG\",$Q686=\"mono-LGBC\"),1,2)))","v":1},{"$f":"IF($O686=\"Sunpower Corp.\",3,(IF(OR($Q686=\"mono\",$Q686=\"poly\",$Q686=\"HIT\",$Q686=\"EFG\",$Q686=\"mono-LGBC\"),1,IF(OR($Q686=\"µc-Si / a-Si\",$Q686=\"a-Si (single)\",$Q686=\"a-Si (tandem)\",$Q686=\"a-Si (triple)\"),3,2))))","v":1},0,null,null,32501,null,null,684]
["Antek Wts Qingdao Co. Ltd. AKM235P","Antek Wts Qingdao Co. Ltd. ","AKM235P",235,"+3...-3",30.6,7.69,37.21,8.5399999999999991,-126.51400000000001,3.8429999999999995,-0.47,1000,null,null,14.474010467529297,"poly",60,"square",1640,990,40,"aluminum","junction box",15.5,"www.antek-cn.com","-","-","-","-","-",{"$f":"IF($O687=\"Sunpower Corp.\",3,(IF(OR($Q687=\"mono\",$Q687=\"poly\",$Q687=\"HIT\",$Q687=\"EFG\",$Q687=\"mono-LGBC\"),1,IF(OR($Q687=\"µc-Si / a-Si\",$Q687=\"a-Si (single)\",$Q687=\"a-Si (tandem)\",$Q687=\"a-Si (triple)\"),3,2))))","v":1},{"$f":"IF($O687=\"Sunpower Corp.\",3,(IF(OR($Q687=\"mono\",$Q687=\"poly\",$Q687=\"HIT\",$Q687=\"EFG\",$Q687=\"mono-LGBC\"),1,2)))","v":1},{"$f":"IF($O687=\"Sunpower Corp.\",3,(IF(OR($Q687=\"mono\",$Q687=\"poly\",$Q687=\"HIT\",$Q687=\"EFG\",$Q687=\"mono-LGBC\"),1,IF(OR($Q687=\"µc-Si / a-Si\",$Q687=\"a-Si (single)\",$Q687=\"a-Si (tandem)\",$Q687=\"a-Si (triple)\"),3,2))))","v":1},0,null,null,32506,null,null,685]
["Antek Wts Qingdao Co. Ltd. AKM240M","Antek Wts Qingdao Co. Ltd. ","AKM240M",240,"+3...-3",48.6,4.9400000000000004,58.7,5.24,-199.58,2.3579999999999997,-0.47,1000,null,null,14.303079605102539,"mono",96,"pseudo-square",1580,1062,50,"aluminum","junction box",19.7,"www.antek-cn.com","-","-","-","-","-",{"$f":"IF($O688=\"Sunpower Corp.\",3,(IF(OR($Q688=\"mono\",$Q688=\"poly\",$Q688=\"HIT\",$Q688=\"EFG\",$Q688=\"mono-LGBC\"),1,IF(OR($Q688=\"µc-Si / a-Si\",$Q688=\"a-Si (single)\",$Q688=\"a-Si (tandem)\",$Q688=\"a-Si (triple)\"),3,2))))","v":1},{"$f":"IF($O688=\"Sunpower Corp.\",3,(IF(OR($Q688=\"mono\",$Q688=\"poly\",$Q688=\"HIT\",$Q688=\"EFG\",$Q688=\"mono-LGBC\"),1,2)))","v":1},{"$f":"IF($O688=\"Sunpower Corp.\",3,(IF(OR($Q688=\"mono\",$Q688=\"poly\",$Q688=\"HIT\",$Q688=\"EFG\",$Q688=\"mono-LGBC\"),1,IF(OR($Q688=\"µc-Si / a-Si\",$Q688=\"a-Si (single)\",$Q688=\"a-Si (tandem)\",$Q688=\"a-Si (triple)\"),3,2))))","v":1},0,null,null,32508,null,null,686]
["Antek Wts Qingdao Co. Ltd. AKM240P","Antek Wts Qingdao Co. Ltd. ","AKM240P",240,"+3...-3",30,8,37.200000000000003,8.65,-126.48,3.8925000000000001,-0.47,1000,null,null,14.781970024108887,"poly",60,"square",1640,990,40,"aluminum","junction box",15.5,"www.antek-cn.com","-","-","-","-","-",{"$f":"IF($O689=\"Sunpower Corp.\",3,(IF(OR($Q689=\"mono\",$Q689=\"poly\",$Q689=\"HIT\",$Q689=\"EFG\",$Q689=\"mono-LGBC\"),1,IF(OR($Q689=\"µc-Si / a-Si\",$Q689=\"a-Si (single)\",$Q689=\"a-Si (tandem)\",$Q689=\"a-Si (triple)\"),3,2))))","v":1},{"$f":"IF($O689=\"Sunpower Corp.\",3,(IF(OR($Q689=\"mono\",$Q689=\"poly\",$Q689=\"HIT\",$Q689=\"EFG\",$Q689=\"mono-LGBC\"),1,2)))","v":1},{"$f":"IF($O689=\"Sunpower Corp.\",3,(IF(OR($Q689=\"mono\",$Q689=\"poly\",$Q689=\"HIT\",$Q689=\"EFG\",$Q689=\"mono-LGBC\"),1,IF(OR($Q689=\"µc-Si / a-Si\",$Q689=\"a-Si (single)\",$Q689=\"a-Si (tandem)\",$Q689=\"a-Si (triple)\"),3,2))))","v":1},0,null,null,32512,null,null,687]
["Antek Wts Qingdao Co. Ltd. AKM240P (72)","Antek Wts Qingdao Co. Ltd. ","AKM240P (72)",240,"+3...-3",34.49,6.96,42.8,7.75,-145.52000000000001,3.4874999999999998,-0.47,1000,null,null,12.393879890441895,"poly",72,"square",1956,990,50,"aluminum","junction box",23,"www.antek-cn.com","-","-","-","-","-",{"$f":"IF($O690=\"Sunpower Corp.\",3,(IF(OR($Q690=\"mono\",$Q690=\"poly\",$Q690=\"HIT\",$Q690=\"EFG\",$Q690=\"mono-LGBC\"),1,IF(OR($Q690=\"µc-Si / a-Si\",$Q690=\"a-Si (single)\",$Q690=\"a-Si (tandem)\",$Q690=\"a-Si (triple)\"),3,2))))","v":1},{"$f":"IF($O690=\"Sunpower Corp.\",3,(IF(OR($Q690=\"mono\",$Q690=\"poly\",$Q690=\"HIT\",$Q690=\"EFG\",$Q690=\"mono-LGBC\"),1,2)))","v":1},{"$f":"IF($O690=\"Sunpower Corp.\",3,(IF(OR($Q690=\"mono\",$Q690=\"poly\",$Q690=\"HIT\",$Q690=\"EFG\",$Q690=\"mono-LGBC\"),1,IF(OR($Q690=\"µc-Si / a-Si\",$Q690=\"a-Si (single)\",$Q690=\"a-Si (tandem)\",$Q690=\"a-Si (triple)\"),3,2))))","v":1},0,null,null,32514,null,null,688]
["Antek Wts Qingdao Co. Ltd. AKM245M","Antek Wts Qingdao Co. Ltd. ","AKM245M",245,"+3...-3",48.6,5.04,58.7,5.37,-199.58,2.4164999999999996,-0.47,1000,null,null,14.601059913635254,"mono",96,"pseudo-square",1580,1062,50,"aluminum","junction box",19.7,"www.antek-cn.com","-","-","-","-","-",{"$f":"IF($O691=\"Sunpower Corp.\",3,(IF(OR($Q691=\"mono\",$Q691=\"poly\",$Q691=\"HIT\",$Q691=\"EFG\",$Q691=\"mono-LGBC\"),1,IF(OR($Q691=\"µc-Si / a-Si\",$Q691=\"a-Si (single)\",$Q691=\"a-Si (tandem)\",$Q691=\"a-Si (triple)\"),3,2))))","v":1},{"$f":"IF($O691=\"Sunpower Corp.\",3,(IF(OR($Q691=\"mono\",$Q691=\"poly\",$Q691=\"HIT\",$Q691=\"EFG\",$Q691=\"mono-LGBC\"),1,2)))","v":1},{"$f":"IF($O691=\"Sunpower Corp.\",3,(IF(OR($Q691=\"mono\",$Q691=\"poly\",$Q691=\"HIT\",$Q691=\"EFG\",$Q691=\"mono-LGBC\"),1,IF(OR($Q691=\"µc-Si / a-Si\",$Q691=\"a-Si (single)\",$Q691=\"a-Si (tandem)\",$Q691=\"a-Si (triple)\"),3,2))))","v":1},0,null,null,32515,null,null,689]
["Antek Wts Qingdao Co. Ltd. AKM250M","Antek Wts Qingdao Co. Ltd. ","AKM250M",250,"+3...-3",48.8,5.12,58.9,5.51,-200.26,2.4794999999999998,-0.47,1000,null,null,14.899040222167969,"mono",96,"pseudo-square",1580,1062,50,"aluminum","junction box",19.7,"www.antek-cn.com","-","-","-","-","-",{"$f":"IF($O692=\"Sunpower Corp.\",3,(IF(OR($Q692=\"mono\",$Q692=\"poly\",$Q692=\"HIT\",$Q692=\"EFG\",$Q692=\"mono-LGBC\"),1,IF(OR($Q692=\"µc-Si / a-Si\",$Q692=\"a-Si (single)\",$Q692=\"a-Si (tandem)\",$Q692=\"a-Si (triple)\"),3,2))))","v":1},{"$f":"IF($O692=\"Sunpower Corp.\",3,(IF(OR($Q692=\"mono\",$Q692=\"poly\",$Q692=\"HIT\",$Q692=\"EFG\",$Q692=\"mono-LGBC\"),1,2)))","v":1},{"$f":"IF($O692=\"Sunpower Corp.\",3,(IF(OR($Q692=\"mono\",$Q692=\"poly\",$Q692=\"HIT\",$Q692=\"EFG\",$Q692=\"mono-LGBC\"),1,IF(OR($Q692=\"µc-Si / a-Si\",$Q692=\"a-Si (single)\",$Q692=\"a-Si (tandem)\",$Q692=\"a-Si (triple)\"),3,2))))","v":1},0,null,null,32516,null,null,690]
["Antek Wts Qingdao Co. Ltd. AKM250P","Antek Wts Qingdao Co. Ltd. ","AKM250P",250,"+3...-3",34.81,7.18,43,8,-146.19999999999999,3.6,-0.47,1000,null,null,12.910289764404297,"poly",72,"square",1956,990,50,"aluminum","junction box",23,"www.antek-cn.com","-","-","-","-","-",{"$f":"IF($O693=\"Sunpower Corp.\",3,(IF(OR($Q693=\"mono\",$Q693=\"poly\",$Q693=\"HIT\",$Q693=\"EFG\",$Q693=\"mono-LGBC\"),1,IF(OR($Q693=\"µc-Si / a-Si\",$Q693=\"a-Si (single)\",$Q693=\"a-Si (tandem)\",$Q693=\"a-Si (triple)\"),3,2))))","v":1},{"$f":"IF($O693=\"Sunpower Corp.\",3,(IF(OR($Q693=\"mono\",$Q693=\"poly\",$Q693=\"HIT\",$Q693=\"EFG\",$Q693=\"mono-LGBC\"),1,2)))","v":1},{"$f":"IF($O693=\"Sunpower Corp.\",3,(IF(OR($Q693=\"mono\",$Q693=\"poly\",$Q693=\"HIT\",$Q693=\"EFG\",$Q693=\"mono-LGBC\"),1,IF(OR($Q693=\"µc-Si / a-Si\",$Q693=\"a-Si (single)\",$Q693=\"a-Si (tandem)\",$Q693=\"a-Si (triple)\"),3,2))))","v":1},0,null,null,32518,null,null,691]
["Antek Wts Qingdao Co. Ltd. AKM260P","Antek Wts Qingdao Co. Ltd. ","AKM260P",260,"+3...-3",35.200000000000003,7.38,43.4,8.1199999999999992,-147.56,3.6539999999999999,-0.47,1000,null,null,13.426699638366699,"poly",72,"square",1956,990,50,"aluminum","junction box",23,"www.antek-cn.com","-","-","-","-","-",{"$f":"IF($O694=\"Sunpower Corp.\",3,(IF(OR($Q694=\"mono\",$Q694=\"poly\",$Q694=\"HIT\",$Q694=\"EFG\",$Q694=\"mono-LGBC\"),1,IF(OR($Q694=\"µc-Si / a-Si\",$Q694=\"a-Si (single)\",$Q694=\"a-Si (tandem)\",$Q694=\"a-Si (triple)\"),3,2))))","v":1},{"$f":"IF($O694=\"Sunpower Corp.\",3,(IF(OR($Q694=\"mono\",$Q694=\"poly\",$Q694=\"HIT\",$Q694=\"EFG\",$Q694=\"mono-LGBC\"),1,2)))","v":1},{"$f":"IF($O694=\"Sunpower Corp.\",3,(IF(OR($Q694=\"mono\",$Q694=\"poly\",$Q694=\"HIT\",$Q694=\"EFG\",$Q694=\"mono-LGBC\"),1,IF(OR($Q694=\"µc-Si / a-Si\",$Q694=\"a-Si (single)\",$Q694=\"a-Si (tandem)\",$Q694=\"a-Si (triple)\"),3,2))))","v":1},0,null,null,32521,null,null,692]
["Antek Wts Qingdao Co. Ltd. AKM260P-T","Antek Wts Qingdao Co. Ltd. ","AKM260P-T",260,"+3...-3",35.200000000000003,7.38,43.4,8.1199999999999992,-147.56,3.6539999999999999,-0.47,1000,null,null,13.426699638366699,"poly",72,"square",1956,990,50,"aluminum","junction box",23,"www.antek-cn.com","-","-","-","-","-",{"$f":"IF($O695=\"Sunpower Corp.\",3,(IF(OR($Q695=\"mono\",$Q695=\"poly\",$Q695=\"HIT\",$Q695=\"EFG\",$Q695=\"mono-LGBC\"),1,IF(OR($Q695=\"µc-Si / a-Si\",$Q695=\"a-Si (single)\",$Q695=\"a-Si (tandem)\",$Q695=\"a-Si (triple)\"),3,2))))","v":1},{"$f":"IF($O695=\"Sunpower Corp.\",3,(IF(OR($Q695=\"mono\",$Q695=\"poly\",$Q695=\"HIT\",$Q695=\"EFG\",$Q695=\"mono-LGBC\"),1,2)))","v":1},{"$f":"IF($O695=\"Sunpower Corp.\",3,(IF(OR($Q695=\"mono\",$Q695=\"poly\",$Q695=\"HIT\",$Q695=\"EFG\",$Q695=\"mono-LGBC\"),1,IF(OR($Q695=\"µc-Si / a-Si\",$Q695=\"a-Si (single)\",$Q695=\"a-Si (tandem)\",$Q695=\"a-Si (triple)\"),3,2))))","v":1},0,null,null,32524,null,null,693]
["Antek Wts Qingdao Co. Ltd. AKM270P","Antek Wts Qingdao Co. Ltd. ","AKM270P",270,"+3...-3",35.9,7.52,43.8,8.27,-148.91999999999999,3.7214999999999994,-0.47,1000,null,null,13.943110466003418,"poly",72,"square",1956,990,50,"aluminum","junction box",23,"www.antek-cn.com","-","-","-","-","-",{"$f":"IF($O696=\"Sunpower Corp.\",3,(IF(OR($Q696=\"mono\",$Q696=\"poly\",$Q696=\"HIT\",$Q696=\"EFG\",$Q696=\"mono-LGBC\"),1,IF(OR($Q696=\"µc-Si / a-Si\",$Q696=\"a-Si (single)\",$Q696=\"a-Si (tandem)\",$Q696=\"a-Si (triple)\"),3,2))))","v":1},{"$f":"IF($O696=\"Sunpower Corp.\",3,(IF(OR($Q696=\"mono\",$Q696=\"poly\",$Q696=\"HIT\",$Q696=\"EFG\",$Q696=\"mono-LGBC\"),1,2)))","v":1},{"$f":"IF($O696=\"Sunpower Corp.\",3,(IF(OR($Q696=\"mono\",$Q696=\"poly\",$Q696=\"HIT\",$Q696=\"EFG\",$Q696=\"mono-LGBC\"),1,IF(OR($Q696=\"µc-Si / a-Si\",$Q696=\"a-Si (single)\",$Q696=\"a-Si (tandem)\",$Q696=\"a-Si (triple)\"),3,2))))","v":1},0,null,null,32529,null,null,694]
["Antek Wts Qingdao Co. Ltd. AKM280P","Antek Wts Qingdao Co. Ltd. ","AKM280P",280,"+3...-3",36.4,7.67,44.5,8.5500000000000007,-151.30000000000001,3.8475000000000001,-0.47,1000,null,null,14.45952033996582,"poly",72,"square",1956,990,50,"aluminum","junction box",23,"www.antek-cn.com","-","-","-","-","-",{"$f":"IF($O697=\"Sunpower Corp.\",3,(IF(OR($Q697=\"mono\",$Q697=\"poly\",$Q697=\"HIT\",$Q697=\"EFG\",$Q697=\"mono-LGBC\"),1,IF(OR($Q697=\"µc-Si / a-Si\",$Q697=\"a-Si (single)\",$Q697=\"a-Si (tandem)\",$Q697=\"a-Si (triple)\"),3,2))))","v":1},{"$f":"IF($O697=\"Sunpower Corp.\",3,(IF(OR($Q697=\"mono\",$Q697=\"poly\",$Q697=\"HIT\",$Q697=\"EFG\",$Q697=\"mono-LGBC\"),1,2)))","v":1},{"$f":"IF($O697=\"Sunpower Corp.\",3,(IF(OR($Q697=\"mono\",$Q697=\"poly\",$Q697=\"HIT\",$Q697=\"EFG\",$Q697=\"mono-LGBC\"),1,IF(OR($Q697=\"µc-Si / a-Si\",$Q697=\"a-Si (single)\",$Q697=\"a-Si (tandem)\",$Q697=\"a-Si (triple)\"),3,2))))","v":1},0,null,null,32531,null,null,695]
["Antek Wts Qingdao Co. Ltd. QS160M","Antek Wts Qingdao Co. Ltd. ","QS160M",160,"+3...-3",35.47,4.51,43.6,4.8899999999999997,-148.24,4.4009999999999998,-0.37,1000,null,null,12.299900054931641,"mono",72,"pseudo-square",1602,812,35,"aluminum","cable MC",16,"www.antek-cn.com","-","-","-","-","-",{"$f":"IF($O698=\"Sunpower Corp.\",3,(IF(OR($Q698=\"mono\",$Q698=\"poly\",$Q698=\"HIT\",$Q698=\"EFG\",$Q698=\"mono-LGBC\"),1,IF(OR($Q698=\"µc-Si / a-Si\",$Q698=\"a-Si (single)\",$Q698=\"a-Si (tandem)\",$Q698=\"a-Si (triple)\"),3,2))))","v":1},{"$f":"IF($O698=\"Sunpower Corp.\",3,(IF(OR($Q698=\"mono\",$Q698=\"poly\",$Q698=\"HIT\",$Q698=\"EFG\",$Q698=\"mono-LGBC\"),1,2)))","v":1},{"$f":"IF($O698=\"Sunpower Corp.\",3,(IF(OR($Q698=\"mono\",$Q698=\"poly\",$Q698=\"HIT\",$Q698=\"EFG\",$Q698=\"mono-LGBC\"),1,IF(OR($Q698=\"µc-Si / a-Si\",$Q698=\"a-Si (single)\",$Q698=\"a-Si (tandem)\",$Q698=\"a-Si (triple)\"),3,2))))","v":1},0,null,null,15762,null,null,696]
["Antek Wts Qingdao Co. Ltd. QS170M","Antek Wts Qingdao Co. Ltd. ","QS170M",170,"+3...-3",36.1,4.71,43.9,5.0999999999999996,-149.26,4.59,-0.37,1000,null,null,13.068639755249023,"mono",72,"pseudo-square",1602,812,35,"aluminum","cable MC",16,"www.antek-cn.com","-","-","-","-","-",{"$f":"IF($O699=\"Sunpower Corp.\",3,(IF(OR($Q699=\"mono\",$Q699=\"poly\",$Q699=\"HIT\",$Q699=\"EFG\",$Q699=\"mono-LGBC\"),1,IF(OR($Q699=\"µc-Si / a-Si\",$Q699=\"a-Si (single)\",$Q699=\"a-Si (tandem)\",$Q699=\"a-Si (triple)\"),3,2))))","v":1},{"$f":"IF($O699=\"Sunpower Corp.\",3,(IF(OR($Q699=\"mono\",$Q699=\"poly\",$Q699=\"HIT\",$Q699=\"EFG\",$Q699=\"mono-LGBC\"),1,2)))","v":1},{"$f":"IF($O699=\"Sunpower Corp.\",3,(IF(OR($Q699=\"mono\",$Q699=\"poly\",$Q699=\"HIT\",$Q699=\"EFG\",$Q699=\"mono-LGBC\"),1,IF(OR($Q699=\"µc-Si / a-Si\",$Q699=\"a-Si (single)\",$Q699=\"a-Si (tandem)\",$Q699=\"a-Si (triple)\"),3,2))))","v":1},0,null,null,15761,null,null,697]
["Antek Wts Qingdao Co. Ltd. QS180M","Antek Wts Qingdao Co. Ltd. ","QS180M",180,"+3...-3",35.85,5.04,44.78,5.43,-152.25200000000004,4.8869999999999996,-0.37,1000,null,null,13.837380409240723,"mono",72,"pseudo-square",1602,812,35,"aluminum","cable MC",16,"www.antek-cn.com","-","-","-","-","-",{"$f":"IF($O700=\"Sunpower Corp.\",3,(IF(OR($Q700=\"mono\",$Q700=\"poly\",$Q700=\"HIT\",$Q700=\"EFG\",$Q700=\"mono-LGBC\"),1,IF(OR($Q700=\"µc-Si / a-Si\",$Q700=\"a-Si (single)\",$Q700=\"a-Si (tandem)\",$Q700=\"a-Si (triple)\"),3,2))))","v":1},{"$f":"IF($O700=\"Sunpower Corp.\",3,(IF(OR($Q700=\"mono\",$Q700=\"poly\",$Q700=\"HIT\",$Q700=\"EFG\",$Q700=\"mono-LGBC\"),1,2)))","v":1},{"$f":"IF($O700=\"Sunpower Corp.\",3,(IF(OR($Q700=\"mono\",$Q700=\"poly\",$Q700=\"HIT\",$Q700=\"EFG\",$Q700=\"mono-LGBC\"),1,IF(OR($Q700=\"µc-Si / a-Si\",$Q700=\"a-Si (single)\",$Q700=\"a-Si (tandem)\",$Q700=\"a-Si (triple)\"),3,2))))","v":1},0,null,null,15760,null,null,698]
["Antek Wts Qingdao Co. Ltd. QS185M","Antek Wts Qingdao Co. Ltd. ","QS185M",185,"+3...-3",36.299999999999997,5.09,44.6,5.8,-151.63999999999999,5.22,-0.37,1000,null,null,14.221759796142578,"mono",72,"pseudo-square",1602,812,35,"aluminum","cable MC",16,"www.antek-cn.com","-","-","-","-","-",{"$f":"IF($O701=\"Sunpower Corp.\",3,(IF(OR($Q701=\"mono\",$Q701=\"poly\",$Q701=\"HIT\",$Q701=\"EFG\",$Q701=\"mono-LGBC\"),1,IF(OR($Q701=\"µc-Si / a-Si\",$Q701=\"a-Si (single)\",$Q701=\"a-Si (tandem)\",$Q701=\"a-Si (triple)\"),3,2))))","v":1},{"$f":"IF($O701=\"Sunpower Corp.\",3,(IF(OR($Q701=\"mono\",$Q701=\"poly\",$Q701=\"HIT\",$Q701=\"EFG\",$Q701=\"mono-LGBC\"),1,2)))","v":1},{"$f":"IF($O701=\"Sunpower Corp.\",3,(IF(OR($Q701=\"mono\",$Q701=\"poly\",$Q701=\"HIT\",$Q701=\"EFG\",$Q701=\"mono-LGBC\"),1,IF(OR($Q701=\"µc-Si / a-Si\",$Q701=\"a-Si (single)\",$Q701=\"a-Si (tandem)\",$Q701=\"a-Si (triple)\"),3,2))))","v":1},0,null,null,15759,null,null,699]
["Antek Wts Qingdao Co. Ltd. QS200P","Antek Wts Qingdao Co. Ltd. ","QS200P",200,"+5...-5",27.21,7.36,32.72,7.86,-111.248,7.0740000000000007,-0.37,1000,null,null,13.382369995117188,"poly",54,"square",1496,999,47,"aluminum","cable MC",18,"www.antek-cn.com","-","-","-","-","-",{"$f":"IF($O702=\"Sunpower Corp.\",3,(IF(OR($Q702=\"mono\",$Q702=\"poly\",$Q702=\"HIT\",$Q702=\"EFG\",$Q702=\"mono-LGBC\"),1,IF(OR($Q702=\"µc-Si / a-Si\",$Q702=\"a-Si (single)\",$Q702=\"a-Si (tandem)\",$Q702=\"a-Si (triple)\"),3,2))))","v":1},{"$f":"IF($O702=\"Sunpower Corp.\",3,(IF(OR($Q702=\"mono\",$Q702=\"poly\",$Q702=\"HIT\",$Q702=\"EFG\",$Q702=\"mono-LGBC\"),1,2)))","v":1},{"$f":"IF($O702=\"Sunpower Corp.\",3,(IF(OR($Q702=\"mono\",$Q702=\"poly\",$Q702=\"HIT\",$Q702=\"EFG\",$Q702=\"mono-LGBC\"),1,IF(OR($Q702=\"µc-Si / a-Si\",$Q702=\"a-Si (single)\",$Q702=\"a-Si (tandem)\",$Q702=\"a-Si (triple)\"),3,2))))","v":1},0,null,null,15763,null,null,700]
["Antek Wts Qingdao Co. Ltd. QS210P","Antek Wts Qingdao Co. Ltd. ","QS210P",210,"+5...-5",27.54,7.63,32.83,8.3000000000000007,-111.622,7.47,-0.37,1000,null,null,14.05148983001709,"poly",54,"square",1496,999,47,"aluminum","cable MC",18,"www.antek-cn.com","-","-","-","-","-",{"$f":"IF($O703=\"Sunpower Corp.\",3,(IF(OR($Q703=\"mono\",$Q703=\"poly\",$Q703=\"HIT\",$Q703=\"EFG\",$Q703=\"mono-LGBC\"),1,IF(OR($Q703=\"µc-Si / a-Si\",$Q703=\"a-Si (single)\",$Q703=\"a-Si (tandem)\",$Q703=\"a-Si (triple)\"),3,2))))","v":1},{"$f":"IF($O703=\"Sunpower Corp.\",3,(IF(OR($Q703=\"mono\",$Q703=\"poly\",$Q703=\"HIT\",$Q703=\"EFG\",$Q703=\"mono-LGBC\"),1,2)))","v":1},{"$f":"IF($O703=\"Sunpower Corp.\",3,(IF(OR($Q703=\"mono\",$Q703=\"poly\",$Q703=\"HIT\",$Q703=\"EFG\",$Q703=\"mono-LGBC\"),1,IF(OR($Q703=\"µc-Si / a-Si\",$Q703=\"a-Si (single)\",$Q703=\"a-Si (tandem)\",$Q703=\"a-Si (triple)\"),3,2))))","v":1},0,null,null,15764,null,null,701]
["Antek Wts Qingdao Co. Ltd. QS220P","Antek Wts Qingdao Co. Ltd. ","QS220P",220,"+5...-5",29,7.58,36.299999999999997,8.1,-123.42,7.29,-0.37,1000,null,null,13.306360244750977,"poly",60,"square",1655,999,47,"aluminum","cable MC",18.8,"www.antek-cn.com","-","-","-","-","-",{"$f":"IF($O704=\"Sunpower Corp.\",3,(IF(OR($Q704=\"mono\",$Q704=\"poly\",$Q704=\"HIT\",$Q704=\"EFG\",$Q704=\"mono-LGBC\"),1,IF(OR($Q704=\"µc-Si / a-Si\",$Q704=\"a-Si (single)\",$Q704=\"a-Si (tandem)\",$Q704=\"a-Si (triple)\"),3,2))))","v":1},{"$f":"IF($O704=\"Sunpower Corp.\",3,(IF(OR($Q704=\"mono\",$Q704=\"poly\",$Q704=\"HIT\",$Q704=\"EFG\",$Q704=\"mono-LGBC\"),1,2)))","v":1},{"$f":"IF($O704=\"Sunpower Corp.\",3,(IF(OR($Q704=\"mono\",$Q704=\"poly\",$Q704=\"HIT\",$Q704=\"EFG\",$Q704=\"mono-LGBC\"),1,IF(OR($Q704=\"µc-Si / a-Si\",$Q704=\"a-Si (single)\",$Q704=\"a-Si (tandem)\",$Q704=\"a-Si (triple)\"),3,2))))","v":1},0,null,null,15765,null,null,702]
["Antek Wts Qingdao Co. Ltd. QS230P","Antek Wts Qingdao Co. Ltd. ","QS230P",230,"+5...-5",29.4,7.82,36.5,8.3000000000000007,-124.1,7.47,-0.37,1000,null,null,13.911190032958984,"poly",60,"square",1655,999,47,"aluminum","cable MC",18.8,"www.antek-cn.com","-","-","-","-","-",{"$f":"IF($O705=\"Sunpower Corp.\",3,(IF(OR($Q705=\"mono\",$Q705=\"poly\",$Q705=\"HIT\",$Q705=\"EFG\",$Q705=\"mono-LGBC\"),1,IF(OR($Q705=\"µc-Si / a-Si\",$Q705=\"a-Si (single)\",$Q705=\"a-Si (tandem)\",$Q705=\"a-Si (triple)\"),3,2))))","v":1},{"$f":"IF($O705=\"Sunpower Corp.\",3,(IF(OR($Q705=\"mono\",$Q705=\"poly\",$Q705=\"HIT\",$Q705=\"EFG\",$Q705=\"mono-LGBC\"),1,2)))","v":1},{"$f":"IF($O705=\"Sunpower Corp.\",3,(IF(OR($Q705=\"mono\",$Q705=\"poly\",$Q705=\"HIT\",$Q705=\"EFG\",$Q705=\"mono-LGBC\"),1,IF(OR($Q705=\"µc-Si / a-Si\",$Q705=\"a-Si (single)\",$Q705=\"a-Si (tandem)\",$Q705=\"a-Si (triple)\"),3,2))))","v":1},0,null,null,15766,null,null,703]
["Apollo Solar Energy Co., Ltd. ASEC-120G6M","Apollo Solar Energy Co., Ltd. ","ASEC-120G6M",120,"+4,17...0",17.329999999999998,6.93,21.6,7.49,-70.113600000000005,2.1106820000000002,-0.51329999999999998,1000,"Taiwan (Formosa)",null,12.20911979675293,"poly",36,"square",1496,657,47.5,"aluminum","junction box Tyco",12.1,"www.asectw.com","-","-","-","-","-",{"$f":"IF($O706=\"Sunpower Corp.\",3,(IF(OR($Q706=\"mono\",$Q706=\"poly\",$Q706=\"HIT\",$Q706=\"EFG\",$Q706=\"mono-LGBC\"),1,IF(OR($Q706=\"µc-Si / a-Si\",$Q706=\"a-Si (single)\",$Q706=\"a-Si (tandem)\",$Q706=\"a-Si (triple)\"),3,2))))","v":1},{"$f":"IF($O706=\"Sunpower Corp.\",3,(IF(OR($Q706=\"mono\",$Q706=\"poly\",$Q706=\"HIT\",$Q706=\"EFG\",$Q706=\"mono-LGBC\"),1,2)))","v":1},{"$f":"IF($O706=\"Sunpower Corp.\",3,(IF(OR($Q706=\"mono\",$Q706=\"poly\",$Q706=\"HIT\",$Q706=\"EFG\",$Q706=\"mono-LGBC\"),1,IF(OR($Q706=\"µc-Si / a-Si\",$Q706=\"a-Si (single)\",$Q706=\"a-Si (tandem)\",$Q706=\"a-Si (triple)\"),3,2))))","v":1},0,null,null,24945,null,null,704]
["Apollo Solar Energy Co., Ltd. ASEC-120G6S","Apollo Solar Energy Co., Ltd. ","ASEC-120G6S",120,"+4,17...0",17.12,7.01,21.47,7.77,-71.130110000000002,2.6853120000000001,-0.50280000000000002,1000,"Taiwan (Formosa)",null,12.20911979675293,"mono",36,"pseudo-square",1496,657,47.5,"aluminum","junction box Tyco",12.1,"www.asectw.com","-","-","-","-","-",{"$f":"IF($O707=\"Sunpower Corp.\",3,(IF(OR($Q707=\"mono\",$Q707=\"poly\",$Q707=\"HIT\",$Q707=\"EFG\",$Q707=\"mono-LGBC\"),1,IF(OR($Q707=\"µc-Si / a-Si\",$Q707=\"a-Si (single)\",$Q707=\"a-Si (tandem)\",$Q707=\"a-Si (triple)\"),3,2))))","v":1},{"$f":"IF($O707=\"Sunpower Corp.\",3,(IF(OR($Q707=\"mono\",$Q707=\"poly\",$Q707=\"HIT\",$Q707=\"EFG\",$Q707=\"mono-LGBC\"),1,2)))","v":1},{"$f":"IF($O707=\"Sunpower Corp.\",3,(IF(OR($Q707=\"mono\",$Q707=\"poly\",$Q707=\"HIT\",$Q707=\"EFG\",$Q707=\"mono-LGBC\"),1,IF(OR($Q707=\"µc-Si / a-Si\",$Q707=\"a-Si (single)\",$Q707=\"a-Si (tandem)\",$Q707=\"a-Si (triple)\"),3,2))))","v":1},0,null,null,24942,null,null,705]
["Apollo Solar Energy Co., Ltd. ASEC-125G6M","Apollo Solar Energy Co., Ltd. ","ASEC-125G6M",125,"+4...0",17.190000000000001,7.28,21.58,7.89,-70.048680000000004,2.2234020000000001,-0.51329999999999998,1000,"Taiwan (Formosa)",null,12.717829704284668,"poly",36,"square",1496,657,47.5,"aluminum","junction box Tyco",12.1,"www.asectw.com","-","-","-","-","-",{"$f":"IF($O708=\"Sunpower Corp.\",3,(IF(OR($Q708=\"mono\",$Q708=\"poly\",$Q708=\"HIT\",$Q708=\"EFG\",$Q708=\"mono-LGBC\"),1,IF(OR($Q708=\"µc-Si / a-Si\",$Q708=\"a-Si (single)\",$Q708=\"a-Si (tandem)\",$Q708=\"a-Si (triple)\"),3,2))))","v":1},{"$f":"IF($O708=\"Sunpower Corp.\",3,(IF(OR($Q708=\"mono\",$Q708=\"poly\",$Q708=\"HIT\",$Q708=\"EFG\",$Q708=\"mono-LGBC\"),1,2)))","v":1},{"$f":"IF($O708=\"Sunpower Corp.\",3,(IF(OR($Q708=\"mono\",$Q708=\"poly\",$Q708=\"HIT\",$Q708=\"EFG\",$Q708=\"mono-LGBC\"),1,IF(OR($Q708=\"µc-Si / a-Si\",$Q708=\"a-Si (single)\",$Q708=\"a-Si (tandem)\",$Q708=\"a-Si (triple)\"),3,2))))","v":1},0,null,null,24946,null,null,706]
["Apollo Solar Energy Co., Ltd. ASEC-125G6S","Apollo Solar Energy Co., Ltd. ","ASEC-125G6S",125,"+4...0",17.29,7.23,21.55,8.01,-71.395150000000001,2.7682559999999996,-0.50280000000000002,1000,"Taiwan (Formosa)",null,12.717829704284668,"mono",36,"pseudo-square",1496,657,47.5,"aluminum","junction box Tyco",12.1,"www.asectw.com","-","-","-","-","-",{"$f":"IF($O709=\"Sunpower Corp.\",3,(IF(OR($Q709=\"mono\",$Q709=\"poly\",$Q709=\"HIT\",$Q709=\"EFG\",$Q709=\"mono-LGBC\"),1,IF(OR($Q709=\"µc-Si / a-Si\",$Q709=\"a-Si (single)\",$Q709=\"a-Si (tandem)\",$Q709=\"a-Si (triple)\"),3,2))))","v":1},{"$f":"IF($O709=\"Sunpower Corp.\",3,(IF(OR($Q709=\"mono\",$Q709=\"poly\",$Q709=\"HIT\",$Q709=\"EFG\",$Q709=\"mono-LGBC\"),1,2)))","v":1},{"$f":"IF($O709=\"Sunpower Corp.\",3,(IF(OR($Q709=\"mono\",$Q709=\"poly\",$Q709=\"HIT\",$Q709=\"EFG\",$Q709=\"mono-LGBC\"),1,IF(OR($Q709=\"µc-Si / a-Si\",$Q709=\"a-Si (single)\",$Q709=\"a-Si (tandem)\",$Q709=\"a-Si (triple)\"),3,2))))","v":1},0,null,null,24943,null,null,707]
["Apollo Solar Energy Co., Ltd. ASEC-130G6M","Apollo Solar Energy Co., Ltd. ","ASEC-130G6M",130,"+3,85...0",17.54,7.45,21.66,7.93,-70.308359999999993,2.234674,-0.51329999999999998,1000,"Taiwan (Formosa)",null,13.226539611816406,"poly",36,"rectangular",1496,657,47.5,"aluminum","junction box Tyco",12.1,"www.asectw.com","-","-","-","-","-",{"$f":"IF($O710=\"Sunpower Corp.\",3,(IF(OR($Q710=\"mono\",$Q710=\"poly\",$Q710=\"HIT\",$Q710=\"EFG\",$Q710=\"mono-LGBC\"),1,IF(OR($Q710=\"µc-Si / a-Si\",$Q710=\"a-Si (single)\",$Q710=\"a-Si (tandem)\",$Q710=\"a-Si (triple)\"),3,2))))","v":1},{"$f":"IF($O710=\"Sunpower Corp.\",3,(IF(OR($Q710=\"mono\",$Q710=\"poly\",$Q710=\"HIT\",$Q710=\"EFG\",$Q710=\"mono-LGBC\"),1,2)))","v":1},{"$f":"IF($O710=\"Sunpower Corp.\",3,(IF(OR($Q710=\"mono\",$Q710=\"poly\",$Q710=\"HIT\",$Q710=\"EFG\",$Q710=\"mono-LGBC\"),1,IF(OR($Q710=\"µc-Si / a-Si\",$Q710=\"a-Si (single)\",$Q710=\"a-Si (tandem)\",$Q710=\"a-Si (triple)\"),3,2))))","v":1},0,null,null,4798,null,null,708]
["Apollo Solar Energy Co., Ltd. ASEC-130G6S","Apollo Solar Energy Co., Ltd. ","ASEC-130G6S",130,"+3,85...0",17.48,7.44,21.96,8.11,-72.753479999999996,2.8028159999999995,-0.50280000000000002,600,"Taiwan (Formosa)",null,13.226539611816406,"mono",36,"pseudo-square",1496,657,47.5,"aluminum","junction box Tyco",12.1,"www.asectw.com","-","-","-","-","-",{"$f":"IF($O711=\"Sunpower Corp.\",3,(IF(OR($Q711=\"mono\",$Q711=\"poly\",$Q711=\"HIT\",$Q711=\"EFG\",$Q711=\"mono-LGBC\"),1,IF(OR($Q711=\"µc-Si / a-Si\",$Q711=\"a-Si (single)\",$Q711=\"a-Si (tandem)\",$Q711=\"a-Si (triple)\"),3,2))))","v":1},{"$f":"IF($O711=\"Sunpower Corp.\",3,(IF(OR($Q711=\"mono\",$Q711=\"poly\",$Q711=\"HIT\",$Q711=\"EFG\",$Q711=\"mono-LGBC\"),1,2)))","v":1},{"$f":"IF($O711=\"Sunpower Corp.\",3,(IF(OR($Q711=\"mono\",$Q711=\"poly\",$Q711=\"HIT\",$Q711=\"EFG\",$Q711=\"mono-LGBC\"),1,IF(OR($Q711=\"µc-Si / a-Si\",$Q711=\"a-Si (single)\",$Q711=\"a-Si (tandem)\",$Q711=\"a-Si (triple)\"),3,2))))","v":1},0,null,null,4799,null,null,709]
["Apollo Solar Energy Co., Ltd. ASEC-135G6M","Apollo Solar Energy Co., Ltd. ","ASEC-135G6M",135,"+3,7...0",17.68,7.64,22.1,8.26,-71.73660000000001,2.3276680000000001,-0.51329999999999998,1000,"Taiwan (Formosa)",null,13.735260009765625,"poly",36,"square",1496,657,47.5,"aluminum","junction box Tyco",12.1,"www.asectw.com","-","-","-","-","-",{"$f":"IF($O712=\"Sunpower Corp.\",3,(IF(OR($Q712=\"mono\",$Q712=\"poly\",$Q712=\"HIT\",$Q712=\"EFG\",$Q712=\"mono-LGBC\"),1,IF(OR($Q712=\"µc-Si / a-Si\",$Q712=\"a-Si (single)\",$Q712=\"a-Si (tandem)\",$Q712=\"a-Si (triple)\"),3,2))))","v":1},{"$f":"IF($O712=\"Sunpower Corp.\",3,(IF(OR($Q712=\"mono\",$Q712=\"poly\",$Q712=\"HIT\",$Q712=\"EFG\",$Q712=\"mono-LGBC\"),1,2)))","v":1},{"$f":"IF($O712=\"Sunpower Corp.\",3,(IF(OR($Q712=\"mono\",$Q712=\"poly\",$Q712=\"HIT\",$Q712=\"EFG\",$Q712=\"mono-LGBC\"),1,IF(OR($Q712=\"µc-Si / a-Si\",$Q712=\"a-Si (single)\",$Q712=\"a-Si (tandem)\",$Q712=\"a-Si (triple)\"),3,2))))","v":1},0,null,null,24947,null,null,710]
["Apollo Solar Energy Co., Ltd. ASEC-135G6S","Apollo Solar Energy Co., Ltd. ","ASEC-135G6S",135,"+3,7...0",17.54,7.7,22.15,8.27,-73.382949999999994,2.8581119999999998,-0.50280000000000002,1000,"Taiwan (Formosa)",null,13.735260009765625,"mono",36,"pseudo-square",1496,657,47.5,"aluminum","junction box Tyco",12.1,"www.asectw.com","-","-","-","-","-",{"$f":"IF($O713=\"Sunpower Corp.\",3,(IF(OR($Q713=\"mono\",$Q713=\"poly\",$Q713=\"HIT\",$Q713=\"EFG\",$Q713=\"mono-LGBC\"),1,IF(OR($Q713=\"µc-Si / a-Si\",$Q713=\"a-Si (single)\",$Q713=\"a-Si (tandem)\",$Q713=\"a-Si (triple)\"),3,2))))","v":1},{"$f":"IF($O713=\"Sunpower Corp.\",3,(IF(OR($Q713=\"mono\",$Q713=\"poly\",$Q713=\"HIT\",$Q713=\"EFG\",$Q713=\"mono-LGBC\"),1,2)))","v":1},{"$f":"IF($O713=\"Sunpower Corp.\",3,(IF(OR($Q713=\"mono\",$Q713=\"poly\",$Q713=\"HIT\",$Q713=\"EFG\",$Q713=\"mono-LGBC\"),1,IF(OR($Q713=\"µc-Si / a-Si\",$Q713=\"a-Si (single)\",$Q713=\"a-Si (tandem)\",$Q713=\"a-Si (triple)\"),3,2))))","v":1},0,null,null,15524,null,null,711]
["Apollo Solar Energy Co., Ltd. ASEC-140G6M","Apollo Solar Energy Co., Ltd. ","ASEC-140G6M",140,"+3,57...0",17.75,7.89,22.25,8.57,-72.223500000000016,2.4150260000000001,-0.51329999999999998,1000,"Taiwan (Formosa)",null,14.243969917297363,"poly",36,"square",1496,657,47.5,"aluminum","junction box Tyco",12.1,"www.asectw.com","-","-","-","-","-",{"$f":"IF($O714=\"Sunpower Corp.\",3,(IF(OR($Q714=\"mono\",$Q714=\"poly\",$Q714=\"HIT\",$Q714=\"EFG\",$Q714=\"mono-LGBC\"),1,IF(OR($Q714=\"µc-Si / a-Si\",$Q714=\"a-Si (single)\",$Q714=\"a-Si (tandem)\",$Q714=\"a-Si (triple)\"),3,2))))","v":1},{"$f":"IF($O714=\"Sunpower Corp.\",3,(IF(OR($Q714=\"mono\",$Q714=\"poly\",$Q714=\"HIT\",$Q714=\"EFG\",$Q714=\"mono-LGBC\"),1,2)))","v":1},{"$f":"IF($O714=\"Sunpower Corp.\",3,(IF(OR($Q714=\"mono\",$Q714=\"poly\",$Q714=\"HIT\",$Q714=\"EFG\",$Q714=\"mono-LGBC\"),1,IF(OR($Q714=\"µc-Si / a-Si\",$Q714=\"a-Si (single)\",$Q714=\"a-Si (tandem)\",$Q714=\"a-Si (triple)\"),3,2))))","v":1},0,null,null,24948,null,null,712]
["Apollo Solar Energy Co., Ltd. ASEC-140G6S","Apollo Solar Energy Co., Ltd. ","ASEC-140G6S",140,"+3,57...0",17.62,7.95,22.25,8.4700000000000006,-73.714249999999993,2.9272320000000001,-0.50280000000000002,600,"Taiwan (Formosa)",null,14.243969917297363,"mono",36,"pseudo-square",1496,657,47.5,"aluminum","junction box Tyco",12.1,"www.asectw.com","-","-","-","-","-",{"$f":"IF($O715=\"Sunpower Corp.\",3,(IF(OR($Q715=\"mono\",$Q715=\"poly\",$Q715=\"HIT\",$Q715=\"EFG\",$Q715=\"mono-LGBC\"),1,IF(OR($Q715=\"µc-Si / a-Si\",$Q715=\"a-Si (single)\",$Q715=\"a-Si (tandem)\",$Q715=\"a-Si (triple)\"),3,2))))","v":1},{"$f":"IF($O715=\"Sunpower Corp.\",3,(IF(OR($Q715=\"mono\",$Q715=\"poly\",$Q715=\"HIT\",$Q715=\"EFG\",$Q715=\"mono-LGBC\"),1,2)))","v":1},{"$f":"IF($O715=\"Sunpower Corp.\",3,(IF(OR($Q715=\"mono\",$Q715=\"poly\",$Q715=\"HIT\",$Q715=\"EFG\",$Q715=\"mono-LGBC\"),1,IF(OR($Q715=\"µc-Si / a-Si\",$Q715=\"a-Si (single)\",$Q715=\"a-Si (tandem)\",$Q715=\"a-Si (triple)\"),3,2))))","v":1},0,null,null,24944,null,null,713]
["Apollo Solar Energy Co., Ltd. ASEC-160G6M","Apollo Solar Energy Co., Ltd. ","ASEC-160G6M",160,"+3,13...0",22.27,7.2,28.79,7.73,-93.452340000000007,2.1783140000000003,-0.51329999999999998,1000,"Taiwan (Formosa)",null,12.26531982421875,"poly",48,"square",1319,989,47.5,"aluminum","junction box Tyco",15.7,"www.asectw.com","-","-","-","-","-",{"$f":"IF($O716=\"Sunpower Corp.\",3,(IF(OR($Q716=\"mono\",$Q716=\"poly\",$Q716=\"HIT\",$Q716=\"EFG\",$Q716=\"mono-LGBC\"),1,IF(OR($Q716=\"µc-Si / a-Si\",$Q716=\"a-Si (single)\",$Q716=\"a-Si (tandem)\",$Q716=\"a-Si (triple)\"),3,2))))","v":1},{"$f":"IF($O716=\"Sunpower Corp.\",3,(IF(OR($Q716=\"mono\",$Q716=\"poly\",$Q716=\"HIT\",$Q716=\"EFG\",$Q716=\"mono-LGBC\"),1,2)))","v":1},{"$f":"IF($O716=\"Sunpower Corp.\",3,(IF(OR($Q716=\"mono\",$Q716=\"poly\",$Q716=\"HIT\",$Q716=\"EFG\",$Q716=\"mono-LGBC\"),1,IF(OR($Q716=\"µc-Si / a-Si\",$Q716=\"a-Si (single)\",$Q716=\"a-Si (tandem)\",$Q716=\"a-Si (triple)\"),3,2))))","v":1},0,null,null,24941,null,null,714]
["Apollo Solar Energy Co., Ltd. ASEC-160G6S","Apollo Solar Energy Co., Ltd. ","ASEC-160G6S",160,"+3,13...0",22.29,7.19,29.31,8.1,-97.104029999999995,2.7993600000000001,-0.50280000000000002,1000,"Taiwan (Formosa)",null,12.26531982421875,"mono",48,"pseudo-square",1319,989,47.5,"aluminum","junction box Tyco",15.7,"www.asectw.com","-","-","-","-","-",{"$f":"IF($O717=\"Sunpower Corp.\",3,(IF(OR($Q717=\"mono\",$Q717=\"poly\",$Q717=\"HIT\",$Q717=\"EFG\",$Q717=\"mono-LGBC\"),1,IF(OR($Q717=\"µc-Si / a-Si\",$Q717=\"a-Si (single)\",$Q717=\"a-Si (tandem)\",$Q717=\"a-Si (triple)\"),3,2))))","v":1},{"$f":"IF($O717=\"Sunpower Corp.\",3,(IF(OR($Q717=\"mono\",$Q717=\"poly\",$Q717=\"HIT\",$Q717=\"EFG\",$Q717=\"mono-LGBC\"),1,2)))","v":1},{"$f":"IF($O717=\"Sunpower Corp.\",3,(IF(OR($Q717=\"mono\",$Q717=\"poly\",$Q717=\"HIT\",$Q717=\"EFG\",$Q717=\"mono-LGBC\"),1,IF(OR($Q717=\"µc-Si / a-Si\",$Q717=\"a-Si (single)\",$Q717=\"a-Si (tandem)\",$Q717=\"a-Si (triple)\"),3,2))))","v":1},0,null,null,24940,null,null,715]
["Apollo Solar Energy Co., Ltd. ASEC-165G6M","Apollo Solar Energy Co., Ltd. ","ASEC-165G6M",165,"+3,03...0",22.59,7.33,28.92,7.82,-93.874320000000012,2.2036760000000002,-0.51329999999999998,1000,"Taiwan (Formosa)",null,12.64861011505127,"poly",48,"square",1319,989,47.5,"aluminum","junction box Tyco",15.7,"www.asectw.com","-","-","-","-","-",{"$f":"IF($O718=\"Sunpower Corp.\",3,(IF(OR($Q718=\"mono\",$Q718=\"poly\",$Q718=\"HIT\",$Q718=\"EFG\",$Q718=\"mono-LGBC\"),1,IF(OR($Q718=\"µc-Si / a-Si\",$Q718=\"a-Si (single)\",$Q718=\"a-Si (tandem)\",$Q718=\"a-Si (triple)\"),3,2))))","v":1},{"$f":"IF($O718=\"Sunpower Corp.\",3,(IF(OR($Q718=\"mono\",$Q718=\"poly\",$Q718=\"HIT\",$Q718=\"EFG\",$Q718=\"mono-LGBC\"),1,2)))","v":1},{"$f":"IF($O718=\"Sunpower Corp.\",3,(IF(OR($Q718=\"mono\",$Q718=\"poly\",$Q718=\"HIT\",$Q718=\"EFG\",$Q718=\"mono-LGBC\"),1,IF(OR($Q718=\"µc-Si / a-Si\",$Q718=\"a-Si (single)\",$Q718=\"a-Si (tandem)\",$Q718=\"a-Si (triple)\"),3,2))))","v":1},0,null,null,4804,null,null,716]
["Apollo Solar Energy Co., Ltd. ASEC-165G6S","Apollo Solar Energy Co., Ltd. ","ASEC-165G6S",165,"+3,03...0",22.62,7.31,29.36,8.15,-97.269679999999994,2.81664,-0.50280000000000002,1000,"Taiwan (Formosa)",null,12.64861011505127,"mono",48,"pseudo-square",1319,989,47.5,"aluminum","junction box Tyco",15.7,"www.acectw.com","-","-","-","-","-",{"$f":"IF($O719=\"Sunpower Corp.\",3,(IF(OR($Q719=\"mono\",$Q719=\"poly\",$Q719=\"HIT\",$Q719=\"EFG\",$Q719=\"mono-LGBC\"),1,IF(OR($Q719=\"µc-Si / a-Si\",$Q719=\"a-Si (single)\",$Q719=\"a-Si (tandem)\",$Q719=\"a-Si (triple)\"),3,2))))","v":1},{"$f":"IF($O719=\"Sunpower Corp.\",3,(IF(OR($Q719=\"mono\",$Q719=\"poly\",$Q719=\"HIT\",$Q719=\"EFG\",$Q719=\"mono-LGBC\"),1,2)))","v":1},{"$f":"IF($O719=\"Sunpower Corp.\",3,(IF(OR($Q719=\"mono\",$Q719=\"poly\",$Q719=\"HIT\",$Q719=\"EFG\",$Q719=\"mono-LGBC\"),1,IF(OR($Q719=\"µc-Si / a-Si\",$Q719=\"a-Si (single)\",$Q719=\"a-Si (tandem)\",$Q719=\"a-Si (triple)\"),3,2))))","v":1},0,null,null,4805,null,null,717]
["Apollo Solar Energy Co., Ltd. ASEC-170G6M","Apollo Solar Energy Co., Ltd. ","ASEC-170G6M",170,"+2,94...0",22.99,7.41,29.09,7.92,-102.45498000000001,3.1917599999999999,-0.498,1000,"Taiwan (Formosa)",null,13.031900405883789,"poly",48,"rectangular",1319,989,47.5,"aluminum","junction box Tyco",15.7,"www.sovisol.de","-","-","-","-","-",{"$f":"IF($O720=\"Sunpower Corp.\",3,(IF(OR($Q720=\"mono\",$Q720=\"poly\",$Q720=\"HIT\",$Q720=\"EFG\",$Q720=\"mono-LGBC\"),1,IF(OR($Q720=\"µc-Si / a-Si\",$Q720=\"a-Si (single)\",$Q720=\"a-Si (tandem)\",$Q720=\"a-Si (triple)\"),3,2))))","v":1},{"$f":"IF($O720=\"Sunpower Corp.\",3,(IF(OR($Q720=\"mono\",$Q720=\"poly\",$Q720=\"HIT\",$Q720=\"EFG\",$Q720=\"mono-LGBC\"),1,2)))","v":1},{"$f":"IF($O720=\"Sunpower Corp.\",3,(IF(OR($Q720=\"mono\",$Q720=\"poly\",$Q720=\"HIT\",$Q720=\"EFG\",$Q720=\"mono-LGBC\"),1,IF(OR($Q720=\"µc-Si / a-Si\",$Q720=\"a-Si (single)\",$Q720=\"a-Si (tandem)\",$Q720=\"a-Si (triple)\"),3,2))))","v":1},0,null,null,4815,null,null,718]
["Apollo Solar Energy Co., Ltd. ASEC-170G6S","Apollo Solar Energy Co., Ltd. ","ASEC-170G6S",170,"+2,94...0",23.06,7.39,29.43,8.19,-97.501589999999993,2.8304640000000001,-0.50280000000000002,1000,"Taiwan (Formosa)",null,13.031900405883789,"mono",48,"pseudo-square",1319,989,47.5,"aluminum","cable Tyco",15.7,"www.asectw.com","-","-","-","-","-",{"$f":"IF($O721=\"Sunpower Corp.\",3,(IF(OR($Q721=\"mono\",$Q721=\"poly\",$Q721=\"HIT\",$Q721=\"EFG\",$Q721=\"mono-LGBC\"),1,IF(OR($Q721=\"µc-Si / a-Si\",$Q721=\"a-Si (single)\",$Q721=\"a-Si (tandem)\",$Q721=\"a-Si (triple)\"),3,2))))","v":1},{"$f":"IF($O721=\"Sunpower Corp.\",3,(IF(OR($Q721=\"mono\",$Q721=\"poly\",$Q721=\"HIT\",$Q721=\"EFG\",$Q721=\"mono-LGBC\"),1,2)))","v":1},{"$f":"IF($O721=\"Sunpower Corp.\",3,(IF(OR($Q721=\"mono\",$Q721=\"poly\",$Q721=\"HIT\",$Q721=\"EFG\",$Q721=\"mono-LGBC\"),1,IF(OR($Q721=\"µc-Si / a-Si\",$Q721=\"a-Si (single)\",$Q721=\"a-Si (tandem)\",$Q721=\"a-Si (triple)\"),3,2))))","v":1},0,null,null,4813,null,null,719]
["Apollo Solar Energy Co., Ltd. ASEC-175G6M","Apollo Solar Energy Co., Ltd. ","ASEC-175G6M",175,"+2,86...0",23.41,7.48,29.29,8.0299999999999994,-103.15938,3.2360899999999999,-0.498,1000,"Taiwan (Formosa)",null,13.415189743041992,"poly",48,"rectangular",1319,989,47.5,"aluminum","junction box Tyco",15.7,"www.sovisol.de","-","-","-","-","-",{"$f":"IF($O722=\"Sunpower Corp.\",3,(IF(OR($Q722=\"mono\",$Q722=\"poly\",$Q722=\"HIT\",$Q722=\"EFG\",$Q722=\"mono-LGBC\"),1,IF(OR($Q722=\"µc-Si / a-Si\",$Q722=\"a-Si (single)\",$Q722=\"a-Si (tandem)\",$Q722=\"a-Si (triple)\"),3,2))))","v":1},{"$f":"IF($O722=\"Sunpower Corp.\",3,(IF(OR($Q722=\"mono\",$Q722=\"poly\",$Q722=\"HIT\",$Q722=\"EFG\",$Q722=\"mono-LGBC\"),1,2)))","v":1},{"$f":"IF($O722=\"Sunpower Corp.\",3,(IF(OR($Q722=\"mono\",$Q722=\"poly\",$Q722=\"HIT\",$Q722=\"EFG\",$Q722=\"mono-LGBC\"),1,IF(OR($Q722=\"µc-Si / a-Si\",$Q722=\"a-Si (single)\",$Q722=\"a-Si (tandem)\",$Q722=\"a-Si (triple)\"),3,2))))","v":1},0,null,null,4810,null,null,720]
["Apollo Solar Energy Co., Ltd. ASEC-175G6S","Apollo Solar Energy Co., Ltd. ","ASEC-175G6S",175,"+2,86...0",23.4,7.48,29.38,8.24,-100.30332,2.7768800000000002,-0.49669999999999997,1000,"Taiwan (Formosa)",null,13.415189743041992,"mono",48,"pseudo-square",1319,989,47.5,"aluminum","junction box Tyco",15.7,"www.sovisol.de","-","-","-","-","-",{"$f":"IF($O723=\"Sunpower Corp.\",3,(IF(OR($Q723=\"mono\",$Q723=\"poly\",$Q723=\"HIT\",$Q723=\"EFG\",$Q723=\"mono-LGBC\"),1,IF(OR($Q723=\"µc-Si / a-Si\",$Q723=\"a-Si (single)\",$Q723=\"a-Si (tandem)\",$Q723=\"a-Si (triple)\"),3,2))))","v":1},{"$f":"IF($O723=\"Sunpower Corp.\",3,(IF(OR($Q723=\"mono\",$Q723=\"poly\",$Q723=\"HIT\",$Q723=\"EFG\",$Q723=\"mono-LGBC\"),1,2)))","v":1},{"$f":"IF($O723=\"Sunpower Corp.\",3,(IF(OR($Q723=\"mono\",$Q723=\"poly\",$Q723=\"HIT\",$Q723=\"EFG\",$Q723=\"mono-LGBC\"),1,IF(OR($Q723=\"µc-Si / a-Si\",$Q723=\"a-Si (single)\",$Q723=\"a-Si (tandem)\",$Q723=\"a-Si (triple)\"),3,2))))","v":1},0,null,null,4811,null,null,721]
["Apollo Solar Energy Co., Ltd. ASEC-180G6M","Apollo Solar Energy Co., Ltd. ","ASEC-180G6M",180,"+2,78...0",23.68,7.61,29.51,8.15,-103.93422000000001,3.2844500000000005,-0.498,1000,"Taiwan (Formosa)",null,13.798489570617676,"poly",48,"rectangular",1319,989,47.5,"aluminum","junction box Tyco",15.7,"www.sovisol.de","-","-","-","-","-",{"$f":"IF($O724=\"Sunpower Corp.\",3,(IF(OR($Q724=\"mono\",$Q724=\"poly\",$Q724=\"HIT\",$Q724=\"EFG\",$Q724=\"mono-LGBC\"),1,IF(OR($Q724=\"µc-Si / a-Si\",$Q724=\"a-Si (single)\",$Q724=\"a-Si (tandem)\",$Q724=\"a-Si (triple)\"),3,2))))","v":1},{"$f":"IF($O724=\"Sunpower Corp.\",3,(IF(OR($Q724=\"mono\",$Q724=\"poly\",$Q724=\"HIT\",$Q724=\"EFG\",$Q724=\"mono-LGBC\"),1,2)))","v":1},{"$f":"IF($O724=\"Sunpower Corp.\",3,(IF(OR($Q724=\"mono\",$Q724=\"poly\",$Q724=\"HIT\",$Q724=\"EFG\",$Q724=\"mono-LGBC\"),1,IF(OR($Q724=\"µc-Si / a-Si\",$Q724=\"a-Si (single)\",$Q724=\"a-Si (tandem)\",$Q724=\"a-Si (triple)\"),3,2))))","v":1},0,null,null,4818,null,null,722]
["Apollo Solar Energy Co., Ltd. ASEC-180G6S","Apollo Solar Energy Co., Ltd. ","ASEC-180G6S",180,"+2,78...0",23.44,7.68,29.51,8.32,-100.74714,2.8038400000000001,-0.49669999999999997,1000,"Taiwan (Formosa)",null,13.798489570617676,"mono",48,"pseudo-square",1319,989,47.5,"aluminum","junction box Tyco",15.7,"www.sovisol.de","-","-","-","-","-",{"$f":"IF($O725=\"Sunpower Corp.\",3,(IF(OR($Q725=\"mono\",$Q725=\"poly\",$Q725=\"HIT\",$Q725=\"EFG\",$Q725=\"mono-LGBC\"),1,IF(OR($Q725=\"µc-Si / a-Si\",$Q725=\"a-Si (single)\",$Q725=\"a-Si (tandem)\",$Q725=\"a-Si (triple)\"),3,2))))","v":1},{"$f":"IF($O725=\"Sunpower Corp.\",3,(IF(OR($Q725=\"mono\",$Q725=\"poly\",$Q725=\"HIT\",$Q725=\"EFG\",$Q725=\"mono-LGBC\"),1,2)))","v":1},{"$f":"IF($O725=\"Sunpower Corp.\",3,(IF(OR($Q725=\"mono\",$Q725=\"poly\",$Q725=\"HIT\",$Q725=\"EFG\",$Q725=\"mono-LGBC\"),1,IF(OR($Q725=\"µc-Si / a-Si\",$Q725=\"a-Si (single)\",$Q725=\"a-Si (tandem)\",$Q725=\"a-Si (triple)\"),3,2))))","v":1},0,null,null,4819,null,null,723]
["Apollo Solar Energy Co., Ltd. ASEC-185G6M","Apollo Solar Energy Co., Ltd. ","ASEC-185G6M",185,"+2,7...0",23.75,7.79,29.76,8.23,-104.81471999999999,3.3166900000000008,-0.498,1000,"Taiwan (Formosa)",null,14.181779861450195,"poly",48,"rectangular",1319,989,47.5,"aluminum","junction box Tyco",15.7,"www.sovisol.de","-","-","-","-","-",{"$f":"IF($O726=\"Sunpower Corp.\",3,(IF(OR($Q726=\"mono\",$Q726=\"poly\",$Q726=\"HIT\",$Q726=\"EFG\",$Q726=\"mono-LGBC\"),1,IF(OR($Q726=\"µc-Si / a-Si\",$Q726=\"a-Si (single)\",$Q726=\"a-Si (tandem)\",$Q726=\"a-Si (triple)\"),3,2))))","v":1},{"$f":"IF($O726=\"Sunpower Corp.\",3,(IF(OR($Q726=\"mono\",$Q726=\"poly\",$Q726=\"HIT\",$Q726=\"EFG\",$Q726=\"mono-LGBC\"),1,2)))","v":1},{"$f":"IF($O726=\"Sunpower Corp.\",3,(IF(OR($Q726=\"mono\",$Q726=\"poly\",$Q726=\"HIT\",$Q726=\"EFG\",$Q726=\"mono-LGBC\"),1,IF(OR($Q726=\"µc-Si / a-Si\",$Q726=\"a-Si (single)\",$Q726=\"a-Si (tandem)\",$Q726=\"a-Si (triple)\"),3,2))))","v":1},0,null,null,15240,null,null,724]
["Apollo Solar Energy Co., Ltd. ASEC-185G6S","Apollo Solar Energy Co., Ltd. ","ASEC-185G6S",185,"+2,7...0",23.51,7.87,29.61,8.48,-101.08853999999999,2.8577599999999999,-0.49669999999999997,1000,"Taiwan (Formosa)",null,14.181779861450195,"mono",48,"pseudo-square",1319,989,47.5,"aluminum","junction box Tyco",15.7,"www.sovisol.de","-","-","-","-","-",{"$f":"IF($O727=\"Sunpower Corp.\",3,(IF(OR($Q727=\"mono\",$Q727=\"poly\",$Q727=\"HIT\",$Q727=\"EFG\",$Q727=\"mono-LGBC\"),1,IF(OR($Q727=\"µc-Si / a-Si\",$Q727=\"a-Si (single)\",$Q727=\"a-Si (tandem)\",$Q727=\"a-Si (triple)\"),3,2))))","v":1},{"$f":"IF($O727=\"Sunpower Corp.\",3,(IF(OR($Q727=\"mono\",$Q727=\"poly\",$Q727=\"HIT\",$Q727=\"EFG\",$Q727=\"mono-LGBC\"),1,2)))","v":1},{"$f":"IF($O727=\"Sunpower Corp.\",3,(IF(OR($Q727=\"mono\",$Q727=\"poly\",$Q727=\"HIT\",$Q727=\"EFG\",$Q727=\"mono-LGBC\"),1,IF(OR($Q727=\"µc-Si / a-Si\",$Q727=\"a-Si (single)\",$Q727=\"a-Si (tandem)\",$Q727=\"a-Si (triple)\"),3,2))))","v":1},0,null,null,15241,null,null,725]
["Apollo Solar Energy Co., Ltd. ASEC-190G6M","Apollo Solar Energy Co., Ltd. ","ASEC-190G6M",190,"+2,63...0",25.18,7.56,32.85,7.87,-106.6311,2.2177660000000006,-0.51329999999999998,1000,"Taiwan (Formosa)",null,12.971859931945801,"poly",54,"square",1481,989,47.5,"aluminum","junction box Tyco",17.2,"www.asectw.com","-","-","-","-","-",{"$f":"IF($O728=\"Sunpower Corp.\",3,(IF(OR($Q728=\"mono\",$Q728=\"poly\",$Q728=\"HIT\",$Q728=\"EFG\",$Q728=\"mono-LGBC\"),1,IF(OR($Q728=\"µc-Si / a-Si\",$Q728=\"a-Si (single)\",$Q728=\"a-Si (tandem)\",$Q728=\"a-Si (triple)\"),3,2))))","v":1},{"$f":"IF($O728=\"Sunpower Corp.\",3,(IF(OR($Q728=\"mono\",$Q728=\"poly\",$Q728=\"HIT\",$Q728=\"EFG\",$Q728=\"mono-LGBC\"),1,2)))","v":1},{"$f":"IF($O728=\"Sunpower Corp.\",3,(IF(OR($Q728=\"mono\",$Q728=\"poly\",$Q728=\"HIT\",$Q728=\"EFG\",$Q728=\"mono-LGBC\"),1,IF(OR($Q728=\"µc-Si / a-Si\",$Q728=\"a-Si (single)\",$Q728=\"a-Si (tandem)\",$Q728=\"a-Si (triple)\"),3,2))))","v":1},0,null,null,24939,null,null,726]
["Apollo Solar Energy Co., Ltd. ASEC-190G6S","Apollo Solar Energy Co., Ltd. ","ASEC-190G6S",190,"+2,63...0",25.05,7.59,32.85,8.0299999999999994,-108.83205,2.7751679999999999,-0.50280000000000002,1000,"Taiwan (Formosa)",null,12.971859931945801,"mono",54,"pseudo-square",1481,989,47.5,"aluminum","junction box Tyco",17.2,"www.asectw.com","-","-","-","-","-",{"$f":"IF($O729=\"Sunpower Corp.\",3,(IF(OR($Q729=\"mono\",$Q729=\"poly\",$Q729=\"HIT\",$Q729=\"EFG\",$Q729=\"mono-LGBC\"),1,IF(OR($Q729=\"µc-Si / a-Si\",$Q729=\"a-Si (single)\",$Q729=\"a-Si (tandem)\",$Q729=\"a-Si (triple)\"),3,2))))","v":1},{"$f":"IF($O729=\"Sunpower Corp.\",3,(IF(OR($Q729=\"mono\",$Q729=\"poly\",$Q729=\"HIT\",$Q729=\"EFG\",$Q729=\"mono-LGBC\"),1,2)))","v":1},{"$f":"IF($O729=\"Sunpower Corp.\",3,(IF(OR($Q729=\"mono\",$Q729=\"poly\",$Q729=\"HIT\",$Q729=\"EFG\",$Q729=\"mono-LGBC\"),1,IF(OR($Q729=\"µc-Si / a-Si\",$Q729=\"a-Si (single)\",$Q729=\"a-Si (tandem)\",$Q729=\"a-Si (triple)\"),3,2))))","v":1},0,null,null,24937,null,null,727]
["Apollo Solar Energy Co., Ltd. ASEC-190G6S68","Apollo Solar Energy Co., Ltd. ","ASEC-190G6S68",190,"+2,63...0",23.61,8.0500000000000007,29.71,8.51,-101.42994,2.8678699999999999,-0.49669999999999997,1000,"Taiwan (Formosa)",null,14.565070152282715,"mono",48,"pseudo-square",1319,989,47.5,"aluminum","junction box Tyco",15.7,"www.sovisol.de","-","-","-","-","-",{"$f":"IF($O730=\"Sunpower Corp.\",3,(IF(OR($Q730=\"mono\",$Q730=\"poly\",$Q730=\"HIT\",$Q730=\"EFG\",$Q730=\"mono-LGBC\"),1,IF(OR($Q730=\"µc-Si / a-Si\",$Q730=\"a-Si (single)\",$Q730=\"a-Si (tandem)\",$Q730=\"a-Si (triple)\"),3,2))))","v":1},{"$f":"IF($O730=\"Sunpower Corp.\",3,(IF(OR($Q730=\"mono\",$Q730=\"poly\",$Q730=\"HIT\",$Q730=\"EFG\",$Q730=\"mono-LGBC\"),1,2)))","v":1},{"$f":"IF($O730=\"Sunpower Corp.\",3,(IF(OR($Q730=\"mono\",$Q730=\"poly\",$Q730=\"HIT\",$Q730=\"EFG\",$Q730=\"mono-LGBC\"),1,IF(OR($Q730=\"µc-Si / a-Si\",$Q730=\"a-Si (single)\",$Q730=\"a-Si (tandem)\",$Q730=\"a-Si (triple)\"),3,2))))","v":1},0,null,null,15242,null,null,728]
["Apollo Solar Energy Co., Ltd. ASEC-195G6M","Apollo Solar Energy Co., Ltd. ","ASEC-195G6M",195,"+2,56...0",25.59,7.63,32.94,8.11,-106.92324000000001,2.2853980000000003,-0.51329999999999998,1000,"Taiwan (Formosa)",null,13.313220024108887,"poly",54,"square",1481,989,47.5,"aluminum","junction box Tyco",17.2,"www.sovisol.de","-","-","-","-","-",{"$f":"IF($O731=\"Sunpower Corp.\",3,(IF(OR($Q731=\"mono\",$Q731=\"poly\",$Q731=\"HIT\",$Q731=\"EFG\",$Q731=\"mono-LGBC\"),1,IF(OR($Q731=\"µc-Si / a-Si\",$Q731=\"a-Si (single)\",$Q731=\"a-Si (tandem)\",$Q731=\"a-Si (triple)\"),3,2))))","v":1},{"$f":"IF($O731=\"Sunpower Corp.\",3,(IF(OR($Q731=\"mono\",$Q731=\"poly\",$Q731=\"HIT\",$Q731=\"EFG\",$Q731=\"mono-LGBC\"),1,2)))","v":1},{"$f":"IF($O731=\"Sunpower Corp.\",3,(IF(OR($Q731=\"mono\",$Q731=\"poly\",$Q731=\"HIT\",$Q731=\"EFG\",$Q731=\"mono-LGBC\"),1,IF(OR($Q731=\"µc-Si / a-Si\",$Q731=\"a-Si (single)\",$Q731=\"a-Si (tandem)\",$Q731=\"a-Si (triple)\"),3,2))))","v":1},0,null,null,15243,null,null,729]
["Apollo Solar Energy Co., Ltd. ASEC-195G6M68","Apollo Solar Energy Co., Ltd. ","ASEC-195G6M68",195,"+2,56...0",23.9,8.16,29.87,8.48,-99.019050000000007,3.75664,-0.46310000000000001,1000,"Taiwan (Formosa)",null,14.948360443115234,"poly",48,"square",1319,989,47.5,"aluminum","junction box Tyco",15.7,"www.asectw.com","-","-","-","-","-",{"$f":"IF($O732=\"Sunpower Corp.\",3,(IF(OR($Q732=\"mono\",$Q732=\"poly\",$Q732=\"HIT\",$Q732=\"EFG\",$Q732=\"mono-LGBC\"),1,IF(OR($Q732=\"µc-Si / a-Si\",$Q732=\"a-Si (single)\",$Q732=\"a-Si (tandem)\",$Q732=\"a-Si (triple)\"),3,2))))","v":1},{"$f":"IF($O732=\"Sunpower Corp.\",3,(IF(OR($Q732=\"mono\",$Q732=\"poly\",$Q732=\"HIT\",$Q732=\"EFG\",$Q732=\"mono-LGBC\"),1,2)))","v":1},{"$f":"IF($O732=\"Sunpower Corp.\",3,(IF(OR($Q732=\"mono\",$Q732=\"poly\",$Q732=\"HIT\",$Q732=\"EFG\",$Q732=\"mono-LGBC\"),1,IF(OR($Q732=\"µc-Si / a-Si\",$Q732=\"a-Si (single)\",$Q732=\"a-Si (tandem)\",$Q732=\"a-Si (triple)\"),3,2))))","v":1},0,null,null,27784,null,null,730]
["Apollo Solar Energy Co., Ltd. ASEC-195G6S","Apollo Solar Energy Co., Ltd. ","ASEC-195G6S",195,"+2,56...0",25.31,7.71,32.950000000000003,8.2100000000000009,-109.16335000000001,2.8373760000000003,-0.50280000000000002,1000,"Taiwan (Formosa)",null,13.313220024108887,"mono",54,"pseudo-square",1481,989,47.5,"aluminum","junction box Tyco",17.2,"www.asectw.com","-","-","-","-","-",{"$f":"IF($O733=\"Sunpower Corp.\",3,(IF(OR($Q733=\"mono\",$Q733=\"poly\",$Q733=\"HIT\",$Q733=\"EFG\",$Q733=\"mono-LGBC\"),1,IF(OR($Q733=\"µc-Si / a-Si\",$Q733=\"a-Si (single)\",$Q733=\"a-Si (tandem)\",$Q733=\"a-Si (triple)\"),3,2))))","v":1},{"$f":"IF($O733=\"Sunpower Corp.\",3,(IF(OR($Q733=\"mono\",$Q733=\"poly\",$Q733=\"HIT\",$Q733=\"EFG\",$Q733=\"mono-LGBC\"),1,2)))","v":1},{"$f":"IF($O733=\"Sunpower Corp.\",3,(IF(OR($Q733=\"mono\",$Q733=\"poly\",$Q733=\"HIT\",$Q733=\"EFG\",$Q733=\"mono-LGBC\"),1,IF(OR($Q733=\"µc-Si / a-Si\",$Q733=\"a-Si (single)\",$Q733=\"a-Si (tandem)\",$Q733=\"a-Si (triple)\"),3,2))))","v":1},0,null,null,24938,null,null,731]
["Apollo Solar Energy Co., Ltd. ASEC-195G6S68","Apollo Solar Energy Co., Ltd. ","ASEC-195G6S68",195,"+2,56...0",23.67,8.24,29.82,8.6300000000000008,-101.29853999999999,3.65049,-0.46839999999999998,1000,"Taiwan (Formosa)",null,14.948360443115234,"mono",48,"pseudo-square",1319,989,47.5,"aluminum","junction box Tyco",15.7,"www.asectw.com","-","-","-","-","-",{"$f":"IF($O734=\"Sunpower Corp.\",3,(IF(OR($Q734=\"mono\",$Q734=\"poly\",$Q734=\"HIT\",$Q734=\"EFG\",$Q734=\"mono-LGBC\"),1,IF(OR($Q734=\"µc-Si / a-Si\",$Q734=\"a-Si (single)\",$Q734=\"a-Si (tandem)\",$Q734=\"a-Si (triple)\"),3,2))))","v":1},{"$f":"IF($O734=\"Sunpower Corp.\",3,(IF(OR($Q734=\"mono\",$Q734=\"poly\",$Q734=\"HIT\",$Q734=\"EFG\",$Q734=\"mono-LGBC\"),1,2)))","v":1},{"$f":"IF($O734=\"Sunpower Corp.\",3,(IF(OR($Q734=\"mono\",$Q734=\"poly\",$Q734=\"HIT\",$Q734=\"EFG\",$Q734=\"mono-LGBC\"),1,IF(OR($Q734=\"µc-Si / a-Si\",$Q734=\"a-Si (single)\",$Q734=\"a-Si (tandem)\",$Q734=\"a-Si (triple)\"),3,2))))","v":1},0,null,null,27785,null,null,732]
["Apollo Solar Energy Co., Ltd. ASEC-200G6M","Apollo Solar Energy Co., Ltd. ","ASEC-200G6M",200,"+2,5...0",25.5,7.85,33.03,8.31,-116.33166,3.3489300000000002,-0.498,1000,"Taiwan (Formosa)",null,13.654589653015137,"poly",54,"rectangular",1481,989,47.5,"aluminum","junction box Tyco",17.2,"www.sovisol.de","-","-","-","-","-",{"$f":"IF($O735=\"Sunpower Corp.\",3,(IF(OR($Q735=\"mono\",$Q735=\"poly\",$Q735=\"HIT\",$Q735=\"EFG\",$Q735=\"mono-LGBC\"),1,IF(OR($Q735=\"µc-Si / a-Si\",$Q735=\"a-Si (single)\",$Q735=\"a-Si (tandem)\",$Q735=\"a-Si (triple)\"),3,2))))","v":1},{"$f":"IF($O735=\"Sunpower Corp.\",3,(IF(OR($Q735=\"mono\",$Q735=\"poly\",$Q735=\"HIT\",$Q735=\"EFG\",$Q735=\"mono-LGBC\"),1,2)))","v":1},{"$f":"IF($O735=\"Sunpower Corp.\",3,(IF(OR($Q735=\"mono\",$Q735=\"poly\",$Q735=\"HIT\",$Q735=\"EFG\",$Q735=\"mono-LGBC\"),1,IF(OR($Q735=\"µc-Si / a-Si\",$Q735=\"a-Si (single)\",$Q735=\"a-Si (tandem)\",$Q735=\"a-Si (triple)\"),3,2))))","v":1},0,null,null,4821,null,null,733]
["Apollo Solar Energy Co., Ltd. ASEC-200G6S","Apollo Solar Energy Co., Ltd. ","ASEC-200G6S",200,"+2,5...0",25.38,7.89,33.53,8.24,-114.47142000000001,2.7768800000000002,-0.49669999999999997,1000,"Taiwan (Formosa)",null,13.654589653015137,"mono",54,"pseudo-square",1481,989,47.5,"aluminum","junction box Tyco",17.2,"www.sovisol.de","-","-","-","-","-",{"$f":"IF($O736=\"Sunpower Corp.\",3,(IF(OR($Q736=\"mono\",$Q736=\"poly\",$Q736=\"HIT\",$Q736=\"EFG\",$Q736=\"mono-LGBC\"),1,IF(OR($Q736=\"µc-Si / a-Si\",$Q736=\"a-Si (single)\",$Q736=\"a-Si (tandem)\",$Q736=\"a-Si (triple)\"),3,2))))","v":1},{"$f":"IF($O736=\"Sunpower Corp.\",3,(IF(OR($Q736=\"mono\",$Q736=\"poly\",$Q736=\"HIT\",$Q736=\"EFG\",$Q736=\"mono-LGBC\"),1,2)))","v":1},{"$f":"IF($O736=\"Sunpower Corp.\",3,(IF(OR($Q736=\"mono\",$Q736=\"poly\",$Q736=\"HIT\",$Q736=\"EFG\",$Q736=\"mono-LGBC\"),1,IF(OR($Q736=\"µc-Si / a-Si\",$Q736=\"a-Si (single)\",$Q736=\"a-Si (tandem)\",$Q736=\"a-Si (triple)\"),3,2))))","v":1},0,null,null,4822,null,null,734]
["Apollo Solar Energy Co., Ltd. ASEC-205G6M","Apollo Solar Energy Co., Ltd. ","ASEC-205G6M",205,"+2,44...0",25.87,7.93,33.58,8.61,-118.26875999999999,3.46983,-0.498,1000,"Taiwan (Formosa)",null,13.995949745178223,"poly",54,"rectangular",1481,989,47.5,"aluminum","junction box Tyco",17.2,"www.sovisol.de","-","-","-","-","-",{"$f":"IF($O737=\"Sunpower Corp.\",3,(IF(OR($Q737=\"mono\",$Q737=\"poly\",$Q737=\"HIT\",$Q737=\"EFG\",$Q737=\"mono-LGBC\"),1,IF(OR($Q737=\"µc-Si / a-Si\",$Q737=\"a-Si (single)\",$Q737=\"a-Si (tandem)\",$Q737=\"a-Si (triple)\"),3,2))))","v":1},{"$f":"IF($O737=\"Sunpower Corp.\",3,(IF(OR($Q737=\"mono\",$Q737=\"poly\",$Q737=\"HIT\",$Q737=\"EFG\",$Q737=\"mono-LGBC\"),1,2)))","v":1},{"$f":"IF($O737=\"Sunpower Corp.\",3,(IF(OR($Q737=\"mono\",$Q737=\"poly\",$Q737=\"HIT\",$Q737=\"EFG\",$Q737=\"mono-LGBC\"),1,IF(OR($Q737=\"µc-Si / a-Si\",$Q737=\"a-Si (single)\",$Q737=\"a-Si (tandem)\",$Q737=\"a-Si (triple)\"),3,2))))","v":1},0,null,null,15244,null,null,735]
["Apollo Solar Energy Co., Ltd. ASEC-205G6S","Apollo Solar Energy Co., Ltd. ","ASEC-205G6S",205,"+2,44...0",25.87,7.93,33.64,8.32,-114.84696,2.8038400000000001,-0.49669999999999997,1000,"Taiwan (Formosa)",null,13.995949745178223,"mono",54,"pseudo-square",1481,989,47.5,"aluminum","junction box Tyco",17.2,"www.sovisol.de","-","-","-","-","-",{"$f":"IF($O738=\"Sunpower Corp.\",3,(IF(OR($Q738=\"mono\",$Q738=\"poly\",$Q738=\"HIT\",$Q738=\"EFG\",$Q738=\"mono-LGBC\"),1,IF(OR($Q738=\"µc-Si / a-Si\",$Q738=\"a-Si (single)\",$Q738=\"a-Si (tandem)\",$Q738=\"a-Si (triple)\"),3,2))))","v":1},{"$f":"IF($O738=\"Sunpower Corp.\",3,(IF(OR($Q738=\"mono\",$Q738=\"poly\",$Q738=\"HIT\",$Q738=\"EFG\",$Q738=\"mono-LGBC\"),1,2)))","v":1},{"$f":"IF($O738=\"Sunpower Corp.\",3,(IF(OR($Q738=\"mono\",$Q738=\"poly\",$Q738=\"HIT\",$Q738=\"EFG\",$Q738=\"mono-LGBC\"),1,IF(OR($Q738=\"µc-Si / a-Si\",$Q738=\"a-Si (single)\",$Q738=\"a-Si (tandem)\",$Q738=\"a-Si (triple)\"),3,2))))","v":1},0,null,null,15245,null,null,736]
["Apollo Solar Energy Co., Ltd. ASEC-210G6M","Apollo Solar Energy Co., Ltd. ","ASEC-210G6M",210,"+2,38...0",26.19,8.02,33.61,8.65,-118.37442,3.4859500000000008,-0.498,1000,"Taiwan (Formosa)",null,14.337320327758789,"poly",54,"rectangular",1481,989,47.5,"aluminum","junction box Tyco",17.2,"www.sovisol.de","-","-","-","-","-",{"$f":"IF($O739=\"Sunpower Corp.\",3,(IF(OR($Q739=\"mono\",$Q739=\"poly\",$Q739=\"HIT\",$Q739=\"EFG\",$Q739=\"mono-LGBC\"),1,IF(OR($Q739=\"µc-Si / a-Si\",$Q739=\"a-Si (single)\",$Q739=\"a-Si (tandem)\",$Q739=\"a-Si (triple)\"),3,2))))","v":1},{"$f":"IF($O739=\"Sunpower Corp.\",3,(IF(OR($Q739=\"mono\",$Q739=\"poly\",$Q739=\"HIT\",$Q739=\"EFG\",$Q739=\"mono-LGBC\"),1,2)))","v":1},{"$f":"IF($O739=\"Sunpower Corp.\",3,(IF(OR($Q739=\"mono\",$Q739=\"poly\",$Q739=\"HIT\",$Q739=\"EFG\",$Q739=\"mono-LGBC\"),1,IF(OR($Q739=\"µc-Si / a-Si\",$Q739=\"a-Si (single)\",$Q739=\"a-Si (tandem)\",$Q739=\"a-Si (triple)\"),3,2))))","v":1},0,null,null,15246,null,null,737]
["Apollo Solar Energy Co., Ltd. ASEC-210G6S","Apollo Solar Energy Co., Ltd. ","ASEC-210G6S",210,"+2,38...0",26.33,7.98,33.68,8.35,-114.98352,2.8139500000000002,-0.49669999999999997,1000,"Taiwan (Formosa)",null,14.337320327758789,"mono",54,"pseudo-square",1481,989,47.5,"aluminum","junction box Tyco",17.2,"www.sovisol.de","-","-","-","-","-",{"$f":"IF($O740=\"Sunpower Corp.\",3,(IF(OR($Q740=\"mono\",$Q740=\"poly\",$Q740=\"HIT\",$Q740=\"EFG\",$Q740=\"mono-LGBC\"),1,IF(OR($Q740=\"µc-Si / a-Si\",$Q740=\"a-Si (single)\",$Q740=\"a-Si (tandem)\",$Q740=\"a-Si (triple)\"),3,2))))","v":1},{"$f":"IF($O740=\"Sunpower Corp.\",3,(IF(OR($Q740=\"mono\",$Q740=\"poly\",$Q740=\"HIT\",$Q740=\"EFG\",$Q740=\"mono-LGBC\"),1,2)))","v":1},{"$f":"IF($O740=\"Sunpower Corp.\",3,(IF(OR($Q740=\"mono\",$Q740=\"poly\",$Q740=\"HIT\",$Q740=\"EFG\",$Q740=\"mono-LGBC\"),1,IF(OR($Q740=\"µc-Si / a-Si\",$Q740=\"a-Si (single)\",$Q740=\"a-Si (tandem)\",$Q740=\"a-Si (triple)\"),3,2))))","v":1},0,null,null,15247,null,null,738]
["Apollo Solar Energy Co., Ltd. ASEC-215G6M","Apollo Solar Energy Co., Ltd. ","ASEC-215G6M",215,"+2,33...0",29.02,7.41,36.39,7.96,-118.12194000000001,2.243128,-0.51329999999999998,1000,"Taiwan (Formosa)",null,13.345080375671387,"poly",60,"square",1629,989,47.5,"aluminum","junction box Tyco",19,"www.asectw.com","-","-","-","-","-",{"$f":"IF($O741=\"Sunpower Corp.\",3,(IF(OR($Q741=\"mono\",$Q741=\"poly\",$Q741=\"HIT\",$Q741=\"EFG\",$Q741=\"mono-LGBC\"),1,IF(OR($Q741=\"µc-Si / a-Si\",$Q741=\"a-Si (single)\",$Q741=\"a-Si (tandem)\",$Q741=\"a-Si (triple)\"),3,2))))","v":1},{"$f":"IF($O741=\"Sunpower Corp.\",3,(IF(OR($Q741=\"mono\",$Q741=\"poly\",$Q741=\"HIT\",$Q741=\"EFG\",$Q741=\"mono-LGBC\"),1,2)))","v":1},{"$f":"IF($O741=\"Sunpower Corp.\",3,(IF(OR($Q741=\"mono\",$Q741=\"poly\",$Q741=\"HIT\",$Q741=\"EFG\",$Q741=\"mono-LGBC\"),1,IF(OR($Q741=\"µc-Si / a-Si\",$Q741=\"a-Si (single)\",$Q741=\"a-Si (tandem)\",$Q741=\"a-Si (triple)\"),3,2))))","v":1},0,null,null,24936,null,null,739]
["Apollo Solar Energy Co., Ltd. ASEC-215G6S","Apollo Solar Energy Co., Ltd. ","ASEC-215G6S",215,"+2,33...0",28.88,7.45,36.4,8.07,-120.5932,2.7889919999999999,-0.50280000000000002,1000,"Taiwan (Formosa)",null,13.345080375671387,"mono",60,"pseudo-square",1629,989,47.5,"aluminum","junction box Tyco",19,"www.asectw.com","-","-","-","-","-",{"$f":"IF($O742=\"Sunpower Corp.\",3,(IF(OR($Q742=\"mono\",$Q742=\"poly\",$Q742=\"HIT\",$Q742=\"EFG\",$Q742=\"mono-LGBC\"),1,IF(OR($Q742=\"µc-Si / a-Si\",$Q742=\"a-Si (single)\",$Q742=\"a-Si (tandem)\",$Q742=\"a-Si (triple)\"),3,2))))","v":1},{"$f":"IF($O742=\"Sunpower Corp.\",3,(IF(OR($Q742=\"mono\",$Q742=\"poly\",$Q742=\"HIT\",$Q742=\"EFG\",$Q742=\"mono-LGBC\"),1,2)))","v":1},{"$f":"IF($O742=\"Sunpower Corp.\",3,(IF(OR($Q742=\"mono\",$Q742=\"poly\",$Q742=\"HIT\",$Q742=\"EFG\",$Q742=\"mono-LGBC\"),1,IF(OR($Q742=\"µc-Si / a-Si\",$Q742=\"a-Si (single)\",$Q742=\"a-Si (tandem)\",$Q742=\"a-Si (triple)\"),3,2))))","v":1},0,null,null,24934,null,null,740]
["Apollo Solar Energy Co., Ltd. ASEC-215G6S69","Apollo Solar Energy Co., Ltd. ","ASEC-215G6S69",215,"+2,33...0",26.58,8.09,33.770000000000003,8.4700000000000006,-115.29078000000001,2.85439,-0.49669999999999997,1000,"Taiwan (Formosa)",null,14.678680419921875,"mono",54,"pseudo-square",1481,989,47.5,"aluminum","junction box Tyco",17.2,"www.sovisol.de","-","-","-","-","-",{"$f":"IF($O743=\"Sunpower Corp.\",3,(IF(OR($Q743=\"mono\",$Q743=\"poly\",$Q743=\"HIT\",$Q743=\"EFG\",$Q743=\"mono-LGBC\"),1,IF(OR($Q743=\"µc-Si / a-Si\",$Q743=\"a-Si (single)\",$Q743=\"a-Si (tandem)\",$Q743=\"a-Si (triple)\"),3,2))))","v":1},{"$f":"IF($O743=\"Sunpower Corp.\",3,(IF(OR($Q743=\"mono\",$Q743=\"poly\",$Q743=\"HIT\",$Q743=\"EFG\",$Q743=\"mono-LGBC\"),1,2)))","v":1},{"$f":"IF($O743=\"Sunpower Corp.\",3,(IF(OR($Q743=\"mono\",$Q743=\"poly\",$Q743=\"HIT\",$Q743=\"EFG\",$Q743=\"mono-LGBC\"),1,IF(OR($Q743=\"µc-Si / a-Si\",$Q743=\"a-Si (single)\",$Q743=\"a-Si (tandem)\",$Q743=\"a-Si (triple)\"),3,2))))","v":1},0,null,null,15248,null,null,741]
["Apollo Solar Energy Co., Ltd. ASEC-220G6M","Apollo Solar Energy Co., Ltd. ","ASEC-220G6M",220,"+2,27...0",29.11,7.56,36.57,8.1,-128.79953999999998,3.2643000000000004,-0.498,1000,"Taiwan (Formosa)",null,13.655429840087891,"poly",60,"rectangular",1629,989,47.5,"aluminum","junction box Tyco",19,"www.sovisol.de","-","-","-","-","-",{"$f":"IF($O744=\"Sunpower Corp.\",3,(IF(OR($Q744=\"mono\",$Q744=\"poly\",$Q744=\"HIT\",$Q744=\"EFG\",$Q744=\"mono-LGBC\"),1,IF(OR($Q744=\"µc-Si / a-Si\",$Q744=\"a-Si (single)\",$Q744=\"a-Si (tandem)\",$Q744=\"a-Si (triple)\"),3,2))))","v":1},{"$f":"IF($O744=\"Sunpower Corp.\",3,(IF(OR($Q744=\"mono\",$Q744=\"poly\",$Q744=\"HIT\",$Q744=\"EFG\",$Q744=\"mono-LGBC\"),1,2)))","v":1},{"$f":"IF($O744=\"Sunpower Corp.\",3,(IF(OR($Q744=\"mono\",$Q744=\"poly\",$Q744=\"HIT\",$Q744=\"EFG\",$Q744=\"mono-LGBC\"),1,IF(OR($Q744=\"µc-Si / a-Si\",$Q744=\"a-Si (single)\",$Q744=\"a-Si (tandem)\",$Q744=\"a-Si (triple)\"),3,2))))","v":1},0,null,null,15249,null,null,742]
["Apollo Solar Energy Co., Ltd. ASEC-220G6M69","Apollo Solar Energy Co., Ltd. ","ASEC-220G6M69",220,"+2,27...0",26.71,8.24,33.75,8.75,-111.88124999999999,3.8762500000000002,-0.46310000000000001,1000,"Taiwan (Formosa)",null,15.020050048828125,"poly",54,"square",1481,989,47.5,"aluminum","junction box Tyco",17.2,"www.asectw.com","-","-","-","-","-",{"$f":"IF($O745=\"Sunpower Corp.\",3,(IF(OR($Q745=\"mono\",$Q745=\"poly\",$Q745=\"HIT\",$Q745=\"EFG\",$Q745=\"mono-LGBC\"),1,IF(OR($Q745=\"µc-Si / a-Si\",$Q745=\"a-Si (single)\",$Q745=\"a-Si (tandem)\",$Q745=\"a-Si (triple)\"),3,2))))","v":1},{"$f":"IF($O745=\"Sunpower Corp.\",3,(IF(OR($Q745=\"mono\",$Q745=\"poly\",$Q745=\"HIT\",$Q745=\"EFG\",$Q745=\"mono-LGBC\"),1,2)))","v":1},{"$f":"IF($O745=\"Sunpower Corp.\",3,(IF(OR($Q745=\"mono\",$Q745=\"poly\",$Q745=\"HIT\",$Q745=\"EFG\",$Q745=\"mono-LGBC\"),1,IF(OR($Q745=\"µc-Si / a-Si\",$Q745=\"a-Si (single)\",$Q745=\"a-Si (tandem)\",$Q745=\"a-Si (triple)\"),3,2))))","v":1},0,null,null,27786,null,null,743]
["Apollo Solar Energy Co., Ltd. ASEC-220G6S","Apollo Solar Energy Co., Ltd. ","ASEC-220G6S",220,"+2,27...0",28.99,7.59,36.53,8.2100000000000009,-121.02389000000001,2.8373760000000003,-0.50280000000000002,1000,"Taiwan (Formosa)",null,13.655429840087891,"mono",60,"pseudo-square",1629,989,47.5,"aluminum","junction box Tyco",19,"www.asectw.com","-","-","-","-","-",{"$f":"IF($O746=\"Sunpower Corp.\",3,(IF(OR($Q746=\"mono\",$Q746=\"poly\",$Q746=\"HIT\",$Q746=\"EFG\",$Q746=\"mono-LGBC\"),1,IF(OR($Q746=\"µc-Si / a-Si\",$Q746=\"a-Si (single)\",$Q746=\"a-Si (tandem)\",$Q746=\"a-Si (triple)\"),3,2))))","v":1},{"$f":"IF($O746=\"Sunpower Corp.\",3,(IF(OR($Q746=\"mono\",$Q746=\"poly\",$Q746=\"HIT\",$Q746=\"EFG\",$Q746=\"mono-LGBC\"),1,2)))","v":1},{"$f":"IF($O746=\"Sunpower Corp.\",3,(IF(OR($Q746=\"mono\",$Q746=\"poly\",$Q746=\"HIT\",$Q746=\"EFG\",$Q746=\"mono-LGBC\"),1,IF(OR($Q746=\"µc-Si / a-Si\",$Q746=\"a-Si (single)\",$Q746=\"a-Si (tandem)\",$Q746=\"a-Si (triple)\"),3,2))))","v":1},0,null,null,24935,null,null,744]
["Apollo Solar Energy Co., Ltd. ASEC-220G6S69","Apollo Solar Energy Co., Ltd. ","ASEC-220G6S69",220,"+2,27...0",26.67,8.25,33.86,8.61,-115.02241999999998,3.6420299999999997,-0.46839999999999998,1000,"Taiwan (Formosa)",null,15.020050048828125,"mono",54,"pseudo-square",1481,989,47.5,"aluminum","junction box Tyco",17.2,"www.asectw.com","-","-","-","-","-",{"$f":"IF($O747=\"Sunpower Corp.\",3,(IF(OR($Q747=\"mono\",$Q747=\"poly\",$Q747=\"HIT\",$Q747=\"EFG\",$Q747=\"mono-LGBC\"),1,IF(OR($Q747=\"µc-Si / a-Si\",$Q747=\"a-Si (single)\",$Q747=\"a-Si (tandem)\",$Q747=\"a-Si (triple)\"),3,2))))","v":1},{"$f":"IF($O747=\"Sunpower Corp.\",3,(IF(OR($Q747=\"mono\",$Q747=\"poly\",$Q747=\"HIT\",$Q747=\"EFG\",$Q747=\"mono-LGBC\"),1,2)))","v":1},{"$f":"IF($O747=\"Sunpower Corp.\",3,(IF(OR($Q747=\"mono\",$Q747=\"poly\",$Q747=\"HIT\",$Q747=\"EFG\",$Q747=\"mono-LGBC\"),1,IF(OR($Q747=\"µc-Si / a-Si\",$Q747=\"a-Si (single)\",$Q747=\"a-Si (tandem)\",$Q747=\"a-Si (triple)\"),3,2))))","v":1},0,null,null,27787,null,null,745]
["Apollo Solar Energy Co., Ltd. ASEC-225G6M","Apollo Solar Energy Co., Ltd. ","ASEC-225G6M",225,"+2,22...0",29.19,7.71,36.75,8.2100000000000009,-129.43350000000001,3.3086300000000008,-0.498,1000,"Taiwan (Formosa)",null,13.965780258178711,"poly",60,"rectangular",1629,989,47.5,"aluminum","junction box Tyco",19,"www.sovisol.de","-","-","-","-","-",{"$f":"IF($O748=\"Sunpower Corp.\",3,(IF(OR($Q748=\"mono\",$Q748=\"poly\",$Q748=\"HIT\",$Q748=\"EFG\",$Q748=\"mono-LGBC\"),1,IF(OR($Q748=\"µc-Si / a-Si\",$Q748=\"a-Si (single)\",$Q748=\"a-Si (tandem)\",$Q748=\"a-Si (triple)\"),3,2))))","v":1},{"$f":"IF($O748=\"Sunpower Corp.\",3,(IF(OR($Q748=\"mono\",$Q748=\"poly\",$Q748=\"HIT\",$Q748=\"EFG\",$Q748=\"mono-LGBC\"),1,2)))","v":1},{"$f":"IF($O748=\"Sunpower Corp.\",3,(IF(OR($Q748=\"mono\",$Q748=\"poly\",$Q748=\"HIT\",$Q748=\"EFG\",$Q748=\"mono-LGBC\"),1,IF(OR($Q748=\"µc-Si / a-Si\",$Q748=\"a-Si (single)\",$Q748=\"a-Si (tandem)\",$Q748=\"a-Si (triple)\"),3,2))))","v":1},0,null,null,15250,null,null,746]
["Apollo Solar Energy Co., Ltd. ASEC-225G6S","Apollo Solar Energy Co., Ltd. ","ASEC-225G6S",225,"+2,22...0",29.08,7.74,36.65,8.33,-125.12309999999999,2.80721,-0.49669999999999997,1000,"Taiwan (Formosa)",null,13.965780258178711,"mono",60,"pseudo-square",1629,989,47.5,"aluminum","junction box Tyco",19,"www.sovisol.de","-","-","-","-","-",{"$f":"IF($O749=\"Sunpower Corp.\",3,(IF(OR($Q749=\"mono\",$Q749=\"poly\",$Q749=\"HIT\",$Q749=\"EFG\",$Q749=\"mono-LGBC\"),1,IF(OR($Q749=\"µc-Si / a-Si\",$Q749=\"a-Si (single)\",$Q749=\"a-Si (tandem)\",$Q749=\"a-Si (triple)\"),3,2))))","v":1},{"$f":"IF($O749=\"Sunpower Corp.\",3,(IF(OR($Q749=\"mono\",$Q749=\"poly\",$Q749=\"HIT\",$Q749=\"EFG\",$Q749=\"mono-LGBC\"),1,2)))","v":1},{"$f":"IF($O749=\"Sunpower Corp.\",3,(IF(OR($Q749=\"mono\",$Q749=\"poly\",$Q749=\"HIT\",$Q749=\"EFG\",$Q749=\"mono-LGBC\"),1,IF(OR($Q749=\"µc-Si / a-Si\",$Q749=\"a-Si (single)\",$Q749=\"a-Si (tandem)\",$Q749=\"a-Si (triple)\"),3,2))))","v":1},0,null,null,15251,null,null,747]
["Apollo Solar Energy Co., Ltd. ASEC-230G6M","Apollo Solar Energy Co., Ltd. ","ASEC-230G6M",230,"+2,17...0",29.3,7.85,36.869999999999997,8.32,-129.85613999999998,3.3529600000000004,-0.498,1000,"Taiwan (Formosa)",null,14.276129722595215,"poly",60,"rectangular",1629,989,47.5,"aluminum","junction box Tyco",19,"www.sovisol.de","-","-","-","-","-",{"$f":"IF($O750=\"Sunpower Corp.\",3,(IF(OR($Q750=\"mono\",$Q750=\"poly\",$Q750=\"HIT\",$Q750=\"EFG\",$Q750=\"mono-LGBC\"),1,IF(OR($Q750=\"µc-Si / a-Si\",$Q750=\"a-Si (single)\",$Q750=\"a-Si (tandem)\",$Q750=\"a-Si (triple)\"),3,2))))","v":1},{"$f":"IF($O750=\"Sunpower Corp.\",3,(IF(OR($Q750=\"mono\",$Q750=\"poly\",$Q750=\"HIT\",$Q750=\"EFG\",$Q750=\"mono-LGBC\"),1,2)))","v":1},{"$f":"IF($O750=\"Sunpower Corp.\",3,(IF(OR($Q750=\"mono\",$Q750=\"poly\",$Q750=\"HIT\",$Q750=\"EFG\",$Q750=\"mono-LGBC\"),1,IF(OR($Q750=\"µc-Si / a-Si\",$Q750=\"a-Si (single)\",$Q750=\"a-Si (tandem)\",$Q750=\"a-Si (triple)\"),3,2))))","v":1},0,null,null,15252,null,null,748]
["Apollo Solar Energy Co., Ltd. ASEC-230G6S","Apollo Solar Energy Co., Ltd. ","ASEC-230G6S",230,"+2,17...0",29.19,7.88,36.75,8.4600000000000009,-125.4645,2.8510200000000006,-0.49669999999999997,1000,"Taiwan (Formosa)",null,14.276129722595215,"mono",60,"pseudo-square",1629,989,47.5,"aluminum","junction box Tyco",19,"www.sovisol.de","-","-","-","-","-",{"$f":"IF($O751=\"Sunpower Corp.\",3,(IF(OR($Q751=\"mono\",$Q751=\"poly\",$Q751=\"HIT\",$Q751=\"EFG\",$Q751=\"mono-LGBC\"),1,IF(OR($Q751=\"µc-Si / a-Si\",$Q751=\"a-Si (single)\",$Q751=\"a-Si (tandem)\",$Q751=\"a-Si (triple)\"),3,2))))","v":1},{"$f":"IF($O751=\"Sunpower Corp.\",3,(IF(OR($Q751=\"mono\",$Q751=\"poly\",$Q751=\"HIT\",$Q751=\"EFG\",$Q751=\"mono-LGBC\"),1,2)))","v":1},{"$f":"IF($O751=\"Sunpower Corp.\",3,(IF(OR($Q751=\"mono\",$Q751=\"poly\",$Q751=\"HIT\",$Q751=\"EFG\",$Q751=\"mono-LGBC\"),1,IF(OR($Q751=\"µc-Si / a-Si\",$Q751=\"a-Si (single)\",$Q751=\"a-Si (tandem)\",$Q751=\"a-Si (triple)\"),3,2))))","v":1},0,null,null,15253,null,null,749]
["Apollo Solar Energy Co., Ltd. ASEC-235G6M","Apollo Solar Energy Co., Ltd. ","ASEC-235G6M",235,"+2,13...0",29.34,8.01,37.06,8.4499999999999993,-130.52531999999999,3.4053500000000003,-0.498,1000,"Taiwan (Formosa)",null,14.586480140686035,"poly",60,"rectangular",1629,989,47.5,"aluminum","junction box Tyco",19,"www.sovisol.de","-","-","-","-","-",{"$f":"IF($O752=\"Sunpower Corp.\",3,(IF(OR($Q752=\"mono\",$Q752=\"poly\",$Q752=\"HIT\",$Q752=\"EFG\",$Q752=\"mono-LGBC\"),1,IF(OR($Q752=\"µc-Si / a-Si\",$Q752=\"a-Si (single)\",$Q752=\"a-Si (tandem)\",$Q752=\"a-Si (triple)\"),3,2))))","v":1},{"$f":"IF($O752=\"Sunpower Corp.\",3,(IF(OR($Q752=\"mono\",$Q752=\"poly\",$Q752=\"HIT\",$Q752=\"EFG\",$Q752=\"mono-LGBC\"),1,2)))","v":1},{"$f":"IF($O752=\"Sunpower Corp.\",3,(IF(OR($Q752=\"mono\",$Q752=\"poly\",$Q752=\"HIT\",$Q752=\"EFG\",$Q752=\"mono-LGBC\"),1,IF(OR($Q752=\"µc-Si / a-Si\",$Q752=\"a-Si (single)\",$Q752=\"a-Si (tandem)\",$Q752=\"a-Si (triple)\"),3,2))))","v":1},0,null,null,15254,null,null,750]
["Apollo Solar Energy Co., Ltd. ASEC-235G6S","Apollo Solar Energy Co., Ltd. ","ASEC-235G6S",235,"+2,13...0",29.27,8.0299999999999994,36.880000000000003,8.58,-125.90832000000002,2.8914600000000004,-0.49669999999999997,1000,"Taiwan (Formosa)",null,14.586480140686035,"mono",60,"pseudo-square",1629,989,47.5,"aluminum","junction box Tyco",19,"www.sovisol.de","-","-","-","-","-",{"$f":"IF($O753=\"Sunpower Corp.\",3,(IF(OR($Q753=\"mono\",$Q753=\"poly\",$Q753=\"HIT\",$Q753=\"EFG\",$Q753=\"mono-LGBC\"),1,IF(OR($Q753=\"µc-Si / a-Si\",$Q753=\"a-Si (single)\",$Q753=\"a-Si (tandem)\",$Q753=\"a-Si (triple)\"),3,2))))","v":1},{"$f":"IF($O753=\"Sunpower Corp.\",3,(IF(OR($Q753=\"mono\",$Q753=\"poly\",$Q753=\"HIT\",$Q753=\"EFG\",$Q753=\"mono-LGBC\"),1,2)))","v":1},{"$f":"IF($O753=\"Sunpower Corp.\",3,(IF(OR($Q753=\"mono\",$Q753=\"poly\",$Q753=\"HIT\",$Q753=\"EFG\",$Q753=\"mono-LGBC\"),1,IF(OR($Q753=\"µc-Si / a-Si\",$Q753=\"a-Si (single)\",$Q753=\"a-Si (tandem)\",$Q753=\"a-Si (triple)\"),3,2))))","v":1},0,null,null,15255,null,null,751]
["Apollo Solar Energy Co., Ltd. ASEC-240G6M","Apollo Solar Energy Co., Ltd. ","ASEC-240G6M",240,"+2,08...0",34,7.06,43.24,7.57,-143.34060000000002,3.35351,-0.46310000000000001,1000,"Taiwan (Formosa)",null,12.269940376281738,"poly",72,"square",1956,1000,47.5,"aluminum","junction box Tyco",22.5,"www.asectw.com","-","-","-","-","-",{"$f":"IF($O754=\"Sunpower Corp.\",3,(IF(OR($Q754=\"mono\",$Q754=\"poly\",$Q754=\"HIT\",$Q754=\"EFG\",$Q754=\"mono-LGBC\"),1,IF(OR($Q754=\"µc-Si / a-Si\",$Q754=\"a-Si (single)\",$Q754=\"a-Si (tandem)\",$Q754=\"a-Si (triple)\"),3,2))))","v":1},{"$f":"IF($O754=\"Sunpower Corp.\",3,(IF(OR($Q754=\"mono\",$Q754=\"poly\",$Q754=\"HIT\",$Q754=\"EFG\",$Q754=\"mono-LGBC\"),1,2)))","v":1},{"$f":"IF($O754=\"Sunpower Corp.\",3,(IF(OR($Q754=\"mono\",$Q754=\"poly\",$Q754=\"HIT\",$Q754=\"EFG\",$Q754=\"mono-LGBC\"),1,IF(OR($Q754=\"µc-Si / a-Si\",$Q754=\"a-Si (single)\",$Q754=\"a-Si (tandem)\",$Q754=\"a-Si (triple)\"),3,2))))","v":1},0,null,null,24954,null,null,752]
["Apollo Solar Energy Co., Ltd. ASEC-240G6M6A","Apollo Solar Energy Co., Ltd. ","ASEC-240G6M6A",240,"+2,08...0",29.42,8.16,37.18,8.5500000000000007,-123.2517,3.7876500000000002,-0.46310000000000001,1000,"Taiwan (Formosa)",null,14.896829605102539,"poly",60,"square",1629,989,47.5,"aluminum","junction box Tyco",19,"www.asectw.com","-","-","-","-","-",{"$f":"IF($O755=\"Sunpower Corp.\",3,(IF(OR($Q755=\"mono\",$Q755=\"poly\",$Q755=\"HIT\",$Q755=\"EFG\",$Q755=\"mono-LGBC\"),1,IF(OR($Q755=\"µc-Si / a-Si\",$Q755=\"a-Si (single)\",$Q755=\"a-Si (tandem)\",$Q755=\"a-Si (triple)\"),3,2))))","v":1},{"$f":"IF($O755=\"Sunpower Corp.\",3,(IF(OR($Q755=\"mono\",$Q755=\"poly\",$Q755=\"HIT\",$Q755=\"EFG\",$Q755=\"mono-LGBC\"),1,2)))","v":1},{"$f":"IF($O755=\"Sunpower Corp.\",3,(IF(OR($Q755=\"mono\",$Q755=\"poly\",$Q755=\"HIT\",$Q755=\"EFG\",$Q755=\"mono-LGBC\"),1,IF(OR($Q755=\"µc-Si / a-Si\",$Q755=\"a-Si (single)\",$Q755=\"a-Si (tandem)\",$Q755=\"a-Si (triple)\"),3,2))))","v":1},0,null,null,27789,null,null,753]
["Apollo Solar Energy Co., Ltd. ASEC-240G6S6A","Apollo Solar Energy Co., Ltd. ","ASEC-240G6S6A",240,"+2,08...0",29.38,8.17,37.01,8.68,-126.35214000000001,2.92516,-0.49669999999999997,1000,"Taiwan (Formosa)",null,14.896829605102539,"mono",60,"pseudo-square",1629,989,47.5,"aluminum","junction box Tyco",19,"www.sovisol.de","-","-","-","-","-",{"$f":"IF($O756=\"Sunpower Corp.\",3,(IF(OR($Q756=\"mono\",$Q756=\"poly\",$Q756=\"HIT\",$Q756=\"EFG\",$Q756=\"mono-LGBC\"),1,IF(OR($Q756=\"µc-Si / a-Si\",$Q756=\"a-Si (single)\",$Q756=\"a-Si (tandem)\",$Q756=\"a-Si (triple)\"),3,2))))","v":1},{"$f":"IF($O756=\"Sunpower Corp.\",3,(IF(OR($Q756=\"mono\",$Q756=\"poly\",$Q756=\"HIT\",$Q756=\"EFG\",$Q756=\"mono-LGBC\"),1,2)))","v":1},{"$f":"IF($O756=\"Sunpower Corp.\",3,(IF(OR($Q756=\"mono\",$Q756=\"poly\",$Q756=\"HIT\",$Q756=\"EFG\",$Q756=\"mono-LGBC\"),1,IF(OR($Q756=\"µc-Si / a-Si\",$Q756=\"a-Si (single)\",$Q756=\"a-Si (tandem)\",$Q756=\"a-Si (triple)\"),3,2))))","v":1},0,null,null,15256,null,null,754]
["Apollo Solar Energy Co., Ltd. ASEC-245G6S6A","Apollo Solar Energy Co., Ltd. ","ASEC-245G6S6A",245,"+2,04...0",29.49,8.31,37.14,8.81,-126.16458,3.7266299999999997,-0.46839999999999998,1000,"Taiwan (Formosa)",null,15.207180023193359,"mono",60,"pseudo-square",1629,989,47.5,"aluminum","junction box Tyco",19,"www.asectw.com","-","-","-","-","-",{"$f":"IF($O757=\"Sunpower Corp.\",3,(IF(OR($Q757=\"mono\",$Q757=\"poly\",$Q757=\"HIT\",$Q757=\"EFG\",$Q757=\"mono-LGBC\"),1,IF(OR($Q757=\"µc-Si / a-Si\",$Q757=\"a-Si (single)\",$Q757=\"a-Si (tandem)\",$Q757=\"a-Si (triple)\"),3,2))))","v":1},{"$f":"IF($O757=\"Sunpower Corp.\",3,(IF(OR($Q757=\"mono\",$Q757=\"poly\",$Q757=\"HIT\",$Q757=\"EFG\",$Q757=\"mono-LGBC\"),1,2)))","v":1},{"$f":"IF($O757=\"Sunpower Corp.\",3,(IF(OR($Q757=\"mono\",$Q757=\"poly\",$Q757=\"HIT\",$Q757=\"EFG\",$Q757=\"mono-LGBC\"),1,IF(OR($Q757=\"µc-Si / a-Si\",$Q757=\"a-Si (single)\",$Q757=\"a-Si (tandem)\",$Q757=\"a-Si (triple)\"),3,2))))","v":1},0,null,null,27788,null,null,755]
["Apollo Solar Energy Co., Ltd. ASEC-250G6M","Apollo Solar Energy Co., Ltd. ","ASEC-250G6M",250,"+2...0",34.299999999999997,7.29,43.53,7.78,-144.30195000000001,3.4465400000000002,-0.46310000000000001,1000,"Taiwan (Formosa)",null,12.781189918518066,"poly",72,"square",1956,1000,47.5,"aluminum","junction box Tyco",22.5,"www.asectw.com","-","-","-","-","-",{"$f":"IF($O758=\"Sunpower Corp.\",3,(IF(OR($Q758=\"mono\",$Q758=\"poly\",$Q758=\"HIT\",$Q758=\"EFG\",$Q758=\"mono-LGBC\"),1,IF(OR($Q758=\"µc-Si / a-Si\",$Q758=\"a-Si (single)\",$Q758=\"a-Si (tandem)\",$Q758=\"a-Si (triple)\"),3,2))))","v":1},{"$f":"IF($O758=\"Sunpower Corp.\",3,(IF(OR($Q758=\"mono\",$Q758=\"poly\",$Q758=\"HIT\",$Q758=\"EFG\",$Q758=\"mono-LGBC\"),1,2)))","v":1},{"$f":"IF($O758=\"Sunpower Corp.\",3,(IF(OR($Q758=\"mono\",$Q758=\"poly\",$Q758=\"HIT\",$Q758=\"EFG\",$Q758=\"mono-LGBC\"),1,IF(OR($Q758=\"µc-Si / a-Si\",$Q758=\"a-Si (single)\",$Q758=\"a-Si (tandem)\",$Q758=\"a-Si (triple)\"),3,2))))","v":1},0,null,null,24955,null,null,756]
["Apollo Solar Energy Co., Ltd. ASEC-260G6M","Apollo Solar Energy Co., Ltd. ","ASEC-260G6M",260,"+1,92...0",34.53,7.53,43.84,8.01,-145.32960000000003,3.5484299999999998,-0.46310000000000001,1000,"Taiwan (Formosa)",null,13.29242992401123,"poly",72,"square",1956,1000,47.5,"aluminum","junction box Tyco",22.5,"www.asectw.com","-","-","-","-","-",{"$f":"IF($O759=\"Sunpower Corp.\",3,(IF(OR($Q759=\"mono\",$Q759=\"poly\",$Q759=\"HIT\",$Q759=\"EFG\",$Q759=\"mono-LGBC\"),1,IF(OR($Q759=\"µc-Si / a-Si\",$Q759=\"a-Si (single)\",$Q759=\"a-Si (tandem)\",$Q759=\"a-Si (triple)\"),3,2))))","v":1},{"$f":"IF($O759=\"Sunpower Corp.\",3,(IF(OR($Q759=\"mono\",$Q759=\"poly\",$Q759=\"HIT\",$Q759=\"EFG\",$Q759=\"mono-LGBC\"),1,2)))","v":1},{"$f":"IF($O759=\"Sunpower Corp.\",3,(IF(OR($Q759=\"mono\",$Q759=\"poly\",$Q759=\"HIT\",$Q759=\"EFG\",$Q759=\"mono-LGBC\"),1,IF(OR($Q759=\"µc-Si / a-Si\",$Q759=\"a-Si (single)\",$Q759=\"a-Si (tandem)\",$Q759=\"a-Si (triple)\"),3,2))))","v":1},0,null,null,24956,null,null,757]
["Apollo Solar Energy Co., Ltd. ASEC-260G6S","Apollo Solar Energy Co., Ltd. ","ASEC-260G6S",260,"+1,92...0",34.49,7.54,43.98,8.09,-154.36979999999997,3.0984699999999998,-0.51319999999999999,1000,"Taiwan (Formosa)",null,13.29242992401123,"mono",72,"pseudo-square",1956,1000,47.5,"aluminum","junction box Tyco",22.5,"www.asectw.com","-","-","-","-","-",{"$f":"IF($O760=\"Sunpower Corp.\",3,(IF(OR($Q760=\"mono\",$Q760=\"poly\",$Q760=\"HIT\",$Q760=\"EFG\",$Q760=\"mono-LGBC\"),1,IF(OR($Q760=\"µc-Si / a-Si\",$Q760=\"a-Si (single)\",$Q760=\"a-Si (tandem)\",$Q760=\"a-Si (triple)\"),3,2))))","v":1},{"$f":"IF($O760=\"Sunpower Corp.\",3,(IF(OR($Q760=\"mono\",$Q760=\"poly\",$Q760=\"HIT\",$Q760=\"EFG\",$Q760=\"mono-LGBC\"),1,2)))","v":1},{"$f":"IF($O760=\"Sunpower Corp.\",3,(IF(OR($Q760=\"mono\",$Q760=\"poly\",$Q760=\"HIT\",$Q760=\"EFG\",$Q760=\"mono-LGBC\"),1,IF(OR($Q760=\"µc-Si / a-Si\",$Q760=\"a-Si (single)\",$Q760=\"a-Si (tandem)\",$Q760=\"a-Si (triple)\"),3,2))))","v":1},0,null,null,24949,null,null,758]
["Apollo Solar Energy Co., Ltd. ASEC-270G6M","Apollo Solar Energy Co., Ltd. ","ASEC-270G6M",270,"+1,85...0",34.869999999999997,7.75,44.15,8.19,-146.35724999999999,3.6281699999999995,-0.46310000000000001,1000,"Taiwan (Formosa)",null,13.803680419921875,"poly",72,"square",1956,1000,47.5,"aluminum","junction box Tyco",22.5,"www.asectw.com","-","-","-","-","-",{"$f":"IF($O761=\"Sunpower Corp.\",3,(IF(OR($Q761=\"mono\",$Q761=\"poly\",$Q761=\"HIT\",$Q761=\"EFG\",$Q761=\"mono-LGBC\"),1,IF(OR($Q761=\"µc-Si / a-Si\",$Q761=\"a-Si (single)\",$Q761=\"a-Si (tandem)\",$Q761=\"a-Si (triple)\"),3,2))))","v":1},{"$f":"IF($O761=\"Sunpower Corp.\",3,(IF(OR($Q761=\"mono\",$Q761=\"poly\",$Q761=\"HIT\",$Q761=\"EFG\",$Q761=\"mono-LGBC\"),1,2)))","v":1},{"$f":"IF($O761=\"Sunpower Corp.\",3,(IF(OR($Q761=\"mono\",$Q761=\"poly\",$Q761=\"HIT\",$Q761=\"EFG\",$Q761=\"mono-LGBC\"),1,IF(OR($Q761=\"µc-Si / a-Si\",$Q761=\"a-Si (single)\",$Q761=\"a-Si (tandem)\",$Q761=\"a-Si (triple)\"),3,2))))","v":1},0,null,null,24957,null,null,759]
["Apollo Solar Energy Co., Ltd. ASEC-270G6S","Apollo Solar Energy Co., Ltd. ","ASEC-270G6S",270,"+1,85...0",34.619999999999997,7.8,44.27,8.34,-155.3877,3.1942199999999996,-0.51319999999999999,1000,"Taiwan (Formosa)",null,13.803680419921875,"mono",72,"pseudo-square",1956,1000,47.5,"aluminum","junction box Tyco",22.5,"www.asectw.com","-","-","-","-","-",{"$f":"IF($O762=\"Sunpower Corp.\",3,(IF(OR($Q762=\"mono\",$Q762=\"poly\",$Q762=\"HIT\",$Q762=\"EFG\",$Q762=\"mono-LGBC\"),1,IF(OR($Q762=\"µc-Si / a-Si\",$Q762=\"a-Si (single)\",$Q762=\"a-Si (tandem)\",$Q762=\"a-Si (triple)\"),3,2))))","v":1},{"$f":"IF($O762=\"Sunpower Corp.\",3,(IF(OR($Q762=\"mono\",$Q762=\"poly\",$Q762=\"HIT\",$Q762=\"EFG\",$Q762=\"mono-LGBC\"),1,2)))","v":1},{"$f":"IF($O762=\"Sunpower Corp.\",3,(IF(OR($Q762=\"mono\",$Q762=\"poly\",$Q762=\"HIT\",$Q762=\"EFG\",$Q762=\"mono-LGBC\"),1,IF(OR($Q762=\"µc-Si / a-Si\",$Q762=\"a-Si (single)\",$Q762=\"a-Si (tandem)\",$Q762=\"a-Si (triple)\"),3,2))))","v":1},0,null,null,24950,null,null,760]
["Apollo Solar Energy Co., Ltd. ASEC-275G6M","Apollo Solar Energy Co., Ltd. ","ASEC-275G6M",275,"+1,82...0",34.96,7.87,44.31,8.31,-146.88765000000001,3.68133,-0.46310000000000001,1000,"Taiwan (Formosa)",null,14.059300422668457,"poly",72,"square",1956,1000,47.5,"aluminum","junction box Tyco",22.5,"www.asectw.com","-","-","-","-","-",{"$f":"IF($O763=\"Sunpower Corp.\",3,(IF(OR($Q763=\"mono\",$Q763=\"poly\",$Q763=\"HIT\",$Q763=\"EFG\",$Q763=\"mono-LGBC\"),1,IF(OR($Q763=\"µc-Si / a-Si\",$Q763=\"a-Si (single)\",$Q763=\"a-Si (tandem)\",$Q763=\"a-Si (triple)\"),3,2))))","v":1},{"$f":"IF($O763=\"Sunpower Corp.\",3,(IF(OR($Q763=\"mono\",$Q763=\"poly\",$Q763=\"HIT\",$Q763=\"EFG\",$Q763=\"mono-LGBC\"),1,2)))","v":1},{"$f":"IF($O763=\"Sunpower Corp.\",3,(IF(OR($Q763=\"mono\",$Q763=\"poly\",$Q763=\"HIT\",$Q763=\"EFG\",$Q763=\"mono-LGBC\"),1,IF(OR($Q763=\"µc-Si / a-Si\",$Q763=\"a-Si (single)\",$Q763=\"a-Si (tandem)\",$Q763=\"a-Si (triple)\"),3,2))))","v":1},0,null,null,24958,null,null,761]
["Apollo Solar Energy Co., Ltd. ASEC-280G6S","Apollo Solar Energy Co., Ltd. ","ASEC-280G6S",280,"+1,79...0",34.96,8.01,44.55,8.52,-156.37049999999996,3.2631599999999996,-0.51319999999999999,1000,"Taiwan (Formosa)",null,14.314929962158203,"mono",72,"pseudo-square",1956,1000,47.5,"aluminum","junction box Tyco",22.5,"www.asectw.com","-","-","-","-","-",{"$f":"IF($O764=\"Sunpower Corp.\",3,(IF(OR($Q764=\"mono\",$Q764=\"poly\",$Q764=\"HIT\",$Q764=\"EFG\",$Q764=\"mono-LGBC\"),1,IF(OR($Q764=\"µc-Si / a-Si\",$Q764=\"a-Si (single)\",$Q764=\"a-Si (tandem)\",$Q764=\"a-Si (triple)\"),3,2))))","v":1},{"$f":"IF($O764=\"Sunpower Corp.\",3,(IF(OR($Q764=\"mono\",$Q764=\"poly\",$Q764=\"HIT\",$Q764=\"EFG\",$Q764=\"mono-LGBC\"),1,2)))","v":1},{"$f":"IF($O764=\"Sunpower Corp.\",3,(IF(OR($Q764=\"mono\",$Q764=\"poly\",$Q764=\"HIT\",$Q764=\"EFG\",$Q764=\"mono-LGBC\"),1,IF(OR($Q764=\"µc-Si / a-Si\",$Q764=\"a-Si (single)\",$Q764=\"a-Si (tandem)\",$Q764=\"a-Si (triple)\"),3,2))))","v":1},0,null,null,24951,null,null,762]
["Apollo Solar Energy Co., Ltd. ASEC-285G6S","Apollo Solar Energy Co., Ltd. ","ASEC-285G6S",285,"+1,75...0",35.06,8.1300000000000008,44.69,8.64,-156.86189999999996,3.3091200000000001,-0.51319999999999999,1000,"Taiwan (Formosa)",null,14.570549964904785,"mono",72,"pseudo-square",1956,1000,47.5,"aluminum","junction box Tyco",22.5,"www.asectw.com","-","-","-","-","-",{"$f":"IF($O765=\"Sunpower Corp.\",3,(IF(OR($Q765=\"mono\",$Q765=\"poly\",$Q765=\"HIT\",$Q765=\"EFG\",$Q765=\"mono-LGBC\"),1,IF(OR($Q765=\"µc-Si / a-Si\",$Q765=\"a-Si (single)\",$Q765=\"a-Si (tandem)\",$Q765=\"a-Si (triple)\"),3,2))))","v":1},{"$f":"IF($O765=\"Sunpower Corp.\",3,(IF(OR($Q765=\"mono\",$Q765=\"poly\",$Q765=\"HIT\",$Q765=\"EFG\",$Q765=\"mono-LGBC\"),1,2)))","v":1},{"$f":"IF($O765=\"Sunpower Corp.\",3,(IF(OR($Q765=\"mono\",$Q765=\"poly\",$Q765=\"HIT\",$Q765=\"EFG\",$Q765=\"mono-LGBC\"),1,IF(OR($Q765=\"µc-Si / a-Si\",$Q765=\"a-Si (single)\",$Q765=\"a-Si (tandem)\",$Q765=\"a-Si (triple)\"),3,2))))","v":1},0,null,null,24952,null,null,763]
["Apollo Solar Energy Co., Ltd. ASEC-290G6S","Apollo Solar Energy Co., Ltd. ","ASEC-290G6S",290,"+1,72...0",35.159999999999997,8.25,44.84,8.75,-157.38839999999999,3.3512499999999998,-0.51319999999999999,1000,"Taiwan (Formosa)",null,14.826180458068848,"mono",72,"pseudo-square",1956,1000,47.5,"aluminum","junction box Tyco",22.5,"www.asectw.com","-","-","-","-","-",{"$f":"IF($O766=\"Sunpower Corp.\",3,(IF(OR($Q766=\"mono\",$Q766=\"poly\",$Q766=\"HIT\",$Q766=\"EFG\",$Q766=\"mono-LGBC\"),1,IF(OR($Q766=\"µc-Si / a-Si\",$Q766=\"a-Si (single)\",$Q766=\"a-Si (tandem)\",$Q766=\"a-Si (triple)\"),3,2))))","v":1},{"$f":"IF($O766=\"Sunpower Corp.\",3,(IF(OR($Q766=\"mono\",$Q766=\"poly\",$Q766=\"HIT\",$Q766=\"EFG\",$Q766=\"mono-LGBC\"),1,2)))","v":1},{"$f":"IF($O766=\"Sunpower Corp.\",3,(IF(OR($Q766=\"mono\",$Q766=\"poly\",$Q766=\"HIT\",$Q766=\"EFG\",$Q766=\"mono-LGBC\"),1,IF(OR($Q766=\"µc-Si / a-Si\",$Q766=\"a-Si (single)\",$Q766=\"a-Si (tandem)\",$Q766=\"a-Si (triple)\"),3,2))))","v":1},0,null,null,24953,null,null,764]
["Arau Technik GmbH AMD 110 T","Arau Technik GmbH ","AMD 110 T",110,"+...",89.46,1.23,129,1.52,-399.9,0.76,-0.27,1000,null,null,7.6230077743530273,"µc-Si / a-Si",null,null,1300,1110,7,"frameless","junction box MC4",28,"www.arausol.de","-","-","-","-","-",{"$f":"IF($O767=\"Sunpower Corp.\",3,(IF(OR($Q767=\"mono\",$Q767=\"poly\",$Q767=\"HIT\",$Q767=\"EFG\",$Q767=\"mono-LGBC\"),1,IF(OR($Q767=\"µc-Si / a-Si\",$Q767=\"a-Si (single)\",$Q767=\"a-Si (tandem)\",$Q767=\"a-Si (triple)\"),3,2))))","v":3},{"$f":"IF($O767=\"Sunpower Corp.\",3,(IF(OR($Q767=\"mono\",$Q767=\"poly\",$Q767=\"HIT\",$Q767=\"EFG\",$Q767=\"mono-LGBC\"),1,2)))","v":2},{"$f":"IF($O767=\"Sunpower Corp.\",3,(IF(OR($Q767=\"mono\",$Q767=\"poly\",$Q767=\"HIT\",$Q767=\"EFG\",$Q767=\"mono-LGBC\"),1,IF(OR($Q767=\"µc-Si / a-Si\",$Q767=\"a-Si (single)\",$Q767=\"a-Si (tandem)\",$Q767=\"a-Si (triple)\"),3,2))))","v":3},0,null,null,21735,null,null,765]
["Arau Technik GmbH AMD 115 T","Arau Technik GmbH ","AMD 115 T",115,"+...",92.7,1.24,132,1.53,-409.2,0.76500000000000001,-0.27,1000,null,null,7.969508171081543,"µc-Si / a-Si",null,null,1300,1110,7,"frameless","junction box MC4",28,"www.arausol.de","-","-","-","-","-",{"$f":"IF($O768=\"Sunpower Corp.\",3,(IF(OR($Q768=\"mono\",$Q768=\"poly\",$Q768=\"HIT\",$Q768=\"EFG\",$Q768=\"mono-LGBC\"),1,IF(OR($Q768=\"µc-Si / a-Si\",$Q768=\"a-Si (single)\",$Q768=\"a-Si (tandem)\",$Q768=\"a-Si (triple)\"),3,2))))","v":3},{"$f":"IF($O768=\"Sunpower Corp.\",3,(IF(OR($Q768=\"mono\",$Q768=\"poly\",$Q768=\"HIT\",$Q768=\"EFG\",$Q768=\"mono-LGBC\"),1,2)))","v":2},{"$f":"IF($O768=\"Sunpower Corp.\",3,(IF(OR($Q768=\"mono\",$Q768=\"poly\",$Q768=\"HIT\",$Q768=\"EFG\",$Q768=\"mono-LGBC\"),1,IF(OR($Q768=\"µc-Si / a-Si\",$Q768=\"a-Si (single)\",$Q768=\"a-Si (tandem)\",$Q768=\"a-Si (triple)\"),3,2))))","v":3},0,null,null,21736,null,null,766]
["Arau Technik GmbH AMD 120 T","Arau Technik GmbH ","AMD 120 T",120,"+...",94.44,1.27,133,1.53,-412.3,0.76500000000000001,-0.27,1000,null,null,8.3160085678100586,"µc-Si / a-Si",null,null,1300,1110,7,"frameless","junction box MC4",28,"www.arausol.de","-","-","-","-","-",{"$f":"IF($O769=\"Sunpower Corp.\",3,(IF(OR($Q769=\"mono\",$Q769=\"poly\",$Q769=\"HIT\",$Q769=\"EFG\",$Q769=\"mono-LGBC\"),1,IF(OR($Q769=\"µc-Si / a-Si\",$Q769=\"a-Si (single)\",$Q769=\"a-Si (tandem)\",$Q769=\"a-Si (triple)\"),3,2))))","v":3},{"$f":"IF($O769=\"Sunpower Corp.\",3,(IF(OR($Q769=\"mono\",$Q769=\"poly\",$Q769=\"HIT\",$Q769=\"EFG\",$Q769=\"mono-LGBC\"),1,2)))","v":2},{"$f":"IF($O769=\"Sunpower Corp.\",3,(IF(OR($Q769=\"mono\",$Q769=\"poly\",$Q769=\"HIT\",$Q769=\"EFG\",$Q769=\"mono-LGBC\"),1,IF(OR($Q769=\"µc-Si / a-Si\",$Q769=\"a-Si (single)\",$Q769=\"a-Si (tandem)\",$Q769=\"a-Si (triple)\"),3,2))))","v":3},0,null,null,21737,null,null,767]
["Arau Technik GmbH AMD 125 T","Arau Technik GmbH ","AMD 125 T",125,"+...",95.48,1.31,134,1.54,-415.4,0.77,-0.27,1000,null,null,8.6625089645385742,"µc-Si / a-Si",null,null,1300,1110,7,"frameless","junction box MC4",28,"www.arausol.de","-","-","-","-","-",{"$f":"IF($O770=\"Sunpower Corp.\",3,(IF(OR($Q770=\"mono\",$Q770=\"poly\",$Q770=\"HIT\",$Q770=\"EFG\",$Q770=\"mono-LGBC\"),1,IF(OR($Q770=\"µc-Si / a-Si\",$Q770=\"a-Si (single)\",$Q770=\"a-Si (tandem)\",$Q770=\"a-Si (triple)\"),3,2))))","v":3},{"$f":"IF($O770=\"Sunpower Corp.\",3,(IF(OR($Q770=\"mono\",$Q770=\"poly\",$Q770=\"HIT\",$Q770=\"EFG\",$Q770=\"mono-LGBC\"),1,2)))","v":2},{"$f":"IF($O770=\"Sunpower Corp.\",3,(IF(OR($Q770=\"mono\",$Q770=\"poly\",$Q770=\"HIT\",$Q770=\"EFG\",$Q770=\"mono-LGBC\"),1,IF(OR($Q770=\"µc-Si / a-Si\",$Q770=\"a-Si (single)\",$Q770=\"a-Si (tandem)\",$Q770=\"a-Si (triple)\"),3,2))))","v":3},0,null,null,21738,null,null,768]
["Arinna AG peakpower 60 (210)","Arinna AG ","peakpower 60 (210)",210,"+3...-3",28.3,7.43,35.9,8.0500000000000007,-122.06,3.22,-0.46,1000,"Germany",null,12.650600433349609,"poly",60,"square",1660,1000,45,"aluminum","junction box",23,"www.arinnaag.de","-","-","-","-","-",{"$f":"IF($O771=\"Sunpower Corp.\",3,(IF(OR($Q771=\"mono\",$Q771=\"poly\",$Q771=\"HIT\",$Q771=\"EFG\",$Q771=\"mono-LGBC\"),1,IF(OR($Q771=\"µc-Si / a-Si\",$Q771=\"a-Si (single)\",$Q771=\"a-Si (tandem)\",$Q771=\"a-Si (triple)\"),3,2))))","v":1},{"$f":"IF($O771=\"Sunpower Corp.\",3,(IF(OR($Q771=\"mono\",$Q771=\"poly\",$Q771=\"HIT\",$Q771=\"EFG\",$Q771=\"mono-LGBC\"),1,2)))","v":1},{"$f":"IF($O771=\"Sunpower Corp.\",3,(IF(OR($Q771=\"mono\",$Q771=\"poly\",$Q771=\"HIT\",$Q771=\"EFG\",$Q771=\"mono-LGBC\"),1,IF(OR($Q771=\"µc-Si / a-Si\",$Q771=\"a-Si (single)\",$Q771=\"a-Si (tandem)\",$Q771=\"a-Si (triple)\"),3,2))))","v":1},0,null,null,6300,null,null,769]
["Arinna AG peakpower 60 (215)","Arinna AG ","peakpower 60 (215)",215,"+3...-3",28.6,7.52,36.200000000000003,8.15,-123.08,3.26,-0.46,1000,"Germany",null,12.951809883117676,"poly",60,"square",1660,1000,45,"aluminum","junction box",23,"www.arinnaag.de","-","-","-","-","-",{"$f":"IF($O772=\"Sunpower Corp.\",3,(IF(OR($Q772=\"mono\",$Q772=\"poly\",$Q772=\"HIT\",$Q772=\"EFG\",$Q772=\"mono-LGBC\"),1,IF(OR($Q772=\"µc-Si / a-Si\",$Q772=\"a-Si (single)\",$Q772=\"a-Si (tandem)\",$Q772=\"a-Si (triple)\"),3,2))))","v":1},{"$f":"IF($O772=\"Sunpower Corp.\",3,(IF(OR($Q772=\"mono\",$Q772=\"poly\",$Q772=\"HIT\",$Q772=\"EFG\",$Q772=\"mono-LGBC\"),1,2)))","v":1},{"$f":"IF($O772=\"Sunpower Corp.\",3,(IF(OR($Q772=\"mono\",$Q772=\"poly\",$Q772=\"HIT\",$Q772=\"EFG\",$Q772=\"mono-LGBC\"),1,IF(OR($Q772=\"µc-Si / a-Si\",$Q772=\"a-Si (single)\",$Q772=\"a-Si (tandem)\",$Q772=\"a-Si (triple)\"),3,2))))","v":1},0,null,null,6299,null,null,770]
["Arinna AG peakpower 60 (220)","Arinna AG ","peakpower 60 (220)",220,"+3...-3",28.75,7.65,36.299999999999997,8.25,-123.42,3.3,-0.46,1000,"Germany",null,13.253009796142578,"poly",60,"square",1660,1000,45,"aluminum","junction box",23,"www.arinnaag.de","-","-","-","-","-",{"$f":"IF($O773=\"Sunpower Corp.\",3,(IF(OR($Q773=\"mono\",$Q773=\"poly\",$Q773=\"HIT\",$Q773=\"EFG\",$Q773=\"mono-LGBC\"),1,IF(OR($Q773=\"µc-Si / a-Si\",$Q773=\"a-Si (single)\",$Q773=\"a-Si (tandem)\",$Q773=\"a-Si (triple)\"),3,2))))","v":1},{"$f":"IF($O773=\"Sunpower Corp.\",3,(IF(OR($Q773=\"mono\",$Q773=\"poly\",$Q773=\"HIT\",$Q773=\"EFG\",$Q773=\"mono-LGBC\"),1,2)))","v":1},{"$f":"IF($O773=\"Sunpower Corp.\",3,(IF(OR($Q773=\"mono\",$Q773=\"poly\",$Q773=\"HIT\",$Q773=\"EFG\",$Q773=\"mono-LGBC\"),1,IF(OR($Q773=\"µc-Si / a-Si\",$Q773=\"a-Si (single)\",$Q773=\"a-Si (tandem)\",$Q773=\"a-Si (triple)\"),3,2))))","v":1},0,null,null,6298,null,null,771]
["Arinna AG peakpower 60 (225)","Arinna AG ","peakpower 60 (225)",225,"+3...-3",28.9,7.79,36.5,8.35,-124.1,3.34,-0.46,1000,"Germany",null,13.554220199584961,"poly",60,"square",1660,1000,45,"aluminum","junction box",23,"www.arinnaag.de","-","-","-","-","-",{"$f":"IF($O774=\"Sunpower Corp.\",3,(IF(OR($Q774=\"mono\",$Q774=\"poly\",$Q774=\"HIT\",$Q774=\"EFG\",$Q774=\"mono-LGBC\"),1,IF(OR($Q774=\"µc-Si / a-Si\",$Q774=\"a-Si (single)\",$Q774=\"a-Si (tandem)\",$Q774=\"a-Si (triple)\"),3,2))))","v":1},{"$f":"IF($O774=\"Sunpower Corp.\",3,(IF(OR($Q774=\"mono\",$Q774=\"poly\",$Q774=\"HIT\",$Q774=\"EFG\",$Q774=\"mono-LGBC\"),1,2)))","v":1},{"$f":"IF($O774=\"Sunpower Corp.\",3,(IF(OR($Q774=\"mono\",$Q774=\"poly\",$Q774=\"HIT\",$Q774=\"EFG\",$Q774=\"mono-LGBC\"),1,IF(OR($Q774=\"µc-Si / a-Si\",$Q774=\"a-Si (single)\",$Q774=\"a-Si (tandem)\",$Q774=\"a-Si (triple)\"),3,2))))","v":1},0,null,null,6297,null,null,772]
["Arinna AG peakpower 60 (230)","Arinna AG ","peakpower 60 (230)",230,"+3...-3",29,7.93,36.6,8.4499999999999993,-124.44,3.38,-0.46,1000,"Germany",null,13.855420112609863,"poly",60,"square",1660,1000,45,"aluminum","junction box",23,"www.arinnaag.de","-","-","-","-","-",{"$f":"IF($O775=\"Sunpower Corp.\",3,(IF(OR($Q775=\"mono\",$Q775=\"poly\",$Q775=\"HIT\",$Q775=\"EFG\",$Q775=\"mono-LGBC\"),1,IF(OR($Q775=\"µc-Si / a-Si\",$Q775=\"a-Si (single)\",$Q775=\"a-Si (tandem)\",$Q775=\"a-Si (triple)\"),3,2))))","v":1},{"$f":"IF($O775=\"Sunpower Corp.\",3,(IF(OR($Q775=\"mono\",$Q775=\"poly\",$Q775=\"HIT\",$Q775=\"EFG\",$Q775=\"mono-LGBC\"),1,2)))","v":1},{"$f":"IF($O775=\"Sunpower Corp.\",3,(IF(OR($Q775=\"mono\",$Q775=\"poly\",$Q775=\"HIT\",$Q775=\"EFG\",$Q775=\"mono-LGBC\"),1,IF(OR($Q775=\"µc-Si / a-Si\",$Q775=\"a-Si (single)\",$Q775=\"a-Si (tandem)\",$Q775=\"a-Si (triple)\"),3,2))))","v":1},0,null,null,6296,null,null,773]
["Arinna AG peakpower 60 (235)","Arinna AG ","peakpower 60 (235)",235,"+3...-3",29.1,8.1,36.799999999999997,8.6,-125.12,3.44,-0.46,1000,"Germany",null,14.15662956237793,"poly",60,"square",1660,1000,45,"aluminum","junction box",23,"www.arinnaag.de","-","-","-","-","-",{"$f":"IF($O776=\"Sunpower Corp.\",3,(IF(OR($Q776=\"mono\",$Q776=\"poly\",$Q776=\"HIT\",$Q776=\"EFG\",$Q776=\"mono-LGBC\"),1,IF(OR($Q776=\"µc-Si / a-Si\",$Q776=\"a-Si (single)\",$Q776=\"a-Si (tandem)\",$Q776=\"a-Si (triple)\"),3,2))))","v":1},{"$f":"IF($O776=\"Sunpower Corp.\",3,(IF(OR($Q776=\"mono\",$Q776=\"poly\",$Q776=\"HIT\",$Q776=\"EFG\",$Q776=\"mono-LGBC\"),1,2)))","v":1},{"$f":"IF($O776=\"Sunpower Corp.\",3,(IF(OR($Q776=\"mono\",$Q776=\"poly\",$Q776=\"HIT\",$Q776=\"EFG\",$Q776=\"mono-LGBC\"),1,IF(OR($Q776=\"µc-Si / a-Si\",$Q776=\"a-Si (single)\",$Q776=\"a-Si (tandem)\",$Q776=\"a-Si (triple)\"),3,2))))","v":1},0,null,null,21627,null,null,774]
["AS Solar GmbH AS Seginus compact P 175","AS Solar GmbH ","AS Seginus compact P 175",175,"+2,85...0",23.3,7.51,29.19,8.1,-93.408000000000001,6.48,-0.38,1000,null,null,13.191619873046875,"poly",48,"square",1340,990,42,"aluminum","junction box Tyco",16,"www.as-solar.com","-","-","-","-","-",{"$f":"IF($O777=\"Sunpower Corp.\",3,(IF(OR($Q777=\"mono\",$Q777=\"poly\",$Q777=\"HIT\",$Q777=\"EFG\",$Q777=\"mono-LGBC\"),1,IF(OR($Q777=\"µc-Si / a-Si\",$Q777=\"a-Si (single)\",$Q777=\"a-Si (tandem)\",$Q777=\"a-Si (triple)\"),3,2))))","v":1},{"$f":"IF($O777=\"Sunpower Corp.\",3,(IF(OR($Q777=\"mono\",$Q777=\"poly\",$Q777=\"HIT\",$Q777=\"EFG\",$Q777=\"mono-LGBC\"),1,2)))","v":1},{"$f":"IF($O777=\"Sunpower Corp.\",3,(IF(OR($Q777=\"mono\",$Q777=\"poly\",$Q777=\"HIT\",$Q777=\"EFG\",$Q777=\"mono-LGBC\"),1,IF(OR($Q777=\"µc-Si / a-Si\",$Q777=\"a-Si (single)\",$Q777=\"a-Si (tandem)\",$Q777=\"a-Si (triple)\"),3,2))))","v":1},0,null,null,21398,null,null,775]
["AS Solar GmbH AS Seginus compact P 180","AS Solar GmbH ","AS Seginus compact P 180",180,"+2,7...0",23.7,7.59,29.7,8.24,-95.04,6.5920000000000005,-0.38,1000,null,null,13.568519592285156,"poly",48,"square",1340,990,42,"aluminum","junction box Tyco",16,"www.as-solar.com","-","-","-","-","-",{"$f":"IF($O778=\"Sunpower Corp.\",3,(IF(OR($Q778=\"mono\",$Q778=\"poly\",$Q778=\"HIT\",$Q778=\"EFG\",$Q778=\"mono-LGBC\"),1,IF(OR($Q778=\"µc-Si / a-Si\",$Q778=\"a-Si (single)\",$Q778=\"a-Si (tandem)\",$Q778=\"a-Si (triple)\"),3,2))))","v":1},{"$f":"IF($O778=\"Sunpower Corp.\",3,(IF(OR($Q778=\"mono\",$Q778=\"poly\",$Q778=\"HIT\",$Q778=\"EFG\",$Q778=\"mono-LGBC\"),1,2)))","v":1},{"$f":"IF($O778=\"Sunpower Corp.\",3,(IF(OR($Q778=\"mono\",$Q778=\"poly\",$Q778=\"HIT\",$Q778=\"EFG\",$Q778=\"mono-LGBC\"),1,IF(OR($Q778=\"µc-Si / a-Si\",$Q778=\"a-Si (single)\",$Q778=\"a-Si (tandem)\",$Q778=\"a-Si (triple)\"),3,2))))","v":1},0,null,null,21397,null,null,776]
["AS Solar GmbH AS Seginus compact P 185","AS Solar GmbH ","AS Seginus compact P 185",185,"+2,7...0",24.1,7.68,30.2,8.3800000000000008,-96.64,6.7040000000000006,-0.38,1000,null,null,13.945420265197754,"poly",48,"square",1340,990,42,"aluminum","junction box Tyco",16,"www.as-solar.com","-","-","-","-","-",{"$f":"IF($O779=\"Sunpower Corp.\",3,(IF(OR($Q779=\"mono\",$Q779=\"poly\",$Q779=\"HIT\",$Q779=\"EFG\",$Q779=\"mono-LGBC\"),1,IF(OR($Q779=\"µc-Si / a-Si\",$Q779=\"a-Si (single)\",$Q779=\"a-Si (tandem)\",$Q779=\"a-Si (triple)\"),3,2))))","v":1},{"$f":"IF($O779=\"Sunpower Corp.\",3,(IF(OR($Q779=\"mono\",$Q779=\"poly\",$Q779=\"HIT\",$Q779=\"EFG\",$Q779=\"mono-LGBC\"),1,2)))","v":1},{"$f":"IF($O779=\"Sunpower Corp.\",3,(IF(OR($Q779=\"mono\",$Q779=\"poly\",$Q779=\"HIT\",$Q779=\"EFG\",$Q779=\"mono-LGBC\"),1,IF(OR($Q779=\"µc-Si / a-Si\",$Q779=\"a-Si (single)\",$Q779=\"a-Si (tandem)\",$Q779=\"a-Si (triple)\"),3,2))))","v":1},0,null,null,21399,null,null,777]
["AS Solar GmbH AS Seginus M 180","AS Solar GmbH ","AS Seginus M 180",180,"+1,67...-1,11",22.9,7.86,29.3,8.5399999999999991,-93.76,6.8319999999999999,-0.38,1000,null,"diverse",13.398539543151855,"mono",48,"pseudo-square",1357,990,42,"aluminum","junction box Tyco",16,"www.as-solar.com","-","-","-","-","-",{"$f":"IF($O780=\"Sunpower Corp.\",3,(IF(OR($Q780=\"mono\",$Q780=\"poly\",$Q780=\"HIT\",$Q780=\"EFG\",$Q780=\"mono-LGBC\"),1,IF(OR($Q780=\"µc-Si / a-Si\",$Q780=\"a-Si (single)\",$Q780=\"a-Si (tandem)\",$Q780=\"a-Si (triple)\"),3,2))))","v":1},{"$f":"IF($O780=\"Sunpower Corp.\",3,(IF(OR($Q780=\"mono\",$Q780=\"poly\",$Q780=\"HIT\",$Q780=\"EFG\",$Q780=\"mono-LGBC\"),1,2)))","v":1},{"$f":"IF($O780=\"Sunpower Corp.\",3,(IF(OR($Q780=\"mono\",$Q780=\"poly\",$Q780=\"HIT\",$Q780=\"EFG\",$Q780=\"mono-LGBC\"),1,IF(OR($Q780=\"µc-Si / a-Si\",$Q780=\"a-Si (single)\",$Q780=\"a-Si (tandem)\",$Q780=\"a-Si (triple)\"),3,2))))","v":1},0,null,null,17228,null,null,778]
["AS Solar GmbH AS Seginus P 180","AS Solar GmbH ","AS Seginus P 180",180,"+1,67...-1,11",22.9,7.86,29.3,8.5399999999999991,-93.76,6.8319999999999999,-0.38,1000,null,"diverse",13.398539543151855,"poly",48,"square",1357,990,42,"aluminum","junction box Tyco",16,"www.as-solar.com","-","-","-","-","-",{"$f":"IF($O781=\"Sunpower Corp.\",3,(IF(OR($Q781=\"mono\",$Q781=\"poly\",$Q781=\"HIT\",$Q781=\"EFG\",$Q781=\"mono-LGBC\"),1,IF(OR($Q781=\"µc-Si / a-Si\",$Q781=\"a-Si (single)\",$Q781=\"a-Si (tandem)\",$Q781=\"a-Si (triple)\"),3,2))))","v":1},{"$f":"IF($O781=\"Sunpower Corp.\",3,(IF(OR($Q781=\"mono\",$Q781=\"poly\",$Q781=\"HIT\",$Q781=\"EFG\",$Q781=\"mono-LGBC\"),1,2)))","v":1},{"$f":"IF($O781=\"Sunpower Corp.\",3,(IF(OR($Q781=\"mono\",$Q781=\"poly\",$Q781=\"HIT\",$Q781=\"EFG\",$Q781=\"mono-LGBC\"),1,IF(OR($Q781=\"µc-Si / a-Si\",$Q781=\"a-Si (single)\",$Q781=\"a-Si (tandem)\",$Q781=\"a-Si (triple)\"),3,2))))","v":1},0,null,null,17229,null,null,779]
["AS Solar GmbH AS Seginus P 215","AS Solar GmbH ","AS Seginus P 215",215,"+1,4...-0,93",28.98,7.42,36.880000000000003,7.9,-136.45600000000002,4.74,-0.46,1000,null,"diverse",13.082630157470703,"poly",60,"square",1660,990,42,"aluminum","junction box Tyco",20,"www.as-solar.com","-","-","-","-","-",{"$f":"IF($O782=\"Sunpower Corp.\",3,(IF(OR($Q782=\"mono\",$Q782=\"poly\",$Q782=\"HIT\",$Q782=\"EFG\",$Q782=\"mono-LGBC\"),1,IF(OR($Q782=\"µc-Si / a-Si\",$Q782=\"a-Si (single)\",$Q782=\"a-Si (tandem)\",$Q782=\"a-Si (triple)\"),3,2))))","v":1},{"$f":"IF($O782=\"Sunpower Corp.\",3,(IF(OR($Q782=\"mono\",$Q782=\"poly\",$Q782=\"HIT\",$Q782=\"EFG\",$Q782=\"mono-LGBC\"),1,2)))","v":1},{"$f":"IF($O782=\"Sunpower Corp.\",3,(IF(OR($Q782=\"mono\",$Q782=\"poly\",$Q782=\"HIT\",$Q782=\"EFG\",$Q782=\"mono-LGBC\"),1,IF(OR($Q782=\"µc-Si / a-Si\",$Q782=\"a-Si (single)\",$Q782=\"a-Si (tandem)\",$Q782=\"a-Si (triple)\"),3,2))))","v":1},0,null,null,6126,null,null,780]
["AS Solar GmbH AS Seginus P 220","AS Solar GmbH ","AS Seginus P 220",220,"+1,36...-0,91",29.14,7.55,37.1,8.01,-137.27000000000001,4.8059999999999992,-0.46,1000,null,"diverse",13.386879920959473,"poly",60,"square",1660,990,42,"aluminum","junction box Tyco",20,"www.as-solar.com","-","-","-","-","-",{"$f":"IF($O783=\"Sunpower Corp.\",3,(IF(OR($Q783=\"mono\",$Q783=\"poly\",$Q783=\"HIT\",$Q783=\"EFG\",$Q783=\"mono-LGBC\"),1,IF(OR($Q783=\"µc-Si / a-Si\",$Q783=\"a-Si (single)\",$Q783=\"a-Si (tandem)\",$Q783=\"a-Si (triple)\"),3,2))))","v":1},{"$f":"IF($O783=\"Sunpower Corp.\",3,(IF(OR($Q783=\"mono\",$Q783=\"poly\",$Q783=\"HIT\",$Q783=\"EFG\",$Q783=\"mono-LGBC\"),1,2)))","v":1},{"$f":"IF($O783=\"Sunpower Corp.\",3,(IF(OR($Q783=\"mono\",$Q783=\"poly\",$Q783=\"HIT\",$Q783=\"EFG\",$Q783=\"mono-LGBC\"),1,IF(OR($Q783=\"µc-Si / a-Si\",$Q783=\"a-Si (single)\",$Q783=\"a-Si (tandem)\",$Q783=\"a-Si (triple)\"),3,2))))","v":1},0,null,null,6127,null,null,781]
["AS Solar GmbH AS Seginus P 225","AS Solar GmbH ","AS Seginus P 225",225,"+1,33...-0,89",29.3,7.68,37.299999999999997,8.15,-138.01,4.8899999999999997,-0.46,1000,null,"diverse",13.691129684448242,"poly",60,"square",1660,990,42,"aluminum","junction box Tyco",20,"www.as-solar.com","-","-","-","-","-",{"$f":"IF($O784=\"Sunpower Corp.\",3,(IF(OR($Q784=\"mono\",$Q784=\"poly\",$Q784=\"HIT\",$Q784=\"EFG\",$Q784=\"mono-LGBC\"),1,IF(OR($Q784=\"µc-Si / a-Si\",$Q784=\"a-Si (single)\",$Q784=\"a-Si (tandem)\",$Q784=\"a-Si (triple)\"),3,2))))","v":1},{"$f":"IF($O784=\"Sunpower Corp.\",3,(IF(OR($Q784=\"mono\",$Q784=\"poly\",$Q784=\"HIT\",$Q784=\"EFG\",$Q784=\"mono-LGBC\"),1,2)))","v":1},{"$f":"IF($O784=\"Sunpower Corp.\",3,(IF(OR($Q784=\"mono\",$Q784=\"poly\",$Q784=\"HIT\",$Q784=\"EFG\",$Q784=\"mono-LGBC\"),1,IF(OR($Q784=\"µc-Si / a-Si\",$Q784=\"a-Si (single)\",$Q784=\"a-Si (tandem)\",$Q784=\"a-Si (triple)\"),3,2))))","v":1},0,null,null,6128,null,null,782]
["AS Solar GmbH AS Seginus P 230","AS Solar GmbH ","AS Seginus P 230",230,"+1,3...-0,87",29.45,7.81,37.51,8.27,-138.78700000000001,4.9619999999999997,-0.46,1000,null,"diverse",13.995380401611328,"poly",60,"square",1660,990,42,"aluminum","junction box Tyco",20,"www.as-solar.com","-","-","-","-","-",{"$f":"IF($O785=\"Sunpower Corp.\",3,(IF(OR($Q785=\"mono\",$Q785=\"poly\",$Q785=\"HIT\",$Q785=\"EFG\",$Q785=\"mono-LGBC\"),1,IF(OR($Q785=\"µc-Si / a-Si\",$Q785=\"a-Si (single)\",$Q785=\"a-Si (tandem)\",$Q785=\"a-Si (triple)\"),3,2))))","v":1},{"$f":"IF($O785=\"Sunpower Corp.\",3,(IF(OR($Q785=\"mono\",$Q785=\"poly\",$Q785=\"HIT\",$Q785=\"EFG\",$Q785=\"mono-LGBC\"),1,2)))","v":1},{"$f":"IF($O785=\"Sunpower Corp.\",3,(IF(OR($Q785=\"mono\",$Q785=\"poly\",$Q785=\"HIT\",$Q785=\"EFG\",$Q785=\"mono-LGBC\"),1,IF(OR($Q785=\"µc-Si / a-Si\",$Q785=\"a-Si (single)\",$Q785=\"a-Si (tandem)\",$Q785=\"a-Si (triple)\"),3,2))))","v":1},0,null,null,6129,null,null,783]
["AS Solar GmbH AS Seginus P 235","AS Solar GmbH ","AS Seginus P 235",235,"+1,28...-0,85",29.6,7.94,37.729999999999997,8.42,-139.601,5.0519999999999996,-0.46,1000,null,"diverse",14.299619674682617,"poly",60,"square",1660,990,42,"aluminum","junction box Tyco",20,"www.as-solar.com","-","-","-","-","-",{"$f":"IF($O786=\"Sunpower Corp.\",3,(IF(OR($Q786=\"mono\",$Q786=\"poly\",$Q786=\"HIT\",$Q786=\"EFG\",$Q786=\"mono-LGBC\"),1,IF(OR($Q786=\"µc-Si / a-Si\",$Q786=\"a-Si (single)\",$Q786=\"a-Si (tandem)\",$Q786=\"a-Si (triple)\"),3,2))))","v":1},{"$f":"IF($O786=\"Sunpower Corp.\",3,(IF(OR($Q786=\"mono\",$Q786=\"poly\",$Q786=\"HIT\",$Q786=\"EFG\",$Q786=\"mono-LGBC\"),1,2)))","v":1},{"$f":"IF($O786=\"Sunpower Corp.\",3,(IF(OR($Q786=\"mono\",$Q786=\"poly\",$Q786=\"HIT\",$Q786=\"EFG\",$Q786=\"mono-LGBC\"),1,IF(OR($Q786=\"µc-Si / a-Si\",$Q786=\"a-Si (single)\",$Q786=\"a-Si (tandem)\",$Q786=\"a-Si (triple)\"),3,2))))","v":1},0,null,null,6130,null,null,784]
["AS Solar GmbH AS Seginus SE P 215","AS Solar GmbH ","AS Seginus SE P 215",215,"+1,4...0",29.6,7.27,36.200000000000003,7.89,-126.7,4.734,-0.46,1000,null,null,13.382699966430664,"poly",60,"square",1636,982,35,"aluminum","junction box Tyco",19,"www.as-solar.com","-","-","-","-","-",{"$f":"IF($O787=\"Sunpower Corp.\",3,(IF(OR($Q787=\"mono\",$Q787=\"poly\",$Q787=\"HIT\",$Q787=\"EFG\",$Q787=\"mono-LGBC\"),1,IF(OR($Q787=\"µc-Si / a-Si\",$Q787=\"a-Si (single)\",$Q787=\"a-Si (tandem)\",$Q787=\"a-Si (triple)\"),3,2))))","v":1},{"$f":"IF($O787=\"Sunpower Corp.\",3,(IF(OR($Q787=\"mono\",$Q787=\"poly\",$Q787=\"HIT\",$Q787=\"EFG\",$Q787=\"mono-LGBC\"),1,2)))","v":1},{"$f":"IF($O787=\"Sunpower Corp.\",3,(IF(OR($Q787=\"mono\",$Q787=\"poly\",$Q787=\"HIT\",$Q787=\"EFG\",$Q787=\"mono-LGBC\"),1,IF(OR($Q787=\"µc-Si / a-Si\",$Q787=\"a-Si (single)\",$Q787=\"a-Si (tandem)\",$Q787=\"a-Si (triple)\"),3,2))))","v":1},0,null,null,"NEW",null,null,785]
["AS Solar GmbH AS Seginus SE P 220","AS Solar GmbH ","AS Seginus SE P 220",220,"+1,36...0",29.8,7.39,36.299999999999997,7.95,-127.05,4.7699999999999996,-0.46,1000,null,null,13.693920135498047,"poly",60,"square",1636,982,35,"aluminum","junction box Tyco",19,"www.as-solar.com","-","-","-","-","-",{"$f":"IF($O788=\"Sunpower Corp.\",3,(IF(OR($Q788=\"mono\",$Q788=\"poly\",$Q788=\"HIT\",$Q788=\"EFG\",$Q788=\"mono-LGBC\"),1,IF(OR($Q788=\"µc-Si / a-Si\",$Q788=\"a-Si (single)\",$Q788=\"a-Si (tandem)\",$Q788=\"a-Si (triple)\"),3,2))))","v":1},{"$f":"IF($O788=\"Sunpower Corp.\",3,(IF(OR($Q788=\"mono\",$Q788=\"poly\",$Q788=\"HIT\",$Q788=\"EFG\",$Q788=\"mono-LGBC\"),1,2)))","v":1},{"$f":"IF($O788=\"Sunpower Corp.\",3,(IF(OR($Q788=\"mono\",$Q788=\"poly\",$Q788=\"HIT\",$Q788=\"EFG\",$Q788=\"mono-LGBC\"),1,IF(OR($Q788=\"µc-Si / a-Si\",$Q788=\"a-Si (single)\",$Q788=\"a-Si (tandem)\",$Q788=\"a-Si (triple)\"),3,2))))","v":1},0,null,null,"NEW",null,null,786]
["AS Solar GmbH AS Seginus SE P 225","AS Solar GmbH ","AS Seginus SE P 225",225,"+1,33...0",30.2,7.44,36.6,8.06,-128.1,4.8359999999999994,-0.46,1000,null,null,14.005149841308594,"poly",60,"square",1636,982,35,"aluminum","junction box Tyco",19,"www.as-solar.com","-","-","-","-","-",{"$f":"IF($O789=\"Sunpower Corp.\",3,(IF(OR($Q789=\"mono\",$Q789=\"poly\",$Q789=\"HIT\",$Q789=\"EFG\",$Q789=\"mono-LGBC\"),1,IF(OR($Q789=\"µc-Si / a-Si\",$Q789=\"a-Si (single)\",$Q789=\"a-Si (tandem)\",$Q789=\"a-Si (triple)\"),3,2))))","v":1},{"$f":"IF($O789=\"Sunpower Corp.\",3,(IF(OR($Q789=\"mono\",$Q789=\"poly\",$Q789=\"HIT\",$Q789=\"EFG\",$Q789=\"mono-LGBC\"),1,2)))","v":1},{"$f":"IF($O789=\"Sunpower Corp.\",3,(IF(OR($Q789=\"mono\",$Q789=\"poly\",$Q789=\"HIT\",$Q789=\"EFG\",$Q789=\"mono-LGBC\"),1,IF(OR($Q789=\"µc-Si / a-Si\",$Q789=\"a-Si (single)\",$Q789=\"a-Si (tandem)\",$Q789=\"a-Si (triple)\"),3,2))))","v":1},0,null,null,"NEW",null,null,787]
["AS Solar GmbH AS Seginus SE P 230","AS Solar GmbH ","AS Seginus SE P 230",230,"+1,3...0",30.2,7.61,36.700000000000003,8.16,-128.44999999999999,4.8959999999999999,-0.46,1000,null,null,14.316370010375977,"poly",60,"square",1636,982,35,"aluminum","junction box Tyco",19,"www.as-solar.com","-","-","-","-","-",{"$f":"IF($O790=\"Sunpower Corp.\",3,(IF(OR($Q790=\"mono\",$Q790=\"poly\",$Q790=\"HIT\",$Q790=\"EFG\",$Q790=\"mono-LGBC\"),1,IF(OR($Q790=\"µc-Si / a-Si\",$Q790=\"a-Si (single)\",$Q790=\"a-Si (tandem)\",$Q790=\"a-Si (triple)\"),3,2))))","v":1},{"$f":"IF($O790=\"Sunpower Corp.\",3,(IF(OR($Q790=\"mono\",$Q790=\"poly\",$Q790=\"HIT\",$Q790=\"EFG\",$Q790=\"mono-LGBC\"),1,2)))","v":1},{"$f":"IF($O790=\"Sunpower Corp.\",3,(IF(OR($Q790=\"mono\",$Q790=\"poly\",$Q790=\"HIT\",$Q790=\"EFG\",$Q790=\"mono-LGBC\"),1,IF(OR($Q790=\"µc-Si / a-Si\",$Q790=\"a-Si (single)\",$Q790=\"a-Si (tandem)\",$Q790=\"a-Si (triple)\"),3,2))))","v":1},0,null,null,"NEW",null,null,788]
["AS Solar GmbH AS Seginus SE P 235","AS Solar GmbH ","AS Seginus SE P 235",235,"+1,28...0",30.5,7.72,37,8.24,-129.5,4.944,-0.46,1000,null,null,14.627599716186523,"poly",60,"square",1636,982,35,"aluminum","junction box Tyco",19,"www.as-solar.com","-","-","-","-","-",{"$f":"IF($O791=\"Sunpower Corp.\",3,(IF(OR($Q791=\"mono\",$Q791=\"poly\",$Q791=\"HIT\",$Q791=\"EFG\",$Q791=\"mono-LGBC\"),1,IF(OR($Q791=\"µc-Si / a-Si\",$Q791=\"a-Si (single)\",$Q791=\"a-Si (tandem)\",$Q791=\"a-Si (triple)\"),3,2))))","v":1},{"$f":"IF($O791=\"Sunpower Corp.\",3,(IF(OR($Q791=\"mono\",$Q791=\"poly\",$Q791=\"HIT\",$Q791=\"EFG\",$Q791=\"mono-LGBC\"),1,2)))","v":1},{"$f":"IF($O791=\"Sunpower Corp.\",3,(IF(OR($Q791=\"mono\",$Q791=\"poly\",$Q791=\"HIT\",$Q791=\"EFG\",$Q791=\"mono-LGBC\"),1,IF(OR($Q791=\"µc-Si / a-Si\",$Q791=\"a-Si (single)\",$Q791=\"a-Si (tandem)\",$Q791=\"a-Si (triple)\"),3,2))))","v":1},0,null,null,"NEW",null,null,789]
["Ascent Solar Technologies Inc. WSLB-1200-096","Ascent Solar Technologies Inc. ","WSLB-1200-096",120,"+10...-10",71,1.7,94,2.1,-394.8,0.63,-0.5,1000,null,null,6.6988210678100586,"CIGS",null,null,4976,360,1.2,null,"junction box MC4",3.4,"www.ascentsolar.com","-","-","-","-","-",{"$f":"IF($O792=\"Sunpower Corp.\",3,(IF(OR($Q792=\"mono\",$Q792=\"poly\",$Q792=\"HIT\",$Q792=\"EFG\",$Q792=\"mono-LGBC\"),1,IF(OR($Q792=\"µc-Si / a-Si\",$Q792=\"a-Si (single)\",$Q792=\"a-Si (tandem)\",$Q792=\"a-Si (triple)\"),3,2))))","v":2},{"$f":"IF($O792=\"Sunpower Corp.\",3,(IF(OR($Q792=\"mono\",$Q792=\"poly\",$Q792=\"HIT\",$Q792=\"EFG\",$Q792=\"mono-LGBC\"),1,2)))","v":2},{"$f":"IF($O792=\"Sunpower Corp.\",3,(IF(OR($Q792=\"mono\",$Q792=\"poly\",$Q792=\"HIT\",$Q792=\"EFG\",$Q792=\"mono-LGBC\"),1,IF(OR($Q792=\"µc-Si / a-Si\",$Q792=\"a-Si (single)\",$Q792=\"a-Si (tandem)\",$Q792=\"a-Si (triple)\"),3,2))))","v":2},0,null,null,26726,null,null,790]
["Ascent Solar Technologies Inc. WSLB-1400-096","Ascent Solar Technologies Inc. ","WSLB-1400-096",140,"+10...-10",77.8,1.8,100,2.15,-420,0.64500000000000002,-0.5,1000,null,null,7.8152909278869629,"CIGS",null,null,4976,360,1.2,null,"junction box MC4",3.4,"www.ascentsolar.com","-","-","-","-","-",{"$f":"IF($O793=\"Sunpower Corp.\",3,(IF(OR($Q793=\"mono\",$Q793=\"poly\",$Q793=\"HIT\",$Q793=\"EFG\",$Q793=\"mono-LGBC\"),1,IF(OR($Q793=\"µc-Si / a-Si\",$Q793=\"a-Si (single)\",$Q793=\"a-Si (tandem)\",$Q793=\"a-Si (triple)\"),3,2))))","v":2},{"$f":"IF($O793=\"Sunpower Corp.\",3,(IF(OR($Q793=\"mono\",$Q793=\"poly\",$Q793=\"HIT\",$Q793=\"EFG\",$Q793=\"mono-LGBC\"),1,2)))","v":2},{"$f":"IF($O793=\"Sunpower Corp.\",3,(IF(OR($Q793=\"mono\",$Q793=\"poly\",$Q793=\"HIT\",$Q793=\"EFG\",$Q793=\"mono-LGBC\"),1,IF(OR($Q793=\"µc-Si / a-Si\",$Q793=\"a-Si (single)\",$Q793=\"a-Si (tandem)\",$Q793=\"a-Si (triple)\"),3,2))))","v":2},0,null,null,26727,null,null,791]
["Ascent Solar Technologies Inc. WSLB-2800-190","Ascent Solar Technologies Inc. ","WSLB-2800-190",280,"+10...-10",140,2,180,2.72,-756,0.81599999999999995,-0.5,1000,null,null,9.3574132919311523,"CIGS",null,null,4780,626,1.2,null,"junction box MC4",null,"www.ascentsolar.com","-","-","-","-","-",{"$f":"IF($O794=\"Sunpower Corp.\",3,(IF(OR($Q794=\"mono\",$Q794=\"poly\",$Q794=\"HIT\",$Q794=\"EFG\",$Q794=\"mono-LGBC\"),1,IF(OR($Q794=\"µc-Si / a-Si\",$Q794=\"a-Si (single)\",$Q794=\"a-Si (tandem)\",$Q794=\"a-Si (triple)\"),3,2))))","v":2},{"$f":"IF($O794=\"Sunpower Corp.\",3,(IF(OR($Q794=\"mono\",$Q794=\"poly\",$Q794=\"HIT\",$Q794=\"EFG\",$Q794=\"mono-LGBC\"),1,2)))","v":2},{"$f":"IF($O794=\"Sunpower Corp.\",3,(IF(OR($Q794=\"mono\",$Q794=\"poly\",$Q794=\"HIT\",$Q794=\"EFG\",$Q794=\"mono-LGBC\"),1,IF(OR($Q794=\"µc-Si / a-Si\",$Q794=\"a-Si (single)\",$Q794=\"a-Si (tandem)\",$Q794=\"a-Si (triple)\"),3,2))))","v":2},0,null,null,26730,null,null,792]
["Ascent Solar Technologies Inc. WSLB-3200-190","Ascent Solar Technologies Inc. ","WSLB-3200-190",320,"+10...-10",152.30000000000001,2.1,190,2.48,-798,0.74399999999999999,-0.5,1000,null,null,10.69419002532959,"CIGS",null,null,4780,626,1.2,null,"junction box MC4",null,"www.ascentsolar.com","-","-","-","-","-",{"$f":"IF($O795=\"Sunpower Corp.\",3,(IF(OR($Q795=\"mono\",$Q795=\"poly\",$Q795=\"HIT\",$Q795=\"EFG\",$Q795=\"mono-LGBC\"),1,IF(OR($Q795=\"µc-Si / a-Si\",$Q795=\"a-Si (single)\",$Q795=\"a-Si (tandem)\",$Q795=\"a-Si (triple)\"),3,2))))","v":2},{"$f":"IF($O795=\"Sunpower Corp.\",3,(IF(OR($Q795=\"mono\",$Q795=\"poly\",$Q795=\"HIT\",$Q795=\"EFG\",$Q795=\"mono-LGBC\"),1,2)))","v":2},{"$f":"IF($O795=\"Sunpower Corp.\",3,(IF(OR($Q795=\"mono\",$Q795=\"poly\",$Q795=\"HIT\",$Q795=\"EFG\",$Q795=\"mono-LGBC\"),1,IF(OR($Q795=\"µc-Si / a-Si\",$Q795=\"a-Si (single)\",$Q795=\"a-Si (tandem)\",$Q795=\"a-Si (triple)\"),3,2))))","v":2},0,null,null,26731,null,null,793]
["Ascent Solar Technologies Inc. WSLE-0500-072","Ascent Solar Technologies Inc. ","WSLE-0500-072",50,"+10...-10",54.6,0.92,73.2,1.08,-307.44,0.32400000000000001,-0.5,1000,null,null,7.2886300086975098,"CIGS",null,null,1960,350,1.2,null,"junction box MC4",1.3,"www.ascentsolar.com","-","-","-","-","-",{"$f":"IF($O796=\"Sunpower Corp.\",3,(IF(OR($Q796=\"mono\",$Q796=\"poly\",$Q796=\"HIT\",$Q796=\"EFG\",$Q796=\"mono-LGBC\"),1,IF(OR($Q796=\"µc-Si / a-Si\",$Q796=\"a-Si (single)\",$Q796=\"a-Si (tandem)\",$Q796=\"a-Si (triple)\"),3,2))))","v":2},{"$f":"IF($O796=\"Sunpower Corp.\",3,(IF(OR($Q796=\"mono\",$Q796=\"poly\",$Q796=\"HIT\",$Q796=\"EFG\",$Q796=\"mono-LGBC\"),1,2)))","v":2},{"$f":"IF($O796=\"Sunpower Corp.\",3,(IF(OR($Q796=\"mono\",$Q796=\"poly\",$Q796=\"HIT\",$Q796=\"EFG\",$Q796=\"mono-LGBC\"),1,IF(OR($Q796=\"µc-Si / a-Si\",$Q796=\"a-Si (single)\",$Q796=\"a-Si (tandem)\",$Q796=\"a-Si (triple)\"),3,2))))","v":2},0,null,null,26733,null,null,794]
["Ascent Solar Technologies Inc. WSLE-0500-24","Ascent Solar Technologies Inc. ","WSLE-0500-24",50,"+10...-10",17.3,2.9,24.5,3.4,-102.9,1.02,-0.5,1000,null,null,7.7700080871582031,"CIGS",null,null,1950,330,1.2,null,"junction box MC4",1.3,"www.ascentsolar.com","-","-","-","-","-",{"$f":"IF($O797=\"Sunpower Corp.\",3,(IF(OR($Q797=\"mono\",$Q797=\"poly\",$Q797=\"HIT\",$Q797=\"EFG\",$Q797=\"mono-LGBC\"),1,IF(OR($Q797=\"µc-Si / a-Si\",$Q797=\"a-Si (single)\",$Q797=\"a-Si (tandem)\",$Q797=\"a-Si (triple)\"),3,2))))","v":2},{"$f":"IF($O797=\"Sunpower Corp.\",3,(IF(OR($Q797=\"mono\",$Q797=\"poly\",$Q797=\"HIT\",$Q797=\"EFG\",$Q797=\"mono-LGBC\"),1,2)))","v":2},{"$f":"IF($O797=\"Sunpower Corp.\",3,(IF(OR($Q797=\"mono\",$Q797=\"poly\",$Q797=\"HIT\",$Q797=\"EFG\",$Q797=\"mono-LGBC\"),1,IF(OR($Q797=\"µc-Si / a-Si\",$Q797=\"a-Si (single)\",$Q797=\"a-Si (tandem)\",$Q797=\"a-Si (triple)\"),3,2))))","v":2},0,null,null,26729,null,null,795]
["Ascent Solar Technologies Inc. WSLE-0550-072","Ascent Solar Technologies Inc. ","WSLE-0550-072",55,"+10...-10",58,0.95,76,1.1000000000000001,-319.2,0.33,-0.5,1000,null,null,8.0174922943115234,"CIGS",null,null,1960,350,1.2,null,"junction box MC4",1.3,"www.ascentsolar.com","-","-","-","-","-",{"$f":"IF($O798=\"Sunpower Corp.\",3,(IF(OR($Q798=\"mono\",$Q798=\"poly\",$Q798=\"HIT\",$Q798=\"EFG\",$Q798=\"mono-LGBC\"),1,IF(OR($Q798=\"µc-Si / a-Si\",$Q798=\"a-Si (single)\",$Q798=\"a-Si (tandem)\",$Q798=\"a-Si (triple)\"),3,2))))","v":2},{"$f":"IF($O798=\"Sunpower Corp.\",3,(IF(OR($Q798=\"mono\",$Q798=\"poly\",$Q798=\"HIT\",$Q798=\"EFG\",$Q798=\"mono-LGBC\"),1,2)))","v":2},{"$f":"IF($O798=\"Sunpower Corp.\",3,(IF(OR($Q798=\"mono\",$Q798=\"poly\",$Q798=\"HIT\",$Q798=\"EFG\",$Q798=\"mono-LGBC\"),1,IF(OR($Q798=\"µc-Si / a-Si\",$Q798=\"a-Si (single)\",$Q798=\"a-Si (tandem)\",$Q798=\"a-Si (triple)\"),3,2))))","v":2},0,null,null,26734,null,null,796]
["asola Advanced and Automotive Solar Systems asola 145W/40-156m","asola Advanced and Automotive Solar Systems ","asola 145W/40-156m",145,"+3,4...",20.239999999999998,7.3,24.32,7.87,-87.552000000000007,2.3609999999999998,-0.48,1000,"Germany",null,13.159279823303223,"mono",40,"pseudo-square",1652,667,50,"aluminum","junction box MC4",12.6,"www.asola-power.com","-","-","-","-","-",{"$f":"IF($O799=\"Sunpower Corp.\",3,(IF(OR($Q799=\"mono\",$Q799=\"poly\",$Q799=\"HIT\",$Q799=\"EFG\",$Q799=\"mono-LGBC\"),1,IF(OR($Q799=\"µc-Si / a-Si\",$Q799=\"a-Si (single)\",$Q799=\"a-Si (tandem)\",$Q799=\"a-Si (triple)\"),3,2))))","v":1},{"$f":"IF($O799=\"Sunpower Corp.\",3,(IF(OR($Q799=\"mono\",$Q799=\"poly\",$Q799=\"HIT\",$Q799=\"EFG\",$Q799=\"mono-LGBC\"),1,2)))","v":1},{"$f":"IF($O799=\"Sunpower Corp.\",3,(IF(OR($Q799=\"mono\",$Q799=\"poly\",$Q799=\"HIT\",$Q799=\"EFG\",$Q799=\"mono-LGBC\"),1,IF(OR($Q799=\"µc-Si / a-Si\",$Q799=\"a-Si (single)\",$Q799=\"a-Si (tandem)\",$Q799=\"a-Si (triple)\"),3,2))))","v":1},0,null,null,8925,null,null,797]
["asola Advanced and Automotive Solar Systems asola 145W/40-156p","asola Advanced and Automotive Solar Systems ","asola 145W/40-156p",145,"+3,4...",20,7.37,24.51,7.85,-80.88300000000001,3.9249999999999998,-0.43,1000,"Germany",null,13.159279823303223,"poly",40,"square",1652,667,50,"aluminum","junction box MC4",12.6,"www.asola-power.com","-","-","-","-","-",{"$f":"IF($O800=\"Sunpower Corp.\",3,(IF(OR($Q800=\"mono\",$Q800=\"poly\",$Q800=\"HIT\",$Q800=\"EFG\",$Q800=\"mono-LGBC\"),1,IF(OR($Q800=\"µc-Si / a-Si\",$Q800=\"a-Si (single)\",$Q800=\"a-Si (tandem)\",$Q800=\"a-Si (triple)\"),3,2))))","v":1},{"$f":"IF($O800=\"Sunpower Corp.\",3,(IF(OR($Q800=\"mono\",$Q800=\"poly\",$Q800=\"HIT\",$Q800=\"EFG\",$Q800=\"mono-LGBC\"),1,2)))","v":1},{"$f":"IF($O800=\"Sunpower Corp.\",3,(IF(OR($Q800=\"mono\",$Q800=\"poly\",$Q800=\"HIT\",$Q800=\"EFG\",$Q800=\"mono-LGBC\"),1,IF(OR($Q800=\"µc-Si / a-Si\",$Q800=\"a-Si (single)\",$Q800=\"a-Si (tandem)\",$Q800=\"a-Si (triple)\"),3,2))))","v":1},0,null,null,6277,null,null,798]
["asola Advanced and Automotive Solar Systems asola 150W/40-156m","asola Advanced and Automotive Solar Systems ","asola 150W/40-156m",150,"+3,3...",20.49,7.38,24.43,7.98,-87.947999999999993,2.3939999999999997,-0.48,1000,"Germany",null,13.61305046081543,"mono",40,"pseudo-square",1652,667,50,"aluminum","junction box MC4",12.6,"www.asola-power.com","-","-","-","-","-",{"$f":"IF($O801=\"Sunpower Corp.\",3,(IF(OR($Q801=\"mono\",$Q801=\"poly\",$Q801=\"HIT\",$Q801=\"EFG\",$Q801=\"mono-LGBC\"),1,IF(OR($Q801=\"µc-Si / a-Si\",$Q801=\"a-Si (single)\",$Q801=\"a-Si (tandem)\",$Q801=\"a-Si (triple)\"),3,2))))","v":1},{"$f":"IF($O801=\"Sunpower Corp.\",3,(IF(OR($Q801=\"mono\",$Q801=\"poly\",$Q801=\"HIT\",$Q801=\"EFG\",$Q801=\"mono-LGBC\"),1,2)))","v":1},{"$f":"IF($O801=\"Sunpower Corp.\",3,(IF(OR($Q801=\"mono\",$Q801=\"poly\",$Q801=\"HIT\",$Q801=\"EFG\",$Q801=\"mono-LGBC\"),1,IF(OR($Q801=\"µc-Si / a-Si\",$Q801=\"a-Si (single)\",$Q801=\"a-Si (tandem)\",$Q801=\"a-Si (triple)\"),3,2))))","v":1},0,null,null,8926,null,null,799]
["asola Advanced and Automotive Solar Systems asola 150W/40-156p","asola Advanced and Automotive Solar Systems ","asola 150W/40-156p",150,"+3,3...",20,7.57,24.6,8.0500000000000007,-81.180000000000007,4.0250000000000004,-0.43,1000,"Germany",null,13.61305046081543,"poly",40,"square",1652,667,50,"aluminum","junction box MC4",12.6,"www.asola-power.com","-","-","-","-","-",{"$f":"IF($O802=\"Sunpower Corp.\",3,(IF(OR($Q802=\"mono\",$Q802=\"poly\",$Q802=\"HIT\",$Q802=\"EFG\",$Q802=\"mono-LGBC\"),1,IF(OR($Q802=\"µc-Si / a-Si\",$Q802=\"a-Si (single)\",$Q802=\"a-Si (tandem)\",$Q802=\"a-Si (triple)\"),3,2))))","v":1},{"$f":"IF($O802=\"Sunpower Corp.\",3,(IF(OR($Q802=\"mono\",$Q802=\"poly\",$Q802=\"HIT\",$Q802=\"EFG\",$Q802=\"mono-LGBC\"),1,2)))","v":1},{"$f":"IF($O802=\"Sunpower Corp.\",3,(IF(OR($Q802=\"mono\",$Q802=\"poly\",$Q802=\"HIT\",$Q802=\"EFG\",$Q802=\"mono-LGBC\"),1,IF(OR($Q802=\"µc-Si / a-Si\",$Q802=\"a-Si (single)\",$Q802=\"a-Si (tandem)\",$Q802=\"a-Si (triple)\"),3,2))))","v":1},0,null,null,3732,null,null,800]
["asola Advanced and Automotive Solar Systems asola 155W/40-156m","asola Advanced and Automotive Solar Systems ","asola 155W/40-156m",155,"+3,2...",20.61,7.62,24.65,8.17,-88.74,2.4509999999999996,-0.48,1000,"Germany",null,14.06682014465332,"mono",40,"pseudo-square",1652,667,50,"aluminum","junction box MC4",12.6,"www.asola-power.com","-","-","-","-","-",{"$f":"IF($O803=\"Sunpower Corp.\",3,(IF(OR($Q803=\"mono\",$Q803=\"poly\",$Q803=\"HIT\",$Q803=\"EFG\",$Q803=\"mono-LGBC\"),1,IF(OR($Q803=\"µc-Si / a-Si\",$Q803=\"a-Si (single)\",$Q803=\"a-Si (tandem)\",$Q803=\"a-Si (triple)\"),3,2))))","v":1},{"$f":"IF($O803=\"Sunpower Corp.\",3,(IF(OR($Q803=\"mono\",$Q803=\"poly\",$Q803=\"HIT\",$Q803=\"EFG\",$Q803=\"mono-LGBC\"),1,2)))","v":1},{"$f":"IF($O803=\"Sunpower Corp.\",3,(IF(OR($Q803=\"mono\",$Q803=\"poly\",$Q803=\"HIT\",$Q803=\"EFG\",$Q803=\"mono-LGBC\"),1,IF(OR($Q803=\"µc-Si / a-Si\",$Q803=\"a-Si (single)\",$Q803=\"a-Si (tandem)\",$Q803=\"a-Si (triple)\"),3,2))))","v":1},0,null,null,8927,null,null,801]
["asola Advanced and Automotive Solar Systems asola 155W/40-156p","asola Advanced and Automotive Solar Systems ","asola 155W/40-156p",155,"+3,2...",20,7.8,24.8,8.15,-81.84,4.0750000000000002,-0.43,1000,"Germany",null,14.06682014465332,"poly",40,"square",1652,667,50,"aluminum","junction box MC4",12.6,"www.asola-power.com","-","-","-","-","-",{"$f":"IF($O804=\"Sunpower Corp.\",3,(IF(OR($Q804=\"mono\",$Q804=\"poly\",$Q804=\"HIT\",$Q804=\"EFG\",$Q804=\"mono-LGBC\"),1,IF(OR($Q804=\"µc-Si / a-Si\",$Q804=\"a-Si (single)\",$Q804=\"a-Si (tandem)\",$Q804=\"a-Si (triple)\"),3,2))))","v":1},{"$f":"IF($O804=\"Sunpower Corp.\",3,(IF(OR($Q804=\"mono\",$Q804=\"poly\",$Q804=\"HIT\",$Q804=\"EFG\",$Q804=\"mono-LGBC\"),1,2)))","v":1},{"$f":"IF($O804=\"Sunpower Corp.\",3,(IF(OR($Q804=\"mono\",$Q804=\"poly\",$Q804=\"HIT\",$Q804=\"EFG\",$Q804=\"mono-LGBC\"),1,IF(OR($Q804=\"µc-Si / a-Si\",$Q804=\"a-Si (single)\",$Q804=\"a-Si (tandem)\",$Q804=\"a-Si (triple)\"),3,2))))","v":1},0,null,null,6279,null,null,802]
["asola Advanced and Automotive Solar Systems asola 160W/40-156m","asola Advanced and Automotive Solar Systems ","asola 160W/40-156m",160,"+3,1...",20.8,7.83,24.84,8.3800000000000008,-89.424000000000007,2.5140000000000002,-0.48,1000,"Germany",null,14.520589828491211,"mono",40,"pseudo-square",1652,667,50,"aluminum","junction box MC4",12.6,"www.asola-power.com","-","-","-","-","-",{"$f":"IF($O805=\"Sunpower Corp.\",3,(IF(OR($Q805=\"mono\",$Q805=\"poly\",$Q805=\"HIT\",$Q805=\"EFG\",$Q805=\"mono-LGBC\"),1,IF(OR($Q805=\"µc-Si / a-Si\",$Q805=\"a-Si (single)\",$Q805=\"a-Si (tandem)\",$Q805=\"a-Si (triple)\"),3,2))))","v":1},{"$f":"IF($O805=\"Sunpower Corp.\",3,(IF(OR($Q805=\"mono\",$Q805=\"poly\",$Q805=\"HIT\",$Q805=\"EFG\",$Q805=\"mono-LGBC\"),1,2)))","v":1},{"$f":"IF($O805=\"Sunpower Corp.\",3,(IF(OR($Q805=\"mono\",$Q805=\"poly\",$Q805=\"HIT\",$Q805=\"EFG\",$Q805=\"mono-LGBC\"),1,IF(OR($Q805=\"µc-Si / a-Si\",$Q805=\"a-Si (single)\",$Q805=\"a-Si (tandem)\",$Q805=\"a-Si (triple)\"),3,2))))","v":1},0,null,null,3739,null,null,803]
["asola Advanced and Automotive Solar Systems asola 165W/40-156m","asola Advanced and Automotive Solar Systems ","asola 165W/40-156m",165,"+3...",20.8,8.1,25.2,8.5500000000000007,-90.72,2.5649999999999999,-0.48,1000,"Germany",null,14.974349975585938,"mono",40,"pseudo-square",1652,667,50,"aluminum","junction box MC4",12.6,"www.asola-power.com","-","-","-","-","-",{"$f":"IF($O806=\"Sunpower Corp.\",3,(IF(OR($Q806=\"mono\",$Q806=\"poly\",$Q806=\"HIT\",$Q806=\"EFG\",$Q806=\"mono-LGBC\"),1,IF(OR($Q806=\"µc-Si / a-Si\",$Q806=\"a-Si (single)\",$Q806=\"a-Si (tandem)\",$Q806=\"a-Si (triple)\"),3,2))))","v":1},{"$f":"IF($O806=\"Sunpower Corp.\",3,(IF(OR($Q806=\"mono\",$Q806=\"poly\",$Q806=\"HIT\",$Q806=\"EFG\",$Q806=\"mono-LGBC\"),1,2)))","v":1},{"$f":"IF($O806=\"Sunpower Corp.\",3,(IF(OR($Q806=\"mono\",$Q806=\"poly\",$Q806=\"HIT\",$Q806=\"EFG\",$Q806=\"mono-LGBC\"),1,IF(OR($Q806=\"µc-Si / a-Si\",$Q806=\"a-Si (single)\",$Q806=\"a-Si (tandem)\",$Q806=\"a-Si (triple)\"),3,2))))","v":1},0,null,null,15077,null,null,804]
["asola Advanced and Automotive Solar Systems asola 170W/48-156p/2","asola Advanced and Automotive Solar Systems ","asola 170W/48-156p/2",170,"+2,9...",24,7.11,29.23,7.68,-96.459000000000003,3.84,-0.43,1000,"Germany",null,12.786089897155762,"poly",48,"square",1343,990,50,"aluminum","junction box MC4",21.4,"www.asola-power.com","-","-","-","-","-",{"$f":"IF($O807=\"Sunpower Corp.\",3,(IF(OR($Q807=\"mono\",$Q807=\"poly\",$Q807=\"HIT\",$Q807=\"EFG\",$Q807=\"mono-LGBC\"),1,IF(OR($Q807=\"µc-Si / a-Si\",$Q807=\"a-Si (single)\",$Q807=\"a-Si (tandem)\",$Q807=\"a-Si (triple)\"),3,2))))","v":1},{"$f":"IF($O807=\"Sunpower Corp.\",3,(IF(OR($Q807=\"mono\",$Q807=\"poly\",$Q807=\"HIT\",$Q807=\"EFG\",$Q807=\"mono-LGBC\"),1,2)))","v":1},{"$f":"IF($O807=\"Sunpower Corp.\",3,(IF(OR($Q807=\"mono\",$Q807=\"poly\",$Q807=\"HIT\",$Q807=\"EFG\",$Q807=\"mono-LGBC\"),1,IF(OR($Q807=\"µc-Si / a-Si\",$Q807=\"a-Si (single)\",$Q807=\"a-Si (tandem)\",$Q807=\"a-Si (triple)\"),3,2))))","v":1},0,null,null,9961,null,null,805]
["asola Advanced and Automotive Solar Systems asola 175W/48-156p/2","asola Advanced and Automotive Solar Systems ","asola 175W/48-156p/2",175,"+2,9...",24,7.37,29.41,7.85,-97.052999999999997,4.2389999999999999,-0.43,1000,"Germany",null,13.162150382995605,"poly",48,"square",1343,990,50,"aluminum","junction box MC4",21.4,"www.asola-power.com","-","-","-","-","-",{"$f":"IF($O808=\"Sunpower Corp.\",3,(IF(OR($Q808=\"mono\",$Q808=\"poly\",$Q808=\"HIT\",$Q808=\"EFG\",$Q808=\"mono-LGBC\"),1,IF(OR($Q808=\"µc-Si / a-Si\",$Q808=\"a-Si (single)\",$Q808=\"a-Si (tandem)\",$Q808=\"a-Si (triple)\"),3,2))))","v":1},{"$f":"IF($O808=\"Sunpower Corp.\",3,(IF(OR($Q808=\"mono\",$Q808=\"poly\",$Q808=\"HIT\",$Q808=\"EFG\",$Q808=\"mono-LGBC\"),1,2)))","v":1},{"$f":"IF($O808=\"Sunpower Corp.\",3,(IF(OR($Q808=\"mono\",$Q808=\"poly\",$Q808=\"HIT\",$Q808=\"EFG\",$Q808=\"mono-LGBC\"),1,IF(OR($Q808=\"µc-Si / a-Si\",$Q808=\"a-Si (single)\",$Q808=\"a-Si (tandem)\",$Q808=\"a-Si (triple)\"),3,2))))","v":1},0,null,null,9962,null,null,806]
["asola Advanced and Automotive Solar Systems asola 180W/48-156m/2","asola Advanced and Automotive Solar Systems ","asola 180W/48-156m/2",180,"+2,8...",24.58,7.38,29.31,7.98,-105.51600000000001,2.7132000000000001,-0.48,1000,"Germany",null,13.538209915161133,"mono",48,"pseudo-square",1343,990,50,"aluminum","junction box MC4",21.4,"www.asola-power.com","-","-","-","-","-",{"$f":"IF($O809=\"Sunpower Corp.\",3,(IF(OR($Q809=\"mono\",$Q809=\"poly\",$Q809=\"HIT\",$Q809=\"EFG\",$Q809=\"mono-LGBC\"),1,IF(OR($Q809=\"µc-Si / a-Si\",$Q809=\"a-Si (single)\",$Q809=\"a-Si (tandem)\",$Q809=\"a-Si (triple)\"),3,2))))","v":1},{"$f":"IF($O809=\"Sunpower Corp.\",3,(IF(OR($Q809=\"mono\",$Q809=\"poly\",$Q809=\"HIT\",$Q809=\"EFG\",$Q809=\"mono-LGBC\"),1,2)))","v":1},{"$f":"IF($O809=\"Sunpower Corp.\",3,(IF(OR($Q809=\"mono\",$Q809=\"poly\",$Q809=\"HIT\",$Q809=\"EFG\",$Q809=\"mono-LGBC\"),1,IF(OR($Q809=\"µc-Si / a-Si\",$Q809=\"a-Si (single)\",$Q809=\"a-Si (tandem)\",$Q809=\"a-Si (triple)\"),3,2))))","v":1},0,null,null,9958,null,null,807]
["asola Advanced and Automotive Solar Systems asola 180W/48-156p/2","asola Advanced and Automotive Solar Systems ","asola 180W/48-156p/2",180,"+2,8...",24,7.57,29.52,8.0500000000000007,-97.415999999999997,4.3470000000000004,-0.43,1000,"Germany",null,13.538209915161133,"poly",48,"square",1343,990,50,"aluminum","junction box MC4",21.4,"www.asola-power.com","-","-","-","-","-",{"$f":"IF($O810=\"Sunpower Corp.\",3,(IF(OR($Q810=\"mono\",$Q810=\"poly\",$Q810=\"HIT\",$Q810=\"EFG\",$Q810=\"mono-LGBC\"),1,IF(OR($Q810=\"µc-Si / a-Si\",$Q810=\"a-Si (single)\",$Q810=\"a-Si (tandem)\",$Q810=\"a-Si (triple)\"),3,2))))","v":1},{"$f":"IF($O810=\"Sunpower Corp.\",3,(IF(OR($Q810=\"mono\",$Q810=\"poly\",$Q810=\"HIT\",$Q810=\"EFG\",$Q810=\"mono-LGBC\"),1,2)))","v":1},{"$f":"IF($O810=\"Sunpower Corp.\",3,(IF(OR($Q810=\"mono\",$Q810=\"poly\",$Q810=\"HIT\",$Q810=\"EFG\",$Q810=\"mono-LGBC\"),1,IF(OR($Q810=\"µc-Si / a-Si\",$Q810=\"a-Si (single)\",$Q810=\"a-Si (tandem)\",$Q810=\"a-Si (triple)\"),3,2))))","v":1},0,null,null,9963,null,null,808]
["asola Advanced and Automotive Solar Systems asola 185W/48-156m/2","asola Advanced and Automotive Solar Systems ","asola 185W/48-156m/2",185,"+2,7...",24.58,7.58,29.47,8.1199999999999992,-106.092,2.7607999999999997,-0.48,1000,"Germany",null,13.914270401000977,"mono",48,"pseudo-square",1343,990,50,"aluminum","junction box MC4",21.4,"www.asola-power.com","-","-","-","-","-",{"$f":"IF($O811=\"Sunpower Corp.\",3,(IF(OR($Q811=\"mono\",$Q811=\"poly\",$Q811=\"HIT\",$Q811=\"EFG\",$Q811=\"mono-LGBC\"),1,IF(OR($Q811=\"µc-Si / a-Si\",$Q811=\"a-Si (single)\",$Q811=\"a-Si (tandem)\",$Q811=\"a-Si (triple)\"),3,2))))","v":1},{"$f":"IF($O811=\"Sunpower Corp.\",3,(IF(OR($Q811=\"mono\",$Q811=\"poly\",$Q811=\"HIT\",$Q811=\"EFG\",$Q811=\"mono-LGBC\"),1,2)))","v":1},{"$f":"IF($O811=\"Sunpower Corp.\",3,(IF(OR($Q811=\"mono\",$Q811=\"poly\",$Q811=\"HIT\",$Q811=\"EFG\",$Q811=\"mono-LGBC\"),1,IF(OR($Q811=\"µc-Si / a-Si\",$Q811=\"a-Si (single)\",$Q811=\"a-Si (tandem)\",$Q811=\"a-Si (triple)\"),3,2))))","v":1},0,null,null,9959,null,null,809]
["asola Advanced and Automotive Solar Systems asola 185W/48-156p/2","asola Advanced and Automotive Solar Systems ","asola 185W/48-156p/2",185,"+2,7...",24,7.8,29.76,8.15,-98.207999999999998,4.0750000000000002,-0.43,1000,"Germany",null,13.914270401000977,"poly",48,"square",1343,990,50,"aluminum","junction box MC4",21.4,"www.asola-power.com","-","-","-","-","-",{"$f":"IF($O812=\"Sunpower Corp.\",3,(IF(OR($Q812=\"mono\",$Q812=\"poly\",$Q812=\"HIT\",$Q812=\"EFG\",$Q812=\"mono-LGBC\"),1,IF(OR($Q812=\"µc-Si / a-Si\",$Q812=\"a-Si (single)\",$Q812=\"a-Si (tandem)\",$Q812=\"a-Si (triple)\"),3,2))))","v":1},{"$f":"IF($O812=\"Sunpower Corp.\",3,(IF(OR($Q812=\"mono\",$Q812=\"poly\",$Q812=\"HIT\",$Q812=\"EFG\",$Q812=\"mono-LGBC\"),1,2)))","v":1},{"$f":"IF($O812=\"Sunpower Corp.\",3,(IF(OR($Q812=\"mono\",$Q812=\"poly\",$Q812=\"HIT\",$Q812=\"EFG\",$Q812=\"mono-LGBC\"),1,IF(OR($Q812=\"µc-Si / a-Si\",$Q812=\"a-Si (single)\",$Q812=\"a-Si (tandem)\",$Q812=\"a-Si (triple)\"),3,2))))","v":1},0,null,null,15078,null,null,810]
["asola Advanced and Automotive Solar Systems asola 190W/48-156m/2","asola Advanced and Automotive Solar Systems ","asola 190W/48-156m/2",190,"+2,6...",24.94,7.75,29.63,8.2799999999999994,-106.66799999999999,2.8151999999999999,-0.48,1000,"Germany",null,14.290329933166504,"mono",48,"pseudo-square",1343,990,50,"aluminum","junction box MC4",21.4,"www.asola-power.com","-","-","-","-","-",{"$f":"IF($O813=\"Sunpower Corp.\",3,(IF(OR($Q813=\"mono\",$Q813=\"poly\",$Q813=\"HIT\",$Q813=\"EFG\",$Q813=\"mono-LGBC\"),1,IF(OR($Q813=\"µc-Si / a-Si\",$Q813=\"a-Si (single)\",$Q813=\"a-Si (tandem)\",$Q813=\"a-Si (triple)\"),3,2))))","v":1},{"$f":"IF($O813=\"Sunpower Corp.\",3,(IF(OR($Q813=\"mono\",$Q813=\"poly\",$Q813=\"HIT\",$Q813=\"EFG\",$Q813=\"mono-LGBC\"),1,2)))","v":1},{"$f":"IF($O813=\"Sunpower Corp.\",3,(IF(OR($Q813=\"mono\",$Q813=\"poly\",$Q813=\"HIT\",$Q813=\"EFG\",$Q813=\"mono-LGBC\"),1,IF(OR($Q813=\"µc-Si / a-Si\",$Q813=\"a-Si (single)\",$Q813=\"a-Si (tandem)\",$Q813=\"a-Si (triple)\"),3,2))))","v":1},0,null,null,9960,null,null,811]
["asola Advanced and Automotive Solar Systems asola 190W/48-156p/2","asola Advanced and Automotive Solar Systems ","asola 190W/48-156p/2",190,"+2,6...",24,8.02,29.76,8.4700000000000006,-98.207999999999998,4.5738000000000003,-0.43,1000,"Germany",null,14.290329933166504,"poly",48,"square",1343,990,50,"aluminum","junction box MC4",21.4,"www.asola-power.com","-","-","-","-","-",{"$f":"IF($O814=\"Sunpower Corp.\",3,(IF(OR($Q814=\"mono\",$Q814=\"poly\",$Q814=\"HIT\",$Q814=\"EFG\",$Q814=\"mono-LGBC\"),1,IF(OR($Q814=\"µc-Si / a-Si\",$Q814=\"a-Si (single)\",$Q814=\"a-Si (tandem)\",$Q814=\"a-Si (triple)\"),3,2))))","v":1},{"$f":"IF($O814=\"Sunpower Corp.\",3,(IF(OR($Q814=\"mono\",$Q814=\"poly\",$Q814=\"HIT\",$Q814=\"EFG\",$Q814=\"mono-LGBC\"),1,2)))","v":1},{"$f":"IF($O814=\"Sunpower Corp.\",3,(IF(OR($Q814=\"mono\",$Q814=\"poly\",$Q814=\"HIT\",$Q814=\"EFG\",$Q814=\"mono-LGBC\"),1,IF(OR($Q814=\"µc-Si / a-Si\",$Q814=\"a-Si (single)\",$Q814=\"a-Si (tandem)\",$Q814=\"a-Si (triple)\"),3,2))))","v":1},0,null,null,15081,null,null,812]
["asola Advanced and Automotive Solar Systems asola 195W/48-156m/2","asola Advanced and Automotive Solar Systems ","asola 195W/48-156m/2",195,"+2,6...",24.96,7.9,29.95,8.4499999999999993,-107.82,2.8730000000000002,-0.48,1000,"Germany",null,14.666399955749512,"mono",48,"pseudo-square",1343,990,50,"aluminum","junction box MC4",21.4,"www.asola-power.com","-","-","-","-","-",{"$f":"IF($O815=\"Sunpower Corp.\",3,(IF(OR($Q815=\"mono\",$Q815=\"poly\",$Q815=\"HIT\",$Q815=\"EFG\",$Q815=\"mono-LGBC\"),1,IF(OR($Q815=\"µc-Si / a-Si\",$Q815=\"a-Si (single)\",$Q815=\"a-Si (tandem)\",$Q815=\"a-Si (triple)\"),3,2))))","v":1},{"$f":"IF($O815=\"Sunpower Corp.\",3,(IF(OR($Q815=\"mono\",$Q815=\"poly\",$Q815=\"HIT\",$Q815=\"EFG\",$Q815=\"mono-LGBC\"),1,2)))","v":1},{"$f":"IF($O815=\"Sunpower Corp.\",3,(IF(OR($Q815=\"mono\",$Q815=\"poly\",$Q815=\"HIT\",$Q815=\"EFG\",$Q815=\"mono-LGBC\"),1,IF(OR($Q815=\"µc-Si / a-Si\",$Q815=\"a-Si (single)\",$Q815=\"a-Si (tandem)\",$Q815=\"a-Si (triple)\"),3,2))))","v":1},0,null,null,15079,null,null,813]
["asola Advanced and Automotive Solar Systems asola 200W/48-156m/2","asola Advanced and Automotive Solar Systems ","asola 200W/48-156m/2",200,"+2,5...",24.96,8.1,30.24,8.5500000000000007,-108.86399999999999,2.9070000000000005,-0.48,1000,"Germany",null,15.042460441589355,"mono",48,"pseudo-square",1343,990,50,"aluminum","junction box MC4",21.4,"www.asola-power.com","-","-","-","-","-",{"$f":"IF($O816=\"Sunpower Corp.\",3,(IF(OR($Q816=\"mono\",$Q816=\"poly\",$Q816=\"HIT\",$Q816=\"EFG\",$Q816=\"mono-LGBC\"),1,IF(OR($Q816=\"µc-Si / a-Si\",$Q816=\"a-Si (single)\",$Q816=\"a-Si (tandem)\",$Q816=\"a-Si (triple)\"),3,2))))","v":1},{"$f":"IF($O816=\"Sunpower Corp.\",3,(IF(OR($Q816=\"mono\",$Q816=\"poly\",$Q816=\"HIT\",$Q816=\"EFG\",$Q816=\"mono-LGBC\"),1,2)))","v":1},{"$f":"IF($O816=\"Sunpower Corp.\",3,(IF(OR($Q816=\"mono\",$Q816=\"poly\",$Q816=\"HIT\",$Q816=\"EFG\",$Q816=\"mono-LGBC\"),1,IF(OR($Q816=\"µc-Si / a-Si\",$Q816=\"a-Si (single)\",$Q816=\"a-Si (tandem)\",$Q816=\"a-Si (triple)\"),3,2))))","v":1},0,null,null,15080,null,null,814]
["asola Advanced and Automotive Solar Systems asola 200W/54-156p","asola Advanced and Automotive Solar Systems ","asola 200W/54-156p",200,"+2,5...",27,7.46,33.159999999999997,7.92,-109.42799999999998,4.2767999999999997,-0.43,1000,"Germany",null,13.459039688110352,"poly",54,"square",1501,990,50,"aluminum","junction box MC4",22.2,"www.asola-power.com","-","-","-","-","-",{"$f":"IF($O817=\"Sunpower Corp.\",3,(IF(OR($Q817=\"mono\",$Q817=\"poly\",$Q817=\"HIT\",$Q817=\"EFG\",$Q817=\"mono-LGBC\"),1,IF(OR($Q817=\"µc-Si / a-Si\",$Q817=\"a-Si (single)\",$Q817=\"a-Si (tandem)\",$Q817=\"a-Si (triple)\"),3,2))))","v":1},{"$f":"IF($O817=\"Sunpower Corp.\",3,(IF(OR($Q817=\"mono\",$Q817=\"poly\",$Q817=\"HIT\",$Q817=\"EFG\",$Q817=\"mono-LGBC\"),1,2)))","v":1},{"$f":"IF($O817=\"Sunpower Corp.\",3,(IF(OR($Q817=\"mono\",$Q817=\"poly\",$Q817=\"HIT\",$Q817=\"EFG\",$Q817=\"mono-LGBC\"),1,IF(OR($Q817=\"µc-Si / a-Si\",$Q817=\"a-Si (single)\",$Q817=\"a-Si (tandem)\",$Q817=\"a-Si (triple)\"),3,2))))","v":1},0,null,null,15085,null,null,815]
["asola Advanced and Automotive Solar Systems asola 205W/54-156p","asola Advanced and Automotive Solar Systems ","asola 205W/54-156p",205,"+2,5...",27,7.67,33.4,8.08,-110.22,4.3632,-0.43,1000,"Germany",null,13.795519828796387,"poly",54,"square",1501,990,50,"aluminum","junction box MC4",22.2,"www.asola-power.com","-","-","-","-","-",{"$f":"IF($O818=\"Sunpower Corp.\",3,(IF(OR($Q818=\"mono\",$Q818=\"poly\",$Q818=\"HIT\",$Q818=\"EFG\",$Q818=\"mono-LGBC\"),1,IF(OR($Q818=\"µc-Si / a-Si\",$Q818=\"a-Si (single)\",$Q818=\"a-Si (tandem)\",$Q818=\"a-Si (triple)\"),3,2))))","v":1},{"$f":"IF($O818=\"Sunpower Corp.\",3,(IF(OR($Q818=\"mono\",$Q818=\"poly\",$Q818=\"HIT\",$Q818=\"EFG\",$Q818=\"mono-LGBC\"),1,2)))","v":1},{"$f":"IF($O818=\"Sunpower Corp.\",3,(IF(OR($Q818=\"mono\",$Q818=\"poly\",$Q818=\"HIT\",$Q818=\"EFG\",$Q818=\"mono-LGBC\"),1,IF(OR($Q818=\"µc-Si / a-Si\",$Q818=\"a-Si (single)\",$Q818=\"a-Si (tandem)\",$Q818=\"a-Si (triple)\"),3,2))))","v":1},0,null,null,15086,null,null,816]
["asola Advanced and Automotive Solar Systems asola 210W/54-156m","asola Advanced and Automotive Solar Systems ","asola 210W/54-156m",210,"+2,4...",27.83,7.62,33.28,8.17,-119.80799999999999,2.7778,-0.48,1000,"Germany",null,14.131990432739258,"mono",54,"pseudo-square",1501,990,50,"aluminum","junction box MC4",22.2,"www.asola-power.com","-","-","-","-","-",{"$f":"IF($O819=\"Sunpower Corp.\",3,(IF(OR($Q819=\"mono\",$Q819=\"poly\",$Q819=\"HIT\",$Q819=\"EFG\",$Q819=\"mono-LGBC\"),1,IF(OR($Q819=\"µc-Si / a-Si\",$Q819=\"a-Si (single)\",$Q819=\"a-Si (tandem)\",$Q819=\"a-Si (triple)\"),3,2))))","v":1},{"$f":"IF($O819=\"Sunpower Corp.\",3,(IF(OR($Q819=\"mono\",$Q819=\"poly\",$Q819=\"HIT\",$Q819=\"EFG\",$Q819=\"mono-LGBC\"),1,2)))","v":1},{"$f":"IF($O819=\"Sunpower Corp.\",3,(IF(OR($Q819=\"mono\",$Q819=\"poly\",$Q819=\"HIT\",$Q819=\"EFG\",$Q819=\"mono-LGBC\"),1,IF(OR($Q819=\"µc-Si / a-Si\",$Q819=\"a-Si (single)\",$Q819=\"a-Si (tandem)\",$Q819=\"a-Si (triple)\"),3,2))))","v":1},0,null,null,15082,null,null,817]
["asola Advanced and Automotive Solar Systems asola 210W/54-156p","asola Advanced and Automotive Solar Systems ","asola 210W/54-156p",210,"+2,4...",27,7.8,33.479999999999997,8.15,-110.48399999999998,4.4010000000000007,-0.43,1000,"Germany",null,14.131990432739258,"poly",54,"square",1501,990,50,"aluminum","junction box MC4",22.2,"www.asola-power.com","-","-","-","-","-",{"$f":"IF($O820=\"Sunpower Corp.\",3,(IF(OR($Q820=\"mono\",$Q820=\"poly\",$Q820=\"HIT\",$Q820=\"EFG\",$Q820=\"mono-LGBC\"),1,IF(OR($Q820=\"µc-Si / a-Si\",$Q820=\"a-Si (single)\",$Q820=\"a-Si (tandem)\",$Q820=\"a-Si (triple)\"),3,2))))","v":1},{"$f":"IF($O820=\"Sunpower Corp.\",3,(IF(OR($Q820=\"mono\",$Q820=\"poly\",$Q820=\"HIT\",$Q820=\"EFG\",$Q820=\"mono-LGBC\"),1,2)))","v":1},{"$f":"IF($O820=\"Sunpower Corp.\",3,(IF(OR($Q820=\"mono\",$Q820=\"poly\",$Q820=\"HIT\",$Q820=\"EFG\",$Q820=\"mono-LGBC\"),1,IF(OR($Q820=\"µc-Si / a-Si\",$Q820=\"a-Si (single)\",$Q820=\"a-Si (tandem)\",$Q820=\"a-Si (triple)\"),3,2))))","v":1},0,null,null,15087,null,null,818]
["asola Advanced and Automotive Solar Systems asola 210W/60-156p","asola Advanced and Automotive Solar Systems ","asola 210W/60-156p",210,"+2,4...",30,7.02,36.42,7.61,-120.18600000000001,4.1093999999999999,-0.43,1000,"Germany",null,12.626259803771973,"poly",60,"square",1680,990,50,"aluminum","junction box MC4",24.3,"www.asola-power.com","-","-","-","-","-",{"$f":"IF($O821=\"Sunpower Corp.\",3,(IF(OR($Q821=\"mono\",$Q821=\"poly\",$Q821=\"HIT\",$Q821=\"EFG\",$Q821=\"mono-LGBC\"),1,IF(OR($Q821=\"µc-Si / a-Si\",$Q821=\"a-Si (single)\",$Q821=\"a-Si (tandem)\",$Q821=\"a-Si (triple)\"),3,2))))","v":1},{"$f":"IF($O821=\"Sunpower Corp.\",3,(IF(OR($Q821=\"mono\",$Q821=\"poly\",$Q821=\"HIT\",$Q821=\"EFG\",$Q821=\"mono-LGBC\"),1,2)))","v":1},{"$f":"IF($O821=\"Sunpower Corp.\",3,(IF(OR($Q821=\"mono\",$Q821=\"poly\",$Q821=\"HIT\",$Q821=\"EFG\",$Q821=\"mono-LGBC\"),1,IF(OR($Q821=\"µc-Si / a-Si\",$Q821=\"a-Si (single)\",$Q821=\"a-Si (tandem)\",$Q821=\"a-Si (triple)\"),3,2))))","v":1},0,null,null,8934,null,null,819]
["asola Advanced and Automotive Solar Systems asola 210W/60-156p/2","asola Advanced and Automotive Solar Systems ","asola 210W/60-156p/2",210,"+2,4...",30,7.02,36.42,7.61,-120.18600000000001,4.1093999999999999,-0.43,1000,"Germany",null,12.778389930725098,"poly",60,"square",1660,990,50,"aluminum","junction box MC4",23,"www.asola-power.com","-","-","-","-","-",{"$f":"IF($O822=\"Sunpower Corp.\",3,(IF(OR($Q822=\"mono\",$Q822=\"poly\",$Q822=\"HIT\",$Q822=\"EFG\",$Q822=\"mono-LGBC\"),1,IF(OR($Q822=\"µc-Si / a-Si\",$Q822=\"a-Si (single)\",$Q822=\"a-Si (tandem)\",$Q822=\"a-Si (triple)\"),3,2))))","v":1},{"$f":"IF($O822=\"Sunpower Corp.\",3,(IF(OR($Q822=\"mono\",$Q822=\"poly\",$Q822=\"HIT\",$Q822=\"EFG\",$Q822=\"mono-LGBC\"),1,2)))","v":1},{"$f":"IF($O822=\"Sunpower Corp.\",3,(IF(OR($Q822=\"mono\",$Q822=\"poly\",$Q822=\"HIT\",$Q822=\"EFG\",$Q822=\"mono-LGBC\"),1,IF(OR($Q822=\"µc-Si / a-Si\",$Q822=\"a-Si (single)\",$Q822=\"a-Si (tandem)\",$Q822=\"a-Si (triple)\"),3,2))))","v":1},0,null,null,15095,null,null,820]
["asola Advanced and Automotive Solar Systems asola 215W/54-156m","asola Advanced and Automotive Solar Systems ","asola 215W/54-156m",215,"+2,3...",28.08,7.75,33.450000000000003,8.2799999999999994,-120.42,2.8151999999999999,-0.48,1000,"Germany",null,14.468469619750977,"mono",54,"pseudo-square",1501,990,50,"aluminum","junction box MC4",22.2,"www.asola-power.com","-","-","-","-","-",{"$f":"IF($O823=\"Sunpower Corp.\",3,(IF(OR($Q823=\"mono\",$Q823=\"poly\",$Q823=\"HIT\",$Q823=\"EFG\",$Q823=\"mono-LGBC\"),1,IF(OR($Q823=\"µc-Si / a-Si\",$Q823=\"a-Si (single)\",$Q823=\"a-Si (tandem)\",$Q823=\"a-Si (triple)\"),3,2))))","v":1},{"$f":"IF($O823=\"Sunpower Corp.\",3,(IF(OR($Q823=\"mono\",$Q823=\"poly\",$Q823=\"HIT\",$Q823=\"EFG\",$Q823=\"mono-LGBC\"),1,2)))","v":1},{"$f":"IF($O823=\"Sunpower Corp.\",3,(IF(OR($Q823=\"mono\",$Q823=\"poly\",$Q823=\"HIT\",$Q823=\"EFG\",$Q823=\"mono-LGBC\"),1,IF(OR($Q823=\"µc-Si / a-Si\",$Q823=\"a-Si (single)\",$Q823=\"a-Si (tandem)\",$Q823=\"a-Si (triple)\"),3,2))))","v":1},0,null,null,15083,null,null,821]
["asola Advanced and Automotive Solar Systems asola 215W/60-156p","asola Advanced and Automotive Solar Systems ","asola 215W/60-156p",215,"+2,3...",30,7.22,36.6,7.75,-120.78,4.1849999999999996,-0.43,1000,"Germany",null,12.92689037322998,"poly",60,"square",1680,990,50,"aluminum","junction box MC4",24.3,"www.asola-power.com","-","-","-","-","-",{"$f":"IF($O824=\"Sunpower Corp.\",3,(IF(OR($Q824=\"mono\",$Q824=\"poly\",$Q824=\"HIT\",$Q824=\"EFG\",$Q824=\"mono-LGBC\"),1,IF(OR($Q824=\"µc-Si / a-Si\",$Q824=\"a-Si (single)\",$Q824=\"a-Si (tandem)\",$Q824=\"a-Si (triple)\"),3,2))))","v":1},{"$f":"IF($O824=\"Sunpower Corp.\",3,(IF(OR($Q824=\"mono\",$Q824=\"poly\",$Q824=\"HIT\",$Q824=\"EFG\",$Q824=\"mono-LGBC\"),1,2)))","v":1},{"$f":"IF($O824=\"Sunpower Corp.\",3,(IF(OR($Q824=\"mono\",$Q824=\"poly\",$Q824=\"HIT\",$Q824=\"EFG\",$Q824=\"mono-LGBC\"),1,IF(OR($Q824=\"µc-Si / a-Si\",$Q824=\"a-Si (single)\",$Q824=\"a-Si (tandem)\",$Q824=\"a-Si (triple)\"),3,2))))","v":1},0,null,null,7585,null,null,822]
["asola Advanced and Automotive Solar Systems asola 215W/60-156p/2","asola Advanced and Automotive Solar Systems ","asola 215W/60-156p/2",215,"+2,3...",30,7.22,36.6,7.75,-120.78,4.1849999999999996,-0.43,1000,"Germany",null,13.082630157470703,"poly",60,"square",1660,990,50,"aluminum","junction box MC4",23,"www.asola-power.com","-","-","-","-","-",{"$f":"IF($O825=\"Sunpower Corp.\",3,(IF(OR($Q825=\"mono\",$Q825=\"poly\",$Q825=\"HIT\",$Q825=\"EFG\",$Q825=\"mono-LGBC\"),1,IF(OR($Q825=\"µc-Si / a-Si\",$Q825=\"a-Si (single)\",$Q825=\"a-Si (tandem)\",$Q825=\"a-Si (triple)\"),3,2))))","v":1},{"$f":"IF($O825=\"Sunpower Corp.\",3,(IF(OR($Q825=\"mono\",$Q825=\"poly\",$Q825=\"HIT\",$Q825=\"EFG\",$Q825=\"mono-LGBC\"),1,2)))","v":1},{"$f":"IF($O825=\"Sunpower Corp.\",3,(IF(OR($Q825=\"mono\",$Q825=\"poly\",$Q825=\"HIT\",$Q825=\"EFG\",$Q825=\"mono-LGBC\"),1,IF(OR($Q825=\"µc-Si / a-Si\",$Q825=\"a-Si (single)\",$Q825=\"a-Si (tandem)\",$Q825=\"a-Si (triple)\"),3,2))))","v":1},0,null,null,15096,null,null,823]
["asola Advanced and Automotive Solar Systems asola 220W/54-156m","asola Advanced and Automotive Solar Systems ","asola 220W/54-156m",220,"+2,3...",28.08,7.9,33.700000000000003,8.4499999999999993,-121.32,2.8730000000000002,-0.48,1000,"Germany",null,14.804940223693848,"mono",54,"pseudo-square",1501,990,50,"aluminum","junction box MC4",22.2,"www.asola-power.com","-","-","-","-","-",{"$f":"IF($O826=\"Sunpower Corp.\",3,(IF(OR($Q826=\"mono\",$Q826=\"poly\",$Q826=\"HIT\",$Q826=\"EFG\",$Q826=\"mono-LGBC\"),1,IF(OR($Q826=\"µc-Si / a-Si\",$Q826=\"a-Si (single)\",$Q826=\"a-Si (tandem)\",$Q826=\"a-Si (triple)\"),3,2))))","v":1},{"$f":"IF($O826=\"Sunpower Corp.\",3,(IF(OR($Q826=\"mono\",$Q826=\"poly\",$Q826=\"HIT\",$Q826=\"EFG\",$Q826=\"mono-LGBC\"),1,2)))","v":1},{"$f":"IF($O826=\"Sunpower Corp.\",3,(IF(OR($Q826=\"mono\",$Q826=\"poly\",$Q826=\"HIT\",$Q826=\"EFG\",$Q826=\"mono-LGBC\"),1,IF(OR($Q826=\"µc-Si / a-Si\",$Q826=\"a-Si (single)\",$Q826=\"a-Si (tandem)\",$Q826=\"a-Si (triple)\"),3,2))))","v":1},0,null,null,15084,null,null,824]
["asola Advanced and Automotive Solar Systems asola 220W/60-156p","asola Advanced and Automotive Solar Systems ","asola 220W/60-156p",220,"+2,3...",30,7.37,36.770000000000003,7.85,-121.34100000000001,4.2389999999999999,-0.43,1000,"Germany",null,13.227510452270508,"poly",60,"square",1680,990,50,"aluminum","junction box MC4",24.3,"www.asola-power.com","-","-","-","-","-",{"$f":"IF($O827=\"Sunpower Corp.\",3,(IF(OR($Q827=\"mono\",$Q827=\"poly\",$Q827=\"HIT\",$Q827=\"EFG\",$Q827=\"mono-LGBC\"),1,IF(OR($Q827=\"µc-Si / a-Si\",$Q827=\"a-Si (single)\",$Q827=\"a-Si (tandem)\",$Q827=\"a-Si (triple)\"),3,2))))","v":1},{"$f":"IF($O827=\"Sunpower Corp.\",3,(IF(OR($Q827=\"mono\",$Q827=\"poly\",$Q827=\"HIT\",$Q827=\"EFG\",$Q827=\"mono-LGBC\"),1,2)))","v":1},{"$f":"IF($O827=\"Sunpower Corp.\",3,(IF(OR($Q827=\"mono\",$Q827=\"poly\",$Q827=\"HIT\",$Q827=\"EFG\",$Q827=\"mono-LGBC\"),1,IF(OR($Q827=\"µc-Si / a-Si\",$Q827=\"a-Si (single)\",$Q827=\"a-Si (tandem)\",$Q827=\"a-Si (triple)\"),3,2))))","v":1},0,null,null,7586,null,null,825]
["asola Advanced and Automotive Solar Systems asola 220W/60-156p/2","asola Advanced and Automotive Solar Systems ","asola 220W/60-156p/2",220,"+2,3...",30,7.37,36.770000000000003,7.85,-121.34100000000001,4.2389999999999999,-0.43,1000,"Germany",null,13.386879920959473,"poly",60,"square",1660,990,50,"aluminum","junction box MC4",23,"www.asola-power.com","-","-","-","-","-",{"$f":"IF($O828=\"Sunpower Corp.\",3,(IF(OR($Q828=\"mono\",$Q828=\"poly\",$Q828=\"HIT\",$Q828=\"EFG\",$Q828=\"mono-LGBC\"),1,IF(OR($Q828=\"µc-Si / a-Si\",$Q828=\"a-Si (single)\",$Q828=\"a-Si (tandem)\",$Q828=\"a-Si (triple)\"),3,2))))","v":1},{"$f":"IF($O828=\"Sunpower Corp.\",3,(IF(OR($Q828=\"mono\",$Q828=\"poly\",$Q828=\"HIT\",$Q828=\"EFG\",$Q828=\"mono-LGBC\"),1,2)))","v":1},{"$f":"IF($O828=\"Sunpower Corp.\",3,(IF(OR($Q828=\"mono\",$Q828=\"poly\",$Q828=\"HIT\",$Q828=\"EFG\",$Q828=\"mono-LGBC\"),1,IF(OR($Q828=\"µc-Si / a-Si\",$Q828=\"a-Si (single)\",$Q828=\"a-Si (tandem)\",$Q828=\"a-Si (triple)\"),3,2))))","v":1},0,null,null,15097,null,null,826]
["asola Advanced and Automotive Solar Systems asola 225W/60-156p","asola Advanced and Automotive Solar Systems ","asola 225W/60-156p",225,"+2,2...",30,7.57,36.9,8.0500000000000007,-121.77,4.3470000000000004,-0.43,1000,"Germany",null,13.528140068054199,"poly",60,"square",1680,990,50,"aluminum","junction box MC4",24.3,"www.asola-power.com","-","-","-","-","-",{"$f":"IF($O829=\"Sunpower Corp.\",3,(IF(OR($Q829=\"mono\",$Q829=\"poly\",$Q829=\"HIT\",$Q829=\"EFG\",$Q829=\"mono-LGBC\"),1,IF(OR($Q829=\"µc-Si / a-Si\",$Q829=\"a-Si (single)\",$Q829=\"a-Si (tandem)\",$Q829=\"a-Si (triple)\"),3,2))))","v":1},{"$f":"IF($O829=\"Sunpower Corp.\",3,(IF(OR($Q829=\"mono\",$Q829=\"poly\",$Q829=\"HIT\",$Q829=\"EFG\",$Q829=\"mono-LGBC\"),1,2)))","v":1},{"$f":"IF($O829=\"Sunpower Corp.\",3,(IF(OR($Q829=\"mono\",$Q829=\"poly\",$Q829=\"HIT\",$Q829=\"EFG\",$Q829=\"mono-LGBC\"),1,IF(OR($Q829=\"µc-Si / a-Si\",$Q829=\"a-Si (single)\",$Q829=\"a-Si (tandem)\",$Q829=\"a-Si (triple)\"),3,2))))","v":1},0,null,null,7587,null,null,827]
["asola Advanced and Automotive Solar Systems asola 225W/60-156p/2","asola Advanced and Automotive Solar Systems ","asola 225W/60-156p/2",225,"+2,2...",30,7.57,36.9,8.0500000000000007,-121.77,4.3470000000000004,-0.43,1000,"Germany",null,13.691129684448242,"poly",60,"square",1660,990,50,"aluminum","junction box MC4",23,"www.asola-power.com","-","-","-","-","-",{"$f":"IF($O830=\"Sunpower Corp.\",3,(IF(OR($Q830=\"mono\",$Q830=\"poly\",$Q830=\"HIT\",$Q830=\"EFG\",$Q830=\"mono-LGBC\"),1,IF(OR($Q830=\"µc-Si / a-Si\",$Q830=\"a-Si (single)\",$Q830=\"a-Si (tandem)\",$Q830=\"a-Si (triple)\"),3,2))))","v":1},{"$f":"IF($O830=\"Sunpower Corp.\",3,(IF(OR($Q830=\"mono\",$Q830=\"poly\",$Q830=\"HIT\",$Q830=\"EFG\",$Q830=\"mono-LGBC\"),1,2)))","v":1},{"$f":"IF($O830=\"Sunpower Corp.\",3,(IF(OR($Q830=\"mono\",$Q830=\"poly\",$Q830=\"HIT\",$Q830=\"EFG\",$Q830=\"mono-LGBC\"),1,IF(OR($Q830=\"µc-Si / a-Si\",$Q830=\"a-Si (single)\",$Q830=\"a-Si (tandem)\",$Q830=\"a-Si (triple)\"),3,2))))","v":1},0,null,null,15098,null,null,828]
["asola Advanced and Automotive Solar Systems asola 230W/60-156m","asola Advanced and Automotive Solar Systems ","asola 230W/60-156m",230,"+2,2...",30.72,7.58,36.840000000000003,8.1199999999999992,-132.62400000000002,2.7607999999999997,-0.48,1000,"Germany",null,13.828760147094727,"mono",60,"pseudo-square",1680,990,50,"aluminum","junction box MC4",24.3,"www.asola-power.com","-","-","-","-","-",{"$f":"IF($O831=\"Sunpower Corp.\",3,(IF(OR($Q831=\"mono\",$Q831=\"poly\",$Q831=\"HIT\",$Q831=\"EFG\",$Q831=\"mono-LGBC\"),1,IF(OR($Q831=\"µc-Si / a-Si\",$Q831=\"a-Si (single)\",$Q831=\"a-Si (tandem)\",$Q831=\"a-Si (triple)\"),3,2))))","v":1},{"$f":"IF($O831=\"Sunpower Corp.\",3,(IF(OR($Q831=\"mono\",$Q831=\"poly\",$Q831=\"HIT\",$Q831=\"EFG\",$Q831=\"mono-LGBC\"),1,2)))","v":1},{"$f":"IF($O831=\"Sunpower Corp.\",3,(IF(OR($Q831=\"mono\",$Q831=\"poly\",$Q831=\"HIT\",$Q831=\"EFG\",$Q831=\"mono-LGBC\"),1,IF(OR($Q831=\"µc-Si / a-Si\",$Q831=\"a-Si (single)\",$Q831=\"a-Si (tandem)\",$Q831=\"a-Si (triple)\"),3,2))))","v":1},0,null,null,8931,null,null,829]
["asola Advanced and Automotive Solar Systems asola 230W/60-156m/2","asola Advanced and Automotive Solar Systems ","asola 230W/60-156m/2",230,"+2,2...",30.72,7.58,36.840000000000003,8.1199999999999992,-132.62400000000002,2.7607999999999997,-0.48,1000,"Germany",null,13.995380401611328,"mono",60,"pseudo-square",1660,990,50,"aluminum","junction box MC4",23,"www.asola-power.com","-","-","-","-","-",{"$f":"IF($O832=\"Sunpower Corp.\",3,(IF(OR($Q832=\"mono\",$Q832=\"poly\",$Q832=\"HIT\",$Q832=\"EFG\",$Q832=\"mono-LGBC\"),1,IF(OR($Q832=\"µc-Si / a-Si\",$Q832=\"a-Si (single)\",$Q832=\"a-Si (tandem)\",$Q832=\"a-Si (triple)\"),3,2))))","v":1},{"$f":"IF($O832=\"Sunpower Corp.\",3,(IF(OR($Q832=\"mono\",$Q832=\"poly\",$Q832=\"HIT\",$Q832=\"EFG\",$Q832=\"mono-LGBC\"),1,2)))","v":1},{"$f":"IF($O832=\"Sunpower Corp.\",3,(IF(OR($Q832=\"mono\",$Q832=\"poly\",$Q832=\"HIT\",$Q832=\"EFG\",$Q832=\"mono-LGBC\"),1,IF(OR($Q832=\"µc-Si / a-Si\",$Q832=\"a-Si (single)\",$Q832=\"a-Si (tandem)\",$Q832=\"a-Si (triple)\"),3,2))))","v":1},0,null,null,15090,null,null,830]
["asola Advanced and Automotive Solar Systems asola 230W/60-156p","asola Advanced and Automotive Solar Systems ","asola 230W/60-156p",230,"+2,2...",30,7.75,37.11,8.08,-122.46300000000001,4.3632,-0.43,1000,"Germany",null,13.828760147094727,"poly",60,"square",1680,990,50,"aluminum","junction box MC4",24.3,"www.asola-power.com","-","-","-","-","-",{"$f":"IF($O833=\"Sunpower Corp.\",3,(IF(OR($Q833=\"mono\",$Q833=\"poly\",$Q833=\"HIT\",$Q833=\"EFG\",$Q833=\"mono-LGBC\"),1,IF(OR($Q833=\"µc-Si / a-Si\",$Q833=\"a-Si (single)\",$Q833=\"a-Si (tandem)\",$Q833=\"a-Si (triple)\"),3,2))))","v":1},{"$f":"IF($O833=\"Sunpower Corp.\",3,(IF(OR($Q833=\"mono\",$Q833=\"poly\",$Q833=\"HIT\",$Q833=\"EFG\",$Q833=\"mono-LGBC\"),1,2)))","v":1},{"$f":"IF($O833=\"Sunpower Corp.\",3,(IF(OR($Q833=\"mono\",$Q833=\"poly\",$Q833=\"HIT\",$Q833=\"EFG\",$Q833=\"mono-LGBC\"),1,IF(OR($Q833=\"µc-Si / a-Si\",$Q833=\"a-Si (single)\",$Q833=\"a-Si (tandem)\",$Q833=\"a-Si (triple)\"),3,2))))","v":1},0,null,null,3740,null,null,831]
["asola Advanced and Automotive Solar Systems asola 230W/60-156p/2","asola Advanced and Automotive Solar Systems ","asola 230W/60-156p/2",230,"+2,2...",30,7.75,37.11,8.08,-122.46300000000001,4.3632,-0.43,1000,"Germany",null,13.995380401611328,"poly",60,"square",1660,990,50,"aluminum","junction box MC4",23,"www.asola-power.com","-","-","-","-","-",{"$f":"IF($O834=\"Sunpower Corp.\",3,(IF(OR($Q834=\"mono\",$Q834=\"poly\",$Q834=\"HIT\",$Q834=\"EFG\",$Q834=\"mono-LGBC\"),1,IF(OR($Q834=\"µc-Si / a-Si\",$Q834=\"a-Si (single)\",$Q834=\"a-Si (tandem)\",$Q834=\"a-Si (triple)\"),3,2))))","v":1},{"$f":"IF($O834=\"Sunpower Corp.\",3,(IF(OR($Q834=\"mono\",$Q834=\"poly\",$Q834=\"HIT\",$Q834=\"EFG\",$Q834=\"mono-LGBC\"),1,2)))","v":1},{"$f":"IF($O834=\"Sunpower Corp.\",3,(IF(OR($Q834=\"mono\",$Q834=\"poly\",$Q834=\"HIT\",$Q834=\"EFG\",$Q834=\"mono-LGBC\"),1,IF(OR($Q834=\"µc-Si / a-Si\",$Q834=\"a-Si (single)\",$Q834=\"a-Si (tandem)\",$Q834=\"a-Si (triple)\"),3,2))))","v":1},0,null,null,15099,null,null,832]
["asola Advanced and Automotive Solar Systems asola 235W/60-156m","asola Advanced and Automotive Solar Systems ","asola 235W/60-156m",235,"+2,2...",30.92,7.62,36.979999999999997,8.17,-133.12799999999999,2.4509999999999996,-0.48,1000,"Germany",null,14.129389762878418,"mono",60,"pseudo-square",1680,990,50,"aluminum","junction box MC4",24.3,"www.asola-power.com","-","-","-","-","-",{"$f":"IF($O835=\"Sunpower Corp.\",3,(IF(OR($Q835=\"mono\",$Q835=\"poly\",$Q835=\"HIT\",$Q835=\"EFG\",$Q835=\"mono-LGBC\"),1,IF(OR($Q835=\"µc-Si / a-Si\",$Q835=\"a-Si (single)\",$Q835=\"a-Si (tandem)\",$Q835=\"a-Si (triple)\"),3,2))))","v":1},{"$f":"IF($O835=\"Sunpower Corp.\",3,(IF(OR($Q835=\"mono\",$Q835=\"poly\",$Q835=\"HIT\",$Q835=\"EFG\",$Q835=\"mono-LGBC\"),1,2)))","v":1},{"$f":"IF($O835=\"Sunpower Corp.\",3,(IF(OR($Q835=\"mono\",$Q835=\"poly\",$Q835=\"HIT\",$Q835=\"EFG\",$Q835=\"mono-LGBC\"),1,IF(OR($Q835=\"µc-Si / a-Si\",$Q835=\"a-Si (single)\",$Q835=\"a-Si (tandem)\",$Q835=\"a-Si (triple)\"),3,2))))","v":1},0,null,null,15088,null,null,833]
["asola Advanced and Automotive Solar Systems asola 235W/60-156m/2","asola Advanced and Automotive Solar Systems ","asola 235W/60-156m/2",235,"+2,1...",30.92,7.62,36.979999999999997,8.17,-133.12799999999999,2.7778,-0.48,1000,"Germany",null,14.299619674682617,"mono",60,"pseudo-square",1660,990,50,"aluminum","junction box MC4",23,"www.asola-power.com","-","-","-","-","-",{"$f":"IF($O836=\"Sunpower Corp.\",3,(IF(OR($Q836=\"mono\",$Q836=\"poly\",$Q836=\"HIT\",$Q836=\"EFG\",$Q836=\"mono-LGBC\"),1,IF(OR($Q836=\"µc-Si / a-Si\",$Q836=\"a-Si (single)\",$Q836=\"a-Si (tandem)\",$Q836=\"a-Si (triple)\"),3,2))))","v":1},{"$f":"IF($O836=\"Sunpower Corp.\",3,(IF(OR($Q836=\"mono\",$Q836=\"poly\",$Q836=\"HIT\",$Q836=\"EFG\",$Q836=\"mono-LGBC\"),1,2)))","v":1},{"$f":"IF($O836=\"Sunpower Corp.\",3,(IF(OR($Q836=\"mono\",$Q836=\"poly\",$Q836=\"HIT\",$Q836=\"EFG\",$Q836=\"mono-LGBC\"),1,IF(OR($Q836=\"µc-Si / a-Si\",$Q836=\"a-Si (single)\",$Q836=\"a-Si (tandem)\",$Q836=\"a-Si (triple)\"),3,2))))","v":1},0,null,null,15091,null,null,834]
["asola Advanced and Automotive Solar Systems asola 235W/60-156p","asola Advanced and Automotive Solar Systems ","asola 235W/60-156p",235,"+2,1...",30,7.91,37.200000000000003,8.34,-122.76,4.5035999999999996,-0.43,1000,"Germany",null,14.129389762878418,"poly",60,"square",1680,990,50,"aluminum","junction box MC4",24.3,"www.asola-power.com","-","-","-","-","-",{"$f":"IF($O837=\"Sunpower Corp.\",3,(IF(OR($Q837=\"mono\",$Q837=\"poly\",$Q837=\"HIT\",$Q837=\"EFG\",$Q837=\"mono-LGBC\"),1,IF(OR($Q837=\"µc-Si / a-Si\",$Q837=\"a-Si (single)\",$Q837=\"a-Si (tandem)\",$Q837=\"a-Si (triple)\"),3,2))))","v":1},{"$f":"IF($O837=\"Sunpower Corp.\",3,(IF(OR($Q837=\"mono\",$Q837=\"poly\",$Q837=\"HIT\",$Q837=\"EFG\",$Q837=\"mono-LGBC\"),1,2)))","v":1},{"$f":"IF($O837=\"Sunpower Corp.\",3,(IF(OR($Q837=\"mono\",$Q837=\"poly\",$Q837=\"HIT\",$Q837=\"EFG\",$Q837=\"mono-LGBC\"),1,IF(OR($Q837=\"µc-Si / a-Si\",$Q837=\"a-Si (single)\",$Q837=\"a-Si (tandem)\",$Q837=\"a-Si (triple)\"),3,2))))","v":1},0,null,null,7588,null,null,835]
["asola Advanced and Automotive Solar Systems asola 235W/60-156p/2","asola Advanced and Automotive Solar Systems ","asola 235W/60-156p/2",235,"+2,1...",30,7.91,37.200000000000003,8.34,-122.76,4.5035999999999996,-0.43,1000,"Germany",null,14.299619674682617,"poly",60,"square",1660,990,50,"aluminum","junction box MC4",23,"www.asola-power.com","-","-","-","-","-",{"$f":"IF($O838=\"Sunpower Corp.\",3,(IF(OR($Q838=\"mono\",$Q838=\"poly\",$Q838=\"HIT\",$Q838=\"EFG\",$Q838=\"mono-LGBC\"),1,IF(OR($Q838=\"µc-Si / a-Si\",$Q838=\"a-Si (single)\",$Q838=\"a-Si (tandem)\",$Q838=\"a-Si (triple)\"),3,2))))","v":1},{"$f":"IF($O838=\"Sunpower Corp.\",3,(IF(OR($Q838=\"mono\",$Q838=\"poly\",$Q838=\"HIT\",$Q838=\"EFG\",$Q838=\"mono-LGBC\"),1,2)))","v":1},{"$f":"IF($O838=\"Sunpower Corp.\",3,(IF(OR($Q838=\"mono\",$Q838=\"poly\",$Q838=\"HIT\",$Q838=\"EFG\",$Q838=\"mono-LGBC\"),1,IF(OR($Q838=\"µc-Si / a-Si\",$Q838=\"a-Si (single)\",$Q838=\"a-Si (tandem)\",$Q838=\"a-Si (triple)\"),3,2))))","v":1},0,null,null,15100,null,null,836]
["asola Advanced and Automotive Solar Systems asola 240W/60-156m","asola Advanced and Automotive Solar Systems ","asola 240W/60-156m",240,"+2,1...",31.17,7.75,37.17,8.2799999999999994,-133.81200000000001,2.8151999999999999,-0.48,1000,"Germany",null,14.430009841918945,"mono",60,"pseudo-square",1680,990,50,"aluminum","junction box MC4",24.3,"www.asola-power.com","-","-","-","-","-",{"$f":"IF($O839=\"Sunpower Corp.\",3,(IF(OR($Q839=\"mono\",$Q839=\"poly\",$Q839=\"HIT\",$Q839=\"EFG\",$Q839=\"mono-LGBC\"),1,IF(OR($Q839=\"µc-Si / a-Si\",$Q839=\"a-Si (single)\",$Q839=\"a-Si (tandem)\",$Q839=\"a-Si (triple)\"),3,2))))","v":1},{"$f":"IF($O839=\"Sunpower Corp.\",3,(IF(OR($Q839=\"mono\",$Q839=\"poly\",$Q839=\"HIT\",$Q839=\"EFG\",$Q839=\"mono-LGBC\"),1,2)))","v":1},{"$f":"IF($O839=\"Sunpower Corp.\",3,(IF(OR($Q839=\"mono\",$Q839=\"poly\",$Q839=\"HIT\",$Q839=\"EFG\",$Q839=\"mono-LGBC\"),1,IF(OR($Q839=\"µc-Si / a-Si\",$Q839=\"a-Si (single)\",$Q839=\"a-Si (tandem)\",$Q839=\"a-Si (triple)\"),3,2))))","v":1},0,null,null,8932,null,null,837]
["asola Advanced and Automotive Solar Systems asola 240W/60-156m/2","asola Advanced and Automotive Solar Systems ","asola 240W/60-156m/2",240,"+2,1...",31.17,7.75,37.17,8.2799999999999994,-133.81200000000001,2.8151999999999999,-0.48,1000,"Germany",null,14.603870391845703,"mono",60,"pseudo-square",1660,990,50,"aluminum","junction box MC4",23,"www.asola-power.com","-","-","-","-","-",{"$f":"IF($O840=\"Sunpower Corp.\",3,(IF(OR($Q840=\"mono\",$Q840=\"poly\",$Q840=\"HIT\",$Q840=\"EFG\",$Q840=\"mono-LGBC\"),1,IF(OR($Q840=\"µc-Si / a-Si\",$Q840=\"a-Si (single)\",$Q840=\"a-Si (tandem)\",$Q840=\"a-Si (triple)\"),3,2))))","v":1},{"$f":"IF($O840=\"Sunpower Corp.\",3,(IF(OR($Q840=\"mono\",$Q840=\"poly\",$Q840=\"HIT\",$Q840=\"EFG\",$Q840=\"mono-LGBC\"),1,2)))","v":1},{"$f":"IF($O840=\"Sunpower Corp.\",3,(IF(OR($Q840=\"mono\",$Q840=\"poly\",$Q840=\"HIT\",$Q840=\"EFG\",$Q840=\"mono-LGBC\"),1,IF(OR($Q840=\"µc-Si / a-Si\",$Q840=\"a-Si (single)\",$Q840=\"a-Si (tandem)\",$Q840=\"a-Si (triple)\"),3,2))))","v":1},0,null,null,15092,null,null,838]
["asola Advanced and Automotive Solar Systems asola 245W/60-156m","asola Advanced and Automotive Solar Systems ","asola 245W/60-156m",245,"+2...",31.2,7.9,37.44,8.4499999999999993,-134.78399999999999,2.8730000000000002,-0.48,1000,"Germany",null,14.730640411376953,"mono",60,"pseudo-square",1680,990,50,"aluminum","junction box MC4",24.3,"www.asola-power.com","-","-","-","-","-",{"$f":"IF($O841=\"Sunpower Corp.\",3,(IF(OR($Q841=\"mono\",$Q841=\"poly\",$Q841=\"HIT\",$Q841=\"EFG\",$Q841=\"mono-LGBC\"),1,IF(OR($Q841=\"µc-Si / a-Si\",$Q841=\"a-Si (single)\",$Q841=\"a-Si (tandem)\",$Q841=\"a-Si (triple)\"),3,2))))","v":1},{"$f":"IF($O841=\"Sunpower Corp.\",3,(IF(OR($Q841=\"mono\",$Q841=\"poly\",$Q841=\"HIT\",$Q841=\"EFG\",$Q841=\"mono-LGBC\"),1,2)))","v":1},{"$f":"IF($O841=\"Sunpower Corp.\",3,(IF(OR($Q841=\"mono\",$Q841=\"poly\",$Q841=\"HIT\",$Q841=\"EFG\",$Q841=\"mono-LGBC\"),1,IF(OR($Q841=\"µc-Si / a-Si\",$Q841=\"a-Si (single)\",$Q841=\"a-Si (tandem)\",$Q841=\"a-Si (triple)\"),3,2))))","v":1},0,null,null,15089,null,null,839]
["asola Advanced and Automotive Solar Systems asola 245W/60-156m/2","asola Advanced and Automotive Solar Systems ","asola 245W/60-156m/2",245,"+2...",31.2,7.9,37.44,8.4499999999999993,-134.78399999999999,2.8730000000000002,-0.48,1000,"Germany",null,14.908120155334473,"mono",60,"pseudo-square",1660,990,50,"aluminum","junction box MC4",23,"www.asola-power.com","-","-","-","-","-",{"$f":"IF($O842=\"Sunpower Corp.\",3,(IF(OR($Q842=\"mono\",$Q842=\"poly\",$Q842=\"HIT\",$Q842=\"EFG\",$Q842=\"mono-LGBC\"),1,IF(OR($Q842=\"µc-Si / a-Si\",$Q842=\"a-Si (single)\",$Q842=\"a-Si (tandem)\",$Q842=\"a-Si (triple)\"),3,2))))","v":1},{"$f":"IF($O842=\"Sunpower Corp.\",3,(IF(OR($Q842=\"mono\",$Q842=\"poly\",$Q842=\"HIT\",$Q842=\"EFG\",$Q842=\"mono-LGBC\"),1,2)))","v":1},{"$f":"IF($O842=\"Sunpower Corp.\",3,(IF(OR($Q842=\"mono\",$Q842=\"poly\",$Q842=\"HIT\",$Q842=\"EFG\",$Q842=\"mono-LGBC\"),1,IF(OR($Q842=\"µc-Si / a-Si\",$Q842=\"a-Si (single)\",$Q842=\"a-Si (tandem)\",$Q842=\"a-Si (triple)\"),3,2))))","v":1},0,null,null,15093,null,null,840]
["asola Advanced and Automotive Solar Systems asola 250W/60-156m","asola Advanced and Automotive Solar Systems ","asola 250W/60-156m",250,"+2...",31.2,8.1,37.799999999999997,8.5500000000000007,-136.08000000000001,2.9070000000000005,-0.48,1000,"Germany",null,15.031270027160645,"mono",60,"pseudo-square",1680,990,50,"aluminum","junction box MC4",24.3,"www.asola-power.com","-","-","-","-","-",{"$f":"IF($O843=\"Sunpower Corp.\",3,(IF(OR($Q843=\"mono\",$Q843=\"poly\",$Q843=\"HIT\",$Q843=\"EFG\",$Q843=\"mono-LGBC\"),1,IF(OR($Q843=\"µc-Si / a-Si\",$Q843=\"a-Si (single)\",$Q843=\"a-Si (tandem)\",$Q843=\"a-Si (triple)\"),3,2))))","v":1},{"$f":"IF($O843=\"Sunpower Corp.\",3,(IF(OR($Q843=\"mono\",$Q843=\"poly\",$Q843=\"HIT\",$Q843=\"EFG\",$Q843=\"mono-LGBC\"),1,2)))","v":1},{"$f":"IF($O843=\"Sunpower Corp.\",3,(IF(OR($Q843=\"mono\",$Q843=\"poly\",$Q843=\"HIT\",$Q843=\"EFG\",$Q843=\"mono-LGBC\"),1,IF(OR($Q843=\"µc-Si / a-Si\",$Q843=\"a-Si (single)\",$Q843=\"a-Si (tandem)\",$Q843=\"a-Si (triple)\"),3,2))))","v":1},0,null,null,8933,null,null,841]
["asola Advanced and Automotive Solar Systems asola 250W/60-156m/2","asola Advanced and Automotive Solar Systems ","asola 250W/60-156m/2",250,"+2...",31.2,8.1,37.799999999999997,8.5500000000000007,-136.08000000000001,2.9070000000000005,-0.48,1000,"Germany",null,15.212360382080078,"mono",60,"pseudo-square",1660,990,50,"aluminum","junction box MC4",23,"www.asola-power.com","-","-","-","-","-",{"$f":"IF($O844=\"Sunpower Corp.\",3,(IF(OR($Q844=\"mono\",$Q844=\"poly\",$Q844=\"HIT\",$Q844=\"EFG\",$Q844=\"mono-LGBC\"),1,IF(OR($Q844=\"µc-Si / a-Si\",$Q844=\"a-Si (single)\",$Q844=\"a-Si (tandem)\",$Q844=\"a-Si (triple)\"),3,2))))","v":1},{"$f":"IF($O844=\"Sunpower Corp.\",3,(IF(OR($Q844=\"mono\",$Q844=\"poly\",$Q844=\"HIT\",$Q844=\"EFG\",$Q844=\"mono-LGBC\"),1,2)))","v":1},{"$f":"IF($O844=\"Sunpower Corp.\",3,(IF(OR($Q844=\"mono\",$Q844=\"poly\",$Q844=\"HIT\",$Q844=\"EFG\",$Q844=\"mono-LGBC\"),1,IF(OR($Q844=\"µc-Si / a-Si\",$Q844=\"a-Si (single)\",$Q844=\"a-Si (tandem)\",$Q844=\"a-Si (triple)\"),3,2))))","v":1},0,null,null,15094,null,null,842]
["asola Advanced and Automotive Solar Systems asola 250W/72-156p","asola Advanced and Automotive Solar Systems ","asola 250W/72-156p",250,"+2...",36,7.02,43.7,7.61,-144.21,4.1093999999999999,-0.43,1000,"Germany",null,12.760250091552734,"poly",72,"square",1979,990,50,"aluminum","junction box MC4",26.6,"www.asola-power.com","-","-","-","-","-",{"$f":"IF($O845=\"Sunpower Corp.\",3,(IF(OR($Q845=\"mono\",$Q845=\"poly\",$Q845=\"HIT\",$Q845=\"EFG\",$Q845=\"mono-LGBC\"),1,IF(OR($Q845=\"µc-Si / a-Si\",$Q845=\"a-Si (single)\",$Q845=\"a-Si (tandem)\",$Q845=\"a-Si (triple)\"),3,2))))","v":1},{"$f":"IF($O845=\"Sunpower Corp.\",3,(IF(OR($Q845=\"mono\",$Q845=\"poly\",$Q845=\"HIT\",$Q845=\"EFG\",$Q845=\"mono-LGBC\"),1,2)))","v":1},{"$f":"IF($O845=\"Sunpower Corp.\",3,(IF(OR($Q845=\"mono\",$Q845=\"poly\",$Q845=\"HIT\",$Q845=\"EFG\",$Q845=\"mono-LGBC\"),1,IF(OR($Q845=\"µc-Si / a-Si\",$Q845=\"a-Si (single)\",$Q845=\"a-Si (tandem)\",$Q845=\"a-Si (triple)\"),3,2))))","v":1},0,null,null,8939,null,null,843]
["asola Advanced and Automotive Solar Systems asola 255W/72-156p","asola Advanced and Automotive Solar Systems ","asola 255W/72-156p",255,"+2...",36,7.11,43.85,7.68,-144.70500000000001,4.1471999999999998,-0.43,1000,"Germany",null,13.015449523925781,"poly",72,"square",1979,990,50,"aluminum","junction box MC4",26.6,"www.asola-power.com","-","-","-","-","-",{"$f":"IF($O846=\"Sunpower Corp.\",3,(IF(OR($Q846=\"mono\",$Q846=\"poly\",$Q846=\"HIT\",$Q846=\"EFG\",$Q846=\"mono-LGBC\"),1,IF(OR($Q846=\"µc-Si / a-Si\",$Q846=\"a-Si (single)\",$Q846=\"a-Si (tandem)\",$Q846=\"a-Si (triple)\"),3,2))))","v":1},{"$f":"IF($O846=\"Sunpower Corp.\",3,(IF(OR($Q846=\"mono\",$Q846=\"poly\",$Q846=\"HIT\",$Q846=\"EFG\",$Q846=\"mono-LGBC\"),1,2)))","v":1},{"$f":"IF($O846=\"Sunpower Corp.\",3,(IF(OR($Q846=\"mono\",$Q846=\"poly\",$Q846=\"HIT\",$Q846=\"EFG\",$Q846=\"mono-LGBC\"),1,IF(OR($Q846=\"µc-Si / a-Si\",$Q846=\"a-Si (single)\",$Q846=\"a-Si (tandem)\",$Q846=\"a-Si (triple)\"),3,2))))","v":1},0,null,null,15105,null,null,844]
["asola Advanced and Automotive Solar Systems asola 260W/72-156p","asola Advanced and Automotive Solar Systems ","asola 260W/72-156p",260,"+1,9...",36,7.27,44.06,7.76,-145.398,4.1903999999999995,-0.43,1000,"Germany",null,13.270649909973145,"poly",72,"square",1979,990,50,"aluminum","junction box MC4",26.6,"www.asola-power.com","-","-","-","-","-",{"$f":"IF($O847=\"Sunpower Corp.\",3,(IF(OR($Q847=\"mono\",$Q847=\"poly\",$Q847=\"HIT\",$Q847=\"EFG\",$Q847=\"mono-LGBC\"),1,IF(OR($Q847=\"µc-Si / a-Si\",$Q847=\"a-Si (single)\",$Q847=\"a-Si (tandem)\",$Q847=\"a-Si (triple)\"),3,2))))","v":1},{"$f":"IF($O847=\"Sunpower Corp.\",3,(IF(OR($Q847=\"mono\",$Q847=\"poly\",$Q847=\"HIT\",$Q847=\"EFG\",$Q847=\"mono-LGBC\"),1,2)))","v":1},{"$f":"IF($O847=\"Sunpower Corp.\",3,(IF(OR($Q847=\"mono\",$Q847=\"poly\",$Q847=\"HIT\",$Q847=\"EFG\",$Q847=\"mono-LGBC\"),1,IF(OR($Q847=\"µc-Si / a-Si\",$Q847=\"a-Si (single)\",$Q847=\"a-Si (tandem)\",$Q847=\"a-Si (triple)\"),3,2))))","v":1},0,null,null,8940,null,null,845]
["asola Advanced and Automotive Solar Systems asola 265W/72-156p","asola Advanced and Automotive Solar Systems ","asola 265W/72-156p",265,"+1,9...",36,7.37,44.12,7.85,-145.596,4.2389999999999999,-0.43,1000,"Germany",null,13.525859832763672,"poly",72,"square",1979,990,50,"aluminum","junction box MC4",26.6,"www.asola-power.com","-","-","-","-","-",{"$f":"IF($O848=\"Sunpower Corp.\",3,(IF(OR($Q848=\"mono\",$Q848=\"poly\",$Q848=\"HIT\",$Q848=\"EFG\",$Q848=\"mono-LGBC\"),1,IF(OR($Q848=\"µc-Si / a-Si\",$Q848=\"a-Si (single)\",$Q848=\"a-Si (tandem)\",$Q848=\"a-Si (triple)\"),3,2))))","v":1},{"$f":"IF($O848=\"Sunpower Corp.\",3,(IF(OR($Q848=\"mono\",$Q848=\"poly\",$Q848=\"HIT\",$Q848=\"EFG\",$Q848=\"mono-LGBC\"),1,2)))","v":1},{"$f":"IF($O848=\"Sunpower Corp.\",3,(IF(OR($Q848=\"mono\",$Q848=\"poly\",$Q848=\"HIT\",$Q848=\"EFG\",$Q848=\"mono-LGBC\"),1,IF(OR($Q848=\"µc-Si / a-Si\",$Q848=\"a-Si (single)\",$Q848=\"a-Si (tandem)\",$Q848=\"a-Si (triple)\"),3,2))))","v":1},0,null,null,15106,null,null,846]
["asola Advanced and Automotive Solar Systems asola 270W/72-156m","asola Advanced and Automotive Solar Systems ","asola 270W/72-156m",270,"+1,9...",36.86,7.38,43.97,7.98,-158.292,2.7132000000000001,-0.48,1000,"Germany",null,13.781060218811035,"mono",72,"pseudo-square",1979,990,50,"aluminum","junction box MC4",26.6,"www.asola-power.com","-","-","-","-","-",{"$f":"IF($O849=\"Sunpower Corp.\",3,(IF(OR($Q849=\"mono\",$Q849=\"poly\",$Q849=\"HIT\",$Q849=\"EFG\",$Q849=\"mono-LGBC\"),1,IF(OR($Q849=\"µc-Si / a-Si\",$Q849=\"a-Si (single)\",$Q849=\"a-Si (tandem)\",$Q849=\"a-Si (triple)\"),3,2))))","v":1},{"$f":"IF($O849=\"Sunpower Corp.\",3,(IF(OR($Q849=\"mono\",$Q849=\"poly\",$Q849=\"HIT\",$Q849=\"EFG\",$Q849=\"mono-LGBC\"),1,2)))","v":1},{"$f":"IF($O849=\"Sunpower Corp.\",3,(IF(OR($Q849=\"mono\",$Q849=\"poly\",$Q849=\"HIT\",$Q849=\"EFG\",$Q849=\"mono-LGBC\"),1,IF(OR($Q849=\"µc-Si / a-Si\",$Q849=\"a-Si (single)\",$Q849=\"a-Si (tandem)\",$Q849=\"a-Si (triple)\"),3,2))))","v":1},0,null,null,5285,null,null,847]
["asola Advanced and Automotive Solar Systems asola 270W/72-156p","asola Advanced and Automotive Solar Systems ","asola 270W/72-156p",270,"+1,9...",36,7.57,44.28,8.0500000000000007,-146.124,4.3470000000000004,-0.43,1000,"Germany",null,13.781060218811035,"poly",72,"square",1979,990,50,"aluminum","junction box MC4",26.6,"www.asola-power.com","-","-","-","-","-",{"$f":"IF($O850=\"Sunpower Corp.\",3,(IF(OR($Q850=\"mono\",$Q850=\"poly\",$Q850=\"HIT\",$Q850=\"EFG\",$Q850=\"mono-LGBC\"),1,IF(OR($Q850=\"µc-Si / a-Si\",$Q850=\"a-Si (single)\",$Q850=\"a-Si (tandem)\",$Q850=\"a-Si (triple)\"),3,2))))","v":1},{"$f":"IF($O850=\"Sunpower Corp.\",3,(IF(OR($Q850=\"mono\",$Q850=\"poly\",$Q850=\"HIT\",$Q850=\"EFG\",$Q850=\"mono-LGBC\"),1,2)))","v":1},{"$f":"IF($O850=\"Sunpower Corp.\",3,(IF(OR($Q850=\"mono\",$Q850=\"poly\",$Q850=\"HIT\",$Q850=\"EFG\",$Q850=\"mono-LGBC\"),1,IF(OR($Q850=\"µc-Si / a-Si\",$Q850=\"a-Si (single)\",$Q850=\"a-Si (tandem)\",$Q850=\"a-Si (triple)\"),3,2))))","v":1},0,null,null,5284,null,null,848]
["asola Advanced and Automotive Solar Systems asola 275W/72-156m","asola Advanced and Automotive Solar Systems ","asola 275W/72-156m",275,"+1,8...",36.86,7.47,44.21,8.0299999999999994,-159.15600000000001,2.4089999999999998,-0.48,1000,"Germany",null,14.036270141601563,"mono",72,"pseudo-square",1979,990,50,"aluminum","junction box MC4",26.6,"www.asola-power.com","-","-","-","-","-",{"$f":"IF($O851=\"Sunpower Corp.\",3,(IF(OR($Q851=\"mono\",$Q851=\"poly\",$Q851=\"HIT\",$Q851=\"EFG\",$Q851=\"mono-LGBC\"),1,IF(OR($Q851=\"µc-Si / a-Si\",$Q851=\"a-Si (single)\",$Q851=\"a-Si (tandem)\",$Q851=\"a-Si (triple)\"),3,2))))","v":1},{"$f":"IF($O851=\"Sunpower Corp.\",3,(IF(OR($Q851=\"mono\",$Q851=\"poly\",$Q851=\"HIT\",$Q851=\"EFG\",$Q851=\"mono-LGBC\"),1,2)))","v":1},{"$f":"IF($O851=\"Sunpower Corp.\",3,(IF(OR($Q851=\"mono\",$Q851=\"poly\",$Q851=\"HIT\",$Q851=\"EFG\",$Q851=\"mono-LGBC\"),1,IF(OR($Q851=\"µc-Si / a-Si\",$Q851=\"a-Si (single)\",$Q851=\"a-Si (tandem)\",$Q851=\"a-Si (triple)\"),3,2))))","v":1},0,null,null,15101,null,null,849]
["asola Advanced and Automotive Solar Systems asola 275W/72-156p","asola Advanced and Automotive Solar Systems ","asola 275W/72-156p",275,"+1,8...",36,7.75,44.53,8.08,-146.94899999999998,4.3632,-0.43,1000,"Germany",null,14.036270141601563,"poly",72,"square",1979,990,50,"aluminum","junction box MC4",26.6,"www.asola-power.com","-","-","-","-","-",{"$f":"IF($O852=\"Sunpower Corp.\",3,(IF(OR($Q852=\"mono\",$Q852=\"poly\",$Q852=\"HIT\",$Q852=\"EFG\",$Q852=\"mono-LGBC\"),1,IF(OR($Q852=\"µc-Si / a-Si\",$Q852=\"a-Si (single)\",$Q852=\"a-Si (tandem)\",$Q852=\"a-Si (triple)\"),3,2))))","v":1},{"$f":"IF($O852=\"Sunpower Corp.\",3,(IF(OR($Q852=\"mono\",$Q852=\"poly\",$Q852=\"HIT\",$Q852=\"EFG\",$Q852=\"mono-LGBC\"),1,2)))","v":1},{"$f":"IF($O852=\"Sunpower Corp.\",3,(IF(OR($Q852=\"mono\",$Q852=\"poly\",$Q852=\"HIT\",$Q852=\"EFG\",$Q852=\"mono-LGBC\"),1,IF(OR($Q852=\"µc-Si / a-Si\",$Q852=\"a-Si (single)\",$Q852=\"a-Si (tandem)\",$Q852=\"a-Si (triple)\"),3,2))))","v":1},0,null,null,15107,null,null,850]
["asola Advanced and Automotive Solar Systems asola 280W/72-156m","asola Advanced and Automotive Solar Systems ","asola 280W/72-156m",280,"+1,8...",37.1,7.62,44.38,8.17,-159.768,2.7778,-0.48,1000,"Germany",null,14.291469573974609,"mono",72,"pseudo-square",1979,990,50,"aluminum","junction box MC4",26.6,"www.asola-power.com","-","-","-","-","-",{"$f":"IF($O853=\"Sunpower Corp.\",3,(IF(OR($Q853=\"mono\",$Q853=\"poly\",$Q853=\"HIT\",$Q853=\"EFG\",$Q853=\"mono-LGBC\"),1,IF(OR($Q853=\"µc-Si / a-Si\",$Q853=\"a-Si (single)\",$Q853=\"a-Si (tandem)\",$Q853=\"a-Si (triple)\"),3,2))))","v":1},{"$f":"IF($O853=\"Sunpower Corp.\",3,(IF(OR($Q853=\"mono\",$Q853=\"poly\",$Q853=\"HIT\",$Q853=\"EFG\",$Q853=\"mono-LGBC\"),1,2)))","v":1},{"$f":"IF($O853=\"Sunpower Corp.\",3,(IF(OR($Q853=\"mono\",$Q853=\"poly\",$Q853=\"HIT\",$Q853=\"EFG\",$Q853=\"mono-LGBC\"),1,IF(OR($Q853=\"µc-Si / a-Si\",$Q853=\"a-Si (single)\",$Q853=\"a-Si (tandem)\",$Q853=\"a-Si (triple)\"),3,2))))","v":1},0,null,null,8936,null,null,851]
["asola Advanced and Automotive Solar Systems asola 280W/72-156p","asola Advanced and Automotive Solar Systems ","asola 280W/72-156p",280,"+1,8...",36,7.8,44.64,8.15,-147.31200000000001,4.4010000000000007,-0.43,1000,"Germany",null,14.291469573974609,"poly",72,"square",1979,990,50,"aluminum","junction box MC4",26.6,"www.asola-power.com","-","-","-","-","-",{"$f":"IF($O854=\"Sunpower Corp.\",3,(IF(OR($Q854=\"mono\",$Q854=\"poly\",$Q854=\"HIT\",$Q854=\"EFG\",$Q854=\"mono-LGBC\"),1,IF(OR($Q854=\"µc-Si / a-Si\",$Q854=\"a-Si (single)\",$Q854=\"a-Si (tandem)\",$Q854=\"a-Si (triple)\"),3,2))))","v":1},{"$f":"IF($O854=\"Sunpower Corp.\",3,(IF(OR($Q854=\"mono\",$Q854=\"poly\",$Q854=\"HIT\",$Q854=\"EFG\",$Q854=\"mono-LGBC\"),1,2)))","v":1},{"$f":"IF($O854=\"Sunpower Corp.\",3,(IF(OR($Q854=\"mono\",$Q854=\"poly\",$Q854=\"HIT\",$Q854=\"EFG\",$Q854=\"mono-LGBC\"),1,IF(OR($Q854=\"µc-Si / a-Si\",$Q854=\"a-Si (single)\",$Q854=\"a-Si (tandem)\",$Q854=\"a-Si (triple)\"),3,2))))","v":1},0,null,null,8941,null,null,852]
["asola Advanced and Automotive Solar Systems asola 285W/72-156m","asola Advanced and Automotive Solar Systems ","asola 285W/72-156m",285,"+1,8...",37.22,7.7,44.45,8.26,-160.02000000000001,2.8083999999999998,-0.48,1000,"Germany",null,14.546680450439453,"mono",72,"pseudo-square",1979,990,50,"aluminum","junction box MC4",26.6,"www.asola-power.com","-","-","-","-","-",{"$f":"IF($O855=\"Sunpower Corp.\",3,(IF(OR($Q855=\"mono\",$Q855=\"poly\",$Q855=\"HIT\",$Q855=\"EFG\",$Q855=\"mono-LGBC\"),1,IF(OR($Q855=\"µc-Si / a-Si\",$Q855=\"a-Si (single)\",$Q855=\"a-Si (tandem)\",$Q855=\"a-Si (triple)\"),3,2))))","v":1},{"$f":"IF($O855=\"Sunpower Corp.\",3,(IF(OR($Q855=\"mono\",$Q855=\"poly\",$Q855=\"HIT\",$Q855=\"EFG\",$Q855=\"mono-LGBC\"),1,2)))","v":1},{"$f":"IF($O855=\"Sunpower Corp.\",3,(IF(OR($Q855=\"mono\",$Q855=\"poly\",$Q855=\"HIT\",$Q855=\"EFG\",$Q855=\"mono-LGBC\"),1,IF(OR($Q855=\"µc-Si / a-Si\",$Q855=\"a-Si (single)\",$Q855=\"a-Si (tandem)\",$Q855=\"a-Si (triple)\"),3,2))))","v":1},0,null,null,15102,null,null,853]
["asola Advanced and Automotive Solar Systems asola 290W/72-156m","asola Advanced and Automotive Solar Systems ","asola 290W/72-156m",290,"+1,7...",37.44,7.83,44.71,8.3800000000000008,-160.95599999999999,2.8492000000000006,-0.48,1000,"Germany",null,14.8018798828125,"mono",72,"pseudo-square",1979,990,50,"aluminum","junction box MC4",26.6,"www.asola-power.com","-","-","-","-","-",{"$f":"IF($O856=\"Sunpower Corp.\",3,(IF(OR($Q856=\"mono\",$Q856=\"poly\",$Q856=\"HIT\",$Q856=\"EFG\",$Q856=\"mono-LGBC\"),1,IF(OR($Q856=\"µc-Si / a-Si\",$Q856=\"a-Si (single)\",$Q856=\"a-Si (tandem)\",$Q856=\"a-Si (triple)\"),3,2))))","v":1},{"$f":"IF($O856=\"Sunpower Corp.\",3,(IF(OR($Q856=\"mono\",$Q856=\"poly\",$Q856=\"HIT\",$Q856=\"EFG\",$Q856=\"mono-LGBC\"),1,2)))","v":1},{"$f":"IF($O856=\"Sunpower Corp.\",3,(IF(OR($Q856=\"mono\",$Q856=\"poly\",$Q856=\"HIT\",$Q856=\"EFG\",$Q856=\"mono-LGBC\"),1,IF(OR($Q856=\"µc-Si / a-Si\",$Q856=\"a-Si (single)\",$Q856=\"a-Si (tandem)\",$Q856=\"a-Si (triple)\"),3,2))))","v":1},0,null,null,8937,null,null,854]
["asola Advanced and Automotive Solar Systems asola 295W/72-156m","asola Advanced and Automotive Solar Systems ","asola 295W/72-156m",295,"+1,7...",37.44,7.9,44.93,8.4499999999999993,-161.74799999999999,2.8730000000000002,-0.48,1000,"Germany",null,15.057089805603027,"mono",72,"pseudo-square",1979,990,50,"aluminum","junction box MC4",26.6,"www.asola-power.com","-","-","-","-","-",{"$f":"IF($O857=\"Sunpower Corp.\",3,(IF(OR($Q857=\"mono\",$Q857=\"poly\",$Q857=\"HIT\",$Q857=\"EFG\",$Q857=\"mono-LGBC\"),1,IF(OR($Q857=\"µc-Si / a-Si\",$Q857=\"a-Si (single)\",$Q857=\"a-Si (tandem)\",$Q857=\"a-Si (triple)\"),3,2))))","v":1},{"$f":"IF($O857=\"Sunpower Corp.\",3,(IF(OR($Q857=\"mono\",$Q857=\"poly\",$Q857=\"HIT\",$Q857=\"EFG\",$Q857=\"mono-LGBC\"),1,2)))","v":1},{"$f":"IF($O857=\"Sunpower Corp.\",3,(IF(OR($Q857=\"mono\",$Q857=\"poly\",$Q857=\"HIT\",$Q857=\"EFG\",$Q857=\"mono-LGBC\"),1,IF(OR($Q857=\"µc-Si / a-Si\",$Q857=\"a-Si (single)\",$Q857=\"a-Si (tandem)\",$Q857=\"a-Si (triple)\"),3,2))))","v":1},0,null,null,15103,null,null,855]
["asola Advanced and Automotive Solar Systems asola 300W/72-156m","asola Advanced and Automotive Solar Systems ","asola 300W/72-156m",300,"+1,7...",37.44,8.1,45.36,8.5500000000000007,-163.29599999999999,2.9070000000000005,-0.48,1000,"Germany",null,15.312290191650391,"mono",72,"pseudo-square",1979,990,50,"aluminum","junction box MC4",26.6,"www.asola-power.com","-","-","-","-","-",{"$f":"IF($O858=\"Sunpower Corp.\",3,(IF(OR($Q858=\"mono\",$Q858=\"poly\",$Q858=\"HIT\",$Q858=\"EFG\",$Q858=\"mono-LGBC\"),1,IF(OR($Q858=\"µc-Si / a-Si\",$Q858=\"a-Si (single)\",$Q858=\"a-Si (tandem)\",$Q858=\"a-Si (triple)\"),3,2))))","v":1},{"$f":"IF($O858=\"Sunpower Corp.\",3,(IF(OR($Q858=\"mono\",$Q858=\"poly\",$Q858=\"HIT\",$Q858=\"EFG\",$Q858=\"mono-LGBC\"),1,2)))","v":1},{"$f":"IF($O858=\"Sunpower Corp.\",3,(IF(OR($Q858=\"mono\",$Q858=\"poly\",$Q858=\"HIT\",$Q858=\"EFG\",$Q858=\"mono-LGBC\"),1,IF(OR($Q858=\"µc-Si / a-Si\",$Q858=\"a-Si (single)\",$Q858=\"a-Si (tandem)\",$Q858=\"a-Si (triple)\"),3,2))))","v":1},0,null,null,15104,null,null,856]
["AS-Technology S.r.l. AS 602 P (250W)","AS-Technology S.r.l. ","AS 602 P (250W)",250,"+3...-3",31.1,8.0399999999999991,38.159999999999997,8.56,-122.11199999999999,4.5367999999999995,-0.41,1000,null,null,15.099539756774902,"poly",60,"square",1664,995,40,"aluminum","junction box",23,null,"-","-","-","-","-",{"$f":"IF($O859=\"Sunpower Corp.\",3,(IF(OR($Q859=\"mono\",$Q859=\"poly\",$Q859=\"HIT\",$Q859=\"EFG\",$Q859=\"mono-LGBC\"),1,IF(OR($Q859=\"µc-Si / a-Si\",$Q859=\"a-Si (single)\",$Q859=\"a-Si (tandem)\",$Q859=\"a-Si (triple)\"),3,2))))","v":1},{"$f":"IF($O859=\"Sunpower Corp.\",3,(IF(OR($Q859=\"mono\",$Q859=\"poly\",$Q859=\"HIT\",$Q859=\"EFG\",$Q859=\"mono-LGBC\"),1,2)))","v":1},{"$f":"IF($O859=\"Sunpower Corp.\",3,(IF(OR($Q859=\"mono\",$Q859=\"poly\",$Q859=\"HIT\",$Q859=\"EFG\",$Q859=\"mono-LGBC\"),1,IF(OR($Q859=\"µc-Si / a-Si\",$Q859=\"a-Si (single)\",$Q859=\"a-Si (tandem)\",$Q859=\"a-Si (triple)\"),3,2))))","v":1},0,null,null,29085,null,null,857]
["AS-Technology S.r.l. AS 602 PX (220W)","AS-Technology S.r.l. ","AS 602 PX (220W)",220,"+3...-3",29.8,7.4,36.5,8.14,-124.1,4.8840000000000003,-0.47,1000,null,null,13.343810081481934,"poly",60,"square",1662,992,40,"aluminum","junction box MC4",20,"www.as-technologysrl.com","-","-","-","-","-",{"$f":"IF($O860=\"Sunpower Corp.\",3,(IF(OR($Q860=\"mono\",$Q860=\"poly\",$Q860=\"HIT\",$Q860=\"EFG\",$Q860=\"mono-LGBC\"),1,IF(OR($Q860=\"µc-Si / a-Si\",$Q860=\"a-Si (single)\",$Q860=\"a-Si (tandem)\",$Q860=\"a-Si (triple)\"),3,2))))","v":1},{"$f":"IF($O860=\"Sunpower Corp.\",3,(IF(OR($Q860=\"mono\",$Q860=\"poly\",$Q860=\"HIT\",$Q860=\"EFG\",$Q860=\"mono-LGBC\"),1,2)))","v":1},{"$f":"IF($O860=\"Sunpower Corp.\",3,(IF(OR($Q860=\"mono\",$Q860=\"poly\",$Q860=\"HIT\",$Q860=\"EFG\",$Q860=\"mono-LGBC\"),1,IF(OR($Q860=\"µc-Si / a-Si\",$Q860=\"a-Si (single)\",$Q860=\"a-Si (tandem)\",$Q860=\"a-Si (triple)\"),3,2))))","v":1},0,null,null,18340,null,null,858]
["AS-Technology S.r.l. AS 602 PX (230W)","AS-Technology S.r.l. ","AS 602 PX (230W)",230,"+3...-3",29.9,7.68,36.799999999999997,8.34,-125.12,5.0039999999999996,-0.47,1000,null,null,13.950349807739258,"poly",60,"square",1662,992,40,"aluminum","junction box MC4",20,"www.as-technologysrl.com","-","-","-","-","-",{"$f":"IF($O861=\"Sunpower Corp.\",3,(IF(OR($Q861=\"mono\",$Q861=\"poly\",$Q861=\"HIT\",$Q861=\"EFG\",$Q861=\"mono-LGBC\"),1,IF(OR($Q861=\"µc-Si / a-Si\",$Q861=\"a-Si (single)\",$Q861=\"a-Si (tandem)\",$Q861=\"a-Si (triple)\"),3,2))))","v":1},{"$f":"IF($O861=\"Sunpower Corp.\",3,(IF(OR($Q861=\"mono\",$Q861=\"poly\",$Q861=\"HIT\",$Q861=\"EFG\",$Q861=\"mono-LGBC\"),1,2)))","v":1},{"$f":"IF($O861=\"Sunpower Corp.\",3,(IF(OR($Q861=\"mono\",$Q861=\"poly\",$Q861=\"HIT\",$Q861=\"EFG\",$Q861=\"mono-LGBC\"),1,IF(OR($Q861=\"µc-Si / a-Si\",$Q861=\"a-Si (single)\",$Q861=\"a-Si (tandem)\",$Q861=\"a-Si (triple)\"),3,2))))","v":1},0,null,null,18341,null,null,859]
["AS-Technology S.r.l. AS 603 M (240W)","AS-Technology S.r.l. ","AS 603 M (240W)",240,"+3...-3",30.98,7.75,37.200000000000003,8.52,-119.04,3.0671999999999997,-0.43,1000,null,null,14.495550155639648,"mono",60,"pseudo-square",1664,995,40,"aluminum","junction box Tyco",23,"www.as-technologysrl.com","-","-","-","-","-",{"$f":"IF($O862=\"Sunpower Corp.\",3,(IF(OR($Q862=\"mono\",$Q862=\"poly\",$Q862=\"HIT\",$Q862=\"EFG\",$Q862=\"mono-LGBC\"),1,IF(OR($Q862=\"µc-Si / a-Si\",$Q862=\"a-Si (single)\",$Q862=\"a-Si (tandem)\",$Q862=\"a-Si (triple)\"),3,2))))","v":1},{"$f":"IF($O862=\"Sunpower Corp.\",3,(IF(OR($Q862=\"mono\",$Q862=\"poly\",$Q862=\"HIT\",$Q862=\"EFG\",$Q862=\"mono-LGBC\"),1,2)))","v":1},{"$f":"IF($O862=\"Sunpower Corp.\",3,(IF(OR($Q862=\"mono\",$Q862=\"poly\",$Q862=\"HIT\",$Q862=\"EFG\",$Q862=\"mono-LGBC\"),1,IF(OR($Q862=\"µc-Si / a-Si\",$Q862=\"a-Si (single)\",$Q862=\"a-Si (tandem)\",$Q862=\"a-Si (triple)\"),3,2))))","v":1},0,null,null,18329,null,null,860]
["AS-Technology S.r.l. AS 603 M (250W)","AS-Technology S.r.l. ","AS 603 M (250W)",250,"+3...-3",31.19,8.02,37.799999999999997,8.75,-120.96,3.15,-0.43,1000,null,null,15.099539756774902,"mono",60,"pseudo-square",1664,995,40,"aluminum","junction box Tyco",23,"www.as-technologysrl.com","-","-","-","-","-",{"$f":"IF($O863=\"Sunpower Corp.\",3,(IF(OR($Q863=\"mono\",$Q863=\"poly\",$Q863=\"HIT\",$Q863=\"EFG\",$Q863=\"mono-LGBC\"),1,IF(OR($Q863=\"µc-Si / a-Si\",$Q863=\"a-Si (single)\",$Q863=\"a-Si (tandem)\",$Q863=\"a-Si (triple)\"),3,2))))","v":1},{"$f":"IF($O863=\"Sunpower Corp.\",3,(IF(OR($Q863=\"mono\",$Q863=\"poly\",$Q863=\"HIT\",$Q863=\"EFG\",$Q863=\"mono-LGBC\"),1,2)))","v":1},{"$f":"IF($O863=\"Sunpower Corp.\",3,(IF(OR($Q863=\"mono\",$Q863=\"poly\",$Q863=\"HIT\",$Q863=\"EFG\",$Q863=\"mono-LGBC\"),1,IF(OR($Q863=\"µc-Si / a-Si\",$Q863=\"a-Si (single)\",$Q863=\"a-Si (tandem)\",$Q863=\"a-Si (triple)\"),3,2))))","v":1},0,null,null,18330,null,null,861]
["AS-Technology S.r.l. AS 722 P (300W)","AS-Technology S.r.l. ","AS 722 P (300W)",300,"+3...-3",37.32,8.0399999999999991,45.67,8.56,-146.14400000000003,4.5367999999999995,-0.41,1000,null,null,15.227649688720703,"poly",72,"square",1980,995,40,"aluminum","junction box",26,"www.as-technologysrl.com","-","-","-","-","-",{"$f":"IF($O864=\"Sunpower Corp.\",3,(IF(OR($Q864=\"mono\",$Q864=\"poly\",$Q864=\"HIT\",$Q864=\"EFG\",$Q864=\"mono-LGBC\"),1,IF(OR($Q864=\"µc-Si / a-Si\",$Q864=\"a-Si (single)\",$Q864=\"a-Si (tandem)\",$Q864=\"a-Si (triple)\"),3,2))))","v":1},{"$f":"IF($O864=\"Sunpower Corp.\",3,(IF(OR($Q864=\"mono\",$Q864=\"poly\",$Q864=\"HIT\",$Q864=\"EFG\",$Q864=\"mono-LGBC\"),1,2)))","v":1},{"$f":"IF($O864=\"Sunpower Corp.\",3,(IF(OR($Q864=\"mono\",$Q864=\"poly\",$Q864=\"HIT\",$Q864=\"EFG\",$Q864=\"mono-LGBC\"),1,IF(OR($Q864=\"µc-Si / a-Si\",$Q864=\"a-Si (single)\",$Q864=\"a-Si (tandem)\",$Q864=\"a-Si (triple)\"),3,2))))","v":1},0,null,null,30219,null,null,862]
["AS-Technology S.r.l. AS 723 M (290W)","AS-Technology S.r.l. ","AS 723 M (290W)",290,"+3...-3",37.15,7.81,44.64,8.58,-142.84800000000001,3.0887999999999995,-0.43,1000,null,null,14.720069885253906,"mono",72,"pseudo-square",1980,995,40,"aluminum","junction box Tyco",26,"www.as-technologysrl.com","-","-","-","-","-",{"$f":"IF($O865=\"Sunpower Corp.\",3,(IF(OR($Q865=\"mono\",$Q865=\"poly\",$Q865=\"HIT\",$Q865=\"EFG\",$Q865=\"mono-LGBC\"),1,IF(OR($Q865=\"µc-Si / a-Si\",$Q865=\"a-Si (single)\",$Q865=\"a-Si (tandem)\",$Q865=\"a-Si (triple)\"),3,2))))","v":1},{"$f":"IF($O865=\"Sunpower Corp.\",3,(IF(OR($Q865=\"mono\",$Q865=\"poly\",$Q865=\"HIT\",$Q865=\"EFG\",$Q865=\"mono-LGBC\"),1,2)))","v":1},{"$f":"IF($O865=\"Sunpower Corp.\",3,(IF(OR($Q865=\"mono\",$Q865=\"poly\",$Q865=\"HIT\",$Q865=\"EFG\",$Q865=\"mono-LGBC\"),1,IF(OR($Q865=\"µc-Si / a-Si\",$Q865=\"a-Si (single)\",$Q865=\"a-Si (tandem)\",$Q865=\"a-Si (triple)\"),3,2))))","v":1},0,null,null,18327,null,null,863]
["AS-Technology S.r.l. AS 723 M (300W)","AS-Technology S.r.l. ","AS 723 M (300W)",300,"+3...-3",37.43,8.02,45.36,8.75,-145.15200000000002,3.15,-0.43,1000,null,null,15.227649688720703,"mono",72,"pseudo-square",1980,995,40,"aluminum","junction box Tyco",26,"www.as-technologysrl.com","-","-","-","-","-",{"$f":"IF($O866=\"Sunpower Corp.\",3,(IF(OR($Q866=\"mono\",$Q866=\"poly\",$Q866=\"HIT\",$Q866=\"EFG\",$Q866=\"mono-LGBC\"),1,IF(OR($Q866=\"µc-Si / a-Si\",$Q866=\"a-Si (single)\",$Q866=\"a-Si (tandem)\",$Q866=\"a-Si (triple)\"),3,2))))","v":1},{"$f":"IF($O866=\"Sunpower Corp.\",3,(IF(OR($Q866=\"mono\",$Q866=\"poly\",$Q866=\"HIT\",$Q866=\"EFG\",$Q866=\"mono-LGBC\"),1,2)))","v":1},{"$f":"IF($O866=\"Sunpower Corp.\",3,(IF(OR($Q866=\"mono\",$Q866=\"poly\",$Q866=\"HIT\",$Q866=\"EFG\",$Q866=\"mono-LGBC\"),1,IF(OR($Q866=\"µc-Si / a-Si\",$Q866=\"a-Si (single)\",$Q866=\"a-Si (tandem)\",$Q866=\"a-Si (triple)\"),3,2))))","v":1},0,null,null,18328,null,null,864]
["ASTOM AG Swiss AS170M-72","ASTOM AG Swiss ","AS170M-72",170,"+3...-3",35.5,4.79,43.3,5.08,-151.55000000000001,2.54,-0.45,1000,"Switzerland",null,13.31620979309082,"mono",72,"pseudo-square",1580,808,40,null,"junction box MC4",15.5,"www.astomag.ch","-","-","-","-","-",{"$f":"IF($O867=\"Sunpower Corp.\",3,(IF(OR($Q867=\"mono\",$Q867=\"poly\",$Q867=\"HIT\",$Q867=\"EFG\",$Q867=\"mono-LGBC\"),1,IF(OR($Q867=\"µc-Si / a-Si\",$Q867=\"a-Si (single)\",$Q867=\"a-Si (tandem)\",$Q867=\"a-Si (triple)\"),3,2))))","v":1},{"$f":"IF($O867=\"Sunpower Corp.\",3,(IF(OR($Q867=\"mono\",$Q867=\"poly\",$Q867=\"HIT\",$Q867=\"EFG\",$Q867=\"mono-LGBC\"),1,2)))","v":1},{"$f":"IF($O867=\"Sunpower Corp.\",3,(IF(OR($Q867=\"mono\",$Q867=\"poly\",$Q867=\"HIT\",$Q867=\"EFG\",$Q867=\"mono-LGBC\"),1,IF(OR($Q867=\"µc-Si / a-Si\",$Q867=\"a-Si (single)\",$Q867=\"a-Si (tandem)\",$Q867=\"a-Si (triple)\"),3,2))))","v":1},0,null,null,24355,null,null,865]
["ASTOM AG Swiss AS175M-72","ASTOM AG Swiss ","AS175M-72",175,"+3...-3",36.200000000000003,4.8499999999999996,43.9,5.3,-153.65,2.65,-0.45,1000,"Switzerland",null,13.707859992980957,"mono",72,"pseudo-square",1580,808,40,null,"junction box MC4",15.5,"www.astomag.ch","-","-","-","-","-",{"$f":"IF($O868=\"Sunpower Corp.\",3,(IF(OR($Q868=\"mono\",$Q868=\"poly\",$Q868=\"HIT\",$Q868=\"EFG\",$Q868=\"mono-LGBC\"),1,IF(OR($Q868=\"µc-Si / a-Si\",$Q868=\"a-Si (single)\",$Q868=\"a-Si (tandem)\",$Q868=\"a-Si (triple)\"),3,2))))","v":1},{"$f":"IF($O868=\"Sunpower Corp.\",3,(IF(OR($Q868=\"mono\",$Q868=\"poly\",$Q868=\"HIT\",$Q868=\"EFG\",$Q868=\"mono-LGBC\"),1,2)))","v":1},{"$f":"IF($O868=\"Sunpower Corp.\",3,(IF(OR($Q868=\"mono\",$Q868=\"poly\",$Q868=\"HIT\",$Q868=\"EFG\",$Q868=\"mono-LGBC\"),1,IF(OR($Q868=\"µc-Si / a-Si\",$Q868=\"a-Si (single)\",$Q868=\"a-Si (tandem)\",$Q868=\"a-Si (triple)\"),3,2))))","v":1},0,null,null,24356,null,null,866]
["ASTOM AG Swiss AS180M-72","ASTOM AG Swiss ","AS180M-72",180,"+3...-3",36.799999999999997,4.9000000000000004,44.2,5.35,-154.69999999999999,2.6749999999999998,-0.45,1000,"Switzerland",null,14.099510192871094,"mono",72,"pseudo-square",1580,808,40,null,"junction box MC4",15.5,"www.astomag.ch","-","-","-","-","-",{"$f":"IF($O869=\"Sunpower Corp.\",3,(IF(OR($Q869=\"mono\",$Q869=\"poly\",$Q869=\"HIT\",$Q869=\"EFG\",$Q869=\"mono-LGBC\"),1,IF(OR($Q869=\"µc-Si / a-Si\",$Q869=\"a-Si (single)\",$Q869=\"a-Si (tandem)\",$Q869=\"a-Si (triple)\"),3,2))))","v":1},{"$f":"IF($O869=\"Sunpower Corp.\",3,(IF(OR($Q869=\"mono\",$Q869=\"poly\",$Q869=\"HIT\",$Q869=\"EFG\",$Q869=\"mono-LGBC\"),1,2)))","v":1},{"$f":"IF($O869=\"Sunpower Corp.\",3,(IF(OR($Q869=\"mono\",$Q869=\"poly\",$Q869=\"HIT\",$Q869=\"EFG\",$Q869=\"mono-LGBC\"),1,IF(OR($Q869=\"µc-Si / a-Si\",$Q869=\"a-Si (single)\",$Q869=\"a-Si (tandem)\",$Q869=\"a-Si (triple)\"),3,2))))","v":1},0,null,null,24357,null,null,867]
["ASTOM AG Swiss AS185M-72","ASTOM AG Swiss ","AS185M-72",185,"+3...-3",37.5,4.95,44.5,5.4,-155.75,2.7,-0.45,1000,"Switzerland",null,14.49116039276123,"mono",72,"pseudo-square",1580,808,40,null,"junction box MC4",15.5,"www.astomag.ch","-","-","-","-","-",{"$f":"IF($O870=\"Sunpower Corp.\",3,(IF(OR($Q870=\"mono\",$Q870=\"poly\",$Q870=\"HIT\",$Q870=\"EFG\",$Q870=\"mono-LGBC\"),1,IF(OR($Q870=\"µc-Si / a-Si\",$Q870=\"a-Si (single)\",$Q870=\"a-Si (tandem)\",$Q870=\"a-Si (triple)\"),3,2))))","v":1},{"$f":"IF($O870=\"Sunpower Corp.\",3,(IF(OR($Q870=\"mono\",$Q870=\"poly\",$Q870=\"HIT\",$Q870=\"EFG\",$Q870=\"mono-LGBC\"),1,2)))","v":1},{"$f":"IF($O870=\"Sunpower Corp.\",3,(IF(OR($Q870=\"mono\",$Q870=\"poly\",$Q870=\"HIT\",$Q870=\"EFG\",$Q870=\"mono-LGBC\"),1,IF(OR($Q870=\"µc-Si / a-Si\",$Q870=\"a-Si (single)\",$Q870=\"a-Si (tandem)\",$Q870=\"a-Si (triple)\"),3,2))))","v":1},0,null,null,24358,null,null,868]
["ASTOM AG Swiss AS190M-72","ASTOM AG Swiss ","AS190M-72",190,"+3...-3",36.5,5.21,44.5,5.52,-155.75,2.76,-0.45,1000,"Switzerland",null,14.882820129394531,"mono",72,"pseudo-square",1580,808,40,null,"junction box MC4",15.5,"www.astomag.ch","-","-","-","-","-",{"$f":"IF($O871=\"Sunpower Corp.\",3,(IF(OR($Q871=\"mono\",$Q871=\"poly\",$Q871=\"HIT\",$Q871=\"EFG\",$Q871=\"mono-LGBC\"),1,IF(OR($Q871=\"µc-Si / a-Si\",$Q871=\"a-Si (single)\",$Q871=\"a-Si (tandem)\",$Q871=\"a-Si (triple)\"),3,2))))","v":1},{"$f":"IF($O871=\"Sunpower Corp.\",3,(IF(OR($Q871=\"mono\",$Q871=\"poly\",$Q871=\"HIT\",$Q871=\"EFG\",$Q871=\"mono-LGBC\"),1,2)))","v":1},{"$f":"IF($O871=\"Sunpower Corp.\",3,(IF(OR($Q871=\"mono\",$Q871=\"poly\",$Q871=\"HIT\",$Q871=\"EFG\",$Q871=\"mono-LGBC\"),1,IF(OR($Q871=\"µc-Si / a-Si\",$Q871=\"a-Si (single)\",$Q871=\"a-Si (tandem)\",$Q871=\"a-Si (triple)\"),3,2))))","v":1},0,null,null,24359,null,null,869]
["ASTOM AG Swiss AS220P-60","ASTOM AG Swiss ","AS220P-60",220,"+3...-3",29,7.6,36.799999999999997,8.15,-128.80000000000001,4.0750000000000002,-0.45,1000,"Switzerland",null,13.440859794616699,"poly",60,"square",1650,992,50,null,"junction box MC4",19.5,"www.astomag.ch","-","-","-","-","-",{"$f":"IF($O872=\"Sunpower Corp.\",3,(IF(OR($Q872=\"mono\",$Q872=\"poly\",$Q872=\"HIT\",$Q872=\"EFG\",$Q872=\"mono-LGBC\"),1,IF(OR($Q872=\"µc-Si / a-Si\",$Q872=\"a-Si (single)\",$Q872=\"a-Si (tandem)\",$Q872=\"a-Si (triple)\"),3,2))))","v":1},{"$f":"IF($O872=\"Sunpower Corp.\",3,(IF(OR($Q872=\"mono\",$Q872=\"poly\",$Q872=\"HIT\",$Q872=\"EFG\",$Q872=\"mono-LGBC\"),1,2)))","v":1},{"$f":"IF($O872=\"Sunpower Corp.\",3,(IF(OR($Q872=\"mono\",$Q872=\"poly\",$Q872=\"HIT\",$Q872=\"EFG\",$Q872=\"mono-LGBC\"),1,IF(OR($Q872=\"µc-Si / a-Si\",$Q872=\"a-Si (single)\",$Q872=\"a-Si (tandem)\",$Q872=\"a-Si (triple)\"),3,2))))","v":1},0,null,null,24360,null,null,870]
["ASTOM AG Swiss AS225P-60","ASTOM AG Swiss ","AS225P-60",225,"+3...-3",29.4,7.66,36.9,8.1999999999999993,-129.15,4.0999999999999996,-0.45,1000,"Switzerland",null,13.746330261230469,"poly",60,"square",1650,992,50,null,"junction box MC4",19.5,"www.astomag.ch","-","-","-","-","-",{"$f":"IF($O873=\"Sunpower Corp.\",3,(IF(OR($Q873=\"mono\",$Q873=\"poly\",$Q873=\"HIT\",$Q873=\"EFG\",$Q873=\"mono-LGBC\"),1,IF(OR($Q873=\"µc-Si / a-Si\",$Q873=\"a-Si (single)\",$Q873=\"a-Si (tandem)\",$Q873=\"a-Si (triple)\"),3,2))))","v":1},{"$f":"IF($O873=\"Sunpower Corp.\",3,(IF(OR($Q873=\"mono\",$Q873=\"poly\",$Q873=\"HIT\",$Q873=\"EFG\",$Q873=\"mono-LGBC\"),1,2)))","v":1},{"$f":"IF($O873=\"Sunpower Corp.\",3,(IF(OR($Q873=\"mono\",$Q873=\"poly\",$Q873=\"HIT\",$Q873=\"EFG\",$Q873=\"mono-LGBC\"),1,IF(OR($Q873=\"µc-Si / a-Si\",$Q873=\"a-Si (single)\",$Q873=\"a-Si (tandem)\",$Q873=\"a-Si (triple)\"),3,2))))","v":1},0,null,null,24361,null,null,871]
["ASTOM AG Swiss AS230P-60","ASTOM AG Swiss ","AS230P-60",230,"+3...-3",29.8,7.72,37,8.26,-129.5,4.13,-0.45,1000,"Switzerland",null,14.051810264587402,"poly",60,"square",1650,992,50,null,"junction box MC4",19.5,"www.astomag.ch","-","-","-","-","-",{"$f":"IF($O874=\"Sunpower Corp.\",3,(IF(OR($Q874=\"mono\",$Q874=\"poly\",$Q874=\"HIT\",$Q874=\"EFG\",$Q874=\"mono-LGBC\"),1,IF(OR($Q874=\"µc-Si / a-Si\",$Q874=\"a-Si (single)\",$Q874=\"a-Si (tandem)\",$Q874=\"a-Si (triple)\"),3,2))))","v":1},{"$f":"IF($O874=\"Sunpower Corp.\",3,(IF(OR($Q874=\"mono\",$Q874=\"poly\",$Q874=\"HIT\",$Q874=\"EFG\",$Q874=\"mono-LGBC\"),1,2)))","v":1},{"$f":"IF($O874=\"Sunpower Corp.\",3,(IF(OR($Q874=\"mono\",$Q874=\"poly\",$Q874=\"HIT\",$Q874=\"EFG\",$Q874=\"mono-LGBC\"),1,IF(OR($Q874=\"µc-Si / a-Si\",$Q874=\"a-Si (single)\",$Q874=\"a-Si (tandem)\",$Q874=\"a-Si (triple)\"),3,2))))","v":1},0,null,null,24362,null,null,872]
["ASTOM AG Swiss AS235P-60","ASTOM AG Swiss ","AS235P-60",235,"+3...-3",30.1,7.81,37.1,8.31,-129.85,4.1550000000000002,-0.45,1000,"Switzerland",null,14.357279777526855,"poly",60,"square",1650,992,50,null,"junction box MC4",19.5,"www.astomag.ch","-","-","-","-","-",{"$f":"IF($O875=\"Sunpower Corp.\",3,(IF(OR($Q875=\"mono\",$Q875=\"poly\",$Q875=\"HIT\",$Q875=\"EFG\",$Q875=\"mono-LGBC\"),1,IF(OR($Q875=\"µc-Si / a-Si\",$Q875=\"a-Si (single)\",$Q875=\"a-Si (tandem)\",$Q875=\"a-Si (triple)\"),3,2))))","v":1},{"$f":"IF($O875=\"Sunpower Corp.\",3,(IF(OR($Q875=\"mono\",$Q875=\"poly\",$Q875=\"HIT\",$Q875=\"EFG\",$Q875=\"mono-LGBC\"),1,2)))","v":1},{"$f":"IF($O875=\"Sunpower Corp.\",3,(IF(OR($Q875=\"mono\",$Q875=\"poly\",$Q875=\"HIT\",$Q875=\"EFG\",$Q875=\"mono-LGBC\"),1,IF(OR($Q875=\"µc-Si / a-Si\",$Q875=\"a-Si (single)\",$Q875=\"a-Si (tandem)\",$Q875=\"a-Si (triple)\"),3,2))))","v":1},0,null,null,24363,null,null,873]
["ASTOM AG Swiss AS240P-60","ASTOM AG Swiss ","AS240P-60",240,"+3...-3",30.4,7.89,37.200000000000003,8.3699999999999992,-130.19999999999999,4.1849999999999996,-0.45,1000,"Switzerland",null,14.662759780883789,"poly",60,"square",1650,992,50,null,"junction box MC4",19.5,"www.astomag.ch","-","-","-","-","-",{"$f":"IF($O876=\"Sunpower Corp.\",3,(IF(OR($Q876=\"mono\",$Q876=\"poly\",$Q876=\"HIT\",$Q876=\"EFG\",$Q876=\"mono-LGBC\"),1,IF(OR($Q876=\"µc-Si / a-Si\",$Q876=\"a-Si (single)\",$Q876=\"a-Si (tandem)\",$Q876=\"a-Si (triple)\"),3,2))))","v":1},{"$f":"IF($O876=\"Sunpower Corp.\",3,(IF(OR($Q876=\"mono\",$Q876=\"poly\",$Q876=\"HIT\",$Q876=\"EFG\",$Q876=\"mono-LGBC\"),1,2)))","v":1},{"$f":"IF($O876=\"Sunpower Corp.\",3,(IF(OR($Q876=\"mono\",$Q876=\"poly\",$Q876=\"HIT\",$Q876=\"EFG\",$Q876=\"mono-LGBC\"),1,IF(OR($Q876=\"µc-Si / a-Si\",$Q876=\"a-Si (single)\",$Q876=\"a-Si (tandem)\",$Q876=\"a-Si (triple)\"),3,2))))","v":1},0,null,null,24364,null,null,874]
["Atersa A-135P","Atersa ","A-135P",135,"+5...-5",17.82,7.58,22.38,8.23,-71.616,6.5840000000000005,-0.38,1000,"Spain","diverse",13.879119873046875,"poly",36,"square",1476,659,35,"aluminum","junction box",12.8,"www.atersa.com","-","-","-","-","-",{"$f":"IF($O877=\"Sunpower Corp.\",3,(IF(OR($Q877=\"mono\",$Q877=\"poly\",$Q877=\"HIT\",$Q877=\"EFG\",$Q877=\"mono-LGBC\"),1,IF(OR($Q877=\"µc-Si / a-Si\",$Q877=\"a-Si (single)\",$Q877=\"a-Si (tandem)\",$Q877=\"a-Si (triple)\"),3,2))))","v":1},{"$f":"IF($O877=\"Sunpower Corp.\",3,(IF(OR($Q877=\"mono\",$Q877=\"poly\",$Q877=\"HIT\",$Q877=\"EFG\",$Q877=\"mono-LGBC\"),1,2)))","v":1},{"$f":"IF($O877=\"Sunpower Corp.\",3,(IF(OR($Q877=\"mono\",$Q877=\"poly\",$Q877=\"HIT\",$Q877=\"EFG\",$Q877=\"mono-LGBC\"),1,IF(OR($Q877=\"µc-Si / a-Si\",$Q877=\"a-Si (single)\",$Q877=\"a-Si (tandem)\",$Q877=\"a-Si (triple)\"),3,2))))","v":1},0,null,null,15171,null,null,875]
["Atersa A-170M","Atersa ","A-170M",170,"+3...-3",35.799999999999997,4.75,43.95,5.0999999999999996,-149.43,4.59,-0.37,1000,"Spain","Motech Industries",12.907609939575195,"mono",72,"pseudo-square",1618,814,35,"aluminum","junction box",14.8,"www.atersa.com","-","-","-","-","-",{"$f":"IF($O878=\"Sunpower Corp.\",3,(IF(OR($Q878=\"mono\",$Q878=\"poly\",$Q878=\"HIT\",$Q878=\"EFG\",$Q878=\"mono-LGBC\"),1,IF(OR($Q878=\"µc-Si / a-Si\",$Q878=\"a-Si (single)\",$Q878=\"a-Si (tandem)\",$Q878=\"a-Si (triple)\"),3,2))))","v":1},{"$f":"IF($O878=\"Sunpower Corp.\",3,(IF(OR($Q878=\"mono\",$Q878=\"poly\",$Q878=\"HIT\",$Q878=\"EFG\",$Q878=\"mono-LGBC\"),1,2)))","v":1},{"$f":"IF($O878=\"Sunpower Corp.\",3,(IF(OR($Q878=\"mono\",$Q878=\"poly\",$Q878=\"HIT\",$Q878=\"EFG\",$Q878=\"mono-LGBC\"),1,IF(OR($Q878=\"µc-Si / a-Si\",$Q878=\"a-Si (single)\",$Q878=\"a-Si (tandem)\",$Q878=\"a-Si (triple)\"),3,2))))","v":1},0,null,null,15172,null,null,876]
["Atersa A-170P","Atersa ","A-170P",170,"+3...-3",36.049999999999997,4.72,44.25,5,-150.44999999999999,4.5,-0.38,1000,"Spain","diverse",12.907609939575195,"poly",72,"square",1618,814,35,"aluminum","junction box",14.8,"www.atersa.com","-","-","-","-","-",{"$f":"IF($O879=\"Sunpower Corp.\",3,(IF(OR($Q879=\"mono\",$Q879=\"poly\",$Q879=\"HIT\",$Q879=\"EFG\",$Q879=\"mono-LGBC\"),1,IF(OR($Q879=\"µc-Si / a-Si\",$Q879=\"a-Si (single)\",$Q879=\"a-Si (tandem)\",$Q879=\"a-Si (triple)\"),3,2))))","v":1},{"$f":"IF($O879=\"Sunpower Corp.\",3,(IF(OR($Q879=\"mono\",$Q879=\"poly\",$Q879=\"HIT\",$Q879=\"EFG\",$Q879=\"mono-LGBC\"),1,2)))","v":1},{"$f":"IF($O879=\"Sunpower Corp.\",3,(IF(OR($Q879=\"mono\",$Q879=\"poly\",$Q879=\"HIT\",$Q879=\"EFG\",$Q879=\"mono-LGBC\"),1,IF(OR($Q879=\"µc-Si / a-Si\",$Q879=\"a-Si (single)\",$Q879=\"a-Si (tandem)\",$Q879=\"a-Si (triple)\"),3,2))))","v":1},0,null,null,7534,null,null,877]
["Atersa A-180M","Atersa ","A-180M",180,"+3...-3",36,5,44,5.3,-149.6,4.7699999999999996,-0.37,1000,"Spain","Motech Industries",13.666890144348145,"mono",72,"pseudo-square",1618,814,35,"aluminum","junction box",14.8,"www.atersa.com","-","-","-","-","-",{"$f":"IF($O880=\"Sunpower Corp.\",3,(IF(OR($Q880=\"mono\",$Q880=\"poly\",$Q880=\"HIT\",$Q880=\"EFG\",$Q880=\"mono-LGBC\"),1,IF(OR($Q880=\"µc-Si / a-Si\",$Q880=\"a-Si (single)\",$Q880=\"a-Si (tandem)\",$Q880=\"a-Si (triple)\"),3,2))))","v":1},{"$f":"IF($O880=\"Sunpower Corp.\",3,(IF(OR($Q880=\"mono\",$Q880=\"poly\",$Q880=\"HIT\",$Q880=\"EFG\",$Q880=\"mono-LGBC\"),1,2)))","v":1},{"$f":"IF($O880=\"Sunpower Corp.\",3,(IF(OR($Q880=\"mono\",$Q880=\"poly\",$Q880=\"HIT\",$Q880=\"EFG\",$Q880=\"mono-LGBC\"),1,IF(OR($Q880=\"µc-Si / a-Si\",$Q880=\"a-Si (single)\",$Q880=\"a-Si (tandem)\",$Q880=\"a-Si (triple)\"),3,2))))","v":1},0,null,null,15175,null,null,878]
["Atersa A-180P","Atersa ","A-180P",180,"+3...-3",36.15,5,44.3,5.0199999999999996,-150.62,4.5179999999999998,-0.38,1000,"Spain","diverse",13.666890144348145,"poly",72,"square",1618,814,35,"aluminum","junction box",14.8,"www.atersa.com","-","-","-","-","-",{"$f":"IF($O881=\"Sunpower Corp.\",3,(IF(OR($Q881=\"mono\",$Q881=\"poly\",$Q881=\"HIT\",$Q881=\"EFG\",$Q881=\"mono-LGBC\"),1,IF(OR($Q881=\"µc-Si / a-Si\",$Q881=\"a-Si (single)\",$Q881=\"a-Si (tandem)\",$Q881=\"a-Si (triple)\"),3,2))))","v":1},{"$f":"IF($O881=\"Sunpower Corp.\",3,(IF(OR($Q881=\"mono\",$Q881=\"poly\",$Q881=\"HIT\",$Q881=\"EFG\",$Q881=\"mono-LGBC\"),1,2)))","v":1},{"$f":"IF($O881=\"Sunpower Corp.\",3,(IF(OR($Q881=\"mono\",$Q881=\"poly\",$Q881=\"HIT\",$Q881=\"EFG\",$Q881=\"mono-LGBC\"),1,IF(OR($Q881=\"µc-Si / a-Si\",$Q881=\"a-Si (single)\",$Q881=\"a-Si (tandem)\",$Q881=\"a-Si (triple)\"),3,2))))","v":1},0,null,null,15176,null,null,879]
["Atersa A-214P","Atersa ","A-214P",214,"+2...-2",29.1,7.08,37,7.65,-129.5,3.8250000000000002,-0.46,1000,"Spain","diverse",13.140520095825195,"poly",60,"square",1645,990,50,"aluminum","junction box",21.5,"www.atersa.com","-","-","-","-","-",{"$f":"IF($O882=\"Sunpower Corp.\",3,(IF(OR($Q882=\"mono\",$Q882=\"poly\",$Q882=\"HIT\",$Q882=\"EFG\",$Q882=\"mono-LGBC\"),1,IF(OR($Q882=\"µc-Si / a-Si\",$Q882=\"a-Si (single)\",$Q882=\"a-Si (tandem)\",$Q882=\"a-Si (triple)\"),3,2))))","v":1},{"$f":"IF($O882=\"Sunpower Corp.\",3,(IF(OR($Q882=\"mono\",$Q882=\"poly\",$Q882=\"HIT\",$Q882=\"EFG\",$Q882=\"mono-LGBC\"),1,2)))","v":1},{"$f":"IF($O882=\"Sunpower Corp.\",3,(IF(OR($Q882=\"mono\",$Q882=\"poly\",$Q882=\"HIT\",$Q882=\"EFG\",$Q882=\"mono-LGBC\"),1,IF(OR($Q882=\"µc-Si / a-Si\",$Q882=\"a-Si (single)\",$Q882=\"a-Si (tandem)\",$Q882=\"a-Si (triple)\"),3,2))))","v":1},0,null,null,2900,null,null,880]
["Atersa A-222HP","Atersa ","A-222HP",222,"+3...0",29.32,7.57,36.42,8.17,-116.54400000000001,3.2680000000000002,-0.43,1000,"Spain",null,13.631759643554688,"poly",60,"square",1645,990,50,"aluminum","junction box H + S",21.5,"www.atersa.com","-","-","-","-","-",{"$f":"IF($O883=\"Sunpower Corp.\",3,(IF(OR($Q883=\"mono\",$Q883=\"poly\",$Q883=\"HIT\",$Q883=\"EFG\",$Q883=\"mono-LGBC\"),1,IF(OR($Q883=\"µc-Si / a-Si\",$Q883=\"a-Si (single)\",$Q883=\"a-Si (tandem)\",$Q883=\"a-Si (triple)\"),3,2))))","v":1},{"$f":"IF($O883=\"Sunpower Corp.\",3,(IF(OR($Q883=\"mono\",$Q883=\"poly\",$Q883=\"HIT\",$Q883=\"EFG\",$Q883=\"mono-LGBC\"),1,2)))","v":1},{"$f":"IF($O883=\"Sunpower Corp.\",3,(IF(OR($Q883=\"mono\",$Q883=\"poly\",$Q883=\"HIT\",$Q883=\"EFG\",$Q883=\"mono-LGBC\"),1,IF(OR($Q883=\"µc-Si / a-Si\",$Q883=\"a-Si (single)\",$Q883=\"a-Si (tandem)\",$Q883=\"a-Si (triple)\"),3,2))))","v":1},0,null,null,30839,null,null,881]
["Atersa A-222P","Atersa ","A-222P",222,"+2...-2",29.84,7.44,37.200000000000003,7.96,-130.19999999999999,3.98,-0.46,1000,"Spain","diverse",13.631759643554688,"poly",60,"square",1645,990,50,"aluminum","junction box",21.5,"www.atersa.com","-","-","-","-","-",{"$f":"IF($O884=\"Sunpower Corp.\",3,(IF(OR($Q884=\"mono\",$Q884=\"poly\",$Q884=\"HIT\",$Q884=\"EFG\",$Q884=\"mono-LGBC\"),1,IF(OR($Q884=\"µc-Si / a-Si\",$Q884=\"a-Si (single)\",$Q884=\"a-Si (tandem)\",$Q884=\"a-Si (triple)\"),3,2))))","v":1},{"$f":"IF($O884=\"Sunpower Corp.\",3,(IF(OR($Q884=\"mono\",$Q884=\"poly\",$Q884=\"HIT\",$Q884=\"EFG\",$Q884=\"mono-LGBC\"),1,2)))","v":1},{"$f":"IF($O884=\"Sunpower Corp.\",3,(IF(OR($Q884=\"mono\",$Q884=\"poly\",$Q884=\"HIT\",$Q884=\"EFG\",$Q884=\"mono-LGBC\"),1,IF(OR($Q884=\"µc-Si / a-Si\",$Q884=\"a-Si (single)\",$Q884=\"a-Si (tandem)\",$Q884=\"a-Si (triple)\"),3,2))))","v":1},0,null,null,2901,null,null,882]
["Atersa A-230HP","Atersa ","A-230HP",222,"+3...0",29.65,7.76,36.83,8.33,-117.85600000000001,3.3320000000000003,-0.43,1000,"Spain",null,13.631759643554688,"poly",60,"square",1645,990,50,"aluminum","junction box H + S",21.5,"www.atersa.com","-","-","-","-","-",{"$f":"IF($O885=\"Sunpower Corp.\",3,(IF(OR($Q885=\"mono\",$Q885=\"poly\",$Q885=\"HIT\",$Q885=\"EFG\",$Q885=\"mono-LGBC\"),1,IF(OR($Q885=\"µc-Si / a-Si\",$Q885=\"a-Si (single)\",$Q885=\"a-Si (tandem)\",$Q885=\"a-Si (triple)\"),3,2))))","v":1},{"$f":"IF($O885=\"Sunpower Corp.\",3,(IF(OR($Q885=\"mono\",$Q885=\"poly\",$Q885=\"HIT\",$Q885=\"EFG\",$Q885=\"mono-LGBC\"),1,2)))","v":1},{"$f":"IF($O885=\"Sunpower Corp.\",3,(IF(OR($Q885=\"mono\",$Q885=\"poly\",$Q885=\"HIT\",$Q885=\"EFG\",$Q885=\"mono-LGBC\"),1,IF(OR($Q885=\"µc-Si / a-Si\",$Q885=\"a-Si (single)\",$Q885=\"a-Si (tandem)\",$Q885=\"a-Si (triple)\"),3,2))))","v":1},0,null,null,30840,null,null,883]
["Atersa A-230P","Atersa ","A-230P",230,"+2...-2",30.2,7.62,37.4,8.1199999999999992,-130.9,4.0599999999999996,-0.46,1000,"Spain","diverse",14.122989654541016,"poly",60,"square",1645,990,50,"aluminum","junction box",21.5,"www.atersa.com","-","-","-","-","-",{"$f":"IF($O886=\"Sunpower Corp.\",3,(IF(OR($Q886=\"mono\",$Q886=\"poly\",$Q886=\"HIT\",$Q886=\"EFG\",$Q886=\"mono-LGBC\"),1,IF(OR($Q886=\"µc-Si / a-Si\",$Q886=\"a-Si (single)\",$Q886=\"a-Si (tandem)\",$Q886=\"a-Si (triple)\"),3,2))))","v":1},{"$f":"IF($O886=\"Sunpower Corp.\",3,(IF(OR($Q886=\"mono\",$Q886=\"poly\",$Q886=\"HIT\",$Q886=\"EFG\",$Q886=\"mono-LGBC\"),1,2)))","v":1},{"$f":"IF($O886=\"Sunpower Corp.\",3,(IF(OR($Q886=\"mono\",$Q886=\"poly\",$Q886=\"HIT\",$Q886=\"EFG\",$Q886=\"mono-LGBC\"),1,IF(OR($Q886=\"µc-Si / a-Si\",$Q886=\"a-Si (single)\",$Q886=\"a-Si (tandem)\",$Q886=\"a-Si (triple)\"),3,2))))","v":1},0,null,null,6942,null,null,884]
["Atersa A-238HP","Atersa ","A-238HP",238,"+3...0",29.96,7.94,37.22,8.49,-119.104,3.3960000000000004,-0.43,1000,"Spain",null,14.614230155944824,"poly",60,"square",1645,990,50,"aluminum","junction box H + S",21.5,"www.atersa.com","-","-","-","-","-",{"$f":"IF($O887=\"Sunpower Corp.\",3,(IF(OR($Q887=\"mono\",$Q887=\"poly\",$Q887=\"HIT\",$Q887=\"EFG\",$Q887=\"mono-LGBC\"),1,IF(OR($Q887=\"µc-Si / a-Si\",$Q887=\"a-Si (single)\",$Q887=\"a-Si (tandem)\",$Q887=\"a-Si (triple)\"),3,2))))","v":1},{"$f":"IF($O887=\"Sunpower Corp.\",3,(IF(OR($Q887=\"mono\",$Q887=\"poly\",$Q887=\"HIT\",$Q887=\"EFG\",$Q887=\"mono-LGBC\"),1,2)))","v":1},{"$f":"IF($O887=\"Sunpower Corp.\",3,(IF(OR($Q887=\"mono\",$Q887=\"poly\",$Q887=\"HIT\",$Q887=\"EFG\",$Q887=\"mono-LGBC\"),1,IF(OR($Q887=\"µc-Si / a-Si\",$Q887=\"a-Si (single)\",$Q887=\"a-Si (tandem)\",$Q887=\"a-Si (triple)\"),3,2))))","v":1},0,null,null,30841,null,null,885]
["Atersa A-238P","Atersa ","A-238P",238,"+2...-2",29.96,7.94,37.22,8.49,-119.104,3.3960000000000004,-0.43,1000,"Spain",null,14.614230155944824,"poly",60,"square",1645,990,50,"aluminum","junction box H + S",21.5,"www.atersa.com","-","-","-","-","-",{"$f":"IF($O888=\"Sunpower Corp.\",3,(IF(OR($Q888=\"mono\",$Q888=\"poly\",$Q888=\"HIT\",$Q888=\"EFG\",$Q888=\"mono-LGBC\"),1,IF(OR($Q888=\"µc-Si / a-Si\",$Q888=\"a-Si (single)\",$Q888=\"a-Si (tandem)\",$Q888=\"a-Si (triple)\"),3,2))))","v":1},{"$f":"IF($O888=\"Sunpower Corp.\",3,(IF(OR($Q888=\"mono\",$Q888=\"poly\",$Q888=\"HIT\",$Q888=\"EFG\",$Q888=\"mono-LGBC\"),1,2)))","v":1},{"$f":"IF($O888=\"Sunpower Corp.\",3,(IF(OR($Q888=\"mono\",$Q888=\"poly\",$Q888=\"HIT\",$Q888=\"EFG\",$Q888=\"mono-LGBC\"),1,IF(OR($Q888=\"µc-Si / a-Si\",$Q888=\"a-Si (single)\",$Q888=\"a-Si (tandem)\",$Q888=\"a-Si (triple)\"),3,2))))","v":1},0,null,null,30845,null,null,886]
["Atersa A-245M","Atersa ","A-245M",245,"+3...-3",30.1,8.14,37.479999999999997,8.74,-131.18,4.37,-0.46,1000,"Spain",null,15.044059753417969,"mono",60,"pseudo-square",1645,990,50,"aluminum","junction box H + S",21.5,"www.atersa.com","-","-","-","-","-",{"$f":"IF($O889=\"Sunpower Corp.\",3,(IF(OR($Q889=\"mono\",$Q889=\"poly\",$Q889=\"HIT\",$Q889=\"EFG\",$Q889=\"mono-LGBC\"),1,IF(OR($Q889=\"µc-Si / a-Si\",$Q889=\"a-Si (single)\",$Q889=\"a-Si (tandem)\",$Q889=\"a-Si (triple)\"),3,2))))","v":1},{"$f":"IF($O889=\"Sunpower Corp.\",3,(IF(OR($Q889=\"mono\",$Q889=\"poly\",$Q889=\"HIT\",$Q889=\"EFG\",$Q889=\"mono-LGBC\"),1,2)))","v":1},{"$f":"IF($O889=\"Sunpower Corp.\",3,(IF(OR($Q889=\"mono\",$Q889=\"poly\",$Q889=\"HIT\",$Q889=\"EFG\",$Q889=\"mono-LGBC\"),1,IF(OR($Q889=\"µc-Si / a-Si\",$Q889=\"a-Si (single)\",$Q889=\"a-Si (tandem)\",$Q889=\"a-Si (triple)\"),3,2))))","v":1},0,null,null,30837,null,null,887]
["Atersa A-250M","Atersa ","A-250M",250,"+3...-3",30.39,8.23,37.75,8.86,-120.8,3.544,-0.43,1000,"Spain",null,15.351079940795898,"mono",60,"pseudo-square",1645,990,50,"aluminum","junction box H + S",21.5,"www.atersa.com","-","-","-","-","-",{"$f":"IF($O890=\"Sunpower Corp.\",3,(IF(OR($Q890=\"mono\",$Q890=\"poly\",$Q890=\"HIT\",$Q890=\"EFG\",$Q890=\"mono-LGBC\"),1,IF(OR($Q890=\"µc-Si / a-Si\",$Q890=\"a-Si (single)\",$Q890=\"a-Si (tandem)\",$Q890=\"a-Si (triple)\"),3,2))))","v":1},{"$f":"IF($O890=\"Sunpower Corp.\",3,(IF(OR($Q890=\"mono\",$Q890=\"poly\",$Q890=\"HIT\",$Q890=\"EFG\",$Q890=\"mono-LGBC\"),1,2)))","v":1},{"$f":"IF($O890=\"Sunpower Corp.\",3,(IF(OR($Q890=\"mono\",$Q890=\"poly\",$Q890=\"HIT\",$Q890=\"EFG\",$Q890=\"mono-LGBC\"),1,IF(OR($Q890=\"µc-Si / a-Si\",$Q890=\"a-Si (single)\",$Q890=\"a-Si (tandem)\",$Q890=\"a-Si (triple)\"),3,2))))","v":1},0,null,null,30838,null,null,888]
["Atersa A-277P","Atersa ","A-277P",277,"+3...-3",36.26,7.64,45.32,8.14,-158.62,4.07,-0.46,1000,"Spain","diverse",14.239080429077148,"poly",72,"square",1965,990,50,"aluminum","junction box",24.2,"www.atersa.com","-","-","-","-","-",{"$f":"IF($O891=\"Sunpower Corp.\",3,(IF(OR($Q891=\"mono\",$Q891=\"poly\",$Q891=\"HIT\",$Q891=\"EFG\",$Q891=\"mono-LGBC\"),1,IF(OR($Q891=\"µc-Si / a-Si\",$Q891=\"a-Si (single)\",$Q891=\"a-Si (tandem)\",$Q891=\"a-Si (triple)\"),3,2))))","v":1},{"$f":"IF($O891=\"Sunpower Corp.\",3,(IF(OR($Q891=\"mono\",$Q891=\"poly\",$Q891=\"HIT\",$Q891=\"EFG\",$Q891=\"mono-LGBC\"),1,2)))","v":1},{"$f":"IF($O891=\"Sunpower Corp.\",3,(IF(OR($Q891=\"mono\",$Q891=\"poly\",$Q891=\"HIT\",$Q891=\"EFG\",$Q891=\"mono-LGBC\"),1,IF(OR($Q891=\"µc-Si / a-Si\",$Q891=\"a-Si (single)\",$Q891=\"a-Si (tandem)\",$Q891=\"a-Si (triple)\"),3,2))))","v":1},0,null,null,15178,null,null,889]
["Atersa A-280HP","Atersa ","A-280HP",280,"+3...0",35.71,7.84,44.37,8.39,-141.98400000000001,3.3560000000000003,-0.43,1000,"Spain",null,14.39330005645752,"poly",72,"square",1965,990,50,"aluminum","junction box H + S",24,"www.atersa.com","-","-","-","-","-",{"$f":"IF($O892=\"Sunpower Corp.\",3,(IF(OR($Q892=\"mono\",$Q892=\"poly\",$Q892=\"HIT\",$Q892=\"EFG\",$Q892=\"mono-LGBC\"),1,IF(OR($Q892=\"µc-Si / a-Si\",$Q892=\"a-Si (single)\",$Q892=\"a-Si (tandem)\",$Q892=\"a-Si (triple)\"),3,2))))","v":1},{"$f":"IF($O892=\"Sunpower Corp.\",3,(IF(OR($Q892=\"mono\",$Q892=\"poly\",$Q892=\"HIT\",$Q892=\"EFG\",$Q892=\"mono-LGBC\"),1,2)))","v":1},{"$f":"IF($O892=\"Sunpower Corp.\",3,(IF(OR($Q892=\"mono\",$Q892=\"poly\",$Q892=\"HIT\",$Q892=\"EFG\",$Q892=\"mono-LGBC\"),1,IF(OR($Q892=\"µc-Si / a-Si\",$Q892=\"a-Si (single)\",$Q892=\"a-Si (tandem)\",$Q892=\"a-Si (triple)\"),3,2))))","v":1},0,null,null,30842,null,null,890]
["Atersa A-280P","Atersa ","A-280P",280,"+2...-2",35.71,7.84,44.37,8.39,-141.98400000000001,3.3560000000000003,-0.43,1000,"Spain",null,14.39330005645752,"poly",72,"square",1965,990,50,"aluminum","junction box H + S",24,"www.atersa.com","-","-","-","-","-",{"$f":"IF($O893=\"Sunpower Corp.\",3,(IF(OR($Q893=\"mono\",$Q893=\"poly\",$Q893=\"HIT\",$Q893=\"EFG\",$Q893=\"mono-LGBC\"),1,IF(OR($Q893=\"µc-Si / a-Si\",$Q893=\"a-Si (single)\",$Q893=\"a-Si (tandem)\",$Q893=\"a-Si (triple)\"),3,2))))","v":1},{"$f":"IF($O893=\"Sunpower Corp.\",3,(IF(OR($Q893=\"mono\",$Q893=\"poly\",$Q893=\"HIT\",$Q893=\"EFG\",$Q893=\"mono-LGBC\"),1,2)))","v":1},{"$f":"IF($O893=\"Sunpower Corp.\",3,(IF(OR($Q893=\"mono\",$Q893=\"poly\",$Q893=\"HIT\",$Q893=\"EFG\",$Q893=\"mono-LGBC\"),1,IF(OR($Q893=\"µc-Si / a-Si\",$Q893=\"a-Si (single)\",$Q893=\"a-Si (tandem)\",$Q893=\"a-Si (triple)\"),3,2))))","v":1},0,null,null,30843,null,null,891]
["Atersa A-66P","Atersa ","A-66P",66,"+8...-8",17.8,3.7,22.25,4.05,-77.875,2.0249999999999999,-0.46,1000,"Spain","diverse",12.872980117797852,"poly",36,"square",778,659,35,"aluminum","junction box",6.2,"www.atersa.com","-","-","-","-","-",{"$f":"IF($O894=\"Sunpower Corp.\",3,(IF(OR($Q894=\"mono\",$Q894=\"poly\",$Q894=\"HIT\",$Q894=\"EFG\",$Q894=\"mono-LGBC\"),1,IF(OR($Q894=\"µc-Si / a-Si\",$Q894=\"a-Si (single)\",$Q894=\"a-Si (tandem)\",$Q894=\"a-Si (triple)\"),3,2))))","v":1},{"$f":"IF($O894=\"Sunpower Corp.\",3,(IF(OR($Q894=\"mono\",$Q894=\"poly\",$Q894=\"HIT\",$Q894=\"EFG\",$Q894=\"mono-LGBC\"),1,2)))","v":1},{"$f":"IF($O894=\"Sunpower Corp.\",3,(IF(OR($Q894=\"mono\",$Q894=\"poly\",$Q894=\"HIT\",$Q894=\"EFG\",$Q894=\"mono-LGBC\"),1,IF(OR($Q894=\"µc-Si / a-Si\",$Q894=\"a-Si (single)\",$Q894=\"a-Si (tandem)\",$Q894=\"a-Si (triple)\"),3,2))))","v":1},0,null,null,2897,null,null,892]
["Atersa A-85M","Atersa ","A-85M",85,"+8...-8",17.7,4.8,21.5,5.2,-73.099999999999994,4.68,-0.37,1000,"Spain","Motech Industries",12.812629699707031,"mono",36,"pseudo-square",1224,542,35,"aluminum","junction box",9,"www.atersa.com","-","-","-","-","-",{"$f":"IF($O895=\"Sunpower Corp.\",3,(IF(OR($Q895=\"mono\",$Q895=\"poly\",$Q895=\"HIT\",$Q895=\"EFG\",$Q895=\"mono-LGBC\"),1,IF(OR($Q895=\"µc-Si / a-Si\",$Q895=\"a-Si (single)\",$Q895=\"a-Si (tandem)\",$Q895=\"a-Si (triple)\"),3,2))))","v":1},{"$f":"IF($O895=\"Sunpower Corp.\",3,(IF(OR($Q895=\"mono\",$Q895=\"poly\",$Q895=\"HIT\",$Q895=\"EFG\",$Q895=\"mono-LGBC\"),1,2)))","v":1},{"$f":"IF($O895=\"Sunpower Corp.\",3,(IF(OR($Q895=\"mono\",$Q895=\"poly\",$Q895=\"HIT\",$Q895=\"EFG\",$Q895=\"mono-LGBC\"),1,IF(OR($Q895=\"µc-Si / a-Si\",$Q895=\"a-Si (single)\",$Q895=\"a-Si (tandem)\",$Q895=\"a-Si (triple)\"),3,2))))","v":1},0,null,null,15184,null,null,893]
["Atersa A-85P","Atersa ","A-85P",85,"+8...-8",18.39,4.62,22.3,4.9000000000000004,-75.819999999999993,4.41,-0.38,1000,"Spain","diverse",12.812629699707031,"poly",36,"square",1224,542,35,"aluminum","junction box",9,"www.atersa.com","-","-","-","-","-",{"$f":"IF($O896=\"Sunpower Corp.\",3,(IF(OR($Q896=\"mono\",$Q896=\"poly\",$Q896=\"HIT\",$Q896=\"EFG\",$Q896=\"mono-LGBC\"),1,IF(OR($Q896=\"µc-Si / a-Si\",$Q896=\"a-Si (single)\",$Q896=\"a-Si (tandem)\",$Q896=\"a-Si (triple)\"),3,2))))","v":1},{"$f":"IF($O896=\"Sunpower Corp.\",3,(IF(OR($Q896=\"mono\",$Q896=\"poly\",$Q896=\"HIT\",$Q896=\"EFG\",$Q896=\"mono-LGBC\"),1,2)))","v":1},{"$f":"IF($O896=\"Sunpower Corp.\",3,(IF(OR($Q896=\"mono\",$Q896=\"poly\",$Q896=\"HIT\",$Q896=\"EFG\",$Q896=\"mono-LGBC\"),1,IF(OR($Q896=\"µc-Si / a-Si\",$Q896=\"a-Si (single)\",$Q896=\"a-Si (tandem)\",$Q896=\"a-Si (triple)\"),3,2))))","v":1},0,null,null,15186,null,null,894]
["Atsun Solar Electric Technology Co., Ltd. ATM-180T(170W)","Atsun Solar Electric Technology Co., Ltd. ","ATM-180T(170W)",170,"+3...-3",35,4.8600000000000003,43,5.21,-169.97899999999998,2.9644899999999996,-0.52080000000000004,1000,"China",null,13.31620979309082,"mono",72,"pseudo-square",1580,808,46,"aluminum","junction box",15,"www.atsun-solar.com","-","-","-","-","-",{"$f":"IF($O897=\"Sunpower Corp.\",3,(IF(OR($Q897=\"mono\",$Q897=\"poly\",$Q897=\"HIT\",$Q897=\"EFG\",$Q897=\"mono-LGBC\"),1,IF(OR($Q897=\"µc-Si / a-Si\",$Q897=\"a-Si (single)\",$Q897=\"a-Si (tandem)\",$Q897=\"a-Si (triple)\"),3,2))))","v":1},{"$f":"IF($O897=\"Sunpower Corp.\",3,(IF(OR($Q897=\"mono\",$Q897=\"poly\",$Q897=\"HIT\",$Q897=\"EFG\",$Q897=\"mono-LGBC\"),1,2)))","v":1},{"$f":"IF($O897=\"Sunpower Corp.\",3,(IF(OR($Q897=\"mono\",$Q897=\"poly\",$Q897=\"HIT\",$Q897=\"EFG\",$Q897=\"mono-LGBC\"),1,IF(OR($Q897=\"µc-Si / a-Si\",$Q897=\"a-Si (single)\",$Q897=\"a-Si (tandem)\",$Q897=\"a-Si (triple)\"),3,2))))","v":1},0,null,null,34756,null,null,895]
["Atsun Solar Electric Technology Co., Ltd. ATM-180T(175W)","Atsun Solar Electric Technology Co., Ltd. ","ATM-180T(175W)",175,"+3...-3",35.5,4.93,43.5,5.32,-171.95549999999997,3.0270799999999998,-0.52080000000000004,1000,"China",null,13.707859992980957,"mono",72,"pseudo-square",1580,808,46,"aluminum","junction box",15,"www.atsun-solar.com","-","-","-","-","-",{"$f":"IF($O898=\"Sunpower Corp.\",3,(IF(OR($Q898=\"mono\",$Q898=\"poly\",$Q898=\"HIT\",$Q898=\"EFG\",$Q898=\"mono-LGBC\"),1,IF(OR($Q898=\"µc-Si / a-Si\",$Q898=\"a-Si (single)\",$Q898=\"a-Si (tandem)\",$Q898=\"a-Si (triple)\"),3,2))))","v":1},{"$f":"IF($O898=\"Sunpower Corp.\",3,(IF(OR($Q898=\"mono\",$Q898=\"poly\",$Q898=\"HIT\",$Q898=\"EFG\",$Q898=\"mono-LGBC\"),1,2)))","v":1},{"$f":"IF($O898=\"Sunpower Corp.\",3,(IF(OR($Q898=\"mono\",$Q898=\"poly\",$Q898=\"HIT\",$Q898=\"EFG\",$Q898=\"mono-LGBC\"),1,IF(OR($Q898=\"µc-Si / a-Si\",$Q898=\"a-Si (single)\",$Q898=\"a-Si (tandem)\",$Q898=\"a-Si (triple)\"),3,2))))","v":1},0,null,null,34757,null,null,896]
["Atsun Solar Electric Technology Co., Ltd. ATM-180T(180W)","Atsun Solar Electric Technology Co., Ltd. ","ATM-180T(180W)",180,"+3...-3",36,5,44,5.4,-173.93200000000002,3.0726,-0.52080000000000004,1000,"China",null,14.099510192871094,"mono",72,"pseudo-square",1580,808,46,"aluminum","junction box",15,"www.atsun-solar.com","-","-","-","-","-",{"$f":"IF($O899=\"Sunpower Corp.\",3,(IF(OR($Q899=\"mono\",$Q899=\"poly\",$Q899=\"HIT\",$Q899=\"EFG\",$Q899=\"mono-LGBC\"),1,IF(OR($Q899=\"µc-Si / a-Si\",$Q899=\"a-Si (single)\",$Q899=\"a-Si (tandem)\",$Q899=\"a-Si (triple)\"),3,2))))","v":1},{"$f":"IF($O899=\"Sunpower Corp.\",3,(IF(OR($Q899=\"mono\",$Q899=\"poly\",$Q899=\"HIT\",$Q899=\"EFG\",$Q899=\"mono-LGBC\"),1,2)))","v":1},{"$f":"IF($O899=\"Sunpower Corp.\",3,(IF(OR($Q899=\"mono\",$Q899=\"poly\",$Q899=\"HIT\",$Q899=\"EFG\",$Q899=\"mono-LGBC\"),1,IF(OR($Q899=\"µc-Si / a-Si\",$Q899=\"a-Si (single)\",$Q899=\"a-Si (tandem)\",$Q899=\"a-Si (triple)\"),3,2))))","v":1},0,null,null,34758,null,null,897]
["Atsun Solar Electric Technology Co., Ltd. ATM-180T(185W)","Atsun Solar Electric Technology Co., Ltd. ","ATM-180T(185W)",185,"+3...-3",36,5.14,44,5.6,-173.93200000000002,3.1863999999999995,-0.52080000000000004,1000,"China",null,14.49116039276123,"mono",72,"pseudo-square",1580,808,46,"aluminum","junction box",15,"www.atsun-solar.com","-","-","-","-","-",{"$f":"IF($O900=\"Sunpower Corp.\",3,(IF(OR($Q900=\"mono\",$Q900=\"poly\",$Q900=\"HIT\",$Q900=\"EFG\",$Q900=\"mono-LGBC\"),1,IF(OR($Q900=\"µc-Si / a-Si\",$Q900=\"a-Si (single)\",$Q900=\"a-Si (tandem)\",$Q900=\"a-Si (triple)\"),3,2))))","v":1},{"$f":"IF($O900=\"Sunpower Corp.\",3,(IF(OR($Q900=\"mono\",$Q900=\"poly\",$Q900=\"HIT\",$Q900=\"EFG\",$Q900=\"mono-LGBC\"),1,2)))","v":1},{"$f":"IF($O900=\"Sunpower Corp.\",3,(IF(OR($Q900=\"mono\",$Q900=\"poly\",$Q900=\"HIT\",$Q900=\"EFG\",$Q900=\"mono-LGBC\"),1,IF(OR($Q900=\"µc-Si / a-Si\",$Q900=\"a-Si (single)\",$Q900=\"a-Si (tandem)\",$Q900=\"a-Si (triple)\"),3,2))))","v":1},0,null,null,34759,null,null,898]
["Atsun Solar Electric Technology Co., Ltd. ATM-180T(190W)","Atsun Solar Electric Technology Co., Ltd. ","ATM-180T(190W)",190,"+3...-3",36.5,5.2,44.5,5.69,-175.9085,3.2376100000000001,-0.52080000000000004,1000,"China",null,14.882820129394531,"mono",72,"pseudo-square",1580,808,46,"aluminum","junction box",15,"www.atsun-solar.com","-","-","-","-","-",{"$f":"IF($O901=\"Sunpower Corp.\",3,(IF(OR($Q901=\"mono\",$Q901=\"poly\",$Q901=\"HIT\",$Q901=\"EFG\",$Q901=\"mono-LGBC\"),1,IF(OR($Q901=\"µc-Si / a-Si\",$Q901=\"a-Si (single)\",$Q901=\"a-Si (tandem)\",$Q901=\"a-Si (triple)\"),3,2))))","v":1},{"$f":"IF($O901=\"Sunpower Corp.\",3,(IF(OR($Q901=\"mono\",$Q901=\"poly\",$Q901=\"HIT\",$Q901=\"EFG\",$Q901=\"mono-LGBC\"),1,2)))","v":1},{"$f":"IF($O901=\"Sunpower Corp.\",3,(IF(OR($Q901=\"mono\",$Q901=\"poly\",$Q901=\"HIT\",$Q901=\"EFG\",$Q901=\"mono-LGBC\"),1,IF(OR($Q901=\"µc-Si / a-Si\",$Q901=\"a-Si (single)\",$Q901=\"a-Si (tandem)\",$Q901=\"a-Si (triple)\"),3,2))))","v":1},0,null,null,34760,null,null,899]
["Atsun Solar Electric Technology Co., Ltd. ATP-220(210W)","Atsun Solar Electric Technology Co., Ltd. ","ATP-220(210W)",210,"+3...-3",29.5,7.11,36.5,8,-141.98500000000001,4.5679999999999996,-0.55430000000000001,1000,"China",null,12.829910278320313,"poly",60,"square",1650,992,50,"aluminum","junction box",20,"www.atsun-solar.com","-","-","-","-","-",{"$f":"IF($O902=\"Sunpower Corp.\",3,(IF(OR($Q902=\"mono\",$Q902=\"poly\",$Q902=\"HIT\",$Q902=\"EFG\",$Q902=\"mono-LGBC\"),1,IF(OR($Q902=\"µc-Si / a-Si\",$Q902=\"a-Si (single)\",$Q902=\"a-Si (tandem)\",$Q902=\"a-Si (triple)\"),3,2))))","v":1},{"$f":"IF($O902=\"Sunpower Corp.\",3,(IF(OR($Q902=\"mono\",$Q902=\"poly\",$Q902=\"HIT\",$Q902=\"EFG\",$Q902=\"mono-LGBC\"),1,2)))","v":1},{"$f":"IF($O902=\"Sunpower Corp.\",3,(IF(OR($Q902=\"mono\",$Q902=\"poly\",$Q902=\"HIT\",$Q902=\"EFG\",$Q902=\"mono-LGBC\"),1,IF(OR($Q902=\"µc-Si / a-Si\",$Q902=\"a-Si (single)\",$Q902=\"a-Si (tandem)\",$Q902=\"a-Si (triple)\"),3,2))))","v":1},0,null,null,34761,null,null,900]
["Atsun Solar Electric Technology Co., Ltd. ATP-220(215W)","Atsun Solar Electric Technology Co., Ltd. ","ATP-220(215W)",215,"+3...-3",30,7.16,37,8.07,-143.93,4.6079699999999999,-0.55430000000000001,1000,"China",null,13.135390281677246,"poly",60,"square",1650,992,50,"aluminum","junction box",20,"www.atsun-solar.com","-","-","-","-","-",{"$f":"IF($O903=\"Sunpower Corp.\",3,(IF(OR($Q903=\"mono\",$Q903=\"poly\",$Q903=\"HIT\",$Q903=\"EFG\",$Q903=\"mono-LGBC\"),1,IF(OR($Q903=\"µc-Si / a-Si\",$Q903=\"a-Si (single)\",$Q903=\"a-Si (tandem)\",$Q903=\"a-Si (triple)\"),3,2))))","v":1},{"$f":"IF($O903=\"Sunpower Corp.\",3,(IF(OR($Q903=\"mono\",$Q903=\"poly\",$Q903=\"HIT\",$Q903=\"EFG\",$Q903=\"mono-LGBC\"),1,2)))","v":1},{"$f":"IF($O903=\"Sunpower Corp.\",3,(IF(OR($Q903=\"mono\",$Q903=\"poly\",$Q903=\"HIT\",$Q903=\"EFG\",$Q903=\"mono-LGBC\"),1,IF(OR($Q903=\"µc-Si / a-Si\",$Q903=\"a-Si (single)\",$Q903=\"a-Si (tandem)\",$Q903=\"a-Si (triple)\"),3,2))))","v":1},0,null,null,34762,null,null,901]
["Atsun Solar Electric Technology Co., Ltd. ATP-220(220W)","Atsun Solar Electric Technology Co., Ltd. ","ATP-220(220W)",220,"+3...-3",30,7.33,37,8.25,-143.93,4.71075,-0.55430000000000001,1000,"China",null,13.440859794616699,"poly",60,"square",1650,992,50,"aluminum","junction box",20,"www.atsun-solar.com","-","-","-","-","-",{"$f":"IF($O904=\"Sunpower Corp.\",3,(IF(OR($Q904=\"mono\",$Q904=\"poly\",$Q904=\"HIT\",$Q904=\"EFG\",$Q904=\"mono-LGBC\"),1,IF(OR($Q904=\"µc-Si / a-Si\",$Q904=\"a-Si (single)\",$Q904=\"a-Si (tandem)\",$Q904=\"a-Si (triple)\"),3,2))))","v":1},{"$f":"IF($O904=\"Sunpower Corp.\",3,(IF(OR($Q904=\"mono\",$Q904=\"poly\",$Q904=\"HIT\",$Q904=\"EFG\",$Q904=\"mono-LGBC\"),1,2)))","v":1},{"$f":"IF($O904=\"Sunpower Corp.\",3,(IF(OR($Q904=\"mono\",$Q904=\"poly\",$Q904=\"HIT\",$Q904=\"EFG\",$Q904=\"mono-LGBC\"),1,IF(OR($Q904=\"µc-Si / a-Si\",$Q904=\"a-Si (single)\",$Q904=\"a-Si (tandem)\",$Q904=\"a-Si (triple)\"),3,2))))","v":1},0,null,null,34763,null,null,902]
["Atsun Solar Electric Technology Co., Ltd. ATP-220(225W)","Atsun Solar Electric Technology Co., Ltd. ","ATP-220(225W)",225,"+3...-3",30,7.5,37,8.44,-143.93,4.8192399999999997,-0.55430000000000001,1000,"China",null,13.746330261230469,"poly",60,"square",1650,992,50,"aluminum","junction box",20,"www.atsun-solar.com","-","-","-","-","-",{"$f":"IF($O905=\"Sunpower Corp.\",3,(IF(OR($Q905=\"mono\",$Q905=\"poly\",$Q905=\"HIT\",$Q905=\"EFG\",$Q905=\"mono-LGBC\"),1,IF(OR($Q905=\"µc-Si / a-Si\",$Q905=\"a-Si (single)\",$Q905=\"a-Si (tandem)\",$Q905=\"a-Si (triple)\"),3,2))))","v":1},{"$f":"IF($O905=\"Sunpower Corp.\",3,(IF(OR($Q905=\"mono\",$Q905=\"poly\",$Q905=\"HIT\",$Q905=\"EFG\",$Q905=\"mono-LGBC\"),1,2)))","v":1},{"$f":"IF($O905=\"Sunpower Corp.\",3,(IF(OR($Q905=\"mono\",$Q905=\"poly\",$Q905=\"HIT\",$Q905=\"EFG\",$Q905=\"mono-LGBC\"),1,IF(OR($Q905=\"µc-Si / a-Si\",$Q905=\"a-Si (single)\",$Q905=\"a-Si (tandem)\",$Q905=\"a-Si (triple)\"),3,2))))","v":1},0,null,null,34764,null,null,903]
["Atsun Solar Electric Technology Co., Ltd. ATP-220(230W)","Atsun Solar Electric Technology Co., Ltd. ","ATP-220(230W)",230,"+3...-3",30.5,7.54,37.5,8.51,-145.875,4.85921,-0.55430000000000001,1000,"China",null,14.051810264587402,"poly",60,"square",1650,992,50,"aluminum","junction box",20,"www.atsun-solar.com","-","-","-","-","-",{"$f":"IF($O906=\"Sunpower Corp.\",3,(IF(OR($Q906=\"mono\",$Q906=\"poly\",$Q906=\"HIT\",$Q906=\"EFG\",$Q906=\"mono-LGBC\"),1,IF(OR($Q906=\"µc-Si / a-Si\",$Q906=\"a-Si (single)\",$Q906=\"a-Si (tandem)\",$Q906=\"a-Si (triple)\"),3,2))))","v":1},{"$f":"IF($O906=\"Sunpower Corp.\",3,(IF(OR($Q906=\"mono\",$Q906=\"poly\",$Q906=\"HIT\",$Q906=\"EFG\",$Q906=\"mono-LGBC\"),1,2)))","v":1},{"$f":"IF($O906=\"Sunpower Corp.\",3,(IF(OR($Q906=\"mono\",$Q906=\"poly\",$Q906=\"HIT\",$Q906=\"EFG\",$Q906=\"mono-LGBC\"),1,IF(OR($Q906=\"µc-Si / a-Si\",$Q906=\"a-Si (single)\",$Q906=\"a-Si (tandem)\",$Q906=\"a-Si (triple)\"),3,2))))","v":1},0,null,null,34765,null,null,904]
["AU Optronics Corporation EcoDuo PM205P00","AU Optronics Corporation ","EcoDuo PM205P00",205,"+3...0",29.22,7.01,36.200000000000003,7.63,-126.7,4.5779999999999994,-0.46,1000,null,null,12.290169715881348,"poly",60,"square",1668,1000,40,"aluminum","junction box MC4",20,"www.auosolar.com","-","-","-","-","-",{"$f":"IF($O907=\"Sunpower Corp.\",3,(IF(OR($Q907=\"mono\",$Q907=\"poly\",$Q907=\"HIT\",$Q907=\"EFG\",$Q907=\"mono-LGBC\"),1,IF(OR($Q907=\"µc-Si / a-Si\",$Q907=\"a-Si (single)\",$Q907=\"a-Si (tandem)\",$Q907=\"a-Si (triple)\"),3,2))))","v":1},{"$f":"IF($O907=\"Sunpower Corp.\",3,(IF(OR($Q907=\"mono\",$Q907=\"poly\",$Q907=\"HIT\",$Q907=\"EFG\",$Q907=\"mono-LGBC\"),1,2)))","v":1},{"$f":"IF($O907=\"Sunpower Corp.\",3,(IF(OR($Q907=\"mono\",$Q907=\"poly\",$Q907=\"HIT\",$Q907=\"EFG\",$Q907=\"mono-LGBC\"),1,IF(OR($Q907=\"µc-Si / a-Si\",$Q907=\"a-Si (single)\",$Q907=\"a-Si (tandem)\",$Q907=\"a-Si (triple)\"),3,2))))","v":1},0,null,null,18350,null,null,905]
["AU Optronics Corporation EcoDuo PM210P00","AU Optronics Corporation ","EcoDuo PM210P00",210,"+3...0",29.58,7.12,36.5,7.7,-127.75,4.62,-0.46,1000,null,null,12.589929580688477,"poly",60,"square",1668,1000,40,"aluminum","junction box MC4",20,"www.auosolar.com","-","-","-","-","-",{"$f":"IF($O908=\"Sunpower Corp.\",3,(IF(OR($Q908=\"mono\",$Q908=\"poly\",$Q908=\"HIT\",$Q908=\"EFG\",$Q908=\"mono-LGBC\"),1,IF(OR($Q908=\"µc-Si / a-Si\",$Q908=\"a-Si (single)\",$Q908=\"a-Si (tandem)\",$Q908=\"a-Si (triple)\"),3,2))))","v":1},{"$f":"IF($O908=\"Sunpower Corp.\",3,(IF(OR($Q908=\"mono\",$Q908=\"poly\",$Q908=\"HIT\",$Q908=\"EFG\",$Q908=\"mono-LGBC\"),1,2)))","v":1},{"$f":"IF($O908=\"Sunpower Corp.\",3,(IF(OR($Q908=\"mono\",$Q908=\"poly\",$Q908=\"HIT\",$Q908=\"EFG\",$Q908=\"mono-LGBC\"),1,IF(OR($Q908=\"µc-Si / a-Si\",$Q908=\"a-Si (single)\",$Q908=\"a-Si (tandem)\",$Q908=\"a-Si (triple)\"),3,2))))","v":1},0,null,null,18357,null,null,906]
["AU Optronics Corporation EcoDuo PM215P00","AU Optronics Corporation ","EcoDuo PM215P00",215,"+3...0",29.91,7.2,36.6,7.77,-128.1,4.661999999999999,-0.46,1000,null,null,12.889690399169922,"poly",60,"square",1668,1000,40,"aluminum","junction box MC4",20,"www.auosolar.com","-","-","-","-","-",{"$f":"IF($O909=\"Sunpower Corp.\",3,(IF(OR($Q909=\"mono\",$Q909=\"poly\",$Q909=\"HIT\",$Q909=\"EFG\",$Q909=\"mono-LGBC\"),1,IF(OR($Q909=\"µc-Si / a-Si\",$Q909=\"a-Si (single)\",$Q909=\"a-Si (tandem)\",$Q909=\"a-Si (triple)\"),3,2))))","v":1},{"$f":"IF($O909=\"Sunpower Corp.\",3,(IF(OR($Q909=\"mono\",$Q909=\"poly\",$Q909=\"HIT\",$Q909=\"EFG\",$Q909=\"mono-LGBC\"),1,2)))","v":1},{"$f":"IF($O909=\"Sunpower Corp.\",3,(IF(OR($Q909=\"mono\",$Q909=\"poly\",$Q909=\"HIT\",$Q909=\"EFG\",$Q909=\"mono-LGBC\"),1,IF(OR($Q909=\"µc-Si / a-Si\",$Q909=\"a-Si (single)\",$Q909=\"a-Si (tandem)\",$Q909=\"a-Si (triple)\"),3,2))))","v":1},0,null,null,18359,null,null,907]
["AU Optronics Corporation EcoDuo PM220P00","AU Optronics Corporation ","EcoDuo PM220P00",220,"+3...0",30.2,7.28,36.9,7.85,-129.15,4.71,-0.46,1000,null,null,13.189450263977051,"poly",60,"square",1668,1000,40,"aluminum","junction box MC4",20,"www.auosolar.com","-","-","-","-","-",{"$f":"IF($O910=\"Sunpower Corp.\",3,(IF(OR($Q910=\"mono\",$Q910=\"poly\",$Q910=\"HIT\",$Q910=\"EFG\",$Q910=\"mono-LGBC\"),1,IF(OR($Q910=\"µc-Si / a-Si\",$Q910=\"a-Si (single)\",$Q910=\"a-Si (tandem)\",$Q910=\"a-Si (triple)\"),3,2))))","v":1},{"$f":"IF($O910=\"Sunpower Corp.\",3,(IF(OR($Q910=\"mono\",$Q910=\"poly\",$Q910=\"HIT\",$Q910=\"EFG\",$Q910=\"mono-LGBC\"),1,2)))","v":1},{"$f":"IF($O910=\"Sunpower Corp.\",3,(IF(OR($Q910=\"mono\",$Q910=\"poly\",$Q910=\"HIT\",$Q910=\"EFG\",$Q910=\"mono-LGBC\"),1,IF(OR($Q910=\"µc-Si / a-Si\",$Q910=\"a-Si (single)\",$Q910=\"a-Si (tandem)\",$Q910=\"a-Si (triple)\"),3,2))))","v":1},0,null,null,18360,null,null,908]
["AU Optronics Corporation EcoDuo PM225P00","AU Optronics Corporation ","EcoDuo PM225P00",225,"+3...0",30.5,7.37,37,7.89,-129.5,4.7339999999999991,-0.46,1000,null,null,13.48921012878418,"poly",60,"square",1668,1000,40,"aluminum","junction box MC4",20,"www.auosolar.com","-","-","-","-","-",{"$f":"IF($O911=\"Sunpower Corp.\",3,(IF(OR($Q911=\"mono\",$Q911=\"poly\",$Q911=\"HIT\",$Q911=\"EFG\",$Q911=\"mono-LGBC\"),1,IF(OR($Q911=\"µc-Si / a-Si\",$Q911=\"a-Si (single)\",$Q911=\"a-Si (tandem)\",$Q911=\"a-Si (triple)\"),3,2))))","v":1},{"$f":"IF($O911=\"Sunpower Corp.\",3,(IF(OR($Q911=\"mono\",$Q911=\"poly\",$Q911=\"HIT\",$Q911=\"EFG\",$Q911=\"mono-LGBC\"),1,2)))","v":1},{"$f":"IF($O911=\"Sunpower Corp.\",3,(IF(OR($Q911=\"mono\",$Q911=\"poly\",$Q911=\"HIT\",$Q911=\"EFG\",$Q911=\"mono-LGBC\"),1,IF(OR($Q911=\"µc-Si / a-Si\",$Q911=\"a-Si (single)\",$Q911=\"a-Si (tandem)\",$Q911=\"a-Si (triple)\"),3,2))))","v":1},0,null,null,18361,null,null,909]
["AU Optronics Corporation EcoDuo PM230P00","AU Optronics Corporation ","EcoDuo PM230P00",230,"+3...0",30.84,7.48,37.32,8,-130.62,4.8,-0.46,1000,null,null,13.788969993591309,"poly",60,"square",1668,1000,40,"aluminum","junction box MC4",20,"www.auosolar.com","-","-","-","-","-",{"$f":"IF($O912=\"Sunpower Corp.\",3,(IF(OR($Q912=\"mono\",$Q912=\"poly\",$Q912=\"HIT\",$Q912=\"EFG\",$Q912=\"mono-LGBC\"),1,IF(OR($Q912=\"µc-Si / a-Si\",$Q912=\"a-Si (single)\",$Q912=\"a-Si (tandem)\",$Q912=\"a-Si (triple)\"),3,2))))","v":1},{"$f":"IF($O912=\"Sunpower Corp.\",3,(IF(OR($Q912=\"mono\",$Q912=\"poly\",$Q912=\"HIT\",$Q912=\"EFG\",$Q912=\"mono-LGBC\"),1,2)))","v":1},{"$f":"IF($O912=\"Sunpower Corp.\",3,(IF(OR($Q912=\"mono\",$Q912=\"poly\",$Q912=\"HIT\",$Q912=\"EFG\",$Q912=\"mono-LGBC\"),1,IF(OR($Q912=\"µc-Si / a-Si\",$Q912=\"a-Si (single)\",$Q912=\"a-Si (tandem)\",$Q912=\"a-Si (triple)\"),3,2))))","v":1},0,null,null,18363,null,null,910]
["AU Optronics Corporation EcoDuo PM235P00","AU Optronics Corporation ","EcoDuo PM235P00",235,"+3...0",31.14,7.55,37.5,8.02,-131.25,4.8119999999999994,-0.46,1000,null,null,14.088729858398438,"poly",60,"square",1668,1000,40,"aluminum","junction box MC4",20,"www.auosolar.com","-","-","-","-","-",{"$f":"IF($O913=\"Sunpower Corp.\",3,(IF(OR($Q913=\"mono\",$Q913=\"poly\",$Q913=\"HIT\",$Q913=\"EFG\",$Q913=\"mono-LGBC\"),1,IF(OR($Q913=\"µc-Si / a-Si\",$Q913=\"a-Si (single)\",$Q913=\"a-Si (tandem)\",$Q913=\"a-Si (triple)\"),3,2))))","v":1},{"$f":"IF($O913=\"Sunpower Corp.\",3,(IF(OR($Q913=\"mono\",$Q913=\"poly\",$Q913=\"HIT\",$Q913=\"EFG\",$Q913=\"mono-LGBC\"),1,2)))","v":1},{"$f":"IF($O913=\"Sunpower Corp.\",3,(IF(OR($Q913=\"mono\",$Q913=\"poly\",$Q913=\"HIT\",$Q913=\"EFG\",$Q913=\"mono-LGBC\"),1,IF(OR($Q913=\"µc-Si / a-Si\",$Q913=\"a-Si (single)\",$Q913=\"a-Si (tandem)\",$Q913=\"a-Si (triple)\"),3,2))))","v":1},0,null,null,18365,null,null,911]
["AU Optronics Corporation EcoDuo PM240P00","AU Optronics Corporation ","EcoDuo PM240P00",240,"+3...0",30.68,7.9,37.32,8.5,-119.42400000000001,3.4,-0.44,1000,null,null,14.388489723205566,"poly",60,"square",1668,1000,40,"aluminum","junction box",20,null,"-","-","-","-","-",{"$f":"IF($O914=\"Sunpower Corp.\",3,(IF(OR($Q914=\"mono\",$Q914=\"poly\",$Q914=\"HIT\",$Q914=\"EFG\",$Q914=\"mono-LGBC\"),1,IF(OR($Q914=\"µc-Si / a-Si\",$Q914=\"a-Si (single)\",$Q914=\"a-Si (tandem)\",$Q914=\"a-Si (triple)\"),3,2))))","v":1},{"$f":"IF($O914=\"Sunpower Corp.\",3,(IF(OR($Q914=\"mono\",$Q914=\"poly\",$Q914=\"HIT\",$Q914=\"EFG\",$Q914=\"mono-LGBC\"),1,2)))","v":1},{"$f":"IF($O914=\"Sunpower Corp.\",3,(IF(OR($Q914=\"mono\",$Q914=\"poly\",$Q914=\"HIT\",$Q914=\"EFG\",$Q914=\"mono-LGBC\"),1,IF(OR($Q914=\"µc-Si / a-Si\",$Q914=\"a-Si (single)\",$Q914=\"a-Si (tandem)\",$Q914=\"a-Si (triple)\"),3,2))))","v":1},0,null,null,30114,null,null,912]
["AU Optronics Corporation EcoDuo PM245M00","AU Optronics Corporation ","EcoDuo PM245M00",245,"+3...0",31.5,8.11,37.799999999999997,8.67,-136.08000000000001,2.6009999999999995,-0.48,1000,null,null,14.688249588012695,"mono",60,"pseudo-square",1668,1000,40,"aluminum","junction box Tyco",20,"www.auosolar.com","-","-","-","-","-",{"$f":"IF($O915=\"Sunpower Corp.\",3,(IF(OR($Q915=\"mono\",$Q915=\"poly\",$Q915=\"HIT\",$Q915=\"EFG\",$Q915=\"mono-LGBC\"),1,IF(OR($Q915=\"µc-Si / a-Si\",$Q915=\"a-Si (single)\",$Q915=\"a-Si (tandem)\",$Q915=\"a-Si (triple)\"),3,2))))","v":1},{"$f":"IF($O915=\"Sunpower Corp.\",3,(IF(OR($Q915=\"mono\",$Q915=\"poly\",$Q915=\"HIT\",$Q915=\"EFG\",$Q915=\"mono-LGBC\"),1,2)))","v":1},{"$f":"IF($O915=\"Sunpower Corp.\",3,(IF(OR($Q915=\"mono\",$Q915=\"poly\",$Q915=\"HIT\",$Q915=\"EFG\",$Q915=\"mono-LGBC\"),1,IF(OR($Q915=\"µc-Si / a-Si\",$Q915=\"a-Si (single)\",$Q915=\"a-Si (tandem)\",$Q915=\"a-Si (triple)\"),3,2))))","v":1},0,null,null,18368,null,null,913]
["AU Optronics Corporation EcoDuo PM245P00","AU Optronics Corporation ","EcoDuo PM245P00",245,"+3...0",30.878,8.02,37.56,8.59,-120.19200000000001,3.4360000000000004,-0.44,1000,null,null,14.688249588012695,"poly",60,"square",1668,1000,40,"aluminum","junction box",20,null,"-","-","-","-","-",{"$f":"IF($O916=\"Sunpower Corp.\",3,(IF(OR($Q916=\"mono\",$Q916=\"poly\",$Q916=\"HIT\",$Q916=\"EFG\",$Q916=\"mono-LGBC\"),1,IF(OR($Q916=\"µc-Si / a-Si\",$Q916=\"a-Si (single)\",$Q916=\"a-Si (tandem)\",$Q916=\"a-Si (triple)\"),3,2))))","v":1},{"$f":"IF($O916=\"Sunpower Corp.\",3,(IF(OR($Q916=\"mono\",$Q916=\"poly\",$Q916=\"HIT\",$Q916=\"EFG\",$Q916=\"mono-LGBC\"),1,2)))","v":1},{"$f":"IF($O916=\"Sunpower Corp.\",3,(IF(OR($Q916=\"mono\",$Q916=\"poly\",$Q916=\"HIT\",$Q916=\"EFG\",$Q916=\"mono-LGBC\"),1,IF(OR($Q916=\"µc-Si / a-Si\",$Q916=\"a-Si (single)\",$Q916=\"a-Si (tandem)\",$Q916=\"a-Si (triple)\"),3,2))))","v":1},0,null,null,30115,null,null,914]
["AU Optronics Corporation EcoDuo PM270P00","AU Optronics Corporation ","EcoDuo PM270P00",275,"+3...0",37.200000000000003,7.73,44.5,8.3000000000000007,-142.4,3.32,-0.35,1000,null,null,13.853899955749512,"poly",72,"square",1985,1000,40,"aluminum","junction box Tyco",20,"www.auosolar.com","-","-","-","-","-",{"$f":"IF($O917=\"Sunpower Corp.\",3,(IF(OR($Q917=\"mono\",$Q917=\"poly\",$Q917=\"HIT\",$Q917=\"EFG\",$Q917=\"mono-LGBC\"),1,IF(OR($Q917=\"µc-Si / a-Si\",$Q917=\"a-Si (single)\",$Q917=\"a-Si (tandem)\",$Q917=\"a-Si (triple)\"),3,2))))","v":1},{"$f":"IF($O917=\"Sunpower Corp.\",3,(IF(OR($Q917=\"mono\",$Q917=\"poly\",$Q917=\"HIT\",$Q917=\"EFG\",$Q917=\"mono-LGBC\"),1,2)))","v":1},{"$f":"IF($O917=\"Sunpower Corp.\",3,(IF(OR($Q917=\"mono\",$Q917=\"poly\",$Q917=\"HIT\",$Q917=\"EFG\",$Q917=\"mono-LGBC\"),1,IF(OR($Q917=\"µc-Si / a-Si\",$Q917=\"a-Si (single)\",$Q917=\"a-Si (tandem)\",$Q917=\"a-Si (triple)\"),3,2))))","v":1},0,null,null,18369,null,null,915]
["AU Optronics Corporation GreenTriplex PM250M00","AU Optronics Corporation ","GreenTriplex PM250M00",250,"+3...0",30.82,8.2200000000000006,37.86,8.66,-136.29599999999999,2.5979999999999994,-0.48,1000,null,null,15.264450073242188,"mono",60,"pseudo-square",1651,992,40,"aluminum","junction box Tyco",19,null,"-","-","-","-","-",{"$f":"IF($O918=\"Sunpower Corp.\",3,(IF(OR($Q918=\"mono\",$Q918=\"poly\",$Q918=\"HIT\",$Q918=\"EFG\",$Q918=\"mono-LGBC\"),1,IF(OR($Q918=\"µc-Si / a-Si\",$Q918=\"a-Si (single)\",$Q918=\"a-Si (tandem)\",$Q918=\"a-Si (triple)\"),3,2))))","v":1},{"$f":"IF($O918=\"Sunpower Corp.\",3,(IF(OR($Q918=\"mono\",$Q918=\"poly\",$Q918=\"HIT\",$Q918=\"EFG\",$Q918=\"mono-LGBC\"),1,2)))","v":1},{"$f":"IF($O918=\"Sunpower Corp.\",3,(IF(OR($Q918=\"mono\",$Q918=\"poly\",$Q918=\"HIT\",$Q918=\"EFG\",$Q918=\"mono-LGBC\"),1,IF(OR($Q918=\"µc-Si / a-Si\",$Q918=\"a-Si (single)\",$Q918=\"a-Si (tandem)\",$Q918=\"a-Si (triple)\"),3,2))))","v":1},0,null,null,30108,null,null,916]
["AU Optronics Corporation GreenTriplex PM255M00","AU Optronics Corporation ","GreenTriplex PM255M00",255,"+3...0",30.86,8.34,37.92,8.7200000000000006,-136.512,2.6159999999999997,-0.48,1000,null,null,15.569740295410156,"mono",60,"pseudo-square",1651,992,40,"aluminum","junction box Tyco",19,null,"-","-","-","-","-",{"$f":"IF($O919=\"Sunpower Corp.\",3,(IF(OR($Q919=\"mono\",$Q919=\"poly\",$Q919=\"HIT\",$Q919=\"EFG\",$Q919=\"mono-LGBC\"),1,IF(OR($Q919=\"µc-Si / a-Si\",$Q919=\"a-Si (single)\",$Q919=\"a-Si (tandem)\",$Q919=\"a-Si (triple)\"),3,2))))","v":1},{"$f":"IF($O919=\"Sunpower Corp.\",3,(IF(OR($Q919=\"mono\",$Q919=\"poly\",$Q919=\"HIT\",$Q919=\"EFG\",$Q919=\"mono-LGBC\"),1,2)))","v":1},{"$f":"IF($O919=\"Sunpower Corp.\",3,(IF(OR($Q919=\"mono\",$Q919=\"poly\",$Q919=\"HIT\",$Q919=\"EFG\",$Q919=\"mono-LGBC\"),1,IF(OR($Q919=\"µc-Si / a-Si\",$Q919=\"a-Si (single)\",$Q919=\"a-Si (tandem)\",$Q919=\"a-Si (triple)\"),3,2))))","v":1},0,null,null,30109,null,null,917]
["AU Optronics Corporation GreenTriplex PM260M00","AU Optronics Corporation ","GreenTriplex PM260M00",260,"+3...0",30.9,8.4570000000000007,37.979999999999997,8.7799999999999994,-136.72799999999998,2.6339999999999995,-0.48,1000,null,null,15.875029563903809,"mono",60,"pseudo-square",1651,992,40,"aluminum","junction box Tyco",19,null,"-","-","-","-","-",{"$f":"IF($O920=\"Sunpower Corp.\",3,(IF(OR($Q920=\"mono\",$Q920=\"poly\",$Q920=\"HIT\",$Q920=\"EFG\",$Q920=\"mono-LGBC\"),1,IF(OR($Q920=\"µc-Si / a-Si\",$Q920=\"a-Si (single)\",$Q920=\"a-Si (tandem)\",$Q920=\"a-Si (triple)\"),3,2))))","v":1},{"$f":"IF($O920=\"Sunpower Corp.\",3,(IF(OR($Q920=\"mono\",$Q920=\"poly\",$Q920=\"HIT\",$Q920=\"EFG\",$Q920=\"mono-LGBC\"),1,2)))","v":1},{"$f":"IF($O920=\"Sunpower Corp.\",3,(IF(OR($Q920=\"mono\",$Q920=\"poly\",$Q920=\"HIT\",$Q920=\"EFG\",$Q920=\"mono-LGBC\"),1,IF(OR($Q920=\"µc-Si / a-Si\",$Q920=\"a-Si (single)\",$Q920=\"a-Si (tandem)\",$Q920=\"a-Si (triple)\"),3,2))))","v":1},0,null,null,30110,null,null,918]
["AU Optronics Corporation GreenTriplex PM370P00","AU Optronics Corporation ","GreenTriplex PM370P00",375,"+3...0",50.9,7.74,59.8,8.33,-191.36,4.9980000000000002,-0.38,1000,null,null,14.661749839782715,"poly",96,"square",1945,1315,40,"aluminum","junction box Tyco",30,"www.auosolar.com","-","-","-","-","-",{"$f":"IF($O921=\"Sunpower Corp.\",3,(IF(OR($Q921=\"mono\",$Q921=\"poly\",$Q921=\"HIT\",$Q921=\"EFG\",$Q921=\"mono-LGBC\"),1,IF(OR($Q921=\"µc-Si / a-Si\",$Q921=\"a-Si (single)\",$Q921=\"a-Si (tandem)\",$Q921=\"a-Si (triple)\"),3,2))))","v":1},{"$f":"IF($O921=\"Sunpower Corp.\",3,(IF(OR($Q921=\"mono\",$Q921=\"poly\",$Q921=\"HIT\",$Q921=\"EFG\",$Q921=\"mono-LGBC\"),1,2)))","v":1},{"$f":"IF($O921=\"Sunpower Corp.\",3,(IF(OR($Q921=\"mono\",$Q921=\"poly\",$Q921=\"HIT\",$Q921=\"EFG\",$Q921=\"mono-LGBC\"),1,IF(OR($Q921=\"µc-Si / a-Si\",$Q921=\"a-Si (single)\",$Q921=\"a-Si (tandem)\",$Q921=\"a-Si (triple)\"),3,2))))","v":1},0,null,null,18370,null,null,919]
["AU Optronics Corporation GreenTriplex PM380M00","AU Optronics Corporation ","GreenTriplex PM380M00",385,"+3...0",50.2,7.84,59.5,8.59,-196.35,3.4360000000000004,-0.4,1000,null,null,15.052729606628418,"mono",96,"pseudo-square",1945,1315,40,"aluminum","junction box Tyco",30,"www.auosolar.com","-","-","-","-","-",{"$f":"IF($O922=\"Sunpower Corp.\",3,(IF(OR($Q922=\"mono\",$Q922=\"poly\",$Q922=\"HIT\",$Q922=\"EFG\",$Q922=\"mono-LGBC\"),1,IF(OR($Q922=\"µc-Si / a-Si\",$Q922=\"a-Si (single)\",$Q922=\"a-Si (tandem)\",$Q922=\"a-Si (triple)\"),3,2))))","v":1},{"$f":"IF($O922=\"Sunpower Corp.\",3,(IF(OR($Q922=\"mono\",$Q922=\"poly\",$Q922=\"HIT\",$Q922=\"EFG\",$Q922=\"mono-LGBC\"),1,2)))","v":1},{"$f":"IF($O922=\"Sunpower Corp.\",3,(IF(OR($Q922=\"mono\",$Q922=\"poly\",$Q922=\"HIT\",$Q922=\"EFG\",$Q922=\"mono-LGBC\"),1,IF(OR($Q922=\"µc-Si / a-Si\",$Q922=\"a-Si (single)\",$Q922=\"a-Si (tandem)\",$Q922=\"a-Si (triple)\"),3,2))))","v":1},0,null,null,18371,null,null,920]
["AU Optronics Corporation SunBlade PM080T00","AU Optronics Corporation ","SunBlade PM080T00",81,"+...",107.88,0.75,140.66,0.79,-450.11200000000002,0.55300000000000016,-0.3,1000,null,null,5.259739875793457,"a-Si (tandem)",null,null,1400,1100,8.6,"frameless","junction box MC",29.8,"www.auosolar.com","-","-","-","-","-",{"$f":"IF($O923=\"Sunpower Corp.\",3,(IF(OR($Q923=\"mono\",$Q923=\"poly\",$Q923=\"HIT\",$Q923=\"EFG\",$Q923=\"mono-LGBC\"),1,IF(OR($Q923=\"µc-Si / a-Si\",$Q923=\"a-Si (single)\",$Q923=\"a-Si (tandem)\",$Q923=\"a-Si (triple)\"),3,2))))","v":3},{"$f":"IF($O923=\"Sunpower Corp.\",3,(IF(OR($Q923=\"mono\",$Q923=\"poly\",$Q923=\"HIT\",$Q923=\"EFG\",$Q923=\"mono-LGBC\"),1,2)))","v":2},{"$f":"IF($O923=\"Sunpower Corp.\",3,(IF(OR($Q923=\"mono\",$Q923=\"poly\",$Q923=\"HIT\",$Q923=\"EFG\",$Q923=\"mono-LGBC\"),1,IF(OR($Q923=\"µc-Si / a-Si\",$Q923=\"a-Si (single)\",$Q923=\"a-Si (tandem)\",$Q923=\"a-Si (triple)\"),3,2))))","v":3},0,null,null,18374,null,null,921]
["AU Optronics Corporation SunBlade PM120T00","AU Optronics Corporation ","SunBlade PM120T00",120,"+...",111.5,1.08,140.80000000000001,1.27,-450.56,0.88900000000000012,-0.3,1000,null,null,7.6379351615905762,"a-Si (tandem)",null,null,1413.5,1111.5,40,null,"junction box MC",19,"www.auosolar.com","-","-","-","-","-",{"$f":"IF($O924=\"Sunpower Corp.\",3,(IF(OR($Q924=\"mono\",$Q924=\"poly\",$Q924=\"HIT\",$Q924=\"EFG\",$Q924=\"mono-LGBC\"),1,IF(OR($Q924=\"µc-Si / a-Si\",$Q924=\"a-Si (single)\",$Q924=\"a-Si (tandem)\",$Q924=\"a-Si (triple)\"),3,2))))","v":3},{"$f":"IF($O924=\"Sunpower Corp.\",3,(IF(OR($Q924=\"mono\",$Q924=\"poly\",$Q924=\"HIT\",$Q924=\"EFG\",$Q924=\"mono-LGBC\"),1,2)))","v":2},{"$f":"IF($O924=\"Sunpower Corp.\",3,(IF(OR($Q924=\"mono\",$Q924=\"poly\",$Q924=\"HIT\",$Q924=\"EFG\",$Q924=\"mono-LGBC\"),1,IF(OR($Q924=\"µc-Si / a-Si\",$Q924=\"a-Si (single)\",$Q924=\"a-Si (tandem)\",$Q924=\"a-Si (triple)\"),3,2))))","v":3},0,null,null,18372,null,null,922]
["AU Optronics Corporation SunForte PM315B00","AU Optronics Corporation ","SunForte PM315B00",315,"+...",54.7,5.76,64.599999999999994,6.15,-174.42,3.69,-0.38,1000,null,null,19.316690444946289,"mono",96,"pseudo-square",1559,1046,46,"aluminum","junction box MC4",18.600000000000001,null,"-","-","-","-","-",{"$f":"IF($O925=\"Sunpower Corp.\",3,(IF(OR($Q925=\"mono\",$Q925=\"poly\",$Q925=\"HIT\",$Q925=\"EFG\",$Q925=\"mono-LGBC\"),1,IF(OR($Q925=\"µc-Si / a-Si\",$Q925=\"a-Si (single)\",$Q925=\"a-Si (tandem)\",$Q925=\"a-Si (triple)\"),3,2))))","v":1},{"$f":"IF($O925=\"Sunpower Corp.\",3,(IF(OR($Q925=\"mono\",$Q925=\"poly\",$Q925=\"HIT\",$Q925=\"EFG\",$Q925=\"mono-LGBC\"),1,2)))","v":1},{"$f":"IF($O925=\"Sunpower Corp.\",3,(IF(OR($Q925=\"mono\",$Q925=\"poly\",$Q925=\"HIT\",$Q925=\"EFG\",$Q925=\"mono-LGBC\"),1,IF(OR($Q925=\"µc-Si / a-Si\",$Q925=\"a-Si (single)\",$Q925=\"a-Si (tandem)\",$Q925=\"a-Si (triple)\"),3,2))))","v":1},0,null,null,30105,null,null,923]
["AU Optronics Corporation SunForte PM318B00","AU Optronics Corporation ","SunForte PM318B00",318,"+...",54.7,5.82,64.7,6.2,-174.69,3.72,-0.38,1000,null,null,19.500659942626953,"mono",96,"pseudo-square",1559,1046,46,"aluminum","junction box MC4",18.600000000000001,null,"-","-","-","-","-",{"$f":"IF($O926=\"Sunpower Corp.\",3,(IF(OR($Q926=\"mono\",$Q926=\"poly\",$Q926=\"HIT\",$Q926=\"EFG\",$Q926=\"mono-LGBC\"),1,IF(OR($Q926=\"µc-Si / a-Si\",$Q926=\"a-Si (single)\",$Q926=\"a-Si (tandem)\",$Q926=\"a-Si (triple)\"),3,2))))","v":1},{"$f":"IF($O926=\"Sunpower Corp.\",3,(IF(OR($Q926=\"mono\",$Q926=\"poly\",$Q926=\"HIT\",$Q926=\"EFG\",$Q926=\"mono-LGBC\"),1,2)))","v":1},{"$f":"IF($O926=\"Sunpower Corp.\",3,(IF(OR($Q926=\"mono\",$Q926=\"poly\",$Q926=\"HIT\",$Q926=\"EFG\",$Q926=\"mono-LGBC\"),1,IF(OR($Q926=\"µc-Si / a-Si\",$Q926=\"a-Si (single)\",$Q926=\"a-Si (tandem)\",$Q926=\"a-Si (triple)\"),3,2))))","v":1},0,null,null,30107,null,null,924]
["Auria Solar Co. Ltd. C115000","Auria Solar Co. Ltd. ","C115000",115,"+3...-3",30.8,3.75,41.2,4.6399999999999997,-123.6,3.2480000000000007,-0.25,1000,"Taiwan (Formosa)",null,8.0419578552246094,"µc-Si / a-Si",null,null,1300,1100,null,"frameless","junction box MC4",23,"www.auriasolar.com","-","-","-","-","-",{"$f":"IF($O927=\"Sunpower Corp.\",3,(IF(OR($Q927=\"mono\",$Q927=\"poly\",$Q927=\"HIT\",$Q927=\"EFG\",$Q927=\"mono-LGBC\"),1,IF(OR($Q927=\"µc-Si / a-Si\",$Q927=\"a-Si (single)\",$Q927=\"a-Si (tandem)\",$Q927=\"a-Si (triple)\"),3,2))))","v":3},{"$f":"IF($O927=\"Sunpower Corp.\",3,(IF(OR($Q927=\"mono\",$Q927=\"poly\",$Q927=\"HIT\",$Q927=\"EFG\",$Q927=\"mono-LGBC\"),1,2)))","v":2},{"$f":"IF($O927=\"Sunpower Corp.\",3,(IF(OR($Q927=\"mono\",$Q927=\"poly\",$Q927=\"HIT\",$Q927=\"EFG\",$Q927=\"mono-LGBC\"),1,IF(OR($Q927=\"µc-Si / a-Si\",$Q927=\"a-Si (single)\",$Q927=\"a-Si (tandem)\",$Q927=\"a-Si (triple)\"),3,2))))","v":3},0,null,null,21771,null,null,925]
["Auria Solar Co. Ltd. C120000","Auria Solar Co. Ltd. ","C120000",120,"+3...-3",31.5,3.84,41.5,4.66,-124.5,3.2620000000000005,-0.25,1000,"Taiwan (Formosa)",null,8.3916082382202148,"µc-Si / a-Si",null,null,1300,1100,6.8,"frameless","junction box MC4",23,"www.auriasolar.com","-","-","-","-","-",{"$f":"IF($O928=\"Sunpower Corp.\",3,(IF(OR($Q928=\"mono\",$Q928=\"poly\",$Q928=\"HIT\",$Q928=\"EFG\",$Q928=\"mono-LGBC\"),1,IF(OR($Q928=\"µc-Si / a-Si\",$Q928=\"a-Si (single)\",$Q928=\"a-Si (tandem)\",$Q928=\"a-Si (triple)\"),3,2))))","v":3},{"$f":"IF($O928=\"Sunpower Corp.\",3,(IF(OR($Q928=\"mono\",$Q928=\"poly\",$Q928=\"HIT\",$Q928=\"EFG\",$Q928=\"mono-LGBC\"),1,2)))","v":2},{"$f":"IF($O928=\"Sunpower Corp.\",3,(IF(OR($Q928=\"mono\",$Q928=\"poly\",$Q928=\"HIT\",$Q928=\"EFG\",$Q928=\"mono-LGBC\"),1,IF(OR($Q928=\"µc-Si / a-Si\",$Q928=\"a-Si (single)\",$Q928=\"a-Si (tandem)\",$Q928=\"a-Si (triple)\"),3,2))))","v":3},0,null,null,21772,null,null,926]
["Auria Solar Co. Ltd. C125000","Auria Solar Co. Ltd. ","C125000",125,"+3...-3",32.200000000000003,3.88,42.3,4.67,-126.9,3.2690000000000006,-0.25,1000,"Taiwan (Formosa)",null,8.7412586212158203,"µc-Si / a-Si",null,null,1300,1100,6.8,"frameless","junction box MC4",23,"www.auriasolar.com","-","-","-","-","-",{"$f":"IF($O929=\"Sunpower Corp.\",3,(IF(OR($Q929=\"mono\",$Q929=\"poly\",$Q929=\"HIT\",$Q929=\"EFG\",$Q929=\"mono-LGBC\"),1,IF(OR($Q929=\"µc-Si / a-Si\",$Q929=\"a-Si (single)\",$Q929=\"a-Si (tandem)\",$Q929=\"a-Si (triple)\"),3,2))))","v":3},{"$f":"IF($O929=\"Sunpower Corp.\",3,(IF(OR($Q929=\"mono\",$Q929=\"poly\",$Q929=\"HIT\",$Q929=\"EFG\",$Q929=\"mono-LGBC\"),1,2)))","v":2},{"$f":"IF($O929=\"Sunpower Corp.\",3,(IF(OR($Q929=\"mono\",$Q929=\"poly\",$Q929=\"HIT\",$Q929=\"EFG\",$Q929=\"mono-LGBC\"),1,IF(OR($Q929=\"µc-Si / a-Si\",$Q929=\"a-Si (single)\",$Q929=\"a-Si (tandem)\",$Q929=\"a-Si (triple)\"),3,2))))","v":3},0,null,null,21773,null,null,927]
["Auria Solar Co. Ltd. C130000","Auria Solar Co. Ltd. ","C130000",130,"+3...-3",33,3.94,43.1,4.7300000000000004,-129.30000000000001,3.3110000000000004,-0.25,1000,"Taiwan (Formosa)",null,9.0909090042114258,"µc-Si / a-Si",null,null,1300,1100,6.8,"frameless","junction box MC4",23,"www.auriasolar.com","-","-","-","-","-",{"$f":"IF($O930=\"Sunpower Corp.\",3,(IF(OR($Q930=\"mono\",$Q930=\"poly\",$Q930=\"HIT\",$Q930=\"EFG\",$Q930=\"mono-LGBC\"),1,IF(OR($Q930=\"µc-Si / a-Si\",$Q930=\"a-Si (single)\",$Q930=\"a-Si (tandem)\",$Q930=\"a-Si (triple)\"),3,2))))","v":3},{"$f":"IF($O930=\"Sunpower Corp.\",3,(IF(OR($Q930=\"mono\",$Q930=\"poly\",$Q930=\"HIT\",$Q930=\"EFG\",$Q930=\"mono-LGBC\"),1,2)))","v":2},{"$f":"IF($O930=\"Sunpower Corp.\",3,(IF(OR($Q930=\"mono\",$Q930=\"poly\",$Q930=\"HIT\",$Q930=\"EFG\",$Q930=\"mono-LGBC\"),1,IF(OR($Q930=\"µc-Si / a-Si\",$Q930=\"a-Si (single)\",$Q930=\"a-Si (tandem)\",$Q930=\"a-Si (triple)\"),3,2))))","v":3},0,null,null,21774,null,null,928]
["Auria Solar Co. Ltd. C140000","Auria Solar Co. Ltd. ","C140000",140,"+3...-3",33.799999999999997,4.1500000000000004,43.9,4.93,-131.69999999999999,3.4510000000000005,-0.25,1000,"Taiwan (Formosa)",null,9.7902097702026367,"µc-Si / a-Si",null,null,1300,1100,6.8,"frameless","junction box MC4",23,"www.auriasolar.com","-","-","-","-","-",{"$f":"IF($O931=\"Sunpower Corp.\",3,(IF(OR($Q931=\"mono\",$Q931=\"poly\",$Q931=\"HIT\",$Q931=\"EFG\",$Q931=\"mono-LGBC\"),1,IF(OR($Q931=\"µc-Si / a-Si\",$Q931=\"a-Si (single)\",$Q931=\"a-Si (tandem)\",$Q931=\"a-Si (triple)\"),3,2))))","v":3},{"$f":"IF($O931=\"Sunpower Corp.\",3,(IF(OR($Q931=\"mono\",$Q931=\"poly\",$Q931=\"HIT\",$Q931=\"EFG\",$Q931=\"mono-LGBC\"),1,2)))","v":2},{"$f":"IF($O931=\"Sunpower Corp.\",3,(IF(OR($Q931=\"mono\",$Q931=\"poly\",$Q931=\"HIT\",$Q931=\"EFG\",$Q931=\"mono-LGBC\"),1,IF(OR($Q931=\"µc-Si / a-Si\",$Q931=\"a-Si (single)\",$Q931=\"a-Si (tandem)\",$Q931=\"a-Si (triple)\"),3,2))))","v":3},0,null,null,30559,null,null,929]
["Auria Solar Co. Ltd. F115000","Auria Solar Co. Ltd. ","F115000",115,"+3...-3",66.599999999999994,1.73,89.1,2.14,-267.3,1.4980000000000002,-0.25,1000,"Taiwan (Formosa)",null,8.0419578552246094,"µc-Si / a-Si",null,null,1300,1100,null,"frameless","junction box MC4",23,"www.auriasolar.com","-","-","-","-","-",{"$f":"IF($O932=\"Sunpower Corp.\",3,(IF(OR($Q932=\"mono\",$Q932=\"poly\",$Q932=\"HIT\",$Q932=\"EFG\",$Q932=\"mono-LGBC\"),1,IF(OR($Q932=\"µc-Si / a-Si\",$Q932=\"a-Si (single)\",$Q932=\"a-Si (tandem)\",$Q932=\"a-Si (triple)\"),3,2))))","v":3},{"$f":"IF($O932=\"Sunpower Corp.\",3,(IF(OR($Q932=\"mono\",$Q932=\"poly\",$Q932=\"HIT\",$Q932=\"EFG\",$Q932=\"mono-LGBC\"),1,2)))","v":2},{"$f":"IF($O932=\"Sunpower Corp.\",3,(IF(OR($Q932=\"mono\",$Q932=\"poly\",$Q932=\"HIT\",$Q932=\"EFG\",$Q932=\"mono-LGBC\"),1,IF(OR($Q932=\"µc-Si / a-Si\",$Q932=\"a-Si (single)\",$Q932=\"a-Si (tandem)\",$Q932=\"a-Si (triple)\"),3,2))))","v":3},0,null,null,21767,null,null,930]
["Auria Solar Co. Ltd. F120000","Auria Solar Co. Ltd. ","F120000",120,"+3...-3",68.099999999999994,1.76,90.9,2.17,-272.7,1.5190000000000001,-0.25,1000,"Taiwan (Formosa)",null,8.3916082382202148,"µc-Si / a-Si",null,null,1300,1100,6.8,"frameless","junction box MC4",23,"www.auriasolar.com","-","-","-","-","-",{"$f":"IF($O933=\"Sunpower Corp.\",3,(IF(OR($Q933=\"mono\",$Q933=\"poly\",$Q933=\"HIT\",$Q933=\"EFG\",$Q933=\"mono-LGBC\"),1,IF(OR($Q933=\"µc-Si / a-Si\",$Q933=\"a-Si (single)\",$Q933=\"a-Si (tandem)\",$Q933=\"a-Si (triple)\"),3,2))))","v":3},{"$f":"IF($O933=\"Sunpower Corp.\",3,(IF(OR($Q933=\"mono\",$Q933=\"poly\",$Q933=\"HIT\",$Q933=\"EFG\",$Q933=\"mono-LGBC\"),1,2)))","v":2},{"$f":"IF($O933=\"Sunpower Corp.\",3,(IF(OR($Q933=\"mono\",$Q933=\"poly\",$Q933=\"HIT\",$Q933=\"EFG\",$Q933=\"mono-LGBC\"),1,IF(OR($Q933=\"µc-Si / a-Si\",$Q933=\"a-Si (single)\",$Q933=\"a-Si (tandem)\",$Q933=\"a-Si (triple)\"),3,2))))","v":3},0,null,null,21768,null,null,931]
["Auria Solar Co. Ltd. F125000","Auria Solar Co. Ltd. ","F125000",125,"+3...-3",70.400000000000006,1.78,91.3,2.1800000000000002,-273.89999999999998,1.5260000000000002,-0.25,1000,"Taiwan (Formosa)",null,8.7412586212158203,"µc-Si / a-Si",null,null,1300,1100,6.8,"frameless","junction box MC4",23,"www.auriasolar.com","-","-","-","-","-",{"$f":"IF($O934=\"Sunpower Corp.\",3,(IF(OR($Q934=\"mono\",$Q934=\"poly\",$Q934=\"HIT\",$Q934=\"EFG\",$Q934=\"mono-LGBC\"),1,IF(OR($Q934=\"µc-Si / a-Si\",$Q934=\"a-Si (single)\",$Q934=\"a-Si (tandem)\",$Q934=\"a-Si (triple)\"),3,2))))","v":3},{"$f":"IF($O934=\"Sunpower Corp.\",3,(IF(OR($Q934=\"mono\",$Q934=\"poly\",$Q934=\"HIT\",$Q934=\"EFG\",$Q934=\"mono-LGBC\"),1,2)))","v":2},{"$f":"IF($O934=\"Sunpower Corp.\",3,(IF(OR($Q934=\"mono\",$Q934=\"poly\",$Q934=\"HIT\",$Q934=\"EFG\",$Q934=\"mono-LGBC\"),1,IF(OR($Q934=\"µc-Si / a-Si\",$Q934=\"a-Si (single)\",$Q934=\"a-Si (tandem)\",$Q934=\"a-Si (triple)\"),3,2))))","v":3},0,null,null,21769,null,null,932]
["Auria Solar Co. Ltd. F130000","Auria Solar Co. Ltd. ","F130000",130,"+3...-3",71.3,1.81,92.1,2.21,-276.3,1.5470000000000002,-0.25,1000,"Taiwan (Formosa)",null,9.0909090042114258,"µc-Si / a-Si",null,null,1300,1100,6.8,"frameless","junction box MC4",23,"www.auriasolar.com","-","-","-","-","-",{"$f":"IF($O935=\"Sunpower Corp.\",3,(IF(OR($Q935=\"mono\",$Q935=\"poly\",$Q935=\"HIT\",$Q935=\"EFG\",$Q935=\"mono-LGBC\"),1,IF(OR($Q935=\"µc-Si / a-Si\",$Q935=\"a-Si (single)\",$Q935=\"a-Si (tandem)\",$Q935=\"a-Si (triple)\"),3,2))))","v":3},{"$f":"IF($O935=\"Sunpower Corp.\",3,(IF(OR($Q935=\"mono\",$Q935=\"poly\",$Q935=\"HIT\",$Q935=\"EFG\",$Q935=\"mono-LGBC\"),1,2)))","v":2},{"$f":"IF($O935=\"Sunpower Corp.\",3,(IF(OR($Q935=\"mono\",$Q935=\"poly\",$Q935=\"HIT\",$Q935=\"EFG\",$Q935=\"mono-LGBC\"),1,IF(OR($Q935=\"µc-Si / a-Si\",$Q935=\"a-Si (single)\",$Q935=\"a-Si (tandem)\",$Q935=\"a-Si (triple)\"),3,2))))","v":3},0,null,null,21770,null,null,933]
["Auria Solar Co. Ltd. F135000","Auria Solar Co. Ltd. ","F135000",135,"+3...-3",71.5,1.89,92.9,2.2999999999999998,-278.7,1.61,-0.25,1000,"Taiwan (Formosa)",null,9.4405593872070313,"µc-Si / a-Si",null,null,1300,1100,6.8,"frameless","junction box MC4",23,"www.auriasolar.com","-","-","-","-","-",{"$f":"IF($O936=\"Sunpower Corp.\",3,(IF(OR($Q936=\"mono\",$Q936=\"poly\",$Q936=\"HIT\",$Q936=\"EFG\",$Q936=\"mono-LGBC\"),1,IF(OR($Q936=\"µc-Si / a-Si\",$Q936=\"a-Si (single)\",$Q936=\"a-Si (tandem)\",$Q936=\"a-Si (triple)\"),3,2))))","v":3},{"$f":"IF($O936=\"Sunpower Corp.\",3,(IF(OR($Q936=\"mono\",$Q936=\"poly\",$Q936=\"HIT\",$Q936=\"EFG\",$Q936=\"mono-LGBC\"),1,2)))","v":2},{"$f":"IF($O936=\"Sunpower Corp.\",3,(IF(OR($Q936=\"mono\",$Q936=\"poly\",$Q936=\"HIT\",$Q936=\"EFG\",$Q936=\"mono-LGBC\"),1,IF(OR($Q936=\"µc-Si / a-Si\",$Q936=\"a-Si (single)\",$Q936=\"a-Si (tandem)\",$Q936=\"a-Si (triple)\"),3,2))))","v":3},0,null,null,30560,null,null,934]
["Auria Solar Co. Ltd. F140000","Auria Solar Co. Ltd. ","F140000",140,"+3...-3",71.7,1.95,93.4,2.35,-280.2,1.645,-0.25,1000,"Taiwan (Formosa)",null,9.7902097702026367,"µc-Si / a-Si",null,null,1300,1100,6.8,"frameless","junction box MC4",23,"www.auriasolar.com","-","-","-","-","-",{"$f":"IF($O937=\"Sunpower Corp.\",3,(IF(OR($Q937=\"mono\",$Q937=\"poly\",$Q937=\"HIT\",$Q937=\"EFG\",$Q937=\"mono-LGBC\"),1,IF(OR($Q937=\"µc-Si / a-Si\",$Q937=\"a-Si (single)\",$Q937=\"a-Si (tandem)\",$Q937=\"a-Si (triple)\"),3,2))))","v":3},{"$f":"IF($O937=\"Sunpower Corp.\",3,(IF(OR($Q937=\"mono\",$Q937=\"poly\",$Q937=\"HIT\",$Q937=\"EFG\",$Q937=\"mono-LGBC\"),1,2)))","v":2},{"$f":"IF($O937=\"Sunpower Corp.\",3,(IF(OR($Q937=\"mono\",$Q937=\"poly\",$Q937=\"HIT\",$Q937=\"EFG\",$Q937=\"mono-LGBC\"),1,IF(OR($Q937=\"µc-Si / a-Si\",$Q937=\"a-Si (single)\",$Q937=\"a-Si (tandem)\",$Q937=\"a-Si (triple)\"),3,2))))","v":3},0,null,null,30561,null,null,935]
["Auria Solar Co. Ltd. M105000","Auria Solar Co. Ltd. ","M105000",105,"+5...-5",92.5,1.1299999999999999,128.4,1.47,-385.2,1.0290000000000001,-0.25,1000,"Taiwan (Formosa)",null,7.3426580429077148,"µc-Si / a-Si",null,null,1300,1100,null,"frameless","junction box MC4",23,"www.auriasolar.com","-","-","-","-","-",{"$f":"IF($O938=\"Sunpower Corp.\",3,(IF(OR($Q938=\"mono\",$Q938=\"poly\",$Q938=\"HIT\",$Q938=\"EFG\",$Q938=\"mono-LGBC\"),1,IF(OR($Q938=\"µc-Si / a-Si\",$Q938=\"a-Si (single)\",$Q938=\"a-Si (tandem)\",$Q938=\"a-Si (triple)\"),3,2))))","v":3},{"$f":"IF($O938=\"Sunpower Corp.\",3,(IF(OR($Q938=\"mono\",$Q938=\"poly\",$Q938=\"HIT\",$Q938=\"EFG\",$Q938=\"mono-LGBC\"),1,2)))","v":2},{"$f":"IF($O938=\"Sunpower Corp.\",3,(IF(OR($Q938=\"mono\",$Q938=\"poly\",$Q938=\"HIT\",$Q938=\"EFG\",$Q938=\"mono-LGBC\"),1,IF(OR($Q938=\"µc-Si / a-Si\",$Q938=\"a-Si (single)\",$Q938=\"a-Si (tandem)\",$Q938=\"a-Si (triple)\"),3,2))))","v":3},0,null,null,13637,null,null,936]
["Auria Solar Co. Ltd. M110000","Auria Solar Co. Ltd. ","M110000",110,"+5...-5",93.3,1.18,128.80000000000001,1.52,-386.4,1.0640000000000001,-0.25,1000,"Taiwan (Formosa)",null,7.6923069953918457,"µc-Si / a-Si",null,null,1300,1100,null,"frameless","junction box MC4",23,"www.auriasolar.com","-","-","-","-","-",{"$f":"IF($O939=\"Sunpower Corp.\",3,(IF(OR($Q939=\"mono\",$Q939=\"poly\",$Q939=\"HIT\",$Q939=\"EFG\",$Q939=\"mono-LGBC\"),1,IF(OR($Q939=\"µc-Si / a-Si\",$Q939=\"a-Si (single)\",$Q939=\"a-Si (tandem)\",$Q939=\"a-Si (triple)\"),3,2))))","v":3},{"$f":"IF($O939=\"Sunpower Corp.\",3,(IF(OR($Q939=\"mono\",$Q939=\"poly\",$Q939=\"HIT\",$Q939=\"EFG\",$Q939=\"mono-LGBC\"),1,2)))","v":2},{"$f":"IF($O939=\"Sunpower Corp.\",3,(IF(OR($Q939=\"mono\",$Q939=\"poly\",$Q939=\"HIT\",$Q939=\"EFG\",$Q939=\"mono-LGBC\"),1,IF(OR($Q939=\"µc-Si / a-Si\",$Q939=\"a-Si (single)\",$Q939=\"a-Si (tandem)\",$Q939=\"a-Si (triple)\"),3,2))))","v":3},0,null,null,10142,null,null,937]
["Auria Solar Co. Ltd. M115000","Auria Solar Co. Ltd. ","M115000",115,"+3...-3",93.9,1.22,127.5,1.49,-382.5,1.0430000000000001,-0.25,1000,"Taiwan (Formosa)",null,8.0419578552246094,"µc-Si / a-Si",null,null,1300,1100,6.8,"frameless","junction box MC4",23,"www.auriasolar.com","-","-","-","-","-",{"$f":"IF($O940=\"Sunpower Corp.\",3,(IF(OR($Q940=\"mono\",$Q940=\"poly\",$Q940=\"HIT\",$Q940=\"EFG\",$Q940=\"mono-LGBC\"),1,IF(OR($Q940=\"µc-Si / a-Si\",$Q940=\"a-Si (single)\",$Q940=\"a-Si (tandem)\",$Q940=\"a-Si (triple)\"),3,2))))","v":3},{"$f":"IF($O940=\"Sunpower Corp.\",3,(IF(OR($Q940=\"mono\",$Q940=\"poly\",$Q940=\"HIT\",$Q940=\"EFG\",$Q940=\"mono-LGBC\"),1,2)))","v":2},{"$f":"IF($O940=\"Sunpower Corp.\",3,(IF(OR($Q940=\"mono\",$Q940=\"poly\",$Q940=\"HIT\",$Q940=\"EFG\",$Q940=\"mono-LGBC\"),1,IF(OR($Q940=\"µc-Si / a-Si\",$Q940=\"a-Si (single)\",$Q940=\"a-Si (tandem)\",$Q940=\"a-Si (triple)\"),3,2))))","v":3},0,null,null,13638,null,null,938]
["Auria Solar Co. Ltd. M120000","Auria Solar Co. Ltd. ","M120000",120,"+3...-3",96,1.26,129.80000000000001,1.51,-389.4,1.0570000000000002,-0.25,1000,"Taiwan (Formosa)",null,8.3916082382202148,"µc-Si / a-Si",null,null,1300,1100,6.8,"frameless","junction box MC4",23,"www.auriasolar.com","-","-","-","-","-",{"$f":"IF($O941=\"Sunpower Corp.\",3,(IF(OR($Q941=\"mono\",$Q941=\"poly\",$Q941=\"HIT\",$Q941=\"EFG\",$Q941=\"mono-LGBC\"),1,IF(OR($Q941=\"µc-Si / a-Si\",$Q941=\"a-Si (single)\",$Q941=\"a-Si (tandem)\",$Q941=\"a-Si (triple)\"),3,2))))","v":3},{"$f":"IF($O941=\"Sunpower Corp.\",3,(IF(OR($Q941=\"mono\",$Q941=\"poly\",$Q941=\"HIT\",$Q941=\"EFG\",$Q941=\"mono-LGBC\"),1,2)))","v":2},{"$f":"IF($O941=\"Sunpower Corp.\",3,(IF(OR($Q941=\"mono\",$Q941=\"poly\",$Q941=\"HIT\",$Q941=\"EFG\",$Q941=\"mono-LGBC\"),1,IF(OR($Q941=\"µc-Si / a-Si\",$Q941=\"a-Si (single)\",$Q941=\"a-Si (tandem)\",$Q941=\"a-Si (triple)\"),3,2))))","v":3},0,null,null,10143,null,null,939]
["Auria Solar Co. Ltd. M125000","Auria Solar Co. Ltd. ","M125000",125,"+3...-3",98.5,1.27,132.5,1.52,-397.5,1.0640000000000001,-0.25,1000,"Taiwan (Formosa)",null,8.7412586212158203,"µc-Si / a-Si",null,null,1300,1100,6.8,"frameless","junction box MC4",23,"www.auriasolar.com","-","-","-","-","-",{"$f":"IF($O942=\"Sunpower Corp.\",3,(IF(OR($Q942=\"mono\",$Q942=\"poly\",$Q942=\"HIT\",$Q942=\"EFG\",$Q942=\"mono-LGBC\"),1,IF(OR($Q942=\"µc-Si / a-Si\",$Q942=\"a-Si (single)\",$Q942=\"a-Si (tandem)\",$Q942=\"a-Si (triple)\"),3,2))))","v":3},{"$f":"IF($O942=\"Sunpower Corp.\",3,(IF(OR($Q942=\"mono\",$Q942=\"poly\",$Q942=\"HIT\",$Q942=\"EFG\",$Q942=\"mono-LGBC\"),1,2)))","v":2},{"$f":"IF($O942=\"Sunpower Corp.\",3,(IF(OR($Q942=\"mono\",$Q942=\"poly\",$Q942=\"HIT\",$Q942=\"EFG\",$Q942=\"mono-LGBC\"),1,IF(OR($Q942=\"µc-Si / a-Si\",$Q942=\"a-Si (single)\",$Q942=\"a-Si (tandem)\",$Q942=\"a-Si (triple)\"),3,2))))","v":3},0,null,null,13639,null,null,940]
["Auria Solar Co. Ltd. M130000","Auria Solar Co. Ltd. ","M130000",130,"+3...-3",99.1,1.31,133.1,1.56,-399.3,1.0920000000000001,-0.25,1000,"Taiwan (Formosa)",null,9.0909090042114258,"µc-Si / a-Si",null,null,1300,1100,6.8,"frameless","junction box MC4",23,"www.auriasolar.com","-","-","-","-","-",{"$f":"IF($O943=\"Sunpower Corp.\",3,(IF(OR($Q943=\"mono\",$Q943=\"poly\",$Q943=\"HIT\",$Q943=\"EFG\",$Q943=\"mono-LGBC\"),1,IF(OR($Q943=\"µc-Si / a-Si\",$Q943=\"a-Si (single)\",$Q943=\"a-Si (tandem)\",$Q943=\"a-Si (triple)\"),3,2))))","v":3},{"$f":"IF($O943=\"Sunpower Corp.\",3,(IF(OR($Q943=\"mono\",$Q943=\"poly\",$Q943=\"HIT\",$Q943=\"EFG\",$Q943=\"mono-LGBC\"),1,2)))","v":2},{"$f":"IF($O943=\"Sunpower Corp.\",3,(IF(OR($Q943=\"mono\",$Q943=\"poly\",$Q943=\"HIT\",$Q943=\"EFG\",$Q943=\"mono-LGBC\"),1,IF(OR($Q943=\"µc-Si / a-Si\",$Q943=\"a-Si (single)\",$Q943=\"a-Si (tandem)\",$Q943=\"a-Si (triple)\"),3,2))))","v":3},0,null,null,13640,null,null,941]
["Auria Solar Co. Ltd. M135000","Auria Solar Co. Ltd. ","M135000",135,"+3...-3",99.7,1.35,133.69999999999999,1.59,-401.1,1.1130000000000002,-0.25,1000,"Taiwan (Formosa)",null,9.4405593872070313,"µc-Si / a-Si",null,null,1300,1100,6.8,"frameless","junction box MC4",23,"www.auriasolar.com","-","-","-","-","-",{"$f":"IF($O944=\"Sunpower Corp.\",3,(IF(OR($Q944=\"mono\",$Q944=\"poly\",$Q944=\"HIT\",$Q944=\"EFG\",$Q944=\"mono-LGBC\"),1,IF(OR($Q944=\"µc-Si / a-Si\",$Q944=\"a-Si (single)\",$Q944=\"a-Si (tandem)\",$Q944=\"a-Si (triple)\"),3,2))))","v":3},{"$f":"IF($O944=\"Sunpower Corp.\",3,(IF(OR($Q944=\"mono\",$Q944=\"poly\",$Q944=\"HIT\",$Q944=\"EFG\",$Q944=\"mono-LGBC\"),1,2)))","v":2},{"$f":"IF($O944=\"Sunpower Corp.\",3,(IF(OR($Q944=\"mono\",$Q944=\"poly\",$Q944=\"HIT\",$Q944=\"EFG\",$Q944=\"mono-LGBC\"),1,IF(OR($Q944=\"µc-Si / a-Si\",$Q944=\"a-Si (single)\",$Q944=\"a-Si (tandem)\",$Q944=\"a-Si (triple)\"),3,2))))","v":3},0,null,null,13641,null,null,942]
["Auria Solar Co. Ltd. M140000","Auria Solar Co. Ltd. ","M140000",140,"+3...-3",100.3,1.4,134.19999999999999,1.63,-402.6,1.141,-0.25,1000,"Taiwan (Formosa)",null,9.7902097702026367,"µc-Si / a-Si",null,null,1300,1100,6.8,"frameless","junction box MC4",23,"www.auriasolar.com","-","-","-","-","-",{"$f":"IF($O945=\"Sunpower Corp.\",3,(IF(OR($Q945=\"mono\",$Q945=\"poly\",$Q945=\"HIT\",$Q945=\"EFG\",$Q945=\"mono-LGBC\"),1,IF(OR($Q945=\"µc-Si / a-Si\",$Q945=\"a-Si (single)\",$Q945=\"a-Si (tandem)\",$Q945=\"a-Si (triple)\"),3,2))))","v":3},{"$f":"IF($O945=\"Sunpower Corp.\",3,(IF(OR($Q945=\"mono\",$Q945=\"poly\",$Q945=\"HIT\",$Q945=\"EFG\",$Q945=\"mono-LGBC\"),1,2)))","v":2},{"$f":"IF($O945=\"Sunpower Corp.\",3,(IF(OR($Q945=\"mono\",$Q945=\"poly\",$Q945=\"HIT\",$Q945=\"EFG\",$Q945=\"mono-LGBC\"),1,IF(OR($Q945=\"µc-Si / a-Si\",$Q945=\"a-Si (single)\",$Q945=\"a-Si (tandem)\",$Q945=\"a-Si (triple)\"),3,2))))","v":3},0,null,null,13642,null,null,943]
["auroPower GmbH C04-220","auroPower GmbH ","C04-220",220,"+3...-3",28.8,7.65,36.25,8.3000000000000007,-134.125,4.1500000000000004,-0.47,1000,null,"Q-Cells AG",13.213020324707031,"mono",60,"pseudo-square",1626,1024,50,"aluminum","cable MC new",23,"www.auropower.de","-","-","-","-","-",{"$f":"IF($O946=\"Sunpower Corp.\",3,(IF(OR($Q946=\"mono\",$Q946=\"poly\",$Q946=\"HIT\",$Q946=\"EFG\",$Q946=\"mono-LGBC\"),1,IF(OR($Q946=\"µc-Si / a-Si\",$Q946=\"a-Si (single)\",$Q946=\"a-Si (tandem)\",$Q946=\"a-Si (triple)\"),3,2))))","v":1},{"$f":"IF($O946=\"Sunpower Corp.\",3,(IF(OR($Q946=\"mono\",$Q946=\"poly\",$Q946=\"HIT\",$Q946=\"EFG\",$Q946=\"mono-LGBC\"),1,2)))","v":1},{"$f":"IF($O946=\"Sunpower Corp.\",3,(IF(OR($Q946=\"mono\",$Q946=\"poly\",$Q946=\"HIT\",$Q946=\"EFG\",$Q946=\"mono-LGBC\"),1,IF(OR($Q946=\"µc-Si / a-Si\",$Q946=\"a-Si (single)\",$Q946=\"a-Si (tandem)\",$Q946=\"a-Si (triple)\"),3,2))))","v":1},0,null,null,17316,null,null,944]
["auroPower GmbH C04-225","auroPower GmbH ","C04-225",225,"+3...-3",29,7.75,36.35,8.4,-134.495,4.2,-0.47,1000,null,"Q-Cells AG",13.513319969177246,"mono",60,"pseudo-square",1626,1024,50,"aluminum","cable MC new",23,"www.auropower.de","-","-","-","-","-",{"$f":"IF($O947=\"Sunpower Corp.\",3,(IF(OR($Q947=\"mono\",$Q947=\"poly\",$Q947=\"HIT\",$Q947=\"EFG\",$Q947=\"mono-LGBC\"),1,IF(OR($Q947=\"µc-Si / a-Si\",$Q947=\"a-Si (single)\",$Q947=\"a-Si (tandem)\",$Q947=\"a-Si (triple)\"),3,2))))","v":1},{"$f":"IF($O947=\"Sunpower Corp.\",3,(IF(OR($Q947=\"mono\",$Q947=\"poly\",$Q947=\"HIT\",$Q947=\"EFG\",$Q947=\"mono-LGBC\"),1,2)))","v":1},{"$f":"IF($O947=\"Sunpower Corp.\",3,(IF(OR($Q947=\"mono\",$Q947=\"poly\",$Q947=\"HIT\",$Q947=\"EFG\",$Q947=\"mono-LGBC\"),1,IF(OR($Q947=\"µc-Si / a-Si\",$Q947=\"a-Si (single)\",$Q947=\"a-Si (tandem)\",$Q947=\"a-Si (triple)\"),3,2))))","v":1},0,null,null,17317,null,null,945]
["auroPower GmbH C04-230","auroPower GmbH ","C04-230",230,"+3...-3",29.2,7.85,36.4,8.4499999999999993,-134.68,4.2249999999999996,-0.47,1000,null,"Q-Cells AG",13.813610076904297,"mono",60,"pseudo-square",1626,1024,50,"aluminum","cable MC new",23,"www.auropower.de","-","-","-","-","-",{"$f":"IF($O948=\"Sunpower Corp.\",3,(IF(OR($Q948=\"mono\",$Q948=\"poly\",$Q948=\"HIT\",$Q948=\"EFG\",$Q948=\"mono-LGBC\"),1,IF(OR($Q948=\"µc-Si / a-Si\",$Q948=\"a-Si (single)\",$Q948=\"a-Si (tandem)\",$Q948=\"a-Si (triple)\"),3,2))))","v":1},{"$f":"IF($O948=\"Sunpower Corp.\",3,(IF(OR($Q948=\"mono\",$Q948=\"poly\",$Q948=\"HIT\",$Q948=\"EFG\",$Q948=\"mono-LGBC\"),1,2)))","v":1},{"$f":"IF($O948=\"Sunpower Corp.\",3,(IF(OR($Q948=\"mono\",$Q948=\"poly\",$Q948=\"HIT\",$Q948=\"EFG\",$Q948=\"mono-LGBC\"),1,IF(OR($Q948=\"µc-Si / a-Si\",$Q948=\"a-Si (single)\",$Q948=\"a-Si (tandem)\",$Q948=\"a-Si (triple)\"),3,2))))","v":1},0,null,null,17318,null,null,946]
["auroPower GmbH C04-235","auroPower GmbH ","C04-235",235,"+3...-3",29.4,7.95,36.5,8.5500000000000007,-135.05000000000001,4.2750000000000004,-0.47,1000,null,"Q-Cells AG",14.113909721374512,"mono",60,"pseudo-square",1626,1024,50,"aluminum","cable MC new",23,"www.auropower.de","-","-","-","-","-",{"$f":"IF($O949=\"Sunpower Corp.\",3,(IF(OR($Q949=\"mono\",$Q949=\"poly\",$Q949=\"HIT\",$Q949=\"EFG\",$Q949=\"mono-LGBC\"),1,IF(OR($Q949=\"µc-Si / a-Si\",$Q949=\"a-Si (single)\",$Q949=\"a-Si (tandem)\",$Q949=\"a-Si (triple)\"),3,2))))","v":1},{"$f":"IF($O949=\"Sunpower Corp.\",3,(IF(OR($Q949=\"mono\",$Q949=\"poly\",$Q949=\"HIT\",$Q949=\"EFG\",$Q949=\"mono-LGBC\"),1,2)))","v":1},{"$f":"IF($O949=\"Sunpower Corp.\",3,(IF(OR($Q949=\"mono\",$Q949=\"poly\",$Q949=\"HIT\",$Q949=\"EFG\",$Q949=\"mono-LGBC\"),1,IF(OR($Q949=\"µc-Si / a-Si\",$Q949=\"a-Si (single)\",$Q949=\"a-Si (tandem)\",$Q949=\"a-Si (triple)\"),3,2))))","v":1},0,null,null,17319,null,null,947]
["auroPower GmbH C05-215","auroPower GmbH ","C05-215",215,"+3...-3",28.6,7.5,35.799999999999997,8.1,-132.46,4.05,-0.47,1000,null,"Q-Cells AG",12.874250411987305,"poly",60,null,1670,1000,50,"aluminum","cable MC new",23,"www.auropower.de","-","-","-","-","-",{"$f":"IF($O950=\"Sunpower Corp.\",3,(IF(OR($Q950=\"mono\",$Q950=\"poly\",$Q950=\"HIT\",$Q950=\"EFG\",$Q950=\"mono-LGBC\"),1,IF(OR($Q950=\"µc-Si / a-Si\",$Q950=\"a-Si (single)\",$Q950=\"a-Si (tandem)\",$Q950=\"a-Si (triple)\"),3,2))))","v":1},{"$f":"IF($O950=\"Sunpower Corp.\",3,(IF(OR($Q950=\"mono\",$Q950=\"poly\",$Q950=\"HIT\",$Q950=\"EFG\",$Q950=\"mono-LGBC\"),1,2)))","v":1},{"$f":"IF($O950=\"Sunpower Corp.\",3,(IF(OR($Q950=\"mono\",$Q950=\"poly\",$Q950=\"HIT\",$Q950=\"EFG\",$Q950=\"mono-LGBC\"),1,IF(OR($Q950=\"µc-Si / a-Si\",$Q950=\"a-Si (single)\",$Q950=\"a-Si (tandem)\",$Q950=\"a-Si (triple)\"),3,2))))","v":1},0,null,null,17320,null,null,948]
["auroPower GmbH C05-220","auroPower GmbH ","C05-220",220,"+3...-3",29,7.6,36,8.1999999999999993,-133.19999999999999,4.0999999999999996,-0.47,1000,null,"Q-Cells AG",13.173649787902832,"poly",60,null,1670,1000,50,"aluminum","cable MC new",23,"www.auropower.de","-","-","-","-","-",{"$f":"IF($O951=\"Sunpower Corp.\",3,(IF(OR($Q951=\"mono\",$Q951=\"poly\",$Q951=\"HIT\",$Q951=\"EFG\",$Q951=\"mono-LGBC\"),1,IF(OR($Q951=\"µc-Si / a-Si\",$Q951=\"a-Si (single)\",$Q951=\"a-Si (tandem)\",$Q951=\"a-Si (triple)\"),3,2))))","v":1},{"$f":"IF($O951=\"Sunpower Corp.\",3,(IF(OR($Q951=\"mono\",$Q951=\"poly\",$Q951=\"HIT\",$Q951=\"EFG\",$Q951=\"mono-LGBC\"),1,2)))","v":1},{"$f":"IF($O951=\"Sunpower Corp.\",3,(IF(OR($Q951=\"mono\",$Q951=\"poly\",$Q951=\"HIT\",$Q951=\"EFG\",$Q951=\"mono-LGBC\"),1,IF(OR($Q951=\"µc-Si / a-Si\",$Q951=\"a-Si (single)\",$Q951=\"a-Si (tandem)\",$Q951=\"a-Si (triple)\"),3,2))))","v":1},0,null,null,17321,null,null,949]
["auroPower GmbH C05-225","auroPower GmbH ","C05-225",225,"+3...-3",29.4,7.65,36.4,8.25,-134.68,4.125,-0.47,1000,null,"Q-Cells AG",13.473050117492676,"poly",60,null,1670,1000,50,"aluminum","cable MC new",23,"www.auropower.de","-","-","-","-","-",{"$f":"IF($O952=\"Sunpower Corp.\",3,(IF(OR($Q952=\"mono\",$Q952=\"poly\",$Q952=\"HIT\",$Q952=\"EFG\",$Q952=\"mono-LGBC\"),1,IF(OR($Q952=\"µc-Si / a-Si\",$Q952=\"a-Si (single)\",$Q952=\"a-Si (tandem)\",$Q952=\"a-Si (triple)\"),3,2))))","v":1},{"$f":"IF($O952=\"Sunpower Corp.\",3,(IF(OR($Q952=\"mono\",$Q952=\"poly\",$Q952=\"HIT\",$Q952=\"EFG\",$Q952=\"mono-LGBC\"),1,2)))","v":1},{"$f":"IF($O952=\"Sunpower Corp.\",3,(IF(OR($Q952=\"mono\",$Q952=\"poly\",$Q952=\"HIT\",$Q952=\"EFG\",$Q952=\"mono-LGBC\"),1,IF(OR($Q952=\"µc-Si / a-Si\",$Q952=\"a-Si (single)\",$Q952=\"a-Si (tandem)\",$Q952=\"a-Si (triple)\"),3,2))))","v":1},0,null,null,17322,null,null,950]
["auroPower GmbH C05-230","auroPower GmbH ","C05-230",230,"+3...-3",29.65,7.75,36.6,8.3000000000000007,-135.41999999999999,4.1500000000000004,-0.47,1000,null,"Q-Cells AG",13.772459983825684,"poly",60,null,1670,1000,50,"aluminum","cable MC new",23,"www.auropower.de","-","-","-","-","-",{"$f":"IF($O953=\"Sunpower Corp.\",3,(IF(OR($Q953=\"mono\",$Q953=\"poly\",$Q953=\"HIT\",$Q953=\"EFG\",$Q953=\"mono-LGBC\"),1,IF(OR($Q953=\"µc-Si / a-Si\",$Q953=\"a-Si (single)\",$Q953=\"a-Si (tandem)\",$Q953=\"a-Si (triple)\"),3,2))))","v":1},{"$f":"IF($O953=\"Sunpower Corp.\",3,(IF(OR($Q953=\"mono\",$Q953=\"poly\",$Q953=\"HIT\",$Q953=\"EFG\",$Q953=\"mono-LGBC\"),1,2)))","v":1},{"$f":"IF($O953=\"Sunpower Corp.\",3,(IF(OR($Q953=\"mono\",$Q953=\"poly\",$Q953=\"HIT\",$Q953=\"EFG\",$Q953=\"mono-LGBC\"),1,IF(OR($Q953=\"µc-Si / a-Si\",$Q953=\"a-Si (single)\",$Q953=\"a-Si (tandem)\",$Q953=\"a-Si (triple)\"),3,2))))","v":1},0,null,null,17323,null,null,951]
["auroPower GmbH C05-235","auroPower GmbH ","C05-235",235,"+3...-3",29.9,7.8,36.799999999999997,8.35,-136.16,4.1749999999999998,-0.47,1000,null,"Q-Cells AG",14.071860313415527,"poly",60,null,1670,1000,50,"aluminum","cable MC new",23,"www.auropower.de","-","-","-","-","-",{"$f":"IF($O954=\"Sunpower Corp.\",3,(IF(OR($Q954=\"mono\",$Q954=\"poly\",$Q954=\"HIT\",$Q954=\"EFG\",$Q954=\"mono-LGBC\"),1,IF(OR($Q954=\"µc-Si / a-Si\",$Q954=\"a-Si (single)\",$Q954=\"a-Si (tandem)\",$Q954=\"a-Si (triple)\"),3,2))))","v":1},{"$f":"IF($O954=\"Sunpower Corp.\",3,(IF(OR($Q954=\"mono\",$Q954=\"poly\",$Q954=\"HIT\",$Q954=\"EFG\",$Q954=\"mono-LGBC\"),1,2)))","v":1},{"$f":"IF($O954=\"Sunpower Corp.\",3,(IF(OR($Q954=\"mono\",$Q954=\"poly\",$Q954=\"HIT\",$Q954=\"EFG\",$Q954=\"mono-LGBC\"),1,IF(OR($Q954=\"µc-Si / a-Si\",$Q954=\"a-Si (single)\",$Q954=\"a-Si (tandem)\",$Q954=\"a-Si (triple)\"),3,2))))","v":1},0,null,null,17324,null,null,952]
["Austrian Enviro Technologies A-R200","Austrian Enviro Technologies ","A-R200",200,"+3...-3",26.3,7.65,35,8.4499999999999993,-105,4.2249999999999996,-0.35,1000,null,null,12.550200462341309,"poly",null,"square",1660,960,50,null,null,20,null,"-","-","-","-","-",{"$f":"IF($O955=\"Sunpower Corp.\",3,(IF(OR($Q955=\"mono\",$Q955=\"poly\",$Q955=\"HIT\",$Q955=\"EFG\",$Q955=\"mono-LGBC\"),1,IF(OR($Q955=\"µc-Si / a-Si\",$Q955=\"a-Si (single)\",$Q955=\"a-Si (tandem)\",$Q955=\"a-Si (triple)\"),3,2))))","v":1},{"$f":"IF($O955=\"Sunpower Corp.\",3,(IF(OR($Q955=\"mono\",$Q955=\"poly\",$Q955=\"HIT\",$Q955=\"EFG\",$Q955=\"mono-LGBC\"),1,2)))","v":1},{"$f":"IF($O955=\"Sunpower Corp.\",3,(IF(OR($Q955=\"mono\",$Q955=\"poly\",$Q955=\"HIT\",$Q955=\"EFG\",$Q955=\"mono-LGBC\"),1,IF(OR($Q955=\"µc-Si / a-Si\",$Q955=\"a-Si (single)\",$Q955=\"a-Si (tandem)\",$Q955=\"a-Si (triple)\"),3,2))))","v":1},0,null,null,8264,null,null,953]
["Austrian Enviro Technologies BN185D","Austrian Enviro Technologies ","BN185D",185,"+5...-5",26,7.2,32.4,7.6,-123.12,0.76,-0.47,1000,"Austria",null,12.635580062866211,"poly",null,"square",1470,996,50,"aluminum","junction box",18,null,"-","-","-","-","-",{"$f":"IF($O956=\"Sunpower Corp.\",3,(IF(OR($Q956=\"mono\",$Q956=\"poly\",$Q956=\"HIT\",$Q956=\"EFG\",$Q956=\"mono-LGBC\"),1,IF(OR($Q956=\"µc-Si / a-Si\",$Q956=\"a-Si (single)\",$Q956=\"a-Si (tandem)\",$Q956=\"a-Si (triple)\"),3,2))))","v":1},{"$f":"IF($O956=\"Sunpower Corp.\",3,(IF(OR($Q956=\"mono\",$Q956=\"poly\",$Q956=\"HIT\",$Q956=\"EFG\",$Q956=\"mono-LGBC\"),1,2)))","v":1},{"$f":"IF($O956=\"Sunpower Corp.\",3,(IF(OR($Q956=\"mono\",$Q956=\"poly\",$Q956=\"HIT\",$Q956=\"EFG\",$Q956=\"mono-LGBC\"),1,IF(OR($Q956=\"µc-Si / a-Si\",$Q956=\"a-Si (single)\",$Q956=\"a-Si (tandem)\",$Q956=\"a-Si (triple)\"),3,2))))","v":1},0,null,null,6301,null,null,954]
["Auxin Solar LLC AXN-100/18v","Auxin Solar LLC ","AXN-100/18v",100,"+5...-5",25.9,3.87,29.9,4.46,-110.63,4.46,null,null,null,null,10.348019599914551,"mono",null,"pseudo-square",1196,808,35,"aluminum","junction box",11.5,"www.auxinsolar.com","-","-","-","-","-",{"$f":"IF($O957=\"Sunpower Corp.\",3,(IF(OR($Q957=\"mono\",$Q957=\"poly\",$Q957=\"HIT\",$Q957=\"EFG\",$Q957=\"mono-LGBC\"),1,IF(OR($Q957=\"µc-Si / a-Si\",$Q957=\"a-Si (single)\",$Q957=\"a-Si (tandem)\",$Q957=\"a-Si (triple)\"),3,2))))","v":1},{"$f":"IF($O957=\"Sunpower Corp.\",3,(IF(OR($Q957=\"mono\",$Q957=\"poly\",$Q957=\"HIT\",$Q957=\"EFG\",$Q957=\"mono-LGBC\"),1,2)))","v":1},{"$f":"IF($O957=\"Sunpower Corp.\",3,(IF(OR($Q957=\"mono\",$Q957=\"poly\",$Q957=\"HIT\",$Q957=\"EFG\",$Q957=\"mono-LGBC\"),1,IF(OR($Q957=\"µc-Si / a-Si\",$Q957=\"a-Si (single)\",$Q957=\"a-Si (tandem)\",$Q957=\"a-Si (triple)\"),3,2))))","v":1},0,null,null,9974,null,null,955]
["Auxin Solar LLC AXN-105/18v","Auxin Solar LLC ","AXN-105/18v",105,"+5...-5",26,4.04,29.9,4.5999999999999996,-110.63,4.5999999999999996,null,null,null,null,10.865429878234863,"mono",null,"pseudo-square",1196,808,35,"aluminum","junction box",11.5,"www.auxinsolar.com","-","-","-","-","-",{"$f":"IF($O958=\"Sunpower Corp.\",3,(IF(OR($Q958=\"mono\",$Q958=\"poly\",$Q958=\"HIT\",$Q958=\"EFG\",$Q958=\"mono-LGBC\"),1,IF(OR($Q958=\"µc-Si / a-Si\",$Q958=\"a-Si (single)\",$Q958=\"a-Si (tandem)\",$Q958=\"a-Si (triple)\"),3,2))))","v":1},{"$f":"IF($O958=\"Sunpower Corp.\",3,(IF(OR($Q958=\"mono\",$Q958=\"poly\",$Q958=\"HIT\",$Q958=\"EFG\",$Q958=\"mono-LGBC\"),1,2)))","v":1},{"$f":"IF($O958=\"Sunpower Corp.\",3,(IF(OR($Q958=\"mono\",$Q958=\"poly\",$Q958=\"HIT\",$Q958=\"EFG\",$Q958=\"mono-LGBC\"),1,IF(OR($Q958=\"µc-Si / a-Si\",$Q958=\"a-Si (single)\",$Q958=\"a-Si (tandem)\",$Q958=\"a-Si (triple)\"),3,2))))","v":1},0,null,null,9975,null,null,956]
["Auxin Solar LLC AXN-110/18v","Auxin Solar LLC ","AXN-110/18v",110,"+5...-5",26,4.24,32,4.8,-118.4,4.8,null,null,null,null,11.382829666137695,"mono",null,"pseudo-square",1196,808,35,"aluminum","junction box",11.5,"www.auxinsolar.com","-","-","-","-","-",{"$f":"IF($O959=\"Sunpower Corp.\",3,(IF(OR($Q959=\"mono\",$Q959=\"poly\",$Q959=\"HIT\",$Q959=\"EFG\",$Q959=\"mono-LGBC\"),1,IF(OR($Q959=\"µc-Si / a-Si\",$Q959=\"a-Si (single)\",$Q959=\"a-Si (tandem)\",$Q959=\"a-Si (triple)\"),3,2))))","v":1},{"$f":"IF($O959=\"Sunpower Corp.\",3,(IF(OR($Q959=\"mono\",$Q959=\"poly\",$Q959=\"HIT\",$Q959=\"EFG\",$Q959=\"mono-LGBC\"),1,2)))","v":1},{"$f":"IF($O959=\"Sunpower Corp.\",3,(IF(OR($Q959=\"mono\",$Q959=\"poly\",$Q959=\"HIT\",$Q959=\"EFG\",$Q959=\"mono-LGBC\"),1,IF(OR($Q959=\"µc-Si / a-Si\",$Q959=\"a-Si (single)\",$Q959=\"a-Si (tandem)\",$Q959=\"a-Si (triple)\"),3,2))))","v":1},0,null,null,9976,null,null,957]
["Auxin Solar LLC AXN-115/18v","Auxin Solar LLC ","AXN-115/18v",115,"+5...-5",26,4.43,32,4.95,-118.4,4.95,null,null,null,null,11.900230407714844,"mono",null,"pseudo-square",1196,808,35,"aluminum","junction box",11.5,"www.auxinsolar.com","-","-","-","-","-",{"$f":"IF($O960=\"Sunpower Corp.\",3,(IF(OR($Q960=\"mono\",$Q960=\"poly\",$Q960=\"HIT\",$Q960=\"EFG\",$Q960=\"mono-LGBC\"),1,IF(OR($Q960=\"µc-Si / a-Si\",$Q960=\"a-Si (single)\",$Q960=\"a-Si (tandem)\",$Q960=\"a-Si (triple)\"),3,2))))","v":1},{"$f":"IF($O960=\"Sunpower Corp.\",3,(IF(OR($Q960=\"mono\",$Q960=\"poly\",$Q960=\"HIT\",$Q960=\"EFG\",$Q960=\"mono-LGBC\"),1,2)))","v":1},{"$f":"IF($O960=\"Sunpower Corp.\",3,(IF(OR($Q960=\"mono\",$Q960=\"poly\",$Q960=\"HIT\",$Q960=\"EFG\",$Q960=\"mono-LGBC\"),1,IF(OR($Q960=\"µc-Si / a-Si\",$Q960=\"a-Si (single)\",$Q960=\"a-Si (tandem)\",$Q960=\"a-Si (triple)\"),3,2))))","v":1},0,null,null,9977,null,null,958]
["Auxin Solar LLC AXN-120/18v","Auxin Solar LLC ","AXN-120/18v",120,"+5...-5",26,4.62,32.700000000000003,5.21,-120.99,5.21,null,null,null,null,12.417630195617676,"mono",null,"pseudo-square",1196,808,35,"aluminum","junction box",11.5,"www.auxinsolar.com","-","-","-","-","-",{"$f":"IF($O961=\"Sunpower Corp.\",3,(IF(OR($Q961=\"mono\",$Q961=\"poly\",$Q961=\"HIT\",$Q961=\"EFG\",$Q961=\"mono-LGBC\"),1,IF(OR($Q961=\"µc-Si / a-Si\",$Q961=\"a-Si (single)\",$Q961=\"a-Si (tandem)\",$Q961=\"a-Si (triple)\"),3,2))))","v":1},{"$f":"IF($O961=\"Sunpower Corp.\",3,(IF(OR($Q961=\"mono\",$Q961=\"poly\",$Q961=\"HIT\",$Q961=\"EFG\",$Q961=\"mono-LGBC\"),1,2)))","v":1},{"$f":"IF($O961=\"Sunpower Corp.\",3,(IF(OR($Q961=\"mono\",$Q961=\"poly\",$Q961=\"HIT\",$Q961=\"EFG\",$Q961=\"mono-LGBC\"),1,IF(OR($Q961=\"µc-Si / a-Si\",$Q961=\"a-Si (single)\",$Q961=\"a-Si (tandem)\",$Q961=\"a-Si (triple)\"),3,2))))","v":1},0,null,null,9978,null,null,959]
["Auxin Solar LLC AXN-120P6 (12kg)","Auxin Solar LLC ","AXN-120P6 (12kg)",120,"+5...-5",17.600000000000001,6.8,21.5,7.3,-107.5,3.65,null,1000,null,null,12.248820304870605,"poly",null,"square",1471,666,35,"aluminum","junction box",12,"www.auxinsolar.com","-","-","-","-","-",{"$f":"IF($O962=\"Sunpower Corp.\",3,(IF(OR($Q962=\"mono\",$Q962=\"poly\",$Q962=\"HIT\",$Q962=\"EFG\",$Q962=\"mono-LGBC\"),1,IF(OR($Q962=\"µc-Si / a-Si\",$Q962=\"a-Si (single)\",$Q962=\"a-Si (tandem)\",$Q962=\"a-Si (triple)\"),3,2))))","v":1},{"$f":"IF($O962=\"Sunpower Corp.\",3,(IF(OR($Q962=\"mono\",$Q962=\"poly\",$Q962=\"HIT\",$Q962=\"EFG\",$Q962=\"mono-LGBC\"),1,2)))","v":1},{"$f":"IF($O962=\"Sunpower Corp.\",3,(IF(OR($Q962=\"mono\",$Q962=\"poly\",$Q962=\"HIT\",$Q962=\"EFG\",$Q962=\"mono-LGBC\"),1,IF(OR($Q962=\"µc-Si / a-Si\",$Q962=\"a-Si (single)\",$Q962=\"a-Si (tandem)\",$Q962=\"a-Si (triple)\"),3,2))))","v":1},0,null,null,9991,null,null,960]
["Auxin Solar LLC AXN-125/18v","Auxin Solar LLC ","AXN-125/18v",125,"+5...-5",25.8,4.84,33.1,5.39,-122.47,5.39,null,null,null,null,12.935029983520508,"mono",null,"pseudo-square",1196,808,35,"aluminum","junction box",11.5,"www.auxinsolar.com","-","-","-","-","-",{"$f":"IF($O963=\"Sunpower Corp.\",3,(IF(OR($Q963=\"mono\",$Q963=\"poly\",$Q963=\"HIT\",$Q963=\"EFG\",$Q963=\"mono-LGBC\"),1,IF(OR($Q963=\"µc-Si / a-Si\",$Q963=\"a-Si (single)\",$Q963=\"a-Si (tandem)\",$Q963=\"a-Si (triple)\"),3,2))))","v":1},{"$f":"IF($O963=\"Sunpower Corp.\",3,(IF(OR($Q963=\"mono\",$Q963=\"poly\",$Q963=\"HIT\",$Q963=\"EFG\",$Q963=\"mono-LGBC\"),1,2)))","v":1},{"$f":"IF($O963=\"Sunpower Corp.\",3,(IF(OR($Q963=\"mono\",$Q963=\"poly\",$Q963=\"HIT\",$Q963=\"EFG\",$Q963=\"mono-LGBC\"),1,IF(OR($Q963=\"µc-Si / a-Si\",$Q963=\"a-Si (single)\",$Q963=\"a-Si (tandem)\",$Q963=\"a-Si (triple)\"),3,2))))","v":1},0,null,null,9979,null,null,961]
["Auxin Solar LLC AXN-125P6 (12kg)","Auxin Solar LLC ","AXN-125P6 (12kg)",125,"+5...-5",17.8,7,21.6,7.6,-108,3.8,null,1000,null,null,12.759189605712891,"poly",null,"square",1471,666,35,"aluminum","junction box",12,"www.auxinsolar.com","-","-","-","-","-",{"$f":"IF($O964=\"Sunpower Corp.\",3,(IF(OR($Q964=\"mono\",$Q964=\"poly\",$Q964=\"HIT\",$Q964=\"EFG\",$Q964=\"mono-LGBC\"),1,IF(OR($Q964=\"µc-Si / a-Si\",$Q964=\"a-Si (single)\",$Q964=\"a-Si (tandem)\",$Q964=\"a-Si (triple)\"),3,2))))","v":1},{"$f":"IF($O964=\"Sunpower Corp.\",3,(IF(OR($Q964=\"mono\",$Q964=\"poly\",$Q964=\"HIT\",$Q964=\"EFG\",$Q964=\"mono-LGBC\"),1,2)))","v":1},{"$f":"IF($O964=\"Sunpower Corp.\",3,(IF(OR($Q964=\"mono\",$Q964=\"poly\",$Q964=\"HIT\",$Q964=\"EFG\",$Q964=\"mono-LGBC\"),1,IF(OR($Q964=\"µc-Si / a-Si\",$Q964=\"a-Si (single)\",$Q964=\"a-Si (tandem)\",$Q964=\"a-Si (triple)\"),3,2))))","v":1},0,null,null,9992,null,null,962]
["Auxin Solar LLC AXN-125S6 (12kg)","Auxin Solar LLC ","AXN-125S6 (12kg)",125,"+5...-5",17.78,7.03,21.56,7.6,-107.8,3.8,null,1000,null,null,12.759189605712891,"mono",null,"pseudo-square",1471,666,50,"aluminum","junction box",12,"www.auxinsolar.com","-","-","-","-","-",{"$f":"IF($O965=\"Sunpower Corp.\",3,(IF(OR($Q965=\"mono\",$Q965=\"poly\",$Q965=\"HIT\",$Q965=\"EFG\",$Q965=\"mono-LGBC\"),1,IF(OR($Q965=\"µc-Si / a-Si\",$Q965=\"a-Si (single)\",$Q965=\"a-Si (tandem)\",$Q965=\"a-Si (triple)\"),3,2))))","v":1},{"$f":"IF($O965=\"Sunpower Corp.\",3,(IF(OR($Q965=\"mono\",$Q965=\"poly\",$Q965=\"HIT\",$Q965=\"EFG\",$Q965=\"mono-LGBC\"),1,2)))","v":1},{"$f":"IF($O965=\"Sunpower Corp.\",3,(IF(OR($Q965=\"mono\",$Q965=\"poly\",$Q965=\"HIT\",$Q965=\"EFG\",$Q965=\"mono-LGBC\"),1,IF(OR($Q965=\"µc-Si / a-Si\",$Q965=\"a-Si (single)\",$Q965=\"a-Si (tandem)\",$Q965=\"a-Si (triple)\"),3,2))))","v":1},0,null,null,10018,null,null,963]
["Auxin Solar LLC AXN-130/18v","Auxin Solar LLC ","AXN-130/18v",130,"+5...-5",25.9,5.0199999999999996,33.200000000000003,5.59,-122.84,5.59,null,null,null,null,13.45242977142334,"mono",null,"pseudo-square",1196,808,35,"aluminum","junction box",11.5,"www.auxinsolar.com","-","-","-","-","-",{"$f":"IF($O966=\"Sunpower Corp.\",3,(IF(OR($Q966=\"mono\",$Q966=\"poly\",$Q966=\"HIT\",$Q966=\"EFG\",$Q966=\"mono-LGBC\"),1,IF(OR($Q966=\"µc-Si / a-Si\",$Q966=\"a-Si (single)\",$Q966=\"a-Si (tandem)\",$Q966=\"a-Si (triple)\"),3,2))))","v":1},{"$f":"IF($O966=\"Sunpower Corp.\",3,(IF(OR($Q966=\"mono\",$Q966=\"poly\",$Q966=\"HIT\",$Q966=\"EFG\",$Q966=\"mono-LGBC\"),1,2)))","v":1},{"$f":"IF($O966=\"Sunpower Corp.\",3,(IF(OR($Q966=\"mono\",$Q966=\"poly\",$Q966=\"HIT\",$Q966=\"EFG\",$Q966=\"mono-LGBC\"),1,IF(OR($Q966=\"µc-Si / a-Si\",$Q966=\"a-Si (single)\",$Q966=\"a-Si (tandem)\",$Q966=\"a-Si (triple)\"),3,2))))","v":1},0,null,null,9980,null,null,964]
["Auxin Solar LLC AXN-130P6 (12kg)","Auxin Solar LLC ","AXN-130P6 (12kg)",130,"+5...-5",18,7.2,21.6,7.8,-108,3.9,null,1000,null,null,13.269559860229492,"poly",null,"square",1471,666,35,"aluminum","junction box",12,"www.auxinsolar.com","-","-","-","-","-",{"$f":"IF($O967=\"Sunpower Corp.\",3,(IF(OR($Q967=\"mono\",$Q967=\"poly\",$Q967=\"HIT\",$Q967=\"EFG\",$Q967=\"mono-LGBC\"),1,IF(OR($Q967=\"µc-Si / a-Si\",$Q967=\"a-Si (single)\",$Q967=\"a-Si (tandem)\",$Q967=\"a-Si (triple)\"),3,2))))","v":1},{"$f":"IF($O967=\"Sunpower Corp.\",3,(IF(OR($Q967=\"mono\",$Q967=\"poly\",$Q967=\"HIT\",$Q967=\"EFG\",$Q967=\"mono-LGBC\"),1,2)))","v":1},{"$f":"IF($O967=\"Sunpower Corp.\",3,(IF(OR($Q967=\"mono\",$Q967=\"poly\",$Q967=\"HIT\",$Q967=\"EFG\",$Q967=\"mono-LGBC\"),1,IF(OR($Q967=\"µc-Si / a-Si\",$Q967=\"a-Si (single)\",$Q967=\"a-Si (tandem)\",$Q967=\"a-Si (triple)\"),3,2))))","v":1},0,null,null,9993,null,null,965]
["Auxin Solar LLC AXN-130S6 (12kg)","Auxin Solar LLC ","AXN-130S6 (12kg)",130,"+5...-5",17.96,7.24,21.6,7.83,-108,3.915,null,1000,null,null,13.269559860229492,"mono",null,"pseudo-square",1471,666,50,"aluminum","junction box",12,"www.auxinsolar.com","-","-","-","-","-",{"$f":"IF($O968=\"Sunpower Corp.\",3,(IF(OR($Q968=\"mono\",$Q968=\"poly\",$Q968=\"HIT\",$Q968=\"EFG\",$Q968=\"mono-LGBC\"),1,IF(OR($Q968=\"µc-Si / a-Si\",$Q968=\"a-Si (single)\",$Q968=\"a-Si (tandem)\",$Q968=\"a-Si (triple)\"),3,2))))","v":1},{"$f":"IF($O968=\"Sunpower Corp.\",3,(IF(OR($Q968=\"mono\",$Q968=\"poly\",$Q968=\"HIT\",$Q968=\"EFG\",$Q968=\"mono-LGBC\"),1,2)))","v":1},{"$f":"IF($O968=\"Sunpower Corp.\",3,(IF(OR($Q968=\"mono\",$Q968=\"poly\",$Q968=\"HIT\",$Q968=\"EFG\",$Q968=\"mono-LGBC\"),1,IF(OR($Q968=\"µc-Si / a-Si\",$Q968=\"a-Si (single)\",$Q968=\"a-Si (tandem)\",$Q968=\"a-Si (triple)\"),3,2))))","v":1},0,null,null,10019,null,null,966]
["Auxin Solar LLC AXN-135/24v","Auxin Solar LLC ","AXN-135/24v",135,"+5...-5",34.799999999999997,3.88,43,4.0999999999999996,-159.1,4.0999999999999996,-0.45,null,null,null,10.574629783630371,"mono",72,"pseudo-square",1580,808,35,"aluminum","junction box",15,"www.auxinsolar.com","-","-","-","-","-",{"$f":"IF($O969=\"Sunpower Corp.\",3,(IF(OR($Q969=\"mono\",$Q969=\"poly\",$Q969=\"HIT\",$Q969=\"EFG\",$Q969=\"mono-LGBC\"),1,IF(OR($Q969=\"µc-Si / a-Si\",$Q969=\"a-Si (single)\",$Q969=\"a-Si (tandem)\",$Q969=\"a-Si (triple)\"),3,2))))","v":1},{"$f":"IF($O969=\"Sunpower Corp.\",3,(IF(OR($Q969=\"mono\",$Q969=\"poly\",$Q969=\"HIT\",$Q969=\"EFG\",$Q969=\"mono-LGBC\"),1,2)))","v":1},{"$f":"IF($O969=\"Sunpower Corp.\",3,(IF(OR($Q969=\"mono\",$Q969=\"poly\",$Q969=\"HIT\",$Q969=\"EFG\",$Q969=\"mono-LGBC\"),1,IF(OR($Q969=\"µc-Si / a-Si\",$Q969=\"a-Si (single)\",$Q969=\"a-Si (tandem)\",$Q969=\"a-Si (triple)\"),3,2))))","v":1},0,null,null,9981,null,null,967]
["Auxin Solar LLC AXN-135P6 (12kg)","Auxin Solar LLC ","AXN-135P6 (12kg)",135,"+5...-5",18.100000000000001,7.4,21.7,8,-108.5,4,null,1000,null,null,13.779930114746094,"poly",null,"square",1471,666,35,"aluminum","junction box",12,"www.auxinsolar.com","-","-","-","-","-",{"$f":"IF($O970=\"Sunpower Corp.\",3,(IF(OR($Q970=\"mono\",$Q970=\"poly\",$Q970=\"HIT\",$Q970=\"EFG\",$Q970=\"mono-LGBC\"),1,IF(OR($Q970=\"µc-Si / a-Si\",$Q970=\"a-Si (single)\",$Q970=\"a-Si (tandem)\",$Q970=\"a-Si (triple)\"),3,2))))","v":1},{"$f":"IF($O970=\"Sunpower Corp.\",3,(IF(OR($Q970=\"mono\",$Q970=\"poly\",$Q970=\"HIT\",$Q970=\"EFG\",$Q970=\"mono-LGBC\"),1,2)))","v":1},{"$f":"IF($O970=\"Sunpower Corp.\",3,(IF(OR($Q970=\"mono\",$Q970=\"poly\",$Q970=\"HIT\",$Q970=\"EFG\",$Q970=\"mono-LGBC\"),1,IF(OR($Q970=\"µc-Si / a-Si\",$Q970=\"a-Si (single)\",$Q970=\"a-Si (tandem)\",$Q970=\"a-Si (triple)\"),3,2))))","v":1},0,null,null,9994,null,null,968]
["Auxin Solar LLC AXN-135S6 (12kg)","Auxin Solar LLC ","AXN-135S6 (12kg)",135,"+5...-5",18.22,7.41,21.85,8.1,-109.25,4.05,null,1000,null,null,13.779930114746094,"mono",null,"pseudo-square",1471,666,50,"aluminum","junction box",12,"www.auxinsolar.com","-","-","-","-","-",{"$f":"IF($O971=\"Sunpower Corp.\",3,(IF(OR($Q971=\"mono\",$Q971=\"poly\",$Q971=\"HIT\",$Q971=\"EFG\",$Q971=\"mono-LGBC\"),1,IF(OR($Q971=\"µc-Si / a-Si\",$Q971=\"a-Si (single)\",$Q971=\"a-Si (tandem)\",$Q971=\"a-Si (triple)\"),3,2))))","v":1},{"$f":"IF($O971=\"Sunpower Corp.\",3,(IF(OR($Q971=\"mono\",$Q971=\"poly\",$Q971=\"HIT\",$Q971=\"EFG\",$Q971=\"mono-LGBC\"),1,2)))","v":1},{"$f":"IF($O971=\"Sunpower Corp.\",3,(IF(OR($Q971=\"mono\",$Q971=\"poly\",$Q971=\"HIT\",$Q971=\"EFG\",$Q971=\"mono-LGBC\"),1,IF(OR($Q971=\"µc-Si / a-Si\",$Q971=\"a-Si (single)\",$Q971=\"a-Si (tandem)\",$Q971=\"a-Si (triple)\"),3,2))))","v":1},0,null,null,10020,null,null,969]
["Auxin Solar LLC AXN-140/24v","Auxin Solar LLC ","AXN-140/24v",140,"+5...-5",34.799999999999997,4.03,43,4.4400000000000004,-159.1,4.4400000000000004,-0.45,null,null,null,10.966290473937988,"mono",72,"pseudo-square",1580,808,35,"aluminum","junction box",15,"www.auxinsolar.com","-","-","-","-","-",{"$f":"IF($O972=\"Sunpower Corp.\",3,(IF(OR($Q972=\"mono\",$Q972=\"poly\",$Q972=\"HIT\",$Q972=\"EFG\",$Q972=\"mono-LGBC\"),1,IF(OR($Q972=\"µc-Si / a-Si\",$Q972=\"a-Si (single)\",$Q972=\"a-Si (tandem)\",$Q972=\"a-Si (triple)\"),3,2))))","v":1},{"$f":"IF($O972=\"Sunpower Corp.\",3,(IF(OR($Q972=\"mono\",$Q972=\"poly\",$Q972=\"HIT\",$Q972=\"EFG\",$Q972=\"mono-LGBC\"),1,2)))","v":1},{"$f":"IF($O972=\"Sunpower Corp.\",3,(IF(OR($Q972=\"mono\",$Q972=\"poly\",$Q972=\"HIT\",$Q972=\"EFG\",$Q972=\"mono-LGBC\"),1,IF(OR($Q972=\"µc-Si / a-Si\",$Q972=\"a-Si (single)\",$Q972=\"a-Si (tandem)\",$Q972=\"a-Si (triple)\"),3,2))))","v":1},0,null,null,9982,null,null,970]
["Auxin Solar LLC AXN-145/24v","Auxin Solar LLC ","AXN-145/24v",145,"+5...-5",34.799999999999997,4.17,43,4.6100000000000003,-159.1,4.6100000000000003,-0.45,null,null,null,11.357939720153809,"mono",72,"pseudo-square",1580,808,35,"aluminum","junction box",15,"www.auxinsolar.com","-","-","-","-","-",{"$f":"IF($O973=\"Sunpower Corp.\",3,(IF(OR($Q973=\"mono\",$Q973=\"poly\",$Q973=\"HIT\",$Q973=\"EFG\",$Q973=\"mono-LGBC\"),1,IF(OR($Q973=\"µc-Si / a-Si\",$Q973=\"a-Si (single)\",$Q973=\"a-Si (tandem)\",$Q973=\"a-Si (triple)\"),3,2))))","v":1},{"$f":"IF($O973=\"Sunpower Corp.\",3,(IF(OR($Q973=\"mono\",$Q973=\"poly\",$Q973=\"HIT\",$Q973=\"EFG\",$Q973=\"mono-LGBC\"),1,2)))","v":1},{"$f":"IF($O973=\"Sunpower Corp.\",3,(IF(OR($Q973=\"mono\",$Q973=\"poly\",$Q973=\"HIT\",$Q973=\"EFG\",$Q973=\"mono-LGBC\"),1,IF(OR($Q973=\"µc-Si / a-Si\",$Q973=\"a-Si (single)\",$Q973=\"a-Si (tandem)\",$Q973=\"a-Si (triple)\"),3,2))))","v":1},0,null,null,9983,null,null,971]
["Auxin Solar LLC AXN-150/24v","Auxin Solar LLC ","AXN-150/24v",150,"+5...-5",34.4,4.41,43.2,4.87,-159.84,4.87,-0.45,null,null,null,11.749589920043945,"mono",72,"pseudo-square",1580,808,35,"aluminum","junction box",15,"www.auxinsolar.com","-","-","-","-","-",{"$f":"IF($O974=\"Sunpower Corp.\",3,(IF(OR($Q974=\"mono\",$Q974=\"poly\",$Q974=\"HIT\",$Q974=\"EFG\",$Q974=\"mono-LGBC\"),1,IF(OR($Q974=\"µc-Si / a-Si\",$Q974=\"a-Si (single)\",$Q974=\"a-Si (tandem)\",$Q974=\"a-Si (triple)\"),3,2))))","v":1},{"$f":"IF($O974=\"Sunpower Corp.\",3,(IF(OR($Q974=\"mono\",$Q974=\"poly\",$Q974=\"HIT\",$Q974=\"EFG\",$Q974=\"mono-LGBC\"),1,2)))","v":1},{"$f":"IF($O974=\"Sunpower Corp.\",3,(IF(OR($Q974=\"mono\",$Q974=\"poly\",$Q974=\"HIT\",$Q974=\"EFG\",$Q974=\"mono-LGBC\"),1,IF(OR($Q974=\"µc-Si / a-Si\",$Q974=\"a-Si (single)\",$Q974=\"a-Si (tandem)\",$Q974=\"a-Si (triple)\"),3,2))))","v":1},0,null,null,9984,null,null,972]
["Auxin Solar LLC AXN-155/24v","Auxin Solar LLC ","AXN-155/24v",155,"+5...-5",34.4,4.51,43.2,4.92,-159.84,4.92,-0.45,null,null,null,12.141249656677246,"mono",72,"pseudo-square",1580,808,35,"aluminum","junction box",15,"www.auxinsolar.com","-","-","-","-","-",{"$f":"IF($O975=\"Sunpower Corp.\",3,(IF(OR($Q975=\"mono\",$Q975=\"poly\",$Q975=\"HIT\",$Q975=\"EFG\",$Q975=\"mono-LGBC\"),1,IF(OR($Q975=\"µc-Si / a-Si\",$Q975=\"a-Si (single)\",$Q975=\"a-Si (tandem)\",$Q975=\"a-Si (triple)\"),3,2))))","v":1},{"$f":"IF($O975=\"Sunpower Corp.\",3,(IF(OR($Q975=\"mono\",$Q975=\"poly\",$Q975=\"HIT\",$Q975=\"EFG\",$Q975=\"mono-LGBC\"),1,2)))","v":1},{"$f":"IF($O975=\"Sunpower Corp.\",3,(IF(OR($Q975=\"mono\",$Q975=\"poly\",$Q975=\"HIT\",$Q975=\"EFG\",$Q975=\"mono-LGBC\"),1,IF(OR($Q975=\"µc-Si / a-Si\",$Q975=\"a-Si (single)\",$Q975=\"a-Si (tandem)\",$Q975=\"a-Si (triple)\"),3,2))))","v":1},0,null,null,9985,null,null,973]
["Auxin Solar LLC AXN-155P6 (17kg)","Auxin Solar LLC ","AXN-155P6 (17kg)",155,"+5...-5",22.94,6.76,28.7,7.24,-143.5,3.62,null,1000,null,null,11.837300300598145,"poly",null,"square",1316,995,50,"aluminum","junction box",17,"www.auxinsolar.com","-","-","-","-","-",{"$f":"IF($O976=\"Sunpower Corp.\",3,(IF(OR($Q976=\"mono\",$Q976=\"poly\",$Q976=\"HIT\",$Q976=\"EFG\",$Q976=\"mono-LGBC\"),1,IF(OR($Q976=\"µc-Si / a-Si\",$Q976=\"a-Si (single)\",$Q976=\"a-Si (tandem)\",$Q976=\"a-Si (triple)\"),3,2))))","v":1},{"$f":"IF($O976=\"Sunpower Corp.\",3,(IF(OR($Q976=\"mono\",$Q976=\"poly\",$Q976=\"HIT\",$Q976=\"EFG\",$Q976=\"mono-LGBC\"),1,2)))","v":1},{"$f":"IF($O976=\"Sunpower Corp.\",3,(IF(OR($Q976=\"mono\",$Q976=\"poly\",$Q976=\"HIT\",$Q976=\"EFG\",$Q976=\"mono-LGBC\"),1,IF(OR($Q976=\"µc-Si / a-Si\",$Q976=\"a-Si (single)\",$Q976=\"a-Si (tandem)\",$Q976=\"a-Si (triple)\"),3,2))))","v":1},0,null,null,9995,null,null,974]
["Auxin Solar LLC AXN-160/24v","Auxin Solar LLC ","AXN-160/24v",160,"+5...-5",34.4,4.6500000000000004,43.2,5,-159.84,5,-0.45,null,null,null,12.532899856567383,"mono",72,"pseudo-square",1580,808,35,"aluminum","junction box",15,"www.auxinsolar.com","-","-","-","-","-",{"$f":"IF($O977=\"Sunpower Corp.\",3,(IF(OR($Q977=\"mono\",$Q977=\"poly\",$Q977=\"HIT\",$Q977=\"EFG\",$Q977=\"mono-LGBC\"),1,IF(OR($Q977=\"µc-Si / a-Si\",$Q977=\"a-Si (single)\",$Q977=\"a-Si (tandem)\",$Q977=\"a-Si (triple)\"),3,2))))","v":1},{"$f":"IF($O977=\"Sunpower Corp.\",3,(IF(OR($Q977=\"mono\",$Q977=\"poly\",$Q977=\"HIT\",$Q977=\"EFG\",$Q977=\"mono-LGBC\"),1,2)))","v":1},{"$f":"IF($O977=\"Sunpower Corp.\",3,(IF(OR($Q977=\"mono\",$Q977=\"poly\",$Q977=\"HIT\",$Q977=\"EFG\",$Q977=\"mono-LGBC\"),1,IF(OR($Q977=\"µc-Si / a-Si\",$Q977=\"a-Si (single)\",$Q977=\"a-Si (tandem)\",$Q977=\"a-Si (triple)\"),3,2))))","v":1},0,null,null,9986,null,null,975]
["Auxin Solar LLC AXN-160P6 (17kg)","Auxin Solar LLC ","AXN-160P6 (17kg)",160,"+5...-5",23.42,6.83,28.7,7.35,-143.5,3.6749999999999998,null,1000,null,null,12.219149589538574,"poly",null,"square",1316,995,50,"aluminum","junction box",17,"www.auxinsolar.com","-","-","-","-","-",{"$f":"IF($O978=\"Sunpower Corp.\",3,(IF(OR($Q978=\"mono\",$Q978=\"poly\",$Q978=\"HIT\",$Q978=\"EFG\",$Q978=\"mono-LGBC\"),1,IF(OR($Q978=\"µc-Si / a-Si\",$Q978=\"a-Si (single)\",$Q978=\"a-Si (tandem)\",$Q978=\"a-Si (triple)\"),3,2))))","v":1},{"$f":"IF($O978=\"Sunpower Corp.\",3,(IF(OR($Q978=\"mono\",$Q978=\"poly\",$Q978=\"HIT\",$Q978=\"EFG\",$Q978=\"mono-LGBC\"),1,2)))","v":1},{"$f":"IF($O978=\"Sunpower Corp.\",3,(IF(OR($Q978=\"mono\",$Q978=\"poly\",$Q978=\"HIT\",$Q978=\"EFG\",$Q978=\"mono-LGBC\"),1,IF(OR($Q978=\"µc-Si / a-Si\",$Q978=\"a-Si (single)\",$Q978=\"a-Si (tandem)\",$Q978=\"a-Si (triple)\"),3,2))))","v":1},0,null,null,9996,null,null,976]
["Auxin Solar LLC AXN-165/24v","Auxin Solar LLC ","AXN-165/24v",165,"+5...-5",35.799999999999997,4.62,44.5,5.04,-164.65,5.04,-0.45,null,null,null,12.92455005645752,"mono",72,"pseudo-square",1580,808,35,"aluminum","junction box",15,"www.auxinsolar.com","-","-","-","-","-",{"$f":"IF($O979=\"Sunpower Corp.\",3,(IF(OR($Q979=\"mono\",$Q979=\"poly\",$Q979=\"HIT\",$Q979=\"EFG\",$Q979=\"mono-LGBC\"),1,IF(OR($Q979=\"µc-Si / a-Si\",$Q979=\"a-Si (single)\",$Q979=\"a-Si (tandem)\",$Q979=\"a-Si (triple)\"),3,2))))","v":1},{"$f":"IF($O979=\"Sunpower Corp.\",3,(IF(OR($Q979=\"mono\",$Q979=\"poly\",$Q979=\"HIT\",$Q979=\"EFG\",$Q979=\"mono-LGBC\"),1,2)))","v":1},{"$f":"IF($O979=\"Sunpower Corp.\",3,(IF(OR($Q979=\"mono\",$Q979=\"poly\",$Q979=\"HIT\",$Q979=\"EFG\",$Q979=\"mono-LGBC\"),1,IF(OR($Q979=\"µc-Si / a-Si\",$Q979=\"a-Si (single)\",$Q979=\"a-Si (tandem)\",$Q979=\"a-Si (triple)\"),3,2))))","v":1},0,null,null,9987,null,null,977]
["Auxin Solar LLC AXN-165P6 (17kg)","Auxin Solar LLC ","AXN-165P6 (17kg)",165,"+5...-5",23.66,6.97,28.75,7.47,-143.75,3.7349999999999999,null,1000,null,null,12.60099983215332,"poly",null,"square",1316,995,50,"aluminum","junction box",17,"www.auxinsolar.com","-","-","-","-","-",{"$f":"IF($O980=\"Sunpower Corp.\",3,(IF(OR($Q980=\"mono\",$Q980=\"poly\",$Q980=\"HIT\",$Q980=\"EFG\",$Q980=\"mono-LGBC\"),1,IF(OR($Q980=\"µc-Si / a-Si\",$Q980=\"a-Si (single)\",$Q980=\"a-Si (tandem)\",$Q980=\"a-Si (triple)\"),3,2))))","v":1},{"$f":"IF($O980=\"Sunpower Corp.\",3,(IF(OR($Q980=\"mono\",$Q980=\"poly\",$Q980=\"HIT\",$Q980=\"EFG\",$Q980=\"mono-LGBC\"),1,2)))","v":1},{"$f":"IF($O980=\"Sunpower Corp.\",3,(IF(OR($Q980=\"mono\",$Q980=\"poly\",$Q980=\"HIT\",$Q980=\"EFG\",$Q980=\"mono-LGBC\"),1,IF(OR($Q980=\"µc-Si / a-Si\",$Q980=\"a-Si (single)\",$Q980=\"a-Si (tandem)\",$Q980=\"a-Si (triple)\"),3,2))))","v":1},0,null,null,9997,null,null,978]
["Auxin Solar LLC AXN-170/24v","Auxin Solar LLC ","AXN-170/24v",170,"+5...-5",35.799999999999997,4.75,44.2,5.05,-163.54,5.05,-0.45,null,null,null,13.31620979309082,"mono",72,"pseudo-square",1580,808,35,"aluminum","junction box",15,"www.auxinsolar.com","-","-","-","-","-",{"$f":"IF($O981=\"Sunpower Corp.\",3,(IF(OR($Q981=\"mono\",$Q981=\"poly\",$Q981=\"HIT\",$Q981=\"EFG\",$Q981=\"mono-LGBC\"),1,IF(OR($Q981=\"µc-Si / a-Si\",$Q981=\"a-Si (single)\",$Q981=\"a-Si (tandem)\",$Q981=\"a-Si (triple)\"),3,2))))","v":1},{"$f":"IF($O981=\"Sunpower Corp.\",3,(IF(OR($Q981=\"mono\",$Q981=\"poly\",$Q981=\"HIT\",$Q981=\"EFG\",$Q981=\"mono-LGBC\"),1,2)))","v":1},{"$f":"IF($O981=\"Sunpower Corp.\",3,(IF(OR($Q981=\"mono\",$Q981=\"poly\",$Q981=\"HIT\",$Q981=\"EFG\",$Q981=\"mono-LGBC\"),1,IF(OR($Q981=\"µc-Si / a-Si\",$Q981=\"a-Si (single)\",$Q981=\"a-Si (tandem)\",$Q981=\"a-Si (triple)\"),3,2))))","v":1},0,null,null,9988,null,null,979]
["Auxin Solar LLC AXN-170P6 (17kg)","Auxin Solar LLC ","AXN-170P6 (17kg)",170,"+5...-5",23.8,7.14,28.8,7.72,-144,3.86,null,1000,null,null,12.982850074768066,"poly",null,"square",1316,995,50,"aluminum","junction box",17,"www.auxinsolar.com","-","-","-","-","-",{"$f":"IF($O982=\"Sunpower Corp.\",3,(IF(OR($Q982=\"mono\",$Q982=\"poly\",$Q982=\"HIT\",$Q982=\"EFG\",$Q982=\"mono-LGBC\"),1,IF(OR($Q982=\"µc-Si / a-Si\",$Q982=\"a-Si (single)\",$Q982=\"a-Si (tandem)\",$Q982=\"a-Si (triple)\"),3,2))))","v":1},{"$f":"IF($O982=\"Sunpower Corp.\",3,(IF(OR($Q982=\"mono\",$Q982=\"poly\",$Q982=\"HIT\",$Q982=\"EFG\",$Q982=\"mono-LGBC\"),1,2)))","v":1},{"$f":"IF($O982=\"Sunpower Corp.\",3,(IF(OR($Q982=\"mono\",$Q982=\"poly\",$Q982=\"HIT\",$Q982=\"EFG\",$Q982=\"mono-LGBC\"),1,IF(OR($Q982=\"µc-Si / a-Si\",$Q982=\"a-Si (single)\",$Q982=\"a-Si (tandem)\",$Q982=\"a-Si (triple)\"),3,2))))","v":1},0,null,null,9998,null,null,980]
["Auxin Solar LLC AXN-170S6 (17kg)","Auxin Solar LLC ","AXN-170S6 (17kg)",170,"+5...-5",23.76,7.16,29.47,8.0500000000000007,-147.35,4.0250000000000004,null,1000,null,null,12.982850074768066,"mono",null,"pseudo-square",1316,995,50,"aluminum","junction box",17,"www.auxinsolar.com","-","-","-","-","-",{"$f":"IF($O983=\"Sunpower Corp.\",3,(IF(OR($Q983=\"mono\",$Q983=\"poly\",$Q983=\"HIT\",$Q983=\"EFG\",$Q983=\"mono-LGBC\"),1,IF(OR($Q983=\"µc-Si / a-Si\",$Q983=\"a-Si (single)\",$Q983=\"a-Si (tandem)\",$Q983=\"a-Si (triple)\"),3,2))))","v":1},{"$f":"IF($O983=\"Sunpower Corp.\",3,(IF(OR($Q983=\"mono\",$Q983=\"poly\",$Q983=\"HIT\",$Q983=\"EFG\",$Q983=\"mono-LGBC\"),1,2)))","v":1},{"$f":"IF($O983=\"Sunpower Corp.\",3,(IF(OR($Q983=\"mono\",$Q983=\"poly\",$Q983=\"HIT\",$Q983=\"EFG\",$Q983=\"mono-LGBC\"),1,IF(OR($Q983=\"µc-Si / a-Si\",$Q983=\"a-Si (single)\",$Q983=\"a-Si (tandem)\",$Q983=\"a-Si (triple)\"),3,2))))","v":1},0,null,null,10021,null,null,981]
["Auxin Solar LLC AXN-175/24v","Auxin Solar LLC ","AXN-175/24v",175,"+5...-5",36.6,4.8,44.9,5.15,-166.13,5.15,-0.45,null,null,null,13.707859992980957,"mono",72,"pseudo-square",1580,808,35,"aluminum","junction box",15,"www.auxinsolar.com","-","-","-","-","-",{"$f":"IF($O984=\"Sunpower Corp.\",3,(IF(OR($Q984=\"mono\",$Q984=\"poly\",$Q984=\"HIT\",$Q984=\"EFG\",$Q984=\"mono-LGBC\"),1,IF(OR($Q984=\"µc-Si / a-Si\",$Q984=\"a-Si (single)\",$Q984=\"a-Si (tandem)\",$Q984=\"a-Si (triple)\"),3,2))))","v":1},{"$f":"IF($O984=\"Sunpower Corp.\",3,(IF(OR($Q984=\"mono\",$Q984=\"poly\",$Q984=\"HIT\",$Q984=\"EFG\",$Q984=\"mono-LGBC\"),1,2)))","v":1},{"$f":"IF($O984=\"Sunpower Corp.\",3,(IF(OR($Q984=\"mono\",$Q984=\"poly\",$Q984=\"HIT\",$Q984=\"EFG\",$Q984=\"mono-LGBC\"),1,IF(OR($Q984=\"µc-Si / a-Si\",$Q984=\"a-Si (single)\",$Q984=\"a-Si (tandem)\",$Q984=\"a-Si (triple)\"),3,2))))","v":1},0,null,null,9989,null,null,982]
["Auxin Solar LLC AXN-175P6 (17kg)","Auxin Solar LLC ","AXN-175P6 (17kg)",175,"+5...-5",24.1,7.26,28.85,7.95,-144.25,3.9750000000000001,null,1000,null,null,13.364700317382813,"poly",null,"square",1316,995,50,"aluminum","junction box",17,"www.auxinsolar.com","-","-","-","-","-",{"$f":"IF($O985=\"Sunpower Corp.\",3,(IF(OR($Q985=\"mono\",$Q985=\"poly\",$Q985=\"HIT\",$Q985=\"EFG\",$Q985=\"mono-LGBC\"),1,IF(OR($Q985=\"µc-Si / a-Si\",$Q985=\"a-Si (single)\",$Q985=\"a-Si (tandem)\",$Q985=\"a-Si (triple)\"),3,2))))","v":1},{"$f":"IF($O985=\"Sunpower Corp.\",3,(IF(OR($Q985=\"mono\",$Q985=\"poly\",$Q985=\"HIT\",$Q985=\"EFG\",$Q985=\"mono-LGBC\"),1,2)))","v":1},{"$f":"IF($O985=\"Sunpower Corp.\",3,(IF(OR($Q985=\"mono\",$Q985=\"poly\",$Q985=\"HIT\",$Q985=\"EFG\",$Q985=\"mono-LGBC\"),1,IF(OR($Q985=\"µc-Si / a-Si\",$Q985=\"a-Si (single)\",$Q985=\"a-Si (tandem)\",$Q985=\"a-Si (triple)\"),3,2))))","v":1},0,null,null,9999,null,null,983]
["Auxin Solar LLC AXN-175S6 (17kg)","Auxin Solar LLC ","AXN-175S6 (17kg)",175,"+5...-5",23.86,7.33,29.57,8.09,-147.85,4.0449999999999999,null,1000,null,null,13.364700317382813,"mono",null,"pseudo-square",1316,995,50,"aluminum","junction box",17,"www.auxinsolar.com","-","-","-","-","-",{"$f":"IF($O986=\"Sunpower Corp.\",3,(IF(OR($Q986=\"mono\",$Q986=\"poly\",$Q986=\"HIT\",$Q986=\"EFG\",$Q986=\"mono-LGBC\"),1,IF(OR($Q986=\"µc-Si / a-Si\",$Q986=\"a-Si (single)\",$Q986=\"a-Si (tandem)\",$Q986=\"a-Si (triple)\"),3,2))))","v":1},{"$f":"IF($O986=\"Sunpower Corp.\",3,(IF(OR($Q986=\"mono\",$Q986=\"poly\",$Q986=\"HIT\",$Q986=\"EFG\",$Q986=\"mono-LGBC\"),1,2)))","v":1},{"$f":"IF($O986=\"Sunpower Corp.\",3,(IF(OR($Q986=\"mono\",$Q986=\"poly\",$Q986=\"HIT\",$Q986=\"EFG\",$Q986=\"mono-LGBC\"),1,IF(OR($Q986=\"µc-Si / a-Si\",$Q986=\"a-Si (single)\",$Q986=\"a-Si (tandem)\",$Q986=\"a-Si (triple)\"),3,2))))","v":1},0,null,null,10022,null,null,984]
["Auxin Solar LLC AXN-180/24v","Auxin Solar LLC ","AXN-180/24v",180,"+5...-5",37.200000000000003,4.87,45,5.25,-166.5,5.25,-0.45,null,null,null,14.099510192871094,"mono",72,"pseudo-square",1580,808,35,"aluminum","junction box",15,"www.auxinsolar.com","-","-","-","-","-",{"$f":"IF($O987=\"Sunpower Corp.\",3,(IF(OR($Q987=\"mono\",$Q987=\"poly\",$Q987=\"HIT\",$Q987=\"EFG\",$Q987=\"mono-LGBC\"),1,IF(OR($Q987=\"µc-Si / a-Si\",$Q987=\"a-Si (single)\",$Q987=\"a-Si (tandem)\",$Q987=\"a-Si (triple)\"),3,2))))","v":1},{"$f":"IF($O987=\"Sunpower Corp.\",3,(IF(OR($Q987=\"mono\",$Q987=\"poly\",$Q987=\"HIT\",$Q987=\"EFG\",$Q987=\"mono-LGBC\"),1,2)))","v":1},{"$f":"IF($O987=\"Sunpower Corp.\",3,(IF(OR($Q987=\"mono\",$Q987=\"poly\",$Q987=\"HIT\",$Q987=\"EFG\",$Q987=\"mono-LGBC\"),1,IF(OR($Q987=\"µc-Si / a-Si\",$Q987=\"a-Si (single)\",$Q987=\"a-Si (tandem)\",$Q987=\"a-Si (triple)\"),3,2))))","v":1},0,null,null,9990,null,null,985]
["Auxin Solar LLC AXN-180P6 (17kg)","Auxin Solar LLC ","AXN-180P6 (17kg)",180,"+5...-5",24.29,7.41,29.14,8.1,-145.69999999999999,4.05,null,1000,null,null,13.746540069580078,"poly",null,"square",1316,995,50,"aluminum","junction box",17,"www.auxinsolar.com","-","-","-","-","-",{"$f":"IF($O988=\"Sunpower Corp.\",3,(IF(OR($Q988=\"mono\",$Q988=\"poly\",$Q988=\"HIT\",$Q988=\"EFG\",$Q988=\"mono-LGBC\"),1,IF(OR($Q988=\"µc-Si / a-Si\",$Q988=\"a-Si (single)\",$Q988=\"a-Si (tandem)\",$Q988=\"a-Si (triple)\"),3,2))))","v":1},{"$f":"IF($O988=\"Sunpower Corp.\",3,(IF(OR($Q988=\"mono\",$Q988=\"poly\",$Q988=\"HIT\",$Q988=\"EFG\",$Q988=\"mono-LGBC\"),1,2)))","v":1},{"$f":"IF($O988=\"Sunpower Corp.\",3,(IF(OR($Q988=\"mono\",$Q988=\"poly\",$Q988=\"HIT\",$Q988=\"EFG\",$Q988=\"mono-LGBC\"),1,IF(OR($Q988=\"µc-Si / a-Si\",$Q988=\"a-Si (single)\",$Q988=\"a-Si (tandem)\",$Q988=\"a-Si (triple)\"),3,2))))","v":1},0,null,null,10000,null,null,986]
["Auxin Solar LLC AXN-180S6 (17kg)","Auxin Solar LLC ","AXN-180S6 (17kg)",180,"+5...-5",24.19,7.44,29.76,8.14,-148.80000000000001,4.07,null,1000,null,null,13.746540069580078,"mono",null,"pseudo-square",1316,995,50,"aluminum","junction box",17,"www.auxinsolar.com","-","-","-","-","-",{"$f":"IF($O989=\"Sunpower Corp.\",3,(IF(OR($Q989=\"mono\",$Q989=\"poly\",$Q989=\"HIT\",$Q989=\"EFG\",$Q989=\"mono-LGBC\"),1,IF(OR($Q989=\"µc-Si / a-Si\",$Q989=\"a-Si (single)\",$Q989=\"a-Si (tandem)\",$Q989=\"a-Si (triple)\"),3,2))))","v":1},{"$f":"IF($O989=\"Sunpower Corp.\",3,(IF(OR($Q989=\"mono\",$Q989=\"poly\",$Q989=\"HIT\",$Q989=\"EFG\",$Q989=\"mono-LGBC\"),1,2)))","v":1},{"$f":"IF($O989=\"Sunpower Corp.\",3,(IF(OR($Q989=\"mono\",$Q989=\"poly\",$Q989=\"HIT\",$Q989=\"EFG\",$Q989=\"mono-LGBC\"),1,IF(OR($Q989=\"µc-Si / a-Si\",$Q989=\"a-Si (single)\",$Q989=\"a-Si (tandem)\",$Q989=\"a-Si (triple)\"),3,2))))","v":1},0,null,null,10023,null,null,987]
["Auxin Solar LLC AXN-185P6 (17kg)","Auxin Solar LLC ","AXN-185P6 (17kg)",185,"+5...-5",24.48,7.56,29.38,8.23,-146.9,4.1150000000000002,null,1000,null,null,14.128390312194824,"poly",null,"square",1316,995,50,"aluminum","junction box",17,"www.auxinsolar.com","-","-","-","-","-",{"$f":"IF($O990=\"Sunpower Corp.\",3,(IF(OR($Q990=\"mono\",$Q990=\"poly\",$Q990=\"HIT\",$Q990=\"EFG\",$Q990=\"mono-LGBC\"),1,IF(OR($Q990=\"µc-Si / a-Si\",$Q990=\"a-Si (single)\",$Q990=\"a-Si (tandem)\",$Q990=\"a-Si (triple)\"),3,2))))","v":1},{"$f":"IF($O990=\"Sunpower Corp.\",3,(IF(OR($Q990=\"mono\",$Q990=\"poly\",$Q990=\"HIT\",$Q990=\"EFG\",$Q990=\"mono-LGBC\"),1,2)))","v":1},{"$f":"IF($O990=\"Sunpower Corp.\",3,(IF(OR($Q990=\"mono\",$Q990=\"poly\",$Q990=\"HIT\",$Q990=\"EFG\",$Q990=\"mono-LGBC\"),1,IF(OR($Q990=\"µc-Si / a-Si\",$Q990=\"a-Si (single)\",$Q990=\"a-Si (tandem)\",$Q990=\"a-Si (triple)\"),3,2))))","v":1},0,null,null,10001,null,null,988]
["Auxin Solar LLC AXN-185P6 (19kg)","Auxin Solar LLC ","AXN-185P6 (19kg)",185,"+5...-5",26.62,6.95,32.35,7.47,-161.75,3.7349999999999999,null,1000,null,null,12.537400245666504,"poly",null,"square",1483,995,50,"aluminum","junction box",19,"www.auxinsolar.com","-","-","-","-","-",{"$f":"IF($O991=\"Sunpower Corp.\",3,(IF(OR($Q991=\"mono\",$Q991=\"poly\",$Q991=\"HIT\",$Q991=\"EFG\",$Q991=\"mono-LGBC\"),1,IF(OR($Q991=\"µc-Si / a-Si\",$Q991=\"a-Si (single)\",$Q991=\"a-Si (tandem)\",$Q991=\"a-Si (triple)\"),3,2))))","v":1},{"$f":"IF($O991=\"Sunpower Corp.\",3,(IF(OR($Q991=\"mono\",$Q991=\"poly\",$Q991=\"HIT\",$Q991=\"EFG\",$Q991=\"mono-LGBC\"),1,2)))","v":1},{"$f":"IF($O991=\"Sunpower Corp.\",3,(IF(OR($Q991=\"mono\",$Q991=\"poly\",$Q991=\"HIT\",$Q991=\"EFG\",$Q991=\"mono-LGBC\"),1,IF(OR($Q991=\"µc-Si / a-Si\",$Q991=\"a-Si (single)\",$Q991=\"a-Si (tandem)\",$Q991=\"a-Si (triple)\"),3,2))))","v":1},0,null,null,10003,null,null,989]
["Auxin Solar LLC AXN-185S6 (17kg)","Auxin Solar LLC ","AXN-185S6 (17kg)",185,"+5...-5",24.38,7.59,29.86,8.18,-149.30000000000001,4.09,null,1000,null,null,14.128390312194824,"mono",null,"pseudo-square",1316,995,50,"aluminum","junction box",17,"www.auxinsolar.com","-","-","-","-","-",{"$f":"IF($O992=\"Sunpower Corp.\",3,(IF(OR($Q992=\"mono\",$Q992=\"poly\",$Q992=\"HIT\",$Q992=\"EFG\",$Q992=\"mono-LGBC\"),1,IF(OR($Q992=\"µc-Si / a-Si\",$Q992=\"a-Si (single)\",$Q992=\"a-Si (tandem)\",$Q992=\"a-Si (triple)\"),3,2))))","v":1},{"$f":"IF($O992=\"Sunpower Corp.\",3,(IF(OR($Q992=\"mono\",$Q992=\"poly\",$Q992=\"HIT\",$Q992=\"EFG\",$Q992=\"mono-LGBC\"),1,2)))","v":1},{"$f":"IF($O992=\"Sunpower Corp.\",3,(IF(OR($Q992=\"mono\",$Q992=\"poly\",$Q992=\"HIT\",$Q992=\"EFG\",$Q992=\"mono-LGBC\"),1,IF(OR($Q992=\"µc-Si / a-Si\",$Q992=\"a-Si (single)\",$Q992=\"a-Si (tandem)\",$Q992=\"a-Si (triple)\"),3,2))))","v":1},0,null,null,10024,null,null,990]
["Auxin Solar LLC AXN-190P6 (17kg)","Auxin Solar LLC ","AXN-190P6 (17kg)",190,"+5...-5",24.53,7.75,29.47,8.32,-147.35,4.16,null,1000,null,null,14.510239601135254,"poly",null,"square",1316,995,50,"aluminum","junction box",17,"www.auxinsolar.com","-","-","-","-","-",{"$f":"IF($O993=\"Sunpower Corp.\",3,(IF(OR($Q993=\"mono\",$Q993=\"poly\",$Q993=\"HIT\",$Q993=\"EFG\",$Q993=\"mono-LGBC\"),1,IF(OR($Q993=\"µc-Si / a-Si\",$Q993=\"a-Si (single)\",$Q993=\"a-Si (tandem)\",$Q993=\"a-Si (triple)\"),3,2))))","v":1},{"$f":"IF($O993=\"Sunpower Corp.\",3,(IF(OR($Q993=\"mono\",$Q993=\"poly\",$Q993=\"HIT\",$Q993=\"EFG\",$Q993=\"mono-LGBC\"),1,2)))","v":1},{"$f":"IF($O993=\"Sunpower Corp.\",3,(IF(OR($Q993=\"mono\",$Q993=\"poly\",$Q993=\"HIT\",$Q993=\"EFG\",$Q993=\"mono-LGBC\"),1,IF(OR($Q993=\"µc-Si / a-Si\",$Q993=\"a-Si (single)\",$Q993=\"a-Si (tandem)\",$Q993=\"a-Si (triple)\"),3,2))))","v":1},0,null,null,10002,null,null,991]
["Auxin Solar LLC AXN-190P6 (19kg)","Auxin Solar LLC ","AXN-190P6 (19kg)",190,"+5...-5",26.78,7.09,32.4,7.72,-162,3.86,null,1000,null,null,12.876250267028809,"poly",null,"square",1483,995,50,"aluminum","junction box",19,"www.auxinsolar.com","-","-","-","-","-",{"$f":"IF($O994=\"Sunpower Corp.\",3,(IF(OR($Q994=\"mono\",$Q994=\"poly\",$Q994=\"HIT\",$Q994=\"EFG\",$Q994=\"mono-LGBC\"),1,IF(OR($Q994=\"µc-Si / a-Si\",$Q994=\"a-Si (single)\",$Q994=\"a-Si (tandem)\",$Q994=\"a-Si (triple)\"),3,2))))","v":1},{"$f":"IF($O994=\"Sunpower Corp.\",3,(IF(OR($Q994=\"mono\",$Q994=\"poly\",$Q994=\"HIT\",$Q994=\"EFG\",$Q994=\"mono-LGBC\"),1,2)))","v":1},{"$f":"IF($O994=\"Sunpower Corp.\",3,(IF(OR($Q994=\"mono\",$Q994=\"poly\",$Q994=\"HIT\",$Q994=\"EFG\",$Q994=\"mono-LGBC\"),1,IF(OR($Q994=\"µc-Si / a-Si\",$Q994=\"a-Si (single)\",$Q994=\"a-Si (tandem)\",$Q994=\"a-Si (triple)\"),3,2))))","v":1},0,null,null,10004,null,null,992]
["Auxin Solar LLC AXN-190S6 (17kg)","Auxin Solar LLC ","AXN-190S6 (17kg)",190,"+5...-5",24.77,7.67,30,8.26,-150,4.13,null,1000,null,null,14.510239601135254,"mono",null,"pseudo-square",1316,995,50,"aluminum","junction box",17,"www.auxinsolar.com","-","-","-","-","-",{"$f":"IF($O995=\"Sunpower Corp.\",3,(IF(OR($Q995=\"mono\",$Q995=\"poly\",$Q995=\"HIT\",$Q995=\"EFG\",$Q995=\"mono-LGBC\"),1,IF(OR($Q995=\"µc-Si / a-Si\",$Q995=\"a-Si (single)\",$Q995=\"a-Si (tandem)\",$Q995=\"a-Si (triple)\"),3,2))))","v":1},{"$f":"IF($O995=\"Sunpower Corp.\",3,(IF(OR($Q995=\"mono\",$Q995=\"poly\",$Q995=\"HIT\",$Q995=\"EFG\",$Q995=\"mono-LGBC\"),1,2)))","v":1},{"$f":"IF($O995=\"Sunpower Corp.\",3,(IF(OR($Q995=\"mono\",$Q995=\"poly\",$Q995=\"HIT\",$Q995=\"EFG\",$Q995=\"mono-LGBC\"),1,IF(OR($Q995=\"µc-Si / a-Si\",$Q995=\"a-Si (single)\",$Q995=\"a-Si (tandem)\",$Q995=\"a-Si (triple)\"),3,2))))","v":1},0,null,null,10025,null,null,993]
["Auxin Solar LLC AXN-190S6 (19kg)","Auxin Solar LLC ","AXN-190S6 (19kg)",190,"+5...-5",26.24,7.24,32.72,7.98,-163.6,3.99,null,1000,null,null,12.876250267028809,"mono",null,"pseudo-square",1483,995,50,"aluminum","junction box",19,"www.auxinsolar.com","-","-","-","-","-",{"$f":"IF($O996=\"Sunpower Corp.\",3,(IF(OR($Q996=\"mono\",$Q996=\"poly\",$Q996=\"HIT\",$Q996=\"EFG\",$Q996=\"mono-LGBC\"),1,IF(OR($Q996=\"µc-Si / a-Si\",$Q996=\"a-Si (single)\",$Q996=\"a-Si (tandem)\",$Q996=\"a-Si (triple)\"),3,2))))","v":1},{"$f":"IF($O996=\"Sunpower Corp.\",3,(IF(OR($Q996=\"mono\",$Q996=\"poly\",$Q996=\"HIT\",$Q996=\"EFG\",$Q996=\"mono-LGBC\"),1,2)))","v":1},{"$f":"IF($O996=\"Sunpower Corp.\",3,(IF(OR($Q996=\"mono\",$Q996=\"poly\",$Q996=\"HIT\",$Q996=\"EFG\",$Q996=\"mono-LGBC\"),1,IF(OR($Q996=\"µc-Si / a-Si\",$Q996=\"a-Si (single)\",$Q996=\"a-Si (tandem)\",$Q996=\"a-Si (triple)\"),3,2))))","v":1},0,null,null,10026,null,null,994]
["Auxin Solar LLC AXN-195P6 (19kg)","Auxin Solar LLC ","AXN-195P6 (19kg)",195,"+5...-5",26.95,7.24,32.4,7.83,-162,3.915,null,1000,null,null,13.215100288391113,"poly",null,"square",1483,995,50,"aluminum","junction box",19,"www.auxinsolar.com","-","-","-","-","-",{"$f":"IF($O997=\"Sunpower Corp.\",3,(IF(OR($Q997=\"mono\",$Q997=\"poly\",$Q997=\"HIT\",$Q997=\"EFG\",$Q997=\"mono-LGBC\"),1,IF(OR($Q997=\"µc-Si / a-Si\",$Q997=\"a-Si (single)\",$Q997=\"a-Si (tandem)\",$Q997=\"a-Si (triple)\"),3,2))))","v":1},{"$f":"IF($O997=\"Sunpower Corp.\",3,(IF(OR($Q997=\"mono\",$Q997=\"poly\",$Q997=\"HIT\",$Q997=\"EFG\",$Q997=\"mono-LGBC\"),1,2)))","v":1},{"$f":"IF($O997=\"Sunpower Corp.\",3,(IF(OR($Q997=\"mono\",$Q997=\"poly\",$Q997=\"HIT\",$Q997=\"EFG\",$Q997=\"mono-LGBC\"),1,IF(OR($Q997=\"µc-Si / a-Si\",$Q997=\"a-Si (single)\",$Q997=\"a-Si (tandem)\",$Q997=\"a-Si (triple)\"),3,2))))","v":1},0,null,null,10005,null,null,995]
["Auxin Solar LLC AXN-195S6 (19kg)","Auxin Solar LLC ","AXN-195S6 (19kg)",195,"+5...-5",26.73,7.3,33.159999999999997,8.0500000000000007,-165.8,4.0250000000000004,null,1000,null,null,13.215100288391113,"mono",null,"pseudo-square",1483,995,50,"aluminum","junction box",19,"www.auxinsolar.com","-","-","-","-","-",{"$f":"IF($O998=\"Sunpower Corp.\",3,(IF(OR($Q998=\"mono\",$Q998=\"poly\",$Q998=\"HIT\",$Q998=\"EFG\",$Q998=\"mono-LGBC\"),1,IF(OR($Q998=\"µc-Si / a-Si\",$Q998=\"a-Si (single)\",$Q998=\"a-Si (tandem)\",$Q998=\"a-Si (triple)\"),3,2))))","v":1},{"$f":"IF($O998=\"Sunpower Corp.\",3,(IF(OR($Q998=\"mono\",$Q998=\"poly\",$Q998=\"HIT\",$Q998=\"EFG\",$Q998=\"mono-LGBC\"),1,2)))","v":1},{"$f":"IF($O998=\"Sunpower Corp.\",3,(IF(OR($Q998=\"mono\",$Q998=\"poly\",$Q998=\"HIT\",$Q998=\"EFG\",$Q998=\"mono-LGBC\"),1,IF(OR($Q998=\"µc-Si / a-Si\",$Q998=\"a-Si (single)\",$Q998=\"a-Si (tandem)\",$Q998=\"a-Si (triple)\"),3,2))))","v":1},0,null,null,10027,null,null,996]
["Auxin Solar LLC AXN-200P6 (19kg)","Auxin Solar LLC ","AXN-200P6 (19kg)",200,"+5...-5",27.22,7.35,32.619999999999997,8.0399999999999991,-163.1,4.0199999999999996,null,1000,null,null,13.553950309753418,"poly",null,"square",1483,995,50,"aluminum","junction box",19,"www.auxinsolar.com","-","-","-","-","-",{"$f":"IF($O999=\"Sunpower Corp.\",3,(IF(OR($Q999=\"mono\",$Q999=\"poly\",$Q999=\"HIT\",$Q999=\"EFG\",$Q999=\"mono-LGBC\"),1,IF(OR($Q999=\"µc-Si / a-Si\",$Q999=\"a-Si (single)\",$Q999=\"a-Si (tandem)\",$Q999=\"a-Si (triple)\"),3,2))))","v":1},{"$f":"IF($O999=\"Sunpower Corp.\",3,(IF(OR($Q999=\"mono\",$Q999=\"poly\",$Q999=\"HIT\",$Q999=\"EFG\",$Q999=\"mono-LGBC\"),1,2)))","v":1},{"$f":"IF($O999=\"Sunpower Corp.\",3,(IF(OR($Q999=\"mono\",$Q999=\"poly\",$Q999=\"HIT\",$Q999=\"EFG\",$Q999=\"mono-LGBC\"),1,IF(OR($Q999=\"µc-Si / a-Si\",$Q999=\"a-Si (single)\",$Q999=\"a-Si (tandem)\",$Q999=\"a-Si (triple)\"),3,2))))","v":1},0,null,null,10006,null,null,997]
["Auxin Solar LLC AXN-200P6 (21kg)","Auxin Solar LLC ","AXN-200P6 (21kg)",200,"+5...-5",29.8,6.7,36,7.7,-180,3.85,null,1000,null,null,12.211730003356934,"poly",60,"square",1646,995,50,"aluminum","junction box",21,"www.auxinsolar.com","-","-","-","-","-",{"$f":"IF($O1000=\"Sunpower Corp.\",3,(IF(OR($Q1000=\"mono\",$Q1000=\"poly\",$Q1000=\"HIT\",$Q1000=\"EFG\",$Q1000=\"mono-LGBC\"),1,IF(OR($Q1000=\"µc-Si / a-Si\",$Q1000=\"a-Si (single)\",$Q1000=\"a-Si (tandem)\",$Q1000=\"a-Si (triple)\"),3,2))))","v":1},{"$f":"IF($O1000=\"Sunpower Corp.\",3,(IF(OR($Q1000=\"mono\",$Q1000=\"poly\",$Q1000=\"HIT\",$Q1000=\"EFG\",$Q1000=\"mono-LGBC\"),1,2)))","v":1},{"$f":"IF($O1000=\"Sunpower Corp.\",3,(IF(OR($Q1000=\"mono\",$Q1000=\"poly\",$Q1000=\"HIT\",$Q1000=\"EFG\",$Q1000=\"mono-LGBC\"),1,IF(OR($Q1000=\"µc-Si / a-Si\",$Q1000=\"a-Si (single)\",$Q1000=\"a-Si (tandem)\",$Q1000=\"a-Si (triple)\"),3,2))))","v":1},0,null,null,10008,null,null,998]
["Auxin Solar LLC AXN-260P6 (25kg)","Auxin Solar LLC ","AXN-260P6 (25kg)",260,"+5...-5",35.93,7.24,43.2,7.83,-216,3.915,null,1000,null,null,13.325169563293457,"poly",null,"square",1961,995,50,"aluminum","junction box",25,"www.auxinsolar.com","-","-","-","-","-",{"$f":"IF($O1015=\"Sunpower Corp.\",3,(IF(OR($Q1015=\"mono\",$Q1015=\"poly\",$Q1015=\"HIT\",$Q1015=\"EFG\",$Q1015=\"mono-LGBC\"),1,IF(OR($Q1015=\"µc-Si / a-Si\",$Q1015=\"a-Si (single)\",$Q1015=\"a-Si (tandem)\",$Q1015=\"a-Si (triple)\"),3,2))))","v":1},{"$f":"IF($O1015=\"Sunpower Corp.\",3,(IF(OR($Q1015=\"mono\",$Q1015=\"poly\",$Q1015=\"HIT\",$Q1015=\"EFG\",$Q1015=\"mono-LGBC\"),1,2)))","v":1},{"$f":"IF($O1015=\"Sunpower Corp.\",3,(IF(OR($Q1015=\"mono\",$Q1015=\"poly\",$Q1015=\"HIT\",$Q1015=\"EFG\",$Q1015=\"mono-LGBC\"),1,IF(OR($Q1015=\"µc-Si / a-Si\",$Q1015=\"a-Si (single)\",$Q1015=\"a-Si (tandem)\",$Q1015=\"a-Si (triple)\"),3,2))))","v":1},0,null,null,10014,null,null,1013]
["Auxin Solar LLC AXN-60/18v","Auxin Solar LLC ","AXN-60/18v",60,"+5...-5",23.2,2.59,29.6,3.18,-109.52,3.18,null,null,null,null,13.048580169677734,"mono",null,"pseudo-square",830,554,35,"aluminum","junction box",6,"www.auxinsolar.com","-","-","-","-","-",{"$f":"IF($O1026=\"Sunpower Corp.\",3,(IF(OR($Q1026=\"mono\",$Q1026=\"poly\",$Q1026=\"HIT\",$Q1026=\"EFG\",$Q1026=\"mono-LGBC\"),1,IF(OR($Q1026=\"µc-Si / a-Si\",$Q1026=\"a-Si (single)\",$Q1026=\"a-Si (tandem)\",$Q1026=\"a-Si (triple)\"),3,2))))","v":1},{"$f":"IF($O1026=\"Sunpower Corp.\",3,(IF(OR($Q1026=\"mono\",$Q1026=\"poly\",$Q1026=\"HIT\",$Q1026=\"EFG\",$Q1026=\"mono-LGBC\"),1,2)))","v":1},{"$f":"IF($O1026=\"Sunpower Corp.\",3,(IF(OR($Q1026=\"mono\",$Q1026=\"poly\",$Q1026=\"HIT\",$Q1026=\"EFG\",$Q1026=\"mono-LGBC\"),1,IF(OR($Q1026=\"µc-Si / a-Si\",$Q1026=\"a-Si (single)\",$Q1026=\"a-Si (tandem)\",$Q1026=\"a-Si (triple)\"),3,2))))","v":1},0,null,null,9966,null,null,1024]
["Avancis GmbH & Co KG PowerMax® 100","Avancis GmbH & Co KG ","PowerMax® 100",100,"+5...-5",39.5,2.54,56,3.1,-196,9.3000000000000013E-2,-0.45,1000,"Germany",null,9.1660709381103516,"CIGS",104,null,1595,684,45,"aluminum","junction box MC old",19.600000000000001,"www.avancis.de","-","-","-","-","-",{"$f":"IF($O1041=\"Sunpower Corp.\",3,(IF(OR($Q1041=\"mono\",$Q1041=\"poly\",$Q1041=\"HIT\",$Q1041=\"EFG\",$Q1041=\"mono-LGBC\"),1,IF(OR($Q1041=\"µc-Si / a-Si\",$Q1041=\"a-Si (single)\",$Q1041=\"a-Si (tandem)\",$Q1041=\"a-Si (triple)\"),3,2))))","v":2},{"$f":"IF($O1041=\"Sunpower Corp.\",3,(IF(OR($Q1041=\"mono\",$Q1041=\"poly\",$Q1041=\"HIT\",$Q1041=\"EFG\",$Q1041=\"mono-LGBC\"),1,2)))","v":2},{"$f":"IF($O1041=\"Sunpower Corp.\",3,(IF(OR($Q1041=\"mono\",$Q1041=\"poly\",$Q1041=\"HIT\",$Q1041=\"EFG\",$Q1041=\"mono-LGBC\"),1,IF(OR($Q1041=\"µc-Si / a-Si\",$Q1041=\"a-Si (single)\",$Q1041=\"a-Si (tandem)\",$Q1041=\"a-Si (triple)\"),3,2))))","v":2},0,null,null,8886,null,null,1039]
["avproject srl AVP - 240 M","avproject srl ","AVP - 240 M",240,"+2...-2",30,8,37.5,8.56,-127.5,3.4240000000000004,-0.45,1000,"Italy",null,14.716270446777344,"mono",60,"pseudo-square",1644,992,42,null,"junction box",21,"www.avproject.it","-","-","-","-","-",{"$f":"IF($O1071=\"Sunpower Corp.\",3,(IF(OR($Q1071=\"mono\",$Q1071=\"poly\",$Q1071=\"HIT\",$Q1071=\"EFG\",$Q1071=\"mono-LGBC\"),1,IF(OR($Q1071=\"µc-Si / a-Si\",$Q1071=\"a-Si (single)\",$Q1071=\"a-Si (tandem)\",$Q1071=\"a-Si (triple)\"),3,2))))","v":1},{"$f":"IF($O1071=\"Sunpower Corp.\",3,(IF(OR($Q1071=\"mono\",$Q1071=\"poly\",$Q1071=\"HIT\",$Q1071=\"EFG\",$Q1071=\"mono-LGBC\"),1,2)))","v":1},{"$f":"IF($O1071=\"Sunpower Corp.\",3,(IF(OR($Q1071=\"mono\",$Q1071=\"poly\",$Q1071=\"HIT\",$Q1071=\"EFG\",$Q1071=\"mono-LGBC\"),1,IF(OR($Q1071=\"µc-Si / a-Si\",$Q1071=\"a-Si (single)\",$Q1071=\"a-Si (tandem)\",$Q1071=\"a-Si (triple)\"),3,2))))","v":1},0,null,null,30049,null,null,1069]
["Axitec GmbH AC-185PR/156-54S","Axitec GmbH ","AC-185PR/156-54S",185,"+2,5...-2,5",26.02,7.12,32.119999999999997,7.44,-122.05599999999998,3.72,-0.48,1000,"Germany",null,12.449609756469727,"poly",54,"square",1501,990,38,"aluminum","junction box H + S",19,"www.axitecsolar.com","-","-","-","-","-",{"$f":"IF($O1086=\"Sunpower Corp.\",3,(IF(OR($Q1086=\"mono\",$Q1086=\"poly\",$Q1086=\"HIT\",$Q1086=\"EFG\",$Q1086=\"mono-LGBC\"),1,IF(OR($Q1086=\"µc-Si / a-Si\",$Q1086=\"a-Si (single)\",$Q1086=\"a-Si (tandem)\",$Q1086=\"a-Si (triple)\"),3,2))))","v":1},{"$f":"IF($O1086=\"Sunpower Corp.\",3,(IF(OR($Q1086=\"mono\",$Q1086=\"poly\",$Q1086=\"HIT\",$Q1086=\"EFG\",$Q1086=\"mono-LGBC\"),1,2)))","v":1},{"$f":"IF($O1086=\"Sunpower Corp.\",3,(IF(OR($Q1086=\"mono\",$Q1086=\"poly\",$Q1086=\"HIT\",$Q1086=\"EFG\",$Q1086=\"mono-LGBC\"),1,IF(OR($Q1086=\"µc-Si / a-Si\",$Q1086=\"a-Si (single)\",$Q1086=\"a-Si (tandem)\",$Q1086=\"a-Si (triple)\"),3,2))))","v":1},0,null,null,21388,null,null,1084]
["Axitec GmbH AC-218P/156-54S","Axitec GmbH ","AC-218P/156-54S",218,"+2...0",27.6,7.9,34.869999999999997,8.52,-118.55799999999999,4.26,-0.43,1000,"Germany",null,14.670350074768066,"poly",54,"square",1501,990,38,"aluminum","junction box H + S",20,"www.axitecsolar.com","-","-","-","-","-",{"$f":"IF($O1100=\"Sunpower Corp.\",3,(IF(OR($Q1100=\"mono\",$Q1100=\"poly\",$Q1100=\"HIT\",$Q1100=\"EFG\",$Q1100=\"mono-LGBC\"),1,IF(OR($Q1100=\"µc-Si / a-Si\",$Q1100=\"a-Si (single)\",$Q1100=\"a-Si (tandem)\",$Q1100=\"a-Si (triple)\"),3,2))))","v":1},{"$f":"IF($O1100=\"Sunpower Corp.\",3,(IF(OR($Q1100=\"mono\",$Q1100=\"poly\",$Q1100=\"HIT\",$Q1100=\"EFG\",$Q1100=\"mono-LGBC\"),1,2)))","v":1},{"$f":"IF($O1100=\"Sunpower Corp.\",3,(IF(OR($Q1100=\"mono\",$Q1100=\"poly\",$Q1100=\"HIT\",$Q1100=\"EFG\",$Q1100=\"mono-LGBC\"),1,IF(OR($Q1100=\"µc-Si / a-Si\",$Q1100=\"a-Si (single)\",$Q1100=\"a-Si (tandem)\",$Q1100=\"a-Si (triple)\"),3,2))))","v":1},0,null,null,26350,null,null,1098]
["Azimut s.r.l. AZM806/310M","Azimut s.r.l. ","AZM806/310M",310,"+3...0",40.08,7.78,48.4,8.48,-183.92,5.9360000000000008,-0.48,1000,null,null,14.203539848327637,"mono",80,"pseudo-square",1661,1314,35,"aluminum","junction box MC4",28,"www.azimut-pv.it","-","-","-","-","-",{"$f":"IF($O1131=\"Sunpower Corp.\",3,(IF(OR($Q1131=\"mono\",$Q1131=\"poly\",$Q1131=\"HIT\",$Q1131=\"EFG\",$Q1131=\"mono-LGBC\"),1,IF(OR($Q1131=\"µc-Si / a-Si\",$Q1131=\"a-Si (single)\",$Q1131=\"a-Si (tandem)\",$Q1131=\"a-Si (triple)\"),3,2))))","v":1},{"$f":"IF($O1131=\"Sunpower Corp.\",3,(IF(OR($Q1131=\"mono\",$Q1131=\"poly\",$Q1131=\"HIT\",$Q1131=\"EFG\",$Q1131=\"mono-LGBC\"),1,2)))","v":1},{"$f":"IF($O1131=\"Sunpower Corp.\",3,(IF(OR($Q1131=\"mono\",$Q1131=\"poly\",$Q1131=\"HIT\",$Q1131=\"EFG\",$Q1131=\"mono-LGBC\"),1,IF(OR($Q1131=\"µc-Si / a-Si\",$Q1131=\"a-Si (single)\",$Q1131=\"a-Si (tandem)\",$Q1131=\"a-Si (triple)\"),3,2))))","v":1},0,null,null,29248,null,null,1130]
["Azur Solar GmbH AZUR P 160-3","Azur Solar GmbH ","AZUR P 160-3",160,"+3...-3",33.1,4.8,42.3,5.0999999999999996,-139.59,4.59,-0.44,1000,"Great Britain","Chint Solar",12.618300437927246,"poly",72,"square",1585,800,46,"aluminum","cable MC old",17,"www.azur-solar.com","-","-","-","-","-",{"$f":"IF($O1145=\"Sunpower Corp.\",3,(IF(OR($Q1145=\"mono\",$Q1145=\"poly\",$Q1145=\"HIT\",$Q1145=\"EFG\",$Q1145=\"mono-LGBC\"),1,IF(OR($Q1145=\"µc-Si / a-Si\",$Q1145=\"a-Si (single)\",$Q1145=\"a-Si (tandem)\",$Q1145=\"a-Si (triple)\"),3,2))))","v":1},{"$f":"IF($O1145=\"Sunpower Corp.\",3,(IF(OR($Q1145=\"mono\",$Q1145=\"poly\",$Q1145=\"HIT\",$Q1145=\"EFG\",$Q1145=\"mono-LGBC\"),1,2)))","v":1},{"$f":"IF($O1145=\"Sunpower Corp.\",3,(IF(OR($Q1145=\"mono\",$Q1145=\"poly\",$Q1145=\"HIT\",$Q1145=\"EFG\",$Q1145=\"mono-LGBC\"),1,IF(OR($Q1145=\"µc-Si / a-Si\",$Q1145=\"a-Si (single)\",$Q1145=\"a-Si (tandem)\",$Q1145=\"a-Si (triple)\"),3,2))))","v":1},0,null,null,5637,null,null,1144]
["B.A. Energie srl BA 100","B.A. Energie srl ","BA 100",100,"+5...-5",52.5,1.9,76.3,1.9,-282.31,0,-0.48,1000,null,"Global Solar",9.7312240600585938,"CIGS",null,null,1903,540,5.2,null,"junction box Tyco",13.4,"www.baenergie.it","-","-","-","-","-",{"$f":"IF($O1157=\"Sunpower Corp.\",3,(IF(OR($Q1157=\"mono\",$Q1157=\"poly\",$Q1157=\"HIT\",$Q1157=\"EFG\",$Q1157=\"mono-LGBC\"),1,IF(OR($Q1157=\"µc-Si / a-Si\",$Q1157=\"a-Si (single)\",$Q1157=\"a-Si (tandem)\",$Q1157=\"a-Si (triple)\"),3,2))))","v":2},{"$f":"IF($O1157=\"Sunpower Corp.\",3,(IF(OR($Q1157=\"mono\",$Q1157=\"poly\",$Q1157=\"HIT\",$Q1157=\"EFG\",$Q1157=\"mono-LGBC\"),1,2)))","v":2},{"$f":"IF($O1157=\"Sunpower Corp.\",3,(IF(OR($Q1157=\"mono\",$Q1157=\"poly\",$Q1157=\"HIT\",$Q1157=\"EFG\",$Q1157=\"mono-LGBC\"),1,IF(OR($Q1157=\"µc-Si / a-Si\",$Q1157=\"a-Si (single)\",$Q1157=\"a-Si (tandem)\",$Q1157=\"a-Si (triple)\"),3,2))))","v":2},0,null,null,27596,null,null,1156]
["Baoding Tianwei Yingli New Energy Resources YL180-23b","Baoding Tianwei Yingli New Energy Resources ","YL180-23b",180,"+3...-3",23.4,7.6,29.5,8.3000000000000007,-109.15,4.9800000000000004,-0.45,1000,"China","Yingli Energy",13.879249572753906,"poly",48,"square",1310,990,50,"aluminum","junction box MC4",15.8,"www.yinglisolar.com","-","-","-","-","-",{"$f":"IF($O1190=\"Sunpower Corp.\",3,(IF(OR($Q1190=\"mono\",$Q1190=\"poly\",$Q1190=\"HIT\",$Q1190=\"EFG\",$Q1190=\"mono-LGBC\"),1,IF(OR($Q1190=\"µc-Si / a-Si\",$Q1190=\"a-Si (single)\",$Q1190=\"a-Si (tandem)\",$Q1190=\"a-Si (triple)\"),3,2))))","v":1},{"$f":"IF($O1190=\"Sunpower Corp.\",3,(IF(OR($Q1190=\"mono\",$Q1190=\"poly\",$Q1190=\"HIT\",$Q1190=\"EFG\",$Q1190=\"mono-LGBC\"),1,2)))","v":1},{"$f":"IF($O1190=\"Sunpower Corp.\",3,(IF(OR($Q1190=\"mono\",$Q1190=\"poly\",$Q1190=\"HIT\",$Q1190=\"EFG\",$Q1190=\"mono-LGBC\"),1,IF(OR($Q1190=\"µc-Si / a-Si\",$Q1190=\"a-Si (single)\",$Q1190=\"a-Si (tandem)\",$Q1190=\"a-Si (triple)\"),3,2))))","v":1},0,null,null,3610,null,null,1189]
["Baoding Tianwei Yingli New Energy Resources YL185P-23b-PC","Baoding Tianwei Yingli New Energy Resources ","YL185P-23b-PC",185,"+3...-3",23.5,7.87,29.5,8.4499999999999993,-109.15,5.07,-0.45,1000,null,null,14.193099975585938,"poly",48,"square",1310,995,50,"aluminum","junction box MC4",15.8,"www.yinglisolar.com","-","-","-","-","-",{"$f":"IF($O1196=\"Sunpower Corp.\",3,(IF(OR($Q1196=\"mono\",$Q1196=\"poly\",$Q1196=\"HIT\",$Q1196=\"EFG\",$Q1196=\"mono-LGBC\"),1,IF(OR($Q1196=\"µc-Si / a-Si\",$Q1196=\"a-Si (single)\",$Q1196=\"a-Si (tandem)\",$Q1196=\"a-Si (triple)\"),3,2))))","v":1},{"$f":"IF($O1196=\"Sunpower Corp.\",3,(IF(OR($Q1196=\"mono\",$Q1196=\"poly\",$Q1196=\"HIT\",$Q1196=\"EFG\",$Q1196=\"mono-LGBC\"),1,2)))","v":1},{"$f":"IF($O1196=\"Sunpower Corp.\",3,(IF(OR($Q1196=\"mono\",$Q1196=\"poly\",$Q1196=\"HIT\",$Q1196=\"EFG\",$Q1196=\"mono-LGBC\"),1,IF(OR($Q1196=\"µc-Si / a-Si\",$Q1196=\"a-Si (single)\",$Q1196=\"a-Si (tandem)\",$Q1196=\"a-Si (triple)\"),3,2))))","v":1},0,null,null,19595,null,null,1195]
["Baoding Tianwei Yingli New Energy Resources YL220-29b","Baoding Tianwei Yingli New Energy Resources ","YL220-29b",220,"+3...-3",29,7.59,36,8.1,-133.19999999999999,4.8600000000000003,-0.45,1000,"China","Yingli Energy",13.468009948730469,"poly",60,"square",1650,990,50,"aluminum","junction box MC4",20,"www.yinglisolar.com","-","-","-","-","-",{"$f":"IF($O1215=\"Sunpower Corp.\",3,(IF(OR($Q1215=\"mono\",$Q1215=\"poly\",$Q1215=\"HIT\",$Q1215=\"EFG\",$Q1215=\"mono-LGBC\"),1,IF(OR($Q1215=\"µc-Si / a-Si\",$Q1215=\"a-Si (single)\",$Q1215=\"a-Si (tandem)\",$Q1215=\"a-Si (triple)\"),3,2))))","v":1},{"$f":"IF($O1215=\"Sunpower Corp.\",3,(IF(OR($Q1215=\"mono\",$Q1215=\"poly\",$Q1215=\"HIT\",$Q1215=\"EFG\",$Q1215=\"mono-LGBC\"),1,2)))","v":1},{"$f":"IF($O1215=\"Sunpower Corp.\",3,(IF(OR($Q1215=\"mono\",$Q1215=\"poly\",$Q1215=\"HIT\",$Q1215=\"EFG\",$Q1215=\"mono-LGBC\"),1,IF(OR($Q1215=\"µc-Si / a-Si\",$Q1215=\"a-Si (single)\",$Q1215=\"a-Si (tandem)\",$Q1215=\"a-Si (triple)\"),3,2))))","v":1},0,null,null,5674,null,null,1214]
["Baoding Tianwei Yingli New Energy Resources YL260-35b","Baoding Tianwei Yingli New Energy Resources ","YL260-35b",260,"+3...-3",35,7.43,44.6,8.0399999999999991,-165.02,4.823999999999999,-0.45,1000,"China","Yingli Energy",13.331279754638672,"poly",72,"square",1970,990,50,"aluminum","junction box MC4",26,"www.yinglisolar.com","-","-","-","-","-",{"$f":"IF($O1241=\"Sunpower Corp.\",3,(IF(OR($Q1241=\"mono\",$Q1241=\"poly\",$Q1241=\"HIT\",$Q1241=\"EFG\",$Q1241=\"mono-LGBC\"),1,IF(OR($Q1241=\"µc-Si / a-Si\",$Q1241=\"a-Si (single)\",$Q1241=\"a-Si (tandem)\",$Q1241=\"a-Si (triple)\"),3,2))))","v":1},{"$f":"IF($O1241=\"Sunpower Corp.\",3,(IF(OR($Q1241=\"mono\",$Q1241=\"poly\",$Q1241=\"HIT\",$Q1241=\"EFG\",$Q1241=\"mono-LGBC\"),1,2)))","v":1},{"$f":"IF($O1241=\"Sunpower Corp.\",3,(IF(OR($Q1241=\"mono\",$Q1241=\"poly\",$Q1241=\"HIT\",$Q1241=\"EFG\",$Q1241=\"mono-LGBC\"),1,IF(OR($Q1241=\"µc-Si / a-Si\",$Q1241=\"a-Si (single)\",$Q1241=\"a-Si (tandem)\",$Q1241=\"a-Si (triple)\"),3,2))))","v":1},0,null,null,16394,null,null,1240]
["BatiSolar BS6P 200e","BatiSolar ","BS6P 200e",200,"+2,5...-2,5",28.9,6.93,36.200000000000003,7.67,-126.7,6.1360000000000001,null,null,"France",null,12.433819770812988,"poly",60,"square",1638,982,40,"aluminum","junction box",18.5,"www.bati.solar.fr","-","-","-","-","-",{"$f":"IF($O1264=\"Sunpower Corp.\",3,(IF(OR($Q1264=\"mono\",$Q1264=\"poly\",$Q1264=\"HIT\",$Q1264=\"EFG\",$Q1264=\"mono-LGBC\"),1,IF(OR($Q1264=\"µc-Si / a-Si\",$Q1264=\"a-Si (single)\",$Q1264=\"a-Si (tandem)\",$Q1264=\"a-Si (triple)\"),3,2))))","v":1},{"$f":"IF($O1264=\"Sunpower Corp.\",3,(IF(OR($Q1264=\"mono\",$Q1264=\"poly\",$Q1264=\"HIT\",$Q1264=\"EFG\",$Q1264=\"mono-LGBC\"),1,2)))","v":1},{"$f":"IF($O1264=\"Sunpower Corp.\",3,(IF(OR($Q1264=\"mono\",$Q1264=\"poly\",$Q1264=\"HIT\",$Q1264=\"EFG\",$Q1264=\"mono-LGBC\"),1,IF(OR($Q1264=\"µc-Si / a-Si\",$Q1264=\"a-Si (single)\",$Q1264=\"a-Si (tandem)\",$Q1264=\"a-Si (triple)\"),3,2))))","v":1},0,null,null,29464,null,null,1263]
["Bauer Solartechnik GmbH BS-195-5MB2","Bauer Solartechnik GmbH ","BS-195-5MB2",195,"+3...-3",37.29,5.23,44.81,5.62,-151.00970000000004,1.5174000000000001,null,1000,null,null,15.274470329284668,"mono",72,"pseudo-square",1580,808,42,"aluminum","junction box",15.5,"www.bauer-solartechnik.de","-","-","-","-","-",{"$f":"IF($O1286=\"Sunpower Corp.\",3,(IF(OR($Q1286=\"mono\",$Q1286=\"poly\",$Q1286=\"HIT\",$Q1286=\"EFG\",$Q1286=\"mono-LGBC\"),1,IF(OR($Q1286=\"µc-Si / a-Si\",$Q1286=\"a-Si (single)\",$Q1286=\"a-Si (tandem)\",$Q1286=\"a-Si (triple)\"),3,2))))","v":1},{"$f":"IF($O1286=\"Sunpower Corp.\",3,(IF(OR($Q1286=\"mono\",$Q1286=\"poly\",$Q1286=\"HIT\",$Q1286=\"EFG\",$Q1286=\"mono-LGBC\"),1,2)))","v":1},{"$f":"IF($O1286=\"Sunpower Corp.\",3,(IF(OR($Q1286=\"mono\",$Q1286=\"poly\",$Q1286=\"HIT\",$Q1286=\"EFG\",$Q1286=\"mono-LGBC\"),1,IF(OR($Q1286=\"µc-Si / a-Si\",$Q1286=\"a-Si (single)\",$Q1286=\"a-Si (tandem)\",$Q1286=\"a-Si (triple)\"),3,2))))","v":1},0,null,null,30903,null,null,1285]
["Bauer Solartechnik GmbH BS-240-6P2","Bauer Solartechnik GmbH ","BS-240-6P2",240,"+3...-3",31.18,7.71,37.299999999999997,8.32,-134.28,5.8240000000000007,-0.48,1000,null,null,14.645009994506836,"poly",60,"square",1652,992,42,"aluminum","junction box",20,"www.bauer-solarenergie.de","-","-","-","-","-",{"$f":"IF($O1309=\"Sunpower Corp.\",3,(IF(OR($Q1309=\"mono\",$Q1309=\"poly\",$Q1309=\"HIT\",$Q1309=\"EFG\",$Q1309=\"mono-LGBC\"),1,IF(OR($Q1309=\"µc-Si / a-Si\",$Q1309=\"a-Si (single)\",$Q1309=\"a-Si (tandem)\",$Q1309=\"a-Si (triple)\"),3,2))))","v":1},{"$f":"IF($O1309=\"Sunpower Corp.\",3,(IF(OR($Q1309=\"mono\",$Q1309=\"poly\",$Q1309=\"HIT\",$Q1309=\"EFG\",$Q1309=\"mono-LGBC\"),1,2)))","v":1},{"$f":"IF($O1309=\"Sunpower Corp.\",3,(IF(OR($Q1309=\"mono\",$Q1309=\"poly\",$Q1309=\"HIT\",$Q1309=\"EFG\",$Q1309=\"mono-LGBC\"),1,IF(OR($Q1309=\"µc-Si / a-Si\",$Q1309=\"a-Si (single)\",$Q1309=\"a-Si (tandem)\",$Q1309=\"a-Si (triple)\"),3,2))))","v":1},0,null,null,10057,null,null,1308]
["Beijing Hope Industry & Trade Co. Ltd HBM(120)14866p","Beijing Hope Industry & Trade Co. Ltd ","HBM(120)14866p",120,"+...",17.100000000000001,7.02,21.4,7.68,-74.900000000000006,6.9043199999999993,-0.49569999999999997,1000,"China",null,12.087080001831055,"poly",36,"square",1484,669,35,null,"junction box MC4",13.5,"www.hopeed.com","-","-","-","-","-",{"$f":"IF($O1331=\"Sunpower Corp.\",3,(IF(OR($Q1331=\"mono\",$Q1331=\"poly\",$Q1331=\"HIT\",$Q1331=\"EFG\",$Q1331=\"mono-LGBC\"),1,IF(OR($Q1331=\"µc-Si / a-Si\",$Q1331=\"a-Si (single)\",$Q1331=\"a-Si (tandem)\",$Q1331=\"a-Si (triple)\"),3,2))))","v":1},{"$f":"IF($O1331=\"Sunpower Corp.\",3,(IF(OR($Q1331=\"mono\",$Q1331=\"poly\",$Q1331=\"HIT\",$Q1331=\"EFG\",$Q1331=\"mono-LGBC\"),1,2)))","v":1},{"$f":"IF($O1331=\"Sunpower Corp.\",3,(IF(OR($Q1331=\"mono\",$Q1331=\"poly\",$Q1331=\"HIT\",$Q1331=\"EFG\",$Q1331=\"mono-LGBC\"),1,IF(OR($Q1331=\"µc-Si / a-Si\",$Q1331=\"a-Si (single)\",$Q1331=\"a-Si (tandem)\",$Q1331=\"a-Si (triple)\"),3,2))))","v":1},0,null,null,9206,null,null,1330]
["Beijing Hope Industry & Trade Co. Ltd HBM(160)15880m/24","Beijing Hope Industry & Trade Co. Ltd ","HBM(160)15880m/24",160,"+...",34.5,4.6399999999999997,44,5.12,-154,4.6028799999999999,-0.49569999999999997,1000,"China",null,12.532899856567383,"mono",72,"pseudo-square",1580,808,35,null,"junction box MC4",15.4,"www.hopeed.com","-","-","-","-","-",{"$f":"IF($O1334=\"Sunpower Corp.\",3,(IF(OR($Q1334=\"mono\",$Q1334=\"poly\",$Q1334=\"HIT\",$Q1334=\"EFG\",$Q1334=\"mono-LGBC\"),1,IF(OR($Q1334=\"µc-Si / a-Si\",$Q1334=\"a-Si (single)\",$Q1334=\"a-Si (tandem)\",$Q1334=\"a-Si (triple)\"),3,2))))","v":1},{"$f":"IF($O1334=\"Sunpower Corp.\",3,(IF(OR($Q1334=\"mono\",$Q1334=\"poly\",$Q1334=\"HIT\",$Q1334=\"EFG\",$Q1334=\"mono-LGBC\"),1,2)))","v":1},{"$f":"IF($O1334=\"Sunpower Corp.\",3,(IF(OR($Q1334=\"mono\",$Q1334=\"poly\",$Q1334=\"HIT\",$Q1334=\"EFG\",$Q1334=\"mono-LGBC\"),1,IF(OR($Q1334=\"µc-Si / a-Si\",$Q1334=\"a-Si (single)\",$Q1334=\"a-Si (tandem)\",$Q1334=\"a-Si (triple)\"),3,2))))","v":1},0,null,null,22994,null,null,1333]
["Beijing Remote Power Renewable Energy Co., Ltd RSL75CE-18P","Beijing Remote Power Renewable Energy Co., Ltd ","RSL75CE-18P",75,"+5...-5",17.489999999999998,4.28,21.67,4.58,-82.346000000000004,1.8320000000000001,-0.47,null,null,"Jetion",12.072629928588867,"poly",36,"rectangular",930,668,35,null,"junction box",7.7,"www.repowersolar.com","-","-","-","-","-",{"$f":"IF($O1370=\"Sunpower Corp.\",3,(IF(OR($Q1370=\"mono\",$Q1370=\"poly\",$Q1370=\"HIT\",$Q1370=\"EFG\",$Q1370=\"mono-LGBC\"),1,IF(OR($Q1370=\"µc-Si / a-Si\",$Q1370=\"a-Si (single)\",$Q1370=\"a-Si (tandem)\",$Q1370=\"a-Si (triple)\"),3,2))))","v":1},{"$f":"IF($O1370=\"Sunpower Corp.\",3,(IF(OR($Q1370=\"mono\",$Q1370=\"poly\",$Q1370=\"HIT\",$Q1370=\"EFG\",$Q1370=\"mono-LGBC\"),1,2)))","v":1},{"$f":"IF($O1370=\"Sunpower Corp.\",3,(IF(OR($Q1370=\"mono\",$Q1370=\"poly\",$Q1370=\"HIT\",$Q1370=\"EFG\",$Q1370=\"mono-LGBC\"),1,IF(OR($Q1370=\"µc-Si / a-Si\",$Q1370=\"a-Si (single)\",$Q1370=\"a-Si (tandem)\",$Q1370=\"a-Si (triple)\"),3,2))))","v":1},0,null,null,31899,null,null,1369]
["Beijing Zhongkexin Electronics Equipment (CETC) ZKX-210 P-24","Beijing Zhongkexin Electronics Equipment (CETC) ","ZKX-210 P-24",210,"+3...-3",29.7,7.1,36.4,7.86,-123.76,3.5370000000000004,-0.47,1000,null,null,12.855830192565918,"poly",60,"square",1650,990,35,"aluminum","junction box",22,"www.zhongkexin.com.cn","-","-","-","-","-",{"$f":"IF($O1379=\"Sunpower Corp.\",3,(IF(OR($Q1379=\"mono\",$Q1379=\"poly\",$Q1379=\"HIT\",$Q1379=\"EFG\",$Q1379=\"mono-LGBC\"),1,IF(OR($Q1379=\"µc-Si / a-Si\",$Q1379=\"a-Si (single)\",$Q1379=\"a-Si (tandem)\",$Q1379=\"a-Si (triple)\"),3,2))))","v":1},{"$f":"IF($O1379=\"Sunpower Corp.\",3,(IF(OR($Q1379=\"mono\",$Q1379=\"poly\",$Q1379=\"HIT\",$Q1379=\"EFG\",$Q1379=\"mono-LGBC\"),1,2)))","v":1},{"$f":"IF($O1379=\"Sunpower Corp.\",3,(IF(OR($Q1379=\"mono\",$Q1379=\"poly\",$Q1379=\"HIT\",$Q1379=\"EFG\",$Q1379=\"mono-LGBC\"),1,IF(OR($Q1379=\"µc-Si / a-Si\",$Q1379=\"a-Si (single)\",$Q1379=\"a-Si (tandem)\",$Q1379=\"a-Si (triple)\"),3,2))))","v":1},0,null,null,15787,null,null,1378]
["Belstone Energy Solar Innova S.L. SI-ESF-M-M165","Belstone Energy Solar Innova S.L. ","SI-ESF-M-M165",165,"+3...0",34.5,4.78,43.6,5.0999999999999996,-151.29199999999997,1.4279999999999999,-0.47099999999999997,1000,null,null,12.92455005645752,"mono",72,"pseudo-square",1580,808,40,"aluminum","junction box MC4",15.5,"www.solarinnova.net","-","-","-","-","-",{"$f":"IF($O1396=\"Sunpower Corp.\",3,(IF(OR($Q1396=\"mono\",$Q1396=\"poly\",$Q1396=\"HIT\",$Q1396=\"EFG\",$Q1396=\"mono-LGBC\"),1,IF(OR($Q1396=\"µc-Si / a-Si\",$Q1396=\"a-Si (single)\",$Q1396=\"a-Si (tandem)\",$Q1396=\"a-Si (triple)\"),3,2))))","v":1},{"$f":"IF($O1396=\"Sunpower Corp.\",3,(IF(OR($Q1396=\"mono\",$Q1396=\"poly\",$Q1396=\"HIT\",$Q1396=\"EFG\",$Q1396=\"mono-LGBC\"),1,2)))","v":1},{"$f":"IF($O1396=\"Sunpower Corp.\",3,(IF(OR($Q1396=\"mono\",$Q1396=\"poly\",$Q1396=\"HIT\",$Q1396=\"EFG\",$Q1396=\"mono-LGBC\"),1,IF(OR($Q1396=\"µc-Si / a-Si\",$Q1396=\"a-Si (single)\",$Q1396=\"a-Si (tandem)\",$Q1396=\"a-Si (triple)\"),3,2))))","v":1},0,null,null,33703,null,null,1395]
["Belstone Energy Solar Innova S.L. SI-ESF-M-M255 (60)","Belstone Energy Solar Innova S.L. ","SI-ESF-M-M255 (60)",255,"+5...0",32.200000000000003,7.9,38.200000000000003,8.9,-132.554,2.4920000000000004,-0.47099999999999997,1000,null,null,15.532110214233398,"mono",60,"pseudo-square",1655,992,45,"aluminum","junction box MC4",20,"www.solarinnova.net","-","-","-","-","-",{"$f":"IF($O1424=\"Sunpower Corp.\",3,(IF(OR($Q1424=\"mono\",$Q1424=\"poly\",$Q1424=\"HIT\",$Q1424=\"EFG\",$Q1424=\"mono-LGBC\"),1,IF(OR($Q1424=\"µc-Si / a-Si\",$Q1424=\"a-Si (single)\",$Q1424=\"a-Si (tandem)\",$Q1424=\"a-Si (triple)\"),3,2))))","v":1},{"$f":"IF($O1424=\"Sunpower Corp.\",3,(IF(OR($Q1424=\"mono\",$Q1424=\"poly\",$Q1424=\"HIT\",$Q1424=\"EFG\",$Q1424=\"mono-LGBC\"),1,2)))","v":1},{"$f":"IF($O1424=\"Sunpower Corp.\",3,(IF(OR($Q1424=\"mono\",$Q1424=\"poly\",$Q1424=\"HIT\",$Q1424=\"EFG\",$Q1424=\"mono-LGBC\"),1,IF(OR($Q1424=\"µc-Si / a-Si\",$Q1424=\"a-Si (single)\",$Q1424=\"a-Si (tandem)\",$Q1424=\"a-Si (triple)\"),3,2))))","v":1},0,null,null,33688,null,null,1423]
["Belstone Energy Solar Innova S.L. SI-ESF-M-P135","Belstone Energy Solar Innova S.L. ","SI-ESF-M-P135",135,"+3...0",18,7.5,21.85,8.18,-75.819500000000005,4.4990000000000006,-0.48,1000,null,null,13.475310325622559,"poly",36,"square",1482,676,45,"aluminum","junction box MC4",12,"www.solarinnova.net","-","-","-","-","-",{"$f":"IF($O1441=\"Sunpower Corp.\",3,(IF(OR($Q1441=\"mono\",$Q1441=\"poly\",$Q1441=\"HIT\",$Q1441=\"EFG\",$Q1441=\"mono-LGBC\"),1,IF(OR($Q1441=\"µc-Si / a-Si\",$Q1441=\"a-Si (single)\",$Q1441=\"a-Si (tandem)\",$Q1441=\"a-Si (triple)\"),3,2))))","v":1},{"$f":"IF($O1441=\"Sunpower Corp.\",3,(IF(OR($Q1441=\"mono\",$Q1441=\"poly\",$Q1441=\"HIT\",$Q1441=\"EFG\",$Q1441=\"mono-LGBC\"),1,2)))","v":1},{"$f":"IF($O1441=\"Sunpower Corp.\",3,(IF(OR($Q1441=\"mono\",$Q1441=\"poly\",$Q1441=\"HIT\",$Q1441=\"EFG\",$Q1441=\"mono-LGBC\"),1,IF(OR($Q1441=\"µc-Si / a-Si\",$Q1441=\"a-Si (single)\",$Q1441=\"a-Si (tandem)\",$Q1441=\"a-Si (triple)\"),3,2))))","v":1},0,null,null,33670,null,null,1440]
["Belstone Energy Solar Innova S.L. SI-ESF-M-P215","Belstone Energy Solar Innova S.L. ","SI-ESF-M-P215",215,"+3...0",28.8,7.47,35.700000000000003,8.2200000000000006,-123.87899999999999,4.5210000000000008,-0.48,1000,null,null,13.095700263977051,"poly",60,"square",1655,992,45,"aluminum","junction box MC4",20,"www.solarinnova.net","-","-","-","-","-",{"$f":"IF($O1453=\"Sunpower Corp.\",3,(IF(OR($Q1453=\"mono\",$Q1453=\"poly\",$Q1453=\"HIT\",$Q1453=\"EFG\",$Q1453=\"mono-LGBC\"),1,IF(OR($Q1453=\"µc-Si / a-Si\",$Q1453=\"a-Si (single)\",$Q1453=\"a-Si (tandem)\",$Q1453=\"a-Si (triple)\"),3,2))))","v":1},{"$f":"IF($O1453=\"Sunpower Corp.\",3,(IF(OR($Q1453=\"mono\",$Q1453=\"poly\",$Q1453=\"HIT\",$Q1453=\"EFG\",$Q1453=\"mono-LGBC\"),1,2)))","v":1},{"$f":"IF($O1453=\"Sunpower Corp.\",3,(IF(OR($Q1453=\"mono\",$Q1453=\"poly\",$Q1453=\"HIT\",$Q1453=\"EFG\",$Q1453=\"mono-LGBC\"),1,IF(OR($Q1453=\"µc-Si / a-Si\",$Q1453=\"a-Si (single)\",$Q1453=\"a-Si (tandem)\",$Q1453=\"a-Si (triple)\"),3,2))))","v":1},0,null,null,33644,null,null,1452]
["Best Solar Hi-Tech Co., Ltd Best-108QS D10-01","Best Solar Hi-Tech Co., Ltd ","Best-108QS D10-01",108,"+...",110,0.98,144,1.18,-460.8,1.6520000000000004,-0.32,1000,null,null,7.5524468421936035,"µc-Si / a-Si",null,"others",1300,1100,8.4,"frameless","junction box MC old",27.6,"wwwbestsolarco.com","-","-","-","-","-",{"$f":"IF($O1486=\"Sunpower Corp.\",3,(IF(OR($Q1486=\"mono\",$Q1486=\"poly\",$Q1486=\"HIT\",$Q1486=\"EFG\",$Q1486=\"mono-LGBC\"),1,IF(OR($Q1486=\"µc-Si / a-Si\",$Q1486=\"a-Si (single)\",$Q1486=\"a-Si (tandem)\",$Q1486=\"a-Si (triple)\"),3,2))))","v":3},{"$f":"IF($O1486=\"Sunpower Corp.\",3,(IF(OR($Q1486=\"mono\",$Q1486=\"poly\",$Q1486=\"HIT\",$Q1486=\"EFG\",$Q1486=\"mono-LGBC\"),1,2)))","v":2},{"$f":"IF($O1486=\"Sunpower Corp.\",3,(IF(OR($Q1486=\"mono\",$Q1486=\"poly\",$Q1486=\"HIT\",$Q1486=\"EFG\",$Q1486=\"mono-LGBC\"),1,IF(OR($Q1486=\"µc-Si / a-Si\",$Q1486=\"a-Si (single)\",$Q1486=\"a-Si (tandem)\",$Q1486=\"a-Si (triple)\"),3,2))))","v":3},0,null,null,31046,null,null,1485]
["Best Solar Hi-Tech Co., Ltd Best-170D-24","Best Solar Hi-Tech Co., Ltd ","Best-170D-24",170,"+3...-3",35.4,4.76,44.5,5.42,-160.19999999999999,3.5229999999999997,-0.47,1000,null,null,13.265830039978027,"mono",72,"pseudo-square",1586,808,40,"aluminum","junction box MC4",15.6,"www.bestsolarco.com","-","-","-","-","-",{"$f":"IF($O1498=\"Sunpower Corp.\",3,(IF(OR($Q1498=\"mono\",$Q1498=\"poly\",$Q1498=\"HIT\",$Q1498=\"EFG\",$Q1498=\"mono-LGBC\"),1,IF(OR($Q1498=\"µc-Si / a-Si\",$Q1498=\"a-Si (single)\",$Q1498=\"a-Si (tandem)\",$Q1498=\"a-Si (triple)\"),3,2))))","v":1},{"$f":"IF($O1498=\"Sunpower Corp.\",3,(IF(OR($Q1498=\"mono\",$Q1498=\"poly\",$Q1498=\"HIT\",$Q1498=\"EFG\",$Q1498=\"mono-LGBC\"),1,2)))","v":1},{"$f":"IF($O1498=\"Sunpower Corp.\",3,(IF(OR($Q1498=\"mono\",$Q1498=\"poly\",$Q1498=\"HIT\",$Q1498=\"EFG\",$Q1498=\"mono-LGBC\"),1,IF(OR($Q1498=\"µc-Si / a-Si\",$Q1498=\"a-Si (single)\",$Q1498=\"a-Si (tandem)\",$Q1498=\"a-Si (triple)\"),3,2))))","v":1},0,null,null,10124,null,null,1497]
["Best Solar Hi-Tech Co., Ltd Best-480FS D","Best Solar Hi-Tech Co., Ltd ","Best-480FS D",480,"+...",222,2.16,291,2.5499999999999998,-1338.6,3.57,-0.32,1000,null,null,8.3916082382202148,"µc-Si / a-Si",null,"others",2600,2200,7.6,"frameless","junction box MC4",117,"www.bestsolarco.com","-","-","-","-","-",{"$f":"IF($O1525=\"Sunpower Corp.\",3,(IF(OR($Q1525=\"mono\",$Q1525=\"poly\",$Q1525=\"HIT\",$Q1525=\"EFG\",$Q1525=\"mono-LGBC\"),1,IF(OR($Q1525=\"µc-Si / a-Si\",$Q1525=\"a-Si (single)\",$Q1525=\"a-Si (tandem)\",$Q1525=\"a-Si (triple)\"),3,2))))","v":3},{"$f":"IF($O1525=\"Sunpower Corp.\",3,(IF(OR($Q1525=\"mono\",$Q1525=\"poly\",$Q1525=\"HIT\",$Q1525=\"EFG\",$Q1525=\"mono-LGBC\"),1,2)))","v":2},{"$f":"IF($O1525=\"Sunpower Corp.\",3,(IF(OR($Q1525=\"mono\",$Q1525=\"poly\",$Q1525=\"HIT\",$Q1525=\"EFG\",$Q1525=\"mono-LGBC\"),1,IF(OR($Q1525=\"µc-Si / a-Si\",$Q1525=\"a-Si (single)\",$Q1525=\"a-Si (tandem)\",$Q1525=\"a-Si (triple)\"),3,2))))","v":3},0,null,null,31019,null,null,1524]
["Best Solar Hi-Tech Co., Ltd Best-95QS D05-01","Best Solar Hi-Tech Co., Ltd ","Best-95QS D05-01",95,"+...",106,0.89,138,1.1100000000000001,-634.79999999999995,1.5540000000000003,-0.32,1000,null,null,6.6433568000793457,"µc-Si / a-Si",null,"others",1300,1100,8.4,"frameless","junction box MC old",27.6,"wwwbestsolarco.com","-","-","-","-","-",{"$f":"IF($O1543=\"Sunpower Corp.\",3,(IF(OR($Q1543=\"mono\",$Q1543=\"poly\",$Q1543=\"HIT\",$Q1543=\"EFG\",$Q1543=\"mono-LGBC\"),1,IF(OR($Q1543=\"µc-Si / a-Si\",$Q1543=\"a-Si (single)\",$Q1543=\"a-Si (tandem)\",$Q1543=\"a-Si (triple)\"),3,2))))","v":3},{"$f":"IF($O1543=\"Sunpower Corp.\",3,(IF(OR($Q1543=\"mono\",$Q1543=\"poly\",$Q1543=\"HIT\",$Q1543=\"EFG\",$Q1543=\"mono-LGBC\"),1,2)))","v":2},{"$f":"IF($O1543=\"Sunpower Corp.\",3,(IF(OR($Q1543=\"mono\",$Q1543=\"poly\",$Q1543=\"HIT\",$Q1543=\"EFG\",$Q1543=\"mono-LGBC\"),1,IF(OR($Q1543=\"µc-Si / a-Si\",$Q1543=\"a-Si (single)\",$Q1543=\"a-Si (tandem)\",$Q1543=\"a-Si (triple)\"),3,2))))","v":3},0,null,null,31056,null,null,1542]
["Best Solar Hi-Tech Co., Ltd Best-99QS D10-01","Best Solar Hi-Tech Co., Ltd ","Best-99QS D10-01",99,"+...",108,0.92,142,1.0900000000000001,-653.20000000000005,1.5260000000000002,-0.32,1000,null,null,6.9230771064758301,"µc-Si / a-Si",null,"others",1300,1100,8.4,"frameless","junction box MC old",27.6,"wwwbestsolarco.com","-","-","-","-","-",{"$f":"IF($O1551=\"Sunpower Corp.\",3,(IF(OR($Q1551=\"mono\",$Q1551=\"poly\",$Q1551=\"HIT\",$Q1551=\"EFG\",$Q1551=\"mono-LGBC\"),1,IF(OR($Q1551=\"µc-Si / a-Si\",$Q1551=\"a-Si (single)\",$Q1551=\"a-Si (tandem)\",$Q1551=\"a-Si (triple)\"),3,2))))","v":3},{"$f":"IF($O1551=\"Sunpower Corp.\",3,(IF(OR($Q1551=\"mono\",$Q1551=\"poly\",$Q1551=\"HIT\",$Q1551=\"EFG\",$Q1551=\"mono-LGBC\"),1,2)))","v":2},{"$f":"IF($O1551=\"Sunpower Corp.\",3,(IF(OR($Q1551=\"mono\",$Q1551=\"poly\",$Q1551=\"HIT\",$Q1551=\"EFG\",$Q1551=\"mono-LGBC\"),1,IF(OR($Q1551=\"µc-Si / a-Si\",$Q1551=\"a-Si (single)\",$Q1551=\"a-Si (tandem)\",$Q1551=\"a-Si (triple)\"),3,2))))","v":3},0,null,null,31044,null,null,1550]
["Beyond PV Co.,Ltd BT110A40","Beyond PV Co.,Ltd ","BT110A40",110,"+5...-5",108.5,1.02,139.19999999999999,1.22,-445.44,0.73199999999999987,-0.36,1000,null,null,6.9794631004333496,"µc-Si / a-Si",null,"others",1413.5,1115,40,"aluminum","junction box MC old",19,"www.beyondpv.com","-","-","-","-","-",{"$f":"IF($O1568=\"Sunpower Corp.\",3,(IF(OR($Q1568=\"mono\",$Q1568=\"poly\",$Q1568=\"HIT\",$Q1568=\"EFG\",$Q1568=\"mono-LGBC\"),1,IF(OR($Q1568=\"µc-Si / a-Si\",$Q1568=\"a-Si (single)\",$Q1568=\"a-Si (tandem)\",$Q1568=\"a-Si (triple)\"),3,2))))","v":3},{"$f":"IF($O1568=\"Sunpower Corp.\",3,(IF(OR($Q1568=\"mono\",$Q1568=\"poly\",$Q1568=\"HIT\",$Q1568=\"EFG\",$Q1568=\"mono-LGBC\"),1,2)))","v":2},{"$f":"IF($O1568=\"Sunpower Corp.\",3,(IF(OR($Q1568=\"mono\",$Q1568=\"poly\",$Q1568=\"HIT\",$Q1568=\"EFG\",$Q1568=\"mono-LGBC\"),1,IF(OR($Q1568=\"µc-Si / a-Si\",$Q1568=\"a-Si (single)\",$Q1568=\"a-Si (tandem)\",$Q1568=\"a-Si (triple)\"),3,2))))","v":3},0,null,null,19604,null,null,1567]
["Bisol d.o.o. BMO-215-2/245","Bisol d.o.o. ","BMO-215-2/245",245,"+6...",30.2,8.15,38.1,8.65,-121.92,5.19,-0.4,1000,"Slovenia","diverse",14.992420196533203,"mono",60,"pseudo-square",1649,991,40,"aluminum","junction box Tyco",18.5,"www.bisol.com","-","-","-","-","-",{"$f":"IF($O1596=\"Sunpower Corp.\",3,(IF(OR($Q1596=\"mono\",$Q1596=\"poly\",$Q1596=\"HIT\",$Q1596=\"EFG\",$Q1596=\"mono-LGBC\"),1,IF(OR($Q1596=\"µc-Si / a-Si\",$Q1596=\"a-Si (single)\",$Q1596=\"a-Si (tandem)\",$Q1596=\"a-Si (triple)\"),3,2))))","v":1},{"$f":"IF($O1596=\"Sunpower Corp.\",3,(IF(OR($Q1596=\"mono\",$Q1596=\"poly\",$Q1596=\"HIT\",$Q1596=\"EFG\",$Q1596=\"mono-LGBC\"),1,2)))","v":1},{"$f":"IF($O1596=\"Sunpower Corp.\",3,(IF(OR($Q1596=\"mono\",$Q1596=\"poly\",$Q1596=\"HIT\",$Q1596=\"EFG\",$Q1596=\"mono-LGBC\"),1,IF(OR($Q1596=\"µc-Si / a-Si\",$Q1596=\"a-Si (single)\",$Q1596=\"a-Si (tandem)\",$Q1596=\"a-Si (triple)\"),3,2))))","v":1},0,null,null,27178,null,null,1595]
["Bluenergy Control s.r.l. BLCL 230 P","Bluenergy Control s.r.l. ","BLCL 230 P",230,"+3...-3",30.66,7.5,36.840000000000003,7.94,-110.52,6.3520000000000012,-0.37,1000,"Italy","NSP",13.858139991760254,"poly",60,"square",1663,998,35,"aluminum","junction box MC",21.5,"www.blucell.eu","-","-","-","-","-",{"$f":"IF($O1617=\"Sunpower Corp.\",3,(IF(OR($Q1617=\"mono\",$Q1617=\"poly\",$Q1617=\"HIT\",$Q1617=\"EFG\",$Q1617=\"mono-LGBC\"),1,IF(OR($Q1617=\"µc-Si / a-Si\",$Q1617=\"a-Si (single)\",$Q1617=\"a-Si (tandem)\",$Q1617=\"a-Si (triple)\"),3,2))))","v":1},{"$f":"IF($O1617=\"Sunpower Corp.\",3,(IF(OR($Q1617=\"mono\",$Q1617=\"poly\",$Q1617=\"HIT\",$Q1617=\"EFG\",$Q1617=\"mono-LGBC\"),1,2)))","v":1},{"$f":"IF($O1617=\"Sunpower Corp.\",3,(IF(OR($Q1617=\"mono\",$Q1617=\"poly\",$Q1617=\"HIT\",$Q1617=\"EFG\",$Q1617=\"mono-LGBC\"),1,IF(OR($Q1617=\"µc-Si / a-Si\",$Q1617=\"a-Si (single)\",$Q1617=\"a-Si (tandem)\",$Q1617=\"a-Si (triple)\"),3,2))))","v":1},0,null,null,13904,null,null,1616]
["Borun New Energy S&T Co., Ltd BRC230W-156P60","Borun New Energy S&T Co., Ltd ","BRC230W-156P60",230,"+...",29.8,7.91,37.200000000000003,8.32,-129.084,4.5760000000000005,-0.48,1000,"China",null,14.034799575805664,"poly",60,"square",1652,992,50,"aluminum","junction box MC4",21.5,"www.borunchina.com","-","-","-","-","-",{"$f":"IF($O1638=\"Sunpower Corp.\",3,(IF(OR($Q1638=\"mono\",$Q1638=\"poly\",$Q1638=\"HIT\",$Q1638=\"EFG\",$Q1638=\"mono-LGBC\"),1,IF(OR($Q1638=\"µc-Si / a-Si\",$Q1638=\"a-Si (single)\",$Q1638=\"a-Si (tandem)\",$Q1638=\"a-Si (triple)\"),3,2))))","v":1},{"$f":"IF($O1638=\"Sunpower Corp.\",3,(IF(OR($Q1638=\"mono\",$Q1638=\"poly\",$Q1638=\"HIT\",$Q1638=\"EFG\",$Q1638=\"mono-LGBC\"),1,2)))","v":1},{"$f":"IF($O1638=\"Sunpower Corp.\",3,(IF(OR($Q1638=\"mono\",$Q1638=\"poly\",$Q1638=\"HIT\",$Q1638=\"EFG\",$Q1638=\"mono-LGBC\"),1,IF(OR($Q1638=\"µc-Si / a-Si\",$Q1638=\"a-Si (single)\",$Q1638=\"a-Si (tandem)\",$Q1638=\"a-Si (triple)\"),3,2))))","v":1},0,null,null,34971,null,null,1637]
["Bosch Solar Energy AG Bosch c-Si M 48 185","Bosch Solar Energy AG ","Bosch c-Si M 48 185",180,"+2,7...0",23.7,7.95,29.1,8.5500000000000007,-98.94,3.42,-0.47,1000,"Portugal","Bosch Solar Energy AG",13.565620422363281,"mono",48,"pseudo-square",1343,988,40,"aluminum","junction box Tyco",16,"www.bosch-solarenergy.de","-","-","-","-","-",{"$f":"IF($O1661=\"Sunpower Corp.\",3,(IF(OR($Q1661=\"mono\",$Q1661=\"poly\",$Q1661=\"HIT\",$Q1661=\"EFG\",$Q1661=\"mono-LGBC\"),1,IF(OR($Q1661=\"µc-Si / a-Si\",$Q1661=\"a-Si (single)\",$Q1661=\"a-Si (tandem)\",$Q1661=\"a-Si (triple)\"),3,2))))","v":1},{"$f":"IF($O1661=\"Sunpower Corp.\",3,(IF(OR($Q1661=\"mono\",$Q1661=\"poly\",$Q1661=\"HIT\",$Q1661=\"EFG\",$Q1661=\"mono-LGBC\"),1,2)))","v":1},{"$f":"IF($O1661=\"Sunpower Corp.\",3,(IF(OR($Q1661=\"mono\",$Q1661=\"poly\",$Q1661=\"HIT\",$Q1661=\"EFG\",$Q1661=\"mono-LGBC\"),1,IF(OR($Q1661=\"µc-Si / a-Si\",$Q1661=\"a-Si (single)\",$Q1661=\"a-Si (tandem)\",$Q1661=\"a-Si (triple)\"),3,2))))","v":1},0,null,null,26618,null,null,1660]
["Bosch Solar Energy AG Bosch c-Si M 60 235","Bosch Solar Energy AG ","Bosch c-Si M 60 235",235,"+2,1...0",29.6,8.0500000000000007,36.6,8.4,-124.44,3.36,-0.47,1000,"Germany","Bosch Solar Energy AG",14.299619674682617,"mono",60,"pseudo-square",1660,990,50,"aluminum","junction box Spelsberg",21,"www.bosch-solarenergy.de","-","-","-","-","-",{"$f":"IF($O1667=\"Sunpower Corp.\",3,(IF(OR($Q1667=\"mono\",$Q1667=\"poly\",$Q1667=\"HIT\",$Q1667=\"EFG\",$Q1667=\"mono-LGBC\"),1,IF(OR($Q1667=\"µc-Si / a-Si\",$Q1667=\"a-Si (single)\",$Q1667=\"a-Si (tandem)\",$Q1667=\"a-Si (triple)\"),3,2))))","v":1},{"$f":"IF($O1667=\"Sunpower Corp.\",3,(IF(OR($Q1667=\"mono\",$Q1667=\"poly\",$Q1667=\"HIT\",$Q1667=\"EFG\",$Q1667=\"mono-LGBC\"),1,2)))","v":1},{"$f":"IF($O1667=\"Sunpower Corp.\",3,(IF(OR($Q1667=\"mono\",$Q1667=\"poly\",$Q1667=\"HIT\",$Q1667=\"EFG\",$Q1667=\"mono-LGBC\"),1,IF(OR($Q1667=\"µc-Si / a-Si\",$Q1667=\"a-Si (single)\",$Q1667=\"a-Si (tandem)\",$Q1667=\"a-Si (triple)\"),3,2))))","v":1},0,null,null,12410,null,null,1666]
["BP Solar BP 3175 B","BP Solar ","BP 3175 B",175,"+5...-5",35.6,4.9000000000000004,43.6,5.3,-156.96,3.4449999999999998,-0.5,null,null,null,13.95835018157959,"poly",72,"square",1587,790,50,"aluminum","junction box",15.4,"www.bpsolar.com","-","-","-","-","-",{"$f":"IF($O1687=\"Sunpower Corp.\",3,(IF(OR($Q1687=\"mono\",$Q1687=\"poly\",$Q1687=\"HIT\",$Q1687=\"EFG\",$Q1687=\"mono-LGBC\"),1,IF(OR($Q1687=\"µc-Si / a-Si\",$Q1687=\"a-Si (single)\",$Q1687=\"a-Si (tandem)\",$Q1687=\"a-Si (triple)\"),3,2))))","v":1},{"$f":"IF($O1687=\"Sunpower Corp.\",3,(IF(OR($Q1687=\"mono\",$Q1687=\"poly\",$Q1687=\"HIT\",$Q1687=\"EFG\",$Q1687=\"mono-LGBC\"),1,2)))","v":1},{"$f":"IF($O1687=\"Sunpower Corp.\",3,(IF(OR($Q1687=\"mono\",$Q1687=\"poly\",$Q1687=\"HIT\",$Q1687=\"EFG\",$Q1687=\"mono-LGBC\"),1,IF(OR($Q1687=\"µc-Si / a-Si\",$Q1687=\"a-Si (single)\",$Q1687=\"a-Si (tandem)\",$Q1687=\"a-Si (triple)\"),3,2))))","v":1},0,null,null,34382,null,null,1686]
["BP Solar BP 375 J","BP Solar ","BP 375 J",75,"+5...-5",17.3,4.29,21.8,4.3,-78.48,3.01,-0.5,600,"various","BP Solar",11.552089691162109,"poly",36,"rectangular",1209,537,50,"aluminum","junction box",7.7,"www.bpsolar.com","-","-","-","-","-",{"$f":"IF($O1712=\"Sunpower Corp.\",3,(IF(OR($Q1712=\"mono\",$Q1712=\"poly\",$Q1712=\"HIT\",$Q1712=\"EFG\",$Q1712=\"mono-LGBC\"),1,IF(OR($Q1712=\"µc-Si / a-Si\",$Q1712=\"a-Si (single)\",$Q1712=\"a-Si (tandem)\",$Q1712=\"a-Si (triple)\"),3,2))))","v":1},{"$f":"IF($O1712=\"Sunpower Corp.\",3,(IF(OR($Q1712=\"mono\",$Q1712=\"poly\",$Q1712=\"HIT\",$Q1712=\"EFG\",$Q1712=\"mono-LGBC\"),1,2)))","v":1},{"$f":"IF($O1712=\"Sunpower Corp.\",3,(IF(OR($Q1712=\"mono\",$Q1712=\"poly\",$Q1712=\"HIT\",$Q1712=\"EFG\",$Q1712=\"mono-LGBC\"),1,IF(OR($Q1712=\"µc-Si / a-Si\",$Q1712=\"a-Si (single)\",$Q1712=\"a-Si (tandem)\",$Q1712=\"a-Si (triple)\"),3,2))))","v":1},0,null,null,8546,null,null,1711]
["Brandoni Solare S.p.A BRP633604G4G4-140-1708","Brandoni Solare S.p.A ","BRP633604G4G4-140-1708",140,"+3...-3",18.7,7.5,24.4,8,-152.012,7.84,-0.93600000000000005,1000,"Italy","Q-Cells AG",9.8605785369873047,"poly",36,"square",1755,809,10,"frameless","junction box",29,"www.brandonisolare.com","-","-","-","-","-",{"$f":"IF($O1732=\"Sunpower Corp.\",3,(IF(OR($Q1732=\"mono\",$Q1732=\"poly\",$Q1732=\"HIT\",$Q1732=\"EFG\",$Q1732=\"mono-LGBC\"),1,IF(OR($Q1732=\"µc-Si / a-Si\",$Q1732=\"a-Si (single)\",$Q1732=\"a-Si (tandem)\",$Q1732=\"a-Si (triple)\"),3,2))))","v":1},{"$f":"IF($O1732=\"Sunpower Corp.\",3,(IF(OR($Q1732=\"mono\",$Q1732=\"poly\",$Q1732=\"HIT\",$Q1732=\"EFG\",$Q1732=\"mono-LGBC\"),1,2)))","v":1},{"$f":"IF($O1732=\"Sunpower Corp.\",3,(IF(OR($Q1732=\"mono\",$Q1732=\"poly\",$Q1732=\"HIT\",$Q1732=\"EFG\",$Q1732=\"mono-LGBC\"),1,IF(OR($Q1732=\"µc-Si / a-Si\",$Q1732=\"a-Si (single)\",$Q1732=\"a-Si (tandem)\",$Q1732=\"a-Si (triple)\"),3,2))))","v":1},0,null,null,16715,null,null,1731]
["Brandoni Solare S.p.A BRP6360064T-240","Brandoni Solare S.p.A ","BRP6360064T-240",240,"+3...-3",30,8,38,8.6,-140.6,7.74,-0.53,1000,"Italy","Q-Cells AG",14.492609977722168,"poly",60,"square",1661,997,42,"aluminum","cable Tyco",22,"www.brandonisolare.com","-","-","-","-","-",{"$f":"IF($O1757=\"Sunpower Corp.\",3,(IF(OR($Q1757=\"mono\",$Q1757=\"poly\",$Q1757=\"HIT\",$Q1757=\"EFG\",$Q1757=\"mono-LGBC\"),1,IF(OR($Q1757=\"µc-Si / a-Si\",$Q1757=\"a-Si (single)\",$Q1757=\"a-Si (tandem)\",$Q1757=\"a-Si (triple)\"),3,2))))","v":1},{"$f":"IF($O1757=\"Sunpower Corp.\",3,(IF(OR($Q1757=\"mono\",$Q1757=\"poly\",$Q1757=\"HIT\",$Q1757=\"EFG\",$Q1757=\"mono-LGBC\"),1,2)))","v":1},{"$f":"IF($O1757=\"Sunpower Corp.\",3,(IF(OR($Q1757=\"mono\",$Q1757=\"poly\",$Q1757=\"HIT\",$Q1757=\"EFG\",$Q1757=\"mono-LGBC\"),1,IF(OR($Q1757=\"µc-Si / a-Si\",$Q1757=\"a-Si (single)\",$Q1757=\"a-Si (tandem)\",$Q1757=\"a-Si (triple)\"),3,2))))","v":1},0,null,null,27579,null,null,1756]
["Brisban Solar BS-190S5","Brisban Solar ","BS-190S5",190,"+3...-3",36.6,5.2,44.85,5.6,-179.4,3.36,-0.4,1000,null,null,14.882820129394531,"mono",72,"pseudo-square",1580,808,35,"aluminum","junction box MC",17,"www.brisbansolar.com","-","-","-","-","-",{"$f":"IF($O1771=\"Sunpower Corp.\",3,(IF(OR($Q1771=\"mono\",$Q1771=\"poly\",$Q1771=\"HIT\",$Q1771=\"EFG\",$Q1771=\"mono-LGBC\"),1,IF(OR($Q1771=\"µc-Si / a-Si\",$Q1771=\"a-Si (single)\",$Q1771=\"a-Si (tandem)\",$Q1771=\"a-Si (triple)\"),3,2))))","v":1},{"$f":"IF($O1771=\"Sunpower Corp.\",3,(IF(OR($Q1771=\"mono\",$Q1771=\"poly\",$Q1771=\"HIT\",$Q1771=\"EFG\",$Q1771=\"mono-LGBC\"),1,2)))","v":1},{"$f":"IF($O1771=\"Sunpower Corp.\",3,(IF(OR($Q1771=\"mono\",$Q1771=\"poly\",$Q1771=\"HIT\",$Q1771=\"EFG\",$Q1771=\"mono-LGBC\"),1,IF(OR($Q1771=\"µc-Si / a-Si\",$Q1771=\"a-Si (single)\",$Q1771=\"a-Si (tandem)\",$Q1771=\"a-Si (triple)\"),3,2))))","v":1},0,null,null,14899,null,null,1770]
["Brisban Solar BS-220P","Brisban Solar ","BS-220P",220,"+3...-3",29.6,7.44,37.1,8.09,-133.56,4.8540000000000001,-0.45,1000,null,null,13.550140380859375,"poly",60,"square",1640,990,50,"aluminum","junction box MC",21.6,"www.brisbansolar.com","-","-","-","-","-",{"$f":"IF($O1782=\"Sunpower Corp.\",3,(IF(OR($Q1782=\"mono\",$Q1782=\"poly\",$Q1782=\"HIT\",$Q1782=\"EFG\",$Q1782=\"mono-LGBC\"),1,IF(OR($Q1782=\"µc-Si / a-Si\",$Q1782=\"a-Si (single)\",$Q1782=\"a-Si (tandem)\",$Q1782=\"a-Si (triple)\"),3,2))))","v":1},{"$f":"IF($O1782=\"Sunpower Corp.\",3,(IF(OR($Q1782=\"mono\",$Q1782=\"poly\",$Q1782=\"HIT\",$Q1782=\"EFG\",$Q1782=\"mono-LGBC\"),1,2)))","v":1},{"$f":"IF($O1782=\"Sunpower Corp.\",3,(IF(OR($Q1782=\"mono\",$Q1782=\"poly\",$Q1782=\"HIT\",$Q1782=\"EFG\",$Q1782=\"mono-LGBC\"),1,IF(OR($Q1782=\"µc-Si / a-Si\",$Q1782=\"a-Si (single)\",$Q1782=\"a-Si (tandem)\",$Q1782=\"a-Si (triple)\"),3,2))))","v":1},0,null,null,14894,null,null,1781]
["BYD Europe B.V. BYD 120P6-18","BYD Europe B.V. ","BYD 120P6-18",120,"+...",17.260000000000002,6.94,21.94,7.52,-81.178000000000011,1.504,-0.45,null,null,null,11.978059768676758,"poly",36,"square",1482,676,35,null,null,13,"www.bydit.com","-","-","-","-","-",{"$f":"IF($O1816=\"Sunpower Corp.\",3,(IF(OR($Q1816=\"mono\",$Q1816=\"poly\",$Q1816=\"HIT\",$Q1816=\"EFG\",$Q1816=\"mono-LGBC\"),1,IF(OR($Q1816=\"µc-Si / a-Si\",$Q1816=\"a-Si (single)\",$Q1816=\"a-Si (tandem)\",$Q1816=\"a-Si (triple)\"),3,2))))","v":1},{"$f":"IF($O1816=\"Sunpower Corp.\",3,(IF(OR($Q1816=\"mono\",$Q1816=\"poly\",$Q1816=\"HIT\",$Q1816=\"EFG\",$Q1816=\"mono-LGBC\"),1,2)))","v":1},{"$f":"IF($O1816=\"Sunpower Corp.\",3,(IF(OR($Q1816=\"mono\",$Q1816=\"poly\",$Q1816=\"HIT\",$Q1816=\"EFG\",$Q1816=\"mono-LGBC\"),1,IF(OR($Q1816=\"µc-Si / a-Si\",$Q1816=\"a-Si (single)\",$Q1816=\"a-Si (tandem)\",$Q1816=\"a-Si (triple)\"),3,2))))","v":1},0,null,null,18483,null,null,1815]
["BYD Europe B.V. BYD 205P6-30","BYD Europe B.V. ","BYD 205P6-30",205,"+...",28.28,7.26,35.93,8.1199999999999992,-132.941,1.6240000000000001,-0.45,null,null,null,12.600810050964355,"poly",60,"square",1640,992,50,null,null,20.5,"www.bydit.com","-","-","-","-","-",{"$f":"IF($O1827=\"Sunpower Corp.\",3,(IF(OR($Q1827=\"mono\",$Q1827=\"poly\",$Q1827=\"HIT\",$Q1827=\"EFG\",$Q1827=\"mono-LGBC\"),1,IF(OR($Q1827=\"µc-Si / a-Si\",$Q1827=\"a-Si (single)\",$Q1827=\"a-Si (tandem)\",$Q1827=\"a-Si (triple)\"),3,2))))","v":1},{"$f":"IF($O1827=\"Sunpower Corp.\",3,(IF(OR($Q1827=\"mono\",$Q1827=\"poly\",$Q1827=\"HIT\",$Q1827=\"EFG\",$Q1827=\"mono-LGBC\"),1,2)))","v":1},{"$f":"IF($O1827=\"Sunpower Corp.\",3,(IF(OR($Q1827=\"mono\",$Q1827=\"poly\",$Q1827=\"HIT\",$Q1827=\"EFG\",$Q1827=\"mono-LGBC\"),1,IF(OR($Q1827=\"µc-Si / a-Si\",$Q1827=\"a-Si (single)\",$Q1827=\"a-Si (tandem)\",$Q1827=\"a-Si (triple)\"),3,2))))","v":1},0,null,null,18494,null,null,1826]
["BYD Europe B.V. BYD 275P6-36","BYD Europe B.V. ","BYD 275P6-36",275,"+...",34.79,7.88,43.97,8.67,-162.68899999999999,1.734,-0.45,null,null,null,14.172690391540527,"poly",72,"square",1956,992,50,null,null,24,"www.bydit.com","-","-","-","-","-",{"$f":"IF($O1842=\"Sunpower Corp.\",3,(IF(OR($Q1842=\"mono\",$Q1842=\"poly\",$Q1842=\"HIT\",$Q1842=\"EFG\",$Q1842=\"mono-LGBC\"),1,IF(OR($Q1842=\"µc-Si / a-Si\",$Q1842=\"a-Si (single)\",$Q1842=\"a-Si (tandem)\",$Q1842=\"a-Si (triple)\"),3,2))))","v":1},{"$f":"IF($O1842=\"Sunpower Corp.\",3,(IF(OR($Q1842=\"mono\",$Q1842=\"poly\",$Q1842=\"HIT\",$Q1842=\"EFG\",$Q1842=\"mono-LGBC\"),1,2)))","v":1},{"$f":"IF($O1842=\"Sunpower Corp.\",3,(IF(OR($Q1842=\"mono\",$Q1842=\"poly\",$Q1842=\"HIT\",$Q1842=\"EFG\",$Q1842=\"mono-LGBC\"),1,IF(OR($Q1842=\"µc-Si / a-Si\",$Q1842=\"a-Si (single)\",$Q1842=\"a-Si (tandem)\",$Q1842=\"a-Si (triple)\"),3,2))))","v":1},0,null,null,18509,null,null,1841]
["Canadian Solar Inc. CS5A-175","Canadian Solar Inc. ","CS5A-175",175,"+3...-3",35.799999999999997,4.8899999999999997,44.3,5.29,-155.05000000000001,3.1739999999999999,-0.45,1000,"China",null,13.697609901428223,"poly",72,"pseudo-square",1595,801,40,"aluminum","junction box",15.5,"www.csisolar.com","-","-","-","-","-",{"$f":"IF($O1876=\"Sunpower Corp.\",3,(IF(OR($Q1876=\"mono\",$Q1876=\"poly\",$Q1876=\"HIT\",$Q1876=\"EFG\",$Q1876=\"mono-LGBC\"),1,IF(OR($Q1876=\"µc-Si / a-Si\",$Q1876=\"a-Si (single)\",$Q1876=\"a-Si (tandem)\",$Q1876=\"a-Si (triple)\"),3,2))))","v":1},{"$f":"IF($O1876=\"Sunpower Corp.\",3,(IF(OR($Q1876=\"mono\",$Q1876=\"poly\",$Q1876=\"HIT\",$Q1876=\"EFG\",$Q1876=\"mono-LGBC\"),1,2)))","v":1},{"$f":"IF($O1876=\"Sunpower Corp.\",3,(IF(OR($Q1876=\"mono\",$Q1876=\"poly\",$Q1876=\"HIT\",$Q1876=\"EFG\",$Q1876=\"mono-LGBC\"),1,IF(OR($Q1876=\"µc-Si / a-Si\",$Q1876=\"a-Si (single)\",$Q1876=\"a-Si (tandem)\",$Q1876=\"a-Si (triple)\"),3,2))))","v":1},0,null,null,3767,null,null,1875]
["Canadian Solar Inc. CS5A-185M (ClearPower)","Canadian Solar Inc. ","CS5A-185M (ClearPower)",185,"+2,7...0",36.4,5.09,44.6,5.46,-156.1,3.2759999999999998,-0.45,1000,null,null,14.480330467224121,"mono",72,"pseudo-square",1595,801,40,"aluminum","junction box",15.5,"www.canadiansolar.com","-","-","-","-","-",{"$f":"IF($O1887=\"Sunpower Corp.\",3,(IF(OR($Q1887=\"mono\",$Q1887=\"poly\",$Q1887=\"HIT\",$Q1887=\"EFG\",$Q1887=\"mono-LGBC\"),1,IF(OR($Q1887=\"µc-Si / a-Si\",$Q1887=\"a-Si (single)\",$Q1887=\"a-Si (tandem)\",$Q1887=\"a-Si (triple)\"),3,2))))","v":1},{"$f":"IF($O1887=\"Sunpower Corp.\",3,(IF(OR($Q1887=\"mono\",$Q1887=\"poly\",$Q1887=\"HIT\",$Q1887=\"EFG\",$Q1887=\"mono-LGBC\"),1,2)))","v":1},{"$f":"IF($O1887=\"Sunpower Corp.\",3,(IF(OR($Q1887=\"mono\",$Q1887=\"poly\",$Q1887=\"HIT\",$Q1887=\"EFG\",$Q1887=\"mono-LGBC\"),1,IF(OR($Q1887=\"µc-Si / a-Si\",$Q1887=\"a-Si (single)\",$Q1887=\"a-Si (tandem)\",$Q1887=\"a-Si (triple)\"),3,2))))","v":1},0,null,null,25039,null,null,1886]
["Canadian Solar Inc. CS5C-80P","Canadian Solar Inc. ","CS5C-80P",80,"+6...0",17.399999999999999,4.5999999999999996,21.7,4.99,-73.78,3.2435,-0.43,1000,null,null,12.057069778442383,"poly",36,"square",1213,547,35,"aluminum","junction box",8,"www.canadiansolar.com","-","-","-","-","-",{"$f":"IF($O1901=\"Sunpower Corp.\",3,(IF(OR($Q1901=\"mono\",$Q1901=\"poly\",$Q1901=\"HIT\",$Q1901=\"EFG\",$Q1901=\"mono-LGBC\"),1,IF(OR($Q1901=\"µc-Si / a-Si\",$Q1901=\"a-Si (single)\",$Q1901=\"a-Si (tandem)\",$Q1901=\"a-Si (triple)\"),3,2))))","v":1},{"$f":"IF($O1901=\"Sunpower Corp.\",3,(IF(OR($Q1901=\"mono\",$Q1901=\"poly\",$Q1901=\"HIT\",$Q1901=\"EFG\",$Q1901=\"mono-LGBC\"),1,2)))","v":1},{"$f":"IF($O1901=\"Sunpower Corp.\",3,(IF(OR($Q1901=\"mono\",$Q1901=\"poly\",$Q1901=\"HIT\",$Q1901=\"EFG\",$Q1901=\"mono-LGBC\"),1,IF(OR($Q1901=\"µc-Si / a-Si\",$Q1901=\"a-Si (single)\",$Q1901=\"a-Si (tandem)\",$Q1901=\"a-Si (triple)\"),3,2))))","v":1},0,null,null,18137,null,null,1900]
["Canadian Solar Inc. CS6A-120","Canadian Solar Inc. ","CS6A-120",120,"+3...-3",22.9,5.24,28.5,5.89,-99.75,0,null,null,"China",null,9.2295761108398438,"poly",48,"square",1324,982,40,null,null,16,null,"-","-","-","-","-",{"$f":"IF($O1926=\"Sunpower Corp.\",3,(IF(OR($Q1926=\"mono\",$Q1926=\"poly\",$Q1926=\"HIT\",$Q1926=\"EFG\",$Q1926=\"mono-LGBC\"),1,IF(OR($Q1926=\"µc-Si / a-Si\",$Q1926=\"a-Si (single)\",$Q1926=\"a-Si (tandem)\",$Q1926=\"a-Si (triple)\"),3,2))))","v":1},{"$f":"IF($O1926=\"Sunpower Corp.\",3,(IF(OR($Q1926=\"mono\",$Q1926=\"poly\",$Q1926=\"HIT\",$Q1926=\"EFG\",$Q1926=\"mono-LGBC\"),1,2)))","v":1},{"$f":"IF($O1926=\"Sunpower Corp.\",3,(IF(OR($Q1926=\"mono\",$Q1926=\"poly\",$Q1926=\"HIT\",$Q1926=\"EFG\",$Q1926=\"mono-LGBC\"),1,IF(OR($Q1926=\"µc-Si / a-Si\",$Q1926=\"a-Si (single)\",$Q1926=\"a-Si (tandem)\",$Q1926=\"a-Si (triple)\"),3,2))))","v":1},0,null,null,8565,null,null,1925]
["Canadian Solar Inc. CS6A-170PF","Canadian Solar Inc. ","CS6A-170PF",170,"+2,94...0",23.2,7.32,29.2,7.92,-99.28,5.1479999999999997,-0.43,1000,null,null,12.328269958496094,"poly",48,"square",1368,1008,17,"aluminum",null,16,"www.canadiansolar.com","-","-","-","-","-",{"$f":"IF($O1946=\"Sunpower Corp.\",3,(IF(OR($Q1946=\"mono\",$Q1946=\"poly\",$Q1946=\"HIT\",$Q1946=\"EFG\",$Q1946=\"mono-LGBC\"),1,IF(OR($Q1946=\"µc-Si / a-Si\",$Q1946=\"a-Si (single)\",$Q1946=\"a-Si (tandem)\",$Q1946=\"a-Si (triple)\"),3,2))))","v":1},{"$f":"IF($O1946=\"Sunpower Corp.\",3,(IF(OR($Q1946=\"mono\",$Q1946=\"poly\",$Q1946=\"HIT\",$Q1946=\"EFG\",$Q1946=\"mono-LGBC\"),1,2)))","v":1},{"$f":"IF($O1946=\"Sunpower Corp.\",3,(IF(OR($Q1946=\"mono\",$Q1946=\"poly\",$Q1946=\"HIT\",$Q1946=\"EFG\",$Q1946=\"mono-LGBC\"),1,IF(OR($Q1946=\"µc-Si / a-Si\",$Q1946=\"a-Si (single)\",$Q1946=\"a-Si (tandem)\",$Q1946=\"a-Si (triple)\"),3,2))))","v":1},0,null,null,28711,null,null,1945]
["Canadian Solar Inc. CS6D-60P","Canadian Solar Inc. ","CS6D-60P",60,"+10...",17.399999999999999,3.46,21.7,3.72,-73.78,2.4180000000000001,-0.43,1000,null,null,11.505760192871094,"poly",36,"square",783,666,35,"aluminum","junction box",12,"www.canadiansolar.com","-","-","-","-","-",{"$f":"IF($O1971=\"Sunpower Corp.\",3,(IF(OR($Q1971=\"mono\",$Q1971=\"poly\",$Q1971=\"HIT\",$Q1971=\"EFG\",$Q1971=\"mono-LGBC\"),1,IF(OR($Q1971=\"µc-Si / a-Si\",$Q1971=\"a-Si (single)\",$Q1971=\"a-Si (tandem)\",$Q1971=\"a-Si (triple)\"),3,2))))","v":1},{"$f":"IF($O1971=\"Sunpower Corp.\",3,(IF(OR($Q1971=\"mono\",$Q1971=\"poly\",$Q1971=\"HIT\",$Q1971=\"EFG\",$Q1971=\"mono-LGBC\"),1,2)))","v":1},{"$f":"IF($O1971=\"Sunpower Corp.\",3,(IF(OR($Q1971=\"mono\",$Q1971=\"poly\",$Q1971=\"HIT\",$Q1971=\"EFG\",$Q1971=\"mono-LGBC\"),1,IF(OR($Q1971=\"µc-Si / a-Si\",$Q1971=\"a-Si (single)\",$Q1971=\"a-Si (tandem)\",$Q1971=\"a-Si (triple)\"),3,2))))","v":1},0,null,null,18140,null,null,1970]
["Canadian Solar Inc. CS6P-205PE","Canadian Solar Inc. ","CS6P-205PE",205,"+2,44...0",28.9,7.09,36.200000000000003,7.78,-126.7,6.2240000000000002,-0.42,1000,null,null,12.744669914245605,"poly",60,"square",1638,982,40,"aluminum",null,20,null,"-","-","-","-","-",{"$f":"IF($O1991=\"Sunpower Corp.\",3,(IF(OR($Q1991=\"mono\",$Q1991=\"poly\",$Q1991=\"HIT\",$Q1991=\"EFG\",$Q1991=\"mono-LGBC\"),1,IF(OR($Q1991=\"µc-Si / a-Si\",$Q1991=\"a-Si (single)\",$Q1991=\"a-Si (tandem)\",$Q1991=\"a-Si (triple)\"),3,2))))","v":1},{"$f":"IF($O1991=\"Sunpower Corp.\",3,(IF(OR($Q1991=\"mono\",$Q1991=\"poly\",$Q1991=\"HIT\",$Q1991=\"EFG\",$Q1991=\"mono-LGBC\"),1,2)))","v":1},{"$f":"IF($O1991=\"Sunpower Corp.\",3,(IF(OR($Q1991=\"mono\",$Q1991=\"poly\",$Q1991=\"HIT\",$Q1991=\"EFG\",$Q1991=\"mono-LGBC\"),1,IF(OR($Q1991=\"µc-Si / a-Si\",$Q1991=\"a-Si (single)\",$Q1991=\"a-Si (tandem)\",$Q1991=\"a-Si (triple)\"),3,2))))","v":1},0,null,null,27777,null,null,1990]
["Canadian Solar Inc. CS6P-210PE","Canadian Solar Inc. ","CS6P-210PE",210,"+2,38...0",29,7.25,36.4,7.89,-127.4,6.3120000000000003,-0.42,1000,null,null,13.055509567260742,"poly",60,"square",1638,982,40,"aluminum",null,20,null,"-","-","-","-","-",{"$f":"IF($O1997=\"Sunpower Corp.\",3,(IF(OR($Q1997=\"mono\",$Q1997=\"poly\",$Q1997=\"HIT\",$Q1997=\"EFG\",$Q1997=\"mono-LGBC\"),1,IF(OR($Q1997=\"µc-Si / a-Si\",$Q1997=\"a-Si (single)\",$Q1997=\"a-Si (tandem)\",$Q1997=\"a-Si (triple)\"),3,2))))","v":1},{"$f":"IF($O1997=\"Sunpower Corp.\",3,(IF(OR($Q1997=\"mono\",$Q1997=\"poly\",$Q1997=\"HIT\",$Q1997=\"EFG\",$Q1997=\"mono-LGBC\"),1,2)))","v":1},{"$f":"IF($O1997=\"Sunpower Corp.\",3,(IF(OR($Q1997=\"mono\",$Q1997=\"poly\",$Q1997=\"HIT\",$Q1997=\"EFG\",$Q1997=\"mono-LGBC\"),1,IF(OR($Q1997=\"µc-Si / a-Si\",$Q1997=\"a-Si (single)\",$Q1997=\"a-Si (tandem)\",$Q1997=\"a-Si (triple)\"),3,2))))","v":1},0,null,null,27778,null,null,1996]
["Canadian Solar Inc. CS6P-235PX","Canadian Solar Inc. ","CS6P-235PX",235,"+2...0",29.8,7.9,36.9,8.4600000000000009,-125.46,5.4990000000000006,-0.43,null,"Canada",null,14.609740257263184,"poly",60,"square",1638,982,40,"aluminum","junction box",20,"www.csisolar.com","-","-","-","-","-",{"$f":"IF($O2020=\"Sunpower Corp.\",3,(IF(OR($Q2020=\"mono\",$Q2020=\"poly\",$Q2020=\"HIT\",$Q2020=\"EFG\",$Q2020=\"mono-LGBC\"),1,IF(OR($Q2020=\"µc-Si / a-Si\",$Q2020=\"a-Si (single)\",$Q2020=\"a-Si (tandem)\",$Q2020=\"a-Si (triple)\"),3,2))))","v":1},{"$f":"IF($O2020=\"Sunpower Corp.\",3,(IF(OR($Q2020=\"mono\",$Q2020=\"poly\",$Q2020=\"HIT\",$Q2020=\"EFG\",$Q2020=\"mono-LGBC\"),1,2)))","v":1},{"$f":"IF($O2020=\"Sunpower Corp.\",3,(IF(OR($Q2020=\"mono\",$Q2020=\"poly\",$Q2020=\"HIT\",$Q2020=\"EFG\",$Q2020=\"mono-LGBC\"),1,IF(OR($Q2020=\"µc-Si / a-Si\",$Q2020=\"a-Si (single)\",$Q2020=\"a-Si (tandem)\",$Q2020=\"a-Si (triple)\"),3,2))))","v":1},0,null,null,28093,null,null,2019]
["Canadian Solar Inc. CS6X-280M (MaxPower)","Canadian Solar Inc. ","CS6X-280M (MaxPower)",280,"+1,79...0",36,7.78,44.6,8.3000000000000007,-156.1,4.9800000000000004,-0.45,1000,null,null,14.592240333557129,"mono",72,"pseudo-square",1954,982,40,"aluminum","junction box",27,"www.canadiansolar.com","-","-","-","-","-",{"$f":"IF($O2042=\"Sunpower Corp.\",3,(IF(OR($Q2042=\"mono\",$Q2042=\"poly\",$Q2042=\"HIT\",$Q2042=\"EFG\",$Q2042=\"mono-LGBC\"),1,IF(OR($Q2042=\"µc-Si / a-Si\",$Q2042=\"a-Si (single)\",$Q2042=\"a-Si (tandem)\",$Q2042=\"a-Si (triple)\"),3,2))))","v":1},{"$f":"IF($O2042=\"Sunpower Corp.\",3,(IF(OR($Q2042=\"mono\",$Q2042=\"poly\",$Q2042=\"HIT\",$Q2042=\"EFG\",$Q2042=\"mono-LGBC\"),1,2)))","v":1},{"$f":"IF($O2042=\"Sunpower Corp.\",3,(IF(OR($Q2042=\"mono\",$Q2042=\"poly\",$Q2042=\"HIT\",$Q2042=\"EFG\",$Q2042=\"mono-LGBC\"),1,IF(OR($Q2042=\"µc-Si / a-Si\",$Q2042=\"a-Si (single)\",$Q2042=\"a-Si (tandem)\",$Q2042=\"a-Si (triple)\"),3,2))))","v":1},0,null,null,25043,null,null,2041]
["CECEP Solar Energy Technology Co., Ltd. CEC5-96-245M","CECEP Solar Energy Technology Co., Ltd. ","CEC5-96-245M",245,"+3...0",49.09,5.05,59.2,5.35,-207.2,2.6749999999999998,-0.46,1000,"China",null,14.559929847717285,"mono",96,"pseudo-square",1580,1065,50,"aluminum","junction box",21.5,"www.cecepsolar.com","-","-","-","-","-",{"$f":"IF($O2065=\"Sunpower Corp.\",3,(IF(OR($Q2065=\"mono\",$Q2065=\"poly\",$Q2065=\"HIT\",$Q2065=\"EFG\",$Q2065=\"mono-LGBC\"),1,IF(OR($Q2065=\"µc-Si / a-Si\",$Q2065=\"a-Si (single)\",$Q2065=\"a-Si (tandem)\",$Q2065=\"a-Si (triple)\"),3,2))))","v":1},{"$f":"IF($O2065=\"Sunpower Corp.\",3,(IF(OR($Q2065=\"mono\",$Q2065=\"poly\",$Q2065=\"HIT\",$Q2065=\"EFG\",$Q2065=\"mono-LGBC\"),1,2)))","v":1},{"$f":"IF($O2065=\"Sunpower Corp.\",3,(IF(OR($Q2065=\"mono\",$Q2065=\"poly\",$Q2065=\"HIT\",$Q2065=\"EFG\",$Q2065=\"mono-LGBC\"),1,IF(OR($Q2065=\"µc-Si / a-Si\",$Q2065=\"a-Si (single)\",$Q2065=\"a-Si (tandem)\",$Q2065=\"a-Si (triple)\"),3,2))))","v":1},0,null,null,29682,null,null,2064]
["CECEP Solar Energy Technology Co., Ltd. CEC6-72-270P","CECEP Solar Energy Technology Co., Ltd. ","CEC6-72-270P",270,"+3...0",34.97,7.61,43.9,8.14,-153.65,4.07,-0.46,1000,"China",null,13.907890319824219,"poly",72,"square",1957,992,50,"aluminum","junction box",22.5,"www.cecepsolar.com","-","-","-","-","-",{"$f":"IF($O2087=\"Sunpower Corp.\",3,(IF(OR($Q2087=\"mono\",$Q2087=\"poly\",$Q2087=\"HIT\",$Q2087=\"EFG\",$Q2087=\"mono-LGBC\"),1,IF(OR($Q2087=\"µc-Si / a-Si\",$Q2087=\"a-Si (single)\",$Q2087=\"a-Si (tandem)\",$Q2087=\"a-Si (triple)\"),3,2))))","v":1},{"$f":"IF($O2087=\"Sunpower Corp.\",3,(IF(OR($Q2087=\"mono\",$Q2087=\"poly\",$Q2087=\"HIT\",$Q2087=\"EFG\",$Q2087=\"mono-LGBC\"),1,2)))","v":1},{"$f":"IF($O2087=\"Sunpower Corp.\",3,(IF(OR($Q2087=\"mono\",$Q2087=\"poly\",$Q2087=\"HIT\",$Q2087=\"EFG\",$Q2087=\"mono-LGBC\"),1,IF(OR($Q2087=\"µc-Si / a-Si\",$Q2087=\"a-Si (single)\",$Q2087=\"a-Si (tandem)\",$Q2087=\"a-Si (triple)\"),3,2))))","v":1},0,null,null,29687,null,null,2086]
["CEEG (Shanghai) Solar Science & Technology SST 085-36M","CEEG (Shanghai) Solar Science & Technology ","SST 085-36M",85,"+5...-5",17.600000000000001,4.83,22.2,5.29,-77.7,3.1739999999999999,-0.47,1000,null,null,13.117280006408691,"mono",36,"pseudo-square",1200,540,35,"aluminum","junction box",null,null,"-","-","-","-","-",{"$f":"IF($O2110=\"Sunpower Corp.\",3,(IF(OR($Q2110=\"mono\",$Q2110=\"poly\",$Q2110=\"HIT\",$Q2110=\"EFG\",$Q2110=\"mono-LGBC\"),1,IF(OR($Q2110=\"µc-Si / a-Si\",$Q2110=\"a-Si (single)\",$Q2110=\"a-Si (tandem)\",$Q2110=\"a-Si (triple)\"),3,2))))","v":1},{"$f":"IF($O2110=\"Sunpower Corp.\",3,(IF(OR($Q2110=\"mono\",$Q2110=\"poly\",$Q2110=\"HIT\",$Q2110=\"EFG\",$Q2110=\"mono-LGBC\"),1,2)))","v":1},{"$f":"IF($O2110=\"Sunpower Corp.\",3,(IF(OR($Q2110=\"mono\",$Q2110=\"poly\",$Q2110=\"HIT\",$Q2110=\"EFG\",$Q2110=\"mono-LGBC\"),1,IF(OR($Q2110=\"µc-Si / a-Si\",$Q2110=\"a-Si (single)\",$Q2110=\"a-Si (tandem)\",$Q2110=\"a-Si (triple)\"),3,2))))","v":1},0,null,null,7371,null,null,2109]
["CEEG (Shanghai) Solar Science & Technology SST 200-60P","CEEG (Shanghai) Solar Science & Technology ","SST 200-60P",200,"+3...-3",28.1,7.12,35.799999999999997,7.98,-104.53599999999999,3.5910000000000002,-0.40799999999999997,1000,null,null,12.318309783935547,"poly",60,"square",1640,990,50,"aluminum","junction box",19.8,"www.ceeg.com","-","-","-","-","-",{"$f":"IF($O2126=\"Sunpower Corp.\",3,(IF(OR($Q2126=\"mono\",$Q2126=\"poly\",$Q2126=\"HIT\",$Q2126=\"EFG\",$Q2126=\"mono-LGBC\"),1,IF(OR($Q2126=\"µc-Si / a-Si\",$Q2126=\"a-Si (single)\",$Q2126=\"a-Si (tandem)\",$Q2126=\"a-Si (triple)\"),3,2))))","v":1},{"$f":"IF($O2126=\"Sunpower Corp.\",3,(IF(OR($Q2126=\"mono\",$Q2126=\"poly\",$Q2126=\"HIT\",$Q2126=\"EFG\",$Q2126=\"mono-LGBC\"),1,2)))","v":1},{"$f":"IF($O2126=\"Sunpower Corp.\",3,(IF(OR($Q2126=\"mono\",$Q2126=\"poly\",$Q2126=\"HIT\",$Q2126=\"EFG\",$Q2126=\"mono-LGBC\"),1,IF(OR($Q2126=\"µc-Si / a-Si\",$Q2126=\"a-Si (single)\",$Q2126=\"a-Si (tandem)\",$Q2126=\"a-Si (triple)\"),3,2))))","v":1},0,null,null,7358,null,null,2125]
["CEEG (Shanghai) Solar Science & Technology SST 220-60P","CEEG (Shanghai) Solar Science & Technology ","SST 220-60P",220,"+3...-3",29,7.59,36.4,8.32,-106.288,3.7439999999999998,-0.40799999999999997,1000,null,null,13.550140380859375,"poly",60,"square",1640,990,50,"aluminum","junction box",19.8,"www.ceeg.com","-","-","-","-","-",{"$f":"IF($O2135=\"Sunpower Corp.\",3,(IF(OR($Q2135=\"mono\",$Q2135=\"poly\",$Q2135=\"HIT\",$Q2135=\"EFG\",$Q2135=\"mono-LGBC\"),1,IF(OR($Q2135=\"µc-Si / a-Si\",$Q2135=\"a-Si (single)\",$Q2135=\"a-Si (tandem)\",$Q2135=\"a-Si (triple)\"),3,2))))","v":1},{"$f":"IF($O2135=\"Sunpower Corp.\",3,(IF(OR($Q2135=\"mono\",$Q2135=\"poly\",$Q2135=\"HIT\",$Q2135=\"EFG\",$Q2135=\"mono-LGBC\"),1,2)))","v":1},{"$f":"IF($O2135=\"Sunpower Corp.\",3,(IF(OR($Q2135=\"mono\",$Q2135=\"poly\",$Q2135=\"HIT\",$Q2135=\"EFG\",$Q2135=\"mono-LGBC\"),1,IF(OR($Q2135=\"µc-Si / a-Si\",$Q2135=\"a-Si (single)\",$Q2135=\"a-Si (tandem)\",$Q2135=\"a-Si (triple)\"),3,2))))","v":1},0,null,null,7361,null,null,2134]
["CEEG (Shanghai) Solar Science & Technology SST 265-72P","CEEG (Shanghai) Solar Science & Technology ","SST 265-72P",265,"+3...-3",34.9,7.6,43.6,8.31,-127.31200000000001,3.7395,-0.40799999999999997,1000,null,null,13.684909820556641,"poly",72,"square",1956,990,50,"aluminum","junction box",23.8,"www.ceeg.com","-","-","-","-","-",{"$f":"IF($O2152=\"Sunpower Corp.\",3,(IF(OR($Q2152=\"mono\",$Q2152=\"poly\",$Q2152=\"HIT\",$Q2152=\"EFG\",$Q2152=\"mono-LGBC\"),1,IF(OR($Q2152=\"µc-Si / a-Si\",$Q2152=\"a-Si (single)\",$Q2152=\"a-Si (tandem)\",$Q2152=\"a-Si (triple)\"),3,2))))","v":1},{"$f":"IF($O2152=\"Sunpower Corp.\",3,(IF(OR($Q2152=\"mono\",$Q2152=\"poly\",$Q2152=\"HIT\",$Q2152=\"EFG\",$Q2152=\"mono-LGBC\"),1,2)))","v":1},{"$f":"IF($O2152=\"Sunpower Corp.\",3,(IF(OR($Q2152=\"mono\",$Q2152=\"poly\",$Q2152=\"HIT\",$Q2152=\"EFG\",$Q2152=\"mono-LGBC\"),1,IF(OR($Q2152=\"µc-Si / a-Si\",$Q2152=\"a-Si (single)\",$Q2152=\"a-Si (tandem)\",$Q2152=\"a-Si (triple)\"),3,2))))","v":1},0,null,null,7381,null,null,2151]
["Centennial Global Technology Inc. CG215-54","Centennial Global Technology Inc. ","CG215-54",215,"+3...-3",27.2,7.9,33.799999999999997,8.83,-121.68,2.9138999999999999,-0.36,1000,"Canada",null,14.371660232543945,"poly",54,"square",1496,1000,50,"aluminum","junction box MC4",18.600000000000001,"www.centennialglobal.com","-","-","-","-","-",{"$f":"IF($O2184=\"Sunpower Corp.\",3,(IF(OR($Q2184=\"mono\",$Q2184=\"poly\",$Q2184=\"HIT\",$Q2184=\"EFG\",$Q2184=\"mono-LGBC\"),1,IF(OR($Q2184=\"µc-Si / a-Si\",$Q2184=\"a-Si (single)\",$Q2184=\"a-Si (tandem)\",$Q2184=\"a-Si (triple)\"),3,2))))","v":1},{"$f":"IF($O2184=\"Sunpower Corp.\",3,(IF(OR($Q2184=\"mono\",$Q2184=\"poly\",$Q2184=\"HIT\",$Q2184=\"EFG\",$Q2184=\"mono-LGBC\"),1,2)))","v":1},{"$f":"IF($O2184=\"Sunpower Corp.\",3,(IF(OR($Q2184=\"mono\",$Q2184=\"poly\",$Q2184=\"HIT\",$Q2184=\"EFG\",$Q2184=\"mono-LGBC\"),1,IF(OR($Q2184=\"µc-Si / a-Si\",$Q2184=\"a-Si (single)\",$Q2184=\"a-Si (tandem)\",$Q2184=\"a-Si (triple)\"),3,2))))","v":1},0,null,null,27130,null,null,2183]
["Centrosolar AG CM6 230BB","Centrosolar AG ","CM6 230BB",230,"+3...0",28.65,8.0299999999999994,36.39,8.48,-127.36499999999999,2.544,-0.35,null,null,null,13.995380401611328,"mono",60,"pseudo-square",1660,990,40,"aluminum","junction box Tyco",20,"www.centrosolaramerica.com","-","-","-","-","-",{"$f":"IF($O2197=\"Sunpower Corp.\",3,(IF(OR($Q2197=\"mono\",$Q2197=\"poly\",$Q2197=\"HIT\",$Q2197=\"EFG\",$Q2197=\"mono-LGBC\"),1,IF(OR($Q2197=\"µc-Si / a-Si\",$Q2197=\"a-Si (single)\",$Q2197=\"a-Si (tandem)\",$Q2197=\"a-Si (triple)\"),3,2))))","v":1},{"$f":"IF($O2197=\"Sunpower Corp.\",3,(IF(OR($Q2197=\"mono\",$Q2197=\"poly\",$Q2197=\"HIT\",$Q2197=\"EFG\",$Q2197=\"mono-LGBC\"),1,2)))","v":1},{"$f":"IF($O2197=\"Sunpower Corp.\",3,(IF(OR($Q2197=\"mono\",$Q2197=\"poly\",$Q2197=\"HIT\",$Q2197=\"EFG\",$Q2197=\"mono-LGBC\"),1,IF(OR($Q2197=\"µc-Si / a-Si\",$Q2197=\"a-Si (single)\",$Q2197=\"a-Si (tandem)\",$Q2197=\"a-Si (triple)\"),3,2))))","v":1},0,null,null,24111,null,null,2196]
["Centrosolar AG S 195M50 Ultra","Centrosolar AG ","S 195M50 Ultra",195,"+2,6...0",24.2,8.06,30.6,8.51,-110.16,2.5529999999999999,-0.45,1000,"Germany",null,14.180569648742676,"mono",50,"pseudo-square",1639,839,40,"aluminum","cable H + S",16.5,"www.centrosolar.com","-","-","-","-","-",{"$f":"IF($O2229=\"Sunpower Corp.\",3,(IF(OR($Q2229=\"mono\",$Q2229=\"poly\",$Q2229=\"HIT\",$Q2229=\"EFG\",$Q2229=\"mono-LGBC\"),1,IF(OR($Q2229=\"µc-Si / a-Si\",$Q2229=\"a-Si (single)\",$Q2229=\"a-Si (tandem)\",$Q2229=\"a-Si (triple)\"),3,2))))","v":1},{"$f":"IF($O2229=\"Sunpower Corp.\",3,(IF(OR($Q2229=\"mono\",$Q2229=\"poly\",$Q2229=\"HIT\",$Q2229=\"EFG\",$Q2229=\"mono-LGBC\"),1,2)))","v":1},{"$f":"IF($O2229=\"Sunpower Corp.\",3,(IF(OR($Q2229=\"mono\",$Q2229=\"poly\",$Q2229=\"HIT\",$Q2229=\"EFG\",$Q2229=\"mono-LGBC\"),1,IF(OR($Q2229=\"µc-Si / a-Si\",$Q2229=\"a-Si (single)\",$Q2229=\"a-Si (tandem)\",$Q2229=\"a-Si (triple)\"),3,2))))","v":1},0,null,null,14760,null,null,2228]
["Centrosolar AG S 195P50 Excellent","Centrosolar AG ","S 195P50 Excellent",195,"+2,6...0",24.2,8.06,30.85,8.4499999999999993,-111.06,2.3660000000000001,-0.45,1000,"Germany",null,14.180569648742676,"poly",50,"square",1639,839,40,"aluminum","cable H + S",16.5,"www.centrosolar.com","-","-","-","-","-",{"$f":"IF($O2230=\"Sunpower Corp.\",3,(IF(OR($Q2230=\"mono\",$Q2230=\"poly\",$Q2230=\"HIT\",$Q2230=\"EFG\",$Q2230=\"mono-LGBC\"),1,IF(OR($Q2230=\"µc-Si / a-Si\",$Q2230=\"a-Si (single)\",$Q2230=\"a-Si (tandem)\",$Q2230=\"a-Si (triple)\"),3,2))))","v":1},{"$f":"IF($O2230=\"Sunpower Corp.\",3,(IF(OR($Q2230=\"mono\",$Q2230=\"poly\",$Q2230=\"HIT\",$Q2230=\"EFG\",$Q2230=\"mono-LGBC\"),1,2)))","v":1},{"$f":"IF($O2230=\"Sunpower Corp.\",3,(IF(OR($Q2230=\"mono\",$Q2230=\"poly\",$Q2230=\"HIT\",$Q2230=\"EFG\",$Q2230=\"mono-LGBC\"),1,IF(OR($Q2230=\"µc-Si / a-Si\",$Q2230=\"a-Si (single)\",$Q2230=\"a-Si (tandem)\",$Q2230=\"a-Si (triple)\"),3,2))))","v":1},0,null,null,13413,null,null,2229]
["CH Solar GmbH & Co. KG CH Solar Future 190","CH Solar GmbH & Co. KG ","CH Solar Future 190",190,"+3...0",36.5,5.21,45.2,5.53,-153.68,1.6589999999999998,-0.44,1000,"China","Hareon",14.882820129394531,"mono",72,"pseudo-square",1580,808,45,null,"cable",16,null,"-","-","-","-","-",{"$f":"IF($O2262=\"Sunpower Corp.\",3,(IF(OR($Q2262=\"mono\",$Q2262=\"poly\",$Q2262=\"HIT\",$Q2262=\"EFG\",$Q2262=\"mono-LGBC\"),1,IF(OR($Q2262=\"µc-Si / a-Si\",$Q2262=\"a-Si (single)\",$Q2262=\"a-Si (tandem)\",$Q2262=\"a-Si (triple)\"),3,2))))","v":1},{"$f":"IF($O2262=\"Sunpower Corp.\",3,(IF(OR($Q2262=\"mono\",$Q2262=\"poly\",$Q2262=\"HIT\",$Q2262=\"EFG\",$Q2262=\"mono-LGBC\"),1,2)))","v":1},{"$f":"IF($O2262=\"Sunpower Corp.\",3,(IF(OR($Q2262=\"mono\",$Q2262=\"poly\",$Q2262=\"HIT\",$Q2262=\"EFG\",$Q2262=\"mono-LGBC\"),1,IF(OR($Q2262=\"µc-Si / a-Si\",$Q2262=\"a-Si (single)\",$Q2262=\"a-Si (tandem)\",$Q2262=\"a-Si (triple)\"),3,2))))","v":1},0,null,null,26197,null,null,2261]
["Changzhou EGing Photovoltaic Technology Co. Ltd. EG-M48-C 185","Changzhou EGing Photovoltaic Technology Co. Ltd. ","EG-M48-C 185",185,"+3...-3",23.62,7.83,29.6,8.8000000000000007,-94.72,3.52,-0.43,1000,null,null,13.997650146484375,"mono",48,"pseudo-square",1335,990,45,"aluminum","junction box MC4",16.2,"www.egingpv.com","-","-","-","-","-",{"$f":"IF($O2279=\"Sunpower Corp.\",3,(IF(OR($Q2279=\"mono\",$Q2279=\"poly\",$Q2279=\"HIT\",$Q2279=\"EFG\",$Q2279=\"mono-LGBC\"),1,IF(OR($Q2279=\"µc-Si / a-Si\",$Q2279=\"a-Si (single)\",$Q2279=\"a-Si (tandem)\",$Q2279=\"a-Si (triple)\"),3,2))))","v":1},{"$f":"IF($O2279=\"Sunpower Corp.\",3,(IF(OR($Q2279=\"mono\",$Q2279=\"poly\",$Q2279=\"HIT\",$Q2279=\"EFG\",$Q2279=\"mono-LGBC\"),1,2)))","v":1},{"$f":"IF($O2279=\"Sunpower Corp.\",3,(IF(OR($Q2279=\"mono\",$Q2279=\"poly\",$Q2279=\"HIT\",$Q2279=\"EFG\",$Q2279=\"mono-LGBC\"),1,IF(OR($Q2279=\"µc-Si / a-Si\",$Q2279=\"a-Si (single)\",$Q2279=\"a-Si (tandem)\",$Q2279=\"a-Si (triple)\"),3,2))))","v":1},0,null,null,19220,null,null,2278]
["Changzhou Erjin Solar-Energy Equipment Co., Ltd EJS96M 230","Changzhou Erjin Solar-Energy Equipment Co., Ltd ","EJS96M 230",230,"+3...-3",48,4.79,57.6,5.36,-190.08,2.68,-0.38,1000,null,null,13.4964599609375,"mono",96,"pseudo-square",1575,1082,50,null,null,21.5,null,"-","-","-","-","-",{"$f":"IF($O2307=\"Sunpower Corp.\",3,(IF(OR($Q2307=\"mono\",$Q2307=\"poly\",$Q2307=\"HIT\",$Q2307=\"EFG\",$Q2307=\"mono-LGBC\"),1,IF(OR($Q2307=\"µc-Si / a-Si\",$Q2307=\"a-Si (single)\",$Q2307=\"a-Si (tandem)\",$Q2307=\"a-Si (triple)\"),3,2))))","v":1},{"$f":"IF($O2307=\"Sunpower Corp.\",3,(IF(OR($Q2307=\"mono\",$Q2307=\"poly\",$Q2307=\"HIT\",$Q2307=\"EFG\",$Q2307=\"mono-LGBC\"),1,2)))","v":1},{"$f":"IF($O2307=\"Sunpower Corp.\",3,(IF(OR($Q2307=\"mono\",$Q2307=\"poly\",$Q2307=\"HIT\",$Q2307=\"EFG\",$Q2307=\"mono-LGBC\"),1,IF(OR($Q2307=\"µc-Si / a-Si\",$Q2307=\"a-Si (single)\",$Q2307=\"a-Si (tandem)\",$Q2307=\"a-Si (triple)\"),3,2))))","v":1},0,null,null,25589,null,null,2306]
["Changzhou Nesl Solartech Co., Ltd. DJ-190P","Changzhou Nesl Solartech Co., Ltd. ","DJ-190P",190,"+3...-3",26.3,7.22,32.090000000000003,8.34,-112.315,4.17,-0.45,1000,"China",null,12.993849754333496,"poly",54,"square",1477,990,40,"aluminum","junction box",17.5,"www.nesl.cn","-","-","-","-","-",{"$f":"IF($O2324=\"Sunpower Corp.\",3,(IF(OR($Q2324=\"mono\",$Q2324=\"poly\",$Q2324=\"HIT\",$Q2324=\"EFG\",$Q2324=\"mono-LGBC\"),1,IF(OR($Q2324=\"µc-Si / a-Si\",$Q2324=\"a-Si (single)\",$Q2324=\"a-Si (tandem)\",$Q2324=\"a-Si (triple)\"),3,2))))","v":1},{"$f":"IF($O2324=\"Sunpower Corp.\",3,(IF(OR($Q2324=\"mono\",$Q2324=\"poly\",$Q2324=\"HIT\",$Q2324=\"EFG\",$Q2324=\"mono-LGBC\"),1,2)))","v":1},{"$f":"IF($O2324=\"Sunpower Corp.\",3,(IF(OR($Q2324=\"mono\",$Q2324=\"poly\",$Q2324=\"HIT\",$Q2324=\"EFG\",$Q2324=\"mono-LGBC\"),1,IF(OR($Q2324=\"µc-Si / a-Si\",$Q2324=\"a-Si (single)\",$Q2324=\"a-Si (tandem)\",$Q2324=\"a-Si (triple)\"),3,2))))","v":1},0,null,null,21674,null,null,2323]
["Changzhou Nesl Solartech Co., Ltd. DJ-80D","Changzhou Nesl Solartech Co., Ltd. ","DJ-80D",80,"+3...-3",17.5,4.57,21.18,5.4,-72.012,4.8600000000000003,-0.37,1000,null,null,12.481860160827637,"mono",36,"pseudo-square",1198,535,35,null,"junction box",8,"www.nesl.cn","-","-","-","-","-",{"$f":"IF($O2346=\"Sunpower Corp.\",3,(IF(OR($Q2346=\"mono\",$Q2346=\"poly\",$Q2346=\"HIT\",$Q2346=\"EFG\",$Q2346=\"mono-LGBC\"),1,IF(OR($Q2346=\"µc-Si / a-Si\",$Q2346=\"a-Si (single)\",$Q2346=\"a-Si (tandem)\",$Q2346=\"a-Si (triple)\"),3,2))))","v":1},{"$f":"IF($O2346=\"Sunpower Corp.\",3,(IF(OR($Q2346=\"mono\",$Q2346=\"poly\",$Q2346=\"HIT\",$Q2346=\"EFG\",$Q2346=\"mono-LGBC\"),1,2)))","v":1},{"$f":"IF($O2346=\"Sunpower Corp.\",3,(IF(OR($Q2346=\"mono\",$Q2346=\"poly\",$Q2346=\"HIT\",$Q2346=\"EFG\",$Q2346=\"mono-LGBC\"),1,IF(OR($Q2346=\"µc-Si / a-Si\",$Q2346=\"a-Si (single)\",$Q2346=\"a-Si (tandem)\",$Q2346=\"a-Si (triple)\"),3,2))))","v":1},0,null,null,11202,null,null,2345]
["Changzhou Nesl Solartech Co., Ltd. DJM-110P","Changzhou Nesl Solartech Co., Ltd. ","DJM-110P",110,"+3...-3",17.100000000000001,6.43,20.78,8.15,-72.73,4.0750000000000002,-0.45,1000,null,null,11.246620178222656,"poly",36,"square",1473,664,35,"aluminum",null,12.4,"www.nesl.cn","-","-","-","-","-",{"$f":"IF($O2349=\"Sunpower Corp.\",3,(IF(OR($Q2349=\"mono\",$Q2349=\"poly\",$Q2349=\"HIT\",$Q2349=\"EFG\",$Q2349=\"mono-LGBC\"),1,IF(OR($Q2349=\"µc-Si / a-Si\",$Q2349=\"a-Si (single)\",$Q2349=\"a-Si (tandem)\",$Q2349=\"a-Si (triple)\"),3,2))))","v":1},{"$f":"IF($O2349=\"Sunpower Corp.\",3,(IF(OR($Q2349=\"mono\",$Q2349=\"poly\",$Q2349=\"HIT\",$Q2349=\"EFG\",$Q2349=\"mono-LGBC\"),1,2)))","v":1},{"$f":"IF($O2349=\"Sunpower Corp.\",3,(IF(OR($Q2349=\"mono\",$Q2349=\"poly\",$Q2349=\"HIT\",$Q2349=\"EFG\",$Q2349=\"mono-LGBC\"),1,IF(OR($Q2349=\"µc-Si / a-Si\",$Q2349=\"a-Si (single)\",$Q2349=\"a-Si (tandem)\",$Q2349=\"a-Si (triple)\"),3,2))))","v":1},0,null,null,7275,null,null,2348]
["Changzhou Nesl Solartech Co., Ltd. DJM-250P","Changzhou Nesl Solartech Co., Ltd. ","DJM-250P",250,"+3...-3",34.6,7.23,43.12,8.5299999999999994,-150.91999999999999,4.2649999999999997,-0.45,1000,null,null,12.923500061035156,"poly",72,"square",1954,990,50,"aluminum","junction box",28,"www.nesl.cn","-","-","-","-","-",{"$f":"IF($O2372=\"Sunpower Corp.\",3,(IF(OR($Q2372=\"mono\",$Q2372=\"poly\",$Q2372=\"HIT\",$Q2372=\"EFG\",$Q2372=\"mono-LGBC\"),1,IF(OR($Q2372=\"µc-Si / a-Si\",$Q2372=\"a-Si (single)\",$Q2372=\"a-Si (tandem)\",$Q2372=\"a-Si (triple)\"),3,2))))","v":1},{"$f":"IF($O2372=\"Sunpower Corp.\",3,(IF(OR($Q2372=\"mono\",$Q2372=\"poly\",$Q2372=\"HIT\",$Q2372=\"EFG\",$Q2372=\"mono-LGBC\"),1,2)))","v":1},{"$f":"IF($O2372=\"Sunpower Corp.\",3,(IF(OR($Q2372=\"mono\",$Q2372=\"poly\",$Q2372=\"HIT\",$Q2372=\"EFG\",$Q2372=\"mono-LGBC\"),1,IF(OR($Q2372=\"µc-Si / a-Si\",$Q2372=\"a-Si (single)\",$Q2372=\"a-Si (tandem)\",$Q2372=\"a-Si (triple)\"),3,2))))","v":1},0,null,null,7287,null,null,2371]
["Changzhou Seasun New Energy Technology HYM200M","Changzhou Seasun New Energy Technology ","HYM200M",200,"+5...-5",43.6,4.58,59,5.12,-206.5,3.0719999999999996,-0.5,1000,null,null,11.941720008850098,"mono",96,"pseudo-square",1580,1060,50,null,"junction box",21,"www.haiyanglvke.com",null,null,null,null,null,{"$f":"IF($O2394=\"Sunpower Corp.\",3,(IF(OR($Q2394=\"mono\",$Q2394=\"poly\",$Q2394=\"HIT\",$Q2394=\"EFG\",$Q2394=\"mono-LGBC\"),1,IF(OR($Q2394=\"µc-Si / a-Si\",$Q2394=\"a-Si (single)\",$Q2394=\"a-Si (tandem)\",$Q2394=\"a-Si (triple)\"),3,2))))","v":1},{"$f":"IF($O2394=\"Sunpower Corp.\",3,(IF(OR($Q2394=\"mono\",$Q2394=\"poly\",$Q2394=\"HIT\",$Q2394=\"EFG\",$Q2394=\"mono-LGBC\"),1,2)))","v":1},{"$f":"IF($O2394=\"Sunpower Corp.\",3,(IF(OR($Q2394=\"mono\",$Q2394=\"poly\",$Q2394=\"HIT\",$Q2394=\"EFG\",$Q2394=\"mono-LGBC\"),1,IF(OR($Q2394=\"µc-Si / a-Si\",$Q2394=\"a-Si (single)\",$Q2394=\"a-Si (tandem)\",$Q2394=\"a-Si (triple)\"),3,2))))","v":1},0,null,null,9694,null,null,2393]
["Changzhou Seasun New Energy Technology HYP215W","Changzhou Seasun New Energy Technology ","HYP215W",215,"+5...0",29.6,7.27,36.020000000000003,7.99,-122.46800000000002,3.5955000000000004,-0.47,1000,"China",null,13.215479850769043,"poly",60,"square",1640,992,50,"aluminum","junction box",22.5,"www.seasunpower.com","-","-","-","-","-",{"$f":"IF($O2417=\"Sunpower Corp.\",3,(IF(OR($Q2417=\"mono\",$Q2417=\"poly\",$Q2417=\"HIT\",$Q2417=\"EFG\",$Q2417=\"mono-LGBC\"),1,IF(OR($Q2417=\"µc-Si / a-Si\",$Q2417=\"a-Si (single)\",$Q2417=\"a-Si (tandem)\",$Q2417=\"a-Si (triple)\"),3,2))))","v":1},{"$f":"IF($O2417=\"Sunpower Corp.\",3,(IF(OR($Q2417=\"mono\",$Q2417=\"poly\",$Q2417=\"HIT\",$Q2417=\"EFG\",$Q2417=\"mono-LGBC\"),1,2)))","v":1},{"$f":"IF($O2417=\"Sunpower Corp.\",3,(IF(OR($Q2417=\"mono\",$Q2417=\"poly\",$Q2417=\"HIT\",$Q2417=\"EFG\",$Q2417=\"mono-LGBC\"),1,IF(OR($Q2417=\"µc-Si / a-Si\",$Q2417=\"a-Si (single)\",$Q2417=\"a-Si (tandem)\",$Q2417=\"a-Si (triple)\"),3,2))))","v":1},0,null,null,30147,null,null,2416]
["Changzhou Tesun Energy Technology Co., Ltd TSM195P-12V","Changzhou Tesun Energy Technology Co., Ltd ","TSM195P-12V",195,"+...",23.5,8.2899999999999991,29.2,8.5,-101.03199999999998,5.5250000000000004,-0.48799999999999999,1000,"China",null,14.846870422363281,"poly",48,"square",1324,992,50,"aluminum","junction box",15.6,"www.tesunenergy.com",null,null,null,null,null,{"$f":"IF($O2443=\"Sunpower Corp.\",3,(IF(OR($Q2443=\"mono\",$Q2443=\"poly\",$Q2443=\"HIT\",$Q2443=\"EFG\",$Q2443=\"mono-LGBC\"),1,IF(OR($Q2443=\"µc-Si / a-Si\",$Q2443=\"a-Si (single)\",$Q2443=\"a-Si (tandem)\",$Q2443=\"a-Si (triple)\"),3,2))))","v":1},{"$f":"IF($O2443=\"Sunpower Corp.\",3,(IF(OR($Q2443=\"mono\",$Q2443=\"poly\",$Q2443=\"HIT\",$Q2443=\"EFG\",$Q2443=\"mono-LGBC\"),1,2)))","v":1},{"$f":"IF($O2443=\"Sunpower Corp.\",3,(IF(OR($Q2443=\"mono\",$Q2443=\"poly\",$Q2443=\"HIT\",$Q2443=\"EFG\",$Q2443=\"mono-LGBC\"),1,IF(OR($Q2443=\"µc-Si / a-Si\",$Q2443=\"a-Si (single)\",$Q2443=\"a-Si (tandem)\",$Q2443=\"a-Si (triple)\"),3,2))))","v":1},0,null,null,25183,null,null,2442]
["Changzhou Tesun Energy Technology Co., Ltd TSM70D-12V","Changzhou Tesun Energy Technology Co., Ltd ","TSM70D-12V",70,"+...",16.899999999999999,4.1399999999999997,21.45,4.45,-85.156500000000008,2.67,-0.54900000000000004,1000,"China",null,10.658949851989746,"mono",36,"pseudo-square",1205,545,35,"aluminum","junction box",8.1999999999999993,"www.tesunenergy.com","-","-","-","-","-",{"$f":"IF($O2462=\"Sunpower Corp.\",3,(IF(OR($Q2462=\"mono\",$Q2462=\"poly\",$Q2462=\"HIT\",$Q2462=\"EFG\",$Q2462=\"mono-LGBC\"),1,IF(OR($Q2462=\"µc-Si / a-Si\",$Q2462=\"a-Si (single)\",$Q2462=\"a-Si (tandem)\",$Q2462=\"a-Si (triple)\"),3,2))))","v":1},{"$f":"IF($O2462=\"Sunpower Corp.\",3,(IF(OR($Q2462=\"mono\",$Q2462=\"poly\",$Q2462=\"HIT\",$Q2462=\"EFG\",$Q2462=\"mono-LGBC\"),1,2)))","v":1},{"$f":"IF($O2462=\"Sunpower Corp.\",3,(IF(OR($Q2462=\"mono\",$Q2462=\"poly\",$Q2462=\"HIT\",$Q2462=\"EFG\",$Q2462=\"mono-LGBC\"),1,IF(OR($Q2462=\"µc-Si / a-Si\",$Q2462=\"a-Si (single)\",$Q2462=\"a-Si (tandem)\",$Q2462=\"a-Si (triple)\"),3,2))))","v":1},0,null,null,25184,null,null,2461]
["China Singyes Solar Technologies Holdings Ltd. SY-DD130","China Singyes Solar Technologies Holdings Ltd. ","SY-DD130",130,"+3...-3",17.5,7.43,21,7.95,-73.5,3.9750000000000001,-0.45,1000,"China",null,12.372659683227539,"mono",36,"pseudo-square",null,null,35,"frameless","junction box",null,"www.zhsye.com","-","-","-","-","-",{"$f":"IF($O2468=\"Sunpower Corp.\",3,(IF(OR($Q2468=\"mono\",$Q2468=\"poly\",$Q2468=\"HIT\",$Q2468=\"EFG\",$Q2468=\"mono-LGBC\"),1,IF(OR($Q2468=\"µc-Si / a-Si\",$Q2468=\"a-Si (single)\",$Q2468=\"a-Si (tandem)\",$Q2468=\"a-Si (triple)\"),3,2))))","v":1},{"$f":"IF($O2468=\"Sunpower Corp.\",3,(IF(OR($Q2468=\"mono\",$Q2468=\"poly\",$Q2468=\"HIT\",$Q2468=\"EFG\",$Q2468=\"mono-LGBC\"),1,2)))","v":1},{"$f":"IF($O2468=\"Sunpower Corp.\",3,(IF(OR($Q2468=\"mono\",$Q2468=\"poly\",$Q2468=\"HIT\",$Q2468=\"EFG\",$Q2468=\"mono-LGBC\"),1,IF(OR($Q2468=\"µc-Si / a-Si\",$Q2468=\"a-Si (single)\",$Q2468=\"a-Si (tandem)\",$Q2468=\"a-Si (triple)\"),3,2))))","v":1},0,null,null,29010,null,null,2467]
["China Singyes Solar Technologies Holdings Ltd. SYE 170-72M (17.5V)","China Singyes Solar Technologies Holdings Ltd. ","SYE 170-72M (17.5V)",170,"+...",17.5,9.7100000000000009,22,10.25,-81.400000000000006,3.0750000000000002,-0.52,1000,"China",null,13.31620979309082,"mono",72,"pseudo-square",1580,808,35,"aluminum","junction box",null,"www.zhsye.com","-","-","-","-","-",{"$f":"IF($O2488=\"Sunpower Corp.\",3,(IF(OR($Q2488=\"mono\",$Q2488=\"poly\",$Q2488=\"HIT\",$Q2488=\"EFG\",$Q2488=\"mono-LGBC\"),1,IF(OR($Q2488=\"µc-Si / a-Si\",$Q2488=\"a-Si (single)\",$Q2488=\"a-Si (tandem)\",$Q2488=\"a-Si (triple)\"),3,2))))","v":1},{"$f":"IF($O2488=\"Sunpower Corp.\",3,(IF(OR($Q2488=\"mono\",$Q2488=\"poly\",$Q2488=\"HIT\",$Q2488=\"EFG\",$Q2488=\"mono-LGBC\"),1,2)))","v":1},{"$f":"IF($O2488=\"Sunpower Corp.\",3,(IF(OR($Q2488=\"mono\",$Q2488=\"poly\",$Q2488=\"HIT\",$Q2488=\"EFG\",$Q2488=\"mono-LGBC\"),1,IF(OR($Q2488=\"µc-Si / a-Si\",$Q2488=\"a-Si (single)\",$Q2488=\"a-Si (tandem)\",$Q2488=\"a-Si (triple)\"),3,2))))","v":1},0,null,null,28962,null,null,2487]
["China Singyes Solar Technologies Holdings Ltd. SYE 210-96M (46.1V)","China Singyes Solar Technologies Holdings Ltd. ","SYE 210-96M (46.1V)",210,"+...",46.1,4.5599999999999996,58.3,4.8899999999999997,-215.71,1.4669999999999999,-0.52,1000,"China",null,12.322859764099121,"mono",96,"pseudo-square",1575,1082,35,"aluminum","junction box",null,"www.zhsye.com","-","-","-","-","-",{"$f":"IF($O2513=\"Sunpower Corp.\",3,(IF(OR($Q2513=\"mono\",$Q2513=\"poly\",$Q2513=\"HIT\",$Q2513=\"EFG\",$Q2513=\"mono-LGBC\"),1,IF(OR($Q2513=\"µc-Si / a-Si\",$Q2513=\"a-Si (single)\",$Q2513=\"a-Si (tandem)\",$Q2513=\"a-Si (triple)\"),3,2))))","v":1},{"$f":"IF($O2513=\"Sunpower Corp.\",3,(IF(OR($Q2513=\"mono\",$Q2513=\"poly\",$Q2513=\"HIT\",$Q2513=\"EFG\",$Q2513=\"mono-LGBC\"),1,2)))","v":1},{"$f":"IF($O2513=\"Sunpower Corp.\",3,(IF(OR($Q2513=\"mono\",$Q2513=\"poly\",$Q2513=\"HIT\",$Q2513=\"EFG\",$Q2513=\"mono-LGBC\"),1,IF(OR($Q2513=\"µc-Si / a-Si\",$Q2513=\"a-Si (single)\",$Q2513=\"a-Si (tandem)\",$Q2513=\"a-Si (triple)\"),3,2))))","v":1},0,null,null,28949,null,null,2512]
["China Singyes Solar Technologies Holdings Ltd. SYE 235-60P","China Singyes Solar Technologies Holdings Ltd. ","SYE 235-60P",235,"+...",29.6,7.94,36.799999999999997,8.61,-132.47999999999999,2.5829999999999997,-0.53,1000,"China",null,14.357279777526855,"poly",60,"square",1650,992,35,"aluminum","junction box",19,"www.zhsye.com","-","-","-","-","-",{"$f":"IF($O2527=\"Sunpower Corp.\",3,(IF(OR($Q2527=\"mono\",$Q2527=\"poly\",$Q2527=\"HIT\",$Q2527=\"EFG\",$Q2527=\"mono-LGBC\"),1,IF(OR($Q2527=\"µc-Si / a-Si\",$Q2527=\"a-Si (single)\",$Q2527=\"a-Si (tandem)\",$Q2527=\"a-Si (triple)\"),3,2))))","v":1},{"$f":"IF($O2527=\"Sunpower Corp.\",3,(IF(OR($Q2527=\"mono\",$Q2527=\"poly\",$Q2527=\"HIT\",$Q2527=\"EFG\",$Q2527=\"mono-LGBC\"),1,2)))","v":1},{"$f":"IF($O2527=\"Sunpower Corp.\",3,(IF(OR($Q2527=\"mono\",$Q2527=\"poly\",$Q2527=\"HIT\",$Q2527=\"EFG\",$Q2527=\"mono-LGBC\"),1,IF(OR($Q2527=\"µc-Si / a-Si\",$Q2527=\"a-Si (single)\",$Q2527=\"a-Si (tandem)\",$Q2527=\"a-Si (triple)\"),3,2))))","v":1},0,null,null,28987,null,null,2526]
["China Sunergy Co. Ltd. CSUN185-72M","China Sunergy Co. Ltd. ","CSUN185-72M",185,"+3...-3",35.799999999999997,5.17,44.8,5.48,-137.536,2.1372,-0.42299999999999999,1000,"China","China Sunergy",14.49116039276123,"mono",72,"pseudo-square",1580,808,50,"aluminum","junction box",16,"www.chinasunergy.com","-","-","-","-","-",{"$f":"IF($O2558=\"Sunpower Corp.\",3,(IF(OR($Q2558=\"mono\",$Q2558=\"poly\",$Q2558=\"HIT\",$Q2558=\"EFG\",$Q2558=\"mono-LGBC\"),1,IF(OR($Q2558=\"µc-Si / a-Si\",$Q2558=\"a-Si (single)\",$Q2558=\"a-Si (tandem)\",$Q2558=\"a-Si (triple)\"),3,2))))","v":1},{"$f":"IF($O2558=\"Sunpower Corp.\",3,(IF(OR($Q2558=\"mono\",$Q2558=\"poly\",$Q2558=\"HIT\",$Q2558=\"EFG\",$Q2558=\"mono-LGBC\"),1,2)))","v":1},{"$f":"IF($O2558=\"Sunpower Corp.\",3,(IF(OR($Q2558=\"mono\",$Q2558=\"poly\",$Q2558=\"HIT\",$Q2558=\"EFG\",$Q2558=\"mono-LGBC\"),1,IF(OR($Q2558=\"µc-Si / a-Si\",$Q2558=\"a-Si (single)\",$Q2558=\"a-Si (tandem)\",$Q2558=\"a-Si (triple)\"),3,2))))","v":1},0,null,null,22187,null,null,2557]
["China Sunergy Co. Ltd. CSUN210-54M","China Sunergy Co. Ltd. ","CSUN210-54M",210,"+3...-3",26.7,7.83,33.299999999999997,8.52,-102.23099999999999,3.3228,-0.42299999999999999,1000,"China","China Sunergy",14.332509994506836,"mono",54,"pseudo-square",1480,990,50,"aluminum","junction box",null,"www.chinasunergy.com","-","-","-","-","-",{"$f":"IF($O2572=\"Sunpower Corp.\",3,(IF(OR($Q2572=\"mono\",$Q2572=\"poly\",$Q2572=\"HIT\",$Q2572=\"EFG\",$Q2572=\"mono-LGBC\"),1,IF(OR($Q2572=\"µc-Si / a-Si\",$Q2572=\"a-Si (single)\",$Q2572=\"a-Si (tandem)\",$Q2572=\"a-Si (triple)\"),3,2))))","v":1},{"$f":"IF($O2572=\"Sunpower Corp.\",3,(IF(OR($Q2572=\"mono\",$Q2572=\"poly\",$Q2572=\"HIT\",$Q2572=\"EFG\",$Q2572=\"mono-LGBC\"),1,2)))","v":1},{"$f":"IF($O2572=\"Sunpower Corp.\",3,(IF(OR($Q2572=\"mono\",$Q2572=\"poly\",$Q2572=\"HIT\",$Q2572=\"EFG\",$Q2572=\"mono-LGBC\"),1,IF(OR($Q2572=\"µc-Si / a-Si\",$Q2572=\"a-Si (single)\",$Q2572=\"a-Si (tandem)\",$Q2572=\"a-Si (triple)\"),3,2))))","v":1},0,null,null,29320,null,null,2571]
["China Sunergy Co. Ltd. CSUN235-60M","China Sunergy Co. Ltd. ","CSUN235-60M",235,"+3...-3",29.6,7.94,36.9,8.5399999999999991,-113.283,3.3305999999999996,-0.42299999999999999,1000,"China","China Sunergy",14.474010467529297,"mono",60,"pseudo-square",1640,990,50,"aluminum","junction box",19.8,"www.chinasunergy.com","-","-","-","-","-",{"$f":"IF($O2587=\"Sunpower Corp.\",3,(IF(OR($Q2587=\"mono\",$Q2587=\"poly\",$Q2587=\"HIT\",$Q2587=\"EFG\",$Q2587=\"mono-LGBC\"),1,IF(OR($Q2587=\"µc-Si / a-Si\",$Q2587=\"a-Si (single)\",$Q2587=\"a-Si (tandem)\",$Q2587=\"a-Si (triple)\"),3,2))))","v":1},{"$f":"IF($O2587=\"Sunpower Corp.\",3,(IF(OR($Q2587=\"mono\",$Q2587=\"poly\",$Q2587=\"HIT\",$Q2587=\"EFG\",$Q2587=\"mono-LGBC\"),1,2)))","v":1},{"$f":"IF($O2587=\"Sunpower Corp.\",3,(IF(OR($Q2587=\"mono\",$Q2587=\"poly\",$Q2587=\"HIT\",$Q2587=\"EFG\",$Q2587=\"mono-LGBC\"),1,IF(OR($Q2587=\"µc-Si / a-Si\",$Q2587=\"a-Si (single)\",$Q2587=\"a-Si (tandem)\",$Q2587=\"a-Si (triple)\"),3,2))))","v":1},0,null,null,22194,null,null,2586]
["China United Cleaning Technology Co., Ltd CUC-M36-80 (6x6)","China United Cleaning Technology Co., Ltd ","CUC-M36-80 (6x6)",80,"+3...-3",17.600000000000001,4.55,22,5.2,-74.8,1.04,-0.48,1000,null,null,12.253700256347656,"mono",36,"pseudo-square",808,808,35,"aluminum","junction box",8.5,"www.cuckwd.cn","-","-","-","-","-",{"$f":"IF($O2617=\"Sunpower Corp.\",3,(IF(OR($Q2617=\"mono\",$Q2617=\"poly\",$Q2617=\"HIT\",$Q2617=\"EFG\",$Q2617=\"mono-LGBC\"),1,IF(OR($Q2617=\"µc-Si / a-Si\",$Q2617=\"a-Si (single)\",$Q2617=\"a-Si (tandem)\",$Q2617=\"a-Si (triple)\"),3,2))))","v":1},{"$f":"IF($O2617=\"Sunpower Corp.\",3,(IF(OR($Q2617=\"mono\",$Q2617=\"poly\",$Q2617=\"HIT\",$Q2617=\"EFG\",$Q2617=\"mono-LGBC\"),1,2)))","v":1},{"$f":"IF($O2617=\"Sunpower Corp.\",3,(IF(OR($Q2617=\"mono\",$Q2617=\"poly\",$Q2617=\"HIT\",$Q2617=\"EFG\",$Q2617=\"mono-LGBC\"),1,IF(OR($Q2617=\"µc-Si / a-Si\",$Q2617=\"a-Si (single)\",$Q2617=\"a-Si (tandem)\",$Q2617=\"a-Si (triple)\"),3,2))))","v":1},0,null,null,15751,null,null,2616]
["Chinalight Solar Co., LTD. CLS-190M (195W)","Chinalight Solar Co., LTD. ","CLS-190M (195W)",195,"+1...-1",37.22,5.24,46.15,5.49,-152.29499999999999,3.294,-0.45,1000,null,null,15.274470329284668,"mono",72,"pseudo-square",1580,808,50,"aluminum","junction box MC",16.5,null,"-","-","-","-","-",{"$f":"IF($O2632=\"Sunpower Corp.\",3,(IF(OR($Q2632=\"mono\",$Q2632=\"poly\",$Q2632=\"HIT\",$Q2632=\"EFG\",$Q2632=\"mono-LGBC\"),1,IF(OR($Q2632=\"µc-Si / a-Si\",$Q2632=\"a-Si (single)\",$Q2632=\"a-Si (tandem)\",$Q2632=\"a-Si (triple)\"),3,2))))","v":1},{"$f":"IF($O2632=\"Sunpower Corp.\",3,(IF(OR($Q2632=\"mono\",$Q2632=\"poly\",$Q2632=\"HIT\",$Q2632=\"EFG\",$Q2632=\"mono-LGBC\"),1,2)))","v":1},{"$f":"IF($O2632=\"Sunpower Corp.\",3,(IF(OR($Q2632=\"mono\",$Q2632=\"poly\",$Q2632=\"HIT\",$Q2632=\"EFG\",$Q2632=\"mono-LGBC\"),1,IF(OR($Q2632=\"µc-Si / a-Si\",$Q2632=\"a-Si (single)\",$Q2632=\"a-Si (tandem)\",$Q2632=\"a-Si (triple)\"),3,2))))","v":1},0,null,null,31928,null,null,2631]
["Chinalight Solar Co., LTD. CLS-240M (245W)","Chinalight Solar Co., LTD. ","CLS-240M (245W)",245,"+1...-1",30.66,7.99,38.22,8.3800000000000008,-126.12599999999999,5.0280000000000005,-0.45,1000,null,null,14.968230247497559,"mono",60,"pseudo-square",1650,992,50,"aluminum","junction box MC",20,null,"-","-","-","-","-",{"$f":"IF($O2643=\"Sunpower Corp.\",3,(IF(OR($Q2643=\"mono\",$Q2643=\"poly\",$Q2643=\"HIT\",$Q2643=\"EFG\",$Q2643=\"mono-LGBC\"),1,IF(OR($Q2643=\"µc-Si / a-Si\",$Q2643=\"a-Si (single)\",$Q2643=\"a-Si (tandem)\",$Q2643=\"a-Si (triple)\"),3,2))))","v":1},{"$f":"IF($O2643=\"Sunpower Corp.\",3,(IF(OR($Q2643=\"mono\",$Q2643=\"poly\",$Q2643=\"HIT\",$Q2643=\"EFG\",$Q2643=\"mono-LGBC\"),1,2)))","v":1},{"$f":"IF($O2643=\"Sunpower Corp.\",3,(IF(OR($Q2643=\"mono\",$Q2643=\"poly\",$Q2643=\"HIT\",$Q2643=\"EFG\",$Q2643=\"mono-LGBC\"),1,IF(OR($Q2643=\"µc-Si / a-Si\",$Q2643=\"a-Si (single)\",$Q2643=\"a-Si (tandem)\",$Q2643=\"a-Si (triple)\"),3,2))))","v":1},0,null,null,31933,null,null,2642]
["Chint Solar (ZheJiang) Co., Ltd (Astronergy) CHSM 5612M BL (170)","Chint Solar (ZheJiang) Co., Ltd (Astronergy) ","CHSM 5612M BL (170)",170,"+3...-3",34.299999999999997,4.96,44.24,5.35,-165.45760000000001,2.9424999999999999,-0.51100000000000001,1000,null,null,13.31620979309082,"mono",72,"pseudo-square",1580,808,45,"aluminum","junction box",15.5,"www.astronergy.com","-","-","-","-","-",{"$f":"IF($O2677=\"Sunpower Corp.\",3,(IF(OR($Q2677=\"mono\",$Q2677=\"poly\",$Q2677=\"HIT\",$Q2677=\"EFG\",$Q2677=\"mono-LGBC\"),1,IF(OR($Q2677=\"µc-Si / a-Si\",$Q2677=\"a-Si (single)\",$Q2677=\"a-Si (tandem)\",$Q2677=\"a-Si (triple)\"),3,2))))","v":1},{"$f":"IF($O2677=\"Sunpower Corp.\",3,(IF(OR($Q2677=\"mono\",$Q2677=\"poly\",$Q2677=\"HIT\",$Q2677=\"EFG\",$Q2677=\"mono-LGBC\"),1,2)))","v":1},{"$f":"IF($O2677=\"Sunpower Corp.\",3,(IF(OR($Q2677=\"mono\",$Q2677=\"poly\",$Q2677=\"HIT\",$Q2677=\"EFG\",$Q2677=\"mono-LGBC\"),1,IF(OR($Q2677=\"µc-Si / a-Si\",$Q2677=\"a-Si (single)\",$Q2677=\"a-Si (tandem)\",$Q2677=\"a-Si (triple)\"),3,2))))","v":1},0,null,null,33894,null,null,2676]
["Chint Solar (ZheJiang) Co., Ltd (Astronergy) CHSM 6609M (195)","Chint Solar (ZheJiang) Co., Ltd (Astronergy) ","CHSM 6609M (195)",195,"+3...-3",25.18,7.72,33.32,8.42,-109.28960000000001,2.9470000000000005,-0.46899999999999997,1000,null,null,13.130990028381348,"mono",54,"pseudo-square",1494,994,45,"aluminum","junction box",18,"www.astronergy.com","-","-","-","-","-",{"$f":"IF($O2682=\"Sunpower Corp.\",3,(IF(OR($Q2682=\"mono\",$Q2682=\"poly\",$Q2682=\"HIT\",$Q2682=\"EFG\",$Q2682=\"mono-LGBC\"),1,IF(OR($Q2682=\"µc-Si / a-Si\",$Q2682=\"a-Si (single)\",$Q2682=\"a-Si (tandem)\",$Q2682=\"a-Si (triple)\"),3,2))))","v":1},{"$f":"IF($O2682=\"Sunpower Corp.\",3,(IF(OR($Q2682=\"mono\",$Q2682=\"poly\",$Q2682=\"HIT\",$Q2682=\"EFG\",$Q2682=\"mono-LGBC\"),1,2)))","v":1},{"$f":"IF($O2682=\"Sunpower Corp.\",3,(IF(OR($Q2682=\"mono\",$Q2682=\"poly\",$Q2682=\"HIT\",$Q2682=\"EFG\",$Q2682=\"mono-LGBC\"),1,IF(OR($Q2682=\"µc-Si / a-Si\",$Q2682=\"a-Si (single)\",$Q2682=\"a-Si (tandem)\",$Q2682=\"a-Si (triple)\"),3,2))))","v":1},0,null,null,33900,null,null,2681]
["Chint Solar (ZheJiang) Co., Ltd (Astronergy) CHSM 6610M BL (220)","Chint Solar (ZheJiang) Co., Ltd (Astronergy) ","CHSM 6610M BL (220)",220,"+3...-3",28.3,7.78,37.18,8.4499999999999993,-121.9504,2.9575,-0.46899999999999997,1000,null,null,13.397580146789551,"mono",60,"pseudo-square",1652,994,45,"aluminum","junction box",20,"www.astronergy.com","-","-","-","-","-",{"$f":"IF($O2702=\"Sunpower Corp.\",3,(IF(OR($Q2702=\"mono\",$Q2702=\"poly\",$Q2702=\"HIT\",$Q2702=\"EFG\",$Q2702=\"mono-LGBC\"),1,IF(OR($Q2702=\"µc-Si / a-Si\",$Q2702=\"a-Si (single)\",$Q2702=\"a-Si (tandem)\",$Q2702=\"a-Si (triple)\"),3,2))))","v":1},{"$f":"IF($O2702=\"Sunpower Corp.\",3,(IF(OR($Q2702=\"mono\",$Q2702=\"poly\",$Q2702=\"HIT\",$Q2702=\"EFG\",$Q2702=\"mono-LGBC\"),1,2)))","v":1},{"$f":"IF($O2702=\"Sunpower Corp.\",3,(IF(OR($Q2702=\"mono\",$Q2702=\"poly\",$Q2702=\"HIT\",$Q2702=\"EFG\",$Q2702=\"mono-LGBC\"),1,IF(OR($Q2702=\"µc-Si / a-Si\",$Q2702=\"a-Si (single)\",$Q2702=\"a-Si (tandem)\",$Q2702=\"a-Si (triple)\"),3,2))))","v":1},0,null,null,33907,null,null,2701]
["Chint Solar (ZheJiang) Co., Ltd (Astronergy) CHSM-080P(85)","Chint Solar (ZheJiang) Co., Ltd (Astronergy) ","CHSM-080P(85)",85,"+5...-5",17.64,4.82,22.05,5.09,-79.38,2.9013,-0.51,1000,"China","Chint Solar",12.785799980163574,"poly",36,"square",1200,554,35,"aluminum","junction box",7.5,"www.astronergy.com","-","-","-","-","-",{"$f":"IF($O2727=\"Sunpower Corp.\",3,(IF(OR($Q2727=\"mono\",$Q2727=\"poly\",$Q2727=\"HIT\",$Q2727=\"EFG\",$Q2727=\"mono-LGBC\"),1,IF(OR($Q2727=\"µc-Si / a-Si\",$Q2727=\"a-Si (single)\",$Q2727=\"a-Si (tandem)\",$Q2727=\"a-Si (triple)\"),3,2))))","v":1},{"$f":"IF($O2727=\"Sunpower Corp.\",3,(IF(OR($Q2727=\"mono\",$Q2727=\"poly\",$Q2727=\"HIT\",$Q2727=\"EFG\",$Q2727=\"mono-LGBC\"),1,2)))","v":1},{"$f":"IF($O2727=\"Sunpower Corp.\",3,(IF(OR($Q2727=\"mono\",$Q2727=\"poly\",$Q2727=\"HIT\",$Q2727=\"EFG\",$Q2727=\"mono-LGBC\"),1,IF(OR($Q2727=\"µc-Si / a-Si\",$Q2727=\"a-Si (single)\",$Q2727=\"a-Si (tandem)\",$Q2727=\"a-Si (triple)\"),3,2))))","v":1},0,null,null,6081,null,null,2726]
["Chint Solar (ZheJiang) Co., Ltd (Astronergy) CHSM-160M(170)","Chint Solar (ZheJiang) Co., Ltd (Astronergy) ","CHSM-160M(170)",170,"+5...-5",20.56,8.27,26.65,8.77,-95.94,4.9988999999999999,-0.51,1000,"China","Chint Solar",14.518349647521973,"mono",42,"pseudo-square",1178,994,45,"aluminum","junction box",15.5,"www.astronergy.com","-","-","-","-","-",{"$f":"IF($O2751=\"Sunpower Corp.\",3,(IF(OR($Q2751=\"mono\",$Q2751=\"poly\",$Q2751=\"HIT\",$Q2751=\"EFG\",$Q2751=\"mono-LGBC\"),1,IF(OR($Q2751=\"µc-Si / a-Si\",$Q2751=\"a-Si (single)\",$Q2751=\"a-Si (tandem)\",$Q2751=\"a-Si (triple)\"),3,2))))","v":1},{"$f":"IF($O2751=\"Sunpower Corp.\",3,(IF(OR($Q2751=\"mono\",$Q2751=\"poly\",$Q2751=\"HIT\",$Q2751=\"EFG\",$Q2751=\"mono-LGBC\"),1,2)))","v":1},{"$f":"IF($O2751=\"Sunpower Corp.\",3,(IF(OR($Q2751=\"mono\",$Q2751=\"poly\",$Q2751=\"HIT\",$Q2751=\"EFG\",$Q2751=\"mono-LGBC\"),1,IF(OR($Q2751=\"µc-Si / a-Si\",$Q2751=\"a-Si (single)\",$Q2751=\"a-Si (tandem)\",$Q2751=\"a-Si (triple)\"),3,2))))","v":1},0,null,null,6064,null,null,2750]
["Chint Solar (ZheJiang) Co., Ltd (Astronergy) CHSM-220P(230)","Chint Solar (ZheJiang) Co., Ltd (Astronergy) ","CHSM-220P(230)",230,"+5...-5",28.29,8.1300000000000008,36.869999999999997,8.56,-132.732,4.8792,-0.51,1000,"China","Chint Solar",14.006560325622559,"poly",60,"square",1652,994,45,"aluminum","junction box",20.5,"www.astronergy.com","-","-","-","-","-",{"$f":"IF($O2772=\"Sunpower Corp.\",3,(IF(OR($Q2772=\"mono\",$Q2772=\"poly\",$Q2772=\"HIT\",$Q2772=\"EFG\",$Q2772=\"mono-LGBC\"),1,IF(OR($Q2772=\"µc-Si / a-Si\",$Q2772=\"a-Si (single)\",$Q2772=\"a-Si (tandem)\",$Q2772=\"a-Si (triple)\"),3,2))))","v":1},{"$f":"IF($O2772=\"Sunpower Corp.\",3,(IF(OR($Q2772=\"mono\",$Q2772=\"poly\",$Q2772=\"HIT\",$Q2772=\"EFG\",$Q2772=\"mono-LGBC\"),1,2)))","v":1},{"$f":"IF($O2772=\"Sunpower Corp.\",3,(IF(OR($Q2772=\"mono\",$Q2772=\"poly\",$Q2772=\"HIT\",$Q2772=\"EFG\",$Q2772=\"mono-LGBC\"),1,IF(OR($Q2772=\"µc-Si / a-Si\",$Q2772=\"a-Si (single)\",$Q2772=\"a-Si (tandem)\",$Q2772=\"a-Si (triple)\"),3,2))))","v":1},0,null,null,6055,null,null,2771]
["Chint Solar (ZheJiang) Co., Ltd (Astronergy) CHSM-240P(230)","Chint Solar (ZheJiang) Co., Ltd (Astronergy) ","CHSM-240P(230)",230,"+5...-5",30.34,7.58,40.25,8.27,-144.9,4.7138999999999989,-0.51,1000,"China","Chint Solar",12.783889770507813,"poly",66,"square",1810,994,45,"aluminum","junction box",23.5,"www.astronergy.com","-","-","-","-","-",{"$f":"IF($O2776=\"Sunpower Corp.\",3,(IF(OR($Q2776=\"mono\",$Q2776=\"poly\",$Q2776=\"HIT\",$Q2776=\"EFG\",$Q2776=\"mono-LGBC\"),1,IF(OR($Q2776=\"µc-Si / a-Si\",$Q2776=\"a-Si (single)\",$Q2776=\"a-Si (tandem)\",$Q2776=\"a-Si (triple)\"),3,2))))","v":1},{"$f":"IF($O2776=\"Sunpower Corp.\",3,(IF(OR($Q2776=\"mono\",$Q2776=\"poly\",$Q2776=\"HIT\",$Q2776=\"EFG\",$Q2776=\"mono-LGBC\"),1,2)))","v":1},{"$f":"IF($O2776=\"Sunpower Corp.\",3,(IF(OR($Q2776=\"mono\",$Q2776=\"poly\",$Q2776=\"HIT\",$Q2776=\"EFG\",$Q2776=\"mono-LGBC\"),1,IF(OR($Q2776=\"µc-Si / a-Si\",$Q2776=\"a-Si (single)\",$Q2776=\"a-Si (tandem)\",$Q2776=\"a-Si (triple)\"),3,2))))","v":1},0,null,null,6047,null,null,2775]
["Chint Solar (ZheJiang) Co., Ltd (Astronergy) CHSM-T500 (125)","Chint Solar (ZheJiang) Co., Ltd (Astronergy) ","CHSM-T500 (125)",125,"+3...-3",105,1.19,130,1.52,-403,0.76,-0.27,1000,null,null,8.7412586212158203,"a-Si (tandem)",null,null,1300,1100,7,null,null,25.5,"www.astronergy.com","-","-","-","-","-",{"$f":"IF($O2798=\"Sunpower Corp.\",3,(IF(OR($Q2798=\"mono\",$Q2798=\"poly\",$Q2798=\"HIT\",$Q2798=\"EFG\",$Q2798=\"mono-LGBC\"),1,IF(OR($Q2798=\"µc-Si / a-Si\",$Q2798=\"a-Si (single)\",$Q2798=\"a-Si (tandem)\",$Q2798=\"a-Si (triple)\"),3,2))))","v":3},{"$f":"IF($O2798=\"Sunpower Corp.\",3,(IF(OR($Q2798=\"mono\",$Q2798=\"poly\",$Q2798=\"HIT\",$Q2798=\"EFG\",$Q2798=\"mono-LGBC\"),1,2)))","v":2},{"$f":"IF($O2798=\"Sunpower Corp.\",3,(IF(OR($Q2798=\"mono\",$Q2798=\"poly\",$Q2798=\"HIT\",$Q2798=\"EFG\",$Q2798=\"mono-LGBC\"),1,IF(OR($Q2798=\"µc-Si / a-Si\",$Q2798=\"a-Si (single)\",$Q2798=\"a-Si (tandem)\",$Q2798=\"a-Si (triple)\"),3,2))))","v":3},0,null,null,12677,null,null,2797]
["CN Solar Technology Co., Ltd. CNM220P-54","CN Solar Technology Co., Ltd. ","CNM220P-54",220,"+5...-5",27.5,8,34.9,8.64,-115.17,3.4560000000000004,-0.43,1000,null,null,14.964520454406738,"poly",54,"square",1482,992,45,null,"junction box",15,"www.zjcnsolar.com","-","-","-","-","-",{"$f":"IF($O2821=\"Sunpower Corp.\",3,(IF(OR($Q2821=\"mono\",$Q2821=\"poly\",$Q2821=\"HIT\",$Q2821=\"EFG\",$Q2821=\"mono-LGBC\"),1,IF(OR($Q2821=\"µc-Si / a-Si\",$Q2821=\"a-Si (single)\",$Q2821=\"a-Si (tandem)\",$Q2821=\"a-Si (triple)\"),3,2))))","v":1},{"$f":"IF($O2821=\"Sunpower Corp.\",3,(IF(OR($Q2821=\"mono\",$Q2821=\"poly\",$Q2821=\"HIT\",$Q2821=\"EFG\",$Q2821=\"mono-LGBC\"),1,2)))","v":1},{"$f":"IF($O2821=\"Sunpower Corp.\",3,(IF(OR($Q2821=\"mono\",$Q2821=\"poly\",$Q2821=\"HIT\",$Q2821=\"EFG\",$Q2821=\"mono-LGBC\"),1,IF(OR($Q2821=\"µc-Si / a-Si\",$Q2821=\"a-Si (single)\",$Q2821=\"a-Si (tandem)\",$Q2821=\"a-Si (triple)\"),3,2))))","v":1},0,null,null,23849,null,null,2820]
["CNBM International Corp. Mono Series I 175W","CNBM International Corp. ","Mono Series I 175W",175,"+3...-3",36.4,4.8099999999999996,44.2,5.22,-147.18600000000001,1.5659999999999996,-0.45900000000000002,1000,"China",null,13.707859992980957,"mono",72,"pseudo-square",1580,808,40,"aluminum","junction box",16,"www.cnbmsolar.com","-","-","-","-","-",{"$f":"IF($O2846=\"Sunpower Corp.\",3,(IF(OR($Q2846=\"mono\",$Q2846=\"poly\",$Q2846=\"HIT\",$Q2846=\"EFG\",$Q2846=\"mono-LGBC\"),1,IF(OR($Q2846=\"µc-Si / a-Si\",$Q2846=\"a-Si (single)\",$Q2846=\"a-Si (tandem)\",$Q2846=\"a-Si (triple)\"),3,2))))","v":1},{"$f":"IF($O2846=\"Sunpower Corp.\",3,(IF(OR($Q2846=\"mono\",$Q2846=\"poly\",$Q2846=\"HIT\",$Q2846=\"EFG\",$Q2846=\"mono-LGBC\"),1,2)))","v":1},{"$f":"IF($O2846=\"Sunpower Corp.\",3,(IF(OR($Q2846=\"mono\",$Q2846=\"poly\",$Q2846=\"HIT\",$Q2846=\"EFG\",$Q2846=\"mono-LGBC\"),1,IF(OR($Q2846=\"µc-Si / a-Si\",$Q2846=\"a-Si (single)\",$Q2846=\"a-Si (tandem)\",$Q2846=\"a-Si (triple)\"),3,2))))","v":1},0,null,null,22123,null,null,2845]
["CNBM International Corp. Mono Series III 260W","CNBM International Corp. ","Mono Series III 260W",260,"+3...-3",49.5,5.25,60.4,5.67,-201.13200000000001,1.7009999999999998,-0.45900000000000002,1000,"China",null,15.256870269775391,"mono",96,"pseudo-square",1575,1082,50,"aluminum","junction box",23,"www.cnbmsolar.com","-","-","-","-","-",{"$f":"IF($O2863=\"Sunpower Corp.\",3,(IF(OR($Q2863=\"mono\",$Q2863=\"poly\",$Q2863=\"HIT\",$Q2863=\"EFG\",$Q2863=\"mono-LGBC\"),1,IF(OR($Q2863=\"µc-Si / a-Si\",$Q2863=\"a-Si (single)\",$Q2863=\"a-Si (tandem)\",$Q2863=\"a-Si (triple)\"),3,2))))","v":1},{"$f":"IF($O2863=\"Sunpower Corp.\",3,(IF(OR($Q2863=\"mono\",$Q2863=\"poly\",$Q2863=\"HIT\",$Q2863=\"EFG\",$Q2863=\"mono-LGBC\"),1,2)))","v":1},{"$f":"IF($O2863=\"Sunpower Corp.\",3,(IF(OR($Q2863=\"mono\",$Q2863=\"poly\",$Q2863=\"HIT\",$Q2863=\"EFG\",$Q2863=\"mono-LGBC\"),1,IF(OR($Q2863=\"µc-Si / a-Si\",$Q2863=\"a-Si (single)\",$Q2863=\"a-Si (tandem)\",$Q2863=\"a-Si (triple)\"),3,2))))","v":1},0,null,null,30697,null,null,2862]
["CNBM International Corp. Poly Series III 270W","CNBM International Corp. ","Poly Series III 270W",270,"+3...-3",35.200000000000003,7.67,43.65,8.59,-152.77500000000001,4.2949999999999999,-0.45,1000,"China",null,13.935990333557129,"poly",72,"square",1957,990,50,"aluminum","junction box",25,"www.cnbmsolar.com","-","-","-","-","-",{"$f":"IF($O2891=\"Sunpower Corp.\",3,(IF(OR($Q2891=\"mono\",$Q2891=\"poly\",$Q2891=\"HIT\",$Q2891=\"EFG\",$Q2891=\"mono-LGBC\"),1,IF(OR($Q2891=\"µc-Si / a-Si\",$Q2891=\"a-Si (single)\",$Q2891=\"a-Si (tandem)\",$Q2891=\"a-Si (triple)\"),3,2))))","v":1},{"$f":"IF($O2891=\"Sunpower Corp.\",3,(IF(OR($Q2891=\"mono\",$Q2891=\"poly\",$Q2891=\"HIT\",$Q2891=\"EFG\",$Q2891=\"mono-LGBC\"),1,2)))","v":1},{"$f":"IF($O2891=\"Sunpower Corp.\",3,(IF(OR($Q2891=\"mono\",$Q2891=\"poly\",$Q2891=\"HIT\",$Q2891=\"EFG\",$Q2891=\"mono-LGBC\"),1,IF(OR($Q2891=\"µc-Si / a-Si\",$Q2891=\"a-Si (single)\",$Q2891=\"a-Si (tandem)\",$Q2891=\"a-Si (triple)\"),3,2))))","v":1},0,null,null,22138,null,null,2890]
["CNPV Dongying Solar Power Co., Ltd. CNPV-170M","CNPV Dongying Solar Power Co., Ltd. ","CNPV-170M",170,"+3...-3",35.799999999999997,4.75,43.8,5.25,-153.30000000000001,2.625,-0.45,1000,"China","CNPV",13.291330337524414,"mono",72,"pseudo-square",1581,809,40,"aluminum","junction box MC4",15,"www.cnpv-power.com","-","-","-","-","-",{"$f":"IF($O2908=\"Sunpower Corp.\",3,(IF(OR($Q2908=\"mono\",$Q2908=\"poly\",$Q2908=\"HIT\",$Q2908=\"EFG\",$Q2908=\"mono-LGBC\"),1,IF(OR($Q2908=\"µc-Si / a-Si\",$Q2908=\"a-Si (single)\",$Q2908=\"a-Si (tandem)\",$Q2908=\"a-Si (triple)\"),3,2))))","v":1},{"$f":"IF($O2908=\"Sunpower Corp.\",3,(IF(OR($Q2908=\"mono\",$Q2908=\"poly\",$Q2908=\"HIT\",$Q2908=\"EFG\",$Q2908=\"mono-LGBC\"),1,2)))","v":1},{"$f":"IF($O2908=\"Sunpower Corp.\",3,(IF(OR($Q2908=\"mono\",$Q2908=\"poly\",$Q2908=\"HIT\",$Q2908=\"EFG\",$Q2908=\"mono-LGBC\"),1,IF(OR($Q2908=\"µc-Si / a-Si\",$Q2908=\"a-Si (single)\",$Q2908=\"a-Si (tandem)\",$Q2908=\"a-Si (triple)\"),3,2))))","v":1},0,null,null,9782,null,null,2907]
["CNPV Dongying Solar Power Co., Ltd. CNPV-200M","CNPV Dongying Solar Power Co., Ltd. ","CNPV-200M",200,"+3...-3",28.6,7,36,7.6,-126,3.8,-0.45,1000,"China","CNPV",12.218959808349609,"mono",60,"pseudo-square",1650,992,46,"aluminum","junction box MC4",20,"www.cnpv-power.com","-","-","-","-","-",{"$f":"IF($O2916=\"Sunpower Corp.\",3,(IF(OR($Q2916=\"mono\",$Q2916=\"poly\",$Q2916=\"HIT\",$Q2916=\"EFG\",$Q2916=\"mono-LGBC\"),1,IF(OR($Q2916=\"µc-Si / a-Si\",$Q2916=\"a-Si (single)\",$Q2916=\"a-Si (tandem)\",$Q2916=\"a-Si (triple)\"),3,2))))","v":1},{"$f":"IF($O2916=\"Sunpower Corp.\",3,(IF(OR($Q2916=\"mono\",$Q2916=\"poly\",$Q2916=\"HIT\",$Q2916=\"EFG\",$Q2916=\"mono-LGBC\"),1,2)))","v":1},{"$f":"IF($O2916=\"Sunpower Corp.\",3,(IF(OR($Q2916=\"mono\",$Q2916=\"poly\",$Q2916=\"HIT\",$Q2916=\"EFG\",$Q2916=\"mono-LGBC\"),1,IF(OR($Q2916=\"µc-Si / a-Si\",$Q2916=\"a-Si (single)\",$Q2916=\"a-Si (tandem)\",$Q2916=\"a-Si (triple)\"),3,2))))","v":1},0,null,null,9786,null,null,2915]
["CNPV Dongying Solar Power Co., Ltd. CNPV-255M","CNPV Dongying Solar Power Co., Ltd. ","CNPV-255M",255,"+3...-3",31.3,8.15,37.9,8.6999999999999993,-132.65,4.3499999999999996,-0.45,1000,"China",null,15.579179763793945,"mono",60,"pseudo-square",1650,992,46,"aluminum","junction box MC4",20,"www.cnpv-power.com","-","-","-","-","-",{"$f":"IF($O2947=\"Sunpower Corp.\",3,(IF(OR($Q2947=\"mono\",$Q2947=\"poly\",$Q2947=\"HIT\",$Q2947=\"EFG\",$Q2947=\"mono-LGBC\"),1,IF(OR($Q2947=\"µc-Si / a-Si\",$Q2947=\"a-Si (single)\",$Q2947=\"a-Si (tandem)\",$Q2947=\"a-Si (triple)\"),3,2))))","v":1},{"$f":"IF($O2947=\"Sunpower Corp.\",3,(IF(OR($Q2947=\"mono\",$Q2947=\"poly\",$Q2947=\"HIT\",$Q2947=\"EFG\",$Q2947=\"mono-LGBC\"),1,2)))","v":1},{"$f":"IF($O2947=\"Sunpower Corp.\",3,(IF(OR($Q2947=\"mono\",$Q2947=\"poly\",$Q2947=\"HIT\",$Q2947=\"EFG\",$Q2947=\"mono-LGBC\"),1,IF(OR($Q2947=\"µc-Si / a-Si\",$Q2947=\"a-Si (single)\",$Q2947=\"a-Si (tandem)\",$Q2947=\"a-Si (triple)\"),3,2))))","v":1},0,null,null,31085,null,null,2946]
["CNPV Dongying Solar Power Co., Ltd. CNPV-290M","CNPV Dongying Solar Power Co., Ltd. ","CNPV-290M",290,"+3...-3",37.200000000000003,7.8,44.6,8.4,-156.1,4.2,-0.45,1000,"China","CNPV",14.877289772033691,"mono",72,"pseudo-square",1965,992,46,"aluminum","junction box MC4",25,"www.cnpv-power.com","-","-","-","-","-",{"$f":"IF($O2961=\"Sunpower Corp.\",3,(IF(OR($Q2961=\"mono\",$Q2961=\"poly\",$Q2961=\"HIT\",$Q2961=\"EFG\",$Q2961=\"mono-LGBC\"),1,IF(OR($Q2961=\"µc-Si / a-Si\",$Q2961=\"a-Si (single)\",$Q2961=\"a-Si (tandem)\",$Q2961=\"a-Si (triple)\"),3,2))))","v":1},{"$f":"IF($O2961=\"Sunpower Corp.\",3,(IF(OR($Q2961=\"mono\",$Q2961=\"poly\",$Q2961=\"HIT\",$Q2961=\"EFG\",$Q2961=\"mono-LGBC\"),1,2)))","v":1},{"$f":"IF($O2961=\"Sunpower Corp.\",3,(IF(OR($Q2961=\"mono\",$Q2961=\"poly\",$Q2961=\"HIT\",$Q2961=\"EFG\",$Q2961=\"mono-LGBC\"),1,IF(OR($Q2961=\"µc-Si / a-Si\",$Q2961=\"a-Si (single)\",$Q2961=\"a-Si (tandem)\",$Q2961=\"a-Si (triple)\"),3,2))))","v":1},0,null,null,9778,null,null,2960]
["CNPV Dongying Solar Power Co., Ltd. CNPV-80M","CNPV Dongying Solar Power Co., Ltd. ","CNPV-80M",80,"+5...-5",19,4.2,22.9,4.4000000000000004,-80.150000000000006,2.2000000000000002,-0.45,715,"China","CNPV",16.155740737915039,"mono",36,"pseudo-square",917,540,40,"aluminum","junction box",7,"www.cnpv-power.com","-","-","-","-","-",{"$f":"IF($O2973=\"Sunpower Corp.\",3,(IF(OR($Q2973=\"mono\",$Q2973=\"poly\",$Q2973=\"HIT\",$Q2973=\"EFG\",$Q2973=\"mono-LGBC\"),1,IF(OR($Q2973=\"µc-Si / a-Si\",$Q2973=\"a-Si (single)\",$Q2973=\"a-Si (tandem)\",$Q2973=\"a-Si (triple)\"),3,2))))","v":1},{"$f":"IF($O2973=\"Sunpower Corp.\",3,(IF(OR($Q2973=\"mono\",$Q2973=\"poly\",$Q2973=\"HIT\",$Q2973=\"EFG\",$Q2973=\"mono-LGBC\"),1,2)))","v":1},{"$f":"IF($O2973=\"Sunpower Corp.\",3,(IF(OR($Q2973=\"mono\",$Q2973=\"poly\",$Q2973=\"HIT\",$Q2973=\"EFG\",$Q2973=\"mono-LGBC\"),1,IF(OR($Q2973=\"µc-Si / a-Si\",$Q2973=\"a-Si (single)\",$Q2973=\"a-Si (tandem)\",$Q2973=\"a-Si (triple)\"),3,2))))","v":1},0,null,null,25053,null,null,2972]
["Conergy AG Conergy P 205P","Conergy AG ","Conergy P 205P",205,"+3...-3",27,7.6,32.9,8.35,-125.02,3.34,-0.4,1000,"China",null,13.721549987792969,"poly",54,"square",1494,1000,45,"aluminum","cable MC new",18,"www.conergy.de","-","-","-","-","-",{"$f":"IF($O3010=\"Sunpower Corp.\",3,(IF(OR($Q3010=\"mono\",$Q3010=\"poly\",$Q3010=\"HIT\",$Q3010=\"EFG\",$Q3010=\"mono-LGBC\"),1,IF(OR($Q3010=\"µc-Si / a-Si\",$Q3010=\"a-Si (single)\",$Q3010=\"a-Si (tandem)\",$Q3010=\"a-Si (triple)\"),3,2))))","v":1},{"$f":"IF($O3010=\"Sunpower Corp.\",3,(IF(OR($Q3010=\"mono\",$Q3010=\"poly\",$Q3010=\"HIT\",$Q3010=\"EFG\",$Q3010=\"mono-LGBC\"),1,2)))","v":1},{"$f":"IF($O3010=\"Sunpower Corp.\",3,(IF(OR($Q3010=\"mono\",$Q3010=\"poly\",$Q3010=\"HIT\",$Q3010=\"EFG\",$Q3010=\"mono-LGBC\"),1,IF(OR($Q3010=\"µc-Si / a-Si\",$Q3010=\"a-Si (single)\",$Q3010=\"a-Si (tandem)\",$Q3010=\"a-Si (triple)\"),3,2))))","v":1},0,null,null,8380,null,null,3009]
["Conergy AG Conergy PM 230P","Conergy AG ","Conergy PM 230P",225,"+3...0",30.84,7.48,37.32,7.48,-119.42400000000001,2.9920000000000004,-0.44,1000,"Taiwan (Formosa)",null,13.48921012878418,"poly",60,"square",1668,1000,40,"aluminum","cable Tyco",20,"www.conergy.de","-","-","-","-","-",{"$f":"IF($O3018=\"Sunpower Corp.\",3,(IF(OR($Q3018=\"mono\",$Q3018=\"poly\",$Q3018=\"HIT\",$Q3018=\"EFG\",$Q3018=\"mono-LGBC\"),1,IF(OR($Q3018=\"µc-Si / a-Si\",$Q3018=\"a-Si (single)\",$Q3018=\"a-Si (tandem)\",$Q3018=\"a-Si (triple)\"),3,2))))","v":1},{"$f":"IF($O3018=\"Sunpower Corp.\",3,(IF(OR($Q3018=\"mono\",$Q3018=\"poly\",$Q3018=\"HIT\",$Q3018=\"EFG\",$Q3018=\"mono-LGBC\"),1,2)))","v":1},{"$f":"IF($O3018=\"Sunpower Corp.\",3,(IF(OR($Q3018=\"mono\",$Q3018=\"poly\",$Q3018=\"HIT\",$Q3018=\"EFG\",$Q3018=\"mono-LGBC\"),1,IF(OR($Q3018=\"µc-Si / a-Si\",$Q3018=\"a-Si (single)\",$Q3018=\"a-Si (tandem)\",$Q3018=\"a-Si (triple)\"),3,2))))","v":1},0,null,null,25506,null,null,3017]
["Cotech Solar Group Limited CS5M12-65","Cotech Solar Group Limited ","CS5M12-65",65,"+3...-3",17.100000000000001,3.8,21.2,4.38,-74.2,2.6279999999999997,-0.45,1000,"China",null,10.054220199584961,"mono",36,"pseudo-square",1195,541,35,"aluminum","junction box",8,"www.cotechsolar.com","-","-","-","-","-",{"$f":"IF($O3035=\"Sunpower Corp.\",3,(IF(OR($Q3035=\"mono\",$Q3035=\"poly\",$Q3035=\"HIT\",$Q3035=\"EFG\",$Q3035=\"mono-LGBC\"),1,IF(OR($Q3035=\"µc-Si / a-Si\",$Q3035=\"a-Si (single)\",$Q3035=\"a-Si (tandem)\",$Q3035=\"a-Si (triple)\"),3,2))))","v":1},{"$f":"IF($O3035=\"Sunpower Corp.\",3,(IF(OR($Q3035=\"mono\",$Q3035=\"poly\",$Q3035=\"HIT\",$Q3035=\"EFG\",$Q3035=\"mono-LGBC\"),1,2)))","v":1},{"$f":"IF($O3035=\"Sunpower Corp.\",3,(IF(OR($Q3035=\"mono\",$Q3035=\"poly\",$Q3035=\"HIT\",$Q3035=\"EFG\",$Q3035=\"mono-LGBC\"),1,IF(OR($Q3035=\"µc-Si / a-Si\",$Q3035=\"a-Si (single)\",$Q3035=\"a-Si (tandem)\",$Q3035=\"a-Si (triple)\"),3,2))))","v":1},0,null,null,18995,null,null,3034]
["Cotech Solar Group Limited CS6M12-100","Cotech Solar Group Limited ","CS6M12-100",100,"+3...-3",17.3,5.79,21.5,6.46,-75.25,3.8759999999999999,-0.45,1000,"China",null,9.9817132949829102,"mono",36,"pseudo-square",1482,676,35,"aluminum","junction box",12.5,"www.cotechsolar.com","-","-","-","-","-",{"$f":"IF($O3063=\"Sunpower Corp.\",3,(IF(OR($Q3063=\"mono\",$Q3063=\"poly\",$Q3063=\"HIT\",$Q3063=\"EFG\",$Q3063=\"mono-LGBC\"),1,IF(OR($Q3063=\"µc-Si / a-Si\",$Q3063=\"a-Si (single)\",$Q3063=\"a-Si (tandem)\",$Q3063=\"a-Si (triple)\"),3,2))))","v":1},{"$f":"IF($O3063=\"Sunpower Corp.\",3,(IF(OR($Q3063=\"mono\",$Q3063=\"poly\",$Q3063=\"HIT\",$Q3063=\"EFG\",$Q3063=\"mono-LGBC\"),1,2)))","v":1},{"$f":"IF($O3063=\"Sunpower Corp.\",3,(IF(OR($Q3063=\"mono\",$Q3063=\"poly\",$Q3063=\"HIT\",$Q3063=\"EFG\",$Q3063=\"mono-LGBC\"),1,IF(OR($Q3063=\"µc-Si / a-Si\",$Q3063=\"a-Si (single)\",$Q3063=\"a-Si (tandem)\",$Q3063=\"a-Si (triple)\"),3,2))))","v":1},0,null,null,19049,null,null,3062]
["Cotech Solar Group Limited CS6M20-200","Cotech Solar Group Limited ","CS6M20-200",200,"+3...-3",28.9,6.93,36.200000000000003,7.68,-126.7,4.6079999999999997,-0.45,1000,"China",null,12.323530197143555,"mono",60,"pseudo-square",1636,992,45,"aluminum","junction box",19.5,"www.cotechsolar.com","-","-","-","-","-",{"$f":"IF($O3080=\"Sunpower Corp.\",3,(IF(OR($Q3080=\"mono\",$Q3080=\"poly\",$Q3080=\"HIT\",$Q3080=\"EFG\",$Q3080=\"mono-LGBC\"),1,IF(OR($Q3080=\"µc-Si / a-Si\",$Q3080=\"a-Si (single)\",$Q3080=\"a-Si (tandem)\",$Q3080=\"a-Si (triple)\"),3,2))))","v":1},{"$f":"IF($O3080=\"Sunpower Corp.\",3,(IF(OR($Q3080=\"mono\",$Q3080=\"poly\",$Q3080=\"HIT\",$Q3080=\"EFG\",$Q3080=\"mono-LGBC\"),1,2)))","v":1},{"$f":"IF($O3080=\"Sunpower Corp.\",3,(IF(OR($Q3080=\"mono\",$Q3080=\"poly\",$Q3080=\"HIT\",$Q3080=\"EFG\",$Q3080=\"mono-LGBC\"),1,IF(OR($Q3080=\"µc-Si / a-Si\",$Q3080=\"a-Si (single)\",$Q3080=\"a-Si (tandem)\",$Q3080=\"a-Si (triple)\"),3,2))))","v":1},0,null,null,19073,null,null,3079]
["Cotech Solar Group Limited CS6P12-70","Cotech Solar Group Limited ","CS6P12-70",70,"+3...-3",17.7,3.95,22.3,4.22,-78.05,2.5319999999999996,-0.45,1000,"China",null,13.652810096740723,"poly",36,"rectangular",771,665,30,"aluminum","junction box",6.2,"www.cotechsolar.com","-","-","-","-","-",{"$f":"IF($O3102=\"Sunpower Corp.\",3,(IF(OR($Q3102=\"mono\",$Q3102=\"poly\",$Q3102=\"HIT\",$Q3102=\"EFG\",$Q3102=\"mono-LGBC\"),1,IF(OR($Q3102=\"µc-Si / a-Si\",$Q3102=\"a-Si (single)\",$Q3102=\"a-Si (tandem)\",$Q3102=\"a-Si (triple)\"),3,2))))","v":1},{"$f":"IF($O3102=\"Sunpower Corp.\",3,(IF(OR($Q3102=\"mono\",$Q3102=\"poly\",$Q3102=\"HIT\",$Q3102=\"EFG\",$Q3102=\"mono-LGBC\"),1,2)))","v":1},{"$f":"IF($O3102=\"Sunpower Corp.\",3,(IF(OR($Q3102=\"mono\",$Q3102=\"poly\",$Q3102=\"HIT\",$Q3102=\"EFG\",$Q3102=\"mono-LGBC\"),1,IF(OR($Q3102=\"µc-Si / a-Si\",$Q3102=\"a-Si (single)\",$Q3102=\"a-Si (tandem)\",$Q3102=\"a-Si (triple)\"),3,2))))","v":1},0,null,null,19102,null,null,3101]
["Cotech Solar Group Limited CS6P24-290","Cotech Solar Group Limited ","CS6P24-290",290,"+3...-3",37.200000000000003,7.79,37,8.01,-129.5,4.8059999999999992,-0.45,1000,"China",null,14.94573974609375,"poly",72,"square",1956,992,50,"aluminum","junction box",27,"www.cotechsolar.com","-","-","-","-","-",{"$f":"IF($O3125=\"Sunpower Corp.\",3,(IF(OR($Q3125=\"mono\",$Q3125=\"poly\",$Q3125=\"HIT\",$Q3125=\"EFG\",$Q3125=\"mono-LGBC\"),1,IF(OR($Q3125=\"µc-Si / a-Si\",$Q3125=\"a-Si (single)\",$Q3125=\"a-Si (tandem)\",$Q3125=\"a-Si (triple)\"),3,2))))","v":1},{"$f":"IF($O3125=\"Sunpower Corp.\",3,(IF(OR($Q3125=\"mono\",$Q3125=\"poly\",$Q3125=\"HIT\",$Q3125=\"EFG\",$Q3125=\"mono-LGBC\"),1,2)))","v":1},{"$f":"IF($O3125=\"Sunpower Corp.\",3,(IF(OR($Q3125=\"mono\",$Q3125=\"poly\",$Q3125=\"HIT\",$Q3125=\"EFG\",$Q3125=\"mono-LGBC\"),1,IF(OR($Q3125=\"µc-Si / a-Si\",$Q3125=\"a-Si (single)\",$Q3125=\"a-Si (tandem)\",$Q3125=\"a-Si (triple)\"),3,2))))","v":1},0,null,null,19140,null,null,3124]
["CPI SOLAR Power Xi´An Co., Ltd. CPI6M-225","CPI SOLAR Power Xi´An Co., Ltd. ","CPI6M-225",225,"+...",28.87,7.79,36.979999999999997,8.26,-109.83059999999999,3.0561999999999996,-0.438,1000,null,null,13.83014965057373,"mono",60,"pseudo-square",1640,992,50,"aluminum",null,20,"www.cpisolar.com","-","-","-","-","-",{"$f":"IF($O3128=\"Sunpower Corp.\",3,(IF(OR($Q3128=\"mono\",$Q3128=\"poly\",$Q3128=\"HIT\",$Q3128=\"EFG\",$Q3128=\"mono-LGBC\"),1,IF(OR($Q3128=\"µc-Si / a-Si\",$Q3128=\"a-Si (single)\",$Q3128=\"a-Si (tandem)\",$Q3128=\"a-Si (triple)\"),3,2))))","v":1},{"$f":"IF($O3128=\"Sunpower Corp.\",3,(IF(OR($Q3128=\"mono\",$Q3128=\"poly\",$Q3128=\"HIT\",$Q3128=\"EFG\",$Q3128=\"mono-LGBC\"),1,2)))","v":1},{"$f":"IF($O3128=\"Sunpower Corp.\",3,(IF(OR($Q3128=\"mono\",$Q3128=\"poly\",$Q3128=\"HIT\",$Q3128=\"EFG\",$Q3128=\"mono-LGBC\"),1,IF(OR($Q3128=\"µc-Si / a-Si\",$Q3128=\"a-Si (single)\",$Q3128=\"a-Si (tandem)\",$Q3128=\"a-Si (triple)\"),3,2))))","v":1},0,null,null,34045,null,null,3127]
["CPI SOLAR Power Xi´An Co., Ltd. CPI6P-280","CPI SOLAR Power Xi´An Co., Ltd. ","CPI6P-280",280,"+...",35.58,7.87,45.32,8.56,-149.55599999999998,3.0815999999999999,-0.47,1000,null,null,14.430370330810547,"poly",72,"square",1956,992,50,"aluminum",null,25,"www.cpisolar.com","-","-","-","-","-",{"$f":"IF($O3150=\"Sunpower Corp.\",3,(IF(OR($Q3150=\"mono\",$Q3150=\"poly\",$Q3150=\"HIT\",$Q3150=\"EFG\",$Q3150=\"mono-LGBC\"),1,IF(OR($Q3150=\"µc-Si / a-Si\",$Q3150=\"a-Si (single)\",$Q3150=\"a-Si (tandem)\",$Q3150=\"a-Si (triple)\"),3,2))))","v":1},{"$f":"IF($O3150=\"Sunpower Corp.\",3,(IF(OR($Q3150=\"mono\",$Q3150=\"poly\",$Q3150=\"HIT\",$Q3150=\"EFG\",$Q3150=\"mono-LGBC\"),1,2)))","v":1},{"$f":"IF($O3150=\"Sunpower Corp.\",3,(IF(OR($Q3150=\"mono\",$Q3150=\"poly\",$Q3150=\"HIT\",$Q3150=\"EFG\",$Q3150=\"mono-LGBC\"),1,IF(OR($Q3150=\"µc-Si / a-Si\",$Q3150=\"a-Si (single)\",$Q3150=\"a-Si (tandem)\",$Q3150=\"a-Si (triple)\"),3,2))))","v":1},0,null,null,34067,null,null,3149]
["CP-Solar Co., Ltd. CPS185M Black","CP-Solar Co., Ltd. ","CPS185M Black",185,"+3...-3",36.9,5.01,44.5,5.31,-169.1,5.31,-0.5,1000,null,null,14.49116039276123,"mono",72,"pseudo-square",1580,808,40,"aluminum","junction box",14.8,"www.cp-solar.com","-","-","-","-","-",{"$f":"IF($O3173=\"Sunpower Corp.\",3,(IF(OR($Q3173=\"mono\",$Q3173=\"poly\",$Q3173=\"HIT\",$Q3173=\"EFG\",$Q3173=\"mono-LGBC\"),1,IF(OR($Q3173=\"µc-Si / a-Si\",$Q3173=\"a-Si (single)\",$Q3173=\"a-Si (tandem)\",$Q3173=\"a-Si (triple)\"),3,2))))","v":1},{"$f":"IF($O3173=\"Sunpower Corp.\",3,(IF(OR($Q3173=\"mono\",$Q3173=\"poly\",$Q3173=\"HIT\",$Q3173=\"EFG\",$Q3173=\"mono-LGBC\"),1,2)))","v":1},{"$f":"IF($O3173=\"Sunpower Corp.\",3,(IF(OR($Q3173=\"mono\",$Q3173=\"poly\",$Q3173=\"HIT\",$Q3173=\"EFG\",$Q3173=\"mono-LGBC\"),1,IF(OR($Q3173=\"µc-Si / a-Si\",$Q3173=\"a-Si (single)\",$Q3173=\"a-Si (tandem)\",$Q3173=\"a-Si (triple)\"),3,2))))","v":1},0,null,null,29300,null,null,3172]
["CP-Solar Co., Ltd. CPS240W (mono)","CP-Solar Co., Ltd. ","CPS240W (mono)",240,"+3...-3",48.6,4.9400000000000004,58.5,5.38,-222.3,3.4969999999999999,-0.3,1000,null,null,14.330069541931152,"mono",96,"pseudo-square",1580,1060,40,"aluminum","junction box",19.5,"www.cp-solar.com","-","-","-","-","-",{"$f":"IF($O3199=\"Sunpower Corp.\",3,(IF(OR($Q3199=\"mono\",$Q3199=\"poly\",$Q3199=\"HIT\",$Q3199=\"EFG\",$Q3199=\"mono-LGBC\"),1,IF(OR($Q3199=\"µc-Si / a-Si\",$Q3199=\"a-Si (single)\",$Q3199=\"a-Si (tandem)\",$Q3199=\"a-Si (triple)\"),3,2))))","v":1},{"$f":"IF($O3199=\"Sunpower Corp.\",3,(IF(OR($Q3199=\"mono\",$Q3199=\"poly\",$Q3199=\"HIT\",$Q3199=\"EFG\",$Q3199=\"mono-LGBC\"),1,2)))","v":1},{"$f":"IF($O3199=\"Sunpower Corp.\",3,(IF(OR($Q3199=\"mono\",$Q3199=\"poly\",$Q3199=\"HIT\",$Q3199=\"EFG\",$Q3199=\"mono-LGBC\"),1,IF(OR($Q3199=\"µc-Si / a-Si\",$Q3199=\"a-Si (single)\",$Q3199=\"a-Si (tandem)\",$Q3199=\"a-Si (triple)\"),3,2))))","v":1},0,null,null,15505,null,null,3198]
["Crown Renewable Energy CR130","Crown Renewable Energy ","CR130",130,"+10...-5",18.600000000000001,7,23.8,7.8,-69.02,4.68,-0.38,1000,"Asia",null,15.093950271606445,"mono",48,"pseudo-square",1082,796,35,"aluminum","junction box",12,"www.crownrenewables.com","-","-","-","-","-",{"$f":"IF($O3218=\"Sunpower Corp.\",3,(IF(OR($Q3218=\"mono\",$Q3218=\"poly\",$Q3218=\"HIT\",$Q3218=\"EFG\",$Q3218=\"mono-LGBC\"),1,IF(OR($Q3218=\"µc-Si / a-Si\",$Q3218=\"a-Si (single)\",$Q3218=\"a-Si (tandem)\",$Q3218=\"a-Si (triple)\"),3,2))))","v":1},{"$f":"IF($O3218=\"Sunpower Corp.\",3,(IF(OR($Q3218=\"mono\",$Q3218=\"poly\",$Q3218=\"HIT\",$Q3218=\"EFG\",$Q3218=\"mono-LGBC\"),1,2)))","v":1},{"$f":"IF($O3218=\"Sunpower Corp.\",3,(IF(OR($Q3218=\"mono\",$Q3218=\"poly\",$Q3218=\"HIT\",$Q3218=\"EFG\",$Q3218=\"mono-LGBC\"),1,IF(OR($Q3218=\"µc-Si / a-Si\",$Q3218=\"a-Si (single)\",$Q3218=\"a-Si (tandem)\",$Q3218=\"a-Si (triple)\"),3,2))))","v":1},0,null,null,8311,null,null,3217]
["CSG PVTech CO.,LTD CSG210M2-30","CSG PVTech CO.,LTD ","CSG210M2-30",210,"+5...-3",29.7,7.07,36.1,7.77,-122.74,1.554,-0.48,1000,"China","CSG Solar AG",12.908140182495117,"poly",60,"square",1640,992,45,"aluminum","junction box MC4",19.600000000000001,"www.csgpvtech.com","-","-","-","-","-",{"$f":"IF($O3244=\"Sunpower Corp.\",3,(IF(OR($Q3244=\"mono\",$Q3244=\"poly\",$Q3244=\"HIT\",$Q3244=\"EFG\",$Q3244=\"mono-LGBC\"),1,IF(OR($Q3244=\"µc-Si / a-Si\",$Q3244=\"a-Si (single)\",$Q3244=\"a-Si (tandem)\",$Q3244=\"a-Si (triple)\"),3,2))))","v":1},{"$f":"IF($O3244=\"Sunpower Corp.\",3,(IF(OR($Q3244=\"mono\",$Q3244=\"poly\",$Q3244=\"HIT\",$Q3244=\"EFG\",$Q3244=\"mono-LGBC\"),1,2)))","v":1},{"$f":"IF($O3244=\"Sunpower Corp.\",3,(IF(OR($Q3244=\"mono\",$Q3244=\"poly\",$Q3244=\"HIT\",$Q3244=\"EFG\",$Q3244=\"mono-LGBC\"),1,IF(OR($Q3244=\"µc-Si / a-Si\",$Q3244=\"a-Si (single)\",$Q3244=\"a-Si (tandem)\",$Q3244=\"a-Si (triple)\"),3,2))))","v":1},0,null,null,12529,null,null,3243]
["CSG PVTech CO.,LTD CSG265S2-36","CSG PVTech CO.,LTD ","CSG265S2-36",265,"+5...-3",35.5,7.46,43.5,8.15,-147.9,1.63,-0.48,1000,"China","CSG Solar AG",13.657320022583008,"mono",72,"pseudo-square",1956,992,50,"aluminum","junction box MC4",23.2,"www.csgpvtech.com","-","-","-","-","-",{"$f":"IF($O3257=\"Sunpower Corp.\",3,(IF(OR($Q3257=\"mono\",$Q3257=\"poly\",$Q3257=\"HIT\",$Q3257=\"EFG\",$Q3257=\"mono-LGBC\"),1,IF(OR($Q3257=\"µc-Si / a-Si\",$Q3257=\"a-Si (single)\",$Q3257=\"a-Si (tandem)\",$Q3257=\"a-Si (triple)\"),3,2))))","v":1},{"$f":"IF($O3257=\"Sunpower Corp.\",3,(IF(OR($Q3257=\"mono\",$Q3257=\"poly\",$Q3257=\"HIT\",$Q3257=\"EFG\",$Q3257=\"mono-LGBC\"),1,2)))","v":1},{"$f":"IF($O3257=\"Sunpower Corp.\",3,(IF(OR($Q3257=\"mono\",$Q3257=\"poly\",$Q3257=\"HIT\",$Q3257=\"EFG\",$Q3257=\"mono-LGBC\"),1,IF(OR($Q3257=\"µc-Si / a-Si\",$Q3257=\"a-Si (single)\",$Q3257=\"a-Si (tandem)\",$Q3257=\"a-Si (triple)\"),3,2))))","v":1},0,null,null,12504,null,null,3256]
["CTI Solar Limited CTI-LSN165W","CTI Solar Limited ","CTI-LSN165W",165,"+3...-3",35.869999999999997,4.5999999999999996,43,4.9000000000000004,-163.4,4.9000000000000004,-0.47,1000,null,null,12.92455005645752,"mono",null,"pseudo-square",1580,808,35,"aluminum","junction box",19,"www.cti-solar.com","-","-","-","-","-",{"$f":"IF($O3269=\"Sunpower Corp.\",3,(IF(OR($Q3269=\"mono\",$Q3269=\"poly\",$Q3269=\"HIT\",$Q3269=\"EFG\",$Q3269=\"mono-LGBC\"),1,IF(OR($Q3269=\"µc-Si / a-Si\",$Q3269=\"a-Si (single)\",$Q3269=\"a-Si (tandem)\",$Q3269=\"a-Si (triple)\"),3,2))))","v":1},{"$f":"IF($O3269=\"Sunpower Corp.\",3,(IF(OR($Q3269=\"mono\",$Q3269=\"poly\",$Q3269=\"HIT\",$Q3269=\"EFG\",$Q3269=\"mono-LGBC\"),1,2)))","v":1},{"$f":"IF($O3269=\"Sunpower Corp.\",3,(IF(OR($Q3269=\"mono\",$Q3269=\"poly\",$Q3269=\"HIT\",$Q3269=\"EFG\",$Q3269=\"mono-LGBC\"),1,IF(OR($Q3269=\"µc-Si / a-Si\",$Q3269=\"a-Si (single)\",$Q3269=\"a-Si (tandem)\",$Q3269=\"a-Si (triple)\"),3,2))))","v":1},0,null,null,9272,null,null,3268]
["Daqo New Energy Co., Ltd DQ200PSBa/b","Daqo New Energy Co., Ltd ","DQ200PSBa/b",200,"+3...-3",26.9,7.44,32.799999999999997,8.24,-108.24,4.944,-0.46,1000,"China",null,13.604109764099121,"poly",54,"square",1482,992,45,"aluminum","junction box",17,"www.dqsolar.com","-","-","-","-","-",{"$f":"IF($O3302=\"Sunpower Corp.\",3,(IF(OR($Q3302=\"mono\",$Q3302=\"poly\",$Q3302=\"HIT\",$Q3302=\"EFG\",$Q3302=\"mono-LGBC\"),1,IF(OR($Q3302=\"µc-Si / a-Si\",$Q3302=\"a-Si (single)\",$Q3302=\"a-Si (tandem)\",$Q3302=\"a-Si (triple)\"),3,2))))","v":1},{"$f":"IF($O3302=\"Sunpower Corp.\",3,(IF(OR($Q3302=\"mono\",$Q3302=\"poly\",$Q3302=\"HIT\",$Q3302=\"EFG\",$Q3302=\"mono-LGBC\"),1,2)))","v":1},{"$f":"IF($O3302=\"Sunpower Corp.\",3,(IF(OR($Q3302=\"mono\",$Q3302=\"poly\",$Q3302=\"HIT\",$Q3302=\"EFG\",$Q3302=\"mono-LGBC\"),1,IF(OR($Q3302=\"µc-Si / a-Si\",$Q3302=\"a-Si (single)\",$Q3302=\"a-Si (tandem)\",$Q3302=\"a-Si (triple)\"),3,2))))","v":1},0,null,null,30912,null,null,3301]
["Daqo New Energy Co., Ltd DQ215PSCa/b","Daqo New Energy Co., Ltd ","DQ215PSCa/b",215,"+3...-3",29.7,7.24,36.4,7.98,-120.12,4.7879999999999994,-0.46,1000,"China",null,13.215479850769043,"poly",60,"square",1640,992,45,"aluminum","junction box",19,"www.dqsolar.com","-","-","-","-","-",{"$f":"IF($O3314=\"Sunpower Corp.\",3,(IF(OR($Q3314=\"mono\",$Q3314=\"poly\",$Q3314=\"HIT\",$Q3314=\"EFG\",$Q3314=\"mono-LGBC\"),1,IF(OR($Q3314=\"µc-Si / a-Si\",$Q3314=\"a-Si (single)\",$Q3314=\"a-Si (tandem)\",$Q3314=\"a-Si (triple)\"),3,2))))","v":1},{"$f":"IF($O3314=\"Sunpower Corp.\",3,(IF(OR($Q3314=\"mono\",$Q3314=\"poly\",$Q3314=\"HIT\",$Q3314=\"EFG\",$Q3314=\"mono-LGBC\"),1,2)))","v":1},{"$f":"IF($O3314=\"Sunpower Corp.\",3,(IF(OR($Q3314=\"mono\",$Q3314=\"poly\",$Q3314=\"HIT\",$Q3314=\"EFG\",$Q3314=\"mono-LGBC\"),1,IF(OR($Q3314=\"µc-Si / a-Si\",$Q3314=\"a-Si (single)\",$Q3314=\"a-Si (tandem)\",$Q3314=\"a-Si (triple)\"),3,2))))","v":1},0,null,null,30924,null,null,3313]
["DAY4 Energy Inc. Day4 48MC 160","DAY4 Energy Inc. ","Day4 48MC 160",160,"+3,5...-3,5",22.62,7.08,28.3,7.7,-90.56,4.62,-0.43,1000,"Canada","diverse",12.352950096130371,"poly",48,"square",1307,991,35,"aluminum","junction box",17.399999999999999,"www.day4energy.com","-","-","-","-","-",{"$f":"IF($O3328=\"Sunpower Corp.\",3,(IF(OR($Q3328=\"mono\",$Q3328=\"poly\",$Q3328=\"HIT\",$Q3328=\"EFG\",$Q3328=\"mono-LGBC\"),1,IF(OR($Q3328=\"µc-Si / a-Si\",$Q3328=\"a-Si (single)\",$Q3328=\"a-Si (tandem)\",$Q3328=\"a-Si (triple)\"),3,2))))","v":1},{"$f":"IF($O3328=\"Sunpower Corp.\",3,(IF(OR($Q3328=\"mono\",$Q3328=\"poly\",$Q3328=\"HIT\",$Q3328=\"EFG\",$Q3328=\"mono-LGBC\"),1,2)))","v":1},{"$f":"IF($O3328=\"Sunpower Corp.\",3,(IF(OR($Q3328=\"mono\",$Q3328=\"poly\",$Q3328=\"HIT\",$Q3328=\"EFG\",$Q3328=\"mono-LGBC\"),1,IF(OR($Q3328=\"µc-Si / a-Si\",$Q3328=\"a-Si (single)\",$Q3328=\"a-Si (tandem)\",$Q3328=\"a-Si (triple)\"),3,2))))","v":1},0,null,null,3618,null,null,3327]
["DAY4 Energy Inc. Day4 48MC-I 190","DAY4 Energy Inc. ","Day4 48MC-I 190",190,"+3,5...0",24,7.9,29.7,8.3000000000000007,-95.04,4.9800000000000004,-0.43,1000,"Canada","diverse",14.070650100708008,"poly",48,"square",1333,1013,40,"aluminum","junction box",19,"www.day4energy.com","-","-","-","-","-",{"$f":"IF($O3343=\"Sunpower Corp.\",3,(IF(OR($Q3343=\"mono\",$Q3343=\"poly\",$Q3343=\"HIT\",$Q3343=\"EFG\",$Q3343=\"mono-LGBC\"),1,IF(OR($Q3343=\"µc-Si / a-Si\",$Q3343=\"a-Si (single)\",$Q3343=\"a-Si (tandem)\",$Q3343=\"a-Si (triple)\"),3,2))))","v":1},{"$f":"IF($O3343=\"Sunpower Corp.\",3,(IF(OR($Q3343=\"mono\",$Q3343=\"poly\",$Q3343=\"HIT\",$Q3343=\"EFG\",$Q3343=\"mono-LGBC\"),1,2)))","v":1},{"$f":"IF($O3343=\"Sunpower Corp.\",3,(IF(OR($Q3343=\"mono\",$Q3343=\"poly\",$Q3343=\"HIT\",$Q3343=\"EFG\",$Q3343=\"mono-LGBC\"),1,IF(OR($Q3343=\"µc-Si / a-Si\",$Q3343=\"a-Si (single)\",$Q3343=\"a-Si (tandem)\",$Q3343=\"a-Si (triple)\"),3,2))))","v":1},0,null,null,15212,null,null,3342]
["DDTech Srl DDP100M405","DDTech Srl ","DDP100M405",100,"+3...-3",19.55,5.14,24.41,5.64,-85.435000000000002,2.82,-0.49,1000,"Spain",null,12.261810302734375,"mono",40,"pseudo-square",1348,605,35,"aluminum","junction box MC",10,"www.groupddtech.com","-","-","-","-","-",{"$f":"IF($O3373=\"Sunpower Corp.\",3,(IF(OR($Q3373=\"mono\",$Q3373=\"poly\",$Q3373=\"HIT\",$Q3373=\"EFG\",$Q3373=\"mono-LGBC\"),1,IF(OR($Q3373=\"µc-Si / a-Si\",$Q3373=\"a-Si (single)\",$Q3373=\"a-Si (tandem)\",$Q3373=\"a-Si (triple)\"),3,2))))","v":1},{"$f":"IF($O3373=\"Sunpower Corp.\",3,(IF(OR($Q3373=\"mono\",$Q3373=\"poly\",$Q3373=\"HIT\",$Q3373=\"EFG\",$Q3373=\"mono-LGBC\"),1,2)))","v":1},{"$f":"IF($O3373=\"Sunpower Corp.\",3,(IF(OR($Q3373=\"mono\",$Q3373=\"poly\",$Q3373=\"HIT\",$Q3373=\"EFG\",$Q3373=\"mono-LGBC\"),1,IF(OR($Q3373=\"µc-Si / a-Si\",$Q3373=\"a-Si (single)\",$Q3373=\"a-Si (tandem)\",$Q3373=\"a-Si (triple)\"),3,2))))","v":1},0,null,null,29270,null,null,3372]
["DDTech Srl DDP180-M-72 (190)","DDTech Srl ","DDP180-M-72 (190)",190,"+3...-3",36.4,5.2,44.8,5.62,-170.24,5.62,-0.47,1000,null,null,14.882820129394531,"mono",72,"pseudo-square",1580,808,40,"aluminum","junction box MC",16,"www.groupddtech.com","-","-","-","-","-",{"$f":"IF($O3388=\"Sunpower Corp.\",3,(IF(OR($Q3388=\"mono\",$Q3388=\"poly\",$Q3388=\"HIT\",$Q3388=\"EFG\",$Q3388=\"mono-LGBC\"),1,IF(OR($Q3388=\"µc-Si / a-Si\",$Q3388=\"a-Si (single)\",$Q3388=\"a-Si (tandem)\",$Q3388=\"a-Si (triple)\"),3,2))))","v":1},{"$f":"IF($O3388=\"Sunpower Corp.\",3,(IF(OR($Q3388=\"mono\",$Q3388=\"poly\",$Q3388=\"HIT\",$Q3388=\"EFG\",$Q3388=\"mono-LGBC\"),1,2)))","v":1},{"$f":"IF($O3388=\"Sunpower Corp.\",3,(IF(OR($Q3388=\"mono\",$Q3388=\"poly\",$Q3388=\"HIT\",$Q3388=\"EFG\",$Q3388=\"mono-LGBC\"),1,IF(OR($Q3388=\"µc-Si / a-Si\",$Q3388=\"a-Si (single)\",$Q3388=\"a-Si (tandem)\",$Q3388=\"a-Si (triple)\"),3,2))))","v":1},0,null,null,23051,null,null,3387]
["DDTech Srl DDP220-P-60 (200)","DDTech Srl ","DDP220-P-60 (200)",200,"+3...-3",28.6,6.98,36.5,7.65,-116.8,6.12,-0.38,1000,null,null,12.318309783935547,"poly",60,"square",1640,990,50,"aluminum","junction box MC",21,"www.groupddtech.com","-","-","-","-","-",{"$f":"IF($O3412=\"Sunpower Corp.\",3,(IF(OR($Q3412=\"mono\",$Q3412=\"poly\",$Q3412=\"HIT\",$Q3412=\"EFG\",$Q3412=\"mono-LGBC\"),1,IF(OR($Q3412=\"µc-Si / a-Si\",$Q3412=\"a-Si (single)\",$Q3412=\"a-Si (tandem)\",$Q3412=\"a-Si (triple)\"),3,2))))","v":1},{"$f":"IF($O3412=\"Sunpower Corp.\",3,(IF(OR($Q3412=\"mono\",$Q3412=\"poly\",$Q3412=\"HIT\",$Q3412=\"EFG\",$Q3412=\"mono-LGBC\"),1,2)))","v":1},{"$f":"IF($O3412=\"Sunpower Corp.\",3,(IF(OR($Q3412=\"mono\",$Q3412=\"poly\",$Q3412=\"HIT\",$Q3412=\"EFG\",$Q3412=\"mono-LGBC\"),1,IF(OR($Q3412=\"µc-Si / a-Si\",$Q3412=\"a-Si (single)\",$Q3412=\"a-Si (tandem)\",$Q3412=\"a-Si (triple)\"),3,2))))","v":1},0,null,null,23020,null,null,3411]
["DDTech Srl DDP280-M72 (280)","DDTech Srl ","DDP280-M72 (280)",280,"+3...-3",35.299999999999997,7.93,44.8,8.33,-152.32,7.4969999999999999,-0.37,1000,null,null,14.45952033996582,"mono",72,"pseudo-square",1956,990,50,"aluminum","junction box MC",24,"www.groupddtech.com","-","-","-","-","-",{"$f":"IF($O3433=\"Sunpower Corp.\",3,(IF(OR($Q3433=\"mono\",$Q3433=\"poly\",$Q3433=\"HIT\",$Q3433=\"EFG\",$Q3433=\"mono-LGBC\"),1,IF(OR($Q3433=\"µc-Si / a-Si\",$Q3433=\"a-Si (single)\",$Q3433=\"a-Si (tandem)\",$Q3433=\"a-Si (triple)\"),3,2))))","v":1},{"$f":"IF($O3433=\"Sunpower Corp.\",3,(IF(OR($Q3433=\"mono\",$Q3433=\"poly\",$Q3433=\"HIT\",$Q3433=\"EFG\",$Q3433=\"mono-LGBC\"),1,2)))","v":1},{"$f":"IF($O3433=\"Sunpower Corp.\",3,(IF(OR($Q3433=\"mono\",$Q3433=\"poly\",$Q3433=\"HIT\",$Q3433=\"EFG\",$Q3433=\"mono-LGBC\"),1,IF(OR($Q3433=\"µc-Si / a-Si\",$Q3433=\"a-Si (single)\",$Q3433=\"a-Si (tandem)\",$Q3433=\"a-Si (triple)\"),3,2))))","v":1},0,null,null,23055,null,null,3432]
["DelSolar Co. Ltd. D6M215B3A","DelSolar Co. Ltd. ","D6M215B3A",215,"+3...0",28.89,7.45,36,8.1999999999999993,-126.72,2.6240000000000001,-0.498,1000,"Taiwan (Formosa)","Delsolar",13.161919593811035,"mono",60,"pseudo-square",1650,990,50,"aluminum","junction box Tyco",20.5,"www.delsolarpv.com","-","-","-","-","-",{"$f":"IF($O3458=\"Sunpower Corp.\",3,(IF(OR($Q3458=\"mono\",$Q3458=\"poly\",$Q3458=\"HIT\",$Q3458=\"EFG\",$Q3458=\"mono-LGBC\"),1,IF(OR($Q3458=\"µc-Si / a-Si\",$Q3458=\"a-Si (single)\",$Q3458=\"a-Si (tandem)\",$Q3458=\"a-Si (triple)\"),3,2))))","v":1},{"$f":"IF($O3458=\"Sunpower Corp.\",3,(IF(OR($Q3458=\"mono\",$Q3458=\"poly\",$Q3458=\"HIT\",$Q3458=\"EFG\",$Q3458=\"mono-LGBC\"),1,2)))","v":1},{"$f":"IF($O3458=\"Sunpower Corp.\",3,(IF(OR($Q3458=\"mono\",$Q3458=\"poly\",$Q3458=\"HIT\",$Q3458=\"EFG\",$Q3458=\"mono-LGBC\"),1,IF(OR($Q3458=\"µc-Si / a-Si\",$Q3458=\"a-Si (single)\",$Q3458=\"a-Si (tandem)\",$Q3458=\"a-Si (triple)\"),3,2))))","v":1},0,null,null,14159,null,null,3457]
["DelSolar Co. Ltd. D6M230B3A","DelSolar Co. Ltd. ","D6M230B3A",230,"+3...0",29.3,7.85,36.67,8.48,-129.07839999999999,2.7136000000000005,-0.498,1000,"Taiwan (Formosa)","Delsolar",14.0802001953125,"mono",60,"pseudo-square",1650,990,50,"aluminum","junction box Tyco",20.5,"www.delsolarpv.com","-","-","-","-","-",{"$f":"IF($O3464=\"Sunpower Corp.\",3,(IF(OR($Q3464=\"mono\",$Q3464=\"poly\",$Q3464=\"HIT\",$Q3464=\"EFG\",$Q3464=\"mono-LGBC\"),1,IF(OR($Q3464=\"µc-Si / a-Si\",$Q3464=\"a-Si (single)\",$Q3464=\"a-Si (tandem)\",$Q3464=\"a-Si (triple)\"),3,2))))","v":1},{"$f":"IF($O3464=\"Sunpower Corp.\",3,(IF(OR($Q3464=\"mono\",$Q3464=\"poly\",$Q3464=\"HIT\",$Q3464=\"EFG\",$Q3464=\"mono-LGBC\"),1,2)))","v":1},{"$f":"IF($O3464=\"Sunpower Corp.\",3,(IF(OR($Q3464=\"mono\",$Q3464=\"poly\",$Q3464=\"HIT\",$Q3464=\"EFG\",$Q3464=\"mono-LGBC\"),1,IF(OR($Q3464=\"µc-Si / a-Si\",$Q3464=\"a-Si (single)\",$Q3464=\"a-Si (tandem)\",$Q3464=\"a-Si (triple)\"),3,2))))","v":1},0,null,null,14162,null,null,3463]
["DelSolar Co. Ltd. D6P200A5A","DelSolar Co. Ltd. ","D6P200A5A",200,"+3...0",25.93,7.71,33.090000000000003,8.34,-116.8077,4.0865999999999998,-0.47199999999999998,1000,"Taiwan (Formosa)","Delsolar",13.55840015411377,"poly",54,"square",1490,990,50,"aluminum","junction box",19,"www.delsolarpv.com","-","-","-","-","-",{"$f":"IF($O3483=\"Sunpower Corp.\",3,(IF(OR($Q3483=\"mono\",$Q3483=\"poly\",$Q3483=\"HIT\",$Q3483=\"EFG\",$Q3483=\"mono-LGBC\"),1,IF(OR($Q3483=\"µc-Si / a-Si\",$Q3483=\"a-Si (single)\",$Q3483=\"a-Si (tandem)\",$Q3483=\"a-Si (triple)\"),3,2))))","v":1},{"$f":"IF($O3483=\"Sunpower Corp.\",3,(IF(OR($Q3483=\"mono\",$Q3483=\"poly\",$Q3483=\"HIT\",$Q3483=\"EFG\",$Q3483=\"mono-LGBC\"),1,2)))","v":1},{"$f":"IF($O3483=\"Sunpower Corp.\",3,(IF(OR($Q3483=\"mono\",$Q3483=\"poly\",$Q3483=\"HIT\",$Q3483=\"EFG\",$Q3483=\"mono-LGBC\"),1,IF(OR($Q3483=\"µc-Si / a-Si\",$Q3483=\"a-Si (single)\",$Q3483=\"a-Si (tandem)\",$Q3483=\"a-Si (triple)\"),3,2))))","v":1},0,null,null,25065,null,null,3482]
["DelSolar Co. Ltd. D6P240B3A","DelSolar Co. Ltd. ","D6P240B3A",240,"+3...0",30.35,7.91,37.83,8.3800000000000008,-133.16159999999999,2.6816000000000004,-0.498,1000,"Taiwan (Formosa)","Delsolar",14.692379951477051,"poly",60,"square",1650,990,50,"aluminum","junction box Tyco",20.5,"www.delsolarpv.com","-","-","-","-","-",{"$f":"IF($O3503=\"Sunpower Corp.\",3,(IF(OR($Q3503=\"mono\",$Q3503=\"poly\",$Q3503=\"HIT\",$Q3503=\"EFG\",$Q3503=\"mono-LGBC\"),1,IF(OR($Q3503=\"µc-Si / a-Si\",$Q3503=\"a-Si (single)\",$Q3503=\"a-Si (tandem)\",$Q3503=\"a-Si (triple)\"),3,2))))","v":1},{"$f":"IF($O3503=\"Sunpower Corp.\",3,(IF(OR($Q3503=\"mono\",$Q3503=\"poly\",$Q3503=\"HIT\",$Q3503=\"EFG\",$Q3503=\"mono-LGBC\"),1,2)))","v":1},{"$f":"IF($O3503=\"Sunpower Corp.\",3,(IF(OR($Q3503=\"mono\",$Q3503=\"poly\",$Q3503=\"HIT\",$Q3503=\"EFG\",$Q3503=\"mono-LGBC\"),1,IF(OR($Q3503=\"µc-Si / a-Si\",$Q3503=\"a-Si (single)\",$Q3503=\"a-Si (tandem)\",$Q3503=\"a-Si (triple)\"),3,2))))","v":1},0,null,null,14148,null,null,3502]
["DGEnergy DG6M54/195","DGEnergy ","DG6M54/195",195,"+3...-3",26.96,7.24,32.85,7.79,-111.69,3.895,-0.44,1000,"Italy","Gintech",13.16193962097168,"poly",54,"square",1495,991,45,"aluminum","junction box",21,"www.dgenergy.it","-","-","-","-","-",{"$f":"IF($O3528=\"Sunpower Corp.\",3,(IF(OR($Q3528=\"mono\",$Q3528=\"poly\",$Q3528=\"HIT\",$Q3528=\"EFG\",$Q3528=\"mono-LGBC\"),1,IF(OR($Q3528=\"µc-Si / a-Si\",$Q3528=\"a-Si (single)\",$Q3528=\"a-Si (tandem)\",$Q3528=\"a-Si (triple)\"),3,2))))","v":1},{"$f":"IF($O3528=\"Sunpower Corp.\",3,(IF(OR($Q3528=\"mono\",$Q3528=\"poly\",$Q3528=\"HIT\",$Q3528=\"EFG\",$Q3528=\"mono-LGBC\"),1,2)))","v":1},{"$f":"IF($O3528=\"Sunpower Corp.\",3,(IF(OR($Q3528=\"mono\",$Q3528=\"poly\",$Q3528=\"HIT\",$Q3528=\"EFG\",$Q3528=\"mono-LGBC\"),1,IF(OR($Q3528=\"µc-Si / a-Si\",$Q3528=\"a-Si (single)\",$Q3528=\"a-Si (tandem)\",$Q3528=\"a-Si (triple)\"),3,2))))","v":1},0,null,null,6164,null,null,3527]
["DJ Solar Co., Ltd. DJS-200P 200W","DJ Solar Co., Ltd. ","DJS-200P 200W",200,"+3...-3",27.86,7.18,36.6,7.74,-117.12,2.3220000000000001,-0.42,1000,null,null,12.050559997558594,"poly",60,"square",1663,998,35,null,"junction box",21.5,"www.dajing.com.tw","-","-","-","-","-",{"$f":"IF($O3548=\"Sunpower Corp.\",3,(IF(OR($Q3548=\"mono\",$Q3548=\"poly\",$Q3548=\"HIT\",$Q3548=\"EFG\",$Q3548=\"mono-LGBC\"),1,IF(OR($Q3548=\"µc-Si / a-Si\",$Q3548=\"a-Si (single)\",$Q3548=\"a-Si (tandem)\",$Q3548=\"a-Si (triple)\"),3,2))))","v":1},{"$f":"IF($O3548=\"Sunpower Corp.\",3,(IF(OR($Q3548=\"mono\",$Q3548=\"poly\",$Q3548=\"HIT\",$Q3548=\"EFG\",$Q3548=\"mono-LGBC\"),1,2)))","v":1},{"$f":"IF($O3548=\"Sunpower Corp.\",3,(IF(OR($Q3548=\"mono\",$Q3548=\"poly\",$Q3548=\"HIT\",$Q3548=\"EFG\",$Q3548=\"mono-LGBC\"),1,IF(OR($Q3548=\"µc-Si / a-Si\",$Q3548=\"a-Si (single)\",$Q3548=\"a-Si (tandem)\",$Q3548=\"a-Si (triple)\"),3,2))))","v":1},0,null,null,20732,null,null,3547]
["Dongguan Quoncion Solar Energy Lighting Co.,Ltd. QSP156-220X","Dongguan Quoncion Solar Energy Lighting Co.,Ltd. ","QSP156-220X",220,"+3...-3",30,7.33,36.479999999999997,7.93,-124.032,7.1369999999999996,-0.37,1000,null,null,13.306360244750977,"poly",60,"square",1655,999,47,null,"junction box Tyco",22.9,null,"-","-","-","-","-",{"$f":"IF($O3573=\"Sunpower Corp.\",3,(IF(OR($Q3573=\"mono\",$Q3573=\"poly\",$Q3573=\"HIT\",$Q3573=\"EFG\",$Q3573=\"mono-LGBC\"),1,IF(OR($Q3573=\"µc-Si / a-Si\",$Q3573=\"a-Si (single)\",$Q3573=\"a-Si (tandem)\",$Q3573=\"a-Si (triple)\"),3,2))))","v":1},{"$f":"IF($O3573=\"Sunpower Corp.\",3,(IF(OR($Q3573=\"mono\",$Q3573=\"poly\",$Q3573=\"HIT\",$Q3573=\"EFG\",$Q3573=\"mono-LGBC\"),1,2)))","v":1},{"$f":"IF($O3573=\"Sunpower Corp.\",3,(IF(OR($Q3573=\"mono\",$Q3573=\"poly\",$Q3573=\"HIT\",$Q3573=\"EFG\",$Q3573=\"mono-LGBC\"),1,IF(OR($Q3573=\"µc-Si / a-Si\",$Q3573=\"a-Si (single)\",$Q3573=\"a-Si (tandem)\",$Q3573=\"a-Si (triple)\"),3,2))))","v":1},0,null,null,5574,null,null,3572]
["Dongying Fuda Solar Power Co., Ltd. FUDA-240P","Dongying Fuda Solar Power Co., Ltd. ","FUDA-240P",240,"+3...-3",30.8,7.8,37.4,8.4,-130.9,4.2,-0.45,1000,null,null,14.662759780883789,"poly",60,"square",1650,992,46,"aluminum","junction box MC4",19.5,"www.fuda-solarpower.com","-","-","-","-","-",{"$f":"IF($O3593=\"Sunpower Corp.\",3,(IF(OR($Q3593=\"mono\",$Q3593=\"poly\",$Q3593=\"HIT\",$Q3593=\"EFG\",$Q3593=\"mono-LGBC\"),1,IF(OR($Q3593=\"µc-Si / a-Si\",$Q3593=\"a-Si (single)\",$Q3593=\"a-Si (tandem)\",$Q3593=\"a-Si (triple)\"),3,2))))","v":1},{"$f":"IF($O3593=\"Sunpower Corp.\",3,(IF(OR($Q3593=\"mono\",$Q3593=\"poly\",$Q3593=\"HIT\",$Q3593=\"EFG\",$Q3593=\"mono-LGBC\"),1,2)))","v":1},{"$f":"IF($O3593=\"Sunpower Corp.\",3,(IF(OR($Q3593=\"mono\",$Q3593=\"poly\",$Q3593=\"HIT\",$Q3593=\"EFG\",$Q3593=\"mono-LGBC\"),1,IF(OR($Q3593=\"µc-Si / a-Si\",$Q3593=\"a-Si (single)\",$Q3593=\"a-Si (tandem)\",$Q3593=\"a-Si (triple)\"),3,2))))","v":1},0,null,null,19965,null,null,3592]
["Dongying Fuda Solar Power Co., Ltd. FUDA-300M","Dongying Fuda Solar Power Co., Ltd. ","FUDA-300M",300,"+3...-3",37.5,8,45,8.6,-157.5,4.3,-0.45,1000,null,null,15.390299797058105,"mono",72,"pseudo-square",1965,992,50,"aluminum","junction box MC4",25,"www.fuda-solarpower.com","-","-","-","-","-",{"$f":"IF($O3602=\"Sunpower Corp.\",3,(IF(OR($Q3602=\"mono\",$Q3602=\"poly\",$Q3602=\"HIT\",$Q3602=\"EFG\",$Q3602=\"mono-LGBC\"),1,IF(OR($Q3602=\"µc-Si / a-Si\",$Q3602=\"a-Si (single)\",$Q3602=\"a-Si (tandem)\",$Q3602=\"a-Si (triple)\"),3,2))))","v":1},{"$f":"IF($O3602=\"Sunpower Corp.\",3,(IF(OR($Q3602=\"mono\",$Q3602=\"poly\",$Q3602=\"HIT\",$Q3602=\"EFG\",$Q3602=\"mono-LGBC\"),1,2)))","v":1},{"$f":"IF($O3602=\"Sunpower Corp.\",3,(IF(OR($Q3602=\"mono\",$Q3602=\"poly\",$Q3602=\"HIT\",$Q3602=\"EFG\",$Q3602=\"mono-LGBC\"),1,IF(OR($Q3602=\"µc-Si / a-Si\",$Q3602=\"a-Si (single)\",$Q3602=\"a-Si (tandem)\",$Q3602=\"a-Si (triple)\"),3,2))))","v":1},0,null,null,19975,null,null,3601]
["Du Pont Apollo Limited DA095-B","Du Pont Apollo Limited ","DA095-B",95,"+...",72.400000000000006,1.32,96.2,1.62,-288.60000000000002,1.4580000000000002,-0.25,1000,"-","-",6.1688308715820313,"a-Si (single)","-","-",1400,1100,7.6,"-","junction box",30,"-","-","-","-","-","-",{"$f":"IF($O3619=\"Sunpower Corp.\",3,(IF(OR($Q3619=\"mono\",$Q3619=\"poly\",$Q3619=\"HIT\",$Q3619=\"EFG\",$Q3619=\"mono-LGBC\"),1,IF(OR($Q3619=\"µc-Si / a-Si\",$Q3619=\"a-Si (single)\",$Q3619=\"a-Si (tandem)\",$Q3619=\"a-Si (triple)\"),3,2))))","v":3},{"$f":"IF($O3619=\"Sunpower Corp.\",3,(IF(OR($Q3619=\"mono\",$Q3619=\"poly\",$Q3619=\"HIT\",$Q3619=\"EFG\",$Q3619=\"mono-LGBC\"),1,2)))","v":2},{"$f":"IF($O3619=\"Sunpower Corp.\",3,(IF(OR($Q3619=\"mono\",$Q3619=\"poly\",$Q3619=\"HIT\",$Q3619=\"EFG\",$Q3619=\"mono-LGBC\"),1,IF(OR($Q3619=\"µc-Si / a-Si\",$Q3619=\"a-Si (single)\",$Q3619=\"a-Si (tandem)\",$Q3619=\"a-Si (triple)\"),3,2))))","v":3},0,null,null,23158,null,null,3618]
["E environment-energy GmbH sungreen 140P-AE","E environment-energy GmbH ","sungreen 140P-AE",140,"+3,6...",18.3,7.65,21.95,8.25,-76.166499999999985,4.5374999999999996,-0.48,1000,null,null,13.974399566650391,"poly",36,"square",1482,676,45,"aluminum","junction box MC",12,"www.environment-energy.de","-","-","-","-","-",{"$f":"IF($O3647=\"Sunpower Corp.\",3,(IF(OR($Q3647=\"mono\",$Q3647=\"poly\",$Q3647=\"HIT\",$Q3647=\"EFG\",$Q3647=\"mono-LGBC\"),1,IF(OR($Q3647=\"µc-Si / a-Si\",$Q3647=\"a-Si (single)\",$Q3647=\"a-Si (tandem)\",$Q3647=\"a-Si (triple)\"),3,2))))","v":1},{"$f":"IF($O3647=\"Sunpower Corp.\",3,(IF(OR($Q3647=\"mono\",$Q3647=\"poly\",$Q3647=\"HIT\",$Q3647=\"EFG\",$Q3647=\"mono-LGBC\"),1,2)))","v":1},{"$f":"IF($O3647=\"Sunpower Corp.\",3,(IF(OR($Q3647=\"mono\",$Q3647=\"poly\",$Q3647=\"HIT\",$Q3647=\"EFG\",$Q3647=\"mono-LGBC\"),1,IF(OR($Q3647=\"µc-Si / a-Si\",$Q3647=\"a-Si (single)\",$Q3647=\"a-Si (tandem)\",$Q3647=\"a-Si (triple)\"),3,2))))","v":1},0,null,null,27488,null,null,3646]
["E environment-energy GmbH sungreen 175M-AF","E environment-energy GmbH ","sungreen 175M-AF",175,"+2,9...",35.869999999999997,4.88,44.72,5.17,-152.04800000000003,1.8095000000000003,-0.51,1000,null,null,13.707859992980957,"mono",72,"pseudo-square",1580,808,45,"aluminum","junction box MC",16,"www.environment-energy.de","-","-","-","-","-",{"$f":"IF($O3658=\"Sunpower Corp.\",3,(IF(OR($Q3658=\"mono\",$Q3658=\"poly\",$Q3658=\"HIT\",$Q3658=\"EFG\",$Q3658=\"mono-LGBC\"),1,IF(OR($Q3658=\"µc-Si / a-Si\",$Q3658=\"a-Si (single)\",$Q3658=\"a-Si (tandem)\",$Q3658=\"a-Si (triple)\"),3,2))))","v":1},{"$f":"IF($O3658=\"Sunpower Corp.\",3,(IF(OR($Q3658=\"mono\",$Q3658=\"poly\",$Q3658=\"HIT\",$Q3658=\"EFG\",$Q3658=\"mono-LGBC\"),1,2)))","v":1},{"$f":"IF($O3658=\"Sunpower Corp.\",3,(IF(OR($Q3658=\"mono\",$Q3658=\"poly\",$Q3658=\"HIT\",$Q3658=\"EFG\",$Q3658=\"mono-LGBC\"),1,IF(OR($Q3658=\"µc-Si / a-Si\",$Q3658=\"a-Si (single)\",$Q3658=\"a-Si (tandem)\",$Q3658=\"a-Si (triple)\"),3,2))))","v":1},0,null,null,27506,null,null,3657]
["E environment-energy GmbH sungreen 215P-AF","E environment-energy GmbH ","sungreen 215P-AF",215,"+2,3...",29.2,7.37,36.4,7.77,-123.76,2.7195,-0.51,1000,null,null,13.247790336608887,"poly",60,"square",1636,992,45,"aluminum","junction box MC",19.5,"www.environment-energy.de","-","-","-","-","-",{"$f":"IF($O3692=\"Sunpower Corp.\",3,(IF(OR($Q3692=\"mono\",$Q3692=\"poly\",$Q3692=\"HIT\",$Q3692=\"EFG\",$Q3692=\"mono-LGBC\"),1,IF(OR($Q3692=\"µc-Si / a-Si\",$Q3692=\"a-Si (single)\",$Q3692=\"a-Si (tandem)\",$Q3692=\"a-Si (triple)\"),3,2))))","v":1},{"$f":"IF($O3692=\"Sunpower Corp.\",3,(IF(OR($Q3692=\"mono\",$Q3692=\"poly\",$Q3692=\"HIT\",$Q3692=\"EFG\",$Q3692=\"mono-LGBC\"),1,2)))","v":1},{"$f":"IF($O3692=\"Sunpower Corp.\",3,(IF(OR($Q3692=\"mono\",$Q3692=\"poly\",$Q3692=\"HIT\",$Q3692=\"EFG\",$Q3692=\"mono-LGBC\"),1,IF(OR($Q3692=\"µc-Si / a-Si\",$Q3692=\"a-Si (single)\",$Q3692=\"a-Si (tandem)\",$Q3692=\"a-Si (triple)\"),3,2))))","v":1},0,null,null,27530,null,null,3691]
["E environment-energy GmbH sungreen 225P-AE","E environment-energy GmbH ","sungreen 225P-AE",225,"+2,2...",30.1,7.48,36.799999999999997,8.1999999999999993,-127.69599999999997,4.51,-0.48,1000,null,null,13.704799652099609,"poly",60,"square",1655,992,45,"aluminum","junction box MC",22.5,"www.environment-energy.de","-","-","-","-","-",{"$f":"IF($O3703=\"Sunpower Corp.\",3,(IF(OR($Q3703=\"mono\",$Q3703=\"poly\",$Q3703=\"HIT\",$Q3703=\"EFG\",$Q3703=\"mono-LGBC\"),1,IF(OR($Q3703=\"µc-Si / a-Si\",$Q3703=\"a-Si (single)\",$Q3703=\"a-Si (tandem)\",$Q3703=\"a-Si (triple)\"),3,2))))","v":1},{"$f":"IF($O3703=\"Sunpower Corp.\",3,(IF(OR($Q3703=\"mono\",$Q3703=\"poly\",$Q3703=\"HIT\",$Q3703=\"EFG\",$Q3703=\"mono-LGBC\"),1,2)))","v":1},{"$f":"IF($O3703=\"Sunpower Corp.\",3,(IF(OR($Q3703=\"mono\",$Q3703=\"poly\",$Q3703=\"HIT\",$Q3703=\"EFG\",$Q3703=\"mono-LGBC\"),1,IF(OR($Q3703=\"µc-Si / a-Si\",$Q3703=\"a-Si (single)\",$Q3703=\"a-Si (tandem)\",$Q3703=\"a-Si (triple)\"),3,2))))","v":1},0,null,null,27500,null,null,3702]
["E environment-energy GmbH sungreen 235P-AG","E environment-energy GmbH ","sungreen 235P-AG",235,"+2,1...",29.56,7.95,37.340000000000003,8.4,-113.51360000000001,3.36,-0.42,1000,null,null,14.371769905090332,"poly",60,"square",1650,991,46,"aluminum","junction box MC",19.5,"www.environment-energy.de","-","-","-","-","-",{"$f":"IF($O3717=\"Sunpower Corp.\",3,(IF(OR($Q3717=\"mono\",$Q3717=\"poly\",$Q3717=\"HIT\",$Q3717=\"EFG\",$Q3717=\"mono-LGBC\"),1,IF(OR($Q3717=\"µc-Si / a-Si\",$Q3717=\"a-Si (single)\",$Q3717=\"a-Si (tandem)\",$Q3717=\"a-Si (triple)\"),3,2))))","v":1},{"$f":"IF($O3717=\"Sunpower Corp.\",3,(IF(OR($Q3717=\"mono\",$Q3717=\"poly\",$Q3717=\"HIT\",$Q3717=\"EFG\",$Q3717=\"mono-LGBC\"),1,2)))","v":1},{"$f":"IF($O3717=\"Sunpower Corp.\",3,(IF(OR($Q3717=\"mono\",$Q3717=\"poly\",$Q3717=\"HIT\",$Q3717=\"EFG\",$Q3717=\"mono-LGBC\"),1,IF(OR($Q3717=\"µc-Si / a-Si\",$Q3717=\"a-Si (single)\",$Q3717=\"a-Si (tandem)\",$Q3717=\"a-Si (triple)\"),3,2))))","v":1},0,null,null,27567,null,null,3716]
["E environment-energy GmbH sungreen 90M-AE","E environment-energy GmbH ","sungreen 90M-AE",90,"+5,6...",18.5,4.8600000000000003,22.4,5.3,-77.727999999999994,2.915,-0.48,1000,null,null,13.921219825744629,"mono",36,"pseudo-square",1195,541,40,"aluminum","junction box MC",8,"www.environment-energy.de","-","-","-","-","-",{"$f":"IF($O3748=\"Sunpower Corp.\",3,(IF(OR($Q3748=\"mono\",$Q3748=\"poly\",$Q3748=\"HIT\",$Q3748=\"EFG\",$Q3748=\"mono-LGBC\"),1,IF(OR($Q3748=\"µc-Si / a-Si\",$Q3748=\"a-Si (single)\",$Q3748=\"a-Si (tandem)\",$Q3748=\"a-Si (triple)\"),3,2))))","v":1},{"$f":"IF($O3748=\"Sunpower Corp.\",3,(IF(OR($Q3748=\"mono\",$Q3748=\"poly\",$Q3748=\"HIT\",$Q3748=\"EFG\",$Q3748=\"mono-LGBC\"),1,2)))","v":1},{"$f":"IF($O3748=\"Sunpower Corp.\",3,(IF(OR($Q3748=\"mono\",$Q3748=\"poly\",$Q3748=\"HIT\",$Q3748=\"EFG\",$Q3748=\"mono-LGBC\"),1,IF(OR($Q3748=\"µc-Si / a-Si\",$Q3748=\"a-Si (single)\",$Q3748=\"a-Si (tandem)\",$Q3748=\"a-Si (triple)\"),3,2))))","v":1},0,null,null,27468,null,null,3747]
["Eco Supplies Europe AB SwedModule ES145","Eco Supplies Europe AB ","SwedModule ES145",147.60000610351563,"+3...-3",19.600000000000001,7.53,24.6,7.97,-81.180000000000007,2.8691999999999998,null,1000,null,null,12.920729637145996,"poly",40,"square",1675,682,34,"aluminum","junction box",12.5,"www.ecosupplies.eu","-","-","-","-","-",{"$f":"IF($O3766=\"Sunpower Corp.\",3,(IF(OR($Q3766=\"mono\",$Q3766=\"poly\",$Q3766=\"HIT\",$Q3766=\"EFG\",$Q3766=\"mono-LGBC\"),1,IF(OR($Q3766=\"µc-Si / a-Si\",$Q3766=\"a-Si (single)\",$Q3766=\"a-Si (tandem)\",$Q3766=\"a-Si (triple)\"),3,2))))","v":1},{"$f":"IF($O3766=\"Sunpower Corp.\",3,(IF(OR($Q3766=\"mono\",$Q3766=\"poly\",$Q3766=\"HIT\",$Q3766=\"EFG\",$Q3766=\"mono-LGBC\"),1,2)))","v":1},{"$f":"IF($O3766=\"Sunpower Corp.\",3,(IF(OR($Q3766=\"mono\",$Q3766=\"poly\",$Q3766=\"HIT\",$Q3766=\"EFG\",$Q3766=\"mono-LGBC\"),1,IF(OR($Q3766=\"µc-Si / a-Si\",$Q3766=\"a-Si (single)\",$Q3766=\"a-Si (tandem)\",$Q3766=\"a-Si (triple)\"),3,2))))","v":1},0,null,null,28271,null,null,3765]
["Eco Supplies Europe AB SwedModule ES205P","Eco Supplies Europe AB ","SwedModule ES205P",205,"+3...0",28.5,7.2,36.5,7.67,-124.1,2.6078000000000001,-0.45,1000,null,null,12.226579666137695,"poly",60,"square",1675,1001,35,"aluminum","junction box",22,"www.ecosupplies.eu","-","-","-","-","-",{"$f":"IF($O3774=\"Sunpower Corp.\",3,(IF(OR($Q3774=\"mono\",$Q3774=\"poly\",$Q3774=\"HIT\",$Q3774=\"EFG\",$Q3774=\"mono-LGBC\"),1,IF(OR($Q3774=\"µc-Si / a-Si\",$Q3774=\"a-Si (single)\",$Q3774=\"a-Si (tandem)\",$Q3774=\"a-Si (triple)\"),3,2))))","v":1},{"$f":"IF($O3774=\"Sunpower Corp.\",3,(IF(OR($Q3774=\"mono\",$Q3774=\"poly\",$Q3774=\"HIT\",$Q3774=\"EFG\",$Q3774=\"mono-LGBC\"),1,2)))","v":1},{"$f":"IF($O3774=\"Sunpower Corp.\",3,(IF(OR($Q3774=\"mono\",$Q3774=\"poly\",$Q3774=\"HIT\",$Q3774=\"EFG\",$Q3774=\"mono-LGBC\"),1,IF(OR($Q3774=\"µc-Si / a-Si\",$Q3774=\"a-Si (single)\",$Q3774=\"a-Si (tandem)\",$Q3774=\"a-Si (triple)\"),3,2))))","v":1},0,null,null,28255,null,null,3773]
["Eco Supplies Europe AB SwedModule ES255M","Eco Supplies Europe AB ","SwedModule ES255M",255,"+3...0",30.8,8.2799999999999994,37.200000000000003,8.89,-126.48,3.0226000000000002,-0.45,1000,null,null,15.208669662475586,"mono",60,"pseudo-square",1675,1001,35,"aluminum","junction box",22,"www.ecosupplies.eu","-","-","-","-","-",{"$f":"IF($O3791=\"Sunpower Corp.\",3,(IF(OR($Q3791=\"mono\",$Q3791=\"poly\",$Q3791=\"HIT\",$Q3791=\"EFG\",$Q3791=\"mono-LGBC\"),1,IF(OR($Q3791=\"µc-Si / a-Si\",$Q3791=\"a-Si (single)\",$Q3791=\"a-Si (tandem)\",$Q3791=\"a-Si (triple)\"),3,2))))","v":1},{"$f":"IF($O3791=\"Sunpower Corp.\",3,(IF(OR($Q3791=\"mono\",$Q3791=\"poly\",$Q3791=\"HIT\",$Q3791=\"EFG\",$Q3791=\"mono-LGBC\"),1,2)))","v":1},{"$f":"IF($O3791=\"Sunpower Corp.\",3,(IF(OR($Q3791=\"mono\",$Q3791=\"poly\",$Q3791=\"HIT\",$Q3791=\"EFG\",$Q3791=\"mono-LGBC\"),1,IF(OR($Q3791=\"µc-Si / a-Si\",$Q3791=\"a-Si (single)\",$Q3791=\"a-Si (tandem)\",$Q3791=\"a-Si (triple)\"),3,2))))","v":1},0,null,null,28252,null,null,3790]
["Ecojoule Srl EJ PICCO 225 96M PLUS","Ecojoule Srl ","EJ PICCO 225 96M PLUS",225,"+2,5...-2,5",48,4.6900000000000004,60,5.07,-204,1.8758999999999999,-0.48,1000,null,null,13.358819961547852,"mono",96,"pseudo-square",1580,1066,46,"aluminum","junction box H + S",21.5,"www.ecojoule.it","-","-","-","-","-",{"$f":"IF($O3819=\"Sunpower Corp.\",3,(IF(OR($Q3819=\"mono\",$Q3819=\"poly\",$Q3819=\"HIT\",$Q3819=\"EFG\",$Q3819=\"mono-LGBC\"),1,IF(OR($Q3819=\"µc-Si / a-Si\",$Q3819=\"a-Si (single)\",$Q3819=\"a-Si (tandem)\",$Q3819=\"a-Si (triple)\"),3,2))))","v":1},{"$f":"IF($O3819=\"Sunpower Corp.\",3,(IF(OR($Q3819=\"mono\",$Q3819=\"poly\",$Q3819=\"HIT\",$Q3819=\"EFG\",$Q3819=\"mono-LGBC\"),1,2)))","v":1},{"$f":"IF($O3819=\"Sunpower Corp.\",3,(IF(OR($Q3819=\"mono\",$Q3819=\"poly\",$Q3819=\"HIT\",$Q3819=\"EFG\",$Q3819=\"mono-LGBC\"),1,IF(OR($Q3819=\"µc-Si / a-Si\",$Q3819=\"a-Si (single)\",$Q3819=\"a-Si (tandem)\",$Q3819=\"a-Si (triple)\"),3,2))))","v":1},0,null,null,28315,null,null,3818]
["Ecojoule Srl EJ PICCO 265 72P","Ecojoule Srl ","EJ PICCO 265 72P",265,"+2,5...-2,5",34,7.8,41.8,8.25,-146.30000000000001,4.125,-0.45,1000,null,null,13.803449630737305,"poly",72,"square",1955,982,42,"aluminum","junction box",26,"www.ecojoule.it","-","-","-","-","-",{"$f":"IF($O3836=\"Sunpower Corp.\",3,(IF(OR($Q3836=\"mono\",$Q3836=\"poly\",$Q3836=\"HIT\",$Q3836=\"EFG\",$Q3836=\"mono-LGBC\"),1,IF(OR($Q3836=\"µc-Si / a-Si\",$Q3836=\"a-Si (single)\",$Q3836=\"a-Si (tandem)\",$Q3836=\"a-Si (triple)\"),3,2))))","v":1},{"$f":"IF($O3836=\"Sunpower Corp.\",3,(IF(OR($Q3836=\"mono\",$Q3836=\"poly\",$Q3836=\"HIT\",$Q3836=\"EFG\",$Q3836=\"mono-LGBC\"),1,2)))","v":1},{"$f":"IF($O3836=\"Sunpower Corp.\",3,(IF(OR($Q3836=\"mono\",$Q3836=\"poly\",$Q3836=\"HIT\",$Q3836=\"EFG\",$Q3836=\"mono-LGBC\"),1,IF(OR($Q3836=\"µc-Si / a-Si\",$Q3836=\"a-Si (single)\",$Q3836=\"a-Si (tandem)\",$Q3836=\"a-Si (triple)\"),3,2))))","v":1},0,null,null,28299,null,null,3835]
["Ecojoule Srl EJ PICCO LOOK 220 60P","Ecojoule Srl ","EJ PICCO LOOK 220 60P",220,"+3...0",28.7,7.7,36.9,8.1999999999999993,-129.15,4.0999999999999996,-0.45,1000,null,null,13.495610237121582,"poly",60,"square",1640,994,46,"aluminum","junction box MC4",21,"www.ecojoule.it","-","-","-","-","-",{"$f":"IF($O3858=\"Sunpower Corp.\",3,(IF(OR($Q3858=\"mono\",$Q3858=\"poly\",$Q3858=\"HIT\",$Q3858=\"EFG\",$Q3858=\"mono-LGBC\"),1,IF(OR($Q3858=\"µc-Si / a-Si\",$Q3858=\"a-Si (single)\",$Q3858=\"a-Si (tandem)\",$Q3858=\"a-Si (triple)\"),3,2))))","v":1},{"$f":"IF($O3858=\"Sunpower Corp.\",3,(IF(OR($Q3858=\"mono\",$Q3858=\"poly\",$Q3858=\"HIT\",$Q3858=\"EFG\",$Q3858=\"mono-LGBC\"),1,2)))","v":1},{"$f":"IF($O3858=\"Sunpower Corp.\",3,(IF(OR($Q3858=\"mono\",$Q3858=\"poly\",$Q3858=\"HIT\",$Q3858=\"EFG\",$Q3858=\"mono-LGBC\"),1,IF(OR($Q3858=\"µc-Si / a-Si\",$Q3858=\"a-Si (single)\",$Q3858=\"a-Si (tandem)\",$Q3858=\"a-Si (triple)\"),3,2))))","v":1},0,null,null,28353,null,null,3857]
["Ecojoule Srl EJ-PUP 212","Ecojoule Srl ","EJ-PUP 212",212,"+3...0",28.8,7.36,36.4,7.76,-123.76,2.3279999999999998,-0.43,930,"Germany",null,12.786399841308594,"poly",60,"square",1663,997,39,"aluminum","junction box Spelsberg",null,"www.ecojoule.it","-","-","-","-","-",{"$f":"IF($O3881=\"Sunpower Corp.\",3,(IF(OR($Q3881=\"mono\",$Q3881=\"poly\",$Q3881=\"HIT\",$Q3881=\"EFG\",$Q3881=\"mono-LGBC\"),1,IF(OR($Q3881=\"µc-Si / a-Si\",$Q3881=\"a-Si (single)\",$Q3881=\"a-Si (tandem)\",$Q3881=\"a-Si (triple)\"),3,2))))","v":1},{"$f":"IF($O3881=\"Sunpower Corp.\",3,(IF(OR($Q3881=\"mono\",$Q3881=\"poly\",$Q3881=\"HIT\",$Q3881=\"EFG\",$Q3881=\"mono-LGBC\"),1,2)))","v":1},{"$f":"IF($O3881=\"Sunpower Corp.\",3,(IF(OR($Q3881=\"mono\",$Q3881=\"poly\",$Q3881=\"HIT\",$Q3881=\"EFG\",$Q3881=\"mono-LGBC\"),1,IF(OR($Q3881=\"µc-Si / a-Si\",$Q3881=\"a-Si (single)\",$Q3881=\"a-Si (tandem)\",$Q3881=\"a-Si (triple)\"),3,2))))","v":1},0,null,null,14663,null,null,3880]
["EcoSolargy Inc. SDM-170/170-72M","EcoSolargy Inc. ","SDM-170/170-72M",170,"+3...-3",35.799999999999997,4.76,44.5,5.15,-151.30000000000001,1.9570000000000001,-0.48,1000,null,null,13.31620979309082,"mono",72,"pseudo-square",1580,808,40,"aluminum","junction box MC",15,null,"-","-","-","-","-",{"$f":"IF($O3903=\"Sunpower Corp.\",3,(IF(OR($Q3903=\"mono\",$Q3903=\"poly\",$Q3903=\"HIT\",$Q3903=\"EFG\",$Q3903=\"mono-LGBC\"),1,IF(OR($Q3903=\"µc-Si / a-Si\",$Q3903=\"a-Si (single)\",$Q3903=\"a-Si (tandem)\",$Q3903=\"a-Si (triple)\"),3,2))))","v":1},{"$f":"IF($O3903=\"Sunpower Corp.\",3,(IF(OR($Q3903=\"mono\",$Q3903=\"poly\",$Q3903=\"HIT\",$Q3903=\"EFG\",$Q3903=\"mono-LGBC\"),1,2)))","v":1},{"$f":"IF($O3903=\"Sunpower Corp.\",3,(IF(OR($Q3903=\"mono\",$Q3903=\"poly\",$Q3903=\"HIT\",$Q3903=\"EFG\",$Q3903=\"mono-LGBC\"),1,IF(OR($Q3903=\"µc-Si / a-Si\",$Q3903=\"a-Si (single)\",$Q3903=\"a-Si (tandem)\",$Q3903=\"a-Si (triple)\"),3,2))))","v":1},0,null,null,29151,null,null,3902]
["EcoSolargy Inc. TWES-(170)72M","EcoSolargy Inc. ","TWES-(170)72M",170,"+3...-3",35.5,4.79,42.6,5.36,-144.84,2.0367999999999999,-0.48,null,null,null,13.31620979309082,"mono",72,"pseudo-square",1580,808,41,"aluminum","junction box MC4",15.5,"www.ecosolargy.com","-","-","-","-","-",{"$f":"IF($O3910=\"Sunpower Corp.\",3,(IF(OR($Q3910=\"mono\",$Q3910=\"poly\",$Q3910=\"HIT\",$Q3910=\"EFG\",$Q3910=\"mono-LGBC\"),1,IF(OR($Q3910=\"µc-Si / a-Si\",$Q3910=\"a-Si (single)\",$Q3910=\"a-Si (tandem)\",$Q3910=\"a-Si (triple)\"),3,2))))","v":1},{"$f":"IF($O3910=\"Sunpower Corp.\",3,(IF(OR($Q3910=\"mono\",$Q3910=\"poly\",$Q3910=\"HIT\",$Q3910=\"EFG\",$Q3910=\"mono-LGBC\"),1,2)))","v":1},{"$f":"IF($O3910=\"Sunpower Corp.\",3,(IF(OR($Q3910=\"mono\",$Q3910=\"poly\",$Q3910=\"HIT\",$Q3910=\"EFG\",$Q3910=\"mono-LGBC\"),1,IF(OR($Q3910=\"µc-Si / a-Si\",$Q3910=\"a-Si (single)\",$Q3910=\"a-Si (tandem)\",$Q3910=\"a-Si (triple)\"),3,2))))","v":1},0,null,null,29214,null,null,3909]
["Ecoware S.p.A. ECW 220-60P","Ecoware S.p.A. ","ECW 220-60P",220,"+3...-3",29,7.59,36.4,8.32,-106.288,3.7439999999999998,-0.40799999999999997,1000,null,"China Sunergy",13.550140380859375,"poly",60,"square",1640,990,50,"aluminum","junction box",19.8,"www.ecoware.eu","-","-","-","-","-",{"$f":"IF($O3929=\"Sunpower Corp.\",3,(IF(OR($Q3929=\"mono\",$Q3929=\"poly\",$Q3929=\"HIT\",$Q3929=\"EFG\",$Q3929=\"mono-LGBC\"),1,IF(OR($Q3929=\"µc-Si / a-Si\",$Q3929=\"a-Si (single)\",$Q3929=\"a-Si (tandem)\",$Q3929=\"a-Si (triple)\"),3,2))))","v":1},{"$f":"IF($O3929=\"Sunpower Corp.\",3,(IF(OR($Q3929=\"mono\",$Q3929=\"poly\",$Q3929=\"HIT\",$Q3929=\"EFG\",$Q3929=\"mono-LGBC\"),1,2)))","v":1},{"$f":"IF($O3929=\"Sunpower Corp.\",3,(IF(OR($Q3929=\"mono\",$Q3929=\"poly\",$Q3929=\"HIT\",$Q3929=\"EFG\",$Q3929=\"mono-LGBC\"),1,IF(OR($Q3929=\"µc-Si / a-Si\",$Q3929=\"a-Si (single)\",$Q3929=\"a-Si (tandem)\",$Q3929=\"a-Si (triple)\"),3,2))))","v":1},0,null,null,22235,null,null,3928]
["Ecoware S.p.A. ECWE 156M/60-220","Ecoware S.p.A. ","ECWE 156M/60-220",220,"+3...-3",29.34,7.52,36.659999999999997,8.2100000000000009,-124.64399999999999,2.9556,-0.39,1000,null,null,13.462770462036133,"mono",60,"pseudo-square",1644,994,50,"aluminum","junction box MC4",20,"www.ecoware.eu","-","-","-","-","-",{"$f":"IF($O3955=\"Sunpower Corp.\",3,(IF(OR($Q3955=\"mono\",$Q3955=\"poly\",$Q3955=\"HIT\",$Q3955=\"EFG\",$Q3955=\"mono-LGBC\"),1,IF(OR($Q3955=\"µc-Si / a-Si\",$Q3955=\"a-Si (single)\",$Q3955=\"a-Si (tandem)\",$Q3955=\"a-Si (triple)\"),3,2))))","v":1},{"$f":"IF($O3955=\"Sunpower Corp.\",3,(IF(OR($Q3955=\"mono\",$Q3955=\"poly\",$Q3955=\"HIT\",$Q3955=\"EFG\",$Q3955=\"mono-LGBC\"),1,2)))","v":1},{"$f":"IF($O3955=\"Sunpower Corp.\",3,(IF(OR($Q3955=\"mono\",$Q3955=\"poly\",$Q3955=\"HIT\",$Q3955=\"EFG\",$Q3955=\"mono-LGBC\"),1,IF(OR($Q3955=\"µc-Si / a-Si\",$Q3955=\"a-Si (single)\",$Q3955=\"a-Si (tandem)\",$Q3955=\"a-Si (triple)\"),3,2))))","v":1},0,null,null,22259,null,null,3954]
["EL.ITAL. S.p.A. EL602162","EL.ITAL. S.p.A. ","EL602162",216,"+3...-3",27.87,7.75,36.979999999999997,8.3800000000000008,-132.75819999999999,3.8548000000000009,-0.49299999999999999,1000,null,null,13.064419746398926,"poly",60,"square",1655,999,50,"aluminum","junction box",20,"www.elitalspa:COM","-","-","-","-","-",{"$f":"IF($O3974=\"Sunpower Corp.\",3,(IF(OR($Q3974=\"mono\",$Q3974=\"poly\",$Q3974=\"HIT\",$Q3974=\"EFG\",$Q3974=\"mono-LGBC\"),1,IF(OR($Q3974=\"µc-Si / a-Si\",$Q3974=\"a-Si (single)\",$Q3974=\"a-Si (tandem)\",$Q3974=\"a-Si (triple)\"),3,2))))","v":1},{"$f":"IF($O3974=\"Sunpower Corp.\",3,(IF(OR($Q3974=\"mono\",$Q3974=\"poly\",$Q3974=\"HIT\",$Q3974=\"EFG\",$Q3974=\"mono-LGBC\"),1,2)))","v":1},{"$f":"IF($O3974=\"Sunpower Corp.\",3,(IF(OR($Q3974=\"mono\",$Q3974=\"poly\",$Q3974=\"HIT\",$Q3974=\"EFG\",$Q3974=\"mono-LGBC\"),1,IF(OR($Q3974=\"µc-Si / a-Si\",$Q3974=\"a-Si (single)\",$Q3974=\"a-Si (tandem)\",$Q3974=\"a-Si (triple)\"),3,2))))","v":1},0,null,null,18825,null,null,3973]
["Elifrance SAS EL722702","Elifrance SAS ","EL722702",270,"+3...-3",34.481999999999999,7.83,44.383000000000003,8.4600000000000009,-159.33497,3.8916000000000008,-0.49299999999999999,1000,null,null,13.698439598083496,"poly",72,"square",1973,999,50,"aluminum","junction box",24,"www.elifrance.com","-","-","-","-","-",{"$f":"IF($O4000=\"Sunpower Corp.\",3,(IF(OR($Q4000=\"mono\",$Q4000=\"poly\",$Q4000=\"HIT\",$Q4000=\"EFG\",$Q4000=\"mono-LGBC\"),1,IF(OR($Q4000=\"µc-Si / a-Si\",$Q4000=\"a-Si (single)\",$Q4000=\"a-Si (tandem)\",$Q4000=\"a-Si (triple)\"),3,2))))","v":1},{"$f":"IF($O4000=\"Sunpower Corp.\",3,(IF(OR($Q4000=\"mono\",$Q4000=\"poly\",$Q4000=\"HIT\",$Q4000=\"EFG\",$Q4000=\"mono-LGBC\"),1,2)))","v":1},{"$f":"IF($O4000=\"Sunpower Corp.\",3,(IF(OR($Q4000=\"mono\",$Q4000=\"poly\",$Q4000=\"HIT\",$Q4000=\"EFG\",$Q4000=\"mono-LGBC\"),1,IF(OR($Q4000=\"µc-Si / a-Si\",$Q4000=\"a-Si (single)\",$Q4000=\"a-Si (tandem)\",$Q4000=\"a-Si (triple)\"),3,2))))","v":1},0,null,null,28374,null,null,3999]
["EMMVEE Photovoltaics GmbH ES-205M48B","EMMVEE Photovoltaics GmbH ","ES-205M48B",205,"+...",24.88,8.24,30.1,8.73,-108.36,1.7460000000000002,-0.47,1000,null,"Bosch Solar Energy AG",15.437439918518066,"mono",48,"pseudo-square",1340,991,50,"aluminum","junction box Spelsberg",null,null,"-","-","-","-","-",{"$f":"IF($O4013=\"Sunpower Corp.\",3,(IF(OR($Q4013=\"mono\",$Q4013=\"poly\",$Q4013=\"HIT\",$Q4013=\"EFG\",$Q4013=\"mono-LGBC\"),1,IF(OR($Q4013=\"µc-Si / a-Si\",$Q4013=\"a-Si (single)\",$Q4013=\"a-Si (tandem)\",$Q4013=\"a-Si (triple)\"),3,2))))","v":1},{"$f":"IF($O4013=\"Sunpower Corp.\",3,(IF(OR($Q4013=\"mono\",$Q4013=\"poly\",$Q4013=\"HIT\",$Q4013=\"EFG\",$Q4013=\"mono-LGBC\"),1,2)))","v":1},{"$f":"IF($O4013=\"Sunpower Corp.\",3,(IF(OR($Q4013=\"mono\",$Q4013=\"poly\",$Q4013=\"HIT\",$Q4013=\"EFG\",$Q4013=\"mono-LGBC\"),1,IF(OR($Q4013=\"µc-Si / a-Si\",$Q4013=\"a-Si (single)\",$Q4013=\"a-Si (tandem)\",$Q4013=\"a-Si (triple)\"),3,2))))","v":1},0,null,null,32184,null,null,4012]
["EMMVEE Photovoltaics GmbH ES-250M60B","EMMVEE Photovoltaics GmbH ","ES-250M60B",250,"+3...-3",30.34,8.24,37.32,8.57,-134.352,1.7140000000000002,-0.47,1000,"India","Bosch Solar Energy AG",14.754639625549316,"mono",60,"pseudo-square",1691,1002,50,"aluminum","junction box Tyco",23.5,"www.emmveephotovoltaics.com","-","-","-","-","-",{"$f":"IF($O4025=\"Sunpower Corp.\",3,(IF(OR($Q4025=\"mono\",$Q4025=\"poly\",$Q4025=\"HIT\",$Q4025=\"EFG\",$Q4025=\"mono-LGBC\"),1,IF(OR($Q4025=\"µc-Si / a-Si\",$Q4025=\"a-Si (single)\",$Q4025=\"a-Si (tandem)\",$Q4025=\"a-Si (triple)\"),3,2))))","v":1},{"$f":"IF($O4025=\"Sunpower Corp.\",3,(IF(OR($Q4025=\"mono\",$Q4025=\"poly\",$Q4025=\"HIT\",$Q4025=\"EFG\",$Q4025=\"mono-LGBC\"),1,2)))","v":1},{"$f":"IF($O4025=\"Sunpower Corp.\",3,(IF(OR($Q4025=\"mono\",$Q4025=\"poly\",$Q4025=\"HIT\",$Q4025=\"EFG\",$Q4025=\"mono-LGBC\"),1,IF(OR($Q4025=\"µc-Si / a-Si\",$Q4025=\"a-Si (single)\",$Q4025=\"a-Si (tandem)\",$Q4025=\"a-Si (triple)\"),3,2))))","v":1},0,null,null,24349,null,null,4024]
["Enecom Italia srl HF 90/5/18","Enecom Italia srl ","HF 90/5/18",90,"+3...0",18.54,5.15,22.4,5.54,-79.744,1.3296000000000001,-0.46,1000,"Italy","HD Solar Power",13.91079044342041,"mono",32,"pseudo-square",1230,526,1.5,null,"cable Lumberg",1.5,"www.enecomitalia.com","-","-","-","-","-",{"$f":"IF($O4050=\"Sunpower Corp.\",3,(IF(OR($Q4050=\"mono\",$Q4050=\"poly\",$Q4050=\"HIT\",$Q4050=\"EFG\",$Q4050=\"mono-LGBC\"),1,IF(OR($Q4050=\"µc-Si / a-Si\",$Q4050=\"a-Si (single)\",$Q4050=\"a-Si (tandem)\",$Q4050=\"a-Si (triple)\"),3,2))))","v":1},{"$f":"IF($O4050=\"Sunpower Corp.\",3,(IF(OR($Q4050=\"mono\",$Q4050=\"poly\",$Q4050=\"HIT\",$Q4050=\"EFG\",$Q4050=\"mono-LGBC\"),1,2)))","v":1},{"$f":"IF($O4050=\"Sunpower Corp.\",3,(IF(OR($Q4050=\"mono\",$Q4050=\"poly\",$Q4050=\"HIT\",$Q4050=\"EFG\",$Q4050=\"mono-LGBC\"),1,IF(OR($Q4050=\"µc-Si / a-Si\",$Q4050=\"a-Si (single)\",$Q4050=\"a-Si (tandem)\",$Q4050=\"a-Si (triple)\"),3,2))))","v":1},0,null,null,26343,null,null,4049]
["Energica S.r.l. SUPER POWER 60-240","Energica S.r.l. ","SUPER POWER 60-240",240,"+5...0",29.38,8.1999999999999993,36.869999999999997,8.8699999999999992,-117.98399999999999,4.1688999999999998,-0.46,1000,"Italy","Gintech",14.414409637451172,"mono",60,"pseudo-square",1665,1000,42,null,"junction box",22,"www.energicasrl.it","-","-","-","-","-",{"$f":"IF($O4078=\"Sunpower Corp.\",3,(IF(OR($Q4078=\"mono\",$Q4078=\"poly\",$Q4078=\"HIT\",$Q4078=\"EFG\",$Q4078=\"mono-LGBC\"),1,IF(OR($Q4078=\"µc-Si / a-Si\",$Q4078=\"a-Si (single)\",$Q4078=\"a-Si (tandem)\",$Q4078=\"a-Si (triple)\"),3,2))))","v":1},{"$f":"IF($O4078=\"Sunpower Corp.\",3,(IF(OR($Q4078=\"mono\",$Q4078=\"poly\",$Q4078=\"HIT\",$Q4078=\"EFG\",$Q4078=\"mono-LGBC\"),1,2)))","v":1},{"$f":"IF($O4078=\"Sunpower Corp.\",3,(IF(OR($Q4078=\"mono\",$Q4078=\"poly\",$Q4078=\"HIT\",$Q4078=\"EFG\",$Q4078=\"mono-LGBC\"),1,IF(OR($Q4078=\"µc-Si / a-Si\",$Q4078=\"a-Si (single)\",$Q4078=\"a-Si (tandem)\",$Q4078=\"a-Si (triple)\"),3,2))))","v":1},0,null,null,14846,null,null,4077]
["Energy Project di Terenzio Alio EP60/P Plus 215W","Energy Project di Terenzio Alio ","EP60/P Plus 215W",215,"+3...-3",28.5,7.55,36.299999999999997,8.1999999999999993,-166.98,3.7719999999999998,-0.34,null,null,null,12.954350471496582,"poly",60,"square",1663,998,42,"aluminum","junction box",21,null,"-","-","-","-","-",{"$f":"IF($O4095=\"Sunpower Corp.\",3,(IF(OR($Q4095=\"mono\",$Q4095=\"poly\",$Q4095=\"HIT\",$Q4095=\"EFG\",$Q4095=\"mono-LGBC\"),1,IF(OR($Q4095=\"µc-Si / a-Si\",$Q4095=\"a-Si (single)\",$Q4095=\"a-Si (tandem)\",$Q4095=\"a-Si (triple)\"),3,2))))","v":1},{"$f":"IF($O4095=\"Sunpower Corp.\",3,(IF(OR($Q4095=\"mono\",$Q4095=\"poly\",$Q4095=\"HIT\",$Q4095=\"EFG\",$Q4095=\"mono-LGBC\"),1,2)))","v":1},{"$f":"IF($O4095=\"Sunpower Corp.\",3,(IF(OR($Q4095=\"mono\",$Q4095=\"poly\",$Q4095=\"HIT\",$Q4095=\"EFG\",$Q4095=\"mono-LGBC\"),1,IF(OR($Q4095=\"µc-Si / a-Si\",$Q4095=\"a-Si (single)\",$Q4095=\"a-Si (tandem)\",$Q4095=\"a-Si (triple)\"),3,2))))","v":1},0,null,null,29361,null,null,4094]
["Energy Solutions S.A. SOLARVIO 636/Power Poly 140Wp","Energy Solutions S.A. ","SOLARVIO 636/Power Poly 140Wp",140,"+3...-3",18.399999999999999,7.73,22.32,8.34,-71.424000000000007,5.838000000000001,-0.43,1000,"Bulgaria","Motech Industries",14.023839950561523,"poly",36,"square",1490,670,46,"aluminum","cable Tyco",11,"www.energysolutions.gr","-","-","-","-","-",{"$f":"IF($O4104=\"Sunpower Corp.\",3,(IF(OR($Q4104=\"mono\",$Q4104=\"poly\",$Q4104=\"HIT\",$Q4104=\"EFG\",$Q4104=\"mono-LGBC\"),1,IF(OR($Q4104=\"µc-Si / a-Si\",$Q4104=\"a-Si (single)\",$Q4104=\"a-Si (tandem)\",$Q4104=\"a-Si (triple)\"),3,2))))","v":1},{"$f":"IF($O4104=\"Sunpower Corp.\",3,(IF(OR($Q4104=\"mono\",$Q4104=\"poly\",$Q4104=\"HIT\",$Q4104=\"EFG\",$Q4104=\"mono-LGBC\"),1,2)))","v":1},{"$f":"IF($O4104=\"Sunpower Corp.\",3,(IF(OR($Q4104=\"mono\",$Q4104=\"poly\",$Q4104=\"HIT\",$Q4104=\"EFG\",$Q4104=\"mono-LGBC\"),1,IF(OR($Q4104=\"µc-Si / a-Si\",$Q4104=\"a-Si (single)\",$Q4104=\"a-Si (tandem)\",$Q4104=\"a-Si (triple)\"),3,2))))","v":1},0,null,null,17169,null,null,4103]
["Enfoton Solar Ltd. 50E6+3bb195F","Enfoton Solar Ltd. ","50E6+3bb195F",195,"+2,5...0",25.22,7.73,30.62,8.1,-101.04599999999999,2.4300000000000002,-0.43,989,"Cyprus","diverse",14.152999877929688,"poly",50,"square",1660,830,42,"aluminum","junction box Spelsberg",17,"www.enfoton.com","-","-","-","-","-",{"$f":"IF($O4140=\"Sunpower Corp.\",3,(IF(OR($Q4140=\"mono\",$Q4140=\"poly\",$Q4140=\"HIT\",$Q4140=\"EFG\",$Q4140=\"mono-LGBC\"),1,IF(OR($Q4140=\"µc-Si / a-Si\",$Q4140=\"a-Si (single)\",$Q4140=\"a-Si (tandem)\",$Q4140=\"a-Si (triple)\"),3,2))))","v":1},{"$f":"IF($O4140=\"Sunpower Corp.\",3,(IF(OR($Q4140=\"mono\",$Q4140=\"poly\",$Q4140=\"HIT\",$Q4140=\"EFG\",$Q4140=\"mono-LGBC\"),1,2)))","v":1},{"$f":"IF($O4140=\"Sunpower Corp.\",3,(IF(OR($Q4140=\"mono\",$Q4140=\"poly\",$Q4140=\"HIT\",$Q4140=\"EFG\",$Q4140=\"mono-LGBC\"),1,IF(OR($Q4140=\"µc-Si / a-Si\",$Q4140=\"a-Si (single)\",$Q4140=\"a-Si (tandem)\",$Q4140=\"a-Si (triple)\"),3,2))))","v":1},0,null,null,8798,null,null,4139]
["Enfoton Solar Ltd. 60E6+3bb240F","Enfoton Solar Ltd. ","60E6+3bb240F",240,"+2,5...0",30.73,7.81,37.200000000000003,8.25,-122.76,2.4750000000000001,-0.43,989,"Cyprus","Q-Cells AG",14.603870391845703,"poly",60,"square",1660,990,42,"aluminum","junction box Spelsberg",21,"www.enfoton.com","-","-","-","-","-",{"$f":"IF($O4149=\"Sunpower Corp.\",3,(IF(OR($Q4149=\"mono\",$Q4149=\"poly\",$Q4149=\"HIT\",$Q4149=\"EFG\",$Q4149=\"mono-LGBC\"),1,IF(OR($Q4149=\"µc-Si / a-Si\",$Q4149=\"a-Si (single)\",$Q4149=\"a-Si (tandem)\",$Q4149=\"a-Si (triple)\"),3,2))))","v":1},{"$f":"IF($O4149=\"Sunpower Corp.\",3,(IF(OR($Q4149=\"mono\",$Q4149=\"poly\",$Q4149=\"HIT\",$Q4149=\"EFG\",$Q4149=\"mono-LGBC\"),1,2)))","v":1},{"$f":"IF($O4149=\"Sunpower Corp.\",3,(IF(OR($Q4149=\"mono\",$Q4149=\"poly\",$Q4149=\"HIT\",$Q4149=\"EFG\",$Q4149=\"mono-LGBC\"),1,IF(OR($Q4149=\"µc-Si / a-Si\",$Q4149=\"a-Si (single)\",$Q4149=\"a-Si (tandem)\",$Q4149=\"a-Si (triple)\"),3,2))))","v":1},0,null,null,28704,null,null,4148]
["Engcotec Advanced Technology GmbH W1750-170","Engcotec Advanced Technology GmbH ","W1750-170",170,"+5...-5",36.25,4.6900000000000004,43.9,5.15,-149.26,0,null,1000,null,null,13.31620979309082,"mono",72,"pseudo-square",1580,808,42,"aluminum","junction box",17,"www.engcotec.de","-","-","-","-","-",{"$f":"IF($O4169=\"Sunpower Corp.\",3,(IF(OR($Q4169=\"mono\",$Q4169=\"poly\",$Q4169=\"HIT\",$Q4169=\"EFG\",$Q4169=\"mono-LGBC\"),1,IF(OR($Q4169=\"µc-Si / a-Si\",$Q4169=\"a-Si (single)\",$Q4169=\"a-Si (tandem)\",$Q4169=\"a-Si (triple)\"),3,2))))","v":1},{"$f":"IF($O4169=\"Sunpower Corp.\",3,(IF(OR($Q4169=\"mono\",$Q4169=\"poly\",$Q4169=\"HIT\",$Q4169=\"EFG\",$Q4169=\"mono-LGBC\"),1,2)))","v":1},{"$f":"IF($O4169=\"Sunpower Corp.\",3,(IF(OR($Q4169=\"mono\",$Q4169=\"poly\",$Q4169=\"HIT\",$Q4169=\"EFG\",$Q4169=\"mono-LGBC\"),1,IF(OR($Q4169=\"µc-Si / a-Si\",$Q4169=\"a-Si (single)\",$Q4169=\"a-Si (tandem)\",$Q4169=\"a-Si (triple)\"),3,2))))","v":1},0,null,null,20114,null,null,4168]
["Enipower S.P.A. EN23/240","Enipower S.P.A. ","EN23/240",240,"+3...-3",null,null,37.200000000000003,8.56,-122.76,3.4240000000000004,-0.48,1000,"China",null,14.662759780883789,"poly",60,"square",1650,992,45,"aluminum","junction box",19,"www.enipower.it","-","-","-","-","-",{"$f":"IF($O4194=\"Sunpower Corp.\",3,(IF(OR($Q4194=\"mono\",$Q4194=\"poly\",$Q4194=\"HIT\",$Q4194=\"EFG\",$Q4194=\"mono-LGBC\"),1,IF(OR($Q4194=\"µc-Si / a-Si\",$Q4194=\"a-Si (single)\",$Q4194=\"a-Si (tandem)\",$Q4194=\"a-Si (triple)\"),3,2))))","v":1},{"$f":"IF($O4194=\"Sunpower Corp.\",3,(IF(OR($Q4194=\"mono\",$Q4194=\"poly\",$Q4194=\"HIT\",$Q4194=\"EFG\",$Q4194=\"mono-LGBC\"),1,2)))","v":1},{"$f":"IF($O4194=\"Sunpower Corp.\",3,(IF(OR($Q4194=\"mono\",$Q4194=\"poly\",$Q4194=\"HIT\",$Q4194=\"EFG\",$Q4194=\"mono-LGBC\"),1,IF(OR($Q4194=\"µc-Si / a-Si\",$Q4194=\"a-Si (single)\",$Q4194=\"a-Si (tandem)\",$Q4194=\"a-Si (triple)\"),3,2))))","v":1},0,null,null,27957,null,null,4193]
["ENN Solar Energy Co., Ltd. EST-460","ENN Solar Energy Co., Ltd. ","EST-460",460,"+5...-5",206,2.2400000000000002,282,2.8820000000000001,-987,2.8820000000000001,-0.28000000000000003,1000,"China",null,8.0419578552246094,"µc-Si / a-Si",null,null,2600,2200,7.5,null,"junction box MC4",117,"www.ennsolar.com","-","-","-","-","-",{"$f":"IF($O4214=\"Sunpower Corp.\",3,(IF(OR($Q4214=\"mono\",$Q4214=\"poly\",$Q4214=\"HIT\",$Q4214=\"EFG\",$Q4214=\"mono-LGBC\"),1,IF(OR($Q4214=\"µc-Si / a-Si\",$Q4214=\"a-Si (single)\",$Q4214=\"a-Si (tandem)\",$Q4214=\"a-Si (triple)\"),3,2))))","v":3},{"$f":"IF($O4214=\"Sunpower Corp.\",3,(IF(OR($Q4214=\"mono\",$Q4214=\"poly\",$Q4214=\"HIT\",$Q4214=\"EFG\",$Q4214=\"mono-LGBC\"),1,2)))","v":2},{"$f":"IF($O4214=\"Sunpower Corp.\",3,(IF(OR($Q4214=\"mono\",$Q4214=\"poly\",$Q4214=\"HIT\",$Q4214=\"EFG\",$Q4214=\"mono-LGBC\"),1,IF(OR($Q4214=\"µc-Si / a-Si\",$Q4214=\"a-Si (single)\",$Q4214=\"a-Si (tandem)\",$Q4214=\"a-Si (triple)\"),3,2))))","v":3},0,null,null,9422,null,null,4213]
["e-novasolar s.r.l ENS230P","e-novasolar s.r.l ","ENS230P",230,"+...",29.7,7.75,37.200000000000003,8.34,-126.48,3.8364000000000003,-0.46,1000,null,null,14.051810264587402,"poly",60,"square",1650,992,46,"aluminum","junction box MC4",23,null,"-","-","-","-","-",{"$f":"IF($O4239=\"Sunpower Corp.\",3,(IF(OR($Q4239=\"mono\",$Q4239=\"poly\",$Q4239=\"HIT\",$Q4239=\"EFG\",$Q4239=\"mono-LGBC\"),1,IF(OR($Q4239=\"µc-Si / a-Si\",$Q4239=\"a-Si (single)\",$Q4239=\"a-Si (tandem)\",$Q4239=\"a-Si (triple)\"),3,2))))","v":1},{"$f":"IF($O4239=\"Sunpower Corp.\",3,(IF(OR($Q4239=\"mono\",$Q4239=\"poly\",$Q4239=\"HIT\",$Q4239=\"EFG\",$Q4239=\"mono-LGBC\"),1,2)))","v":1},{"$f":"IF($O4239=\"Sunpower Corp.\",3,(IF(OR($Q4239=\"mono\",$Q4239=\"poly\",$Q4239=\"HIT\",$Q4239=\"EFG\",$Q4239=\"mono-LGBC\"),1,IF(OR($Q4239=\"µc-Si / a-Si\",$Q4239=\"a-Si (single)\",$Q4239=\"a-Si (tandem)\",$Q4239=\"a-Si (triple)\"),3,2))))","v":1},0,null,null,30806,null,null,4238]
["Eoplly New Energy Technology Co. Ltd. 125M/72-170","Eoplly New Energy Technology Co. Ltd. ","125M/72-170",170,"+3...-3",36.18,4.7,42.35,4.99,-144.20175,2.6197500000000002,-0.48299999999999998,1000,null,null,13.31620979309082,"mono",72,"pseudo-square",1580,808,35,"aluminum","junction box MC4",15,"www.eoplly.com","-","-","-","-","-",{"$f":"IF($O4259=\"Sunpower Corp.\",3,(IF(OR($Q4259=\"mono\",$Q4259=\"poly\",$Q4259=\"HIT\",$Q4259=\"EFG\",$Q4259=\"mono-LGBC\"),1,IF(OR($Q4259=\"µc-Si / a-Si\",$Q4259=\"a-Si (single)\",$Q4259=\"a-Si (tandem)\",$Q4259=\"a-Si (triple)\"),3,2))))","v":1},{"$f":"IF($O4259=\"Sunpower Corp.\",3,(IF(OR($Q4259=\"mono\",$Q4259=\"poly\",$Q4259=\"HIT\",$Q4259=\"EFG\",$Q4259=\"mono-LGBC\"),1,2)))","v":1},{"$f":"IF($O4259=\"Sunpower Corp.\",3,(IF(OR($Q4259=\"mono\",$Q4259=\"poly\",$Q4259=\"HIT\",$Q4259=\"EFG\",$Q4259=\"mono-LGBC\"),1,IF(OR($Q4259=\"µc-Si / a-Si\",$Q4259=\"a-Si (single)\",$Q4259=\"a-Si (tandem)\",$Q4259=\"a-Si (triple)\"),3,2))))","v":1},0,null,null,18888,null,null,4258]
["Eoplly New Energy Technology Co. Ltd. 156M/60-220","Eoplly New Energy Technology Co. Ltd. ","156M/60-220",220,"+3...-3",28.9,7.61,36.6,8.23,-128.1,1.3991000000000002,-0.51,1000,null,null,13.462770462036133,"mono",60,"pseudo-square",1644,994,50,"aluminum","junction box MC4",20,"www.eoplly.com","-","-","-","-","-",{"$f":"IF($O4278=\"Sunpower Corp.\",3,(IF(OR($Q4278=\"mono\",$Q4278=\"poly\",$Q4278=\"HIT\",$Q4278=\"EFG\",$Q4278=\"mono-LGBC\"),1,IF(OR($Q4278=\"µc-Si / a-Si\",$Q4278=\"a-Si (single)\",$Q4278=\"a-Si (tandem)\",$Q4278=\"a-Si (triple)\"),3,2))))","v":1},{"$f":"IF($O4278=\"Sunpower Corp.\",3,(IF(OR($Q4278=\"mono\",$Q4278=\"poly\",$Q4278=\"HIT\",$Q4278=\"EFG\",$Q4278=\"mono-LGBC\"),1,2)))","v":1},{"$f":"IF($O4278=\"Sunpower Corp.\",3,(IF(OR($Q4278=\"mono\",$Q4278=\"poly\",$Q4278=\"HIT\",$Q4278=\"EFG\",$Q4278=\"mono-LGBC\"),1,IF(OR($Q4278=\"µc-Si / a-Si\",$Q4278=\"a-Si (single)\",$Q4278=\"a-Si (tandem)\",$Q4278=\"a-Si (triple)\"),3,2))))","v":1},0,null,null,18893,null,null,4277]
["Eoplly New Energy Technology Co. Ltd. 156M/72-270","Eoplly New Energy Technology Co. Ltd. ","156M/72-270",270,"+3...-3",35.71,7.6,44.06,8.31,-156.34691000000001,3.2558579999999999,-0.51976,1000,null,null,13.866479873657227,"mono",72,"pseudo-square",1953,997,50,"aluminum","junction box MC4",20,"www.eoplly.com","-","-","-","-","-",{"$f":"IF($O4284=\"Sunpower Corp.\",3,(IF(OR($Q4284=\"mono\",$Q4284=\"poly\",$Q4284=\"HIT\",$Q4284=\"EFG\",$Q4284=\"mono-LGBC\"),1,IF(OR($Q4284=\"µc-Si / a-Si\",$Q4284=\"a-Si (single)\",$Q4284=\"a-Si (tandem)\",$Q4284=\"a-Si (triple)\"),3,2))))","v":1},{"$f":"IF($O4284=\"Sunpower Corp.\",3,(IF(OR($Q4284=\"mono\",$Q4284=\"poly\",$Q4284=\"HIT\",$Q4284=\"EFG\",$Q4284=\"mono-LGBC\"),1,2)))","v":1},{"$f":"IF($O4284=\"Sunpower Corp.\",3,(IF(OR($Q4284=\"mono\",$Q4284=\"poly\",$Q4284=\"HIT\",$Q4284=\"EFG\",$Q4284=\"mono-LGBC\"),1,IF(OR($Q4284=\"µc-Si / a-Si\",$Q4284=\"a-Si (single)\",$Q4284=\"a-Si (tandem)\",$Q4284=\"a-Si (triple)\"),3,2))))","v":1},0,null,null,18897,null,null,4283]
["Eoplly New Energy Technology Co. Ltd. 156P/72-280","Eoplly New Energy Technology Co. Ltd. ","156P/72-280",280,"+3...-3",36.270000000000003,7.72,44.19,8.34,-156.80821499999999,3.2676119999999997,-0.51976,1000,null,null,14.380060195922852,"poly",72,"square",1953,997,50,"aluminum","junction box MC4",26,"www.eoplly.com","-","-","-","-","-",{"$f":"IF($O4304=\"Sunpower Corp.\",3,(IF(OR($Q4304=\"mono\",$Q4304=\"poly\",$Q4304=\"HIT\",$Q4304=\"EFG\",$Q4304=\"mono-LGBC\"),1,IF(OR($Q4304=\"µc-Si / a-Si\",$Q4304=\"a-Si (single)\",$Q4304=\"a-Si (tandem)\",$Q4304=\"a-Si (triple)\"),3,2))))","v":1},{"$f":"IF($O4304=\"Sunpower Corp.\",3,(IF(OR($Q4304=\"mono\",$Q4304=\"poly\",$Q4304=\"HIT\",$Q4304=\"EFG\",$Q4304=\"mono-LGBC\"),1,2)))","v":1},{"$f":"IF($O4304=\"Sunpower Corp.\",3,(IF(OR($Q4304=\"mono\",$Q4304=\"poly\",$Q4304=\"HIT\",$Q4304=\"EFG\",$Q4304=\"mono-LGBC\"),1,IF(OR($Q4304=\"µc-Si / a-Si\",$Q4304=\"a-Si (single)\",$Q4304=\"a-Si (tandem)\",$Q4304=\"a-Si (triple)\"),3,2))))","v":1},0,null,null,18906,null,null,4303]
["EOSolare srl 125M72 (170)","EOSolare srl ","125M72 (170)",170,"+3...-3",36.03,4.72,44.66,5.13,-125.04800000000002,1.2312000000000001,-0.38,1000,null,null,13.340499877929688,"mono",72,"pseudo-square",1583,805,35,null,"junction box Tyco",16.5,"www.eosolare.eu","-","-","-","-","-",{"$f":"IF($O4333=\"Sunpower Corp.\",3,(IF(OR($Q4333=\"mono\",$Q4333=\"poly\",$Q4333=\"HIT\",$Q4333=\"EFG\",$Q4333=\"mono-LGBC\"),1,IF(OR($Q4333=\"µc-Si / a-Si\",$Q4333=\"a-Si (single)\",$Q4333=\"a-Si (tandem)\",$Q4333=\"a-Si (triple)\"),3,2))))","v":1},{"$f":"IF($O4333=\"Sunpower Corp.\",3,(IF(OR($Q4333=\"mono\",$Q4333=\"poly\",$Q4333=\"HIT\",$Q4333=\"EFG\",$Q4333=\"mono-LGBC\"),1,2)))","v":1},{"$f":"IF($O4333=\"Sunpower Corp.\",3,(IF(OR($Q4333=\"mono\",$Q4333=\"poly\",$Q4333=\"HIT\",$Q4333=\"EFG\",$Q4333=\"mono-LGBC\"),1,IF(OR($Q4333=\"µc-Si / a-Si\",$Q4333=\"a-Si (single)\",$Q4333=\"a-Si (tandem)\",$Q4333=\"a-Si (triple)\"),3,2))))","v":1},0,null,null,12356,null,null,4332]
["EOSolare srl 156M54 (230)","EOSolare srl ","156M54 (230)",230,"+3...-3",28.23,8.1,34.130000000000003,8.5,-129.69400000000002,2.5499999999999998,-0.47,1000,null,null,15.618630409240723,"mono",54,"pseudo-square",1480,995,35,null,"junction box Tyco",19.5,"www.eosolare.eu","-","-","-","-","-",{"$f":"IF($O4349=\"Sunpower Corp.\",3,(IF(OR($Q4349=\"mono\",$Q4349=\"poly\",$Q4349=\"HIT\",$Q4349=\"EFG\",$Q4349=\"mono-LGBC\"),1,IF(OR($Q4349=\"µc-Si / a-Si\",$Q4349=\"a-Si (single)\",$Q4349=\"a-Si (tandem)\",$Q4349=\"a-Si (triple)\"),3,2))))","v":1},{"$f":"IF($O4349=\"Sunpower Corp.\",3,(IF(OR($Q4349=\"mono\",$Q4349=\"poly\",$Q4349=\"HIT\",$Q4349=\"EFG\",$Q4349=\"mono-LGBC\"),1,2)))","v":1},{"$f":"IF($O4349=\"Sunpower Corp.\",3,(IF(OR($Q4349=\"mono\",$Q4349=\"poly\",$Q4349=\"HIT\",$Q4349=\"EFG\",$Q4349=\"mono-LGBC\"),1,IF(OR($Q4349=\"µc-Si / a-Si\",$Q4349=\"a-Si (single)\",$Q4349=\"a-Si (tandem)\",$Q4349=\"a-Si (triple)\"),3,2))))","v":1},0,null,null,12370,null,null,4348]
["EOSolare srl 156M66 (265)","EOSolare srl ","156M66 (265)",265,"+3...-3",33.659999999999997,7.9,40.72,8.39,-154.73599999999999,2.5170000000000003,-0.47,1000,null,null,14.820899963378906,"mono",66,"pseudo-square",1797,995,35,null,"junction box Tyco",24,"www.eosolare.eu","-","-","-","-","-",{"$f":"IF($O4358=\"Sunpower Corp.\",3,(IF(OR($Q4358=\"mono\",$Q4358=\"poly\",$Q4358=\"HIT\",$Q4358=\"EFG\",$Q4358=\"mono-LGBC\"),1,IF(OR($Q4358=\"µc-Si / a-Si\",$Q4358=\"a-Si (single)\",$Q4358=\"a-Si (tandem)\",$Q4358=\"a-Si (triple)\"),3,2))))","v":1},{"$f":"IF($O4358=\"Sunpower Corp.\",3,(IF(OR($Q4358=\"mono\",$Q4358=\"poly\",$Q4358=\"HIT\",$Q4358=\"EFG\",$Q4358=\"mono-LGBC\"),1,2)))","v":1},{"$f":"IF($O4358=\"Sunpower Corp.\",3,(IF(OR($Q4358=\"mono\",$Q4358=\"poly\",$Q4358=\"HIT\",$Q4358=\"EFG\",$Q4358=\"mono-LGBC\"),1,IF(OR($Q4358=\"µc-Si / a-Si\",$Q4358=\"a-Si (single)\",$Q4358=\"a-Si (tandem)\",$Q4358=\"a-Si (triple)\"),3,2))))","v":1},0,null,null,12374,null,null,4357]
["EPV SOLAR EPV-53","EPV SOLAR ","EPV-53",53,"+5...-5",45,1.1200000000000001,60,1.1299999999999999,-168,1.0169999999999999,-0.19,1000,"various","EPV Solar",5.6551427841186523,"a-Si (tandem)",null,"rectangular",1320,710,null,"frameless","cable MC",14.5,"www.epvsolar.com","-","-","-","-","-",{"$f":"IF($O4394=\"Sunpower Corp.\",3,(IF(OR($Q4394=\"mono\",$Q4394=\"poly\",$Q4394=\"HIT\",$Q4394=\"EFG\",$Q4394=\"mono-LGBC\"),1,IF(OR($Q4394=\"µc-Si / a-Si\",$Q4394=\"a-Si (single)\",$Q4394=\"a-Si (tandem)\",$Q4394=\"a-Si (triple)\"),3,2))))","v":3},{"$f":"IF($O4394=\"Sunpower Corp.\",3,(IF(OR($Q4394=\"mono\",$Q4394=\"poly\",$Q4394=\"HIT\",$Q4394=\"EFG\",$Q4394=\"mono-LGBC\"),1,2)))","v":2},{"$f":"IF($O4394=\"Sunpower Corp.\",3,(IF(OR($Q4394=\"mono\",$Q4394=\"poly\",$Q4394=\"HIT\",$Q4394=\"EFG\",$Q4394=\"mono-LGBC\"),1,IF(OR($Q4394=\"µc-Si / a-Si\",$Q4394=\"a-Si (single)\",$Q4394=\"a-Si (tandem)\",$Q4394=\"a-Si (triple)\"),3,2))))","v":3},0,null,null,6617,null,null,4393]
["ERDM SOLAR ERDM QP-60/12","ERDM SOLAR ","ERDM QP-60/12",60,"+3...-3",16.8,3.6,21.6,3.8,-73.44,1.9,-0.45,1000,null,"Q-Cells AG",11.90662956237793,"poly",36,"square",751,671,50,"aluminum","junction box",8,"www.erdm-solar.com","-","-","-","-","-",{"$f":"IF($O4403=\"Sunpower Corp.\",3,(IF(OR($Q4403=\"mono\",$Q4403=\"poly\",$Q4403=\"HIT\",$Q4403=\"EFG\",$Q4403=\"mono-LGBC\"),1,IF(OR($Q4403=\"µc-Si / a-Si\",$Q4403=\"a-Si (single)\",$Q4403=\"a-Si (tandem)\",$Q4403=\"a-Si (triple)\"),3,2))))","v":1},{"$f":"IF($O4403=\"Sunpower Corp.\",3,(IF(OR($Q4403=\"mono\",$Q4403=\"poly\",$Q4403=\"HIT\",$Q4403=\"EFG\",$Q4403=\"mono-LGBC\"),1,2)))","v":1},{"$f":"IF($O4403=\"Sunpower Corp.\",3,(IF(OR($Q4403=\"mono\",$Q4403=\"poly\",$Q4403=\"HIT\",$Q4403=\"EFG\",$Q4403=\"mono-LGBC\"),1,IF(OR($Q4403=\"µc-Si / a-Si\",$Q4403=\"a-Si (single)\",$Q4403=\"a-Si (tandem)\",$Q4403=\"a-Si (triple)\"),3,2))))","v":1},0,null,null,21586,null,null,4402]
["ET SOLAR INDUSTRY LIMITED ET-M53680","ET SOLAR INDUSTRY LIMITED ","ET-M53680",80,"+3...-1",17.64,4.54,21.88,4.9800000000000004,-73.516799999999989,2.0916000000000001,-0.47,1000,null,null,12.181659698486328,"mono",36,"pseudo-square",1205,545,35,"aluminum","junction box",8.23,"http://www.etsolar.com/de/","-","-","-","-","-",{"$f":"IF($O4433=\"Sunpower Corp.\",3,(IF(OR($Q4433=\"mono\",$Q4433=\"poly\",$Q4433=\"HIT\",$Q4433=\"EFG\",$Q4433=\"mono-LGBC\"),1,IF(OR($Q4433=\"µc-Si / a-Si\",$Q4433=\"a-Si (single)\",$Q4433=\"a-Si (tandem)\",$Q4433=\"a-Si (triple)\"),3,2))))","v":1},{"$f":"IF($O4433=\"Sunpower Corp.\",3,(IF(OR($Q4433=\"mono\",$Q4433=\"poly\",$Q4433=\"HIT\",$Q4433=\"EFG\",$Q4433=\"mono-LGBC\"),1,2)))","v":1},{"$f":"IF($O4433=\"Sunpower Corp.\",3,(IF(OR($Q4433=\"mono\",$Q4433=\"poly\",$Q4433=\"HIT\",$Q4433=\"EFG\",$Q4433=\"mono-LGBC\"),1,IF(OR($Q4433=\"µc-Si / a-Si\",$Q4433=\"a-Si (single)\",$Q4433=\"a-Si (tandem)\",$Q4433=\"a-Si (triple)\"),3,2))))","v":1},0,null,null,6779,null,null,4432]
["ET SOLAR INDUSTRY LIMITED ET-M572200","ET SOLAR INDUSTRY LIMITED ","ET-M572200",200,"+3...-3",37.74,5.3,45.44,5.82,-152.67839999999998,2.4444000000000004,-0.47,1000,null,null,15.666119575500488,"mono",72,"pseudo-square",1580,808,50,"aluminum","junction box",15.9,"www.etsolar.com","-","-","-","-","-",{"$f":"IF($O4448=\"Sunpower Corp.\",3,(IF(OR($Q4448=\"mono\",$Q4448=\"poly\",$Q4448=\"HIT\",$Q4448=\"EFG\",$Q4448=\"mono-LGBC\"),1,IF(OR($Q4448=\"µc-Si / a-Si\",$Q4448=\"a-Si (single)\",$Q4448=\"a-Si (tandem)\",$Q4448=\"a-Si (triple)\"),3,2))))","v":1},{"$f":"IF($O4448=\"Sunpower Corp.\",3,(IF(OR($Q4448=\"mono\",$Q4448=\"poly\",$Q4448=\"HIT\",$Q4448=\"EFG\",$Q4448=\"mono-LGBC\"),1,2)))","v":1},{"$f":"IF($O4448=\"Sunpower Corp.\",3,(IF(OR($Q4448=\"mono\",$Q4448=\"poly\",$Q4448=\"HIT\",$Q4448=\"EFG\",$Q4448=\"mono-LGBC\"),1,IF(OR($Q4448=\"µc-Si / a-Si\",$Q4448=\"a-Si (single)\",$Q4448=\"a-Si (tandem)\",$Q4448=\"a-Si (triple)\"),3,2))))","v":1},0,null,null,31529,null,null,4447]
["ET SOLAR INDUSTRY LIMITED ET-M672285","ET SOLAR INDUSTRY LIMITED ","ET-M672285",285,"+1,75...0",36.03,7.91,44.35,8.52,-155.22499999999999,2.4708000000000001,-0.43,1000,"China",null,14.68805980682373,"mono",72,"square",1956,992,50,"aluminum","junction box",26.5,"www.etsolar.com","-","-","-","-","-",{"$f":"IF($O4459=\"Sunpower Corp.\",3,(IF(OR($Q4459=\"mono\",$Q4459=\"poly\",$Q4459=\"HIT\",$Q4459=\"EFG\",$Q4459=\"mono-LGBC\"),1,IF(OR($Q4459=\"µc-Si / a-Si\",$Q4459=\"a-Si (single)\",$Q4459=\"a-Si (tandem)\",$Q4459=\"a-Si (triple)\"),3,2))))","v":1},{"$f":"IF($O4459=\"Sunpower Corp.\",3,(IF(OR($Q4459=\"mono\",$Q4459=\"poly\",$Q4459=\"HIT\",$Q4459=\"EFG\",$Q4459=\"mono-LGBC\"),1,2)))","v":1},{"$f":"IF($O4459=\"Sunpower Corp.\",3,(IF(OR($Q4459=\"mono\",$Q4459=\"poly\",$Q4459=\"HIT\",$Q4459=\"EFG\",$Q4459=\"mono-LGBC\"),1,IF(OR($Q4459=\"µc-Si / a-Si\",$Q4459=\"a-Si (single)\",$Q4459=\"a-Si (tandem)\",$Q4459=\"a-Si (triple)\"),3,2))))","v":1},0,null,null,25094,null,null,4458]
["ET SOLAR INDUSTRY LIMITED ET-P648175","ET SOLAR INDUSTRY LIMITED ","ET-P648175",175,"+3...-1",23.2,7.54,29.04,8.1,-100.47839999999998,5.2649999999999997,-0.46,1000,null,null,13.324119567871094,"poly",48,"square",1324,992,50,"aluminum","junction box",15.6,"http://www.etsolar.com/de/","-","-","-","-","-",{"$f":"IF($O4477=\"Sunpower Corp.\",3,(IF(OR($Q4477=\"mono\",$Q4477=\"poly\",$Q4477=\"HIT\",$Q4477=\"EFG\",$Q4477=\"mono-LGBC\"),1,IF(OR($Q4477=\"µc-Si / a-Si\",$Q4477=\"a-Si (single)\",$Q4477=\"a-Si (tandem)\",$Q4477=\"a-Si (triple)\"),3,2))))","v":1},{"$f":"IF($O4477=\"Sunpower Corp.\",3,(IF(OR($Q4477=\"mono\",$Q4477=\"poly\",$Q4477=\"HIT\",$Q4477=\"EFG\",$Q4477=\"mono-LGBC\"),1,2)))","v":1},{"$f":"IF($O4477=\"Sunpower Corp.\",3,(IF(OR($Q4477=\"mono\",$Q4477=\"poly\",$Q4477=\"HIT\",$Q4477=\"EFG\",$Q4477=\"mono-LGBC\"),1,IF(OR($Q4477=\"µc-Si / a-Si\",$Q4477=\"a-Si (single)\",$Q4477=\"a-Si (tandem)\",$Q4477=\"a-Si (triple)\"),3,2))))","v":1},0,null,null,6802,null,null,4476]
["ET SOLAR INDUSTRY LIMITED ET-P660245","ET SOLAR INDUSTRY LIMITED ","ET-P660245",240,"+3...-3",30.43,8.0500000000000007,37.200000000000003,8.64,-128.71199999999999,5.6160000000000005,-0.46,1000,"China",null,14.75216007232666,"poly",60,"square",1640,992,50,"aluminum","junction box",19.93,"http://www.etsolar.com/de/","-","-","-","-","-",{"$f":"IF($O4504=\"Sunpower Corp.\",3,(IF(OR($Q4504=\"mono\",$Q4504=\"poly\",$Q4504=\"HIT\",$Q4504=\"EFG\",$Q4504=\"mono-LGBC\"),1,IF(OR($Q4504=\"µc-Si / a-Si\",$Q4504=\"a-Si (single)\",$Q4504=\"a-Si (tandem)\",$Q4504=\"a-Si (triple)\"),3,2))))","v":1},{"$f":"IF($O4504=\"Sunpower Corp.\",3,(IF(OR($Q4504=\"mono\",$Q4504=\"poly\",$Q4504=\"HIT\",$Q4504=\"EFG\",$Q4504=\"mono-LGBC\"),1,2)))","v":1},{"$f":"IF($O4504=\"Sunpower Corp.\",3,(IF(OR($Q4504=\"mono\",$Q4504=\"poly\",$Q4504=\"HIT\",$Q4504=\"EFG\",$Q4504=\"mono-LGBC\"),1,IF(OR($Q4504=\"µc-Si / a-Si\",$Q4504=\"a-Si (single)\",$Q4504=\"a-Si (tandem)\",$Q4504=\"a-Si (triple)\"),3,2))))","v":1},0,null,null,31532,null,null,4503]
["Etern Solar Co., Ltd. ET-185-125M","Etern Solar Co., Ltd. ","ET-185-125M",185,"+3...-3",37.44,4.9400000000000004,44.64,5.55,-169.63200000000001,2.2200000000000002,-0.47,1000,"China",null,14.49116039276123,"mono",72,"pseudo-square",1580,808,35,"aluminum","junction box",15,"www.eternsolar.com","-","-","-","-","-",{"$f":"IF($O4522=\"Sunpower Corp.\",3,(IF(OR($Q4522=\"mono\",$Q4522=\"poly\",$Q4522=\"HIT\",$Q4522=\"EFG\",$Q4522=\"mono-LGBC\"),1,IF(OR($Q4522=\"µc-Si / a-Si\",$Q4522=\"a-Si (single)\",$Q4522=\"a-Si (tandem)\",$Q4522=\"a-Si (triple)\"),3,2))))","v":1},{"$f":"IF($O4522=\"Sunpower Corp.\",3,(IF(OR($Q4522=\"mono\",$Q4522=\"poly\",$Q4522=\"HIT\",$Q4522=\"EFG\",$Q4522=\"mono-LGBC\"),1,2)))","v":1},{"$f":"IF($O4522=\"Sunpower Corp.\",3,(IF(OR($Q4522=\"mono\",$Q4522=\"poly\",$Q4522=\"HIT\",$Q4522=\"EFG\",$Q4522=\"mono-LGBC\"),1,IF(OR($Q4522=\"µc-Si / a-Si\",$Q4522=\"a-Si (single)\",$Q4522=\"a-Si (tandem)\",$Q4522=\"a-Si (triple)\"),3,2))))","v":1},0,null,null,20356,null,null,4521]
["Eternal Solar PV Technology Co., Ltd poly 240 W","Eternal Solar PV Technology Co., Ltd ","poly 240 W",240,"+5...-5",29.4,8.16,36.5,8.5,-126.29,5.5250000000000004,-0.48799999999999999,1000,"China",null,14.75216007232666,"poly",60,"square",1640,992,50,"aluminum","junction box",null,"www.spöar-yh.com","-","-","-","-","-",{"$f":"IF($O4549=\"Sunpower Corp.\",3,(IF(OR($Q4549=\"mono\",$Q4549=\"poly\",$Q4549=\"HIT\",$Q4549=\"EFG\",$Q4549=\"mono-LGBC\"),1,IF(OR($Q4549=\"µc-Si / a-Si\",$Q4549=\"a-Si (single)\",$Q4549=\"a-Si (tandem)\",$Q4549=\"a-Si (triple)\"),3,2))))","v":1},{"$f":"IF($O4549=\"Sunpower Corp.\",3,(IF(OR($Q4549=\"mono\",$Q4549=\"poly\",$Q4549=\"HIT\",$Q4549=\"EFG\",$Q4549=\"mono-LGBC\"),1,2)))","v":1},{"$f":"IF($O4549=\"Sunpower Corp.\",3,(IF(OR($Q4549=\"mono\",$Q4549=\"poly\",$Q4549=\"HIT\",$Q4549=\"EFG\",$Q4549=\"mono-LGBC\"),1,IF(OR($Q4549=\"µc-Si / a-Si\",$Q4549=\"a-Si (single)\",$Q4549=\"a-Si (tandem)\",$Q4549=\"a-Si (triple)\"),3,2))))","v":1},0,null,null,21382,null,null,4548]
["Eurener, S.L. Perfect 25 / PEPV 225","Eurener, S.L. ","Perfect 25 / PEPV 225",225,"+3...0",29.96,7.52,36.840000000000003,8.15,-114.94080000000001,6.1124999999999998,-0.40500000000000003,1000,"Spain",null,13.451720237731934,"poly",60,"square",1676,998,41,"aluminum","junction box MC",22,"www.eurener.com","-","-","-","-","-",{"$f":"IF($O4567=\"Sunpower Corp.\",3,(IF(OR($Q4567=\"mono\",$Q4567=\"poly\",$Q4567=\"HIT\",$Q4567=\"EFG\",$Q4567=\"mono-LGBC\"),1,IF(OR($Q4567=\"µc-Si / a-Si\",$Q4567=\"a-Si (single)\",$Q4567=\"a-Si (tandem)\",$Q4567=\"a-Si (triple)\"),3,2))))","v":1},{"$f":"IF($O4567=\"Sunpower Corp.\",3,(IF(OR($Q4567=\"mono\",$Q4567=\"poly\",$Q4567=\"HIT\",$Q4567=\"EFG\",$Q4567=\"mono-LGBC\"),1,2)))","v":1},{"$f":"IF($O4567=\"Sunpower Corp.\",3,(IF(OR($Q4567=\"mono\",$Q4567=\"poly\",$Q4567=\"HIT\",$Q4567=\"EFG\",$Q4567=\"mono-LGBC\"),1,IF(OR($Q4567=\"µc-Si / a-Si\",$Q4567=\"a-Si (single)\",$Q4567=\"a-Si (tandem)\",$Q4567=\"a-Si (triple)\"),3,2))))","v":1},0,null,null,18070,null,null,4566]
["Evergreen Solar Inc. ES-B-195-fb1","Evergreen Solar Inc. ","ES-B-195-fb1",195,"+1,3...0",17.600000000000001,11.08,21.7,12.11,-73.78,7.2659999999999991,-0.49,1000,"Germany","Evergreen Solar",13.052029609680176,"ribbon",108,"rectangular",1571,951,41,"aluminum","junction box MC4",18,"www.evergreensolar.com","-","-","-","-","-",{"$f":"IF($O4588=\"Sunpower Corp.\",3,(IF(OR($Q4588=\"mono\",$Q4588=\"poly\",$Q4588=\"HIT\",$Q4588=\"EFG\",$Q4588=\"mono-LGBC\"),1,IF(OR($Q4588=\"µc-Si / a-Si\",$Q4588=\"a-Si (single)\",$Q4588=\"a-Si (tandem)\",$Q4588=\"a-Si (triple)\"),3,2))))","v":2},{"$f":"IF($O4588=\"Sunpower Corp.\",3,(IF(OR($Q4588=\"mono\",$Q4588=\"poly\",$Q4588=\"HIT\",$Q4588=\"EFG\",$Q4588=\"mono-LGBC\"),1,2)))","v":2},{"$f":"IF($O4588=\"Sunpower Corp.\",3,(IF(OR($Q4588=\"mono\",$Q4588=\"poly\",$Q4588=\"HIT\",$Q4588=\"EFG\",$Q4588=\"mono-LGBC\"),1,IF(OR($Q4588=\"µc-Si / a-Si\",$Q4588=\"a-Si (single)\",$Q4588=\"a-Si (tandem)\",$Q4588=\"a-Si (triple)\"),3,2))))","v":2},0,null,null,8924,null,null,4587]
["Evergreen Solar Inc. ES-C-125-fa4","Evergreen Solar Inc. ","ES-C-125-fa4",125,"+5...-5",18.36,6.81,22.63,7.37,-70.152999999999992,3.6850000000000001,-0.43,1000,null,"Evergreen Solar",12.095760345458984,"ribbon",null,"rectangular",1585,652,41,"aluminum","junction box",12.3,null,"-","-","-","-","-",{"$f":"IF($O4592=\"Sunpower Corp.\",3,(IF(OR($Q4592=\"mono\",$Q4592=\"poly\",$Q4592=\"HIT\",$Q4592=\"EFG\",$Q4592=\"mono-LGBC\"),1,IF(OR($Q4592=\"µc-Si / a-Si\",$Q4592=\"a-Si (single)\",$Q4592=\"a-Si (tandem)\",$Q4592=\"a-Si (triple)\"),3,2))))","v":2},{"$f":"IF($O4592=\"Sunpower Corp.\",3,(IF(OR($Q4592=\"mono\",$Q4592=\"poly\",$Q4592=\"HIT\",$Q4592=\"EFG\",$Q4592=\"mono-LGBC\"),1,2)))","v":2},{"$f":"IF($O4592=\"Sunpower Corp.\",3,(IF(OR($Q4592=\"mono\",$Q4592=\"poly\",$Q4592=\"HIT\",$Q4592=\"EFG\",$Q4592=\"mono-LGBC\"),1,IF(OR($Q4592=\"µc-Si / a-Si\",$Q4592=\"a-Si (single)\",$Q4592=\"a-Si (tandem)\",$Q4592=\"a-Si (triple)\"),3,2))))","v":2},0,null,null,12399,null,null,4591]
["Everlight Corporation Limited EL-36/6M130","Everlight Corporation Limited ","EL-36/6M130",130,"+...",18.2,7.15,21.8,7.9,-95.048000000000002,5.1349999999999998,-0.45,null,null,null,12.976229667663574,"mono",36,"pseudo-square",1482,676,35,"aluminum","junction box",13,"www.everlight-solar.com","-","-","-","-","-",{"$f":"IF($O4614=\"Sunpower Corp.\",3,(IF(OR($Q4614=\"mono\",$Q4614=\"poly\",$Q4614=\"HIT\",$Q4614=\"EFG\",$Q4614=\"mono-LGBC\"),1,IF(OR($Q4614=\"µc-Si / a-Si\",$Q4614=\"a-Si (single)\",$Q4614=\"a-Si (tandem)\",$Q4614=\"a-Si (triple)\"),3,2))))","v":1},{"$f":"IF($O4614=\"Sunpower Corp.\",3,(IF(OR($Q4614=\"mono\",$Q4614=\"poly\",$Q4614=\"HIT\",$Q4614=\"EFG\",$Q4614=\"mono-LGBC\"),1,2)))","v":1},{"$f":"IF($O4614=\"Sunpower Corp.\",3,(IF(OR($Q4614=\"mono\",$Q4614=\"poly\",$Q4614=\"HIT\",$Q4614=\"EFG\",$Q4614=\"mono-LGBC\"),1,IF(OR($Q4614=\"µc-Si / a-Si\",$Q4614=\"a-Si (single)\",$Q4614=\"a-Si (tandem)\",$Q4614=\"a-Si (triple)\"),3,2))))","v":1},0,null,null,18987,null,null,4613]
["Everlight Corporation Limited EL-54/6P200","Everlight Corporation Limited ","EL-54/6P200",200,"+...",27.4,7.29,34.200000000000003,7.75,-149.11200000000002,5.0374999999999996,-0.45,1000,null,null,13.604109764099121,"poly",54,"square",1482,992,35,"aluminum","junction box",17.8,"www.everlight-solar.com","-","-","-","-","-",{"$f":"IF($O4637=\"Sunpower Corp.\",3,(IF(OR($Q4637=\"mono\",$Q4637=\"poly\",$Q4637=\"HIT\",$Q4637=\"EFG\",$Q4637=\"mono-LGBC\"),1,IF(OR($Q4637=\"µc-Si / a-Si\",$Q4637=\"a-Si (single)\",$Q4637=\"a-Si (tandem)\",$Q4637=\"a-Si (triple)\"),3,2))))","v":1},{"$f":"IF($O4637=\"Sunpower Corp.\",3,(IF(OR($Q4637=\"mono\",$Q4637=\"poly\",$Q4637=\"HIT\",$Q4637=\"EFG\",$Q4637=\"mono-LGBC\"),1,2)))","v":1},{"$f":"IF($O4637=\"Sunpower Corp.\",3,(IF(OR($Q4637=\"mono\",$Q4637=\"poly\",$Q4637=\"HIT\",$Q4637=\"EFG\",$Q4637=\"mono-LGBC\"),1,IF(OR($Q4637=\"µc-Si / a-Si\",$Q4637=\"a-Si (single)\",$Q4637=\"a-Si (tandem)\",$Q4637=\"a-Si (triple)\"),3,2))))","v":1},0,null,null,19061,null,null,4636]
["Exel Group S.A. ESP 200 poly Premium","Exel Group S.A. ","ESP 200 poly Premium",200,"+2,5...0",28.35,7.06,35.5,7.78,-120.7,5.4460000000000015,-0.45,1000,null,null,12.243650436401367,"poly",60,"square",1650,990,45.5,"aluminum","junction box",20,"www.exelgroup.gr","-","-","-","-","-",{"$f":"IF($O4662=\"Sunpower Corp.\",3,(IF(OR($Q4662=\"mono\",$Q4662=\"poly\",$Q4662=\"HIT\",$Q4662=\"EFG\",$Q4662=\"mono-LGBC\"),1,IF(OR($Q4662=\"µc-Si / a-Si\",$Q4662=\"a-Si (single)\",$Q4662=\"a-Si (tandem)\",$Q4662=\"a-Si (triple)\"),3,2))))","v":1},{"$f":"IF($O4662=\"Sunpower Corp.\",3,(IF(OR($Q4662=\"mono\",$Q4662=\"poly\",$Q4662=\"HIT\",$Q4662=\"EFG\",$Q4662=\"mono-LGBC\"),1,2)))","v":1},{"$f":"IF($O4662=\"Sunpower Corp.\",3,(IF(OR($Q4662=\"mono\",$Q4662=\"poly\",$Q4662=\"HIT\",$Q4662=\"EFG\",$Q4662=\"mono-LGBC\"),1,IF(OR($Q4662=\"µc-Si / a-Si\",$Q4662=\"a-Si (single)\",$Q4662=\"a-Si (tandem)\",$Q4662=\"a-Si (triple)\"),3,2))))","v":1},0,null,null,28766,null,null,4661]
["Exel Group S.A. Esp 230","Exel Group S.A. ","Esp 230",230,"+3...-3",28.9,8,36.4,8.48,-127.4,2.544,-0.43,1000,"Greece","Q-Cells AG",14.0802001953125,"poly",60,"square",1650,990,50,"aluminum",null,20,"www.exelgroup.gr","-","-","-","-","-",{"$f":"IF($O4679=\"Sunpower Corp.\",3,(IF(OR($Q4679=\"mono\",$Q4679=\"poly\",$Q4679=\"HIT\",$Q4679=\"EFG\",$Q4679=\"mono-LGBC\"),1,IF(OR($Q4679=\"µc-Si / a-Si\",$Q4679=\"a-Si (single)\",$Q4679=\"a-Si (tandem)\",$Q4679=\"a-Si (triple)\"),3,2))))","v":1},{"$f":"IF($O4679=\"Sunpower Corp.\",3,(IF(OR($Q4679=\"mono\",$Q4679=\"poly\",$Q4679=\"HIT\",$Q4679=\"EFG\",$Q4679=\"mono-LGBC\"),1,2)))","v":1},{"$f":"IF($O4679=\"Sunpower Corp.\",3,(IF(OR($Q4679=\"mono\",$Q4679=\"poly\",$Q4679=\"HIT\",$Q4679=\"EFG\",$Q4679=\"mono-LGBC\"),1,IF(OR($Q4679=\"µc-Si / a-Si\",$Q4679=\"a-Si (single)\",$Q4679=\"a-Si (tandem)\",$Q4679=\"a-Si (triple)\"),3,2))))","v":1},0,null,null,13255,null,null,4678]
["Felicioni Energy s.r.l. JS200M(P) poly","Felicioni Energy s.r.l. ","JS200M(P) poly",200,"+3...-3",28.7,6.97,36,8.25,-12.96,2.4750000000000001,-0.55000000000000004,1000,null,null,12.218959808349609,"poly",60,"square",1650,992,50,null,"junction box MC4",20,null,"-","-","-","-","-",{"$f":"IF($O4707=\"Sunpower Corp.\",3,(IF(OR($Q4707=\"mono\",$Q4707=\"poly\",$Q4707=\"HIT\",$Q4707=\"EFG\",$Q4707=\"mono-LGBC\"),1,IF(OR($Q4707=\"µc-Si / a-Si\",$Q4707=\"a-Si (single)\",$Q4707=\"a-Si (tandem)\",$Q4707=\"a-Si (triple)\"),3,2))))","v":1},{"$f":"IF($O4707=\"Sunpower Corp.\",3,(IF(OR($Q4707=\"mono\",$Q4707=\"poly\",$Q4707=\"HIT\",$Q4707=\"EFG\",$Q4707=\"mono-LGBC\"),1,2)))","v":1},{"$f":"IF($O4707=\"Sunpower Corp.\",3,(IF(OR($Q4707=\"mono\",$Q4707=\"poly\",$Q4707=\"HIT\",$Q4707=\"EFG\",$Q4707=\"mono-LGBC\"),1,IF(OR($Q4707=\"µc-Si / a-Si\",$Q4707=\"a-Si (single)\",$Q4707=\"a-Si (tandem)\",$Q4707=\"a-Si (triple)\"),3,2))))","v":1},0,null,null,24272,null,null,4706]
["Ferrania Solis S.r.l. AP 60-225","Ferrania Solis S.r.l. ","AP 60-225",225,"+3...0",29.1,7.85,37.119999999999997,8.2899999999999991,-115.07199999999999,5.8029999999999999,-0.4,1000,"Italy",null,13.556879997253418,"poly",60,"square",1663,998,45,"aluminum","junction box",22,"www.ferraniasolis.com","-","-","-","-","-",{"$f":"IF($O4724=\"Sunpower Corp.\",3,(IF(OR($Q4724=\"mono\",$Q4724=\"poly\",$Q4724=\"HIT\",$Q4724=\"EFG\",$Q4724=\"mono-LGBC\"),1,IF(OR($Q4724=\"µc-Si / a-Si\",$Q4724=\"a-Si (single)\",$Q4724=\"a-Si (tandem)\",$Q4724=\"a-Si (triple)\"),3,2))))","v":1},{"$f":"IF($O4724=\"Sunpower Corp.\",3,(IF(OR($Q4724=\"mono\",$Q4724=\"poly\",$Q4724=\"HIT\",$Q4724=\"EFG\",$Q4724=\"mono-LGBC\"),1,2)))","v":1},{"$f":"IF($O4724=\"Sunpower Corp.\",3,(IF(OR($Q4724=\"mono\",$Q4724=\"poly\",$Q4724=\"HIT\",$Q4724=\"EFG\",$Q4724=\"mono-LGBC\"),1,IF(OR($Q4724=\"µc-Si / a-Si\",$Q4724=\"a-Si (single)\",$Q4724=\"a-Si (tandem)\",$Q4724=\"a-Si (triple)\"),3,2))))","v":1},0,null,null,15545,null,null,4723]
["Fire Energy Italia S.r.l. FE-195M","Fire Energy Italia S.r.l.","FE-195M","195,0","+3...-3","38,0","5,2","44,5","5,62","-151,3","2,14","-0,48","1000,0","China","-","15,3","mono","-","-","1580,0","808,0","35,0","-","-","16,5","-","-","-","-","-","-",{"$f":"IF($O4736=\"Sunpower Corp.\",3,(IF(OR($Q4736=\"mono\",$Q4736=\"poly\",$Q4736=\"HIT\",$Q4736=\"EFG\",$Q4736=\"mono-LGBC\"),1,IF(OR($Q4736=\"µc-Si / a-Si\",$Q4736=\"a-Si (single)\",$Q4736=\"a-Si (tandem)\",$Q4736=\"a-Si (triple)\"),3,2))))","v":1},{"$f":"IF($O4736=\"Sunpower Corp.\",3,(IF(OR($Q4736=\"mono\",$Q4736=\"poly\",$Q4736=\"HIT\",$Q4736=\"EFG\",$Q4736=\"mono-LGBC\"),1,2)))","v":1},{"$f":"IF($O4736=\"Sunpower Corp.\",3,(IF(OR($Q4736=\"mono\",$Q4736=\"poly\",$Q4736=\"HIT\",$Q4736=\"EFG\",$Q4736=\"mono-LGBC\"),1,IF(OR($Q4736=\"µc-Si / a-Si\",$Q4736=\"a-Si (single)\",$Q4736=\"a-Si (tandem)\",$Q4736=\"a-Si (triple)\"),3,2))))","v":1},null,null,null,"NEW",null,null,4735]
["Fire Energy Italia S.r.l. FE 230Wp","Fire Energy Italia S.r.l. ","FE 230Wp",230,"+3...-3",29.8,7.72,38.200000000000003,8.36,-152.80000000000001,5.4339999999999993,-0.5,1000,"China",null,14.006560325622559,"mono",60,"pseudo-square",1652,994,45,null,"junction box",20,"www.fire-energy.net","-","-","-","-","-",{"$f":"IF($O4750=\"Sunpower Corp.\",3,(IF(OR($Q4750=\"mono\",$Q4750=\"poly\",$Q4750=\"HIT\",$Q4750=\"EFG\",$Q4750=\"mono-LGBC\"),1,IF(OR($Q4750=\"µc-Si / a-Si\",$Q4750=\"a-Si (single)\",$Q4750=\"a-Si (tandem)\",$Q4750=\"a-Si (triple)\"),3,2))))","v":1},{"$f":"IF($O4750=\"Sunpower Corp.\",3,(IF(OR($Q4750=\"mono\",$Q4750=\"poly\",$Q4750=\"HIT\",$Q4750=\"EFG\",$Q4750=\"mono-LGBC\"),1,2)))","v":1},{"$f":"IF($O4750=\"Sunpower Corp.\",3,(IF(OR($Q4750=\"mono\",$Q4750=\"poly\",$Q4750=\"HIT\",$Q4750=\"EFG\",$Q4750=\"mono-LGBC\"),1,IF(OR($Q4750=\"µc-Si / a-Si\",$Q4750=\"a-Si (single)\",$Q4750=\"a-Si (tandem)\",$Q4750=\"a-Si (triple)\"),3,2))))","v":1},0,null,null,9392,null,null,4749]
["FLIMPEX AG PVMS-A1 185","FLIMPEX AG ","PVMS-A1 185",185,"+3...-3",35.799999999999997,5.17,44,5.56,-220,2.78,-0.34,1000,null,"Suntech Power Co., Ltd.",14.49116039276123,"mono",72,"pseudo-square",1580,808,35,"aluminum","junction box MC4",15,null,"-","-","-","-","-",{"$f":"IF($O4781=\"Sunpower Corp.\",3,(IF(OR($Q4781=\"mono\",$Q4781=\"poly\",$Q4781=\"HIT\",$Q4781=\"EFG\",$Q4781=\"mono-LGBC\"),1,IF(OR($Q4781=\"µc-Si / a-Si\",$Q4781=\"a-Si (single)\",$Q4781=\"a-Si (tandem)\",$Q4781=\"a-Si (triple)\"),3,2))))","v":1},{"$f":"IF($O4781=\"Sunpower Corp.\",3,(IF(OR($Q4781=\"mono\",$Q4781=\"poly\",$Q4781=\"HIT\",$Q4781=\"EFG\",$Q4781=\"mono-LGBC\"),1,2)))","v":1},{"$f":"IF($O4781=\"Sunpower Corp.\",3,(IF(OR($Q4781=\"mono\",$Q4781=\"poly\",$Q4781=\"HIT\",$Q4781=\"EFG\",$Q4781=\"mono-LGBC\"),1,IF(OR($Q4781=\"µc-Si / a-Si\",$Q4781=\"a-Si (single)\",$Q4781=\"a-Si (tandem)\",$Q4781=\"a-Si (triple)\"),3,2))))","v":1},0,null,null,6030,null,null,4780]
["Fluitecnik, S.A. FTS-225P","Fluitecnik, S.A. ","FTS-225P",225,"+3...-3",29.54,7.64,37.03,8.4,-122.199,5.04,-0.45,1000,"various","NSP",13.889399528503418,"poly",60,"square",1653,980,45,"aluminum","junction box Tyco",21.5,"www.fluitecnik.com","-","-","-","-","-",{"$f":"IF($O4795=\"Sunpower Corp.\",3,(IF(OR($Q4795=\"mono\",$Q4795=\"poly\",$Q4795=\"HIT\",$Q4795=\"EFG\",$Q4795=\"mono-LGBC\"),1,IF(OR($Q4795=\"µc-Si / a-Si\",$Q4795=\"a-Si (single)\",$Q4795=\"a-Si (tandem)\",$Q4795=\"a-Si (triple)\"),3,2))))","v":1},{"$f":"IF($O4795=\"Sunpower Corp.\",3,(IF(OR($Q4795=\"mono\",$Q4795=\"poly\",$Q4795=\"HIT\",$Q4795=\"EFG\",$Q4795=\"mono-LGBC\"),1,2)))","v":1},{"$f":"IF($O4795=\"Sunpower Corp.\",3,(IF(OR($Q4795=\"mono\",$Q4795=\"poly\",$Q4795=\"HIT\",$Q4795=\"EFG\",$Q4795=\"mono-LGBC\"),1,IF(OR($Q4795=\"µc-Si / a-Si\",$Q4795=\"a-Si (single)\",$Q4795=\"a-Si (tandem)\",$Q4795=\"a-Si (triple)\"),3,2))))","v":1},0,null,null,20049,null,null,4794]
["Fluitecnik, S.A. FTS-250P","Fluitecnik, S.A. ","FTS-250P",250,"+3...-3",34.64,7.14,43.93,7.68,-144.96899999999999,4.6079999999999997,-0.45,1000,"various","NSP",12.942770004272461,"poly",72,"square",1971,980,45,"aluminum","junction box Tyco",21.5,"www.fluitecnik.com","-","-","-","-","-",{"$f":"IF($O4806=\"Sunpower Corp.\",3,(IF(OR($Q4806=\"mono\",$Q4806=\"poly\",$Q4806=\"HIT\",$Q4806=\"EFG\",$Q4806=\"mono-LGBC\"),1,IF(OR($Q4806=\"µc-Si / a-Si\",$Q4806=\"a-Si (single)\",$Q4806=\"a-Si (tandem)\",$Q4806=\"a-Si (triple)\"),3,2))))","v":1},{"$f":"IF($O4806=\"Sunpower Corp.\",3,(IF(OR($Q4806=\"mono\",$Q4806=\"poly\",$Q4806=\"HIT\",$Q4806=\"EFG\",$Q4806=\"mono-LGBC\"),1,2)))","v":1},{"$f":"IF($O4806=\"Sunpower Corp.\",3,(IF(OR($Q4806=\"mono\",$Q4806=\"poly\",$Q4806=\"HIT\",$Q4806=\"EFG\",$Q4806=\"mono-LGBC\"),1,IF(OR($Q4806=\"µc-Si / a-Si\",$Q4806=\"a-Si (single)\",$Q4806=\"a-Si (tandem)\",$Q4806=\"a-Si (triple)\"),3,2))))","v":1},0,null,null,20054,null,null,4805]
["Formaro GmbH FM 200(240)","Formaro GmbH ","FM 200(240)",240,"+3...-3",29.1,8.16,36.299999999999997,9.18,-137.94,3.6719999999999997,null,1000,null,null,14.781970024108887,"mono",60,"pseudo-square",1640,990,50,"aluminum","junction box",19,"www.formaro.com","-","-","-","-","-",{"$f":"IF($O4834=\"Sunpower Corp.\",3,(IF(OR($Q4834=\"mono\",$Q4834=\"poly\",$Q4834=\"HIT\",$Q4834=\"EFG\",$Q4834=\"mono-LGBC\"),1,IF(OR($Q4834=\"µc-Si / a-Si\",$Q4834=\"a-Si (single)\",$Q4834=\"a-Si (tandem)\",$Q4834=\"a-Si (triple)\"),3,2))))","v":1},{"$f":"IF($O4834=\"Sunpower Corp.\",3,(IF(OR($Q4834=\"mono\",$Q4834=\"poly\",$Q4834=\"HIT\",$Q4834=\"EFG\",$Q4834=\"mono-LGBC\"),1,2)))","v":1},{"$f":"IF($O4834=\"Sunpower Corp.\",3,(IF(OR($Q4834=\"mono\",$Q4834=\"poly\",$Q4834=\"HIT\",$Q4834=\"EFG\",$Q4834=\"mono-LGBC\"),1,IF(OR($Q4834=\"µc-Si / a-Si\",$Q4834=\"a-Si (single)\",$Q4834=\"a-Si (tandem)\",$Q4834=\"a-Si (triple)\"),3,2))))","v":1},0,null,null,6824,null,null,4833]
["Formaro GmbH FM-BIPV 100m (110)","Formaro GmbH ","FM-BIPV 100m (110)",110,"+5...-5",14.56,7.55,18.45,8.02,-62.73,3.2079999999999997,-0.47,1000,null,null,11.095640182495117,"mono",30,"pseudo-square",1066,930,13.5,"frameless","junction box",31,"www.formaro.com","-","-","-","-","-",{"$f":"IF($O4851=\"Sunpower Corp.\",3,(IF(OR($Q4851=\"mono\",$Q4851=\"poly\",$Q4851=\"HIT\",$Q4851=\"EFG\",$Q4851=\"mono-LGBC\"),1,IF(OR($Q4851=\"µc-Si / a-Si\",$Q4851=\"a-Si (single)\",$Q4851=\"a-Si (tandem)\",$Q4851=\"a-Si (triple)\"),3,2))))","v":1},{"$f":"IF($O4851=\"Sunpower Corp.\",3,(IF(OR($Q4851=\"mono\",$Q4851=\"poly\",$Q4851=\"HIT\",$Q4851=\"EFG\",$Q4851=\"mono-LGBC\"),1,2)))","v":1},{"$f":"IF($O4851=\"Sunpower Corp.\",3,(IF(OR($Q4851=\"mono\",$Q4851=\"poly\",$Q4851=\"HIT\",$Q4851=\"EFG\",$Q4851=\"mono-LGBC\"),1,IF(OR($Q4851=\"µc-Si / a-Si\",$Q4851=\"a-Si (single)\",$Q4851=\"a-Si (tandem)\",$Q4851=\"a-Si (triple)\"),3,2))))","v":1},0,null,null,18863,null,null,4850]
["France Raccord SA SST 180","France Raccord SA ","SST 180",180,"+3...-3",35.4,5.09,44.6,5.4,-156.1,3.24,-0.47,1000,null,"China Sunergy",14.099510192871094,"mono",72,"pseudo-square",1580,808,null,null,"junction box",null,"www.3a-energies.com","-","-","-","-","-",{"$f":"IF($O4879=\"Sunpower Corp.\",3,(IF(OR($Q4879=\"mono\",$Q4879=\"poly\",$Q4879=\"HIT\",$Q4879=\"EFG\",$Q4879=\"mono-LGBC\"),1,IF(OR($Q4879=\"µc-Si / a-Si\",$Q4879=\"a-Si (single)\",$Q4879=\"a-Si (tandem)\",$Q4879=\"a-Si (triple)\"),3,2))))","v":1},{"$f":"IF($O4879=\"Sunpower Corp.\",3,(IF(OR($Q4879=\"mono\",$Q4879=\"poly\",$Q4879=\"HIT\",$Q4879=\"EFG\",$Q4879=\"mono-LGBC\"),1,2)))","v":1},{"$f":"IF($O4879=\"Sunpower Corp.\",3,(IF(OR($Q4879=\"mono\",$Q4879=\"poly\",$Q4879=\"HIT\",$Q4879=\"EFG\",$Q4879=\"mono-LGBC\"),1,IF(OR($Q4879=\"µc-Si / a-Si\",$Q4879=\"a-Si (single)\",$Q4879=\"a-Si (tandem)\",$Q4879=\"a-Si (triple)\"),3,2))))","v":1},0,null,null,19940,null,null,4878]
["Frankfurt Solar GmbH FS190W-MONO","Frankfurt Solar GmbH ","FS190W-MONO",190,"+...0",37.1,5.12,45.1,5.54,-157.85,2.2160000000000002,-0.47,1000,"China",null,14.882820129394531,"mono",72,"pseudo-square",1580,808,46,"aluminum","junction box",15.5,"www.frankfurt-solar.com","-","-","-","-","-",{"$f":"IF($O4896=\"Sunpower Corp.\",3,(IF(OR($Q4896=\"mono\",$Q4896=\"poly\",$Q4896=\"HIT\",$Q4896=\"EFG\",$Q4896=\"mono-LGBC\"),1,IF(OR($Q4896=\"µc-Si / a-Si\",$Q4896=\"a-Si (single)\",$Q4896=\"a-Si (tandem)\",$Q4896=\"a-Si (triple)\"),3,2))))","v":1},{"$f":"IF($O4896=\"Sunpower Corp.\",3,(IF(OR($Q4896=\"mono\",$Q4896=\"poly\",$Q4896=\"HIT\",$Q4896=\"EFG\",$Q4896=\"mono-LGBC\"),1,2)))","v":1},{"$f":"IF($O4896=\"Sunpower Corp.\",3,(IF(OR($Q4896=\"mono\",$Q4896=\"poly\",$Q4896=\"HIT\",$Q4896=\"EFG\",$Q4896=\"mono-LGBC\"),1,IF(OR($Q4896=\"µc-Si / a-Si\",$Q4896=\"a-Si (single)\",$Q4896=\"a-Si (tandem)\",$Q4896=\"a-Si (triple)\"),3,2))))","v":1},0,null,null,27051,null,null,4895]
["Future Solar Energy Ltd. FS-M536(70W)","Future Solar Energy Ltd. ","FS-M536(70W)",70,"+3...-3",16.899999999999999,4.1399999999999997,21.45,4.45,-85.156500000000008,2.67,-0.54900000000000004,1000,null,null,10.363690376281738,"mono",36,"pseudo-square",1217,555,34,"aluminum","junction box",8.1999999999999993,null,"-","-","-","-","-",{"$f":"IF($O4905=\"Sunpower Corp.\",3,(IF(OR($Q4905=\"mono\",$Q4905=\"poly\",$Q4905=\"HIT\",$Q4905=\"EFG\",$Q4905=\"mono-LGBC\"),1,IF(OR($Q4905=\"µc-Si / a-Si\",$Q4905=\"a-Si (single)\",$Q4905=\"a-Si (tandem)\",$Q4905=\"a-Si (triple)\"),3,2))))","v":1},{"$f":"IF($O4905=\"Sunpower Corp.\",3,(IF(OR($Q4905=\"mono\",$Q4905=\"poly\",$Q4905=\"HIT\",$Q4905=\"EFG\",$Q4905=\"mono-LGBC\"),1,2)))","v":1},{"$f":"IF($O4905=\"Sunpower Corp.\",3,(IF(OR($Q4905=\"mono\",$Q4905=\"poly\",$Q4905=\"HIT\",$Q4905=\"EFG\",$Q4905=\"mono-LGBC\"),1,IF(OR($Q4905=\"µc-Si / a-Si\",$Q4905=\"a-Si (single)\",$Q4905=\"a-Si (tandem)\",$Q4905=\"a-Si (triple)\"),3,2))))","v":1},0,null,null,6850,null,null,4904]
["Future Solar Energy Ltd. FS-P636(125W)","Future Solar Energy Ltd. ","FS-P636(125W)",125,"+3...-3",17.399999999999999,7.18,21.75,7.8,-75.254999999999995,5.07,-0.48799999999999999,1000,null,null,12.477140426635742,"poly",36,"square",1482,676,34,"aluminum","junction box",12,null,"-","-","-","-","-",{"$f":"IF($O4925=\"Sunpower Corp.\",3,(IF(OR($Q4925=\"mono\",$Q4925=\"poly\",$Q4925=\"HIT\",$Q4925=\"EFG\",$Q4925=\"mono-LGBC\"),1,IF(OR($Q4925=\"µc-Si / a-Si\",$Q4925=\"a-Si (single)\",$Q4925=\"a-Si (tandem)\",$Q4925=\"a-Si (triple)\"),3,2))))","v":1},{"$f":"IF($O4925=\"Sunpower Corp.\",3,(IF(OR($Q4925=\"mono\",$Q4925=\"poly\",$Q4925=\"HIT\",$Q4925=\"EFG\",$Q4925=\"mono-LGBC\"),1,2)))","v":1},{"$f":"IF($O4925=\"Sunpower Corp.\",3,(IF(OR($Q4925=\"mono\",$Q4925=\"poly\",$Q4925=\"HIT\",$Q4925=\"EFG\",$Q4925=\"mono-LGBC\"),1,IF(OR($Q4925=\"µc-Si / a-Si\",$Q4925=\"a-Si (single)\",$Q4925=\"a-Si (tandem)\",$Q4925=\"a-Si (triple)\"),3,2))))","v":1},0,null,null,6855,null,null,4924]
["Future Solar Energy Ltd. FS-P660230","Future Solar Energy Ltd. ","FS-P660230",230,"+3...-1",29.4,7.82,36.5,8.3000000000000007,-126.29,5.3949999999999996,-0.46,1000,null,null,14.137490272521973,"poly",60,"square",1640,992,50,null,"junction box",19.93,"www.futuresolarcorp.com","-","-","-","-","-",{"$f":"IF($O4950=\"Sunpower Corp.\",3,(IF(OR($Q4950=\"mono\",$Q4950=\"poly\",$Q4950=\"HIT\",$Q4950=\"EFG\",$Q4950=\"mono-LGBC\"),1,IF(OR($Q4950=\"µc-Si / a-Si\",$Q4950=\"a-Si (single)\",$Q4950=\"a-Si (tandem)\",$Q4950=\"a-Si (triple)\"),3,2))))","v":1},{"$f":"IF($O4950=\"Sunpower Corp.\",3,(IF(OR($Q4950=\"mono\",$Q4950=\"poly\",$Q4950=\"HIT\",$Q4950=\"EFG\",$Q4950=\"mono-LGBC\"),1,2)))","v":1},{"$f":"IF($O4950=\"Sunpower Corp.\",3,(IF(OR($Q4950=\"mono\",$Q4950=\"poly\",$Q4950=\"HIT\",$Q4950=\"EFG\",$Q4950=\"mono-LGBC\"),1,IF(OR($Q4950=\"µc-Si / a-Si\",$Q4950=\"a-Si (single)\",$Q4950=\"a-Si (tandem)\",$Q4950=\"a-Si (triple)\"),3,2))))","v":1},0,null,null,20086,null,null,4949]
["FVG Energy srl FVG 36-125 95M-MC","FVG Energy srl ","FVG 36-125 95M-MC",95,"+5...-5",18.649999999999999,5.0999999999999996,22.3,5.5,-78.05,2.75,-0.45,700,"China",null,14.834589958190918,"mono",36,"pseudo-square",1197,535,35,"aluminum","junction box MC4",9.1999999999999993,"www.fvgenergy.com","-","-","-","-","-",{"$f":"IF($O4970=\"Sunpower Corp.\",3,(IF(OR($Q4970=\"mono\",$Q4970=\"poly\",$Q4970=\"HIT\",$Q4970=\"EFG\",$Q4970=\"mono-LGBC\"),1,IF(OR($Q4970=\"µc-Si / a-Si\",$Q4970=\"a-Si (single)\",$Q4970=\"a-Si (tandem)\",$Q4970=\"a-Si (triple)\"),3,2))))","v":1},{"$f":"IF($O4970=\"Sunpower Corp.\",3,(IF(OR($Q4970=\"mono\",$Q4970=\"poly\",$Q4970=\"HIT\",$Q4970=\"EFG\",$Q4970=\"mono-LGBC\"),1,2)))","v":1},{"$f":"IF($O4970=\"Sunpower Corp.\",3,(IF(OR($Q4970=\"mono\",$Q4970=\"poly\",$Q4970=\"HIT\",$Q4970=\"EFG\",$Q4970=\"mono-LGBC\"),1,IF(OR($Q4970=\"µc-Si / a-Si\",$Q4970=\"a-Si (single)\",$Q4970=\"a-Si (tandem)\",$Q4970=\"a-Si (triple)\"),3,2))))","v":1},0,null,null,21603,null,null,4969]
["FVG Energy srl FVG 60-156 250M-MC","FVG Energy srl ","FVG 60-156 250M-MC",250,"+3...0",30.95,8.1,37.950000000000003,8.58,-132.82499999999999,4.29,-0.45,1000,"China",null,15.304559707641602,"mono",60,"pseudo-square",1650,990,35,"aluminum","junction box MC4",21.5,"www.fvgenergy.com","-","-","-","-","-",{"$f":"IF($O4989=\"Sunpower Corp.\",3,(IF(OR($Q4989=\"mono\",$Q4989=\"poly\",$Q4989=\"HIT\",$Q4989=\"EFG\",$Q4989=\"mono-LGBC\"),1,IF(OR($Q4989=\"µc-Si / a-Si\",$Q4989=\"a-Si (single)\",$Q4989=\"a-Si (tandem)\",$Q4989=\"a-Si (triple)\"),3,2))))","v":1},{"$f":"IF($O4989=\"Sunpower Corp.\",3,(IF(OR($Q4989=\"mono\",$Q4989=\"poly\",$Q4989=\"HIT\",$Q4989=\"EFG\",$Q4989=\"mono-LGBC\"),1,2)))","v":1},{"$f":"IF($O4989=\"Sunpower Corp.\",3,(IF(OR($Q4989=\"mono\",$Q4989=\"poly\",$Q4989=\"HIT\",$Q4989=\"EFG\",$Q4989=\"mono-LGBC\"),1,IF(OR($Q4989=\"µc-Si / a-Si\",$Q4989=\"a-Si (single)\",$Q4989=\"a-Si (tandem)\",$Q4989=\"a-Si (triple)\"),3,2))))","v":1},0,null,null,12564,null,null,4988]
["FVG Energy srl FVG 84-125 215M-MC","FVG Energy srl ","FVG 84-125 215M-MC",215,"+3...0",43.4,4.96,51.92,5.4,-181.72,2.7,-0.45,1000,"China",null,14.461359977722168,"mono",84,"pseudo-square",1840,808,35,"aluminum","junction box MC4",20,"www.fvgenergy.com","-","-","-","-","-",{"$f":"IF($O5015=\"Sunpower Corp.\",3,(IF(OR($Q5015=\"mono\",$Q5015=\"poly\",$Q5015=\"HIT\",$Q5015=\"EFG\",$Q5015=\"mono-LGBC\"),1,IF(OR($Q5015=\"µc-Si / a-Si\",$Q5015=\"a-Si (single)\",$Q5015=\"a-Si (tandem)\",$Q5015=\"a-Si (triple)\"),3,2))))","v":1},{"$f":"IF($O5015=\"Sunpower Corp.\",3,(IF(OR($Q5015=\"mono\",$Q5015=\"poly\",$Q5015=\"HIT\",$Q5015=\"EFG\",$Q5015=\"mono-LGBC\"),1,2)))","v":1},{"$f":"IF($O5015=\"Sunpower Corp.\",3,(IF(OR($Q5015=\"mono\",$Q5015=\"poly\",$Q5015=\"HIT\",$Q5015=\"EFG\",$Q5015=\"mono-LGBC\"),1,IF(OR($Q5015=\"µc-Si / a-Si\",$Q5015=\"a-Si (single)\",$Q5015=\"a-Si (tandem)\",$Q5015=\"a-Si (triple)\"),3,2))))","v":1},0,null,null,25104,null,null,5014]
["Gadir Solar, S.A. Gadir a-SiT.70","Gadir Solar, S.A. ","Gadir a-SiT.70",70,"+3,57...-3,57",96,0.74,137,0.98,-383.6,0.39200000000000002,-0.21,null,null,null,4.8951048851013184,"a-Si (single)",null,null,1300,1100,7.2,"frameless","junction box",25.5,"www.gadirsolar.es","-","-","-","-","-",{"$f":"IF($O5034=\"Sunpower Corp.\",3,(IF(OR($Q5034=\"mono\",$Q5034=\"poly\",$Q5034=\"HIT\",$Q5034=\"EFG\",$Q5034=\"mono-LGBC\"),1,IF(OR($Q5034=\"µc-Si / a-Si\",$Q5034=\"a-Si (single)\",$Q5034=\"a-Si (tandem)\",$Q5034=\"a-Si (triple)\"),3,2))))","v":3},{"$f":"IF($O5034=\"Sunpower Corp.\",3,(IF(OR($Q5034=\"mono\",$Q5034=\"poly\",$Q5034=\"HIT\",$Q5034=\"EFG\",$Q5034=\"mono-LGBC\"),1,2)))","v":2},{"$f":"IF($O5034=\"Sunpower Corp.\",3,(IF(OR($Q5034=\"mono\",$Q5034=\"poly\",$Q5034=\"HIT\",$Q5034=\"EFG\",$Q5034=\"mono-LGBC\"),1,IF(OR($Q5034=\"µc-Si / a-Si\",$Q5034=\"a-Si (single)\",$Q5034=\"a-Si (tandem)\",$Q5034=\"a-Si (triple)\"),3,2))))","v":3},0,null,null,25122,null,null,5033]
["Gadir Solar, S.A. Gadir a-SiW.100","Gadir Solar, S.A. ","Gadir a-SiW.100",100,"+2,5...-2,5",104,0.96,138,1.17,-386.4,0.46799999999999997,-0.21,null,null,null,6.9930071830749512,"a-Si (single)",null,null,1300,1100,7.2,"frameless","junction box",25.5,"www.gadirsolar.es","-","-","-","-","-",{"$f":"IF($O5040=\"Sunpower Corp.\",3,(IF(OR($Q5040=\"mono\",$Q5040=\"poly\",$Q5040=\"HIT\",$Q5040=\"EFG\",$Q5040=\"mono-LGBC\"),1,IF(OR($Q5040=\"µc-Si / a-Si\",$Q5040=\"a-Si (single)\",$Q5040=\"a-Si (tandem)\",$Q5040=\"a-Si (triple)\"),3,2))))","v":3},{"$f":"IF($O5040=\"Sunpower Corp.\",3,(IF(OR($Q5040=\"mono\",$Q5040=\"poly\",$Q5040=\"HIT\",$Q5040=\"EFG\",$Q5040=\"mono-LGBC\"),1,2)))","v":2},{"$f":"IF($O5040=\"Sunpower Corp.\",3,(IF(OR($Q5040=\"mono\",$Q5040=\"poly\",$Q5040=\"HIT\",$Q5040=\"EFG\",$Q5040=\"mono-LGBC\"),1,IF(OR($Q5040=\"µc-Si / a-Si\",$Q5040=\"a-Si (single)\",$Q5040=\"a-Si (tandem)\",$Q5040=\"a-Si (triple)\"),3,2))))","v":3},0,null,null,25135,null,null,5039]
["Galaxy Energy GmbH GC195m","Galaxy Energy GmbH ","GC195m",195,"+2...-2",37.200000000000003,5.3,44.85,5.75,-165.94499999999999,2.0125000000000002,-0.48,1000,"various","diverse",15.274470329284668,"mono",72,"pseudo-square",1580,808,50,"aluminum","junction box MC4",16.7,"www.galaxy-energy.com","-","-","-","-","-",{"$f":"IF($O5060=\"Sunpower Corp.\",3,(IF(OR($Q5060=\"mono\",$Q5060=\"poly\",$Q5060=\"HIT\",$Q5060=\"EFG\",$Q5060=\"mono-LGBC\"),1,IF(OR($Q5060=\"µc-Si / a-Si\",$Q5060=\"a-Si (single)\",$Q5060=\"a-Si (tandem)\",$Q5060=\"a-Si (triple)\"),3,2))))","v":1},{"$f":"IF($O5060=\"Sunpower Corp.\",3,(IF(OR($Q5060=\"mono\",$Q5060=\"poly\",$Q5060=\"HIT\",$Q5060=\"EFG\",$Q5060=\"mono-LGBC\"),1,2)))","v":1},{"$f":"IF($O5060=\"Sunpower Corp.\",3,(IF(OR($Q5060=\"mono\",$Q5060=\"poly\",$Q5060=\"HIT\",$Q5060=\"EFG\",$Q5060=\"mono-LGBC\"),1,IF(OR($Q5060=\"µc-Si / a-Si\",$Q5060=\"a-Si (single)\",$Q5060=\"a-Si (tandem)\",$Q5060=\"a-Si (triple)\"),3,2))))","v":1},0,null,null,26557,null,null,5059]
["Gamesa Solar GS-1051","Gamesa Solar ","GS-1051",105,"+4...-4",17.399999999999999,6.03,21.6,6.54,-83.16,0,-0.36,1100,"Spain","Isofoton",12.255760192871094,"mono",72,"pseudo-square",1310,654,39.5,"aluminum","junction box MC old",11,"www.gamesa.es","-","-","-","-","-",{"$f":"IF($O5089=\"Sunpower Corp.\",3,(IF(OR($Q5089=\"mono\",$Q5089=\"poly\",$Q5089=\"HIT\",$Q5089=\"EFG\",$Q5089=\"mono-LGBC\"),1,IF(OR($Q5089=\"µc-Si / a-Si\",$Q5089=\"a-Si (single)\",$Q5089=\"a-Si (tandem)\",$Q5089=\"a-Si (triple)\"),3,2))))","v":1},{"$f":"IF($O5089=\"Sunpower Corp.\",3,(IF(OR($Q5089=\"mono\",$Q5089=\"poly\",$Q5089=\"HIT\",$Q5089=\"EFG\",$Q5089=\"mono-LGBC\"),1,2)))","v":1},{"$f":"IF($O5089=\"Sunpower Corp.\",3,(IF(OR($Q5089=\"mono\",$Q5089=\"poly\",$Q5089=\"HIT\",$Q5089=\"EFG\",$Q5089=\"mono-LGBC\"),1,IF(OR($Q5089=\"µc-Si / a-Si\",$Q5089=\"a-Si (single)\",$Q5089=\"a-Si (tandem)\",$Q5089=\"a-Si (triple)\"),3,2))))","v":1},0,null,null,1742,null,null,5088]
["Ganz Eco-Energy CPVS-220","Ganz Eco-Energy ","CPVS-220",220,"+3...-3",48,4.58,58.8,5.01,-194.04,2.004,-0.43,1000,null,null,12.93356990814209,"mono",96,"pseudo-square",1575,1080,46,null,"junction box",23,"www.cbcamerica.com/ecoenergy","-","-","-","-","-",{"$f":"IF($O5105=\"Sunpower Corp.\",3,(IF(OR($Q5105=\"mono\",$Q5105=\"poly\",$Q5105=\"HIT\",$Q5105=\"EFG\",$Q5105=\"mono-LGBC\"),1,IF(OR($Q5105=\"µc-Si / a-Si\",$Q5105=\"a-Si (single)\",$Q5105=\"a-Si (tandem)\",$Q5105=\"a-Si (triple)\"),3,2))))","v":1},{"$f":"IF($O5105=\"Sunpower Corp.\",3,(IF(OR($Q5105=\"mono\",$Q5105=\"poly\",$Q5105=\"HIT\",$Q5105=\"EFG\",$Q5105=\"mono-LGBC\"),1,2)))","v":1},{"$f":"IF($O5105=\"Sunpower Corp.\",3,(IF(OR($Q5105=\"mono\",$Q5105=\"poly\",$Q5105=\"HIT\",$Q5105=\"EFG\",$Q5105=\"mono-LGBC\"),1,IF(OR($Q5105=\"µc-Si / a-Si\",$Q5105=\"a-Si (single)\",$Q5105=\"a-Si (tandem)\",$Q5105=\"a-Si (triple)\"),3,2))))","v":1},0,null,null,20438,null,null,5104]
["GD Solar (Jiangsu) Co., Ltd. GDM-210PE03","GD Solar (Jiangsu) Co., Ltd. ","GDM-210PE03",210,"+3...-3",28.8,7.3,36,8.1,-118.8,4.8600000000000003,-0.46,null,null,null,12.908140182495117,"poly",60,"square",1640,992,45,"aluminum","junction box",19.5,"www.gdsolar.com","-","-","-","-","-",{"$f":"IF($O5134=\"Sunpower Corp.\",3,(IF(OR($Q5134=\"mono\",$Q5134=\"poly\",$Q5134=\"HIT\",$Q5134=\"EFG\",$Q5134=\"mono-LGBC\"),1,IF(OR($Q5134=\"µc-Si / a-Si\",$Q5134=\"a-Si (single)\",$Q5134=\"a-Si (tandem)\",$Q5134=\"a-Si (triple)\"),3,2))))","v":1},{"$f":"IF($O5134=\"Sunpower Corp.\",3,(IF(OR($Q5134=\"mono\",$Q5134=\"poly\",$Q5134=\"HIT\",$Q5134=\"EFG\",$Q5134=\"mono-LGBC\"),1,2)))","v":1},{"$f":"IF($O5134=\"Sunpower Corp.\",3,(IF(OR($Q5134=\"mono\",$Q5134=\"poly\",$Q5134=\"HIT\",$Q5134=\"EFG\",$Q5134=\"mono-LGBC\"),1,IF(OR($Q5134=\"µc-Si / a-Si\",$Q5134=\"a-Si (single)\",$Q5134=\"a-Si (tandem)\",$Q5134=\"a-Si (triple)\"),3,2))))","v":1},0,null,null,23951,null,null,5133]
["GE Energy GEPV-165","GE Energy ","GEPV-165",165,"+5...-5",25,6.6,32,7.4,-128,2.96,-0.5,null,"USA","GE Energy",11.45773983001709,"mono",54,"pseudo-square",1477,975,35,"aluminum","junction box MC",17.7,"www.ge.com","-","-","-","-","-",{"$f":"IF($O5144=\"Sunpower Corp.\",3,(IF(OR($Q5144=\"mono\",$Q5144=\"poly\",$Q5144=\"HIT\",$Q5144=\"EFG\",$Q5144=\"mono-LGBC\"),1,IF(OR($Q5144=\"µc-Si / a-Si\",$Q5144=\"a-Si (single)\",$Q5144=\"a-Si (tandem)\",$Q5144=\"a-Si (triple)\"),3,2))))","v":1},{"$f":"IF($O5144=\"Sunpower Corp.\",3,(IF(OR($Q5144=\"mono\",$Q5144=\"poly\",$Q5144=\"HIT\",$Q5144=\"EFG\",$Q5144=\"mono-LGBC\"),1,2)))","v":1},{"$f":"IF($O5144=\"Sunpower Corp.\",3,(IF(OR($Q5144=\"mono\",$Q5144=\"poly\",$Q5144=\"HIT\",$Q5144=\"EFG\",$Q5144=\"mono-LGBC\"),1,IF(OR($Q5144=\"µc-Si / a-Si\",$Q5144=\"a-Si (single)\",$Q5144=\"a-Si (tandem)\",$Q5144=\"a-Si (triple)\"),3,2))))","v":1},0,null,null,2116,null,null,5143]
["GeckoVoltaik Systems GmbH FPB 185 M-SL","GeckoVoltaik Systems GmbH ","FPB 185 M-SL",185,"+3...-3",36.700000000000003,5.04,44.8,5.48,-159.488,1.3152000000000001,-0.46,1000,null,"JA Solar",14.400030136108398,"mono",72,"pseudo-square",1590,808,42,"aluminum","junction box Spelsberg",15.5,"www.geckovoltaik.com","-","-","-","-","-",{"$f":"IF($O5159=\"Sunpower Corp.\",3,(IF(OR($Q5159=\"mono\",$Q5159=\"poly\",$Q5159=\"HIT\",$Q5159=\"EFG\",$Q5159=\"mono-LGBC\"),1,IF(OR($Q5159=\"µc-Si / a-Si\",$Q5159=\"a-Si (single)\",$Q5159=\"a-Si (tandem)\",$Q5159=\"a-Si (triple)\"),3,2))))","v":1},{"$f":"IF($O5159=\"Sunpower Corp.\",3,(IF(OR($Q5159=\"mono\",$Q5159=\"poly\",$Q5159=\"HIT\",$Q5159=\"EFG\",$Q5159=\"mono-LGBC\"),1,2)))","v":1},{"$f":"IF($O5159=\"Sunpower Corp.\",3,(IF(OR($Q5159=\"mono\",$Q5159=\"poly\",$Q5159=\"HIT\",$Q5159=\"EFG\",$Q5159=\"mono-LGBC\"),1,IF(OR($Q5159=\"µc-Si / a-Si\",$Q5159=\"a-Si (single)\",$Q5159=\"a-Si (tandem)\",$Q5159=\"a-Si (triple)\"),3,2))))","v":1},0,null,null,22115,null,null,5158]
["GeckoVoltaik Systems GmbH LPW 120 M","GeckoVoltaik Systems GmbH ","LPW 120 M",120,"+3...-3",24.88,4.82,33.1,5.15,-112.54,4.6349999999999998,-0.37,1000,"various","Motech Industries",12.319700241088867,"mono",54,"pseudo-square",1210,805,5,"frameless","junction box Tyco",11.2,"www.fivestarenergy.de","-","-","-","-","-",{"$f":"IF($O5189=\"Sunpower Corp.\",3,(IF(OR($Q5189=\"mono\",$Q5189=\"poly\",$Q5189=\"HIT\",$Q5189=\"EFG\",$Q5189=\"mono-LGBC\"),1,IF(OR($Q5189=\"µc-Si / a-Si\",$Q5189=\"a-Si (single)\",$Q5189=\"a-Si (tandem)\",$Q5189=\"a-Si (triple)\"),3,2))))","v":1},{"$f":"IF($O5189=\"Sunpower Corp.\",3,(IF(OR($Q5189=\"mono\",$Q5189=\"poly\",$Q5189=\"HIT\",$Q5189=\"EFG\",$Q5189=\"mono-LGBC\"),1,2)))","v":1},{"$f":"IF($O5189=\"Sunpower Corp.\",3,(IF(OR($Q5189=\"mono\",$Q5189=\"poly\",$Q5189=\"HIT\",$Q5189=\"EFG\",$Q5189=\"mono-LGBC\"),1,IF(OR($Q5189=\"µc-Si / a-Si\",$Q5189=\"a-Si (single)\",$Q5189=\"a-Si (tandem)\",$Q5189=\"a-Si (triple)\"),3,2))))","v":1},0,null,null,6834,null,null,5188]
["General Solar Power (Yantai) Co., Ltd (GSP) GSB097S33","General Solar Power (Yantai) Co., Ltd (GSP) ","GSB097S33",97,"+5...-5",75.5,1.29,99,1.61,-415.8,0.96599999999999997,-0.24,1000,null,null,6.2987008094787598,"a-Si (single)",null,null,1400,1100,7,"frameless","junction box MC4",25.5,"www.solargsp.com","-","-","-","-","-",{"$f":"IF($O5204=\"Sunpower Corp.\",3,(IF(OR($Q5204=\"mono\",$Q5204=\"poly\",$Q5204=\"HIT\",$Q5204=\"EFG\",$Q5204=\"mono-LGBC\"),1,IF(OR($Q5204=\"µc-Si / a-Si\",$Q5204=\"a-Si (single)\",$Q5204=\"a-Si (tandem)\",$Q5204=\"a-Si (triple)\"),3,2))))","v":3},{"$f":"IF($O5204=\"Sunpower Corp.\",3,(IF(OR($Q5204=\"mono\",$Q5204=\"poly\",$Q5204=\"HIT\",$Q5204=\"EFG\",$Q5204=\"mono-LGBC\"),1,2)))","v":2},{"$f":"IF($O5204=\"Sunpower Corp.\",3,(IF(OR($Q5204=\"mono\",$Q5204=\"poly\",$Q5204=\"HIT\",$Q5204=\"EFG\",$Q5204=\"mono-LGBC\"),1,IF(OR($Q5204=\"µc-Si / a-Si\",$Q5204=\"a-Si (single)\",$Q5204=\"a-Si (tandem)\",$Q5204=\"a-Si (triple)\"),3,2))))","v":3},0,null,null,33955,null,null,5203]
["GermanSolar AG GSP6-220","GermanSolar AG ","GSP6-220",220,"+3...-3",29.29,7.52,37.28,8.2100000000000009,-115.568,6.5680000000000005,-0.4,1000,null,null,13.583270072937012,"poly",60,"square",1636,990,40,null,"junction box",21,"www.germansolar.com","-","-","-","-","-",{"$f":"IF($O5234=\"Sunpower Corp.\",3,(IF(OR($Q5234=\"mono\",$Q5234=\"poly\",$Q5234=\"HIT\",$Q5234=\"EFG\",$Q5234=\"mono-LGBC\"),1,IF(OR($Q5234=\"µc-Si / a-Si\",$Q5234=\"a-Si (single)\",$Q5234=\"a-Si (tandem)\",$Q5234=\"a-Si (triple)\"),3,2))))","v":1},{"$f":"IF($O5234=\"Sunpower Corp.\",3,(IF(OR($Q5234=\"mono\",$Q5234=\"poly\",$Q5234=\"HIT\",$Q5234=\"EFG\",$Q5234=\"mono-LGBC\"),1,2)))","v":1},{"$f":"IF($O5234=\"Sunpower Corp.\",3,(IF(OR($Q5234=\"mono\",$Q5234=\"poly\",$Q5234=\"HIT\",$Q5234=\"EFG\",$Q5234=\"mono-LGBC\"),1,IF(OR($Q5234=\"µc-Si / a-Si\",$Q5234=\"a-Si (single)\",$Q5234=\"a-Si (tandem)\",$Q5234=\"a-Si (triple)\"),3,2))))","v":1},0,null,null,8296,null,null,5233]
["GESOLAR Corporation GES-6M240","GESOLAR Corporation ","GES-6M240",240,"+2,08...0",29.6,8.11,37,8.65,-118.4,3.46,-0.4,1000,null,null,14.75216007232666,"mono",60,"pseudo-square",1640,992,42,"aluminum","junction box",19.5,"www.gesolar-power.de","-","-","-","-","-",{"$f":"IF($O5253=\"Sunpower Corp.\",3,(IF(OR($Q5253=\"mono\",$Q5253=\"poly\",$Q5253=\"HIT\",$Q5253=\"EFG\",$Q5253=\"mono-LGBC\"),1,IF(OR($Q5253=\"µc-Si / a-Si\",$Q5253=\"a-Si (single)\",$Q5253=\"a-Si (tandem)\",$Q5253=\"a-Si (triple)\"),3,2))))","v":1},{"$f":"IF($O5253=\"Sunpower Corp.\",3,(IF(OR($Q5253=\"mono\",$Q5253=\"poly\",$Q5253=\"HIT\",$Q5253=\"EFG\",$Q5253=\"mono-LGBC\"),1,2)))","v":1},{"$f":"IF($O5253=\"Sunpower Corp.\",3,(IF(OR($Q5253=\"mono\",$Q5253=\"poly\",$Q5253=\"HIT\",$Q5253=\"EFG\",$Q5253=\"mono-LGBC\"),1,IF(OR($Q5253=\"µc-Si / a-Si\",$Q5253=\"a-Si (single)\",$Q5253=\"a-Si (tandem)\",$Q5253=\"a-Si (triple)\"),3,2))))","v":1},0,null,null,31450,null,null,5252]
["GESOLAR Corporation GES-6P235","GESOLAR Corporation ","GES-6P235",235,"+2,13...0",30,7.84,37.1,8.2799999999999994,-111.3,6.8723999999999998,-0.42,1000,null,null,14.444829940795898,"poly",60,"square",1640,992,40,"aluminum","junction box",19.5,"www.gesolar-power.com","-","-","-","-","-",{"$f":"IF($O5274=\"Sunpower Corp.\",3,(IF(OR($Q5274=\"mono\",$Q5274=\"poly\",$Q5274=\"HIT\",$Q5274=\"EFG\",$Q5274=\"mono-LGBC\"),1,IF(OR($Q5274=\"µc-Si / a-Si\",$Q5274=\"a-Si (single)\",$Q5274=\"a-Si (tandem)\",$Q5274=\"a-Si (triple)\"),3,2))))","v":1},{"$f":"IF($O5274=\"Sunpower Corp.\",3,(IF(OR($Q5274=\"mono\",$Q5274=\"poly\",$Q5274=\"HIT\",$Q5274=\"EFG\",$Q5274=\"mono-LGBC\"),1,2)))","v":1},{"$f":"IF($O5274=\"Sunpower Corp.\",3,(IF(OR($Q5274=\"mono\",$Q5274=\"poly\",$Q5274=\"HIT\",$Q5274=\"EFG\",$Q5274=\"mono-LGBC\"),1,IF(OR($Q5274=\"µc-Si / a-Si\",$Q5274=\"a-Si (single)\",$Q5274=\"a-Si (tandem)\",$Q5274=\"a-Si (triple)\"),3,2))))","v":1},0,null,null,31476,null,null,5273]
["GESOLAR Corporation GES-6P285","GESOLAR Corporation ","GES-6P285",285,"+1,75...0",35.299999999999997,8.07,45,8.44,-135,7.0051999999999994,-0.42,1000,null,null,14.68805980682373,"poly",72,"square",1956,992,50,"aluminum","junction box",24,"www.gesolar-power.com","-","-","-","-","-",{"$f":"IF($O5280=\"Sunpower Corp.\",3,(IF(OR($Q5280=\"mono\",$Q5280=\"poly\",$Q5280=\"HIT\",$Q5280=\"EFG\",$Q5280=\"mono-LGBC\"),1,IF(OR($Q5280=\"µc-Si / a-Si\",$Q5280=\"a-Si (single)\",$Q5280=\"a-Si (tandem)\",$Q5280=\"a-Si (triple)\"),3,2))))","v":1},{"$f":"IF($O5280=\"Sunpower Corp.\",3,(IF(OR($Q5280=\"mono\",$Q5280=\"poly\",$Q5280=\"HIT\",$Q5280=\"EFG\",$Q5280=\"mono-LGBC\"),1,2)))","v":1},{"$f":"IF($O5280=\"Sunpower Corp.\",3,(IF(OR($Q5280=\"mono\",$Q5280=\"poly\",$Q5280=\"HIT\",$Q5280=\"EFG\",$Q5280=\"mono-LGBC\"),1,IF(OR($Q5280=\"µc-Si / a-Si\",$Q5280=\"a-Si (single)\",$Q5280=\"a-Si (tandem)\",$Q5280=\"a-Si (triple)\"),3,2))))","v":1},0,null,null,31482,null,null,5279]
["GESOLAR Corporation GES-M220","GESOLAR Corporation ","GES-M220",220,"+5...0",26.8,8.2100000000000009,34.4,8.5299999999999994,-110.08,3.4119999999999999,-0.4,1000,null,null,14.964520454406738,"mono",54,"pseudo-square",1482,992,42,"aluminum","junction box",18.5,"www.gesolar-power.de","-","-","-","-","-",{"$f":"IF($O5299=\"Sunpower Corp.\",3,(IF(OR($Q5299=\"mono\",$Q5299=\"poly\",$Q5299=\"HIT\",$Q5299=\"EFG\",$Q5299=\"mono-LGBC\"),1,IF(OR($Q5299=\"µc-Si / a-Si\",$Q5299=\"a-Si (single)\",$Q5299=\"a-Si (tandem)\",$Q5299=\"a-Si (triple)\"),3,2))))","v":1},{"$f":"IF($O5299=\"Sunpower Corp.\",3,(IF(OR($Q5299=\"mono\",$Q5299=\"poly\",$Q5299=\"HIT\",$Q5299=\"EFG\",$Q5299=\"mono-LGBC\"),1,2)))","v":1},{"$f":"IF($O5299=\"Sunpower Corp.\",3,(IF(OR($Q5299=\"mono\",$Q5299=\"poly\",$Q5299=\"HIT\",$Q5299=\"EFG\",$Q5299=\"mono-LGBC\"),1,IF(OR($Q5299=\"µc-Si / a-Si\",$Q5299=\"a-Si (single)\",$Q5299=\"a-Si (tandem)\",$Q5299=\"a-Si (triple)\"),3,2))))","v":1},0,null,null,17995,null,null,5298]
["GESOLAR Corporation GES-P225 (black)","GESOLAR Corporation ","GES-P225 (black)",225,"+5...0",29.7,7.59,37,8.16,-118.4,3.2640000000000002,-0.35,1000,null,null,13.83014965057373,"poly",60,"square",1640,992,42,"aluminum","junction box",19.5,"www.gesolar-power.com","-","-","-","-","-",{"$f":"IF($O5325=\"Sunpower Corp.\",3,(IF(OR($Q5325=\"mono\",$Q5325=\"poly\",$Q5325=\"HIT\",$Q5325=\"EFG\",$Q5325=\"mono-LGBC\"),1,IF(OR($Q5325=\"µc-Si / a-Si\",$Q5325=\"a-Si (single)\",$Q5325=\"a-Si (tandem)\",$Q5325=\"a-Si (triple)\"),3,2))))","v":1},{"$f":"IF($O5325=\"Sunpower Corp.\",3,(IF(OR($Q5325=\"mono\",$Q5325=\"poly\",$Q5325=\"HIT\",$Q5325=\"EFG\",$Q5325=\"mono-LGBC\"),1,2)))","v":1},{"$f":"IF($O5325=\"Sunpower Corp.\",3,(IF(OR($Q5325=\"mono\",$Q5325=\"poly\",$Q5325=\"HIT\",$Q5325=\"EFG\",$Q5325=\"mono-LGBC\"),1,IF(OR($Q5325=\"µc-Si / a-Si\",$Q5325=\"a-Si (single)\",$Q5325=\"a-Si (tandem)\",$Q5325=\"a-Si (triple)\"),3,2))))","v":1},0,null,null,18010,null,null,5324]
["GH Solar GH145M125 BaseLine Black Series","GH Solar ","GH145M125 BaseLine Black Series",145,"+3...-1",28.29,5.14,33.53,5.57,-100.59,4.4560000000000004,-0.35,1000,null,null,14.967089653015137,"mono",54,"pseudo-square",1199,808,46,"aluminum","junction box MC4",12,"www.ghsolar.be","-","-","-","-","-",{"$f":"IF($O5348=\"Sunpower Corp.\",3,(IF(OR($Q5348=\"mono\",$Q5348=\"poly\",$Q5348=\"HIT\",$Q5348=\"EFG\",$Q5348=\"mono-LGBC\"),1,IF(OR($Q5348=\"µc-Si / a-Si\",$Q5348=\"a-Si (single)\",$Q5348=\"a-Si (tandem)\",$Q5348=\"a-Si (triple)\"),3,2))))","v":1},{"$f":"IF($O5348=\"Sunpower Corp.\",3,(IF(OR($Q5348=\"mono\",$Q5348=\"poly\",$Q5348=\"HIT\",$Q5348=\"EFG\",$Q5348=\"mono-LGBC\"),1,2)))","v":1},{"$f":"IF($O5348=\"Sunpower Corp.\",3,(IF(OR($Q5348=\"mono\",$Q5348=\"poly\",$Q5348=\"HIT\",$Q5348=\"EFG\",$Q5348=\"mono-LGBC\"),1,IF(OR($Q5348=\"µc-Si / a-Si\",$Q5348=\"a-Si (single)\",$Q5348=\"a-Si (tandem)\",$Q5348=\"a-Si (triple)\"),3,2))))","v":1},0,null,null,26454,null,null,5347]
["GH Solar GH260M125 ExceLine Black Series","GH Solar ","GH260M125 ExceLine Black Series",260,"+3...-1",50.4,5.19,59.71,5.61,-179.13,4.4880000000000004,-0.35,1000,null,null,15.465880393981934,"mono",96,"pseudo-square",1580,1064,46,"aluminum","junction box MC4",20,"www.ghsolar.be","-","-","-","-","-",{"$f":"IF($O5370=\"Sunpower Corp.\",3,(IF(OR($Q5370=\"mono\",$Q5370=\"poly\",$Q5370=\"HIT\",$Q5370=\"EFG\",$Q5370=\"mono-LGBC\"),1,IF(OR($Q5370=\"µc-Si / a-Si\",$Q5370=\"a-Si (single)\",$Q5370=\"a-Si (tandem)\",$Q5370=\"a-Si (triple)\"),3,2))))","v":1},{"$f":"IF($O5370=\"Sunpower Corp.\",3,(IF(OR($Q5370=\"mono\",$Q5370=\"poly\",$Q5370=\"HIT\",$Q5370=\"EFG\",$Q5370=\"mono-LGBC\"),1,2)))","v":1},{"$f":"IF($O5370=\"Sunpower Corp.\",3,(IF(OR($Q5370=\"mono\",$Q5370=\"poly\",$Q5370=\"HIT\",$Q5370=\"EFG\",$Q5370=\"mono-LGBC\"),1,IF(OR($Q5370=\"µc-Si / a-Si\",$Q5370=\"a-Si (single)\",$Q5370=\"a-Si (tandem)\",$Q5370=\"a-Si (triple)\"),3,2))))","v":1},0,null,null,26476,null,null,5369]
["GH Solar GH95M125 BaseLine White Series","GH Solar ","GH95M125 BaseLine White Series",95,"+3...-1",18.86,5.14,22.36,5.57,-67.08,4.4560000000000004,-0.35,1000,null,null,14.30193042755127,"mono",36,"pseudo-square",1199,554,46,"aluminum","junction box MC4",8.5,"www.ghsolar.be","-","-","-","-","-",{"$f":"IF($O5373=\"Sunpower Corp.\",3,(IF(OR($Q5373=\"mono\",$Q5373=\"poly\",$Q5373=\"HIT\",$Q5373=\"EFG\",$Q5373=\"mono-LGBC\"),1,IF(OR($Q5373=\"µc-Si / a-Si\",$Q5373=\"a-Si (single)\",$Q5373=\"a-Si (tandem)\",$Q5373=\"a-Si (triple)\"),3,2))))","v":1},{"$f":"IF($O5373=\"Sunpower Corp.\",3,(IF(OR($Q5373=\"mono\",$Q5373=\"poly\",$Q5373=\"HIT\",$Q5373=\"EFG\",$Q5373=\"mono-LGBC\"),1,2)))","v":1},{"$f":"IF($O5373=\"Sunpower Corp.\",3,(IF(OR($Q5373=\"mono\",$Q5373=\"poly\",$Q5373=\"HIT\",$Q5373=\"EFG\",$Q5373=\"mono-LGBC\"),1,IF(OR($Q5373=\"µc-Si / a-Si\",$Q5373=\"a-Si (single)\",$Q5373=\"a-Si (tandem)\",$Q5373=\"a-Si (triple)\"),3,2))))","v":1},0,null,null,26479,null,null,5372]
["Great Forest Solar Manufacture GF-0220P(195)","Great Forest Solar Manufacture ","GF-0220P(195)",195,"+5...-5",29.16,6.68,36.119999999999997,7.15,-137.256,2.86,-0.47,null,null,"Jetion",12.132900238037109,"poly",60,"square",1640,980,40,null,"junction box",18.600000000000001,null,"-","-","-","-","-",{"$f":"IF($O5409=\"Sunpower Corp.\",3,(IF(OR($Q5409=\"mono\",$Q5409=\"poly\",$Q5409=\"HIT\",$Q5409=\"EFG\",$Q5409=\"mono-LGBC\"),1,IF(OR($Q5409=\"µc-Si / a-Si\",$Q5409=\"a-Si (single)\",$Q5409=\"a-Si (tandem)\",$Q5409=\"a-Si (triple)\"),3,2))))","v":1},{"$f":"IF($O5409=\"Sunpower Corp.\",3,(IF(OR($Q5409=\"mono\",$Q5409=\"poly\",$Q5409=\"HIT\",$Q5409=\"EFG\",$Q5409=\"mono-LGBC\"),1,2)))","v":1},{"$f":"IF($O5409=\"Sunpower Corp.\",3,(IF(OR($Q5409=\"mono\",$Q5409=\"poly\",$Q5409=\"HIT\",$Q5409=\"EFG\",$Q5409=\"mono-LGBC\"),1,IF(OR($Q5409=\"µc-Si / a-Si\",$Q5409=\"a-Si (single)\",$Q5409=\"a-Si (tandem)\",$Q5409=\"a-Si (triple)\"),3,2))))","v":1},0,null,null,9611,null,null,5408]
["Great Forest Solar Manufacture GF-0250M(235)","Great Forest Solar Manufacture ","GF-0250M(235)",235,"+5...-5",49.72,4.72,59.04,5.05,-224.352,2.02,-0.47,null,null,"Jetion",13.988100051879883,"mono",96,"pseudo-square",1600,1050,40,"aluminum","junction box",19.5,"www.g-forestsolar.com","-","-","-","-","-",{"$f":"IF($O5418=\"Sunpower Corp.\",3,(IF(OR($Q5418=\"mono\",$Q5418=\"poly\",$Q5418=\"HIT\",$Q5418=\"EFG\",$Q5418=\"mono-LGBC\"),1,IF(OR($Q5418=\"µc-Si / a-Si\",$Q5418=\"a-Si (single)\",$Q5418=\"a-Si (tandem)\",$Q5418=\"a-Si (triple)\"),3,2))))","v":1},{"$f":"IF($O5418=\"Sunpower Corp.\",3,(IF(OR($Q5418=\"mono\",$Q5418=\"poly\",$Q5418=\"HIT\",$Q5418=\"EFG\",$Q5418=\"mono-LGBC\"),1,2)))","v":1},{"$f":"IF($O5418=\"Sunpower Corp.\",3,(IF(OR($Q5418=\"mono\",$Q5418=\"poly\",$Q5418=\"HIT\",$Q5418=\"EFG\",$Q5418=\"mono-LGBC\"),1,IF(OR($Q5418=\"µc-Si / a-Si\",$Q5418=\"a-Si (single)\",$Q5418=\"a-Si (tandem)\",$Q5418=\"a-Si (triple)\"),3,2))))","v":1},0,null,null,10446,null,null,5417]
["Green Energy Technology Inc. GET-090A","Green Energy Technology Inc. ","GET-090A",90,"+5...-5",73.78,1.22,94.33,1.5,-216.95899999999997,1.2,-0.3,1000,null,null,6.3042831420898438,"a-Si",null,null,1299,1099,7.5,"frameless","junction box MC",30,"www.getinc.com.tw","-","-","-","-","-",{"$f":"IF($O5435=\"Sunpower Corp.\",3,(IF(OR($Q5435=\"mono\",$Q5435=\"poly\",$Q5435=\"HIT\",$Q5435=\"EFG\",$Q5435=\"mono-LGBC\"),1,IF(OR($Q5435=\"µc-Si / a-Si\",$Q5435=\"a-Si (single)\",$Q5435=\"a-Si (tandem)\",$Q5435=\"a-Si (triple)\"),3,2))))","v":2},{"$f":"IF($O5435=\"Sunpower Corp.\",3,(IF(OR($Q5435=\"mono\",$Q5435=\"poly\",$Q5435=\"HIT\",$Q5435=\"EFG\",$Q5435=\"mono-LGBC\"),1,2)))","v":2},{"$f":"IF($O5435=\"Sunpower Corp.\",3,(IF(OR($Q5435=\"mono\",$Q5435=\"poly\",$Q5435=\"HIT\",$Q5435=\"EFG\",$Q5435=\"mono-LGBC\"),1,IF(OR($Q5435=\"µc-Si / a-Si\",$Q5435=\"a-Si (single)\",$Q5435=\"a-Si (tandem)\",$Q5435=\"a-Si (triple)\"),3,2))))","v":2},0,null,null,16416,null,null,5434]
["Gruppo SAE GSM60-156P (240)","Gruppo SAE ","GSM60-156P (240)",240,"+...",30.2,7.95,37,8.5399999999999991,-140.6,3.4159999999999999,-0.4,1000,null,null,14.527850151062012,"poly",60,"square",1652,1000,45,"aluminum","junction box Tyco",22,null,"-","-","-","-","-",{"$f":"IF($O5463=\"Sunpower Corp.\",3,(IF(OR($Q5463=\"mono\",$Q5463=\"poly\",$Q5463=\"HIT\",$Q5463=\"EFG\",$Q5463=\"mono-LGBC\"),1,IF(OR($Q5463=\"µc-Si / a-Si\",$Q5463=\"a-Si (single)\",$Q5463=\"a-Si (tandem)\",$Q5463=\"a-Si (triple)\"),3,2))))","v":1},{"$f":"IF($O5463=\"Sunpower Corp.\",3,(IF(OR($Q5463=\"mono\",$Q5463=\"poly\",$Q5463=\"HIT\",$Q5463=\"EFG\",$Q5463=\"mono-LGBC\"),1,2)))","v":1},{"$f":"IF($O5463=\"Sunpower Corp.\",3,(IF(OR($Q5463=\"mono\",$Q5463=\"poly\",$Q5463=\"HIT\",$Q5463=\"EFG\",$Q5463=\"mono-LGBC\"),1,IF(OR($Q5463=\"µc-Si / a-Si\",$Q5463=\"a-Si (single)\",$Q5463=\"a-Si (tandem)\",$Q5463=\"a-Si (triple)\"),3,2))))","v":1},0,null,null,16597,null,null,5462]
["GSS Gebäude-Solarsysteme GmbH ZRE 207GEF-50M-6(+)Z -L","GSS Gebäude-Solarsysteme GmbH ","ZRE 207GEF-50M-6(+)Z -L",207,"+5...-5",25.4,8.17,30.5,8.5,-109.8,1.7,-0.47,1000,"Germany","Bosch Solar Energy AG",15.658920288085938,"mono",50,"pseudo-square",1647,822,null,"frameless","cable MC new",18,"www.gss-solarsysteme.de","-","-","-","-","-",{"$f":"IF($O5480=\"Sunpower Corp.\",3,(IF(OR($Q5480=\"mono\",$Q5480=\"poly\",$Q5480=\"HIT\",$Q5480=\"EFG\",$Q5480=\"mono-LGBC\"),1,IF(OR($Q5480=\"µc-Si / a-Si\",$Q5480=\"a-Si (single)\",$Q5480=\"a-Si (tandem)\",$Q5480=\"a-Si (triple)\"),3,2))))","v":1},{"$f":"IF($O5480=\"Sunpower Corp.\",3,(IF(OR($Q5480=\"mono\",$Q5480=\"poly\",$Q5480=\"HIT\",$Q5480=\"EFG\",$Q5480=\"mono-LGBC\"),1,2)))","v":1},{"$f":"IF($O5480=\"Sunpower Corp.\",3,(IF(OR($Q5480=\"mono\",$Q5480=\"poly\",$Q5480=\"HIT\",$Q5480=\"EFG\",$Q5480=\"mono-LGBC\"),1,IF(OR($Q5480=\"µc-Si / a-Si\",$Q5480=\"a-Si (single)\",$Q5480=\"a-Si (tandem)\",$Q5480=\"a-Si (triple)\"),3,2))))","v":1},0,null,null,27321,null,null,5479]
["GSS Gebäude-Solarsysteme GmbH ZRE 244GEF-60M-6(+)Z -L","GSS Gebäude-Solarsysteme GmbH ","ZRE 244GEF-60M-6(+)Z -L",244,"+5...-5",29.9,8.17,36.6,8.5,-131.76,1.7,-0.47,1000,"Germany","Bosch Solar Energy AG",15.33450984954834,"mono",60,"pseudo-square",1647,981,null,"frameless","cable MC new",22,"www.gss-solarsysteme.de","-","-","-","-","-",{"$f":"IF($O5492=\"Sunpower Corp.\",3,(IF(OR($Q5492=\"mono\",$Q5492=\"poly\",$Q5492=\"HIT\",$Q5492=\"EFG\",$Q5492=\"mono-LGBC\"),1,IF(OR($Q5492=\"µc-Si / a-Si\",$Q5492=\"a-Si (single)\",$Q5492=\"a-Si (tandem)\",$Q5492=\"a-Si (triple)\"),3,2))))","v":1},{"$f":"IF($O5492=\"Sunpower Corp.\",3,(IF(OR($Q5492=\"mono\",$Q5492=\"poly\",$Q5492=\"HIT\",$Q5492=\"EFG\",$Q5492=\"mono-LGBC\"),1,2)))","v":1},{"$f":"IF($O5492=\"Sunpower Corp.\",3,(IF(OR($Q5492=\"mono\",$Q5492=\"poly\",$Q5492=\"HIT\",$Q5492=\"EFG\",$Q5492=\"mono-LGBC\"),1,IF(OR($Q5492=\"µc-Si / a-Si\",$Q5492=\"a-Si (single)\",$Q5492=\"a-Si (tandem)\",$Q5492=\"a-Si (triple)\"),3,2))))","v":1},0,null,null,5441,null,null,5491]
["Guangdong Golden Glass Technologies Limited GG-PV36M-P125-U","Guangdong Golden Glass Technologies Limited ","GG-PV36M-P125-U",125,"+3...-3",17.399999999999999,7.19,21.3,7.92,-72.42,1.3464,-0.48,1000,null,null,12.514169692993164,"mono",36,"pseudo-square",1482,674,50,null,null,21,null,"-","-","-","-","-",{"$f":"IF($O5525=\"Sunpower Corp.\",3,(IF(OR($Q5525=\"mono\",$Q5525=\"poly\",$Q5525=\"HIT\",$Q5525=\"EFG\",$Q5525=\"mono-LGBC\"),1,IF(OR($Q5525=\"µc-Si / a-Si\",$Q5525=\"a-Si (single)\",$Q5525=\"a-Si (tandem)\",$Q5525=\"a-Si (triple)\"),3,2))))","v":1},{"$f":"IF($O5525=\"Sunpower Corp.\",3,(IF(OR($Q5525=\"mono\",$Q5525=\"poly\",$Q5525=\"HIT\",$Q5525=\"EFG\",$Q5525=\"mono-LGBC\"),1,2)))","v":1},{"$f":"IF($O5525=\"Sunpower Corp.\",3,(IF(OR($Q5525=\"mono\",$Q5525=\"poly\",$Q5525=\"HIT\",$Q5525=\"EFG\",$Q5525=\"mono-LGBC\"),1,IF(OR($Q5525=\"µc-Si / a-Si\",$Q5525=\"a-Si (single)\",$Q5525=\"a-Si (tandem)\",$Q5525=\"a-Si (triple)\"),3,2))))","v":1},0,null,null,20422,null,null,5524]
["Guangdong Golden Glass Technologies Limited GG-PV48M-P175-U","Guangdong Golden Glass Technologies Limited ","GG-PV48M-P175-U",175,"+3...-3",23.4,7.48,29.3,8.0299999999999994,-99.62,1.3651,-0.48,1000,null,null,13.324119567871094,"mono",48,"pseudo-square",1324,992,50,null,null,26.9,null,"-","-","-","-","-",{"$f":"IF($O5537=\"Sunpower Corp.\",3,(IF(OR($Q5537=\"mono\",$Q5537=\"poly\",$Q5537=\"HIT\",$Q5537=\"EFG\",$Q5537=\"mono-LGBC\"),1,IF(OR($Q5537=\"µc-Si / a-Si\",$Q5537=\"a-Si (single)\",$Q5537=\"a-Si (tandem)\",$Q5537=\"a-Si (triple)\"),3,2))))","v":1},{"$f":"IF($O5537=\"Sunpower Corp.\",3,(IF(OR($Q5537=\"mono\",$Q5537=\"poly\",$Q5537=\"HIT\",$Q5537=\"EFG\",$Q5537=\"mono-LGBC\"),1,2)))","v":1},{"$f":"IF($O5537=\"Sunpower Corp.\",3,(IF(OR($Q5537=\"mono\",$Q5537=\"poly\",$Q5537=\"HIT\",$Q5537=\"EFG\",$Q5537=\"mono-LGBC\"),1,IF(OR($Q5537=\"µc-Si / a-Si\",$Q5537=\"a-Si (single)\",$Q5537=\"a-Si (tandem)\",$Q5537=\"a-Si (triple)\"),3,2))))","v":1},0,null,null,20410,null,null,5536]
["Guangdong Golden Glass Technologies Limited GG-PV66M-P230-T","Guangdong Golden Glass Technologies Limited ","GG-PV66M-P230-T",230,"+3...-3",30.1,7.64,37,8.3000000000000007,-125.8,1.4110000000000003,-0.48,1000,null,null,14.137490272521973,"mono",60,"pseudo-square",1640,992,50,null,null,20,null,"-","-","-","-","-",{"$f":"IF($O5564=\"Sunpower Corp.\",3,(IF(OR($Q5564=\"mono\",$Q5564=\"poly\",$Q5564=\"HIT\",$Q5564=\"EFG\",$Q5564=\"mono-LGBC\"),1,IF(OR($Q5564=\"µc-Si / a-Si\",$Q5564=\"a-Si (single)\",$Q5564=\"a-Si (tandem)\",$Q5564=\"a-Si (triple)\"),3,2))))","v":1},{"$f":"IF($O5564=\"Sunpower Corp.\",3,(IF(OR($Q5564=\"mono\",$Q5564=\"poly\",$Q5564=\"HIT\",$Q5564=\"EFG\",$Q5564=\"mono-LGBC\"),1,2)))","v":1},{"$f":"IF($O5564=\"Sunpower Corp.\",3,(IF(OR($Q5564=\"mono\",$Q5564=\"poly\",$Q5564=\"HIT\",$Q5564=\"EFG\",$Q5564=\"mono-LGBC\"),1,IF(OR($Q5564=\"µc-Si / a-Si\",$Q5564=\"a-Si (single)\",$Q5564=\"a-Si (tandem)\",$Q5564=\"a-Si (triple)\"),3,2))))","v":1},0,null,null,20382,null,null,5563]
["Guangdong Golden Glass Technologies Limited GG-PV72M-P285-T","Guangdong Golden Glass Technologies Limited ","GG-PV72M-P285-T",285,"+3...-3",36.4,7.84,44.5,8.4499999999999993,-151.30000000000001,1.4365000000000001,-0.48,1000,null,null,14.68805980682373,"mono",72,"pseudo-square",1956,992,50,null,null,23.2,null,"-","-","-","-","-",{"$f":"IF($O5582=\"Sunpower Corp.\",3,(IF(OR($Q5582=\"mono\",$Q5582=\"poly\",$Q5582=\"HIT\",$Q5582=\"EFG\",$Q5582=\"mono-LGBC\"),1,IF(OR($Q5582=\"µc-Si / a-Si\",$Q5582=\"a-Si (single)\",$Q5582=\"a-Si (tandem)\",$Q5582=\"a-Si (triple)\"),3,2))))","v":1},{"$f":"IF($O5582=\"Sunpower Corp.\",3,(IF(OR($Q5582=\"mono\",$Q5582=\"poly\",$Q5582=\"HIT\",$Q5582=\"EFG\",$Q5582=\"mono-LGBC\"),1,2)))","v":1},{"$f":"IF($O5582=\"Sunpower Corp.\",3,(IF(OR($Q5582=\"mono\",$Q5582=\"poly\",$Q5582=\"HIT\",$Q5582=\"EFG\",$Q5582=\"mono-LGBC\"),1,IF(OR($Q5582=\"µc-Si / a-Si\",$Q5582=\"a-Si (single)\",$Q5582=\"a-Si (tandem)\",$Q5582=\"a-Si (triple)\"),3,2))))","v":1},0,null,null,20369,null,null,5581]
["Hangzhou Zhejiang University Sunny Energy Co., Ltd ZDNY-165C","Hangzhou Zhejiang University Sunny Energy Co., Ltd ","ZDNY-165C",165,"+3...-3",35.07,4.71,44.22,5.03,-154.77000000000001,2.0120000000000005,-0.5,1000,"China",null,12.92455005645752,"mono",72,"pseudo-square",1580,808,35,"aluminum","junction box",16.5,"www.solar-sunny.com","-","-","-","-","-",{"$f":"IF($O5590=\"Sunpower Corp.\",3,(IF(OR($Q5590=\"mono\",$Q5590=\"poly\",$Q5590=\"HIT\",$Q5590=\"EFG\",$Q5590=\"mono-LGBC\"),1,IF(OR($Q5590=\"µc-Si / a-Si\",$Q5590=\"a-Si (single)\",$Q5590=\"a-Si (tandem)\",$Q5590=\"a-Si (triple)\"),3,2))))","v":1},{"$f":"IF($O5590=\"Sunpower Corp.\",3,(IF(OR($Q5590=\"mono\",$Q5590=\"poly\",$Q5590=\"HIT\",$Q5590=\"EFG\",$Q5590=\"mono-LGBC\"),1,2)))","v":1},{"$f":"IF($O5590=\"Sunpower Corp.\",3,(IF(OR($Q5590=\"mono\",$Q5590=\"poly\",$Q5590=\"HIT\",$Q5590=\"EFG\",$Q5590=\"mono-LGBC\"),1,IF(OR($Q5590=\"µc-Si / a-Si\",$Q5590=\"a-Si (single)\",$Q5590=\"a-Si (tandem)\",$Q5590=\"a-Si (triple)\"),3,2))))","v":1},0,null,null,12772,null,null,5589]
["Hangzhou Zhejiang University Sunny Energy Co., Ltd ZDNY-220C60","Hangzhou Zhejiang University Sunny Energy Co., Ltd ","ZDNY-220C60",220,"+3...-3",29.16,7.56,36.4,8.1999999999999993,-127.4,3.28,-0.5,1000,"China",null,13.440859794616699,"mono",60,"pseudo-square",1650,992,45,"aluminum","junction box",null,"www.solar-sunny.com","-","-","-","-","-",{"$f":"IF($O5607=\"Sunpower Corp.\",3,(IF(OR($Q5607=\"mono\",$Q5607=\"poly\",$Q5607=\"HIT\",$Q5607=\"EFG\",$Q5607=\"mono-LGBC\"),1,IF(OR($Q5607=\"µc-Si / a-Si\",$Q5607=\"a-Si (single)\",$Q5607=\"a-Si (tandem)\",$Q5607=\"a-Si (triple)\"),3,2))))","v":1},{"$f":"IF($O5607=\"Sunpower Corp.\",3,(IF(OR($Q5607=\"mono\",$Q5607=\"poly\",$Q5607=\"HIT\",$Q5607=\"EFG\",$Q5607=\"mono-LGBC\"),1,2)))","v":1},{"$f":"IF($O5607=\"Sunpower Corp.\",3,(IF(OR($Q5607=\"mono\",$Q5607=\"poly\",$Q5607=\"HIT\",$Q5607=\"EFG\",$Q5607=\"mono-LGBC\"),1,IF(OR($Q5607=\"µc-Si / a-Si\",$Q5607=\"a-Si (single)\",$Q5607=\"a-Si (tandem)\",$Q5607=\"a-Si (triple)\"),3,2))))","v":1},0,null,null,22948,null,null,5606]
["Hanwha SolarOne SF160 Mono x-tra (180) Black Diamond","Hanwha SolarOne ","SF160 Mono x-tra (180) Black Diamond",180,"+3...-3",35.4,5.1100000000000003,44.3,5.59,-146.19,1.6769999999999998,-0.44,1000,null,null,14.099510192871094,"mono",72,"pseudo-square",1580,808,35,"aluminum","junction box",13,"www.hanwha-solarone.com","-","-","-","-","-",{"$f":"IF($O5635=\"Sunpower Corp.\",3,(IF(OR($Q5635=\"mono\",$Q5635=\"poly\",$Q5635=\"HIT\",$Q5635=\"EFG\",$Q5635=\"mono-LGBC\"),1,IF(OR($Q5635=\"µc-Si / a-Si\",$Q5635=\"a-Si (single)\",$Q5635=\"a-Si (tandem)\",$Q5635=\"a-Si (triple)\"),3,2))))","v":1},{"$f":"IF($O5635=\"Sunpower Corp.\",3,(IF(OR($Q5635=\"mono\",$Q5635=\"poly\",$Q5635=\"HIT\",$Q5635=\"EFG\",$Q5635=\"mono-LGBC\"),1,2)))","v":1},{"$f":"IF($O5635=\"Sunpower Corp.\",3,(IF(OR($Q5635=\"mono\",$Q5635=\"poly\",$Q5635=\"HIT\",$Q5635=\"EFG\",$Q5635=\"mono-LGBC\"),1,IF(OR($Q5635=\"µc-Si / a-Si\",$Q5635=\"a-Si (single)\",$Q5635=\"a-Si (tandem)\",$Q5635=\"a-Si (triple)\"),3,2))))","v":1},0,null,null,31637,null,null,5634]
["Hanwha SolarOne SF220 Poly x-tra (235)","Hanwha SolarOne ","SF220 Poly x-tra (235)",235,"+3...-3",30.1,7.81,36.799999999999997,8.44,-117.76,3.3759999999999999,-0.45,1000,null,null,14.225179672241211,"poly",60,"square",1652,1000,45,"aluminum","junction box",21,"www.hanwha-solarone.com","-","-","-","-","-",{"$f":"IF($O5656=\"Sunpower Corp.\",3,(IF(OR($Q5656=\"mono\",$Q5656=\"poly\",$Q5656=\"HIT\",$Q5656=\"EFG\",$Q5656=\"mono-LGBC\"),1,IF(OR($Q5656=\"µc-Si / a-Si\",$Q5656=\"a-Si (single)\",$Q5656=\"a-Si (tandem)\",$Q5656=\"a-Si (triple)\"),3,2))))","v":1},{"$f":"IF($O5656=\"Sunpower Corp.\",3,(IF(OR($Q5656=\"mono\",$Q5656=\"poly\",$Q5656=\"HIT\",$Q5656=\"EFG\",$Q5656=\"mono-LGBC\"),1,2)))","v":1},{"$f":"IF($O5656=\"Sunpower Corp.\",3,(IF(OR($Q5656=\"mono\",$Q5656=\"poly\",$Q5656=\"HIT\",$Q5656=\"EFG\",$Q5656=\"mono-LGBC\"),1,IF(OR($Q5656=\"µc-Si / a-Si\",$Q5656=\"a-Si (single)\",$Q5656=\"a-Si (tandem)\",$Q5656=\"a-Si (triple)\"),3,2))))","v":1},0,null,null,31661,null,null,5655]
["HC Solar Power Co., Ltd. HCP165D-24","HC Solar Power Co., Ltd. ","HCP165D-24",165,"+3...-3",35.4,4.66,43.7,5.07,-148.58000000000001,2.2815000000000003,-0.47,1000,"China",null,12.92455005645752,"mono",72,"pseudo-square",1580,808,45,"aluminum","junction box MC4",15.5,"www.hcsolar.com","-","-","-","-","-",{"$f":"IF($O5680=\"Sunpower Corp.\",3,(IF(OR($Q5680=\"mono\",$Q5680=\"poly\",$Q5680=\"HIT\",$Q5680=\"EFG\",$Q5680=\"mono-LGBC\"),1,IF(OR($Q5680=\"µc-Si / a-Si\",$Q5680=\"a-Si (single)\",$Q5680=\"a-Si (tandem)\",$Q5680=\"a-Si (triple)\"),3,2))))","v":1},{"$f":"IF($O5680=\"Sunpower Corp.\",3,(IF(OR($Q5680=\"mono\",$Q5680=\"poly\",$Q5680=\"HIT\",$Q5680=\"EFG\",$Q5680=\"mono-LGBC\"),1,2)))","v":1},{"$f":"IF($O5680=\"Sunpower Corp.\",3,(IF(OR($Q5680=\"mono\",$Q5680=\"poly\",$Q5680=\"HIT\",$Q5680=\"EFG\",$Q5680=\"mono-LGBC\"),1,IF(OR($Q5680=\"µc-Si / a-Si\",$Q5680=\"a-Si (single)\",$Q5680=\"a-Si (tandem)\",$Q5680=\"a-Si (triple)\"),3,2))))","v":1},0,null,null,30448,null,null,5679]
["HC Solar Power Co., Ltd. HCP205P-18","HC Solar Power Co., Ltd. ","HCP205P-18",205,"+3...-3",27,7.59,33.4,8.24,-113.56,3.7079999999999997,-0.47,1000,"China",null,13.96306037902832,"poly",54,"square",1480,992,50,"aluminum","junction box MC4",17.5,"www.hcsolar.com","-","-","-","-","-",{"$f":"IF($O5701=\"Sunpower Corp.\",3,(IF(OR($Q5701=\"mono\",$Q5701=\"poly\",$Q5701=\"HIT\",$Q5701=\"EFG\",$Q5701=\"mono-LGBC\"),1,IF(OR($Q5701=\"µc-Si / a-Si\",$Q5701=\"a-Si (single)\",$Q5701=\"a-Si (tandem)\",$Q5701=\"a-Si (triple)\"),3,2))))","v":1},{"$f":"IF($O5701=\"Sunpower Corp.\",3,(IF(OR($Q5701=\"mono\",$Q5701=\"poly\",$Q5701=\"HIT\",$Q5701=\"EFG\",$Q5701=\"mono-LGBC\"),1,2)))","v":1},{"$f":"IF($O5701=\"Sunpower Corp.\",3,(IF(OR($Q5701=\"mono\",$Q5701=\"poly\",$Q5701=\"HIT\",$Q5701=\"EFG\",$Q5701=\"mono-LGBC\"),1,IF(OR($Q5701=\"µc-Si / a-Si\",$Q5701=\"a-Si (single)\",$Q5701=\"a-Si (tandem)\",$Q5701=\"a-Si (triple)\"),3,2))))","v":1},0,null,null,30400,null,null,5700]
["HC Solar Power Co., Ltd. HCP215D-20","HC Solar Power Co., Ltd. ","HCP215D-20",215,"+3...-3",29.8,7.22,36.6,7.95,-124.44,3.5775000000000001,-0.47,1000,"China",null,13.135390281677246,"mono",60,"pseudo-square",1650,992,50,"aluminum","junction box MC4",19.5,"www.hcsolar.com","-","-","-","-","-",{"$f":"IF($O5706=\"Sunpower Corp.\",3,(IF(OR($Q5706=\"mono\",$Q5706=\"poly\",$Q5706=\"HIT\",$Q5706=\"EFG\",$Q5706=\"mono-LGBC\"),1,IF(OR($Q5706=\"µc-Si / a-Si\",$Q5706=\"a-Si (single)\",$Q5706=\"a-Si (tandem)\",$Q5706=\"a-Si (triple)\"),3,2))))","v":1},{"$f":"IF($O5706=\"Sunpower Corp.\",3,(IF(OR($Q5706=\"mono\",$Q5706=\"poly\",$Q5706=\"HIT\",$Q5706=\"EFG\",$Q5706=\"mono-LGBC\"),1,2)))","v":1},{"$f":"IF($O5706=\"Sunpower Corp.\",3,(IF(OR($Q5706=\"mono\",$Q5706=\"poly\",$Q5706=\"HIT\",$Q5706=\"EFG\",$Q5706=\"mono-LGBC\"),1,IF(OR($Q5706=\"µc-Si / a-Si\",$Q5706=\"a-Si (single)\",$Q5706=\"a-Si (tandem)\",$Q5706=\"a-Si (triple)\"),3,2))))","v":1},0,null,null,30386,null,null,5705]
["HC Solar Power Co., Ltd. HCP240P-20","HC Solar Power Co., Ltd. ","HCP240P-20",240,"+3...-3",30.3,7.92,37.1,8.42,-126.14,3.7889999999999997,-0.47,1000,"China",null,14.662759780883789,"poly",60,"square",1650,992,50,"aluminum","junction box MC4",19.5,"www.hcsolar.com","-","-","-","-","-",{"$f":"IF($O5726=\"Sunpower Corp.\",3,(IF(OR($Q5726=\"mono\",$Q5726=\"poly\",$Q5726=\"HIT\",$Q5726=\"EFG\",$Q5726=\"mono-LGBC\"),1,IF(OR($Q5726=\"µc-Si / a-Si\",$Q5726=\"a-Si (single)\",$Q5726=\"a-Si (tandem)\",$Q5726=\"a-Si (triple)\"),3,2))))","v":1},{"$f":"IF($O5726=\"Sunpower Corp.\",3,(IF(OR($Q5726=\"mono\",$Q5726=\"poly\",$Q5726=\"HIT\",$Q5726=\"EFG\",$Q5726=\"mono-LGBC\"),1,2)))","v":1},{"$f":"IF($O5726=\"Sunpower Corp.\",3,(IF(OR($Q5726=\"mono\",$Q5726=\"poly\",$Q5726=\"HIT\",$Q5726=\"EFG\",$Q5726=\"mono-LGBC\"),1,IF(OR($Q5726=\"µc-Si / a-Si\",$Q5726=\"a-Si (single)\",$Q5726=\"a-Si (tandem)\",$Q5726=\"a-Si (triple)\"),3,2))))","v":1},0,null,null,30411,null,null,5725]
["HC Solar Power Co., Ltd. HCP280D-24","HC Solar Power Co., Ltd. ","HCP280D-24",280,"+3...-3",36.200000000000003,7.75,44.8,8.2799999999999994,-152.32,3.7259999999999995,-0.47,1000,"China",null,14.430370330810547,"mono",72,"pseudo-square",1956,992,50,"aluminum","junction box MC4",23,"www.hcsolar.com","-","-","-","-","-",{"$f":"IF($O5745=\"Sunpower Corp.\",3,(IF(OR($Q5745=\"mono\",$Q5745=\"poly\",$Q5745=\"HIT\",$Q5745=\"EFG\",$Q5745=\"mono-LGBC\"),1,IF(OR($Q5745=\"µc-Si / a-Si\",$Q5745=\"a-Si (single)\",$Q5745=\"a-Si (tandem)\",$Q5745=\"a-Si (triple)\"),3,2))))","v":1},{"$f":"IF($O5745=\"Sunpower Corp.\",3,(IF(OR($Q5745=\"mono\",$Q5745=\"poly\",$Q5745=\"HIT\",$Q5745=\"EFG\",$Q5745=\"mono-LGBC\"),1,2)))","v":1},{"$f":"IF($O5745=\"Sunpower Corp.\",3,(IF(OR($Q5745=\"mono\",$Q5745=\"poly\",$Q5745=\"HIT\",$Q5745=\"EFG\",$Q5745=\"mono-LGBC\"),1,IF(OR($Q5745=\"µc-Si / a-Si\",$Q5745=\"a-Si (single)\",$Q5745=\"a-Si (tandem)\",$Q5745=\"a-Si (triple)\"),3,2))))","v":1},0,null,null,30422,null,null,5744]
["Heckert Solar AG HS-NeMo P 205","Heckert Solar AG ","HS-NeMo P 205",205,"+2...0",25.4,8.07,32.4,8.57,-110.16,4.2850000000000001,-0.45,1000,"Germany",null,13.991259574890137,"poly",54,"square",1480,990,38,"aluminum","junction box",18.5,"www.heckert-solar.com","-","-","-","-","-",{"$f":"IF($O5771=\"Sunpower Corp.\",3,(IF(OR($Q5771=\"mono\",$Q5771=\"poly\",$Q5771=\"HIT\",$Q5771=\"EFG\",$Q5771=\"mono-LGBC\"),1,IF(OR($Q5771=\"µc-Si / a-Si\",$Q5771=\"a-Si (single)\",$Q5771=\"a-Si (tandem)\",$Q5771=\"a-Si (triple)\"),3,2))))","v":1},{"$f":"IF($O5771=\"Sunpower Corp.\",3,(IF(OR($Q5771=\"mono\",$Q5771=\"poly\",$Q5771=\"HIT\",$Q5771=\"EFG\",$Q5771=\"mono-LGBC\"),1,2)))","v":1},{"$f":"IF($O5771=\"Sunpower Corp.\",3,(IF(OR($Q5771=\"mono\",$Q5771=\"poly\",$Q5771=\"HIT\",$Q5771=\"EFG\",$Q5771=\"mono-LGBC\"),1,IF(OR($Q5771=\"µc-Si / a-Si\",$Q5771=\"a-Si (single)\",$Q5771=\"a-Si (tandem)\",$Q5771=\"a-Si (triple)\"),3,2))))","v":1},0,null,null,26921,null,null,5770]
["Heckert Solar AG HS-PXL 215","Heckert Solar AG ","HS-PXL 215",215,"+2...0",26.32,8.17,33.32,8.67,-113.28800000000001,4.335,-0.45,1000,"Germany",null,14.673760414123535,"poly",54,"square",1480,990,38,"aluminum","junction box",18.7,"www.heckert-solar.com","-","-","-","-","-",{"$f":"IF($O5790=\"Sunpower Corp.\",3,(IF(OR($Q5790=\"mono\",$Q5790=\"poly\",$Q5790=\"HIT\",$Q5790=\"EFG\",$Q5790=\"mono-LGBC\"),1,IF(OR($Q5790=\"µc-Si / a-Si\",$Q5790=\"a-Si (single)\",$Q5790=\"a-Si (tandem)\",$Q5790=\"a-Si (triple)\"),3,2))))","v":1},{"$f":"IF($O5790=\"Sunpower Corp.\",3,(IF(OR($Q5790=\"mono\",$Q5790=\"poly\",$Q5790=\"HIT\",$Q5790=\"EFG\",$Q5790=\"mono-LGBC\"),1,2)))","v":1},{"$f":"IF($O5790=\"Sunpower Corp.\",3,(IF(OR($Q5790=\"mono\",$Q5790=\"poly\",$Q5790=\"HIT\",$Q5790=\"EFG\",$Q5790=\"mono-LGBC\"),1,IF(OR($Q5790=\"µc-Si / a-Si\",$Q5790=\"a-Si (single)\",$Q5790=\"a-Si (tandem)\",$Q5790=\"a-Si (triple)\"),3,2))))","v":1},0,null,null,4011,null,null,5789]
["Heilongjiang JinRi Electronic Optical Technology JR250P-24","Heilongjiang JinRi Electronic Optical Technology ","JR250P-24",250,"+3...-3",34.6,7.23,42.9,8.51,-145.86000000000001,3.8294999999999999,-0.47,1000,null,null,12.877679824829102,"poly",72,"square",1957,992,40,"aluminum","junction box",24,"www.jrsolar.cn","-","-","-","-","-",{"$f":"IF($O5820=\"Sunpower Corp.\",3,(IF(OR($Q5820=\"mono\",$Q5820=\"poly\",$Q5820=\"HIT\",$Q5820=\"EFG\",$Q5820=\"mono-LGBC\"),1,IF(OR($Q5820=\"µc-Si / a-Si\",$Q5820=\"a-Si (single)\",$Q5820=\"a-Si (tandem)\",$Q5820=\"a-Si (triple)\"),3,2))))","v":1},{"$f":"IF($O5820=\"Sunpower Corp.\",3,(IF(OR($Q5820=\"mono\",$Q5820=\"poly\",$Q5820=\"HIT\",$Q5820=\"EFG\",$Q5820=\"mono-LGBC\"),1,2)))","v":1},{"$f":"IF($O5820=\"Sunpower Corp.\",3,(IF(OR($Q5820=\"mono\",$Q5820=\"poly\",$Q5820=\"HIT\",$Q5820=\"EFG\",$Q5820=\"mono-LGBC\"),1,IF(OR($Q5820=\"µc-Si / a-Si\",$Q5820=\"a-Si (single)\",$Q5820=\"a-Si (tandem)\",$Q5820=\"a-Si (triple)\"),3,2))))","v":1},0,null,null,32117,null,null,5819]
["Heilongjiang JinRi Electronic Optical Technology JR90P-12","Heilongjiang JinRi Electronic Optical Technology ","JR90P-12",90,"+3...-3",34.6,2.6,38.6,3.27,-138.96,1.0790999999999999,-0.44,715,null,null,13.22130012512207,"poly",72,"rectangular",1016,670,40,"aluminum","junction box",9,"www.jrsolar.cn","-","-","-","-","-",{"$f":"IF($O5835=\"Sunpower Corp.\",3,(IF(OR($Q5835=\"mono\",$Q5835=\"poly\",$Q5835=\"HIT\",$Q5835=\"EFG\",$Q5835=\"mono-LGBC\"),1,IF(OR($Q5835=\"µc-Si / a-Si\",$Q5835=\"a-Si (single)\",$Q5835=\"a-Si (tandem)\",$Q5835=\"a-Si (triple)\"),3,2))))","v":1},{"$f":"IF($O5835=\"Sunpower Corp.\",3,(IF(OR($Q5835=\"mono\",$Q5835=\"poly\",$Q5835=\"HIT\",$Q5835=\"EFG\",$Q5835=\"mono-LGBC\"),1,2)))","v":1},{"$f":"IF($O5835=\"Sunpower Corp.\",3,(IF(OR($Q5835=\"mono\",$Q5835=\"poly\",$Q5835=\"HIT\",$Q5835=\"EFG\",$Q5835=\"mono-LGBC\"),1,IF(OR($Q5835=\"µc-Si / a-Si\",$Q5835=\"a-Si (single)\",$Q5835=\"a-Si (tandem)\",$Q5835=\"a-Si (triple)\"),3,2))))","v":1},0,null,null,32106,null,null,5834]
["HELIOS ENERGY EUROPE S.L. HEE110UA62","HELIOS ENERGY EUROPE S.L. ","HEE110UA62",120,"+3...-3",15.6,7.7,19.2,8.9,-61.44,5.34,-0.34,1000,"Spain","Sunways AG Photovoltaics",13.014479637145996,"poly",32,"square",1366,675,40,"aluminum","cable MC",14,null,"-","-","-","-","-",{"$f":"IF($O5845=\"Sunpower Corp.\",3,(IF(OR($Q5845=\"mono\",$Q5845=\"poly\",$Q5845=\"HIT\",$Q5845=\"EFG\",$Q5845=\"mono-LGBC\"),1,IF(OR($Q5845=\"µc-Si / a-Si\",$Q5845=\"a-Si (single)\",$Q5845=\"a-Si (tandem)\",$Q5845=\"a-Si (triple)\"),3,2))))","v":1},{"$f":"IF($O5845=\"Sunpower Corp.\",3,(IF(OR($Q5845=\"mono\",$Q5845=\"poly\",$Q5845=\"HIT\",$Q5845=\"EFG\",$Q5845=\"mono-LGBC\"),1,2)))","v":1},{"$f":"IF($O5845=\"Sunpower Corp.\",3,(IF(OR($Q5845=\"mono\",$Q5845=\"poly\",$Q5845=\"HIT\",$Q5845=\"EFG\",$Q5845=\"mono-LGBC\"),1,IF(OR($Q5845=\"µc-Si / a-Si\",$Q5845=\"a-Si (single)\",$Q5845=\"a-Si (tandem)\",$Q5845=\"a-Si (triple)\"),3,2))))","v":1},0,null,null,14973,null,null,5844]
["HELIOS ENERGY EUROPE S.L. HEE275UA73","HELIOS ENERGY EUROPE S.L. ","HEE275UA73",265,"+3...-3",34.799999999999997,7.6,44.65,8.1300000000000008,-142.88,5.6910000000000016,-0.43,1000,null,null,13.574040412902832,"poly",72,"square",1984,984,40,"aluminum","cable",26,"www.heliosenergy.es","-","-","-","-","-",{"$f":"IF($O5866=\"Sunpower Corp.\",3,(IF(OR($Q5866=\"mono\",$Q5866=\"poly\",$Q5866=\"HIT\",$Q5866=\"EFG\",$Q5866=\"mono-LGBC\"),1,IF(OR($Q5866=\"µc-Si / a-Si\",$Q5866=\"a-Si (single)\",$Q5866=\"a-Si (tandem)\",$Q5866=\"a-Si (triple)\"),3,2))))","v":1},{"$f":"IF($O5866=\"Sunpower Corp.\",3,(IF(OR($Q5866=\"mono\",$Q5866=\"poly\",$Q5866=\"HIT\",$Q5866=\"EFG\",$Q5866=\"mono-LGBC\"),1,2)))","v":1},{"$f":"IF($O5866=\"Sunpower Corp.\",3,(IF(OR($Q5866=\"mono\",$Q5866=\"poly\",$Q5866=\"HIT\",$Q5866=\"EFG\",$Q5866=\"mono-LGBC\"),1,IF(OR($Q5866=\"µc-Si / a-Si\",$Q5866=\"a-Si (single)\",$Q5866=\"a-Si (tandem)\",$Q5866=\"a-Si (triple)\"),3,2))))","v":1},0,null,null,16434,null,null,5865]
["Helios Technology S.p.A. HMA220","Helios Technology S.p.A. ","HMA220",220,"+3...-3",29.15,7.55,36.950000000000003,8.11,-140.41,3.2439999999999998,-0.52,1000,"Italy","Helios Technology",13.468009948730469,"mono",60,"pseudo-square",1650,990,38,"aluminum","junction box Tyco",18.7,"www.heliostechnology.com","-","-","-","-","-",{"$f":"IF($O5881=\"Sunpower Corp.\",3,(IF(OR($Q5881=\"mono\",$Q5881=\"poly\",$Q5881=\"HIT\",$Q5881=\"EFG\",$Q5881=\"mono-LGBC\"),1,IF(OR($Q5881=\"µc-Si / a-Si\",$Q5881=\"a-Si (single)\",$Q5881=\"a-Si (tandem)\",$Q5881=\"a-Si (triple)\"),3,2))))","v":1},{"$f":"IF($O5881=\"Sunpower Corp.\",3,(IF(OR($Q5881=\"mono\",$Q5881=\"poly\",$Q5881=\"HIT\",$Q5881=\"EFG\",$Q5881=\"mono-LGBC\"),1,2)))","v":1},{"$f":"IF($O5881=\"Sunpower Corp.\",3,(IF(OR($Q5881=\"mono\",$Q5881=\"poly\",$Q5881=\"HIT\",$Q5881=\"EFG\",$Q5881=\"mono-LGBC\"),1,IF(OR($Q5881=\"µc-Si / a-Si\",$Q5881=\"a-Si (single)\",$Q5881=\"a-Si (tandem)\",$Q5881=\"a-Si (triple)\"),3,2))))","v":1},0,null,null,13587,null,null,5880]
["HELTRON GmbH Tegreon 225 P","HELTRON GmbH ","Tegreon 225 P",225,"+2,5...0",29.23,7.74,36.43,8.24,-123.86200000000001,4.12,-0.45,1000,null,null,13.821610450744629,"poly",60,"square",1651,986,46,"aluminum","junction box H + S",22,"www.heltron.de","-","-","-","-","-",{"$f":"IF($O5915=\"Sunpower Corp.\",3,(IF(OR($Q5915=\"mono\",$Q5915=\"poly\",$Q5915=\"HIT\",$Q5915=\"EFG\",$Q5915=\"mono-LGBC\"),1,IF(OR($Q5915=\"µc-Si / a-Si\",$Q5915=\"a-Si (single)\",$Q5915=\"a-Si (tandem)\",$Q5915=\"a-Si (triple)\"),3,2))))","v":1},{"$f":"IF($O5915=\"Sunpower Corp.\",3,(IF(OR($Q5915=\"mono\",$Q5915=\"poly\",$Q5915=\"HIT\",$Q5915=\"EFG\",$Q5915=\"mono-LGBC\"),1,2)))","v":1},{"$f":"IF($O5915=\"Sunpower Corp.\",3,(IF(OR($Q5915=\"mono\",$Q5915=\"poly\",$Q5915=\"HIT\",$Q5915=\"EFG\",$Q5915=\"mono-LGBC\"),1,IF(OR($Q5915=\"µc-Si / a-Si\",$Q5915=\"a-Si (single)\",$Q5915=\"a-Si (tandem)\",$Q5915=\"a-Si (triple)\"),3,2))))","v":1},0,null,null,19262,null,null,5914]
["Hengdian Group Dmegc Magnetics Co., Ltd. DM185-M125-72","Hengdian Group Dmegc Magnetics Co., Ltd. ","DM185-M125-72",185,"+3...0",36.4,5.09,45,5.43,-157.5,2.7149999999999999,-0.45,1000,"China",null,14.49116039276123,"mono",72,"pseudo-square",1580,808,35,"aluminum","junction box",15,"www.chinadmegc.com","-","-","-","-","-",{"$f":"IF($O5926=\"Sunpower Corp.\",3,(IF(OR($Q5926=\"mono\",$Q5926=\"poly\",$Q5926=\"HIT\",$Q5926=\"EFG\",$Q5926=\"mono-LGBC\"),1,IF(OR($Q5926=\"µc-Si / a-Si\",$Q5926=\"a-Si (single)\",$Q5926=\"a-Si (tandem)\",$Q5926=\"a-Si (triple)\"),3,2))))","v":1},{"$f":"IF($O5926=\"Sunpower Corp.\",3,(IF(OR($Q5926=\"mono\",$Q5926=\"poly\",$Q5926=\"HIT\",$Q5926=\"EFG\",$Q5926=\"mono-LGBC\"),1,2)))","v":1},{"$f":"IF($O5926=\"Sunpower Corp.\",3,(IF(OR($Q5926=\"mono\",$Q5926=\"poly\",$Q5926=\"HIT\",$Q5926=\"EFG\",$Q5926=\"mono-LGBC\"),1,IF(OR($Q5926=\"µc-Si / a-Si\",$Q5926=\"a-Si (single)\",$Q5926=\"a-Si (tandem)\",$Q5926=\"a-Si (triple)\"),3,2))))","v":1},0,null,null,34509,null,null,5925]
["Hengdian Group Dmegc Magnetics Co., Ltd. DM235-M125-96","Hengdian Group Dmegc Magnetics Co., Ltd. ","DM235-M125-96",235,"+3...0",48.8,4.8099999999999996,59.2,5.27,-207.2,2.6349999999999998,-0.45,1000,"China",null,13.890859603881836,"mono",96,"pseudo-square",1590,1064,45,"aluminum","junction box",20,"www.chinadmegc.com","-","-","-","-","-",{"$f":"IF($O5940=\"Sunpower Corp.\",3,(IF(OR($Q5940=\"mono\",$Q5940=\"poly\",$Q5940=\"HIT\",$Q5940=\"EFG\",$Q5940=\"mono-LGBC\"),1,IF(OR($Q5940=\"µc-Si / a-Si\",$Q5940=\"a-Si (single)\",$Q5940=\"a-Si (tandem)\",$Q5940=\"a-Si (triple)\"),3,2))))","v":1},{"$f":"IF($O5940=\"Sunpower Corp.\",3,(IF(OR($Q5940=\"mono\",$Q5940=\"poly\",$Q5940=\"HIT\",$Q5940=\"EFG\",$Q5940=\"mono-LGBC\"),1,2)))","v":1},{"$f":"IF($O5940=\"Sunpower Corp.\",3,(IF(OR($Q5940=\"mono\",$Q5940=\"poly\",$Q5940=\"HIT\",$Q5940=\"EFG\",$Q5940=\"mono-LGBC\"),1,IF(OR($Q5940=\"µc-Si / a-Si\",$Q5940=\"a-Si (single)\",$Q5940=\"a-Si (tandem)\",$Q5940=\"a-Si (triple)\"),3,2))))","v":1},0,null,null,34515,null,null,5939]
["Hengzhen Investment (Shanghai) Co., Ltd TW155(35)D","Hengzhen Investment (Shanghai) Co., Ltd ","TW155(35)D",155,"+3...-3",34.5,4.49,41.4,5.03,-140.76,2.5150000000000001,-0.5,1000,"China",null,12.141249656677246,"mono",72,"pseudo-square",1580,808,35,"aluminum","junction box",15.5,null,"-","-","-","-","-",{"$f":"IF($O5971=\"Sunpower Corp.\",3,(IF(OR($Q5971=\"mono\",$Q5971=\"poly\",$Q5971=\"HIT\",$Q5971=\"EFG\",$Q5971=\"mono-LGBC\"),1,IF(OR($Q5971=\"µc-Si / a-Si\",$Q5971=\"a-Si (single)\",$Q5971=\"a-Si (tandem)\",$Q5971=\"a-Si (triple)\"),3,2))))","v":1},{"$f":"IF($O5971=\"Sunpower Corp.\",3,(IF(OR($Q5971=\"mono\",$Q5971=\"poly\",$Q5971=\"HIT\",$Q5971=\"EFG\",$Q5971=\"mono-LGBC\"),1,2)))","v":1},{"$f":"IF($O5971=\"Sunpower Corp.\",3,(IF(OR($Q5971=\"mono\",$Q5971=\"poly\",$Q5971=\"HIT\",$Q5971=\"EFG\",$Q5971=\"mono-LGBC\"),1,IF(OR($Q5971=\"µc-Si / a-Si\",$Q5971=\"a-Si (single)\",$Q5971=\"a-Si (tandem)\",$Q5971=\"a-Si (triple)\"),3,2))))","v":1},0,null,null,23111,null,null,5970]
["Hengzhen Investment (Shanghai) Co., Ltd TW215(28)P","Hengzhen Investment (Shanghai) Co., Ltd ","TW215(28)P",215,"+3...-3",28.7,7.49,36.5,8.27,-124.1,4.9619999999999997,-0.48,1000,"China",null,13.215929985046387,"poly",60,"square",1635,995,35,"aluminum","junction box",15.5,null,"-","-","-","-","-",{"$f":"IF($O5985=\"Sunpower Corp.\",3,(IF(OR($Q5985=\"mono\",$Q5985=\"poly\",$Q5985=\"HIT\",$Q5985=\"EFG\",$Q5985=\"mono-LGBC\"),1,IF(OR($Q5985=\"µc-Si / a-Si\",$Q5985=\"a-Si (single)\",$Q5985=\"a-Si (tandem)\",$Q5985=\"a-Si (triple)\"),3,2))))","v":1},{"$f":"IF($O5985=\"Sunpower Corp.\",3,(IF(OR($Q5985=\"mono\",$Q5985=\"poly\",$Q5985=\"HIT\",$Q5985=\"EFG\",$Q5985=\"mono-LGBC\"),1,2)))","v":1},{"$f":"IF($O5985=\"Sunpower Corp.\",3,(IF(OR($Q5985=\"mono\",$Q5985=\"poly\",$Q5985=\"HIT\",$Q5985=\"EFG\",$Q5985=\"mono-LGBC\"),1,IF(OR($Q5985=\"µc-Si / a-Si\",$Q5985=\"a-Si (single)\",$Q5985=\"a-Si (tandem)\",$Q5985=\"a-Si (triple)\"),3,2))))","v":1},0,null,null,23136,null,null,5984]
["Himin Solar Energy Group Co.,Ltd HG-200S","Himin Solar Energy Group Co.,Ltd ","HG-200S",200,"+3...-3",38,5.27,45.4,5.61,-149.82,2.0196000000000001,-0.47,1000,null,null,15.666119575500488,"mono",72,"pseudo-square",1580,808,50,"others","cable",16.2,"www.himin.com","-","-","-","-","-",{"$f":"IF($O6010=\"Sunpower Corp.\",3,(IF(OR($Q6010=\"mono\",$Q6010=\"poly\",$Q6010=\"HIT\",$Q6010=\"EFG\",$Q6010=\"mono-LGBC\"),1,IF(OR($Q6010=\"µc-Si / a-Si\",$Q6010=\"a-Si (single)\",$Q6010=\"a-Si (tandem)\",$Q6010=\"a-Si (triple)\"),3,2))))","v":1},{"$f":"IF($O6010=\"Sunpower Corp.\",3,(IF(OR($Q6010=\"mono\",$Q6010=\"poly\",$Q6010=\"HIT\",$Q6010=\"EFG\",$Q6010=\"mono-LGBC\"),1,2)))","v":1},{"$f":"IF($O6010=\"Sunpower Corp.\",3,(IF(OR($Q6010=\"mono\",$Q6010=\"poly\",$Q6010=\"HIT\",$Q6010=\"EFG\",$Q6010=\"mono-LGBC\"),1,IF(OR($Q6010=\"µc-Si / a-Si\",$Q6010=\"a-Si (single)\",$Q6010=\"a-Si (tandem)\",$Q6010=\"a-Si (triple)\"),3,2))))","v":1},0,null,null,17400,null,null,6009]
["Hisem New Energy Co., Ltd. HSP-225W","Hisem New Energy Co., Ltd. ","HSP-225W",225,"+...",29.4,7.65,36.700000000000003,8.19,-124.78,5.3234999999999992,-0.43,null,null,null,13.98805046081543,"poly",60,"square",1638,982,40,"aluminum","junction box MC",20,"www.hisem.com","-","-","-","-","-",{"$f":"IF($O6030=\"Sunpower Corp.\",3,(IF(OR($Q6030=\"mono\",$Q6030=\"poly\",$Q6030=\"HIT\",$Q6030=\"EFG\",$Q6030=\"mono-LGBC\"),1,IF(OR($Q6030=\"µc-Si / a-Si\",$Q6030=\"a-Si (single)\",$Q6030=\"a-Si (tandem)\",$Q6030=\"a-Si (triple)\"),3,2))))","v":1},{"$f":"IF($O6030=\"Sunpower Corp.\",3,(IF(OR($Q6030=\"mono\",$Q6030=\"poly\",$Q6030=\"HIT\",$Q6030=\"EFG\",$Q6030=\"mono-LGBC\"),1,2)))","v":1},{"$f":"IF($O6030=\"Sunpower Corp.\",3,(IF(OR($Q6030=\"mono\",$Q6030=\"poly\",$Q6030=\"HIT\",$Q6030=\"EFG\",$Q6030=\"mono-LGBC\"),1,IF(OR($Q6030=\"µc-Si / a-Si\",$Q6030=\"a-Si (single)\",$Q6030=\"a-Si (tandem)\",$Q6030=\"a-Si (triple)\"),3,2))))","v":1},0,null,null,29192,null,null,6029]
["HT-SAAE HT60-156M-MC330","HT-SAAE","HT60-156M-MC330",330,0,34.1,9.69,40.4,10.74,-117.16,5.2626000000000008,-0.39,1000,"China","-",19.600000000000001,"mono","-","-",1684,1002,35,"Aluminium","-",19,"-","-","-","-","-","-",null,null,null,null,null,null,"UserDef",null,null,6035]
["Huangshan Kinguo New Energy Technology Co., Ltd. KGM225P-54","Huangshan Kinguo New Energy Technology Co., Ltd. ","KGM225P-54",225,"+3...-3",27.5,8.18,34.9,8.83,-115.17,3.532,-0.43,1000,"China",null,15.304619789123535,"poly",54,"square",1482,992,50,"aluminum","junction box",17.5,"www.kinguo.com","-","-","-","-","-",{"$f":"IF($O6059=\"Sunpower Corp.\",3,(IF(OR($Q6059=\"mono\",$Q6059=\"poly\",$Q6059=\"HIT\",$Q6059=\"EFG\",$Q6059=\"mono-LGBC\"),1,IF(OR($Q6059=\"µc-Si / a-Si\",$Q6059=\"a-Si (single)\",$Q6059=\"a-Si (tandem)\",$Q6059=\"a-Si (triple)\"),3,2))))","v":1},{"$f":"IF($O6059=\"Sunpower Corp.\",3,(IF(OR($Q6059=\"mono\",$Q6059=\"poly\",$Q6059=\"HIT\",$Q6059=\"EFG\",$Q6059=\"mono-LGBC\"),1,2)))","v":1},{"$f":"IF($O6059=\"Sunpower Corp.\",3,(IF(OR($Q6059=\"mono\",$Q6059=\"poly\",$Q6059=\"HIT\",$Q6059=\"EFG\",$Q6059=\"mono-LGBC\"),1,IF(OR($Q6059=\"µc-Si / a-Si\",$Q6059=\"a-Si (single)\",$Q6059=\"a-Si (tandem)\",$Q6059=\"a-Si (triple)\"),3,2))))","v":1},0,null,null,34749,null,null,6058]
["Huangshan Kinguo New Energy Technology Co., Ltd. KGM290P-72","Huangshan Kinguo New Energy Technology Co., Ltd. ","KGM290P-72",290,"+3...-3",36,8.0500000000000007,44.6,8.61,-147.18,3.444,-0.43,1000,"China",null,14.93809986114502,"poly",72,"square",1957,992,50,"aluminum","junction box",22.5,"www.kinguo.com","-","-","-","-","-",{"$f":"IF($O6081=\"Sunpower Corp.\",3,(IF(OR($Q6081=\"mono\",$Q6081=\"poly\",$Q6081=\"HIT\",$Q6081=\"EFG\",$Q6081=\"mono-LGBC\"),1,IF(OR($Q6081=\"µc-Si / a-Si\",$Q6081=\"a-Si (single)\",$Q6081=\"a-Si (tandem)\",$Q6081=\"a-Si (triple)\"),3,2))))","v":1},{"$f":"IF($O6081=\"Sunpower Corp.\",3,(IF(OR($Q6081=\"mono\",$Q6081=\"poly\",$Q6081=\"HIT\",$Q6081=\"EFG\",$Q6081=\"mono-LGBC\"),1,2)))","v":1},{"$f":"IF($O6081=\"Sunpower Corp.\",3,(IF(OR($Q6081=\"mono\",$Q6081=\"poly\",$Q6081=\"HIT\",$Q6081=\"EFG\",$Q6081=\"mono-LGBC\"),1,IF(OR($Q6081=\"µc-Si / a-Si\",$Q6081=\"a-Si (single)\",$Q6081=\"a-Si (tandem)\",$Q6081=\"a-Si (triple)\"),3,2))))","v":1},0,null,null,34729,null,null,6080]
["Hunan TLNZ Solar Technology Co. Ltd TLNZ-MM210 (54 cells)","Hunan TLNZ Solar Technology Co. Ltd ","TLNZ-MM210 (54 cells)",210,"+...",27.54,7.63,32.83,8.3000000000000007,-113.59179999999998,5.3949999999999996,-0.46,600,"China",null,14.284319877624512,"poly",54,"square",1482,992,50,null,"junction box",17.8,"www.tlnzsolar.com","-","-","-","-","-",{"$f":"IF($O6104=\"Sunpower Corp.\",3,(IF(OR($Q6104=\"mono\",$Q6104=\"poly\",$Q6104=\"HIT\",$Q6104=\"EFG\",$Q6104=\"mono-LGBC\"),1,IF(OR($Q6104=\"µc-Si / a-Si\",$Q6104=\"a-Si (single)\",$Q6104=\"a-Si (tandem)\",$Q6104=\"a-Si (triple)\"),3,2))))","v":1},{"$f":"IF($O6104=\"Sunpower Corp.\",3,(IF(OR($Q6104=\"mono\",$Q6104=\"poly\",$Q6104=\"HIT\",$Q6104=\"EFG\",$Q6104=\"mono-LGBC\"),1,2)))","v":1},{"$f":"IF($O6104=\"Sunpower Corp.\",3,(IF(OR($Q6104=\"mono\",$Q6104=\"poly\",$Q6104=\"HIT\",$Q6104=\"EFG\",$Q6104=\"mono-LGBC\"),1,IF(OR($Q6104=\"µc-Si / a-Si\",$Q6104=\"a-Si (single)\",$Q6104=\"a-Si (tandem)\",$Q6104=\"a-Si (triple)\"),3,2))))","v":1},0,null,null,23089,null,null,6103]
["Hyundai Heavy Industries Co. Ltd. HiS-M188SF","Hyundai Heavy Industries Co. Ltd. ","HiS-M188SF",188,"+3...-3",26.2,7.2,33,7.87,-105.6,4.4072000000000005,-0.43,1000,null,null,12.957400321960449,"poly",54,"square",1476,983,35,"aluminum","junction box",17,"www.hyundai-elec.co.kr","-","-","-","-","-",{"$f":"IF($O6126=\"Sunpower Corp.\",3,(IF(OR($Q6126=\"mono\",$Q6126=\"poly\",$Q6126=\"HIT\",$Q6126=\"EFG\",$Q6126=\"mono-LGBC\"),1,IF(OR($Q6126=\"µc-Si / a-Si\",$Q6126=\"a-Si (single)\",$Q6126=\"a-Si (tandem)\",$Q6126=\"a-Si (triple)\"),3,2))))","v":1},{"$f":"IF($O6126=\"Sunpower Corp.\",3,(IF(OR($Q6126=\"mono\",$Q6126=\"poly\",$Q6126=\"HIT\",$Q6126=\"EFG\",$Q6126=\"mono-LGBC\"),1,2)))","v":1},{"$f":"IF($O6126=\"Sunpower Corp.\",3,(IF(OR($Q6126=\"mono\",$Q6126=\"poly\",$Q6126=\"HIT\",$Q6126=\"EFG\",$Q6126=\"mono-LGBC\"),1,IF(OR($Q6126=\"µc-Si / a-Si\",$Q6126=\"a-Si (single)\",$Q6126=\"a-Si (tandem)\",$Q6126=\"a-Si (triple)\"),3,2))))","v":1},0,null,null,6893,null,null,6125]
["Hyundai Heavy Industries Co. Ltd. HiS-S188SF","Hyundai Heavy Industries Co. Ltd. ","HiS-S188SF",188,"+3...-3",25,7.5,33,8.1,-112.2,4.2119999999999997,-0.44,1000,null,null,12.957400321960449,"mono",54,"pseudo-square",1476,983,35,"aluminum","junction box",17,"www.hyundai-elec.co.kr","-","-","-","-","-",{"$f":"IF($O6149=\"Sunpower Corp.\",3,(IF(OR($Q6149=\"mono\",$Q6149=\"poly\",$Q6149=\"HIT\",$Q6149=\"EFG\",$Q6149=\"mono-LGBC\"),1,IF(OR($Q6149=\"µc-Si / a-Si\",$Q6149=\"a-Si (single)\",$Q6149=\"a-Si (tandem)\",$Q6149=\"a-Si (triple)\"),3,2))))","v":1},{"$f":"IF($O6149=\"Sunpower Corp.\",3,(IF(OR($Q6149=\"mono\",$Q6149=\"poly\",$Q6149=\"HIT\",$Q6149=\"EFG\",$Q6149=\"mono-LGBC\"),1,2)))","v":1},{"$f":"IF($O6149=\"Sunpower Corp.\",3,(IF(OR($Q6149=\"mono\",$Q6149=\"poly\",$Q6149=\"HIT\",$Q6149=\"EFG\",$Q6149=\"mono-LGBC\"),1,IF(OR($Q6149=\"µc-Si / a-Si\",$Q6149=\"a-Si (single)\",$Q6149=\"a-Si (tandem)\",$Q6149=\"a-Si (triple)\"),3,2))))","v":1},0,null,null,10240,null,null,6148]
["Hyundai Heavy Industries Co. Ltd. HiS-S221SG","Hyundai Heavy Industries Co. Ltd. ","HiS-S221SG",221,"+3...-3",29.1,7.6,36.6,8.3000000000000007,-124.44,4.3160000000000007,-0.44,1000,null,null,13.666990280151367,"mono",60,"pseudo-square",1645,983,35,"aluminum","junction box",19,"www.hyundai-elec.co.kr","-","-","-","-","-",{"$f":"IF($O6165=\"Sunpower Corp.\",3,(IF(OR($Q6165=\"mono\",$Q6165=\"poly\",$Q6165=\"HIT\",$Q6165=\"EFG\",$Q6165=\"mono-LGBC\"),1,IF(OR($Q6165=\"µc-Si / a-Si\",$Q6165=\"a-Si (single)\",$Q6165=\"a-Si (tandem)\",$Q6165=\"a-Si (triple)\"),3,2))))","v":1},{"$f":"IF($O6165=\"Sunpower Corp.\",3,(IF(OR($Q6165=\"mono\",$Q6165=\"poly\",$Q6165=\"HIT\",$Q6165=\"EFG\",$Q6165=\"mono-LGBC\"),1,2)))","v":1},{"$f":"IF($O6165=\"Sunpower Corp.\",3,(IF(OR($Q6165=\"mono\",$Q6165=\"poly\",$Q6165=\"HIT\",$Q6165=\"EFG\",$Q6165=\"mono-LGBC\"),1,IF(OR($Q6165=\"µc-Si / a-Si\",$Q6165=\"a-Si (single)\",$Q6165=\"a-Si (tandem)\",$Q6165=\"a-Si (triple)\"),3,2))))","v":1},0,null,null,17759,null,null,6164]
["IBC Solar AG IBC MonoSol 185 HS","IBC Solar AG ","IBC MonoSol 185 HS",185,"+3...-3",24,7.71,30.2,8.5399999999999991,-102.68,4.2699999999999996,-0.48,1000,"various","Sharp Corporation",14.121150016784668,"mono",48,"pseudo-square",1318,994,46,"aluminum","cable MC",16,"www.ibc-solar.de","-","-","-","-","-",{"$f":"IF($O6174=\"Sunpower Corp.\",3,(IF(OR($Q6174=\"mono\",$Q6174=\"poly\",$Q6174=\"HIT\",$Q6174=\"EFG\",$Q6174=\"mono-LGBC\"),1,IF(OR($Q6174=\"µc-Si / a-Si\",$Q6174=\"a-Si (single)\",$Q6174=\"a-Si (tandem)\",$Q6174=\"a-Si (triple)\"),3,2))))","v":1},{"$f":"IF($O6174=\"Sunpower Corp.\",3,(IF(OR($Q6174=\"mono\",$Q6174=\"poly\",$Q6174=\"HIT\",$Q6174=\"EFG\",$Q6174=\"mono-LGBC\"),1,2)))","v":1},{"$f":"IF($O6174=\"Sunpower Corp.\",3,(IF(OR($Q6174=\"mono\",$Q6174=\"poly\",$Q6174=\"HIT\",$Q6174=\"EFG\",$Q6174=\"mono-LGBC\"),1,IF(OR($Q6174=\"µc-Si / a-Si\",$Q6174=\"a-Si (single)\",$Q6174=\"a-Si (tandem)\",$Q6174=\"a-Si (triple)\"),3,2))))","v":1},0,null,null,27191,null,null,6173]
["ILB International Logistikbetriebe AG ILB55W-TF-F","ILB International Logistikbetriebe AG ","ILB55W-TF-F",55,"+5...-5",60.2,0.91,79,1.18,-221.2,1.0620000000000001,-0.19,1000,null,null,4.9337267875671387,"a-Si (single)",null,null,1404,794,6.5,"aluminum","junction box MC",17.5,"www.ilb-helios-group.com","-","-","-","-","-",{"$f":"IF($O6210=\"Sunpower Corp.\",3,(IF(OR($Q6210=\"mono\",$Q6210=\"poly\",$Q6210=\"HIT\",$Q6210=\"EFG\",$Q6210=\"mono-LGBC\"),1,IF(OR($Q6210=\"µc-Si / a-Si\",$Q6210=\"a-Si (single)\",$Q6210=\"a-Si (tandem)\",$Q6210=\"a-Si (triple)\"),3,2))))","v":3},{"$f":"IF($O6210=\"Sunpower Corp.\",3,(IF(OR($Q6210=\"mono\",$Q6210=\"poly\",$Q6210=\"HIT\",$Q6210=\"EFG\",$Q6210=\"mono-LGBC\"),1,2)))","v":2},{"$f":"IF($O6210=\"Sunpower Corp.\",3,(IF(OR($Q6210=\"mono\",$Q6210=\"poly\",$Q6210=\"HIT\",$Q6210=\"EFG\",$Q6210=\"mono-LGBC\"),1,IF(OR($Q6210=\"µc-Si / a-Si\",$Q6210=\"a-Si (single)\",$Q6210=\"a-Si (tandem)\",$Q6210=\"a-Si (triple)\"),3,2))))","v":3},0,null,null,34148,null,null,6209]
["ILB International Logistikbetriebe AG NA180W-PS","ILB International Logistikbetriebe AG ","NA180W-PS",180,"+5...0",23.37,7.7,29,8.19,-85.84,5.8967999999999989,-0.45100000000000001,1000,null,null,13.650010108947754,"poly",48,"square",1332,990,40,"aluminum","junction box",15.7,"www.ilb-helios-group.com","-","-","-","-","-",{"$f":"IF($O6223=\"Sunpower Corp.\",3,(IF(OR($Q6223=\"mono\",$Q6223=\"poly\",$Q6223=\"HIT\",$Q6223=\"EFG\",$Q6223=\"mono-LGBC\"),1,IF(OR($Q6223=\"µc-Si / a-Si\",$Q6223=\"a-Si (single)\",$Q6223=\"a-Si (tandem)\",$Q6223=\"a-Si (triple)\"),3,2))))","v":1},{"$f":"IF($O6223=\"Sunpower Corp.\",3,(IF(OR($Q6223=\"mono\",$Q6223=\"poly\",$Q6223=\"HIT\",$Q6223=\"EFG\",$Q6223=\"mono-LGBC\"),1,2)))","v":1},{"$f":"IF($O6223=\"Sunpower Corp.\",3,(IF(OR($Q6223=\"mono\",$Q6223=\"poly\",$Q6223=\"HIT\",$Q6223=\"EFG\",$Q6223=\"mono-LGBC\"),1,IF(OR($Q6223=\"µc-Si / a-Si\",$Q6223=\"a-Si (single)\",$Q6223=\"a-Si (tandem)\",$Q6223=\"a-Si (triple)\"),3,2))))","v":1},0,null,null,34051,null,null,6222]
["ILB International Logistikbetriebe AG NA195W-PS (54)","ILB International Logistikbetriebe AG ","NA195W-PS (54)",195,"+5...0",25.55,7.63,32.72,7.97,-96.851199999999992,5.7383999999999995,-0.45100000000000001,1000,null,null,13.335800170898438,"poly",54,"square",1477,990,40,"aluminum","junction box",17.5,"www.ilb-helios-group.com","-","-","-","-","-",{"$f":"IF($O6236=\"Sunpower Corp.\",3,(IF(OR($Q6236=\"mono\",$Q6236=\"poly\",$Q6236=\"HIT\",$Q6236=\"EFG\",$Q6236=\"mono-LGBC\"),1,IF(OR($Q6236=\"µc-Si / a-Si\",$Q6236=\"a-Si (single)\",$Q6236=\"a-Si (tandem)\",$Q6236=\"a-Si (triple)\"),3,2))))","v":1},{"$f":"IF($O6236=\"Sunpower Corp.\",3,(IF(OR($Q6236=\"mono\",$Q6236=\"poly\",$Q6236=\"HIT\",$Q6236=\"EFG\",$Q6236=\"mono-LGBC\"),1,2)))","v":1},{"$f":"IF($O6236=\"Sunpower Corp.\",3,(IF(OR($Q6236=\"mono\",$Q6236=\"poly\",$Q6236=\"HIT\",$Q6236=\"EFG\",$Q6236=\"mono-LGBC\"),1,IF(OR($Q6236=\"µc-Si / a-Si\",$Q6236=\"a-Si (single)\",$Q6236=\"a-Si (tandem)\",$Q6236=\"a-Si (triple)\"),3,2))))","v":1},0,null,null,34071,null,null,6235]
["ILB International Logistikbetriebe AG NA230W-M60-156/J (E-Klasse)","ILB International Logistikbetriebe AG ","NA230W-M60-156/J (E-Klasse)",230,"+5...0",29.7,7.74,36.799999999999997,8.3000000000000007,-125.12,4.9800000000000004,-0.42,1000,null,null,14.051810264587402,"mono",60,"pseudo-square",1650,992,50,"aluminum","junction box",19.5,"www.ilb-helios-group.com","-","-","-","-","-",{"$f":"IF($O6268=\"Sunpower Corp.\",3,(IF(OR($Q6268=\"mono\",$Q6268=\"poly\",$Q6268=\"HIT\",$Q6268=\"EFG\",$Q6268=\"mono-LGBC\"),1,IF(OR($Q6268=\"µc-Si / a-Si\",$Q6268=\"a-Si (single)\",$Q6268=\"a-Si (tandem)\",$Q6268=\"a-Si (triple)\"),3,2))))","v":1},{"$f":"IF($O6268=\"Sunpower Corp.\",3,(IF(OR($Q6268=\"mono\",$Q6268=\"poly\",$Q6268=\"HIT\",$Q6268=\"EFG\",$Q6268=\"mono-LGBC\"),1,2)))","v":1},{"$f":"IF($O6268=\"Sunpower Corp.\",3,(IF(OR($Q6268=\"mono\",$Q6268=\"poly\",$Q6268=\"HIT\",$Q6268=\"EFG\",$Q6268=\"mono-LGBC\"),1,IF(OR($Q6268=\"µc-Si / a-Si\",$Q6268=\"a-Si (single)\",$Q6268=\"a-Si (tandem)\",$Q6268=\"a-Si (triple)\"),3,2))))","v":1},0,null,null,33983,null,null,6267]
["ILB International Logistikbetriebe AG NA240W-M96-125/J","ILB International Logistikbetriebe AG ","NA240W-M96-125/J",240,"+1,4...-1,4",48.5,4.95,58.2,5.55,-192.06,2.7749999999999999,-0.38,1000,null,null,14.083270072937012,"mono",96,"pseudo-square",1575,1082,45,"aluminum","junction box",21.5,"www.ilb-helios-group.com","-","-","-","-","-",{"$f":"IF($O6281=\"Sunpower Corp.\",3,(IF(OR($Q6281=\"mono\",$Q6281=\"poly\",$Q6281=\"HIT\",$Q6281=\"EFG\",$Q6281=\"mono-LGBC\"),1,IF(OR($Q6281=\"µc-Si / a-Si\",$Q6281=\"a-Si (single)\",$Q6281=\"a-Si (tandem)\",$Q6281=\"a-Si (triple)\"),3,2))))","v":1},{"$f":"IF($O6281=\"Sunpower Corp.\",3,(IF(OR($Q6281=\"mono\",$Q6281=\"poly\",$Q6281=\"HIT\",$Q6281=\"EFG\",$Q6281=\"mono-LGBC\"),1,2)))","v":1},{"$f":"IF($O6281=\"Sunpower Corp.\",3,(IF(OR($Q6281=\"mono\",$Q6281=\"poly\",$Q6281=\"HIT\",$Q6281=\"EFG\",$Q6281=\"mono-LGBC\"),1,IF(OR($Q6281=\"µc-Si / a-Si\",$Q6281=\"a-Si (single)\",$Q6281=\"a-Si (tandem)\",$Q6281=\"a-Si (triple)\"),3,2))))","v":1},0,null,null,29441,null,null,6280]
["ILB International Logistikbetriebe AG NA250W-M60-156/J (E-Klasse)","ILB International Logistikbetriebe AG ","NA250W-M60-156/J (E-Klasse)",250,"+5...0",30.7,8.14,38,8.7899999999999991,-129.19999999999999,5.2739999999999991,-0.42,1000,null,null,15.273699760437012,"mono",60,"pseudo-square",1650,992,50,"aluminum","junction box",19.5,"www.ilb-helios-group.com","-","-","-","-","-",{"$f":"IF($O6293=\"Sunpower Corp.\",3,(IF(OR($Q6293=\"mono\",$Q6293=\"poly\",$Q6293=\"HIT\",$Q6293=\"EFG\",$Q6293=\"mono-LGBC\"),1,IF(OR($Q6293=\"µc-Si / a-Si\",$Q6293=\"a-Si (single)\",$Q6293=\"a-Si (tandem)\",$Q6293=\"a-Si (triple)\"),3,2))))","v":1},{"$f":"IF($O6293=\"Sunpower Corp.\",3,(IF(OR($Q6293=\"mono\",$Q6293=\"poly\",$Q6293=\"HIT\",$Q6293=\"EFG\",$Q6293=\"mono-LGBC\"),1,2)))","v":1},{"$f":"IF($O6293=\"Sunpower Corp.\",3,(IF(OR($Q6293=\"mono\",$Q6293=\"poly\",$Q6293=\"HIT\",$Q6293=\"EFG\",$Q6293=\"mono-LGBC\"),1,IF(OR($Q6293=\"µc-Si / a-Si\",$Q6293=\"a-Si (single)\",$Q6293=\"a-Si (tandem)\",$Q6293=\"a-Si (triple)\"),3,2))))","v":1},0,null,null,33993,null,null,6292]
["ILB International Logistikbetriebe AG NA280W-P72-156/J (C-Klasse)","ILB International Logistikbetriebe AG ","NA280W-P72-156/J (C-Klasse)",280,"+3...-3",36,7.78,43.2,8.7200000000000006,-138.24,4.0984000000000007,-0.45,1000,null,null,14.430370330810547,"poly",72,"square",1956,992,50,"aluminum","junction box MC4",21.5,"www.ilb-helios-group.com","-","-","-","-","-",{"$f":"IF($O6320=\"Sunpower Corp.\",3,(IF(OR($Q6320=\"mono\",$Q6320=\"poly\",$Q6320=\"HIT\",$Q6320=\"EFG\",$Q6320=\"mono-LGBC\"),1,IF(OR($Q6320=\"µc-Si / a-Si\",$Q6320=\"a-Si (single)\",$Q6320=\"a-Si (tandem)\",$Q6320=\"a-Si (triple)\"),3,2))))","v":1},{"$f":"IF($O6320=\"Sunpower Corp.\",3,(IF(OR($Q6320=\"mono\",$Q6320=\"poly\",$Q6320=\"HIT\",$Q6320=\"EFG\",$Q6320=\"mono-LGBC\"),1,2)))","v":1},{"$f":"IF($O6320=\"Sunpower Corp.\",3,(IF(OR($Q6320=\"mono\",$Q6320=\"poly\",$Q6320=\"HIT\",$Q6320=\"EFG\",$Q6320=\"mono-LGBC\"),1,IF(OR($Q6320=\"µc-Si / a-Si\",$Q6320=\"a-Si (single)\",$Q6320=\"a-Si (tandem)\",$Q6320=\"a-Si (triple)\"),3,2))))","v":1},0,null,null,34123,null,null,6319]
["Imex CGI HG-180S","Imex CGI ","HG-180S",180,"+3...-3",36.299999999999997,4.96,45.2,5.4,-160.91200000000001,1.296,-0.46,1000,null,"diverse",14.099510192871094,"mono",72,"pseudo-square",1580,808,50,"aluminum","junction box MC4",16.2,"www.imex-cgi.fr","-","-","-","-","-",{"$f":"IF($O6338=\"Sunpower Corp.\",3,(IF(OR($Q6338=\"mono\",$Q6338=\"poly\",$Q6338=\"HIT\",$Q6338=\"EFG\",$Q6338=\"mono-LGBC\"),1,IF(OR($Q6338=\"µc-Si / a-Si\",$Q6338=\"a-Si (single)\",$Q6338=\"a-Si (tandem)\",$Q6338=\"a-Si (triple)\"),3,2))))","v":1},{"$f":"IF($O6338=\"Sunpower Corp.\",3,(IF(OR($Q6338=\"mono\",$Q6338=\"poly\",$Q6338=\"HIT\",$Q6338=\"EFG\",$Q6338=\"mono-LGBC\"),1,2)))","v":1},{"$f":"IF($O6338=\"Sunpower Corp.\",3,(IF(OR($Q6338=\"mono\",$Q6338=\"poly\",$Q6338=\"HIT\",$Q6338=\"EFG\",$Q6338=\"mono-LGBC\"),1,IF(OR($Q6338=\"µc-Si / a-Si\",$Q6338=\"a-Si (single)\",$Q6338=\"a-Si (tandem)\",$Q6338=\"a-Si (triple)\"),3,2))))","v":1},0,null,null,10539,null,null,6337]
["Innotech Solar ITS Economy Project PolyUp, 230W (220E4)","Innotech Solar ","ITS Economy Project PolyUp, 230W (220E4)",230,"+5...-5",28.5,8,36.700000000000003,8.6,-128.44999999999999,4.3,-0.46,1000,"China","Innotech Solar",14.063329696655273,"poly",60,"square",1657,987,40,"aluminum","junction box",18.5,"www.innotechsolar.com","-","-","-","-","-",{"$f":"IF($O6365=\"Sunpower Corp.\",3,(IF(OR($Q6365=\"mono\",$Q6365=\"poly\",$Q6365=\"HIT\",$Q6365=\"EFG\",$Q6365=\"mono-LGBC\"),1,IF(OR($Q6365=\"µc-Si / a-Si\",$Q6365=\"a-Si (single)\",$Q6365=\"a-Si (tandem)\",$Q6365=\"a-Si (triple)\"),3,2))))","v":1},{"$f":"IF($O6365=\"Sunpower Corp.\",3,(IF(OR($Q6365=\"mono\",$Q6365=\"poly\",$Q6365=\"HIT\",$Q6365=\"EFG\",$Q6365=\"mono-LGBC\"),1,2)))","v":1},{"$f":"IF($O6365=\"Sunpower Corp.\",3,(IF(OR($Q6365=\"mono\",$Q6365=\"poly\",$Q6365=\"HIT\",$Q6365=\"EFG\",$Q6365=\"mono-LGBC\"),1,IF(OR($Q6365=\"µc-Si / a-Si\",$Q6365=\"a-Si (single)\",$Q6365=\"a-Si (tandem)\",$Q6365=\"a-Si (triple)\"),3,2))))","v":1},0,null,null,16913,null,null,6364]
["Innotech Solar ITS Laminate Project PolyUp, 230W (220EF4)","Innotech Solar ","ITS Laminate Project PolyUp, 230W (220EF4)",230,"+5...-5",28.5,8,36.700000000000003,8.6,-128.44999999999999,4.3,-0.46,1000,"China","Innotech Solar",14.223870277404785,"poly",60,"square",1650,980,6,"frameless","junction box",19,"www.innotechsolar.com","-","-","-","-","-",{"$f":"IF($O6383=\"Sunpower Corp.\",3,(IF(OR($Q6383=\"mono\",$Q6383=\"poly\",$Q6383=\"HIT\",$Q6383=\"EFG\",$Q6383=\"mono-LGBC\"),1,IF(OR($Q6383=\"µc-Si / a-Si\",$Q6383=\"a-Si (single)\",$Q6383=\"a-Si (tandem)\",$Q6383=\"a-Si (triple)\"),3,2))))","v":1},{"$f":"IF($O6383=\"Sunpower Corp.\",3,(IF(OR($Q6383=\"mono\",$Q6383=\"poly\",$Q6383=\"HIT\",$Q6383=\"EFG\",$Q6383=\"mono-LGBC\"),1,2)))","v":1},{"$f":"IF($O6383=\"Sunpower Corp.\",3,(IF(OR($Q6383=\"mono\",$Q6383=\"poly\",$Q6383=\"HIT\",$Q6383=\"EFG\",$Q6383=\"mono-LGBC\"),1,IF(OR($Q6383=\"µc-Si / a-Si\",$Q6383=\"a-Si (single)\",$Q6383=\"a-Si (tandem)\",$Q6383=\"a-Si (triple)\"),3,2))))","v":1},0,null,null,16966,null,null,6382]
["Innotech Solar ITS Off-grid 80-MonoUp - 34 (70W)","Innotech Solar ","ITS Off-grid 80-MonoUp - 34 (70W)",70,"+5...-5",35.71,1.97,41.9,2.21,-155.03,0.66299999999999992,-0.5,1000,"China","Innotech Solar",9.7297897338867188,"mono",72,"pseudo-square",1058,680,33.799999999999997,"aluminum","junction box",11,"www.innotechsolar.com","-","-","-","-","-",{"$f":"IF($O6391=\"Sunpower Corp.\",3,(IF(OR($Q6391=\"mono\",$Q6391=\"poly\",$Q6391=\"HIT\",$Q6391=\"EFG\",$Q6391=\"mono-LGBC\"),1,IF(OR($Q6391=\"µc-Si / a-Si\",$Q6391=\"a-Si (single)\",$Q6391=\"a-Si (tandem)\",$Q6391=\"a-Si (triple)\"),3,2))))","v":1},{"$f":"IF($O6391=\"Sunpower Corp.\",3,(IF(OR($Q6391=\"mono\",$Q6391=\"poly\",$Q6391=\"HIT\",$Q6391=\"EFG\",$Q6391=\"mono-LGBC\"),1,2)))","v":1},{"$f":"IF($O6391=\"Sunpower Corp.\",3,(IF(OR($Q6391=\"mono\",$Q6391=\"poly\",$Q6391=\"HIT\",$Q6391=\"EFG\",$Q6391=\"mono-LGBC\"),1,IF(OR($Q6391=\"µc-Si / a-Si\",$Q6391=\"a-Si (single)\",$Q6391=\"a-Si (tandem)\",$Q6391=\"a-Si (triple)\"),3,2))))","v":1},0,null,null,25276,null,null,6390]
["INNOVOSOLAR INTERNATIONAL Ltd. TEM175M","INNOVOSOLAR INTERNATIONAL Ltd. ","TEM175M",175,"+3...-3",35.200000000000003,4.9800000000000004,44,5.48,-151.80000000000001,5.7813999999999997,-0.4667,1000,"China",null,13.707859992980957,"mono",72,"pseudo-square",1580,808,40,null,"junction box",15.5,"www.innovosolar.com","-","-","-","-","-",{"$f":"IF($O6412=\"Sunpower Corp.\",3,(IF(OR($Q6412=\"mono\",$Q6412=\"poly\",$Q6412=\"HIT\",$Q6412=\"EFG\",$Q6412=\"mono-LGBC\"),1,IF(OR($Q6412=\"µc-Si / a-Si\",$Q6412=\"a-Si (single)\",$Q6412=\"a-Si (tandem)\",$Q6412=\"a-Si (triple)\"),3,2))))","v":1},{"$f":"IF($O6412=\"Sunpower Corp.\",3,(IF(OR($Q6412=\"mono\",$Q6412=\"poly\",$Q6412=\"HIT\",$Q6412=\"EFG\",$Q6412=\"mono-LGBC\"),1,2)))","v":1},{"$f":"IF($O6412=\"Sunpower Corp.\",3,(IF(OR($Q6412=\"mono\",$Q6412=\"poly\",$Q6412=\"HIT\",$Q6412=\"EFG\",$Q6412=\"mono-LGBC\"),1,IF(OR($Q6412=\"µc-Si / a-Si\",$Q6412=\"a-Si (single)\",$Q6412=\"a-Si (tandem)\",$Q6412=\"a-Si (triple)\"),3,2))))","v":1},0,null,null,19904,null,null,6411]
["INNOVOSOLAR INTERNATIONAL Ltd. TEM245M","INNOVOSOLAR INTERNATIONAL Ltd. ","TEM245M",245,"+3...-3",30.4,8.06,37.200000000000003,8.6,-130.19999999999999,4.3,-0.42,1000,null,null,14.998470306396484,"mono",60,"pseudo-square",1650,990,50,null,"junction box",19.5,"www.innovosolar.com","-","-","-","-","-",{"$f":"IF($O6436=\"Sunpower Corp.\",3,(IF(OR($Q6436=\"mono\",$Q6436=\"poly\",$Q6436=\"HIT\",$Q6436=\"EFG\",$Q6436=\"mono-LGBC\"),1,IF(OR($Q6436=\"µc-Si / a-Si\",$Q6436=\"a-Si (single)\",$Q6436=\"a-Si (tandem)\",$Q6436=\"a-Si (triple)\"),3,2))))","v":1},{"$f":"IF($O6436=\"Sunpower Corp.\",3,(IF(OR($Q6436=\"mono\",$Q6436=\"poly\",$Q6436=\"HIT\",$Q6436=\"EFG\",$Q6436=\"mono-LGBC\"),1,2)))","v":1},{"$f":"IF($O6436=\"Sunpower Corp.\",3,(IF(OR($Q6436=\"mono\",$Q6436=\"poly\",$Q6436=\"HIT\",$Q6436=\"EFG\",$Q6436=\"mono-LGBC\"),1,IF(OR($Q6436=\"µc-Si / a-Si\",$Q6436=\"a-Si (single)\",$Q6436=\"a-Si (tandem)\",$Q6436=\"a-Si (triple)\"),3,2))))","v":1},0,null,null,31793,null,null,6435]
["INOWATT Elektro Technik GmbH 160B/24/P4","INOWATT Elektro Technik GmbH ","160B/24/P4",160,"+3...-2",null,null,29,7.8,-107.3,7.8,-0.45,1000,"China",null,12.106080055236816,"poly",48,"pseudo-square",1335,990,50,"aluminum","junction box",15.7,"www.inowatt.net","-","-","-","-","-",{"$f":"IF($O6457=\"Sunpower Corp.\",3,(IF(OR($Q6457=\"mono\",$Q6457=\"poly\",$Q6457=\"HIT\",$Q6457=\"EFG\",$Q6457=\"mono-LGBC\"),1,IF(OR($Q6457=\"µc-Si / a-Si\",$Q6457=\"a-Si (single)\",$Q6457=\"a-Si (tandem)\",$Q6457=\"a-Si (triple)\"),3,2))))","v":1},{"$f":"IF($O6457=\"Sunpower Corp.\",3,(IF(OR($Q6457=\"mono\",$Q6457=\"poly\",$Q6457=\"HIT\",$Q6457=\"EFG\",$Q6457=\"mono-LGBC\"),1,2)))","v":1},{"$f":"IF($O6457=\"Sunpower Corp.\",3,(IF(OR($Q6457=\"mono\",$Q6457=\"poly\",$Q6457=\"HIT\",$Q6457=\"EFG\",$Q6457=\"mono-LGBC\"),1,IF(OR($Q6457=\"µc-Si / a-Si\",$Q6457=\"a-Si (single)\",$Q6457=\"a-Si (tandem)\",$Q6457=\"a-Si (triple)\"),3,2))))","v":1},0,null,null,4514,null,null,6456]
["INOWATT Elektro Technik GmbH 180A/24/M2","INOWATT Elektro Technik GmbH ","180A/24/M2",180,"+3...-2",null,null,43,5.58,-159.1,2.79,-0.47,750,"China",null,14.099510192871094,"mono",72,"pseudo-square",1580,808,46,"aluminum","junction box",15,"www.inowatt.net","-","-","-","-","-",{"$f":"IF($O6475=\"Sunpower Corp.\",3,(IF(OR($Q6475=\"mono\",$Q6475=\"poly\",$Q6475=\"HIT\",$Q6475=\"EFG\",$Q6475=\"mono-LGBC\"),1,IF(OR($Q6475=\"µc-Si / a-Si\",$Q6475=\"a-Si (single)\",$Q6475=\"a-Si (tandem)\",$Q6475=\"a-Si (triple)\"),3,2))))","v":1},{"$f":"IF($O6475=\"Sunpower Corp.\",3,(IF(OR($Q6475=\"mono\",$Q6475=\"poly\",$Q6475=\"HIT\",$Q6475=\"EFG\",$Q6475=\"mono-LGBC\"),1,2)))","v":1},{"$f":"IF($O6475=\"Sunpower Corp.\",3,(IF(OR($Q6475=\"mono\",$Q6475=\"poly\",$Q6475=\"HIT\",$Q6475=\"EFG\",$Q6475=\"mono-LGBC\"),1,IF(OR($Q6475=\"µc-Si / a-Si\",$Q6475=\"a-Si (single)\",$Q6475=\"a-Si (tandem)\",$Q6475=\"a-Si (triple)\"),3,2))))","v":1},0,null,null,4497,null,null,6474]
["Inventux Technologies AG X3-115","Inventux Technologies AG ","X3-115",115,"+...",125,0.92,164,1.1200000000000001,-492,0.78400000000000014,-0.25,1000,null,null,8.0419578552246094,"µc-Si / a-Si",null,null,1300,1100,40,null,"junction box",26,"www.inventux.com","-","-","-","-","-",{"$f":"IF($O6502=\"Sunpower Corp.\",3,(IF(OR($Q6502=\"mono\",$Q6502=\"poly\",$Q6502=\"HIT\",$Q6502=\"EFG\",$Q6502=\"mono-LGBC\"),1,IF(OR($Q6502=\"µc-Si / a-Si\",$Q6502=\"a-Si (single)\",$Q6502=\"a-Si (tandem)\",$Q6502=\"a-Si (triple)\"),3,2))))","v":3},{"$f":"IF($O6502=\"Sunpower Corp.\",3,(IF(OR($Q6502=\"mono\",$Q6502=\"poly\",$Q6502=\"HIT\",$Q6502=\"EFG\",$Q6502=\"mono-LGBC\"),1,2)))","v":2},{"$f":"IF($O6502=\"Sunpower Corp.\",3,(IF(OR($Q6502=\"mono\",$Q6502=\"poly\",$Q6502=\"HIT\",$Q6502=\"EFG\",$Q6502=\"mono-LGBC\"),1,IF(OR($Q6502=\"µc-Si / a-Si\",$Q6502=\"a-Si (single)\",$Q6502=\"a-Si (tandem)\",$Q6502=\"a-Si (triple)\"),3,2))))","v":3},0,null,null,31502,null,null,6501]
["Inventux Technologies AG X3-140","Inventux Technologies AG ","X3-140",140,"+...",130,1.08,164,1.17,-492,0.81900000000000006,-0.25,1000,null,null,9.7902097702026367,"µc-Si / a-Si",null,null,1300,1100,40,null,"junction box",26,"www.inventux.com","-","-","-","-","-",{"$f":"IF($O6507=\"Sunpower Corp.\",3,(IF(OR($Q6507=\"mono\",$Q6507=\"poly\",$Q6507=\"HIT\",$Q6507=\"EFG\",$Q6507=\"mono-LGBC\"),1,IF(OR($Q6507=\"µc-Si / a-Si\",$Q6507=\"a-Si (single)\",$Q6507=\"a-Si (tandem)\",$Q6507=\"a-Si (triple)\"),3,2))))","v":3},{"$f":"IF($O6507=\"Sunpower Corp.\",3,(IF(OR($Q6507=\"mono\",$Q6507=\"poly\",$Q6507=\"HIT\",$Q6507=\"EFG\",$Q6507=\"mono-LGBC\"),1,2)))","v":2},{"$f":"IF($O6507=\"Sunpower Corp.\",3,(IF(OR($Q6507=\"mono\",$Q6507=\"poly\",$Q6507=\"HIT\",$Q6507=\"EFG\",$Q6507=\"mono-LGBC\"),1,IF(OR($Q6507=\"µc-Si / a-Si\",$Q6507=\"a-Si (single)\",$Q6507=\"a-Si (tandem)\",$Q6507=\"a-Si (triple)\"),3,2))))","v":3},0,null,null,31507,null,null,6506]
["ISCOM SPA Riverclack ELIOS Deck PVL 144","ISCOM SPA ","Riverclack ELIOS Deck PVL 144",144,"+5...-5",33,4.3600000000000003,46.2,5.3,-175.56,5.3,-0.21,1000,null,"Uni-Solar",7.0183510780334473,"a-Si (triple)",22,null,5486,394,0.7,"aluminum","cable MC",7.7,"www.iscom.it","-","-","-","-","-",{"$f":"IF($O6527=\"Sunpower Corp.\",3,(IF(OR($Q6527=\"mono\",$Q6527=\"poly\",$Q6527=\"HIT\",$Q6527=\"EFG\",$Q6527=\"mono-LGBC\"),1,IF(OR($Q6527=\"µc-Si / a-Si\",$Q6527=\"a-Si (single)\",$Q6527=\"a-Si (tandem)\",$Q6527=\"a-Si (triple)\"),3,2))))","v":3},{"$f":"IF($O6527=\"Sunpower Corp.\",3,(IF(OR($Q6527=\"mono\",$Q6527=\"poly\",$Q6527=\"HIT\",$Q6527=\"EFG\",$Q6527=\"mono-LGBC\"),1,2)))","v":2},{"$f":"IF($O6527=\"Sunpower Corp.\",3,(IF(OR($Q6527=\"mono\",$Q6527=\"poly\",$Q6527=\"HIT\",$Q6527=\"EFG\",$Q6527=\"mono-LGBC\"),1,IF(OR($Q6527=\"µc-Si / a-Si\",$Q6527=\"a-Si (single)\",$Q6527=\"a-Si (tandem)\",$Q6527=\"a-Si (triple)\"),3,2))))","v":3},0,null,null,14952,null,null,6526]
["Isofoton ISF-245","Isofoton ","ISF-245",245,"+3...-3",30.6,7.99,37.4,8.5,-144.738,2.4990000000000001,-0.48,1000,"Spain","Isofoton",14.78577995300293,"mono",60,"pseudo-square",1667,994,45,"aluminum","junction box MC4",19,"www.isofoton.com","-","-","-","-","-",{"$f":"IF($O6552=\"Sunpower Corp.\",3,(IF(OR($Q6552=\"mono\",$Q6552=\"poly\",$Q6552=\"HIT\",$Q6552=\"EFG\",$Q6552=\"mono-LGBC\"),1,IF(OR($Q6552=\"µc-Si / a-Si\",$Q6552=\"a-Si (single)\",$Q6552=\"a-Si (tandem)\",$Q6552=\"a-Si (triple)\"),3,2))))","v":1},{"$f":"IF($O6552=\"Sunpower Corp.\",3,(IF(OR($Q6552=\"mono\",$Q6552=\"poly\",$Q6552=\"HIT\",$Q6552=\"EFG\",$Q6552=\"mono-LGBC\"),1,2)))","v":1},{"$f":"IF($O6552=\"Sunpower Corp.\",3,(IF(OR($Q6552=\"mono\",$Q6552=\"poly\",$Q6552=\"HIT\",$Q6552=\"EFG\",$Q6552=\"mono-LGBC\"),1,IF(OR($Q6552=\"µc-Si / a-Si\",$Q6552=\"a-Si (single)\",$Q6552=\"a-Si (tandem)\",$Q6552=\"a-Si (triple)\"),3,2))))","v":1},0,null,null,27830,null,null,6551]
["Issol S.A. CENIT 220/220","Issol S.A. ","CENIT 220/220",220,"+1,5...-1,5",30.12,7.27,36.78,7.82,-132.40799999999999,3.91,-0.46,1000,"Belgium","Solland",13.674449920654297,"poly",60,"square",1635,984,34,"aluminum","junction box MC old",17.8,"www.issol.eu","-","-","-","-","-",{"$f":"IF($O6566=\"Sunpower Corp.\",3,(IF(OR($Q6566=\"mono\",$Q6566=\"poly\",$Q6566=\"HIT\",$Q6566=\"EFG\",$Q6566=\"mono-LGBC\"),1,IF(OR($Q6566=\"µc-Si / a-Si\",$Q6566=\"a-Si (single)\",$Q6566=\"a-Si (tandem)\",$Q6566=\"a-Si (triple)\"),3,2))))","v":1},{"$f":"IF($O6566=\"Sunpower Corp.\",3,(IF(OR($Q6566=\"mono\",$Q6566=\"poly\",$Q6566=\"HIT\",$Q6566=\"EFG\",$Q6566=\"mono-LGBC\"),1,2)))","v":1},{"$f":"IF($O6566=\"Sunpower Corp.\",3,(IF(OR($Q6566=\"mono\",$Q6566=\"poly\",$Q6566=\"HIT\",$Q6566=\"EFG\",$Q6566=\"mono-LGBC\"),1,IF(OR($Q6566=\"µc-Si / a-Si\",$Q6566=\"a-Si (single)\",$Q6566=\"a-Si (tandem)\",$Q6566=\"a-Si (triple)\"),3,2))))","v":1},0,null,null,4563,null,null,6565]
["Istar Solar Srl IS3000P-BIPV (36poly140)","Istar Solar Srl ","IS3000P-BIPV (36poly140)",140,"+3...-3",18.3,7.8,22.2,8.3000000000000007,-75.48,5.81,-0.45,1000,"Italy","Photovoltech NV SA",8.7535619735717773,"poly",36,"square",1637,977,null,"frameless","junction box Tyco",19,"www.istarsolar.com","-","-","-","-","-",{"$f":"IF($O6597=\"Sunpower Corp.\",3,(IF(OR($Q6597=\"mono\",$Q6597=\"poly\",$Q6597=\"HIT\",$Q6597=\"EFG\",$Q6597=\"mono-LGBC\"),1,IF(OR($Q6597=\"µc-Si / a-Si\",$Q6597=\"a-Si (single)\",$Q6597=\"a-Si (tandem)\",$Q6597=\"a-Si (triple)\"),3,2))))","v":1},{"$f":"IF($O6597=\"Sunpower Corp.\",3,(IF(OR($Q6597=\"mono\",$Q6597=\"poly\",$Q6597=\"HIT\",$Q6597=\"EFG\",$Q6597=\"mono-LGBC\"),1,2)))","v":1},{"$f":"IF($O6597=\"Sunpower Corp.\",3,(IF(OR($Q6597=\"mono\",$Q6597=\"poly\",$Q6597=\"HIT\",$Q6597=\"EFG\",$Q6597=\"mono-LGBC\"),1,IF(OR($Q6597=\"µc-Si / a-Si\",$Q6597=\"a-Si (single)\",$Q6597=\"a-Si (tandem)\",$Q6597=\"a-Si (triple)\"),3,2))))","v":1},0,null,null,14654,null,null,6596]
["Istar Solar Srl IS4000P (60mono235)","Istar Solar Srl ","IS4000P (60mono235)",235,"+3...-3",30.7,7.66,36.72,8.49,-124.848,5.9430000000000014,-0.45,1000,"Italy","Motech Industries",14.503259658813477,"mono",60,"pseudo-square",1645,985,35,"aluminum","junction box Tyco",22,"www.istarsolar.com","-","-","-","-","-",{"$f":"IF($O6611=\"Sunpower Corp.\",3,(IF(OR($Q6611=\"mono\",$Q6611=\"poly\",$Q6611=\"HIT\",$Q6611=\"EFG\",$Q6611=\"mono-LGBC\"),1,IF(OR($Q6611=\"µc-Si / a-Si\",$Q6611=\"a-Si (single)\",$Q6611=\"a-Si (tandem)\",$Q6611=\"a-Si (triple)\"),3,2))))","v":1},{"$f":"IF($O6611=\"Sunpower Corp.\",3,(IF(OR($Q6611=\"mono\",$Q6611=\"poly\",$Q6611=\"HIT\",$Q6611=\"EFG\",$Q6611=\"mono-LGBC\"),1,2)))","v":1},{"$f":"IF($O6611=\"Sunpower Corp.\",3,(IF(OR($Q6611=\"mono\",$Q6611=\"poly\",$Q6611=\"HIT\",$Q6611=\"EFG\",$Q6611=\"mono-LGBC\"),1,IF(OR($Q6611=\"µc-Si / a-Si\",$Q6611=\"a-Si (single)\",$Q6611=\"a-Si (tandem)\",$Q6611=\"a-Si (triple)\"),3,2))))","v":1},0,null,null,14634,null,null,6610]
["Istar Solar Srl IS4000P (60poly235)","Istar Solar Srl ","IS4000P (60poly235)",235,"+3...-3",29.9,7.85,37.200000000000003,8.35,-126.48,5.8449999999999998,-0.45,1000,"Italy","Photovoltech NV SA",14.503259658813477,"poly",60,"square",1645,985,35,"aluminum","junction box Tyco",22,"www.istarsolar.com","-","-","-","-","-",{"$f":"IF($O6622=\"Sunpower Corp.\",3,(IF(OR($Q6622=\"mono\",$Q6622=\"poly\",$Q6622=\"HIT\",$Q6622=\"EFG\",$Q6622=\"mono-LGBC\"),1,IF(OR($Q6622=\"µc-Si / a-Si\",$Q6622=\"a-Si (single)\",$Q6622=\"a-Si (tandem)\",$Q6622=\"a-Si (triple)\"),3,2))))","v":1},{"$f":"IF($O6622=\"Sunpower Corp.\",3,(IF(OR($Q6622=\"mono\",$Q6622=\"poly\",$Q6622=\"HIT\",$Q6622=\"EFG\",$Q6622=\"mono-LGBC\"),1,2)))","v":1},{"$f":"IF($O6622=\"Sunpower Corp.\",3,(IF(OR($Q6622=\"mono\",$Q6622=\"poly\",$Q6622=\"HIT\",$Q6622=\"EFG\",$Q6622=\"mono-LGBC\"),1,IF(OR($Q6622=\"µc-Si / a-Si\",$Q6622=\"a-Si (single)\",$Q6622=\"a-Si (tandem)\",$Q6622=\"a-Si (triple)\"),3,2))))","v":1},0,null,null,14631,null,null,6621]
["JA Solar PV Technology Co. Ltd. JAM5(L)-72-165","JA Solar PV Technology Co. Ltd. ","JAM5(L)-72-165",165,"+3...-3",35.479999999999997,4.6500000000000004,44.02,5.1100000000000003,-130.73940000000002,1.8907,-0.438,1000,"China",null,12.92455005645752,"mono",72,"pseudo-square",1580,808,40,null,"junction box",15.5,"www.jasolar.com","-","-","-","-","-",{"$f":"IF($O6656=\"Sunpower Corp.\",3,(IF(OR($Q6656=\"mono\",$Q6656=\"poly\",$Q6656=\"HIT\",$Q6656=\"EFG\",$Q6656=\"mono-LGBC\"),1,IF(OR($Q6656=\"µc-Si / a-Si\",$Q6656=\"a-Si (single)\",$Q6656=\"a-Si (tandem)\",$Q6656=\"a-Si (triple)\"),3,2))))","v":1},{"$f":"IF($O6656=\"Sunpower Corp.\",3,(IF(OR($Q6656=\"mono\",$Q6656=\"poly\",$Q6656=\"HIT\",$Q6656=\"EFG\",$Q6656=\"mono-LGBC\"),1,2)))","v":1},{"$f":"IF($O6656=\"Sunpower Corp.\",3,(IF(OR($Q6656=\"mono\",$Q6656=\"poly\",$Q6656=\"HIT\",$Q6656=\"EFG\",$Q6656=\"mono-LGBC\"),1,IF(OR($Q6656=\"µc-Si / a-Si\",$Q6656=\"a-Si (single)\",$Q6656=\"a-Si (tandem)\",$Q6656=\"a-Si (triple)\"),3,2))))","v":1},0,null,null,30594,null,null,6655]
["JA Solar PV Technology Co. Ltd. JAM5-165","JA Solar PV Technology Co. Ltd. ","JAM5-165",165,"+3...-3",36.200000000000003,4.5599999999999996,44.79,5.03,-147.80699999999999,1.8108,-0.47,1000,"China",null,12.92455005645752,"mono",72,"pseudo-square",1580,808,46,"aluminum","junction box",15.5,"www.jasolar.com","-","-","-","-","-",{"$f":"IF($O6671=\"Sunpower Corp.\",3,(IF(OR($Q6671=\"mono\",$Q6671=\"poly\",$Q6671=\"HIT\",$Q6671=\"EFG\",$Q6671=\"mono-LGBC\"),1,IF(OR($Q6671=\"µc-Si / a-Si\",$Q6671=\"a-Si (single)\",$Q6671=\"a-Si (tandem)\",$Q6671=\"a-Si (triple)\"),3,2))))","v":1},{"$f":"IF($O6671=\"Sunpower Corp.\",3,(IF(OR($Q6671=\"mono\",$Q6671=\"poly\",$Q6671=\"HIT\",$Q6671=\"EFG\",$Q6671=\"mono-LGBC\"),1,2)))","v":1},{"$f":"IF($O6671=\"Sunpower Corp.\",3,(IF(OR($Q6671=\"mono\",$Q6671=\"poly\",$Q6671=\"HIT\",$Q6671=\"EFG\",$Q6671=\"mono-LGBC\"),1,IF(OR($Q6671=\"µc-Si / a-Si\",$Q6671=\"a-Si (single)\",$Q6671=\"a-Si (tandem)\",$Q6671=\"a-Si (triple)\"),3,2))))","v":1},0,null,null,16498,null,null,6670]
["JA Solar PV Technology Co. Ltd. JAM6-230","JA Solar PV Technology Co. Ltd. ","JAM6-230",230,"+3...-3",29.08,7.91,37.14,8.34,-122.562,3.0023999999999997,-0.47,1000,"China",null,14.065990447998047,"mono",60,"pseudo-square",1650,991,46,"aluminum","junction box",19.5,"www.jasolar.com","-","-","-","-","-",{"$f":"IF($O6682=\"Sunpower Corp.\",3,(IF(OR($Q6682=\"mono\",$Q6682=\"poly\",$Q6682=\"HIT\",$Q6682=\"EFG\",$Q6682=\"mono-LGBC\"),1,IF(OR($Q6682=\"µc-Si / a-Si\",$Q6682=\"a-Si (single)\",$Q6682=\"a-Si (tandem)\",$Q6682=\"a-Si (triple)\"),3,2))))","v":1},{"$f":"IF($O6682=\"Sunpower Corp.\",3,(IF(OR($Q6682=\"mono\",$Q6682=\"poly\",$Q6682=\"HIT\",$Q6682=\"EFG\",$Q6682=\"mono-LGBC\"),1,2)))","v":1},{"$f":"IF($O6682=\"Sunpower Corp.\",3,(IF(OR($Q6682=\"mono\",$Q6682=\"poly\",$Q6682=\"HIT\",$Q6682=\"EFG\",$Q6682=\"mono-LGBC\"),1,IF(OR($Q6682=\"µc-Si / a-Si\",$Q6682=\"a-Si (single)\",$Q6682=\"a-Si (tandem)\",$Q6682=\"a-Si (triple)\"),3,2))))","v":1},0,null,null,16507,null,null,6681]
["JA Solar PV Technology Co. Ltd. JAP6-60-220","JA Solar PV Technology Co. Ltd. ","JAP6-60-220",220,"+3...-3",28.92,7.61,36.83,8.14,-111.96319999999999,3.2560000000000002,-0.42,1000,"China",null,13.45442008972168,"poly",60,"square",1650,991,40,null,"junction box",19.5,"www.jasolar.com","-","-","-","-","-",{"$f":"IF($O6716=\"Sunpower Corp.\",3,(IF(OR($Q6716=\"mono\",$Q6716=\"poly\",$Q6716=\"HIT\",$Q6716=\"EFG\",$Q6716=\"mono-LGBC\"),1,IF(OR($Q6716=\"µc-Si / a-Si\",$Q6716=\"a-Si (single)\",$Q6716=\"a-Si (tandem)\",$Q6716=\"a-Si (triple)\"),3,2))))","v":1},{"$f":"IF($O6716=\"Sunpower Corp.\",3,(IF(OR($Q6716=\"mono\",$Q6716=\"poly\",$Q6716=\"HIT\",$Q6716=\"EFG\",$Q6716=\"mono-LGBC\"),1,2)))","v":1},{"$f":"IF($O6716=\"Sunpower Corp.\",3,(IF(OR($Q6716=\"mono\",$Q6716=\"poly\",$Q6716=\"HIT\",$Q6716=\"EFG\",$Q6716=\"mono-LGBC\"),1,IF(OR($Q6716=\"µc-Si / a-Si\",$Q6716=\"a-Si (single)\",$Q6716=\"a-Si (tandem)\",$Q6716=\"a-Si (triple)\"),3,2))))","v":1},0,null,null,30613,null,null,6715]
["JA Solar PV Technology Co. Ltd. JAP6-60-230/MP","JA Solar PV Technology Co. Ltd. ","JAP6-60-230/MP",230,"+3...-3",29.18,7.88,37.369999999999997,8.66,-123.32099999999998,3.1175999999999999,-0.47,1000,"China",null,14.065990447998047,"mono",60,"pseudo-square",1650,991,40,null,"junction box",19.5,"www.jasolar.com","-","-","-","-","-",{"$f":"IF($O6721=\"Sunpower Corp.\",3,(IF(OR($Q6721=\"mono\",$Q6721=\"poly\",$Q6721=\"HIT\",$Q6721=\"EFG\",$Q6721=\"mono-LGBC\"),1,IF(OR($Q6721=\"µc-Si / a-Si\",$Q6721=\"a-Si (single)\",$Q6721=\"a-Si (tandem)\",$Q6721=\"a-Si (triple)\"),3,2))))","v":1},{"$f":"IF($O6721=\"Sunpower Corp.\",3,(IF(OR($Q6721=\"mono\",$Q6721=\"poly\",$Q6721=\"HIT\",$Q6721=\"EFG\",$Q6721=\"mono-LGBC\"),1,2)))","v":1},{"$f":"IF($O6721=\"Sunpower Corp.\",3,(IF(OR($Q6721=\"mono\",$Q6721=\"poly\",$Q6721=\"HIT\",$Q6721=\"EFG\",$Q6721=\"mono-LGBC\"),1,IF(OR($Q6721=\"µc-Si / a-Si\",$Q6721=\"a-Si (single)\",$Q6721=\"a-Si (tandem)\",$Q6721=\"a-Si (triple)\"),3,2))))","v":1},0,null,null,30584,null,null,6720]
["Jiangsu Aide Solar Energy Technology Co., Ltd AD155M5-Aa","Jiangsu Aide Solar Energy Technology Co., Ltd ","AD155M5-Aa",155,"+...",35.07,4.43,43.48,4.87,-147.83199999999999,1.4609999999999999,-0.45,1000,null,null,12.141249656677246,"mono",72,"pseudo-square",1580,808,35,"aluminum","junction box",16.05,"www.aidesolar.com","-","-","-","-","-",{"$f":"IF($O6741=\"Sunpower Corp.\",3,(IF(OR($Q6741=\"mono\",$Q6741=\"poly\",$Q6741=\"HIT\",$Q6741=\"EFG\",$Q6741=\"mono-LGBC\"),1,IF(OR($Q6741=\"µc-Si / a-Si\",$Q6741=\"a-Si (single)\",$Q6741=\"a-Si (tandem)\",$Q6741=\"a-Si (triple)\"),3,2))))","v":1},{"$f":"IF($O6741=\"Sunpower Corp.\",3,(IF(OR($Q6741=\"mono\",$Q6741=\"poly\",$Q6741=\"HIT\",$Q6741=\"EFG\",$Q6741=\"mono-LGBC\"),1,2)))","v":1},{"$f":"IF($O6741=\"Sunpower Corp.\",3,(IF(OR($Q6741=\"mono\",$Q6741=\"poly\",$Q6741=\"HIT\",$Q6741=\"EFG\",$Q6741=\"mono-LGBC\"),1,IF(OR($Q6741=\"µc-Si / a-Si\",$Q6741=\"a-Si (single)\",$Q6741=\"a-Si (tandem)\",$Q6741=\"a-Si (triple)\"),3,2))))","v":1},0,null,null,27745,null,null,6740]
["Jiangsu Aide Solar Energy Technology Co., Ltd AD250P6-Aa","Jiangsu Aide Solar Energy Technology Co., Ltd ","AD250P6-Aa",250,"+...",34.950000000000003,7.16,43.22,7.9,-138.304,3.16,-0.45,1000,null,null,12.884260177612305,"poly",72,"square",1956,992,50,"aluminum","junction box",23,"www.aidesolar.com","-","-","-","-","-",{"$f":"IF($O6766=\"Sunpower Corp.\",3,(IF(OR($Q6766=\"mono\",$Q6766=\"poly\",$Q6766=\"HIT\",$Q6766=\"EFG\",$Q6766=\"mono-LGBC\"),1,IF(OR($Q6766=\"µc-Si / a-Si\",$Q6766=\"a-Si (single)\",$Q6766=\"a-Si (tandem)\",$Q6766=\"a-Si (triple)\"),3,2))))","v":1},{"$f":"IF($O6766=\"Sunpower Corp.\",3,(IF(OR($Q6766=\"mono\",$Q6766=\"poly\",$Q6766=\"HIT\",$Q6766=\"EFG\",$Q6766=\"mono-LGBC\"),1,2)))","v":1},{"$f":"IF($O6766=\"Sunpower Corp.\",3,(IF(OR($Q6766=\"mono\",$Q6766=\"poly\",$Q6766=\"HIT\",$Q6766=\"EFG\",$Q6766=\"mono-LGBC\"),1,IF(OR($Q6766=\"µc-Si / a-Si\",$Q6766=\"a-Si (single)\",$Q6766=\"a-Si (tandem)\",$Q6766=\"a-Si (triple)\"),3,2))))","v":1},0,null,null,27763,null,null,6765]
["Jiangsu Aide Solar Energy Technology Co., Ltd XZST-250W","Jiangsu Aide Solar Energy Technology Co., Ltd ","XZST-250W",250,"+...",34.700000000000003,7.2,43.5,7.54,-160.94999999999999,7.54,-0.45,1000,null,null,12.884260177612305,"poly",72,"square",1956,992,35,"aluminum","junction box",23,"www.aidesolar.com",105,19,5.5,24.3,6.1,{"$f":"IF($O6786=\"Sunpower Corp.\",3,(IF(OR($Q6786=\"mono\",$Q6786=\"poly\",$Q6786=\"HIT\",$Q6786=\"EFG\",$Q6786=\"mono-LGBC\"),1,IF(OR($Q6786=\"µc-Si / a-Si\",$Q6786=\"a-Si (single)\",$Q6786=\"a-Si (tandem)\",$Q6786=\"a-Si (triple)\"),3,2))))","v":1},{"$f":"IF($O6786=\"Sunpower Corp.\",3,(IF(OR($Q6786=\"mono\",$Q6786=\"poly\",$Q6786=\"HIT\",$Q6786=\"EFG\",$Q6786=\"mono-LGBC\"),1,2)))","v":1},{"$f":"IF($O6786=\"Sunpower Corp.\",3,(IF(OR($Q6786=\"mono\",$Q6786=\"poly\",$Q6786=\"HIT\",$Q6786=\"EFG\",$Q6786=\"mono-LGBC\"),1,IF(OR($Q6786=\"µc-Si / a-Si\",$Q6786=\"a-Si (single)\",$Q6786=\"a-Si (tandem)\",$Q6786=\"a-Si (triple)\"),3,2))))","v":1},0,null,null,12595,null,null,6785]
["Jiangsu Green Power PV Co., Ltd. (GPPV) GPM170P-B-48","Jiangsu Green Power PV Co., Ltd. (GPPV) ","GPM170P-B-48",170,"+3...-3",22.3,7.61,29.6,8.11,-94.72,6.4879999999999995,-0.38,1000,null,null,12.969570159912109,"poly",48,"square",1324,990,50,"aluminum","junction box MC",16.5,"www.gppv.cc","-","-","-","-","-",{"$f":"IF($O6811=\"Sunpower Corp.\",3,(IF(OR($Q6811=\"mono\",$Q6811=\"poly\",$Q6811=\"HIT\",$Q6811=\"EFG\",$Q6811=\"mono-LGBC\"),1,IF(OR($Q6811=\"µc-Si / a-Si\",$Q6811=\"a-Si (single)\",$Q6811=\"a-Si (tandem)\",$Q6811=\"a-Si (triple)\"),3,2))))","v":1},{"$f":"IF($O6811=\"Sunpower Corp.\",3,(IF(OR($Q6811=\"mono\",$Q6811=\"poly\",$Q6811=\"HIT\",$Q6811=\"EFG\",$Q6811=\"mono-LGBC\"),1,2)))","v":1},{"$f":"IF($O6811=\"Sunpower Corp.\",3,(IF(OR($Q6811=\"mono\",$Q6811=\"poly\",$Q6811=\"HIT\",$Q6811=\"EFG\",$Q6811=\"mono-LGBC\"),1,IF(OR($Q6811=\"µc-Si / a-Si\",$Q6811=\"a-Si (single)\",$Q6811=\"a-Si (tandem)\",$Q6811=\"a-Si (triple)\"),3,2))))","v":1},0,null,null,17721,null,null,6810]
["Jiangsu Green Power PV Co., Ltd. (GPPV) GPM205-A-96","Jiangsu Green Power PV Co., Ltd. (GPPV) ","GPM205-A-96",205,"+3...-3",43.9,4.67,59,5.18,-224.2,5.18,-0.47,1000,null,null,12.240269660949707,"mono",96,"pseudo-square",1580,1060,50,"aluminum","junction box MC",21,"www.gppv.cc","-","-","-","-","-",{"$f":"IF($O6835=\"Sunpower Corp.\",3,(IF(OR($Q6835=\"mono\",$Q6835=\"poly\",$Q6835=\"HIT\",$Q6835=\"EFG\",$Q6835=\"mono-LGBC\"),1,IF(OR($Q6835=\"µc-Si / a-Si\",$Q6835=\"a-Si (single)\",$Q6835=\"a-Si (tandem)\",$Q6835=\"a-Si (triple)\"),3,2))))","v":1},{"$f":"IF($O6835=\"Sunpower Corp.\",3,(IF(OR($Q6835=\"mono\",$Q6835=\"poly\",$Q6835=\"HIT\",$Q6835=\"EFG\",$Q6835=\"mono-LGBC\"),1,2)))","v":1},{"$f":"IF($O6835=\"Sunpower Corp.\",3,(IF(OR($Q6835=\"mono\",$Q6835=\"poly\",$Q6835=\"HIT\",$Q6835=\"EFG\",$Q6835=\"mono-LGBC\"),1,IF(OR($Q6835=\"µc-Si / a-Si\",$Q6835=\"a-Si (single)\",$Q6835=\"a-Si (tandem)\",$Q6835=\"a-Si (triple)\"),3,2))))","v":1},0,null,null,17675,null,null,6834]
["Jiangsu Green Power PV Co., Ltd. (GPPV) GPM205P-B-54","Jiangsu Green Power PV Co., Ltd. (GPPV) ","GPM205P-B-54",205,"+3...-3",26.3,7.81,33.6,8.2100000000000009,-107.52,6.5680000000000005,-0.38,1000,null,null,13.972379684448242,"poly",54,"square",1482,990,50,"aluminum","junction box MC",18.5,"www.gppv.cc","-","-","-","-","-",{"$f":"IF($O6837=\"Sunpower Corp.\",3,(IF(OR($Q6837=\"mono\",$Q6837=\"poly\",$Q6837=\"HIT\",$Q6837=\"EFG\",$Q6837=\"mono-LGBC\"),1,IF(OR($Q6837=\"µc-Si / a-Si\",$Q6837=\"a-Si (single)\",$Q6837=\"a-Si (tandem)\",$Q6837=\"a-Si (triple)\"),3,2))))","v":1},{"$f":"IF($O6837=\"Sunpower Corp.\",3,(IF(OR($Q6837=\"mono\",$Q6837=\"poly\",$Q6837=\"HIT\",$Q6837=\"EFG\",$Q6837=\"mono-LGBC\"),1,2)))","v":1},{"$f":"IF($O6837=\"Sunpower Corp.\",3,(IF(OR($Q6837=\"mono\",$Q6837=\"poly\",$Q6837=\"HIT\",$Q6837=\"EFG\",$Q6837=\"mono-LGBC\"),1,IF(OR($Q6837=\"µc-Si / a-Si\",$Q6837=\"a-Si (single)\",$Q6837=\"a-Si (tandem)\",$Q6837=\"a-Si (triple)\"),3,2))))","v":1},0,null,null,17715,null,null,6836]
["Jiangsu Green Power PV Co., Ltd. (GPPV) GPM230-B-60","Jiangsu Green Power PV Co., Ltd. (GPPV) ","GPM230-B-60",230,"+3...-3",30.1,7.65,37,8.1,-125.8,7.29,-0.37,1000,null,null,14.166049957275391,"mono",60,"pseudo-square",1640,990,50,"aluminum","junction box MC",21,"www.gppv.cc","-","-","-","-","-",{"$f":"IF($O6860=\"Sunpower Corp.\",3,(IF(OR($Q6860=\"mono\",$Q6860=\"poly\",$Q6860=\"HIT\",$Q6860=\"EFG\",$Q6860=\"mono-LGBC\"),1,IF(OR($Q6860=\"µc-Si / a-Si\",$Q6860=\"a-Si (single)\",$Q6860=\"a-Si (tandem)\",$Q6860=\"a-Si (triple)\"),3,2))))","v":1},{"$f":"IF($O6860=\"Sunpower Corp.\",3,(IF(OR($Q6860=\"mono\",$Q6860=\"poly\",$Q6860=\"HIT\",$Q6860=\"EFG\",$Q6860=\"mono-LGBC\"),1,2)))","v":1},{"$f":"IF($O6860=\"Sunpower Corp.\",3,(IF(OR($Q6860=\"mono\",$Q6860=\"poly\",$Q6860=\"HIT\",$Q6860=\"EFG\",$Q6860=\"mono-LGBC\"),1,IF(OR($Q6860=\"µc-Si / a-Si\",$Q6860=\"a-Si (single)\",$Q6860=\"a-Si (tandem)\",$Q6860=\"a-Si (triple)\"),3,2))))","v":1},0,null,null,17652,null,null,6859]
["Jiangsu Green Power PV Co., Ltd. (GPPV) GPM250-B-72","Jiangsu Green Power PV Co., Ltd. (GPPV) ","GPM250-B-72",250,"+3...-3",34.700000000000003,7.23,44,7.87,-149.6,7.0830000000000002,-0.37,1000,null,null,12.950010299682617,"mono",72,"pseudo-square",1950,990,50,"aluminum","junction box MC",24,"www.gppv.cc","-","-","-","-","-",{"$f":"IF($O6876=\"Sunpower Corp.\",3,(IF(OR($Q6876=\"mono\",$Q6876=\"poly\",$Q6876=\"HIT\",$Q6876=\"EFG\",$Q6876=\"mono-LGBC\"),1,IF(OR($Q6876=\"µc-Si / a-Si\",$Q6876=\"a-Si (single)\",$Q6876=\"a-Si (tandem)\",$Q6876=\"a-Si (triple)\"),3,2))))","v":1},{"$f":"IF($O6876=\"Sunpower Corp.\",3,(IF(OR($Q6876=\"mono\",$Q6876=\"poly\",$Q6876=\"HIT\",$Q6876=\"EFG\",$Q6876=\"mono-LGBC\"),1,2)))","v":1},{"$f":"IF($O6876=\"Sunpower Corp.\",3,(IF(OR($Q6876=\"mono\",$Q6876=\"poly\",$Q6876=\"HIT\",$Q6876=\"EFG\",$Q6876=\"mono-LGBC\"),1,IF(OR($Q6876=\"µc-Si / a-Si\",$Q6876=\"a-Si (single)\",$Q6876=\"a-Si (tandem)\",$Q6876=\"a-Si (triple)\"),3,2))))","v":1},0,null,null,17640,null,null,6875]
["Jiangsu Jiasheng Photovoltaic Technology JS150M(P)","Jiangsu Jiasheng Photovoltaic Technology ","JS150M(P)",150,"+5...-5",34.200000000000003,4.3899999999999997,43.4,4.96,-156.24,1.488,-0.55000000000000004,1000,null,null,11.749589920043945,"poly",72,null,1580,808,50,"aluminum","junction box others",16.2,null,"-","-","-","-","-",{"$f":"IF($O6905=\"Sunpower Corp.\",3,(IF(OR($Q6905=\"mono\",$Q6905=\"poly\",$Q6905=\"HIT\",$Q6905=\"EFG\",$Q6905=\"mono-LGBC\"),1,IF(OR($Q6905=\"µc-Si / a-Si\",$Q6905=\"a-Si (single)\",$Q6905=\"a-Si (tandem)\",$Q6905=\"a-Si (triple)\"),3,2))))","v":1},{"$f":"IF($O6905=\"Sunpower Corp.\",3,(IF(OR($Q6905=\"mono\",$Q6905=\"poly\",$Q6905=\"HIT\",$Q6905=\"EFG\",$Q6905=\"mono-LGBC\"),1,2)))","v":1},{"$f":"IF($O6905=\"Sunpower Corp.\",3,(IF(OR($Q6905=\"mono\",$Q6905=\"poly\",$Q6905=\"HIT\",$Q6905=\"EFG\",$Q6905=\"mono-LGBC\"),1,IF(OR($Q6905=\"µc-Si / a-Si\",$Q6905=\"a-Si (single)\",$Q6905=\"a-Si (tandem)\",$Q6905=\"a-Si (triple)\"),3,2))))","v":1},0,null,null,7793,null,null,6904]
["Jiangsu Jiasheng Photovoltaic Technology JS210M(P)/60","Jiangsu Jiasheng Photovoltaic Technology ","JS210M(P)/60",210,"+3...-3",28.8,7.3,36,8.3000000000000007,-129.6,2.4900000000000002,-0.55000000000000004,1000,null,null,12.908140182495117,null,60,null,1640,992,50,"aluminum","junction box others",20,null,"-","-","-","-","-",{"$f":"IF($O6921=\"Sunpower Corp.\",3,(IF(OR($Q6921=\"mono\",$Q6921=\"poly\",$Q6921=\"HIT\",$Q6921=\"EFG\",$Q6921=\"mono-LGBC\"),1,IF(OR($Q6921=\"µc-Si / a-Si\",$Q6921=\"a-Si (single)\",$Q6921=\"a-Si (tandem)\",$Q6921=\"a-Si (triple)\"),3,2))))","v":2},{"$f":"IF($O6921=\"Sunpower Corp.\",3,(IF(OR($Q6921=\"mono\",$Q6921=\"poly\",$Q6921=\"HIT\",$Q6921=\"EFG\",$Q6921=\"mono-LGBC\"),1,2)))","v":2},{"$f":"IF($O6921=\"Sunpower Corp.\",3,(IF(OR($Q6921=\"mono\",$Q6921=\"poly\",$Q6921=\"HIT\",$Q6921=\"EFG\",$Q6921=\"mono-LGBC\"),1,IF(OR($Q6921=\"µc-Si / a-Si\",$Q6921=\"a-Si (single)\",$Q6921=\"a-Si (tandem)\",$Q6921=\"a-Si (triple)\"),3,2))))","v":2},0,null,null,7783,null,null,6920]
["Jiangsu Runda PV Co.,Ltd. RS130P-36","Jiangsu Runda PV Co.,Ltd. ","RS130P-36",130,"+3...0",17.899999999999999,7.3,21.74,8.0500000000000007,-75.437799999999982,4.4275000000000002,-0.48,1000,null,null,12.976229667663574,"poly",36,"square",1482,676,45,"aluminum","junction box MC",12,"www.rundapv.com","-","-","-","-","-",{"$f":"IF($O6950=\"Sunpower Corp.\",3,(IF(OR($Q6950=\"mono\",$Q6950=\"poly\",$Q6950=\"HIT\",$Q6950=\"EFG\",$Q6950=\"mono-LGBC\"),1,IF(OR($Q6950=\"µc-Si / a-Si\",$Q6950=\"a-Si (single)\",$Q6950=\"a-Si (tandem)\",$Q6950=\"a-Si (triple)\"),3,2))))","v":1},{"$f":"IF($O6950=\"Sunpower Corp.\",3,(IF(OR($Q6950=\"mono\",$Q6950=\"poly\",$Q6950=\"HIT\",$Q6950=\"EFG\",$Q6950=\"mono-LGBC\"),1,2)))","v":1},{"$f":"IF($O6950=\"Sunpower Corp.\",3,(IF(OR($Q6950=\"mono\",$Q6950=\"poly\",$Q6950=\"HIT\",$Q6950=\"EFG\",$Q6950=\"mono-LGBC\"),1,IF(OR($Q6950=\"µc-Si / a-Si\",$Q6950=\"a-Si (single)\",$Q6950=\"a-Si (tandem)\",$Q6950=\"a-Si (triple)\"),3,2))))","v":1},0,null,null,21283,null,null,6949]
["Jiangsu Runda PV Co.,Ltd. RS195P-54","Jiangsu Runda PV Co.,Ltd. ","RS195P-54",195,"+3...0",26.57,7.34,32.6,8.07,-113.12199999999999,4.4385000000000003,-0.48,1000,null,null,13.264010429382324,"poly",54,"square",1482,992,45,"aluminum","junction box MC",17,"www.rundapv.com","-","-","-","-","-",{"$f":"IF($O6966=\"Sunpower Corp.\",3,(IF(OR($Q6966=\"mono\",$Q6966=\"poly\",$Q6966=\"HIT\",$Q6966=\"EFG\",$Q6966=\"mono-LGBC\"),1,IF(OR($Q6966=\"µc-Si / a-Si\",$Q6966=\"a-Si (single)\",$Q6966=\"a-Si (tandem)\",$Q6966=\"a-Si (triple)\"),3,2))))","v":1},{"$f":"IF($O6966=\"Sunpower Corp.\",3,(IF(OR($Q6966=\"mono\",$Q6966=\"poly\",$Q6966=\"HIT\",$Q6966=\"EFG\",$Q6966=\"mono-LGBC\"),1,2)))","v":1},{"$f":"IF($O6966=\"Sunpower Corp.\",3,(IF(OR($Q6966=\"mono\",$Q6966=\"poly\",$Q6966=\"HIT\",$Q6966=\"EFG\",$Q6966=\"mono-LGBC\"),1,IF(OR($Q6966=\"µc-Si / a-Si\",$Q6966=\"a-Si (single)\",$Q6966=\"a-Si (tandem)\",$Q6966=\"a-Si (triple)\"),3,2))))","v":1},0,null,null,21292,null,null,6965]
["Jiangsu Runda PV Co.,Ltd. RS235M-96","Jiangsu Runda PV Co.,Ltd. ","RS235M-96",235,"+3...0",49.5,4.75,60.3,5.2,-209.24099999999996,2.86,-0.48,1000,null,null,13.913390159606934,"mono",96,"square",1580,1069,45,"aluminum","junction box MC",25,"www.rundapv.com","-","-","-","-","-",{"$f":"IF($O6979=\"Sunpower Corp.\",3,(IF(OR($Q6979=\"mono\",$Q6979=\"poly\",$Q6979=\"HIT\",$Q6979=\"EFG\",$Q6979=\"mono-LGBC\"),1,IF(OR($Q6979=\"µc-Si / a-Si\",$Q6979=\"a-Si (single)\",$Q6979=\"a-Si (tandem)\",$Q6979=\"a-Si (triple)\"),3,2))))","v":1},{"$f":"IF($O6979=\"Sunpower Corp.\",3,(IF(OR($Q6979=\"mono\",$Q6979=\"poly\",$Q6979=\"HIT\",$Q6979=\"EFG\",$Q6979=\"mono-LGBC\"),1,2)))","v":1},{"$f":"IF($O6979=\"Sunpower Corp.\",3,(IF(OR($Q6979=\"mono\",$Q6979=\"poly\",$Q6979=\"HIT\",$Q6979=\"EFG\",$Q6979=\"mono-LGBC\"),1,IF(OR($Q6979=\"µc-Si / a-Si\",$Q6979=\"a-Si (single)\",$Q6979=\"a-Si (tandem)\",$Q6979=\"a-Si (triple)\"),3,2))))","v":1},0,null,null,21306,null,null,6978]
["Jiangsu Runda PV Co.,Ltd. RS90M-36","Jiangsu Runda PV Co.,Ltd. ","RS90M-36",90,"+3...0",18.5,4.8600000000000003,22.4,5.3,-77.727999999999994,2.915,-0.48,1000,null,null,13.921219825744629,"mono",36,"pseudo-square",1195,541,40,"aluminum","junction box MC",8,"www.rundapv.com","-","-","-","-","-",{"$f":"IF($O6992=\"Sunpower Corp.\",3,(IF(OR($Q6992=\"mono\",$Q6992=\"poly\",$Q6992=\"HIT\",$Q6992=\"EFG\",$Q6992=\"mono-LGBC\"),1,IF(OR($Q6992=\"µc-Si / a-Si\",$Q6992=\"a-Si (single)\",$Q6992=\"a-Si (tandem)\",$Q6992=\"a-Si (triple)\"),3,2))))","v":1},{"$f":"IF($O6992=\"Sunpower Corp.\",3,(IF(OR($Q6992=\"mono\",$Q6992=\"poly\",$Q6992=\"HIT\",$Q6992=\"EFG\",$Q6992=\"mono-LGBC\"),1,2)))","v":1},{"$f":"IF($O6992=\"Sunpower Corp.\",3,(IF(OR($Q6992=\"mono\",$Q6992=\"poly\",$Q6992=\"HIT\",$Q6992=\"EFG\",$Q6992=\"mono-LGBC\"),1,IF(OR($Q6992=\"µc-Si / a-Si\",$Q6992=\"a-Si (single)\",$Q6992=\"a-Si (tandem)\",$Q6992=\"a-Si (triple)\"),3,2))))","v":1},0,null,null,21280,null,null,6991]
["Jiangsu Runner PV Technology Co., Ltd. RN245P-156 (72)","Jiangsu Runner PV Technology Co., Ltd. ","RN245P-156 (72)",245,"+3...-3",34.5,7.1,42.8,7.66,-141.24,3.0640000000000005,-0.43,1000,"China",null,12.620120048522949,"poly",72,"square",1957,992,50,"aluminum","junction box",27,"www.runner-pv.com","-","-","-","-","-",{"$f":"IF($O7024=\"Sunpower Corp.\",3,(IF(OR($Q7024=\"mono\",$Q7024=\"poly\",$Q7024=\"HIT\",$Q7024=\"EFG\",$Q7024=\"mono-LGBC\"),1,IF(OR($Q7024=\"µc-Si / a-Si\",$Q7024=\"a-Si (single)\",$Q7024=\"a-Si (tandem)\",$Q7024=\"a-Si (triple)\"),3,2))))","v":1},{"$f":"IF($O7024=\"Sunpower Corp.\",3,(IF(OR($Q7024=\"mono\",$Q7024=\"poly\",$Q7024=\"HIT\",$Q7024=\"EFG\",$Q7024=\"mono-LGBC\"),1,2)))","v":1},{"$f":"IF($O7024=\"Sunpower Corp.\",3,(IF(OR($Q7024=\"mono\",$Q7024=\"poly\",$Q7024=\"HIT\",$Q7024=\"EFG\",$Q7024=\"mono-LGBC\"),1,IF(OR($Q7024=\"µc-Si / a-Si\",$Q7024=\"a-Si (single)\",$Q7024=\"a-Si (tandem)\",$Q7024=\"a-Si (triple)\"),3,2))))","v":1},0,null,null,34871,null,null,7023]
["Jiangsu Shunda PV-Tech Co., Ltd SDM-170/170-72M","Jiangsu Shunda PV-Tech Co., Ltd ","SDM-170/170-72M",170,"+...",35.799999999999997,4.76,44.5,5.15,-151.30000000000001,1.9570000000000001,-0.48,1000,null,null,13.31620979309082,"mono",72,"pseudo-square",1580,808,35,"aluminum","junction box MC4",15,"www.shundasolar.com","-","-","-","-","-",{"$f":"IF($O7037=\"Sunpower Corp.\",3,(IF(OR($Q7037=\"mono\",$Q7037=\"poly\",$Q7037=\"HIT\",$Q7037=\"EFG\",$Q7037=\"mono-LGBC\"),1,IF(OR($Q7037=\"µc-Si / a-Si\",$Q7037=\"a-Si (single)\",$Q7037=\"a-Si (tandem)\",$Q7037=\"a-Si (triple)\"),3,2))))","v":1},{"$f":"IF($O7037=\"Sunpower Corp.\",3,(IF(OR($Q7037=\"mono\",$Q7037=\"poly\",$Q7037=\"HIT\",$Q7037=\"EFG\",$Q7037=\"mono-LGBC\"),1,2)))","v":1},{"$f":"IF($O7037=\"Sunpower Corp.\",3,(IF(OR($Q7037=\"mono\",$Q7037=\"poly\",$Q7037=\"HIT\",$Q7037=\"EFG\",$Q7037=\"mono-LGBC\"),1,IF(OR($Q7037=\"µc-Si / a-Si\",$Q7037=\"a-Si (single)\",$Q7037=\"a-Si (tandem)\",$Q7037=\"a-Si (triple)\"),3,2))))","v":1},0,null,null,6478,null,null,7036]
["Jiangsu Sinski PV Co., Ltd. SPV255M-24","Jiangsu Sinski PV Co., Ltd. ","SPV255M-24",255,"+3...-3",48.9,5.22,60.1,5.61,-179.40451000000002,1.8361530000000004,-0.41438000000000003,1000,null,null,15.177809715270996,"mono",96,"pseudo-square",1582,1062,50,"aluminum","junction box",20,"www.sinski-pv.com","-","-","-","-","-",{"$f":"IF($O7069=\"Sunpower Corp.\",3,(IF(OR($Q7069=\"mono\",$Q7069=\"poly\",$Q7069=\"HIT\",$Q7069=\"EFG\",$Q7069=\"mono-LGBC\"),1,IF(OR($Q7069=\"µc-Si / a-Si\",$Q7069=\"a-Si (single)\",$Q7069=\"a-Si (tandem)\",$Q7069=\"a-Si (triple)\"),3,2))))","v":1},{"$f":"IF($O7069=\"Sunpower Corp.\",3,(IF(OR($Q7069=\"mono\",$Q7069=\"poly\",$Q7069=\"HIT\",$Q7069=\"EFG\",$Q7069=\"mono-LGBC\"),1,2)))","v":1},{"$f":"IF($O7069=\"Sunpower Corp.\",3,(IF(OR($Q7069=\"mono\",$Q7069=\"poly\",$Q7069=\"HIT\",$Q7069=\"EFG\",$Q7069=\"mono-LGBC\"),1,IF(OR($Q7069=\"µc-Si / a-Si\",$Q7069=\"a-Si (single)\",$Q7069=\"a-Si (tandem)\",$Q7069=\"a-Si (triple)\"),3,2))))","v":1},0,null,null,19342,null,null,7068]
["Jiangsu Tievol Solar Energy Co.,Ltd. TF 085-36M","Jiangsu Tievol Solar Energy Co.,Ltd. ","TF 085-36M",85,"+3...-3",17.600000000000001,4.83,22.2,5.29,-77.7,2.645,-0.44,1000,"China",null,12.855299949645996,"mono",36,"pseudo-square",1211,546,35,"aluminum","junction box",null,"www.tievolsolar.com","-","-","-","-","-",{"$f":"IF($O7076=\"Sunpower Corp.\",3,(IF(OR($Q7076=\"mono\",$Q7076=\"poly\",$Q7076=\"HIT\",$Q7076=\"EFG\",$Q7076=\"mono-LGBC\"),1,IF(OR($Q7076=\"µc-Si / a-Si\",$Q7076=\"a-Si (single)\",$Q7076=\"a-Si (tandem)\",$Q7076=\"a-Si (triple)\"),3,2))))","v":1},{"$f":"IF($O7076=\"Sunpower Corp.\",3,(IF(OR($Q7076=\"mono\",$Q7076=\"poly\",$Q7076=\"HIT\",$Q7076=\"EFG\",$Q7076=\"mono-LGBC\"),1,2)))","v":1},{"$f":"IF($O7076=\"Sunpower Corp.\",3,(IF(OR($Q7076=\"mono\",$Q7076=\"poly\",$Q7076=\"HIT\",$Q7076=\"EFG\",$Q7076=\"mono-LGBC\"),1,IF(OR($Q7076=\"µc-Si / a-Si\",$Q7076=\"a-Si (single)\",$Q7076=\"a-Si (tandem)\",$Q7076=\"a-Si (triple)\"),3,2))))","v":1},0,null,null,34848,null,null,7075]
["Jiangsu Tievol Solar Energy Co.,Ltd. TF 140-36P","Jiangsu Tievol Solar Energy Co.,Ltd. ","TF 140-36P",140,"+3...-3",17.7,7.94,22,8.58,-77,5.1479999999999997,-0.45,1000,"China",null,14.118599891662598,"poly",36,"square",1480,670,35,"aluminum","junction box",null,"www.tievolsolar.com","-","-","-","-","-",{"$f":"IF($O7094=\"Sunpower Corp.\",3,(IF(OR($Q7094=\"mono\",$Q7094=\"poly\",$Q7094=\"HIT\",$Q7094=\"EFG\",$Q7094=\"mono-LGBC\"),1,IF(OR($Q7094=\"µc-Si / a-Si\",$Q7094=\"a-Si (single)\",$Q7094=\"a-Si (tandem)\",$Q7094=\"a-Si (triple)\"),3,2))))","v":1},{"$f":"IF($O7094=\"Sunpower Corp.\",3,(IF(OR($Q7094=\"mono\",$Q7094=\"poly\",$Q7094=\"HIT\",$Q7094=\"EFG\",$Q7094=\"mono-LGBC\"),1,2)))","v":1},{"$f":"IF($O7094=\"Sunpower Corp.\",3,(IF(OR($Q7094=\"mono\",$Q7094=\"poly\",$Q7094=\"HIT\",$Q7094=\"EFG\",$Q7094=\"mono-LGBC\"),1,IF(OR($Q7094=\"µc-Si / a-Si\",$Q7094=\"a-Si (single)\",$Q7094=\"a-Si (tandem)\",$Q7094=\"a-Si (triple)\"),3,2))))","v":1},0,null,null,34845,null,null,7093]
["Jiangsu Tievol Solar Energy Co.,Ltd. TF 210-60M","Jiangsu Tievol Solar Energy Co.,Ltd. ","TF 210-60M",210,"+3...-3",28.8,7.3,36.200000000000003,8.14,-126.7,4.8840000000000003,-0.45,1000,"China",null,12.934220314025879,"mono",60,"pseudo-square",1640,990,50,"aluminum","junction box",null,"www.tievolsolar.com","-","-","-","-","-",{"$f":"IF($O7119=\"Sunpower Corp.\",3,(IF(OR($Q7119=\"mono\",$Q7119=\"poly\",$Q7119=\"HIT\",$Q7119=\"EFG\",$Q7119=\"mono-LGBC\"),1,IF(OR($Q7119=\"µc-Si / a-Si\",$Q7119=\"a-Si (single)\",$Q7119=\"a-Si (tandem)\",$Q7119=\"a-Si (triple)\"),3,2))))","v":1},{"$f":"IF($O7119=\"Sunpower Corp.\",3,(IF(OR($Q7119=\"mono\",$Q7119=\"poly\",$Q7119=\"HIT\",$Q7119=\"EFG\",$Q7119=\"mono-LGBC\"),1,2)))","v":1},{"$f":"IF($O7119=\"Sunpower Corp.\",3,(IF(OR($Q7119=\"mono\",$Q7119=\"poly\",$Q7119=\"HIT\",$Q7119=\"EFG\",$Q7119=\"mono-LGBC\"),1,IF(OR($Q7119=\"µc-Si / a-Si\",$Q7119=\"a-Si (single)\",$Q7119=\"a-Si (tandem)\",$Q7119=\"a-Si (triple)\"),3,2))))","v":1},0,null,null,34799,null,null,7118]
["Jiangsu Tievol Solar Energy Co.,Ltd. TF 270-72M","Jiangsu Tievol Solar Energy Co.,Ltd. ","TF 270-72M",270,"+3...-3",35.1,7.7,43.9,8.39,-153.65,5.0340000000000007,-0.45,1000,"China",null,13.943110466003418,"mono",72,"pseudo-square",1956,990,50,"aluminum","junction box",null,"www.tievolsolar.com","-","-","-","-","-",{"$f":"IF($O7141=\"Sunpower Corp.\",3,(IF(OR($Q7141=\"mono\",$Q7141=\"poly\",$Q7141=\"HIT\",$Q7141=\"EFG\",$Q7141=\"mono-LGBC\"),1,IF(OR($Q7141=\"µc-Si / a-Si\",$Q7141=\"a-Si (single)\",$Q7141=\"a-Si (tandem)\",$Q7141=\"a-Si (triple)\"),3,2))))","v":1},{"$f":"IF($O7141=\"Sunpower Corp.\",3,(IF(OR($Q7141=\"mono\",$Q7141=\"poly\",$Q7141=\"HIT\",$Q7141=\"EFG\",$Q7141=\"mono-LGBC\"),1,2)))","v":1},{"$f":"IF($O7141=\"Sunpower Corp.\",3,(IF(OR($Q7141=\"mono\",$Q7141=\"poly\",$Q7141=\"HIT\",$Q7141=\"EFG\",$Q7141=\"mono-LGBC\"),1,IF(OR($Q7141=\"µc-Si / a-Si\",$Q7141=\"a-Si (single)\",$Q7141=\"a-Si (tandem)\",$Q7141=\"a-Si (triple)\"),3,2))))","v":1},0,null,null,34776,null,null,7140]
["Jiangsu Wanfeng PV Company WFM-185D","Jiangsu Wanfeng PV Company ","WFM-185D",185,"+...",36.200000000000003,5.1100000000000003,44.8,5.51,-156.80000000000001,2.7549999999999999,null,null,null,null,14.49116039276123,"mono",null,"pseudo-square",1580,808,35,null,null,15.5,"www.wf-pv.com","-","-","-","-","-",{"$f":"IF($O7164=\"Sunpower Corp.\",3,(IF(OR($Q7164=\"mono\",$Q7164=\"poly\",$Q7164=\"HIT\",$Q7164=\"EFG\",$Q7164=\"mono-LGBC\"),1,IF(OR($Q7164=\"µc-Si / a-Si\",$Q7164=\"a-Si (single)\",$Q7164=\"a-Si (tandem)\",$Q7164=\"a-Si (triple)\"),3,2))))","v":1},{"$f":"IF($O7164=\"Sunpower Corp.\",3,(IF(OR($Q7164=\"mono\",$Q7164=\"poly\",$Q7164=\"HIT\",$Q7164=\"EFG\",$Q7164=\"mono-LGBC\"),1,2)))","v":1},{"$f":"IF($O7164=\"Sunpower Corp.\",3,(IF(OR($Q7164=\"mono\",$Q7164=\"poly\",$Q7164=\"HIT\",$Q7164=\"EFG\",$Q7164=\"mono-LGBC\"),1,IF(OR($Q7164=\"µc-Si / a-Si\",$Q7164=\"a-Si (single)\",$Q7164=\"a-Si (tandem)\",$Q7164=\"a-Si (triple)\"),3,2))))","v":1},0,null,null,11771,null,null,7163]
["Jiangsu Wanfeng PV Company WF-M260","Jiangsu Wanfeng PV Company ","WF-M260",260,"+3...-3",35.4,7.34,44.25,8.2200000000000006,-150.44999999999999,1.6440000000000003,-0.43,1000,"China",null,13.392780303955078,"mono",72,"pseudo-square",1957,992,50,"aluminum","junction box",28,"www.fortune-solar.com","-","-","-","-","-",{"$f":"IF($O7186=\"Sunpower Corp.\",3,(IF(OR($Q7186=\"mono\",$Q7186=\"poly\",$Q7186=\"HIT\",$Q7186=\"EFG\",$Q7186=\"mono-LGBC\"),1,IF(OR($Q7186=\"µc-Si / a-Si\",$Q7186=\"a-Si (single)\",$Q7186=\"a-Si (tandem)\",$Q7186=\"a-Si (triple)\"),3,2))))","v":1},{"$f":"IF($O7186=\"Sunpower Corp.\",3,(IF(OR($Q7186=\"mono\",$Q7186=\"poly\",$Q7186=\"HIT\",$Q7186=\"EFG\",$Q7186=\"mono-LGBC\"),1,2)))","v":1},{"$f":"IF($O7186=\"Sunpower Corp.\",3,(IF(OR($Q7186=\"mono\",$Q7186=\"poly\",$Q7186=\"HIT\",$Q7186=\"EFG\",$Q7186=\"mono-LGBC\"),1,IF(OR($Q7186=\"µc-Si / a-Si\",$Q7186=\"a-Si (single)\",$Q7186=\"a-Si (tandem)\",$Q7186=\"a-Si (triple)\"),3,2))))","v":1},0,null,null,31567,null,null,7185]
["Jiangsu Wanfeng PV Company WF-M270","Jiangsu Wanfeng PV Company ","WF-M270",270,"+3...-3",35.9,7.52,44.86,8.4,-152.52400000000003,1.68,-0.43,1000,"China",null,13.907890319824219,"mono",72,"pseudo-square",1957,992,50,"aluminum","junction box",28,"www.fortune-solar.com","-","-","-","-","-",{"$f":"IF($O7189=\"Sunpower Corp.\",3,(IF(OR($Q7189=\"mono\",$Q7189=\"poly\",$Q7189=\"HIT\",$Q7189=\"EFG\",$Q7189=\"mono-LGBC\"),1,IF(OR($Q7189=\"µc-Si / a-Si\",$Q7189=\"a-Si (single)\",$Q7189=\"a-Si (tandem)\",$Q7189=\"a-Si (triple)\"),3,2))))","v":1},{"$f":"IF($O7189=\"Sunpower Corp.\",3,(IF(OR($Q7189=\"mono\",$Q7189=\"poly\",$Q7189=\"HIT\",$Q7189=\"EFG\",$Q7189=\"mono-LGBC\"),1,2)))","v":1},{"$f":"IF($O7189=\"Sunpower Corp.\",3,(IF(OR($Q7189=\"mono\",$Q7189=\"poly\",$Q7189=\"HIT\",$Q7189=\"EFG\",$Q7189=\"mono-LGBC\"),1,IF(OR($Q7189=\"µc-Si / a-Si\",$Q7189=\"a-Si (single)\",$Q7189=\"a-Si (tandem)\",$Q7189=\"a-Si (triple)\"),3,2))))","v":1},0,null,null,31568,null,null,7188]
["Jiangsu Wanfeng PV Company WF-P210","Jiangsu Wanfeng PV Company ","WF-P210",210,"+3...-3",29,7.24,34.799999999999997,8.11,-114.84,1.6219999999999999,-0.48,1000,"China",null,12.829910278320313,"poly",60,"square",1650,992,50,"aluminum","junction box",21.5,"www.fortune-solar.com","-","-","-","-","-",{"$f":"IF($O7212=\"Sunpower Corp.\",3,(IF(OR($Q7212=\"mono\",$Q7212=\"poly\",$Q7212=\"HIT\",$Q7212=\"EFG\",$Q7212=\"mono-LGBC\"),1,IF(OR($Q7212=\"µc-Si / a-Si\",$Q7212=\"a-Si (single)\",$Q7212=\"a-Si (tandem)\",$Q7212=\"a-Si (triple)\"),3,2))))","v":1},{"$f":"IF($O7212=\"Sunpower Corp.\",3,(IF(OR($Q7212=\"mono\",$Q7212=\"poly\",$Q7212=\"HIT\",$Q7212=\"EFG\",$Q7212=\"mono-LGBC\"),1,2)))","v":1},{"$f":"IF($O7212=\"Sunpower Corp.\",3,(IF(OR($Q7212=\"mono\",$Q7212=\"poly\",$Q7212=\"HIT\",$Q7212=\"EFG\",$Q7212=\"mono-LGBC\"),1,IF(OR($Q7212=\"µc-Si / a-Si\",$Q7212=\"a-Si (single)\",$Q7212=\"a-Si (tandem)\",$Q7212=\"a-Si (triple)\"),3,2))))","v":1},0,null,null,31577,null,null,7211]
["JIANGSU XINGHUO SOLAR ENERGY LIGHTING CO., LTD XHD-245","JIANGSU XINGHUO SOLAR ENERGY LIGHTING CO., LTD ","XHD-245",245,"+2,04...0",48.6,5.04,60.75,5.44,-206.55,2.448,-0.47,1000,"China",null,14.546279907226563,"mono",96,"pseudo-square",1580,1066,46,"aluminum","junction box MC4",21.5,"www.xhsolarenergy.com","-","-","-","-","-",{"$f":"IF($O7238=\"Sunpower Corp.\",3,(IF(OR($Q7238=\"mono\",$Q7238=\"poly\",$Q7238=\"HIT\",$Q7238=\"EFG\",$Q7238=\"mono-LGBC\"),1,IF(OR($Q7238=\"µc-Si / a-Si\",$Q7238=\"a-Si (single)\",$Q7238=\"a-Si (tandem)\",$Q7238=\"a-Si (triple)\"),3,2))))","v":1},{"$f":"IF($O7238=\"Sunpower Corp.\",3,(IF(OR($Q7238=\"mono\",$Q7238=\"poly\",$Q7238=\"HIT\",$Q7238=\"EFG\",$Q7238=\"mono-LGBC\"),1,2)))","v":1},{"$f":"IF($O7238=\"Sunpower Corp.\",3,(IF(OR($Q7238=\"mono\",$Q7238=\"poly\",$Q7238=\"HIT\",$Q7238=\"EFG\",$Q7238=\"mono-LGBC\"),1,IF(OR($Q7238=\"µc-Si / a-Si\",$Q7238=\"a-Si (single)\",$Q7238=\"a-Si (tandem)\",$Q7238=\"a-Si (triple)\"),3,2))))","v":1},0,null,null,22669,null,null,7237]
["JIANGSU XINGHUO SOLAR ENERGY LIGHTING CO., LTD XHP-280","JIANGSU XINGHUO SOLAR ENERGY LIGHTING CO., LTD ","XHP-280",280,"+1,79...0",36.700000000000003,7.63,45.88,8.24,-155.99200000000002,3.7079999999999997,-0.47,1000,"China",null,14.430370330810547,"poly",72,"square",1956,992,46,"aluminum","junction box MC4",27.5,"www.xhsolarenergy.com","-","-","-","-","-",{"$f":"IF($O7257=\"Sunpower Corp.\",3,(IF(OR($Q7257=\"mono\",$Q7257=\"poly\",$Q7257=\"HIT\",$Q7257=\"EFG\",$Q7257=\"mono-LGBC\"),1,IF(OR($Q7257=\"µc-Si / a-Si\",$Q7257=\"a-Si (single)\",$Q7257=\"a-Si (tandem)\",$Q7257=\"a-Si (triple)\"),3,2))))","v":1},{"$f":"IF($O7257=\"Sunpower Corp.\",3,(IF(OR($Q7257=\"mono\",$Q7257=\"poly\",$Q7257=\"HIT\",$Q7257=\"EFG\",$Q7257=\"mono-LGBC\"),1,2)))","v":1},{"$f":"IF($O7257=\"Sunpower Corp.\",3,(IF(OR($Q7257=\"mono\",$Q7257=\"poly\",$Q7257=\"HIT\",$Q7257=\"EFG\",$Q7257=\"mono-LGBC\"),1,IF(OR($Q7257=\"µc-Si / a-Si\",$Q7257=\"a-Si (single)\",$Q7257=\"a-Si (tandem)\",$Q7257=\"a-Si (triple)\"),3,2))))","v":1},0,null,null,22647,null,null,7256]
["Jiangxi Risun Solar Energy Co.,Ltd. RSM60-156P 210 (frameless)","Jiangxi Risun Solar Energy Co.,Ltd. ","RSM60-156P 210 (frameless)",210,"+...",29.7,7.08,36.200000000000003,7.82,-137.56,3.1280000000000001,-0.4,1000,null,null,12.855950355529785,"poly",60,"square",1645,993,4.7,"frameless","junction box MC",17,"www.risunsolar.com","-","-","-","-","-",{"$f":"IF($O7283=\"Sunpower Corp.\",3,(IF(OR($Q7283=\"mono\",$Q7283=\"poly\",$Q7283=\"HIT\",$Q7283=\"EFG\",$Q7283=\"mono-LGBC\"),1,IF(OR($Q7283=\"µc-Si / a-Si\",$Q7283=\"a-Si (single)\",$Q7283=\"a-Si (tandem)\",$Q7283=\"a-Si (triple)\"),3,2))))","v":1},{"$f":"IF($O7283=\"Sunpower Corp.\",3,(IF(OR($Q7283=\"mono\",$Q7283=\"poly\",$Q7283=\"HIT\",$Q7283=\"EFG\",$Q7283=\"mono-LGBC\"),1,2)))","v":1},{"$f":"IF($O7283=\"Sunpower Corp.\",3,(IF(OR($Q7283=\"mono\",$Q7283=\"poly\",$Q7283=\"HIT\",$Q7283=\"EFG\",$Q7283=\"mono-LGBC\"),1,IF(OR($Q7283=\"µc-Si / a-Si\",$Q7283=\"a-Si (single)\",$Q7283=\"a-Si (tandem)\",$Q7283=\"a-Si (triple)\"),3,2))))","v":1},0,null,null,20760,null,null,7282]
["Jiangxi Risun Solar Energy Co.,Ltd. RSM72-156P 280","Jiangxi Risun Solar Energy Co.,Ltd. ","RSM72-156P 280",280,"+...",36.200000000000003,7.76,44.3,8.4,-168.34,3.36,-0.4,1000,null,null,14.249360084533691,"poly",72,"square",1965,1000,45,"aluminum","junction box MC",26.5,"www.risunsolar.com","-","-","-","-","-",{"$f":"IF($O7296=\"Sunpower Corp.\",3,(IF(OR($Q7296=\"mono\",$Q7296=\"poly\",$Q7296=\"HIT\",$Q7296=\"EFG\",$Q7296=\"mono-LGBC\"),1,IF(OR($Q7296=\"µc-Si / a-Si\",$Q7296=\"a-Si (single)\",$Q7296=\"a-Si (tandem)\",$Q7296=\"a-Si (triple)\"),3,2))))","v":1},{"$f":"IF($O7296=\"Sunpower Corp.\",3,(IF(OR($Q7296=\"mono\",$Q7296=\"poly\",$Q7296=\"HIT\",$Q7296=\"EFG\",$Q7296=\"mono-LGBC\"),1,2)))","v":1},{"$f":"IF($O7296=\"Sunpower Corp.\",3,(IF(OR($Q7296=\"mono\",$Q7296=\"poly\",$Q7296=\"HIT\",$Q7296=\"EFG\",$Q7296=\"mono-LGBC\"),1,IF(OR($Q7296=\"µc-Si / a-Si\",$Q7296=\"a-Si (single)\",$Q7296=\"a-Si (tandem)\",$Q7296=\"a-Si (triple)\"),3,2))))","v":1},0,null,null,20757,null,null,7295]
["Jiangyin Hareon Solar Technology Co., Ltd HR-230P-18/Bb","Jiangyin Hareon Solar Technology Co., Ltd ","HR-230P-18/Bb",230,"+2,2...0",29.5,7.82,36.700000000000003,8.25,-124.78,2.8875000000000002,-0.51,1000,"China","Hareon",14.172060012817383,"poly",60,"square",1636,992,45,"aluminum","junction box",18,"www.hareonsolar.com","-","-","-","-","-",{"$f":"IF($O7308=\"Sunpower Corp.\",3,(IF(OR($Q7308=\"mono\",$Q7308=\"poly\",$Q7308=\"HIT\",$Q7308=\"EFG\",$Q7308=\"mono-LGBC\"),1,IF(OR($Q7308=\"µc-Si / a-Si\",$Q7308=\"a-Si (single)\",$Q7308=\"a-Si (tandem)\",$Q7308=\"a-Si (triple)\"),3,2))))","v":1},{"$f":"IF($O7308=\"Sunpower Corp.\",3,(IF(OR($Q7308=\"mono\",$Q7308=\"poly\",$Q7308=\"HIT\",$Q7308=\"EFG\",$Q7308=\"mono-LGBC\"),1,2)))","v":1},{"$f":"IF($O7308=\"Sunpower Corp.\",3,(IF(OR($Q7308=\"mono\",$Q7308=\"poly\",$Q7308=\"HIT\",$Q7308=\"EFG\",$Q7308=\"mono-LGBC\"),1,IF(OR($Q7308=\"µc-Si / a-Si\",$Q7308=\"a-Si (single)\",$Q7308=\"a-Si (tandem)\",$Q7308=\"a-Si (triple)\"),3,2))))","v":1},0,null,null,25643,null,null,7307]
["Jiangyin Jetion Science & Technology Co.,Ltd. JT125PFe","Jiangyin Jetion Science & Technology Co.,Ltd. ","JT125PFe",125,"+3...-3",17.850000000000001,7,21.6,8,-76.463999999999999,4.88,-0.46300000000000002,1000,"China","Jiangyin Jetion",12.477140426635742,"poly",36,"square",1482,676,40,"aluminum","junction box MC4",12,"www.jetionsolar.com","-","-","-","-","-",{"$f":"IF($O7341=\"Sunpower Corp.\",3,(IF(OR($Q7341=\"mono\",$Q7341=\"poly\",$Q7341=\"HIT\",$Q7341=\"EFG\",$Q7341=\"mono-LGBC\"),1,IF(OR($Q7341=\"µc-Si / a-Si\",$Q7341=\"a-Si (single)\",$Q7341=\"a-Si (tandem)\",$Q7341=\"a-Si (triple)\"),3,2))))","v":1},{"$f":"IF($O7341=\"Sunpower Corp.\",3,(IF(OR($Q7341=\"mono\",$Q7341=\"poly\",$Q7341=\"HIT\",$Q7341=\"EFG\",$Q7341=\"mono-LGBC\"),1,2)))","v":1},{"$f":"IF($O7341=\"Sunpower Corp.\",3,(IF(OR($Q7341=\"mono\",$Q7341=\"poly\",$Q7341=\"HIT\",$Q7341=\"EFG\",$Q7341=\"mono-LGBC\"),1,IF(OR($Q7341=\"µc-Si / a-Si\",$Q7341=\"a-Si (single)\",$Q7341=\"a-Si (tandem)\",$Q7341=\"a-Si (triple)\"),3,2))))","v":1},0,null,null,25692,null,null,7340]
["Jiangyin Jetion Science & Technology Co.,Ltd. JT170SAb(Black)","Jiangyin Jetion Science & Technology Co.,Ltd. ","JT170SAb(Black)",170,"+3...-3",35.200000000000003,4.83,43.8,5.14,-151.54799999999997,1.4392,-0.47399999999999998,1000,"China","Jiangyin Jetion",13.31620979309082,"mono",72,"pseudo-square",1580,808,40,"aluminum","junction box MC4",15.5,"www.jetionsolar.com","-","-","-","-","-",{"$f":"IF($O7353=\"Sunpower Corp.\",3,(IF(OR($Q7353=\"mono\",$Q7353=\"poly\",$Q7353=\"HIT\",$Q7353=\"EFG\",$Q7353=\"mono-LGBC\"),1,IF(OR($Q7353=\"µc-Si / a-Si\",$Q7353=\"a-Si (single)\",$Q7353=\"a-Si (tandem)\",$Q7353=\"a-Si (triple)\"),3,2))))","v":1},{"$f":"IF($O7353=\"Sunpower Corp.\",3,(IF(OR($Q7353=\"mono\",$Q7353=\"poly\",$Q7353=\"HIT\",$Q7353=\"EFG\",$Q7353=\"mono-LGBC\"),1,2)))","v":1},{"$f":"IF($O7353=\"Sunpower Corp.\",3,(IF(OR($Q7353=\"mono\",$Q7353=\"poly\",$Q7353=\"HIT\",$Q7353=\"EFG\",$Q7353=\"mono-LGBC\"),1,IF(OR($Q7353=\"µc-Si / a-Si\",$Q7353=\"a-Si (single)\",$Q7353=\"a-Si (tandem)\",$Q7353=\"a-Si (triple)\"),3,2))))","v":1},0,null,null,25778,null,null,7352]
["Jiangyin Jetion Science & Technology Co.,Ltd. JT185SAa(Black)","Jiangyin Jetion Science & Technology Co.,Ltd. ","JT185SAa(Black)",185,"+3...-3",36.270000000000003,5.0999999999999996,45,5.5,-155.69999999999999,1.54,-0.47399999999999998,1000,"China","Jiangyin Jetion",14.49116039276123,"mono",72,"pseudo-square",1580,808,40,"aluminum","junction box MC4",15.5,"www.jetionsolar.com","-","-","-","-","-",{"$f":"IF($O7367=\"Sunpower Corp.\",3,(IF(OR($Q7367=\"mono\",$Q7367=\"poly\",$Q7367=\"HIT\",$Q7367=\"EFG\",$Q7367=\"mono-LGBC\"),1,IF(OR($Q7367=\"µc-Si / a-Si\",$Q7367=\"a-Si (single)\",$Q7367=\"a-Si (tandem)\",$Q7367=\"a-Si (triple)\"),3,2))))","v":1},{"$f":"IF($O7367=\"Sunpower Corp.\",3,(IF(OR($Q7367=\"mono\",$Q7367=\"poly\",$Q7367=\"HIT\",$Q7367=\"EFG\",$Q7367=\"mono-LGBC\"),1,2)))","v":1},{"$f":"IF($O7367=\"Sunpower Corp.\",3,(IF(OR($Q7367=\"mono\",$Q7367=\"poly\",$Q7367=\"HIT\",$Q7367=\"EFG\",$Q7367=\"mono-LGBC\"),1,IF(OR($Q7367=\"µc-Si / a-Si\",$Q7367=\"a-Si (single)\",$Q7367=\"a-Si (tandem)\",$Q7367=\"a-Si (triple)\"),3,2))))","v":1},0,null,null,25783,null,null,7366]
["Jiangyin Jetion Science & Technology Co.,Ltd. JT210PDe","Jiangyin Jetion Science & Technology Co.,Ltd. ","JT210PDe",210,"+3...-3",27.3,7.7,33.299999999999997,8.4,-117.88199999999999,5.1239999999999997,-0.46300000000000002,1000,"China","Jiangyin Jetion",14.284319877624512,"poly",54,"square",1482,992,40,"aluminum","junction box MC4",17,"www.jetionsolar.com","-","-","-","-","-",{"$f":"IF($O7382=\"Sunpower Corp.\",3,(IF(OR($Q7382=\"mono\",$Q7382=\"poly\",$Q7382=\"HIT\",$Q7382=\"EFG\",$Q7382=\"mono-LGBC\"),1,IF(OR($Q7382=\"µc-Si / a-Si\",$Q7382=\"a-Si (single)\",$Q7382=\"a-Si (tandem)\",$Q7382=\"a-Si (triple)\"),3,2))))","v":1},{"$f":"IF($O7382=\"Sunpower Corp.\",3,(IF(OR($Q7382=\"mono\",$Q7382=\"poly\",$Q7382=\"HIT\",$Q7382=\"EFG\",$Q7382=\"mono-LGBC\"),1,2)))","v":1},{"$f":"IF($O7382=\"Sunpower Corp.\",3,(IF(OR($Q7382=\"mono\",$Q7382=\"poly\",$Q7382=\"HIT\",$Q7382=\"EFG\",$Q7382=\"mono-LGBC\"),1,IF(OR($Q7382=\"µc-Si / a-Si\",$Q7382=\"a-Si (single)\",$Q7382=\"a-Si (tandem)\",$Q7382=\"a-Si (triple)\"),3,2))))","v":1},0,null,null,25704,null,null,7381]
["Jiangyin Jetion Science & Technology Co.,Ltd. JT245SCc","Jiangyin Jetion Science & Technology Co.,Ltd. ","JT245SCc",245,"+3...-3",31.4,7.81,37.299999999999997,8.75,-125.70100000000001,4.2874999999999996,-0.46800000000000003,1000,"China","Jiangyin Jetion",14.923009872436523,"mono",60,"pseudo-square",1655,992,40,"aluminum","junction box MC4",22.5,"www.jetionsolar.com","-","-","-","-","-",{"$f":"IF($O7412=\"Sunpower Corp.\",3,(IF(OR($Q7412=\"mono\",$Q7412=\"poly\",$Q7412=\"HIT\",$Q7412=\"EFG\",$Q7412=\"mono-LGBC\"),1,IF(OR($Q7412=\"µc-Si / a-Si\",$Q7412=\"a-Si (single)\",$Q7412=\"a-Si (tandem)\",$Q7412=\"a-Si (triple)\"),3,2))))","v":1},{"$f":"IF($O7412=\"Sunpower Corp.\",3,(IF(OR($Q7412=\"mono\",$Q7412=\"poly\",$Q7412=\"HIT\",$Q7412=\"EFG\",$Q7412=\"mono-LGBC\"),1,2)))","v":1},{"$f":"IF($O7412=\"Sunpower Corp.\",3,(IF(OR($Q7412=\"mono\",$Q7412=\"poly\",$Q7412=\"HIT\",$Q7412=\"EFG\",$Q7412=\"mono-LGBC\"),1,IF(OR($Q7412=\"µc-Si / a-Si\",$Q7412=\"a-Si (single)\",$Q7412=\"a-Si (tandem)\",$Q7412=\"a-Si (triple)\"),3,2))))","v":1},0,null,null,25774,null,null,7411]
["Jiangyin Shine Science and Technology Co., Ltd. SS-175M (72 mono)","Jiangyin Shine Science and Technology Co., Ltd. ","SS-175M (72 mono)",175,"+3...-3",35.6,4.92,44.4,5.29,-150.96,1.587,-0.4,1000,null,null,13.707859992980957,"mono",72,"pseudo-square",1580,808,40,null,null,15.4,"www.shinesolar.it","-","-","-","-","-",{"$f":"IF($O7427=\"Sunpower Corp.\",3,(IF(OR($Q7427=\"mono\",$Q7427=\"poly\",$Q7427=\"HIT\",$Q7427=\"EFG\",$Q7427=\"mono-LGBC\"),1,IF(OR($Q7427=\"µc-Si / a-Si\",$Q7427=\"a-Si (single)\",$Q7427=\"a-Si (tandem)\",$Q7427=\"a-Si (triple)\"),3,2))))","v":1},{"$f":"IF($O7427=\"Sunpower Corp.\",3,(IF(OR($Q7427=\"mono\",$Q7427=\"poly\",$Q7427=\"HIT\",$Q7427=\"EFG\",$Q7427=\"mono-LGBC\"),1,2)))","v":1},{"$f":"IF($O7427=\"Sunpower Corp.\",3,(IF(OR($Q7427=\"mono\",$Q7427=\"poly\",$Q7427=\"HIT\",$Q7427=\"EFG\",$Q7427=\"mono-LGBC\"),1,IF(OR($Q7427=\"µc-Si / a-Si\",$Q7427=\"a-Si (single)\",$Q7427=\"a-Si (tandem)\",$Q7427=\"a-Si (triple)\"),3,2))))","v":1},0,null,null,19253,null,null,7426]
["Jiawei Solarchina Co., Ltd. JW-G1950/JW5672","Jiawei Solarchina Co., Ltd. ","JW-G1950/JW5672",195,"+3...-3",36.9,5.29,44.6,5.95,-142.72,2.1419999999999999,-0.43,1000,"China","Jiawei Solarchina",15.505129814147949,"mono",72,"pseudo-square",1576,798,35,"aluminum","junction box Tyco",14.5,"www.solarchina.com.hk","-","-","-","-","-",{"$f":"IF($O7457=\"Sunpower Corp.\",3,(IF(OR($Q7457=\"mono\",$Q7457=\"poly\",$Q7457=\"HIT\",$Q7457=\"EFG\",$Q7457=\"mono-LGBC\"),1,IF(OR($Q7457=\"µc-Si / a-Si\",$Q7457=\"a-Si (single)\",$Q7457=\"a-Si (tandem)\",$Q7457=\"a-Si (triple)\"),3,2))))","v":1},{"$f":"IF($O7457=\"Sunpower Corp.\",3,(IF(OR($Q7457=\"mono\",$Q7457=\"poly\",$Q7457=\"HIT\",$Q7457=\"EFG\",$Q7457=\"mono-LGBC\"),1,2)))","v":1},{"$f":"IF($O7457=\"Sunpower Corp.\",3,(IF(OR($Q7457=\"mono\",$Q7457=\"poly\",$Q7457=\"HIT\",$Q7457=\"EFG\",$Q7457=\"mono-LGBC\"),1,IF(OR($Q7457=\"µc-Si / a-Si\",$Q7457=\"a-Si (single)\",$Q7457=\"a-Si (tandem)\",$Q7457=\"a-Si (triple)\"),3,2))))","v":1},0,null,null,16835,null,null,7456]
["Jiawei Solarchina Co., Ltd. JW-G2350/MD6660P","Jiawei Solarchina Co., Ltd. ","JW-G2350/MD6660P",235,"+3...-3",31.2,7.54,37.299999999999997,8.15,-119.36,3.26,-0.35,1000,"China","Motech Industries",14.477169990539551,"poly",60,"square",1653,982,46,"aluminum","junction box Tyco",18.7,"www.solarchina.com.hk","-","-","-","-","-",{"$f":"IF($O7472=\"Sunpower Corp.\",3,(IF(OR($Q7472=\"mono\",$Q7472=\"poly\",$Q7472=\"HIT\",$Q7472=\"EFG\",$Q7472=\"mono-LGBC\"),1,IF(OR($Q7472=\"µc-Si / a-Si\",$Q7472=\"a-Si (single)\",$Q7472=\"a-Si (tandem)\",$Q7472=\"a-Si (triple)\"),3,2))))","v":1},{"$f":"IF($O7472=\"Sunpower Corp.\",3,(IF(OR($Q7472=\"mono\",$Q7472=\"poly\",$Q7472=\"HIT\",$Q7472=\"EFG\",$Q7472=\"mono-LGBC\"),1,2)))","v":1},{"$f":"IF($O7472=\"Sunpower Corp.\",3,(IF(OR($Q7472=\"mono\",$Q7472=\"poly\",$Q7472=\"HIT\",$Q7472=\"EFG\",$Q7472=\"mono-LGBC\"),1,IF(OR($Q7472=\"µc-Si / a-Si\",$Q7472=\"a-Si (single)\",$Q7472=\"a-Si (tandem)\",$Q7472=\"a-Si (triple)\"),3,2))))","v":1},0,null,null,21064,null,null,7471]
["Jinko Solar Co., Ltd. JKM-165M-72","Jinko Solar Co., Ltd. ","JKM-165M-72",165,"+3...-3",35.299999999999997,4.67,44.1,5.0199999999999996,-154.35,2.5099999999999998,-0.47,1000,null,null,12.92455005645752,"mono",72,"pseudo-square",1580,808,45,"aluminum","junction box MC4",15.5,"www.jinkosolar.com","-","-","-","-","-",{"$f":"IF($O7496=\"Sunpower Corp.\",3,(IF(OR($Q7496=\"mono\",$Q7496=\"poly\",$Q7496=\"HIT\",$Q7496=\"EFG\",$Q7496=\"mono-LGBC\"),1,IF(OR($Q7496=\"µc-Si / a-Si\",$Q7496=\"a-Si (single)\",$Q7496=\"a-Si (tandem)\",$Q7496=\"a-Si (triple)\"),3,2))))","v":1},{"$f":"IF($O7496=\"Sunpower Corp.\",3,(IF(OR($Q7496=\"mono\",$Q7496=\"poly\",$Q7496=\"HIT\",$Q7496=\"EFG\",$Q7496=\"mono-LGBC\"),1,2)))","v":1},{"$f":"IF($O7496=\"Sunpower Corp.\",3,(IF(OR($Q7496=\"mono\",$Q7496=\"poly\",$Q7496=\"HIT\",$Q7496=\"EFG\",$Q7496=\"mono-LGBC\"),1,IF(OR($Q7496=\"µc-Si / a-Si\",$Q7496=\"a-Si (single)\",$Q7496=\"a-Si (tandem)\",$Q7496=\"a-Si (triple)\"),3,2))))","v":1},0,null,null,17562,null,null,7495]
["Jinko Solar Co., Ltd. JKM-205P","Jinko Solar Co., Ltd. ","JKM-205P",205,"+3...-3",28.5,7.19,34.200000000000003,8.0500000000000007,-116.28,7.2450000000000001,-0.37,1000,null,null,12.524439811706543,"poly",60,"square",1650,992,50,null,null,19.5,"www.jinkosolar.com","-","-","-","-","-",{"$f":"IF($O7517=\"Sunpower Corp.\",3,(IF(OR($Q7517=\"mono\",$Q7517=\"poly\",$Q7517=\"HIT\",$Q7517=\"EFG\",$Q7517=\"mono-LGBC\"),1,IF(OR($Q7517=\"µc-Si / a-Si\",$Q7517=\"a-Si (single)\",$Q7517=\"a-Si (tandem)\",$Q7517=\"a-Si (triple)\"),3,2))))","v":1},{"$f":"IF($O7517=\"Sunpower Corp.\",3,(IF(OR($Q7517=\"mono\",$Q7517=\"poly\",$Q7517=\"HIT\",$Q7517=\"EFG\",$Q7517=\"mono-LGBC\"),1,2)))","v":1},{"$f":"IF($O7517=\"Sunpower Corp.\",3,(IF(OR($Q7517=\"mono\",$Q7517=\"poly\",$Q7517=\"HIT\",$Q7517=\"EFG\",$Q7517=\"mono-LGBC\"),1,IF(OR($Q7517=\"µc-Si / a-Si\",$Q7517=\"a-Si (single)\",$Q7517=\"a-Si (tandem)\",$Q7517=\"a-Si (triple)\"),3,2))))","v":1},0,null,null,13111,null,null,7516]
["Jinko Solar Co., Ltd. JKM-210P","Jinko Solar Co., Ltd. ","JKM-210P",210,"+3...-3",29,7.24,34.799999999999997,8.11,-118.32,7.2989999999999995,-0.37,1000,null,null,12.829910278320313,"poly",60,"square",1650,992,50,null,null,19.5,"www.jinkosolar.com","-","-","-","-","-",{"$f":"IF($O7522=\"Sunpower Corp.\",3,(IF(OR($Q7522=\"mono\",$Q7522=\"poly\",$Q7522=\"HIT\",$Q7522=\"EFG\",$Q7522=\"mono-LGBC\"),1,IF(OR($Q7522=\"µc-Si / a-Si\",$Q7522=\"a-Si (single)\",$Q7522=\"a-Si (tandem)\",$Q7522=\"a-Si (triple)\"),3,2))))","v":1},{"$f":"IF($O7522=\"Sunpower Corp.\",3,(IF(OR($Q7522=\"mono\",$Q7522=\"poly\",$Q7522=\"HIT\",$Q7522=\"EFG\",$Q7522=\"mono-LGBC\"),1,2)))","v":1},{"$f":"IF($O7522=\"Sunpower Corp.\",3,(IF(OR($Q7522=\"mono\",$Q7522=\"poly\",$Q7522=\"HIT\",$Q7522=\"EFG\",$Q7522=\"mono-LGBC\"),1,IF(OR($Q7522=\"µc-Si / a-Si\",$Q7522=\"a-Si (single)\",$Q7522=\"a-Si (tandem)\",$Q7522=\"a-Si (triple)\"),3,2))))","v":1},0,null,null,13112,null,null,7521]
["Jinko Solar Co., Ltd. JKM-235M-96","Jinko Solar Co., Ltd. ","JKM-235M-96",235,"+3...-3",48.8,4.8099999999999996,59.2,5.27,-195.36,2.1080000000000001,-0.43,1000,null,"Jinko",13.789870262145996,"mono",96,"pseudo-square",1575,1082,45,"aluminum","junction box MC4",20,"www.jinkosolar.com","-","-","-","-","-",{"$f":"IF($O7546=\"Sunpower Corp.\",3,(IF(OR($Q7546=\"mono\",$Q7546=\"poly\",$Q7546=\"HIT\",$Q7546=\"EFG\",$Q7546=\"mono-LGBC\"),1,IF(OR($Q7546=\"µc-Si / a-Si\",$Q7546=\"a-Si (single)\",$Q7546=\"a-Si (tandem)\",$Q7546=\"a-Si (triple)\"),3,2))))","v":1},{"$f":"IF($O7546=\"Sunpower Corp.\",3,(IF(OR($Q7546=\"mono\",$Q7546=\"poly\",$Q7546=\"HIT\",$Q7546=\"EFG\",$Q7546=\"mono-LGBC\"),1,2)))","v":1},{"$f":"IF($O7546=\"Sunpower Corp.\",3,(IF(OR($Q7546=\"mono\",$Q7546=\"poly\",$Q7546=\"HIT\",$Q7546=\"EFG\",$Q7546=\"mono-LGBC\"),1,IF(OR($Q7546=\"µc-Si / a-Si\",$Q7546=\"a-Si (single)\",$Q7546=\"a-Si (tandem)\",$Q7546=\"a-Si (triple)\"),3,2))))","v":1},0,null,null,17559,null,null,7545]
["Jinko Solar Co., Ltd. JKM-270M-72","Jinko Solar Co., Ltd. ","JKM-270M-72",270,"+3...-3",35.9,7.52,45,8.35,-180,3.34,-0.48,1000,null,"Jinko",13.914999961853027,"mono",72,"pseudo-square",1956,992,50,"aluminum","junction box",27,"www.jinkosolar.com","-","-","-","-","-",{"$f":"IF($O7567=\"Sunpower Corp.\",3,(IF(OR($Q7567=\"mono\",$Q7567=\"poly\",$Q7567=\"HIT\",$Q7567=\"EFG\",$Q7567=\"mono-LGBC\"),1,IF(OR($Q7567=\"µc-Si / a-Si\",$Q7567=\"a-Si (single)\",$Q7567=\"a-Si (tandem)\",$Q7567=\"a-Si (triple)\"),3,2))))","v":1},{"$f":"IF($O7567=\"Sunpower Corp.\",3,(IF(OR($Q7567=\"mono\",$Q7567=\"poly\",$Q7567=\"HIT\",$Q7567=\"EFG\",$Q7567=\"mono-LGBC\"),1,2)))","v":1},{"$f":"IF($O7567=\"Sunpower Corp.\",3,(IF(OR($Q7567=\"mono\",$Q7567=\"poly\",$Q7567=\"HIT\",$Q7567=\"EFG\",$Q7567=\"mono-LGBC\"),1,IF(OR($Q7567=\"µc-Si / a-Si\",$Q7567=\"a-Si (single)\",$Q7567=\"a-Si (tandem)\",$Q7567=\"a-Si (triple)\"),3,2))))","v":1},0,null,null,29335,null,null,7566]
["Jinshi Solar Electrical Science and Technology Co JS230W-48M","Jinshi Solar Electrical Science and Technology Co ","JS230W-48M",230,"+3...-3",48,4.79,56.6,5.37,-215.08,2.1480000000000001,-0.47,1000,"China",null,13.65569019317627,"mono",96,"pseudo-square",1580,1066,50,"aluminum","junction box",20,"www.jinshisolar.com","-","-","-","-","-",{"$f":"IF($O7591=\"Sunpower Corp.\",3,(IF(OR($Q7591=\"mono\",$Q7591=\"poly\",$Q7591=\"HIT\",$Q7591=\"EFG\",$Q7591=\"mono-LGBC\"),1,IF(OR($Q7591=\"µc-Si / a-Si\",$Q7591=\"a-Si (single)\",$Q7591=\"a-Si (tandem)\",$Q7591=\"a-Si (triple)\"),3,2))))","v":1},{"$f":"IF($O7591=\"Sunpower Corp.\",3,(IF(OR($Q7591=\"mono\",$Q7591=\"poly\",$Q7591=\"HIT\",$Q7591=\"EFG\",$Q7591=\"mono-LGBC\"),1,2)))","v":1},{"$f":"IF($O7591=\"Sunpower Corp.\",3,(IF(OR($Q7591=\"mono\",$Q7591=\"poly\",$Q7591=\"HIT\",$Q7591=\"EFG\",$Q7591=\"mono-LGBC\"),1,IF(OR($Q7591=\"µc-Si / a-Si\",$Q7591=\"a-Si (single)\",$Q7591=\"a-Si (tandem)\",$Q7591=\"a-Si (triple)\"),3,2))))","v":1},0,null,null,22556,null,null,7590]
["jms Solar Handel GmbH JMS ES-200 M60 (220) blackline","jms Solar Handel GmbH ","JMS ES-200 M60 (220) blackline",220,"+3...-3",29.2,7.5,36.65,8.1999999999999993,-124.61,4.0999999999999996,-0.44,1000,null,"Q-Cells AG",12.991769790649414,"mono",60,"pseudo-square",1690,1002,50,"aluminum","junction box MC4",23.5,"www.jms-solar.de","-","-","-","-","-",{"$f":"IF($O7612=\"Sunpower Corp.\",3,(IF(OR($Q7612=\"mono\",$Q7612=\"poly\",$Q7612=\"HIT\",$Q7612=\"EFG\",$Q7612=\"mono-LGBC\"),1,IF(OR($Q7612=\"µc-Si / a-Si\",$Q7612=\"a-Si (single)\",$Q7612=\"a-Si (tandem)\",$Q7612=\"a-Si (triple)\"),3,2))))","v":1},{"$f":"IF($O7612=\"Sunpower Corp.\",3,(IF(OR($Q7612=\"mono\",$Q7612=\"poly\",$Q7612=\"HIT\",$Q7612=\"EFG\",$Q7612=\"mono-LGBC\"),1,2)))","v":1},{"$f":"IF($O7612=\"Sunpower Corp.\",3,(IF(OR($Q7612=\"mono\",$Q7612=\"poly\",$Q7612=\"HIT\",$Q7612=\"EFG\",$Q7612=\"mono-LGBC\"),1,IF(OR($Q7612=\"µc-Si / a-Si\",$Q7612=\"a-Si (single)\",$Q7612=\"a-Si (tandem)\",$Q7612=\"a-Si (triple)\"),3,2))))","v":1},0,null,null,20218,null,null,7611]
["jms Solar Handel GmbH jms ES-200 M60+(230)","jms Solar Handel GmbH ","jms ES-200 M60+(230)",230,"+3...-3",30.05,7.74,37.200000000000003,8.5399999999999991,-133.91999999999999,2.9036,-0.48,1000,null,"Suniva",13.582300186157227,"mono",60,"square",1690,1002,50,"aluminum","junction box Tyco",23.5,"www.jms-solar.de","-","-","-","-","-",{"$f":"IF($O7616=\"Sunpower Corp.\",3,(IF(OR($Q7616=\"mono\",$Q7616=\"poly\",$Q7616=\"HIT\",$Q7616=\"EFG\",$Q7616=\"mono-LGBC\"),1,IF(OR($Q7616=\"µc-Si / a-Si\",$Q7616=\"a-Si (single)\",$Q7616=\"a-Si (tandem)\",$Q7616=\"a-Si (triple)\"),3,2))))","v":1},{"$f":"IF($O7616=\"Sunpower Corp.\",3,(IF(OR($Q7616=\"mono\",$Q7616=\"poly\",$Q7616=\"HIT\",$Q7616=\"EFG\",$Q7616=\"mono-LGBC\"),1,2)))","v":1},{"$f":"IF($O7616=\"Sunpower Corp.\",3,(IF(OR($Q7616=\"mono\",$Q7616=\"poly\",$Q7616=\"HIT\",$Q7616=\"EFG\",$Q7616=\"mono-LGBC\"),1,IF(OR($Q7616=\"µc-Si / a-Si\",$Q7616=\"a-Si (single)\",$Q7616=\"a-Si (tandem)\",$Q7616=\"a-Si (triple)\"),3,2))))","v":1},0,null,null,19939,null,null,7615]
["jms Solar Handel GmbH JMS-CS 180 P (180)","jms Solar Handel GmbH ","JMS-CS 180 P (180)",180,"+3...-3",24.1,7.47,29.4,8.1,-99.96,1.62,-0.48,1000,null,null,13.704799652099609,"poly",48,"square",1324,992,46,"aluminum","junction box MC4",16,"www.jms-solar.de","-","-","-","-","-",{"$f":"IF($O7651=\"Sunpower Corp.\",3,(IF(OR($Q7651=\"mono\",$Q7651=\"poly\",$Q7651=\"HIT\",$Q7651=\"EFG\",$Q7651=\"mono-LGBC\"),1,IF(OR($Q7651=\"µc-Si / a-Si\",$Q7651=\"a-Si (single)\",$Q7651=\"a-Si (tandem)\",$Q7651=\"a-Si (triple)\"),3,2))))","v":1},{"$f":"IF($O7651=\"Sunpower Corp.\",3,(IF(OR($Q7651=\"mono\",$Q7651=\"poly\",$Q7651=\"HIT\",$Q7651=\"EFG\",$Q7651=\"mono-LGBC\"),1,2)))","v":1},{"$f":"IF($O7651=\"Sunpower Corp.\",3,(IF(OR($Q7651=\"mono\",$Q7651=\"poly\",$Q7651=\"HIT\",$Q7651=\"EFG\",$Q7651=\"mono-LGBC\"),1,IF(OR($Q7651=\"µc-Si / a-Si\",$Q7651=\"a-Si (single)\",$Q7651=\"a-Si (tandem)\",$Q7651=\"a-Si (triple)\"),3,2))))","v":1},0,null,null,20202,null,null,7650]
["JSC Kvazar KV-80","JSC Kvazar ","KV-80",80,"+3...-3",18,4.57,22,4.95,-72.599999999999994,1.4850000000000001,-0.47,600,"Ukraine","Kvazar",12.545669555664063,"mono",36,"pseudo-square",1210,527,35,"aluminum","junction box Tyco",7.5,"www.kvazar.com","-","-","-","-","-",{"$f":"IF($O7661=\"Sunpower Corp.\",3,(IF(OR($Q7661=\"mono\",$Q7661=\"poly\",$Q7661=\"HIT\",$Q7661=\"EFG\",$Q7661=\"mono-LGBC\"),1,IF(OR($Q7661=\"µc-Si / a-Si\",$Q7661=\"a-Si (single)\",$Q7661=\"a-Si (tandem)\",$Q7661=\"a-Si (triple)\"),3,2))))","v":1},{"$f":"IF($O7661=\"Sunpower Corp.\",3,(IF(OR($Q7661=\"mono\",$Q7661=\"poly\",$Q7661=\"HIT\",$Q7661=\"EFG\",$Q7661=\"mono-LGBC\"),1,2)))","v":1},{"$f":"IF($O7661=\"Sunpower Corp.\",3,(IF(OR($Q7661=\"mono\",$Q7661=\"poly\",$Q7661=\"HIT\",$Q7661=\"EFG\",$Q7661=\"mono-LGBC\"),1,IF(OR($Q7661=\"µc-Si / a-Si\",$Q7661=\"a-Si (single)\",$Q7661=\"a-Si (tandem)\",$Q7661=\"a-Si (triple)\"),3,2))))","v":1},0,null,null,14947,null,null,7660]
["JT Solar AG JTS-260P","JT Solar AG ","JTS-260P",260,"+3...-3",34.799999999999997,7.47,44.1,8.09,-145.53,4.8540000000000001,-0.46,1000,null,null,13.399629592895508,"poly",72,"square",1956,992,50,"aluminum","junction box MC4",23.5,"www.jtsolar.de","-","-","-","-","-",{"$f":"IF($O7677=\"Sunpower Corp.\",3,(IF(OR($Q7677=\"mono\",$Q7677=\"poly\",$Q7677=\"HIT\",$Q7677=\"EFG\",$Q7677=\"mono-LGBC\"),1,IF(OR($Q7677=\"µc-Si / a-Si\",$Q7677=\"a-Si (single)\",$Q7677=\"a-Si (tandem)\",$Q7677=\"a-Si (triple)\"),3,2))))","v":1},{"$f":"IF($O7677=\"Sunpower Corp.\",3,(IF(OR($Q7677=\"mono\",$Q7677=\"poly\",$Q7677=\"HIT\",$Q7677=\"EFG\",$Q7677=\"mono-LGBC\"),1,2)))","v":1},{"$f":"IF($O7677=\"Sunpower Corp.\",3,(IF(OR($Q7677=\"mono\",$Q7677=\"poly\",$Q7677=\"HIT\",$Q7677=\"EFG\",$Q7677=\"mono-LGBC\"),1,IF(OR($Q7677=\"µc-Si / a-Si\",$Q7677=\"a-Si (single)\",$Q7677=\"a-Si (tandem)\",$Q7677=\"a-Si (triple)\"),3,2))))","v":1},0,null,null,29164,null,null,7676]
["Juli New Energy Co., Ltd. (J&L) JLS96M255W","Juli New Energy Co., Ltd. (J&L) ","JLS96M255W",255,"+3...-3",49.2,5.18,59,5.65,-194.7,2.8250000000000002,-0.4,1000,"China",null,14.963470458984375,"mono",96,"pseudo-square",1575,1082,45,null,null,21.5,"www.julisolar.com","-","-","-","-","-",{"$f":"IF($O7706=\"Sunpower Corp.\",3,(IF(OR($Q7706=\"mono\",$Q7706=\"poly\",$Q7706=\"HIT\",$Q7706=\"EFG\",$Q7706=\"mono-LGBC\"),1,IF(OR($Q7706=\"µc-Si / a-Si\",$Q7706=\"a-Si (single)\",$Q7706=\"a-Si (tandem)\",$Q7706=\"a-Si (triple)\"),3,2))))","v":1},{"$f":"IF($O7706=\"Sunpower Corp.\",3,(IF(OR($Q7706=\"mono\",$Q7706=\"poly\",$Q7706=\"HIT\",$Q7706=\"EFG\",$Q7706=\"mono-LGBC\"),1,2)))","v":1},{"$f":"IF($O7706=\"Sunpower Corp.\",3,(IF(OR($Q7706=\"mono\",$Q7706=\"poly\",$Q7706=\"HIT\",$Q7706=\"EFG\",$Q7706=\"mono-LGBC\"),1,IF(OR($Q7706=\"µc-Si / a-Si\",$Q7706=\"a-Si (single)\",$Q7706=\"a-Si (tandem)\",$Q7706=\"a-Si (triple)\"),3,2))))","v":1},0,null,null,29963,null,null,7705]
["Jumao Photonics Co.,Ltd. JMP-215W-S6-G","Jumao Photonics Co.,Ltd. ","JMP-215W-S6-G",215,"+3...-3",30.3,7.1,36,7.71,-133.19999999999999,3.0840000000000001,-0.32,1000,"China","diverse",13.306770324707031,"mono",60,"pseudo-square",1637,987,40,"aluminum","junction box",18.5,"www.solargenerator.com","-","-","-","-","-",{"$f":"IF($O7731=\"Sunpower Corp.\",3,(IF(OR($Q7731=\"mono\",$Q7731=\"poly\",$Q7731=\"HIT\",$Q7731=\"EFG\",$Q7731=\"mono-LGBC\"),1,IF(OR($Q7731=\"µc-Si / a-Si\",$Q7731=\"a-Si (single)\",$Q7731=\"a-Si (tandem)\",$Q7731=\"a-Si (triple)\"),3,2))))","v":1},{"$f":"IF($O7731=\"Sunpower Corp.\",3,(IF(OR($Q7731=\"mono\",$Q7731=\"poly\",$Q7731=\"HIT\",$Q7731=\"EFG\",$Q7731=\"mono-LGBC\"),1,2)))","v":1},{"$f":"IF($O7731=\"Sunpower Corp.\",3,(IF(OR($Q7731=\"mono\",$Q7731=\"poly\",$Q7731=\"HIT\",$Q7731=\"EFG\",$Q7731=\"mono-LGBC\"),1,IF(OR($Q7731=\"µc-Si / a-Si\",$Q7731=\"a-Si (single)\",$Q7731=\"a-Si (tandem)\",$Q7731=\"a-Si (triple)\"),3,2))))","v":1},0,null,null,6468,null,null,7730]
["Jumao Photonics Co.,Ltd. JMP-240W-M6-BIPV","Jumao Photonics Co.,Ltd. ","JMP-240W-M6-BIPV",240,"+3...-3",36.299999999999997,6.7,43.1,7.33,-159.47,3.665,-0.32,1000,"China","diverse",9.978546142578125,"poly",72,"square",1572,1530,10,"frameless","junction box",51,"www.solargenerator.com","-","-","-","-","-",{"$f":"IF($O7742=\"Sunpower Corp.\",3,(IF(OR($Q7742=\"mono\",$Q7742=\"poly\",$Q7742=\"HIT\",$Q7742=\"EFG\",$Q7742=\"mono-LGBC\"),1,IF(OR($Q7742=\"µc-Si / a-Si\",$Q7742=\"a-Si (single)\",$Q7742=\"a-Si (tandem)\",$Q7742=\"a-Si (triple)\"),3,2))))","v":1},{"$f":"IF($O7742=\"Sunpower Corp.\",3,(IF(OR($Q7742=\"mono\",$Q7742=\"poly\",$Q7742=\"HIT\",$Q7742=\"EFG\",$Q7742=\"mono-LGBC\"),1,2)))","v":1},{"$f":"IF($O7742=\"Sunpower Corp.\",3,(IF(OR($Q7742=\"mono\",$Q7742=\"poly\",$Q7742=\"HIT\",$Q7742=\"EFG\",$Q7742=\"mono-LGBC\"),1,IF(OR($Q7742=\"µc-Si / a-Si\",$Q7742=\"a-Si (single)\",$Q7742=\"a-Si (tandem)\",$Q7742=\"a-Si (triple)\"),3,2))))","v":1},0,null,null,14106,null,null,7741]
["Jumao Photonics Co.,Ltd. JMP-75W-S5-G","Jumao Photonics Co.,Ltd. ","JMP-75W-S5-G",75,"+3...-3",17.39,4.4000000000000004,21.6,4.8899999999999997,-82.08,1.4669999999999999,-0.35,1000,"China","diverse",11.641050338745117,"mono",36,"pseudo-square",1202,536,33.799999999999997,"aluminum","junction box",7.6,"www.solargenerator.com","-","-","-","-","-",{"$f":"IF($O7756=\"Sunpower Corp.\",3,(IF(OR($Q7756=\"mono\",$Q7756=\"poly\",$Q7756=\"HIT\",$Q7756=\"EFG\",$Q7756=\"mono-LGBC\"),1,IF(OR($Q7756=\"µc-Si / a-Si\",$Q7756=\"a-Si (single)\",$Q7756=\"a-Si (tandem)\",$Q7756=\"a-Si (triple)\"),3,2))))","v":1},{"$f":"IF($O7756=\"Sunpower Corp.\",3,(IF(OR($Q7756=\"mono\",$Q7756=\"poly\",$Q7756=\"HIT\",$Q7756=\"EFG\",$Q7756=\"mono-LGBC\"),1,2)))","v":1},{"$f":"IF($O7756=\"Sunpower Corp.\",3,(IF(OR($Q7756=\"mono\",$Q7756=\"poly\",$Q7756=\"HIT\",$Q7756=\"EFG\",$Q7756=\"mono-LGBC\"),1,IF(OR($Q7756=\"µc-Si / a-Si\",$Q7756=\"a-Si (single)\",$Q7756=\"a-Si (tandem)\",$Q7756=\"a-Si (triple)\"),3,2))))","v":1},0,null,null,6455,null,null,7755]
["Just Solar Co., Limited JST-M572165","Just Solar Co., Limited ","JST-M572165",165,"+3...-1",35.799999999999997,4.5999999999999996,44.12,5.19,-148.2432,2.1798000000000002,-0.47,null,null,null,12.92455005645752,"mono",72,"pseudo-square",1580,808,35,"aluminum","junction box",15.9,"www.just-solar.net","-","-","-","-","-",{"$f":"IF($O7787=\"Sunpower Corp.\",3,(IF(OR($Q7787=\"mono\",$Q7787=\"poly\",$Q7787=\"HIT\",$Q7787=\"EFG\",$Q7787=\"mono-LGBC\"),1,IF(OR($Q7787=\"µc-Si / a-Si\",$Q7787=\"a-Si (single)\",$Q7787=\"a-Si (tandem)\",$Q7787=\"a-Si (triple)\"),3,2))))","v":1},{"$f":"IF($O7787=\"Sunpower Corp.\",3,(IF(OR($Q7787=\"mono\",$Q7787=\"poly\",$Q7787=\"HIT\",$Q7787=\"EFG\",$Q7787=\"mono-LGBC\"),1,2)))","v":1},{"$f":"IF($O7787=\"Sunpower Corp.\",3,(IF(OR($Q7787=\"mono\",$Q7787=\"poly\",$Q7787=\"HIT\",$Q7787=\"EFG\",$Q7787=\"mono-LGBC\"),1,IF(OR($Q7787=\"µc-Si / a-Si\",$Q7787=\"a-Si (single)\",$Q7787=\"a-Si (tandem)\",$Q7787=\"a-Si (triple)\"),3,2))))","v":1},0,null,null,31091,null,null,7786]
["Just Solar Co., Limited JST-M672270","Just Solar Co., Limited ","JST-M672270",270,"+3...-1",35.770000000000003,7.55,43.94,8.19,-153.79,2.3750999999999998,-0.43,1000,null,null,13.914999961853027,"mono",72,"pseudo-square",1956,992,40,"aluminum","junction box",26.5,"www.just-solar.net","-","-","-","-","-",{"$f":"IF($O7805=\"Sunpower Corp.\",3,(IF(OR($Q7805=\"mono\",$Q7805=\"poly\",$Q7805=\"HIT\",$Q7805=\"EFG\",$Q7805=\"mono-LGBC\"),1,IF(OR($Q7805=\"µc-Si / a-Si\",$Q7805=\"a-Si (single)\",$Q7805=\"a-Si (tandem)\",$Q7805=\"a-Si (triple)\"),3,2))))","v":1},{"$f":"IF($O7805=\"Sunpower Corp.\",3,(IF(OR($Q7805=\"mono\",$Q7805=\"poly\",$Q7805=\"HIT\",$Q7805=\"EFG\",$Q7805=\"mono-LGBC\"),1,2)))","v":1},{"$f":"IF($O7805=\"Sunpower Corp.\",3,(IF(OR($Q7805=\"mono\",$Q7805=\"poly\",$Q7805=\"HIT\",$Q7805=\"EFG\",$Q7805=\"mono-LGBC\"),1,IF(OR($Q7805=\"µc-Si / a-Si\",$Q7805=\"a-Si (single)\",$Q7805=\"a-Si (tandem)\",$Q7805=\"a-Si (triple)\"),3,2))))","v":1},0,null,null,31100,null,null,7804]
["Just Solar Co., Limited JST-M672290","Just Solar Co., Limited ","JST-M672290",290,"+3...-1",36.25,8,44.5,8.61,-155.75,2.4968999999999997,-0.43,1000,null,null,14.94573974609375,"mono",72,"pseudo-square",1956,992,40,"aluminum","junction box",26.5,"www.just-solar.net","-","-","-","-","-",{"$f":"IF($O7813=\"Sunpower Corp.\",3,(IF(OR($Q7813=\"mono\",$Q7813=\"poly\",$Q7813=\"HIT\",$Q7813=\"EFG\",$Q7813=\"mono-LGBC\"),1,IF(OR($Q7813=\"µc-Si / a-Si\",$Q7813=\"a-Si (single)\",$Q7813=\"a-Si (tandem)\",$Q7813=\"a-Si (triple)\"),3,2))))","v":1},{"$f":"IF($O7813=\"Sunpower Corp.\",3,(IF(OR($Q7813=\"mono\",$Q7813=\"poly\",$Q7813=\"HIT\",$Q7813=\"EFG\",$Q7813=\"mono-LGBC\"),1,2)))","v":1},{"$f":"IF($O7813=\"Sunpower Corp.\",3,(IF(OR($Q7813=\"mono\",$Q7813=\"poly\",$Q7813=\"HIT\",$Q7813=\"EFG\",$Q7813=\"mono-LGBC\"),1,IF(OR($Q7813=\"µc-Si / a-Si\",$Q7813=\"a-Si (single)\",$Q7813=\"a-Si (tandem)\",$Q7813=\"a-Si (triple)\"),3,2))))","v":1},0,null,null,31104,null,null,7812]
["Just Solar Co., Limited JST-P672260","Just Solar Co., Limited ","JST-P672260",260,"+3...-1",36,7.23,43.49,7.79,-150.47539999999998,5.0634999999999994,-0.46,null,null,null,13.399629592895508,"poly",72,"square",1956,992,50,"aluminum","junction box",22.86,"www.just-solar.net","-","-","-","-","-",{"$f":"IF($O7850=\"Sunpower Corp.\",3,(IF(OR($Q7850=\"mono\",$Q7850=\"poly\",$Q7850=\"HIT\",$Q7850=\"EFG\",$Q7850=\"mono-LGBC\"),1,IF(OR($Q7850=\"µc-Si / a-Si\",$Q7850=\"a-Si (single)\",$Q7850=\"a-Si (tandem)\",$Q7850=\"a-Si (triple)\"),3,2))))","v":1},{"$f":"IF($O7850=\"Sunpower Corp.\",3,(IF(OR($Q7850=\"mono\",$Q7850=\"poly\",$Q7850=\"HIT\",$Q7850=\"EFG\",$Q7850=\"mono-LGBC\"),1,2)))","v":1},{"$f":"IF($O7850=\"Sunpower Corp.\",3,(IF(OR($Q7850=\"mono\",$Q7850=\"poly\",$Q7850=\"HIT\",$Q7850=\"EFG\",$Q7850=\"mono-LGBC\"),1,IF(OR($Q7850=\"µc-Si / a-Si\",$Q7850=\"a-Si (single)\",$Q7850=\"a-Si (tandem)\",$Q7850=\"a-Si (triple)\"),3,2))))","v":1},0,null,null,31122,null,null,7849]
["Just Solar Co., Limited JST-P672280","Just Solar Co., Limited ","JST-P672280",280,"+3...-1",36.72,7.63,43.78,7.98,-151.47880000000001,5.1869999999999994,-0.46,null,null,null,14.430370330810547,"poly",72,"square",1956,992,50,"aluminum","junction box",22.86,"www.just-solar.net","-","-","-","-","-",{"$f":"IF($O7858=\"Sunpower Corp.\",3,(IF(OR($Q7858=\"mono\",$Q7858=\"poly\",$Q7858=\"HIT\",$Q7858=\"EFG\",$Q7858=\"mono-LGBC\"),1,IF(OR($Q7858=\"µc-Si / a-Si\",$Q7858=\"a-Si (single)\",$Q7858=\"a-Si (tandem)\",$Q7858=\"a-Si (triple)\"),3,2))))","v":1},{"$f":"IF($O7858=\"Sunpower Corp.\",3,(IF(OR($Q7858=\"mono\",$Q7858=\"poly\",$Q7858=\"HIT\",$Q7858=\"EFG\",$Q7858=\"mono-LGBC\"),1,2)))","v":1},{"$f":"IF($O7858=\"Sunpower Corp.\",3,(IF(OR($Q7858=\"mono\",$Q7858=\"poly\",$Q7858=\"HIT\",$Q7858=\"EFG\",$Q7858=\"mono-LGBC\"),1,IF(OR($Q7858=\"µc-Si / a-Si\",$Q7858=\"a-Si (single)\",$Q7858=\"a-Si (tandem)\",$Q7858=\"a-Si (triple)\"),3,2))))","v":1},0,null,null,31117,null,null,7857]
["KD Solar Co., Ltd. KD-22012A0","KD Solar Co., Ltd. ","KD-22012A0",220,"+3...-3",28.9,7.62,36.5,8.17,-109.5,2.4509999999999996,-0.44,1000,null,null,13.457400321960449,"poly",60,"square",1658,986,46,"aluminum","junction box",19,"www.kdsolar.com","-","-","-","-","-",{"$f":"IF($O7875=\"Sunpower Corp.\",3,(IF(OR($Q7875=\"mono\",$Q7875=\"poly\",$Q7875=\"HIT\",$Q7875=\"EFG\",$Q7875=\"mono-LGBC\"),1,IF(OR($Q7875=\"µc-Si / a-Si\",$Q7875=\"a-Si (single)\",$Q7875=\"a-Si (tandem)\",$Q7875=\"a-Si (triple)\"),3,2))))","v":1},{"$f":"IF($O7875=\"Sunpower Corp.\",3,(IF(OR($Q7875=\"mono\",$Q7875=\"poly\",$Q7875=\"HIT\",$Q7875=\"EFG\",$Q7875=\"mono-LGBC\"),1,2)))","v":1},{"$f":"IF($O7875=\"Sunpower Corp.\",3,(IF(OR($Q7875=\"mono\",$Q7875=\"poly\",$Q7875=\"HIT\",$Q7875=\"EFG\",$Q7875=\"mono-LGBC\"),1,IF(OR($Q7875=\"µc-Si / a-Si\",$Q7875=\"a-Si (single)\",$Q7875=\"a-Si (tandem)\",$Q7875=\"a-Si (triple)\"),3,2))))","v":1},0,null,null,12903,null,null,7874]
["KENMEC Mechanical Engineering Co.,Ltd TKSC-18501","KENMEC Mechanical Engineering Co.,Ltd ","TKSC-18501",185,"+3...0",22.88,7.56,29.38,8.23,-99.89200000000001,4.9379999999999997,-0.4,1000,"Taiwan (Formosa)",null,13.990850448608398,"poly",48,"square",1337,989,39,null,"cable Tyco",15.5,"www.kenmec.com","-","-","-","-","-",{"$f":"IF($O7897=\"Sunpower Corp.\",3,(IF(OR($Q7897=\"mono\",$Q7897=\"poly\",$Q7897=\"HIT\",$Q7897=\"EFG\",$Q7897=\"mono-LGBC\"),1,IF(OR($Q7897=\"µc-Si / a-Si\",$Q7897=\"a-Si (single)\",$Q7897=\"a-Si (tandem)\",$Q7897=\"a-Si (triple)\"),3,2))))","v":1},{"$f":"IF($O7897=\"Sunpower Corp.\",3,(IF(OR($Q7897=\"mono\",$Q7897=\"poly\",$Q7897=\"HIT\",$Q7897=\"EFG\",$Q7897=\"mono-LGBC\"),1,2)))","v":1},{"$f":"IF($O7897=\"Sunpower Corp.\",3,(IF(OR($Q7897=\"mono\",$Q7897=\"poly\",$Q7897=\"HIT\",$Q7897=\"EFG\",$Q7897=\"mono-LGBC\"),1,IF(OR($Q7897=\"µc-Si / a-Si\",$Q7897=\"a-Si (single)\",$Q7897=\"a-Si (tandem)\",$Q7897=\"a-Si (triple)\"),3,2))))","v":1},0,null,null,24020,null,null,7896]
["KF ENERGY s.r.l. KFE-200(190)","KF ENERGY s.r.l. ","KFE-200(190)",190,"+3...-3",25.58,7.44,32.5,7.96,-110.5,4.7759999999999998,-0.4,1000,null,null,12.841790199279785,"poly",54,"square",1496,989,39,null,"cable Tyco",17.8,"www.kfenergy.it","-","-","-","-","-",{"$f":"IF($O7920=\"Sunpower Corp.\",3,(IF(OR($Q7920=\"mono\",$Q7920=\"poly\",$Q7920=\"HIT\",$Q7920=\"EFG\",$Q7920=\"mono-LGBC\"),1,IF(OR($Q7920=\"µc-Si / a-Si\",$Q7920=\"a-Si (single)\",$Q7920=\"a-Si (tandem)\",$Q7920=\"a-Si (triple)\"),3,2))))","v":1},{"$f":"IF($O7920=\"Sunpower Corp.\",3,(IF(OR($Q7920=\"mono\",$Q7920=\"poly\",$Q7920=\"HIT\",$Q7920=\"EFG\",$Q7920=\"mono-LGBC\"),1,2)))","v":1},{"$f":"IF($O7920=\"Sunpower Corp.\",3,(IF(OR($Q7920=\"mono\",$Q7920=\"poly\",$Q7920=\"HIT\",$Q7920=\"EFG\",$Q7920=\"mono-LGBC\"),1,IF(OR($Q7920=\"µc-Si / a-Si\",$Q7920=\"a-Si (single)\",$Q7920=\"a-Si (tandem)\",$Q7920=\"a-Si (triple)\"),3,2))))","v":1},0,null,null,16686,null,null,7919]
["King Sun Power (Jingjiang) Co.,Ltd JTYM-135 (poly)","King Sun Power (Jingjiang) Co.,Ltd ","JTYM-135 (poly)",135,"+3...-3",18.04,7.48,21.89,8.09,-78.804000000000002,2.7506000000000004,-0.45,715,"China",null,13.820639610290527,"poly",36,"square",1480,660,35,"aluminum","junction box",12,"www.kingsun-power.com","-","-","-","-","-",{"$f":"IF($O7942=\"Sunpower Corp.\",3,(IF(OR($Q7942=\"mono\",$Q7942=\"poly\",$Q7942=\"HIT\",$Q7942=\"EFG\",$Q7942=\"mono-LGBC\"),1,IF(OR($Q7942=\"µc-Si / a-Si\",$Q7942=\"a-Si (single)\",$Q7942=\"a-Si (tandem)\",$Q7942=\"a-Si (triple)\"),3,2))))","v":1},{"$f":"IF($O7942=\"Sunpower Corp.\",3,(IF(OR($Q7942=\"mono\",$Q7942=\"poly\",$Q7942=\"HIT\",$Q7942=\"EFG\",$Q7942=\"mono-LGBC\"),1,2)))","v":1},{"$f":"IF($O7942=\"Sunpower Corp.\",3,(IF(OR($Q7942=\"mono\",$Q7942=\"poly\",$Q7942=\"HIT\",$Q7942=\"EFG\",$Q7942=\"mono-LGBC\"),1,IF(OR($Q7942=\"µc-Si / a-Si\",$Q7942=\"a-Si (single)\",$Q7942=\"a-Si (tandem)\",$Q7942=\"a-Si (triple)\"),3,2))))","v":1},0,null,null,22737,null,null,7941]
["King Sun Power (Jingjiang) Co.,Ltd JTYM-185 (mono)","King Sun Power (Jingjiang) Co.,Ltd ","JTYM-185 (mono)",185,"+3...-3",37.51,4.93,45.5,5.33,-163.80000000000001,1.8122,-0.45,715,"China",null,14.49116039276123,"mono",72,"pseudo-square",1580,808,35,"aluminum","junction box",18,"www.kingsun-power.com","-","-","-","-","-",{"$f":"IF($O7949=\"Sunpower Corp.\",3,(IF(OR($Q7949=\"mono\",$Q7949=\"poly\",$Q7949=\"HIT\",$Q7949=\"EFG\",$Q7949=\"mono-LGBC\"),1,IF(OR($Q7949=\"µc-Si / a-Si\",$Q7949=\"a-Si (single)\",$Q7949=\"a-Si (tandem)\",$Q7949=\"a-Si (triple)\"),3,2))))","v":1},{"$f":"IF($O7949=\"Sunpower Corp.\",3,(IF(OR($Q7949=\"mono\",$Q7949=\"poly\",$Q7949=\"HIT\",$Q7949=\"EFG\",$Q7949=\"mono-LGBC\"),1,2)))","v":1},{"$f":"IF($O7949=\"Sunpower Corp.\",3,(IF(OR($Q7949=\"mono\",$Q7949=\"poly\",$Q7949=\"HIT\",$Q7949=\"EFG\",$Q7949=\"mono-LGBC\"),1,IF(OR($Q7949=\"µc-Si / a-Si\",$Q7949=\"a-Si (single)\",$Q7949=\"a-Si (tandem)\",$Q7949=\"a-Si (triple)\"),3,2))))","v":1},0,null,null,22722,null,null,7948]
["King Sun Power (Jingjiang) Co.,Ltd JTYM-260 (poly)","King Sun Power (Jingjiang) Co.,Ltd ","JTYM-260 (poly)",260,"+3...-3",35.909999999999997,7.24,43.56,7.83,-156.816,2.6622000000000003,-0.45,715,"China",null,13.54994010925293,"poly",72,"square",1954,982,45,"aluminum","junction box",18,"www.kingsun-power.com","-","-","-","-","-",{"$f":"IF($O7968=\"Sunpower Corp.\",3,(IF(OR($Q7968=\"mono\",$Q7968=\"poly\",$Q7968=\"HIT\",$Q7968=\"EFG\",$Q7968=\"mono-LGBC\"),1,IF(OR($Q7968=\"µc-Si / a-Si\",$Q7968=\"a-Si (single)\",$Q7968=\"a-Si (tandem)\",$Q7968=\"a-Si (triple)\"),3,2))))","v":1},{"$f":"IF($O7968=\"Sunpower Corp.\",3,(IF(OR($Q7968=\"mono\",$Q7968=\"poly\",$Q7968=\"HIT\",$Q7968=\"EFG\",$Q7968=\"mono-LGBC\"),1,2)))","v":1},{"$f":"IF($O7968=\"Sunpower Corp.\",3,(IF(OR($Q7968=\"mono\",$Q7968=\"poly\",$Q7968=\"HIT\",$Q7968=\"EFG\",$Q7968=\"mono-LGBC\"),1,IF(OR($Q7968=\"µc-Si / a-Si\",$Q7968=\"a-Si (single)\",$Q7968=\"a-Si (tandem)\",$Q7968=\"a-Si (triple)\"),3,2))))","v":1},0,null,null,22750,null,null,7967]
["King-PV Technology Co.,Ltd KPV175M-72","King-PV Technology Co.,Ltd ","KPV175M-72",175,"+3...-3",35.5,4.93,43.3,5.23,-147.22,4.7069999999999999,-0.37,1000,"China",null,13.707859992980957,"mono",72,"pseudo-square",1580,808,45,"aluminum","junction box",15.5,"www.king-pv.com","-","-","-","-","-",{"$f":"IF($O7994=\"Sunpower Corp.\",3,(IF(OR($Q7994=\"mono\",$Q7994=\"poly\",$Q7994=\"HIT\",$Q7994=\"EFG\",$Q7994=\"mono-LGBC\"),1,IF(OR($Q7994=\"µc-Si / a-Si\",$Q7994=\"a-Si (single)\",$Q7994=\"a-Si (tandem)\",$Q7994=\"a-Si (triple)\"),3,2))))","v":1},{"$f":"IF($O7994=\"Sunpower Corp.\",3,(IF(OR($Q7994=\"mono\",$Q7994=\"poly\",$Q7994=\"HIT\",$Q7994=\"EFG\",$Q7994=\"mono-LGBC\"),1,2)))","v":1},{"$f":"IF($O7994=\"Sunpower Corp.\",3,(IF(OR($Q7994=\"mono\",$Q7994=\"poly\",$Q7994=\"HIT\",$Q7994=\"EFG\",$Q7994=\"mono-LGBC\"),1,IF(OR($Q7994=\"µc-Si / a-Si\",$Q7994=\"a-Si (single)\",$Q7994=\"a-Si (tandem)\",$Q7994=\"a-Si (triple)\"),3,2))))","v":1},0,null,null,34994,null,null,7993]
["King-PV Technology Co.,Ltd KPV230P-60","King-PV Technology Co.,Ltd ","KPV230P-60",230,"+3...-3",29.5,7.8,36.6,8.42,-124.44,7.5779999999999994,-0.37,1000,"China",null,14.051810264587402,"poly",60,"square",1650,992,50,"aluminum","junction box",19.5,"www.king-pv.com","-","-","-","-","-",{"$f":"IF($O8013=\"Sunpower Corp.\",3,(IF(OR($Q8013=\"mono\",$Q8013=\"poly\",$Q8013=\"HIT\",$Q8013=\"EFG\",$Q8013=\"mono-LGBC\"),1,IF(OR($Q8013=\"µc-Si / a-Si\",$Q8013=\"a-Si (single)\",$Q8013=\"a-Si (tandem)\",$Q8013=\"a-Si (triple)\"),3,2))))","v":1},{"$f":"IF($O8013=\"Sunpower Corp.\",3,(IF(OR($Q8013=\"mono\",$Q8013=\"poly\",$Q8013=\"HIT\",$Q8013=\"EFG\",$Q8013=\"mono-LGBC\"),1,2)))","v":1},{"$f":"IF($O8013=\"Sunpower Corp.\",3,(IF(OR($Q8013=\"mono\",$Q8013=\"poly\",$Q8013=\"HIT\",$Q8013=\"EFG\",$Q8013=\"mono-LGBC\"),1,IF(OR($Q8013=\"µc-Si / a-Si\",$Q8013=\"a-Si (single)\",$Q8013=\"a-Si (tandem)\",$Q8013=\"a-Si (triple)\"),3,2))))","v":1},0,null,null,35019,null,null,8012]
["Kinmac Solar Corportion KSG-5M66-85-A","Kinmac Solar Corportion ","KSG-5M66-85-A",85,"+...",null,null,22.38,4.9800000000000004,-76.092000000000013,1.9920000000000002,-0.45,1000,"Taiwan (Formosa)","E-Ton",10.61439037322998,"mono",36,"pseudo-square",910,880,null,"frameless","junction box",26.9,"www.kinmacsolar.com","-","-","-","-","-",{"$f":"IF($O8039=\"Sunpower Corp.\",3,(IF(OR($Q8039=\"mono\",$Q8039=\"poly\",$Q8039=\"HIT\",$Q8039=\"EFG\",$Q8039=\"mono-LGBC\"),1,IF(OR($Q8039=\"µc-Si / a-Si\",$Q8039=\"a-Si (single)\",$Q8039=\"a-Si (tandem)\",$Q8039=\"a-Si (triple)\"),3,2))))","v":1},{"$f":"IF($O8039=\"Sunpower Corp.\",3,(IF(OR($Q8039=\"mono\",$Q8039=\"poly\",$Q8039=\"HIT\",$Q8039=\"EFG\",$Q8039=\"mono-LGBC\"),1,2)))","v":1},{"$f":"IF($O8039=\"Sunpower Corp.\",3,(IF(OR($Q8039=\"mono\",$Q8039=\"poly\",$Q8039=\"HIT\",$Q8039=\"EFG\",$Q8039=\"mono-LGBC\"),1,IF(OR($Q8039=\"µc-Si / a-Si\",$Q8039=\"a-Si (single)\",$Q8039=\"a-Si (tandem)\",$Q8039=\"a-Si (triple)\"),3,2))))","v":1},0,null,null,27222,null,null,8038]
["Kinmac Solar Corportion KSG-5M6C-150-A","Kinmac Solar Corportion ","KSG-5M6C-150-A",150,"+...",null,null,43.36,4.74,-147.42400000000001,1.8960000000000001,-0.45,1000,"Taiwan (Formosa)","E-Ton",9.9101476669311523,"mono",72,"pseudo-square",1720,880,null,"frameless","junction box",52.4,"www.kinmacsolar.com","-","-","-","-","-",{"$f":"IF($O8052=\"Sunpower Corp.\",3,(IF(OR($Q8052=\"mono\",$Q8052=\"poly\",$Q8052=\"HIT\",$Q8052=\"EFG\",$Q8052=\"mono-LGBC\"),1,IF(OR($Q8052=\"µc-Si / a-Si\",$Q8052=\"a-Si (single)\",$Q8052=\"a-Si (tandem)\",$Q8052=\"a-Si (triple)\"),3,2))))","v":1},{"$f":"IF($O8052=\"Sunpower Corp.\",3,(IF(OR($Q8052=\"mono\",$Q8052=\"poly\",$Q8052=\"HIT\",$Q8052=\"EFG\",$Q8052=\"mono-LGBC\"),1,2)))","v":1},{"$f":"IF($O8052=\"Sunpower Corp.\",3,(IF(OR($Q8052=\"mono\",$Q8052=\"poly\",$Q8052=\"HIT\",$Q8052=\"EFG\",$Q8052=\"mono-LGBC\"),1,IF(OR($Q8052=\"µc-Si / a-Si\",$Q8052=\"a-Si (single)\",$Q8052=\"a-Si (tandem)\",$Q8052=\"a-Si (triple)\"),3,2))))","v":1},0,null,null,27235,null,null,8051]
["Kinmac Solar Corportion KSG-6P69-175-A","Kinmac Solar Corportion ","KSG-6P69-175-A",175,"+...",null,null,32.24,7.44,-109.61600000000001,2.9760000000000004,-0.45,1000,"Taiwan (Formosa)","Mosel",10.29893970489502,"poly",54,"square",1594,1066,null,"frameless","junction box",57.2,"www.kinmacsolar.com","-","-","-","-","-",{"$f":"IF($O8084=\"Sunpower Corp.\",3,(IF(OR($Q8084=\"mono\",$Q8084=\"poly\",$Q8084=\"HIT\",$Q8084=\"EFG\",$Q8084=\"mono-LGBC\"),1,IF(OR($Q8084=\"µc-Si / a-Si\",$Q8084=\"a-Si (single)\",$Q8084=\"a-Si (tandem)\",$Q8084=\"a-Si (triple)\"),3,2))))","v":1},{"$f":"IF($O8084=\"Sunpower Corp.\",3,(IF(OR($Q8084=\"mono\",$Q8084=\"poly\",$Q8084=\"HIT\",$Q8084=\"EFG\",$Q8084=\"mono-LGBC\"),1,2)))","v":1},{"$f":"IF($O8084=\"Sunpower Corp.\",3,(IF(OR($Q8084=\"mono\",$Q8084=\"poly\",$Q8084=\"HIT\",$Q8084=\"EFG\",$Q8084=\"mono-LGBC\"),1,IF(OR($Q8084=\"µc-Si / a-Si\",$Q8084=\"a-Si (single)\",$Q8084=\"a-Si (tandem)\",$Q8084=\"a-Si (triple)\"),3,2))))","v":1},0,null,null,27267,null,null,8083]
["Kinmac Solar Corportion KSG-6P6A-225A","Kinmac Solar Corportion ","KSG-6P6A-225A",225,"+...",null,null,38.24,7.81,-130.01600000000002,3.1240000000000001,-0.45,1000,"Taiwan (Formosa)","Mosel",11.992580413818359,"poly",60,"square",1760,1066,null,"frameless","junction box",65,"www.kinmacsolar.com","-","-","-","-","-",{"$f":"IF($O8097=\"Sunpower Corp.\",3,(IF(OR($Q8097=\"mono\",$Q8097=\"poly\",$Q8097=\"HIT\",$Q8097=\"EFG\",$Q8097=\"mono-LGBC\"),1,IF(OR($Q8097=\"µc-Si / a-Si\",$Q8097=\"a-Si (single)\",$Q8097=\"a-Si (tandem)\",$Q8097=\"a-Si (triple)\"),3,2))))","v":1},{"$f":"IF($O8097=\"Sunpower Corp.\",3,(IF(OR($Q8097=\"mono\",$Q8097=\"poly\",$Q8097=\"HIT\",$Q8097=\"EFG\",$Q8097=\"mono-LGBC\"),1,2)))","v":1},{"$f":"IF($O8097=\"Sunpower Corp.\",3,(IF(OR($Q8097=\"mono\",$Q8097=\"poly\",$Q8097=\"HIT\",$Q8097=\"EFG\",$Q8097=\"mono-LGBC\"),1,IF(OR($Q8097=\"µc-Si / a-Si\",$Q8097=\"a-Si (single)\",$Q8097=\"a-Si (tandem)\",$Q8097=\"a-Si (triple)\"),3,2))))","v":1},0,null,null,27280,null,null,8096]
["Kinmac Solar Corportion KSS-175-3S (175)","Kinmac Solar Corportion ","KSS-175-3S (175)",175,"+3...0",23.2,7.6,29.1,8.1,-90.21,3.24,-0.4,1000,"Taiwan (Formosa)","diverse",13.234589576721191,"poly",48,"square",1337,989,39,"aluminum","junction box",15.5,"www.kinmacsolar.com","-","-","-","-","-",{"$f":"IF($O8109=\"Sunpower Corp.\",3,(IF(OR($Q8109=\"mono\",$Q8109=\"poly\",$Q8109=\"HIT\",$Q8109=\"EFG\",$Q8109=\"mono-LGBC\"),1,IF(OR($Q8109=\"µc-Si / a-Si\",$Q8109=\"a-Si (single)\",$Q8109=\"a-Si (tandem)\",$Q8109=\"a-Si (triple)\"),3,2))))","v":1},{"$f":"IF($O8109=\"Sunpower Corp.\",3,(IF(OR($Q8109=\"mono\",$Q8109=\"poly\",$Q8109=\"HIT\",$Q8109=\"EFG\",$Q8109=\"mono-LGBC\"),1,2)))","v":1},{"$f":"IF($O8109=\"Sunpower Corp.\",3,(IF(OR($Q8109=\"mono\",$Q8109=\"poly\",$Q8109=\"HIT\",$Q8109=\"EFG\",$Q8109=\"mono-LGBC\"),1,IF(OR($Q8109=\"µc-Si / a-Si\",$Q8109=\"a-Si (single)\",$Q8109=\"a-Si (tandem)\",$Q8109=\"a-Si (triple)\"),3,2))))","v":1},0,null,null,24541,null,null,8108]
["Kinmac Solar Corportion KSS-6M44-60-A","Kinmac Solar Corportion ","KSS-6M44-60-A",60,"+...",null,null,9.9499999999999993,8.01,-30.844999999999999,3.2040000000000002,-0.45,1000,"Taiwan (Formosa)","Mosel",12.391799926757813,"mono",16,"pseudo-square",711,681,null,"aluminum","junction box",6.2,"www.kinmacsolar.com","-","-","-","-","-",{"$f":"IF($O8142=\"Sunpower Corp.\",3,(IF(OR($Q8142=\"mono\",$Q8142=\"poly\",$Q8142=\"HIT\",$Q8142=\"EFG\",$Q8142=\"mono-LGBC\"),1,IF(OR($Q8142=\"µc-Si / a-Si\",$Q8142=\"a-Si (single)\",$Q8142=\"a-Si (tandem)\",$Q8142=\"a-Si (triple)\"),3,2))))","v":1},{"$f":"IF($O8142=\"Sunpower Corp.\",3,(IF(OR($Q8142=\"mono\",$Q8142=\"poly\",$Q8142=\"HIT\",$Q8142=\"EFG\",$Q8142=\"mono-LGBC\"),1,2)))","v":1},{"$f":"IF($O8142=\"Sunpower Corp.\",3,(IF(OR($Q8142=\"mono\",$Q8142=\"poly\",$Q8142=\"HIT\",$Q8142=\"EFG\",$Q8142=\"mono-LGBC\"),1,IF(OR($Q8142=\"µc-Si / a-Si\",$Q8142=\"a-Si (single)\",$Q8142=\"a-Si (tandem)\",$Q8142=\"a-Si (triple)\"),3,2))))","v":1},0,null,null,27305,null,null,8141]
["Kinmac Solar Corportion KSS-6M68-190-A","Kinmac Solar Corportion ","KSS-6M68-190-A",190,"+...",null,null,30.1,8.08,-93.31,3.2320000000000002,-0.45,1000,"Taiwan (Formosa)","Mosel",14.119540214538574,"mono",48,"pseudo-square",1347,999,null,"aluminum","junction box",16.399999999999999,"www.kinmacsolar.com","-","-","-","-","-",{"$f":"IF($O8158=\"Sunpower Corp.\",3,(IF(OR($Q8158=\"mono\",$Q8158=\"poly\",$Q8158=\"HIT\",$Q8158=\"EFG\",$Q8158=\"mono-LGBC\"),1,IF(OR($Q8158=\"µc-Si / a-Si\",$Q8158=\"a-Si (single)\",$Q8158=\"a-Si (tandem)\",$Q8158=\"a-Si (triple)\"),3,2))))","v":1},{"$f":"IF($O8158=\"Sunpower Corp.\",3,(IF(OR($Q8158=\"mono\",$Q8158=\"poly\",$Q8158=\"HIT\",$Q8158=\"EFG\",$Q8158=\"mono-LGBC\"),1,2)))","v":1},{"$f":"IF($O8158=\"Sunpower Corp.\",3,(IF(OR($Q8158=\"mono\",$Q8158=\"poly\",$Q8158=\"HIT\",$Q8158=\"EFG\",$Q8158=\"mono-LGBC\"),1,IF(OR($Q8158=\"µc-Si / a-Si\",$Q8158=\"a-Si (single)\",$Q8158=\"a-Si (tandem)\",$Q8158=\"a-Si (triple)\"),3,2))))","v":1},0,null,null,27323,null,null,8157]
["Kinmac Solar Corportion KSS-6M6A-225-A","Kinmac Solar Corportion ","KSS-6M6A-225-A",225,"+...",null,null,37.020000000000003,7.94,-114.762,3.1760000000000006,-0.45,1000,"Taiwan (Formosa)","Mosel",13.527039527893066,"mono",60,"pseudo-square",1665,999,null,"aluminum","junction box",19.899999999999999,"www.kinmacsolar.com","-","-","-","-","-",{"$f":"IF($O8168=\"Sunpower Corp.\",3,(IF(OR($Q8168=\"mono\",$Q8168=\"poly\",$Q8168=\"HIT\",$Q8168=\"EFG\",$Q8168=\"mono-LGBC\"),1,IF(OR($Q8168=\"µc-Si / a-Si\",$Q8168=\"a-Si (single)\",$Q8168=\"a-Si (tandem)\",$Q8168=\"a-Si (triple)\"),3,2))))","v":1},{"$f":"IF($O8168=\"Sunpower Corp.\",3,(IF(OR($Q8168=\"mono\",$Q8168=\"poly\",$Q8168=\"HIT\",$Q8168=\"EFG\",$Q8168=\"mono-LGBC\"),1,2)))","v":1},{"$f":"IF($O8168=\"Sunpower Corp.\",3,(IF(OR($Q8168=\"mono\",$Q8168=\"poly\",$Q8168=\"HIT\",$Q8168=\"EFG\",$Q8168=\"mono-LGBC\"),1,IF(OR($Q8168=\"µc-Si / a-Si\",$Q8168=\"a-Si (single)\",$Q8168=\"a-Si (tandem)\",$Q8168=\"a-Si (triple)\"),3,2))))","v":1},0,null,null,27333,null,null,8167]
["Kinmac Solar Corportion KSS-6P66-140-A","Kinmac Solar Corportion ","KSS-6P66-140-A",140,"+...",null,null,22.2,8.36,-75.48,5.8520000000000003,-0.45,1000,"Taiwan (Formosa)","Mosel",13.619059562683105,"poly",36,"square",1029,999,null,"aluminum","junction box",13.1,"www.kinmacsolar.com","-","-","-","-","-",{"$f":"IF($O8183=\"Sunpower Corp.\",3,(IF(OR($Q8183=\"mono\",$Q8183=\"poly\",$Q8183=\"HIT\",$Q8183=\"EFG\",$Q8183=\"mono-LGBC\"),1,IF(OR($Q8183=\"µc-Si / a-Si\",$Q8183=\"a-Si (single)\",$Q8183=\"a-Si (tandem)\",$Q8183=\"a-Si (triple)\"),3,2))))","v":1},{"$f":"IF($O8183=\"Sunpower Corp.\",3,(IF(OR($Q8183=\"mono\",$Q8183=\"poly\",$Q8183=\"HIT\",$Q8183=\"EFG\",$Q8183=\"mono-LGBC\"),1,2)))","v":1},{"$f":"IF($O8183=\"Sunpower Corp.\",3,(IF(OR($Q8183=\"mono\",$Q8183=\"poly\",$Q8183=\"HIT\",$Q8183=\"EFG\",$Q8183=\"mono-LGBC\"),1,IF(OR($Q8183=\"µc-Si / a-Si\",$Q8183=\"a-Si (single)\",$Q8183=\"a-Si (tandem)\",$Q8183=\"a-Si (triple)\"),3,2))))","v":1},0,null,null,27347,null,null,8182]
["Kinmac Solar Corportion KSS-6P68-190-A","Kinmac Solar Corportion ","KSS-6P68-190-A",190,"+...",null,null,29.73,8.43,-92.162999999999997,3.3719999999999999,-0.45,1000,"Taiwan (Formosa)","Mosel",14.119540214538574,"poly",48,"square",1347,999,null,"aluminum","junction box",16.399999999999999,"www.kinmacsolar.com","-","-","-","-","-",{"$f":"IF($O8207=\"Sunpower Corp.\",3,(IF(OR($Q8207=\"mono\",$Q8207=\"poly\",$Q8207=\"HIT\",$Q8207=\"EFG\",$Q8207=\"mono-LGBC\"),1,IF(OR($Q8207=\"µc-Si / a-Si\",$Q8207=\"a-Si (single)\",$Q8207=\"a-Si (tandem)\",$Q8207=\"a-Si (triple)\"),3,2))))","v":1},{"$f":"IF($O8207=\"Sunpower Corp.\",3,(IF(OR($Q8207=\"mono\",$Q8207=\"poly\",$Q8207=\"HIT\",$Q8207=\"EFG\",$Q8207=\"mono-LGBC\"),1,2)))","v":1},{"$f":"IF($O8207=\"Sunpower Corp.\",3,(IF(OR($Q8207=\"mono\",$Q8207=\"poly\",$Q8207=\"HIT\",$Q8207=\"EFG\",$Q8207=\"mono-LGBC\"),1,IF(OR($Q8207=\"µc-Si / a-Si\",$Q8207=\"a-Si (single)\",$Q8207=\"a-Si (tandem)\",$Q8207=\"a-Si (triple)\"),3,2))))","v":1},0,null,null,27367,null,null,8206]
["Kinmac Solar Corportion KSS-6P6A-230-A","Kinmac Solar Corportion ","KSS-6P6A-230-A",230,"+...",null,null,36.86,8.3000000000000007,-114.26599999999999,3.32,-0.45,1000,"Taiwan (Formosa)","Mosel",13.827639579772949,"poly",60,"square",1665,999,null,"aluminum","junction box",19.899999999999999,"www.kinmacsolar.com","-","-","-","-","-",{"$f":"IF($O8228=\"Sunpower Corp.\",3,(IF(OR($Q8228=\"mono\",$Q8228=\"poly\",$Q8228=\"HIT\",$Q8228=\"EFG\",$Q8228=\"mono-LGBC\"),1,IF(OR($Q8228=\"µc-Si / a-Si\",$Q8228=\"a-Si (single)\",$Q8228=\"a-Si (tandem)\",$Q8228=\"a-Si (triple)\"),3,2))))","v":1},{"$f":"IF($O8228=\"Sunpower Corp.\",3,(IF(OR($Q8228=\"mono\",$Q8228=\"poly\",$Q8228=\"HIT\",$Q8228=\"EFG\",$Q8228=\"mono-LGBC\"),1,2)))","v":1},{"$f":"IF($O8228=\"Sunpower Corp.\",3,(IF(OR($Q8228=\"mono\",$Q8228=\"poly\",$Q8228=\"HIT\",$Q8228=\"EFG\",$Q8228=\"mono-LGBC\"),1,IF(OR($Q8228=\"µc-Si / a-Si\",$Q8228=\"a-Si (single)\",$Q8228=\"a-Si (tandem)\",$Q8228=\"a-Si (triple)\"),3,2))))","v":1},0,null,null,27382,null,null,8227]
["Kinve Solar Power Co., Ltd. (Maanshan) KV125-72M(4)","Kinve Solar Power Co., Ltd. (Maanshan) ","KV125-72M(4)",125,"+3...-3",35.1,3.57,44.3,3.94,-155.05000000000001,1.97,-0.44,1000,"China",null,12.891909599304199,"mono",72,"rectangular",1200,808,35,null,"junction box",null,"www.kinve.com","-","-","-","-","-",{"$f":"IF($O8252=\"Sunpower Corp.\",3,(IF(OR($Q8252=\"mono\",$Q8252=\"poly\",$Q8252=\"HIT\",$Q8252=\"EFG\",$Q8252=\"mono-LGBC\"),1,IF(OR($Q8252=\"µc-Si / a-Si\",$Q8252=\"a-Si (single)\",$Q8252=\"a-Si (tandem)\",$Q8252=\"a-Si (triple)\"),3,2))))","v":1},{"$f":"IF($O8252=\"Sunpower Corp.\",3,(IF(OR($Q8252=\"mono\",$Q8252=\"poly\",$Q8252=\"HIT\",$Q8252=\"EFG\",$Q8252=\"mono-LGBC\"),1,2)))","v":1},{"$f":"IF($O8252=\"Sunpower Corp.\",3,(IF(OR($Q8252=\"mono\",$Q8252=\"poly\",$Q8252=\"HIT\",$Q8252=\"EFG\",$Q8252=\"mono-LGBC\"),1,IF(OR($Q8252=\"µc-Si / a-Si\",$Q8252=\"a-Si (single)\",$Q8252=\"a-Si (tandem)\",$Q8252=\"a-Si (triple)\"),3,2))))","v":1},0,null,null,23396,null,null,8251]
["Kinve Solar Power Co., Ltd. (Maanshan) KV190-54P","Kinve Solar Power Co., Ltd. (Maanshan) ","KV190-54P",190,"+3...-3",25.8,7.36,32.5,8.1199999999999992,-113.75,4.871999999999999,-0.45,1000,"China",null,12.967510223388672,"poly",54,"square",1480,990,35,null,"junction box",null,"www.kinve.com","-","-","-","-","-",{"$f":"IF($O8273=\"Sunpower Corp.\",3,(IF(OR($Q8273=\"mono\",$Q8273=\"poly\",$Q8273=\"HIT\",$Q8273=\"EFG\",$Q8273=\"mono-LGBC\"),1,IF(OR($Q8273=\"µc-Si / a-Si\",$Q8273=\"a-Si (single)\",$Q8273=\"a-Si (tandem)\",$Q8273=\"a-Si (triple)\"),3,2))))","v":1},{"$f":"IF($O8273=\"Sunpower Corp.\",3,(IF(OR($Q8273=\"mono\",$Q8273=\"poly\",$Q8273=\"HIT\",$Q8273=\"EFG\",$Q8273=\"mono-LGBC\"),1,2)))","v":1},{"$f":"IF($O8273=\"Sunpower Corp.\",3,(IF(OR($Q8273=\"mono\",$Q8273=\"poly\",$Q8273=\"HIT\",$Q8273=\"EFG\",$Q8273=\"mono-LGBC\"),1,IF(OR($Q8273=\"µc-Si / a-Si\",$Q8273=\"a-Si (single)\",$Q8273=\"a-Si (tandem)\",$Q8273=\"a-Si (triple)\"),3,2))))","v":1},0,null,null,23373,null,null,8272]
["Kinve Solar Power Co., Ltd. (Maanshan) KV240-60P","Kinve Solar Power Co., Ltd. (Maanshan) ","KV240-60P",240,"+3...-3",29.8,8.06,36.9,8.7799999999999994,-129.15,5.2679999999999989,-0.45,1000,"China",null,14.781970024108887,"poly",60,"square",1640,990,50,null,"junction box",null,"www.kinve.com","-","-","-","-","-",{"$f":"IF($O8297=\"Sunpower Corp.\",3,(IF(OR($Q8297=\"mono\",$Q8297=\"poly\",$Q8297=\"HIT\",$Q8297=\"EFG\",$Q8297=\"mono-LGBC\"),1,IF(OR($Q8297=\"µc-Si / a-Si\",$Q8297=\"a-Si (single)\",$Q8297=\"a-Si (tandem)\",$Q8297=\"a-Si (triple)\"),3,2))))","v":1},{"$f":"IF($O8297=\"Sunpower Corp.\",3,(IF(OR($Q8297=\"mono\",$Q8297=\"poly\",$Q8297=\"HIT\",$Q8297=\"EFG\",$Q8297=\"mono-LGBC\"),1,2)))","v":1},{"$f":"IF($O8297=\"Sunpower Corp.\",3,(IF(OR($Q8297=\"mono\",$Q8297=\"poly\",$Q8297=\"HIT\",$Q8297=\"EFG\",$Q8297=\"mono-LGBC\"),1,IF(OR($Q8297=\"µc-Si / a-Si\",$Q8297=\"a-Si (single)\",$Q8297=\"a-Si (tandem)\",$Q8297=\"a-Si (triple)\"),3,2))))","v":1},0,null,null,31527,null,null,8296]
["Kinve Solar Power Co., Ltd. (Maanshan) KV255-72M","Kinve Solar Power Co., Ltd. (Maanshan) ","KV255-72M",255,"+3...-3",34.700000000000003,7.35,43.5,8.16,-152.25,4.08,-0.44,1000,"China",null,13.168499946594238,"mono",72,"pseudo-square",1956,990,50,null,"junction box",null,"www.kinve.com","-","-","-","-","-",{"$f":"IF($O8302=\"Sunpower Corp.\",3,(IF(OR($Q8302=\"mono\",$Q8302=\"poly\",$Q8302=\"HIT\",$Q8302=\"EFG\",$Q8302=\"mono-LGBC\"),1,IF(OR($Q8302=\"µc-Si / a-Si\",$Q8302=\"a-Si (single)\",$Q8302=\"a-Si (tandem)\",$Q8302=\"a-Si (triple)\"),3,2))))","v":1},{"$f":"IF($O8302=\"Sunpower Corp.\",3,(IF(OR($Q8302=\"mono\",$Q8302=\"poly\",$Q8302=\"HIT\",$Q8302=\"EFG\",$Q8302=\"mono-LGBC\"),1,2)))","v":1},{"$f":"IF($O8302=\"Sunpower Corp.\",3,(IF(OR($Q8302=\"mono\",$Q8302=\"poly\",$Q8302=\"HIT\",$Q8302=\"EFG\",$Q8302=\"mono-LGBC\"),1,IF(OR($Q8302=\"µc-Si / a-Si\",$Q8302=\"a-Si (single)\",$Q8302=\"a-Si (tandem)\",$Q8302=\"a-Si (triple)\"),3,2))))","v":1},0,null,null,23337,null,null,8301]
["KIOTO Photovoltaics GmbH KPV PE NEC 135Wp","KIOTO Photovoltaics GmbH ","KPV PE NEC 135Wp",135,"+3...-1,5",16.920000000000002,8.01,22.01,8.5299999999999994,-68.230999999999995,4.2649999999999997,-0.40500000000000003,700,"Austria",null,13.29109001159668,"poly",36,"square",1507,674,33,"aluminum","junction box",12.2,"www.kioto-pv.com","-","-","-","-","-",{"$f":"IF($O8323=\"Sunpower Corp.\",3,(IF(OR($Q8323=\"mono\",$Q8323=\"poly\",$Q8323=\"HIT\",$Q8323=\"EFG\",$Q8323=\"mono-LGBC\"),1,IF(OR($Q8323=\"µc-Si / a-Si\",$Q8323=\"a-Si (single)\",$Q8323=\"a-Si (tandem)\",$Q8323=\"a-Si (triple)\"),3,2))))","v":1},{"$f":"IF($O8323=\"Sunpower Corp.\",3,(IF(OR($Q8323=\"mono\",$Q8323=\"poly\",$Q8323=\"HIT\",$Q8323=\"EFG\",$Q8323=\"mono-LGBC\"),1,2)))","v":1},{"$f":"IF($O8323=\"Sunpower Corp.\",3,(IF(OR($Q8323=\"mono\",$Q8323=\"poly\",$Q8323=\"HIT\",$Q8323=\"EFG\",$Q8323=\"mono-LGBC\"),1,IF(OR($Q8323=\"µc-Si / a-Si\",$Q8323=\"a-Si (single)\",$Q8323=\"a-Si (tandem)\",$Q8323=\"a-Si (triple)\"),3,2))))","v":1},0,null,null,14006,null,null,8322]
["KISCO Energy Division (GETWATT) GETWATT 260M-A1","KISCO Energy Division (GETWATT) ","GETWATT 260M-A1",260,"+3...-3",31,8.39,37.6,8.65,-124.08,3.3735000000000004,-0.43,1000,null,null,15.916740417480469,"mono",60,"pseudo-square",1650,990,42,"aluminum","junction box MC4",21,"www.getwatt.co.kr","-","-","-","-","-",{"$f":"IF($O8343=\"Sunpower Corp.\",3,(IF(OR($Q8343=\"mono\",$Q8343=\"poly\",$Q8343=\"HIT\",$Q8343=\"EFG\",$Q8343=\"mono-LGBC\"),1,IF(OR($Q8343=\"µc-Si / a-Si\",$Q8343=\"a-Si (single)\",$Q8343=\"a-Si (tandem)\",$Q8343=\"a-Si (triple)\"),3,2))))","v":1},{"$f":"IF($O8343=\"Sunpower Corp.\",3,(IF(OR($Q8343=\"mono\",$Q8343=\"poly\",$Q8343=\"HIT\",$Q8343=\"EFG\",$Q8343=\"mono-LGBC\"),1,2)))","v":1},{"$f":"IF($O8343=\"Sunpower Corp.\",3,(IF(OR($Q8343=\"mono\",$Q8343=\"poly\",$Q8343=\"HIT\",$Q8343=\"EFG\",$Q8343=\"mono-LGBC\"),1,IF(OR($Q8343=\"µc-Si / a-Si\",$Q8343=\"a-Si (single)\",$Q8343=\"a-Si (tandem)\",$Q8343=\"a-Si (triple)\"),3,2))))","v":1},0,null,null,27987,null,null,8342]
["Kyocera Corporation KD50SE-1P","Kyocera Corporation ","KD50SE-1P",50,"+10...-5",17.899999999999999,2.8,22.1,3.07,-79.56,1.8419999999999996,-0.46,750,"various","Kyocera",9.5190229415893555,"poly",36,"rectangular",744,706,36,"aluminum","others",7,"www.kyocerasolar.de","-","-","-","-","-",{"$f":"IF($O8368=\"Sunpower Corp.\",3,(IF(OR($Q8368=\"mono\",$Q8368=\"poly\",$Q8368=\"HIT\",$Q8368=\"EFG\",$Q8368=\"mono-LGBC\"),1,IF(OR($Q8368=\"µc-Si / a-Si\",$Q8368=\"a-Si (single)\",$Q8368=\"a-Si (tandem)\",$Q8368=\"a-Si (triple)\"),3,2))))","v":1},{"$f":"IF($O8368=\"Sunpower Corp.\",3,(IF(OR($Q8368=\"mono\",$Q8368=\"poly\",$Q8368=\"HIT\",$Q8368=\"EFG\",$Q8368=\"mono-LGBC\"),1,2)))","v":1},{"$f":"IF($O8368=\"Sunpower Corp.\",3,(IF(OR($Q8368=\"mono\",$Q8368=\"poly\",$Q8368=\"HIT\",$Q8368=\"EFG\",$Q8368=\"mono-LGBC\"),1,IF(OR($Q8368=\"µc-Si / a-Si\",$Q8368=\"a-Si (single)\",$Q8368=\"a-Si (tandem)\",$Q8368=\"a-Si (triple)\"),3,2))))","v":1},0,null,null,7092,null,null,8367]
["LC Solar LCP-080","LC Solar ","LCP-080",80,"+3,5...-3,5",17.2,4.6500000000000004,21.6,5,-82.08,5,-0.47,1000,"China",null,12.526149749755859,"poly",36,"square",1196,534,35,"aluminum",null,7.7,"www.lc-solar.com","-","-","-","-","-",{"$f":"IF($O8388=\"Sunpower Corp.\",3,(IF(OR($Q8388=\"mono\",$Q8388=\"poly\",$Q8388=\"HIT\",$Q8388=\"EFG\",$Q8388=\"mono-LGBC\"),1,IF(OR($Q8388=\"µc-Si / a-Si\",$Q8388=\"a-Si (single)\",$Q8388=\"a-Si (tandem)\",$Q8388=\"a-Si (triple)\"),3,2))))","v":1},{"$f":"IF($O8388=\"Sunpower Corp.\",3,(IF(OR($Q8388=\"mono\",$Q8388=\"poly\",$Q8388=\"HIT\",$Q8388=\"EFG\",$Q8388=\"mono-LGBC\"),1,2)))","v":1},{"$f":"IF($O8388=\"Sunpower Corp.\",3,(IF(OR($Q8388=\"mono\",$Q8388=\"poly\",$Q8388=\"HIT\",$Q8388=\"EFG\",$Q8388=\"mono-LGBC\"),1,IF(OR($Q8388=\"µc-Si / a-Si\",$Q8388=\"a-Si (single)\",$Q8388=\"a-Si (tandem)\",$Q8388=\"a-Si (triple)\"),3,2))))","v":1},0,null,null,1965,null,null,8387]
["LDK SOLAR EUROPE HOLDING S.A LDK-175P-24 (S)","LDK SOLAR EUROPE HOLDING S.A ","LDK-175P-24 (S)",175,"+3...-3",36.1,4.87,44.3,5.21,-150.62,3.1259999999999999,-0.47,1000,null,null,13.707859992980957,"poly",72,"square",1580,808,40,"aluminum","junction box MC4",15.6,"www.ldksolar.com","-","-","-","-","-",{"$f":"IF($O8397=\"Sunpower Corp.\",3,(IF(OR($Q8397=\"mono\",$Q8397=\"poly\",$Q8397=\"HIT\",$Q8397=\"EFG\",$Q8397=\"mono-LGBC\"),1,IF(OR($Q8397=\"µc-Si / a-Si\",$Q8397=\"a-Si (single)\",$Q8397=\"a-Si (tandem)\",$Q8397=\"a-Si (triple)\"),3,2))))","v":1},{"$f":"IF($O8397=\"Sunpower Corp.\",3,(IF(OR($Q8397=\"mono\",$Q8397=\"poly\",$Q8397=\"HIT\",$Q8397=\"EFG\",$Q8397=\"mono-LGBC\"),1,2)))","v":1},{"$f":"IF($O8397=\"Sunpower Corp.\",3,(IF(OR($Q8397=\"mono\",$Q8397=\"poly\",$Q8397=\"HIT\",$Q8397=\"EFG\",$Q8397=\"mono-LGBC\"),1,IF(OR($Q8397=\"µc-Si / a-Si\",$Q8397=\"a-Si (single)\",$Q8397=\"a-Si (tandem)\",$Q8397=\"a-Si (triple)\"),3,2))))","v":1},0,null,null,26579,null,null,8396]
["LDK SOLAR EUROPE HOLDING S.A LDK-240P-20 (S)","LDK SOLAR EUROPE HOLDING S.A ","LDK-240P-20 (S)",240,"+3...-3",30,7.98,36.9,8.35,-125.46,5.01,-0.47,1000,null,null,15.101460456848145,"poly",60,"square",1630,975,40,"aluminum","junction box MC4",20,"www.ldksolar.com","-","-","-","-","-",{"$f":"IF($O8433=\"Sunpower Corp.\",3,(IF(OR($Q8433=\"mono\",$Q8433=\"poly\",$Q8433=\"HIT\",$Q8433=\"EFG\",$Q8433=\"mono-LGBC\"),1,IF(OR($Q8433=\"µc-Si / a-Si\",$Q8433=\"a-Si (single)\",$Q8433=\"a-Si (tandem)\",$Q8433=\"a-Si (triple)\"),3,2))))","v":1},{"$f":"IF($O8433=\"Sunpower Corp.\",3,(IF(OR($Q8433=\"mono\",$Q8433=\"poly\",$Q8433=\"HIT\",$Q8433=\"EFG\",$Q8433=\"mono-LGBC\"),1,2)))","v":1},{"$f":"IF($O8433=\"Sunpower Corp.\",3,(IF(OR($Q8433=\"mono\",$Q8433=\"poly\",$Q8433=\"HIT\",$Q8433=\"EFG\",$Q8433=\"mono-LGBC\"),1,IF(OR($Q8433=\"µc-Si / a-Si\",$Q8433=\"a-Si (single)\",$Q8433=\"a-Si (tandem)\",$Q8433=\"a-Si (triple)\"),3,2))))","v":1},0,null,null,26603,null,null,8432]
["LDK SOLAR EUROPE HOLDING S.A LDK-260P-24","LDK SOLAR EUROPE HOLDING S.A ","LDK-260P-24",260,"+3...-3",36,7.23,44.2,8.06,-150.28,4.8360000000000003,-0.47,1000,null,null,13.359009742736816,"poly",72,"square",1958,994,50,"aluminum","junction box MC4",30.5,"www.ldksolar.com","-","-","-","-","-",{"$f":"IF($O8442=\"Sunpower Corp.\",3,(IF(OR($Q8442=\"mono\",$Q8442=\"poly\",$Q8442=\"HIT\",$Q8442=\"EFG\",$Q8442=\"mono-LGBC\"),1,IF(OR($Q8442=\"µc-Si / a-Si\",$Q8442=\"a-Si (single)\",$Q8442=\"a-Si (tandem)\",$Q8442=\"a-Si (triple)\"),3,2))))","v":1},{"$f":"IF($O8442=\"Sunpower Corp.\",3,(IF(OR($Q8442=\"mono\",$Q8442=\"poly\",$Q8442=\"HIT\",$Q8442=\"EFG\",$Q8442=\"mono-LGBC\"),1,2)))","v":1},{"$f":"IF($O8442=\"Sunpower Corp.\",3,(IF(OR($Q8442=\"mono\",$Q8442=\"poly\",$Q8442=\"HIT\",$Q8442=\"EFG\",$Q8442=\"mono-LGBC\"),1,IF(OR($Q8442=\"µc-Si / a-Si\",$Q8442=\"a-Si (single)\",$Q8442=\"a-Si (tandem)\",$Q8442=\"a-Si (triple)\"),3,2))))","v":1},0,null,null,12489,null,null,8441]
["Light Way Green New Energy Co., Ltd. LW175(23)P1310x990","Light Way Green New Energy Co., Ltd. ","LW175(23)P1310x990",175,"+3...-3",23,7.6,29.5,8.1999999999999993,-98.68634999999999,5.6661999999999999,-0.44070999999999999,1000,null,null,13.493720054626465,"poly",48,"square",1310,990,50,"aluminum","junction box MC4",15.5,"www.lightwaysolar.com","-","-","-","-","-",{"$f":"IF($O8472=\"Sunpower Corp.\",3,(IF(OR($Q8472=\"mono\",$Q8472=\"poly\",$Q8472=\"HIT\",$Q8472=\"EFG\",$Q8472=\"mono-LGBC\"),1,IF(OR($Q8472=\"µc-Si / a-Si\",$Q8472=\"a-Si (single)\",$Q8472=\"a-Si (tandem)\",$Q8472=\"a-Si (triple)\"),3,2))))","v":1},{"$f":"IF($O8472=\"Sunpower Corp.\",3,(IF(OR($Q8472=\"mono\",$Q8472=\"poly\",$Q8472=\"HIT\",$Q8472=\"EFG\",$Q8472=\"mono-LGBC\"),1,2)))","v":1},{"$f":"IF($O8472=\"Sunpower Corp.\",3,(IF(OR($Q8472=\"mono\",$Q8472=\"poly\",$Q8472=\"HIT\",$Q8472=\"EFG\",$Q8472=\"mono-LGBC\"),1,IF(OR($Q8472=\"µc-Si / a-Si\",$Q8472=\"a-Si (single)\",$Q8472=\"a-Si (tandem)\",$Q8472=\"a-Si (triple)\"),3,2))))","v":1},0,null,null,20483,null,null,8472]
["Light Way Green New Energy Co., Ltd. LW235(29)P1650x990","Light Way Green New Energy Co., Ltd. ","LW235(29)P1650x990",235,"+3...-3",29.6,8,37.200000000000003,8.4499999999999993,-124.44516,5.8389499999999988,-0.44070999999999999,1000,null,null,14.386289596557617,"poly",60,"square",1650,990,50,"aluminum","junction box MC4",21,"www.lightwaysolar.com","-","-","-","-","-",{"$f":"IF($O8487=\"Sunpower Corp.\",3,(IF(OR($Q8487=\"mono\",$Q8487=\"poly\",$Q8487=\"HIT\",$Q8487=\"EFG\",$Q8487=\"mono-LGBC\"),1,IF(OR($Q8487=\"µc-Si / a-Si\",$Q8487=\"a-Si (single)\",$Q8487=\"a-Si (tandem)\",$Q8487=\"a-Si (triple)\"),3,2))))","v":1},{"$f":"IF($O8487=\"Sunpower Corp.\",3,(IF(OR($Q8487=\"mono\",$Q8487=\"poly\",$Q8487=\"HIT\",$Q8487=\"EFG\",$Q8487=\"mono-LGBC\"),1,2)))","v":1},{"$f":"IF($O8487=\"Sunpower Corp.\",3,(IF(OR($Q8487=\"mono\",$Q8487=\"poly\",$Q8487=\"HIT\",$Q8487=\"EFG\",$Q8487=\"mono-LGBC\"),1,IF(OR($Q8487=\"µc-Si / a-Si\",$Q8487=\"a-Si (single)\",$Q8487=\"a-Si (tandem)\",$Q8487=\"a-Si (triple)\"),3,2))))","v":1},0,null,null,30736,null,null,8487]
["Light Way Green New Energy Co., Ltd. LW280(35)P1970x990","Light Way Green New Energy Co., Ltd. ","LW280(35)P1970x990",280,"+3...-3",35.299999999999997,7.93,43.6,8.68,-145.85507999999999,5.9978799999999994,-0.44070999999999999,1000,null,null,14.356769561767578,"poly",72,"square",1970,990,50,"aluminum","junction box MC4",26,"www.lightwaysolar.com","-","-","-","-","-",{"$f":"IF($O8498=\"Sunpower Corp.\",3,(IF(OR($Q8498=\"mono\",$Q8498=\"poly\",$Q8498=\"HIT\",$Q8498=\"EFG\",$Q8498=\"mono-LGBC\"),1,IF(OR($Q8498=\"µc-Si / a-Si\",$Q8498=\"a-Si (single)\",$Q8498=\"a-Si (tandem)\",$Q8498=\"a-Si (triple)\"),3,2))))","v":1},{"$f":"IF($O8498=\"Sunpower Corp.\",3,(IF(OR($Q8498=\"mono\",$Q8498=\"poly\",$Q8498=\"HIT\",$Q8498=\"EFG\",$Q8498=\"mono-LGBC\"),1,2)))","v":1},{"$f":"IF($O8498=\"Sunpower Corp.\",3,(IF(OR($Q8498=\"mono\",$Q8498=\"poly\",$Q8498=\"HIT\",$Q8498=\"EFG\",$Q8498=\"mono-LGBC\"),1,IF(OR($Q8498=\"µc-Si / a-Si\",$Q8498=\"a-Si (single)\",$Q8498=\"a-Si (tandem)\",$Q8498=\"a-Si (triple)\"),3,2))))","v":1},0,null,null,30720,null,null,8498]
["Ligitek Electronics Co., Ltd. LM185AA00","Ligitek Electronics Co., Ltd. ","LM185AA00",185,"+3...-3",36.1,5.14,44.7,5.35,-151.97999999999999,4.8150000000000004,-0.37,1000,"Taiwan (Formosa)","Delsolar",14.527119636535645,"mono",72,"pseudo-square",1580,806,38.1,"aluminum","junction box Tyco",14.9,"www.ligitek-pv.com.tw","-","-","-","-","-",{"$f":"IF($O8532=\"Sunpower Corp.\",3,(IF(OR($Q8532=\"mono\",$Q8532=\"poly\",$Q8532=\"HIT\",$Q8532=\"EFG\",$Q8532=\"mono-LGBC\"),1,IF(OR($Q8532=\"µc-Si / a-Si\",$Q8532=\"a-Si (single)\",$Q8532=\"a-Si (tandem)\",$Q8532=\"a-Si (triple)\"),3,2))))","v":1},{"$f":"IF($O8532=\"Sunpower Corp.\",3,(IF(OR($Q8532=\"mono\",$Q8532=\"poly\",$Q8532=\"HIT\",$Q8532=\"EFG\",$Q8532=\"mono-LGBC\"),1,2)))","v":1},{"$f":"IF($O8532=\"Sunpower Corp.\",3,(IF(OR($Q8532=\"mono\",$Q8532=\"poly\",$Q8532=\"HIT\",$Q8532=\"EFG\",$Q8532=\"mono-LGBC\"),1,IF(OR($Q8532=\"µc-Si / a-Si\",$Q8532=\"a-Si (single)\",$Q8532=\"a-Si (tandem)\",$Q8532=\"a-Si (triple)\"),3,2))))","v":1},0,null,null,14905,null,null,8532]
["Ligitek Electronics Co., Ltd. LM205BA6900","Ligitek Electronics Co., Ltd. ","LM205BA6900",205,"+3...-3",26.77,7.66,33.380000000000003,8.39,-110.154,3.3560000000000003,-0.43,1000,"Taiwan (Formosa)","Sunrise",14.124879837036133,"mono",54,"pseudo-square",1466,990,38.1,"aluminum","junction box Tyco",18,"www.ligitek.com","-","-","-","-","-",{"$f":"IF($O8543=\"Sunpower Corp.\",3,(IF(OR($Q8543=\"mono\",$Q8543=\"poly\",$Q8543=\"HIT\",$Q8543=\"EFG\",$Q8543=\"mono-LGBC\"),1,IF(OR($Q8543=\"µc-Si / a-Si\",$Q8543=\"a-Si (single)\",$Q8543=\"a-Si (tandem)\",$Q8543=\"a-Si (triple)\"),3,2))))","v":1},{"$f":"IF($O8543=\"Sunpower Corp.\",3,(IF(OR($Q8543=\"mono\",$Q8543=\"poly\",$Q8543=\"HIT\",$Q8543=\"EFG\",$Q8543=\"mono-LGBC\"),1,2)))","v":1},{"$f":"IF($O8543=\"Sunpower Corp.\",3,(IF(OR($Q8543=\"mono\",$Q8543=\"poly\",$Q8543=\"HIT\",$Q8543=\"EFG\",$Q8543=\"mono-LGBC\"),1,IF(OR($Q8543=\"µc-Si / a-Si\",$Q8543=\"a-Si (single)\",$Q8543=\"a-Si (tandem)\",$Q8543=\"a-Si (triple)\"),3,2))))","v":1},0,null,null,27421,null,null,8543]
["Ligitek Electronics Co., Ltd. LM250BB00","Ligitek Electronics Co., Ltd. ","LM250BB00",250,"+3...-3",34.06,7.34,43.77,7.86,-140.06400000000002,6.2880000000000003,-0.38,1000,"Taiwan (Formosa)","Delsolar",12.976630210876465,"poly",72,"square",1946,990,50,"aluminum","junction box Tyco",23.4,"www.ligitek-pv.com.tw","-","-","-","-","-",{"$f":"IF($O8561=\"Sunpower Corp.\",3,(IF(OR($Q8561=\"mono\",$Q8561=\"poly\",$Q8561=\"HIT\",$Q8561=\"EFG\",$Q8561=\"mono-LGBC\"),1,IF(OR($Q8561=\"µc-Si / a-Si\",$Q8561=\"a-Si (single)\",$Q8561=\"a-Si (tandem)\",$Q8561=\"a-Si (triple)\"),3,2))))","v":1},{"$f":"IF($O8561=\"Sunpower Corp.\",3,(IF(OR($Q8561=\"mono\",$Q8561=\"poly\",$Q8561=\"HIT\",$Q8561=\"EFG\",$Q8561=\"mono-LGBC\"),1,2)))","v":1},{"$f":"IF($O8561=\"Sunpower Corp.\",3,(IF(OR($Q8561=\"mono\",$Q8561=\"poly\",$Q8561=\"HIT\",$Q8561=\"EFG\",$Q8561=\"mono-LGBC\"),1,IF(OR($Q8561=\"µc-Si / a-Si\",$Q8561=\"a-Si (single)\",$Q8561=\"a-Si (tandem)\",$Q8561=\"a-Si (triple)\"),3,2))))","v":1},0,null,null,14916,null,null,8561]
["Linsun Power Technology Ltd. X180 poly","Linsun Power Technology Ltd. ","X180 poly",180,"+3...-3",22.8,7.94,29.5,8.34,-106.2,5.0039999999999996,-0.45,null,null,null,13.774109840393066,"poly",null,"square",1320,990,40,"aluminum","junction box",15.5,"www.lisun-power.com","-","-","-","-","-",{"$f":"IF($O8588=\"Sunpower Corp.\",3,(IF(OR($Q8588=\"mono\",$Q8588=\"poly\",$Q8588=\"HIT\",$Q8588=\"EFG\",$Q8588=\"mono-LGBC\"),1,IF(OR($Q8588=\"µc-Si / a-Si\",$Q8588=\"a-Si (single)\",$Q8588=\"a-Si (tandem)\",$Q8588=\"a-Si (triple)\"),3,2))))","v":1},{"$f":"IF($O8588=\"Sunpower Corp.\",3,(IF(OR($Q8588=\"mono\",$Q8588=\"poly\",$Q8588=\"HIT\",$Q8588=\"EFG\",$Q8588=\"mono-LGBC\"),1,2)))","v":1},{"$f":"IF($O8588=\"Sunpower Corp.\",3,(IF(OR($Q8588=\"mono\",$Q8588=\"poly\",$Q8588=\"HIT\",$Q8588=\"EFG\",$Q8588=\"mono-LGBC\"),1,IF(OR($Q8588=\"µc-Si / a-Si\",$Q8588=\"a-Si (single)\",$Q8588=\"a-Si (tandem)\",$Q8588=\"a-Si (triple)\"),3,2))))","v":1},0,null,null,18551,null,null,8588]
["LINTECH, spol. s r.o. LS 200 mono (240W)","LINTECH, spol. s r.o. ","LS 200 mono (240W)",240,"+3...-3",30.09,8.0299999999999994,36.79,8.5,-128.76499999999999,4.25,-0.43,1000,null,"Bosch Solar Energy AG",14.401439666748047,"mono",60,"pseudo-square",1650,1010,42,"aluminum","junction box MC4",19,"www.lintech-solar.cz","-","-","-","-","-",{"$f":"IF($O8606=\"Sunpower Corp.\",3,(IF(OR($Q8606=\"mono\",$Q8606=\"poly\",$Q8606=\"HIT\",$Q8606=\"EFG\",$Q8606=\"mono-LGBC\"),1,IF(OR($Q8606=\"µc-Si / a-Si\",$Q8606=\"a-Si (single)\",$Q8606=\"a-Si (tandem)\",$Q8606=\"a-Si (triple)\"),3,2))))","v":1},{"$f":"IF($O8606=\"Sunpower Corp.\",3,(IF(OR($Q8606=\"mono\",$Q8606=\"poly\",$Q8606=\"HIT\",$Q8606=\"EFG\",$Q8606=\"mono-LGBC\"),1,2)))","v":1},{"$f":"IF($O8606=\"Sunpower Corp.\",3,(IF(OR($Q8606=\"mono\",$Q8606=\"poly\",$Q8606=\"HIT\",$Q8606=\"EFG\",$Q8606=\"mono-LGBC\"),1,IF(OR($Q8606=\"µc-Si / a-Si\",$Q8606=\"a-Si (single)\",$Q8606=\"a-Si (tandem)\",$Q8606=\"a-Si (triple)\"),3,2))))","v":1},0,null,null,20145,null,null,8606]
["Linuo Group Co., Ltd LN240(30)P-225","Linuo Group Co., Ltd ","LN240(30)P-225",225,"+3...-3",30.25,7.44,36.450000000000003,8.09,-138.1455,4.4333200000000001,-0.52900000000000003,null,null,null,13.729689598083496,"poly",60,"square",1652,992,50,"aluminum","junction box",20.5,"www.linuopv.com","-","-","-","-","-",{"$f":"IF($O8627=\"Sunpower Corp.\",3,(IF(OR($Q8627=\"mono\",$Q8627=\"poly\",$Q8627=\"HIT\",$Q8627=\"EFG\",$Q8627=\"mono-LGBC\"),1,IF(OR($Q8627=\"µc-Si / a-Si\",$Q8627=\"a-Si (single)\",$Q8627=\"a-Si (tandem)\",$Q8627=\"a-Si (triple)\"),3,2))))","v":1},{"$f":"IF($O8627=\"Sunpower Corp.\",3,(IF(OR($Q8627=\"mono\",$Q8627=\"poly\",$Q8627=\"HIT\",$Q8627=\"EFG\",$Q8627=\"mono-LGBC\"),1,2)))","v":1},{"$f":"IF($O8627=\"Sunpower Corp.\",3,(IF(OR($Q8627=\"mono\",$Q8627=\"poly\",$Q8627=\"HIT\",$Q8627=\"EFG\",$Q8627=\"mono-LGBC\"),1,IF(OR($Q8627=\"µc-Si / a-Si\",$Q8627=\"a-Si (single)\",$Q8627=\"a-Si (tandem)\",$Q8627=\"a-Si (triple)\"),3,2))))","v":1},0,null,null,26243,null,null,8627]
["Linuo Group Co., Ltd LN280(36)P-250","Linuo Group Co., Ltd ","LN280(36)P-250",250,"+3...-3",35.119999999999997,7.12,42.55,7.92,-147.22299999999996,5.1479999999999997,-0.48799999999999999,null,null,null,12.818719863891602,"poly",72,"square",1966,992,50,"aluminum","junction box",23.5,"www.linuopv.com","-","-","-","-","-",{"$f":"IF($O8631=\"Sunpower Corp.\",3,(IF(OR($Q8631=\"mono\",$Q8631=\"poly\",$Q8631=\"HIT\",$Q8631=\"EFG\",$Q8631=\"mono-LGBC\"),1,IF(OR($Q8631=\"µc-Si / a-Si\",$Q8631=\"a-Si (single)\",$Q8631=\"a-Si (tandem)\",$Q8631=\"a-Si (triple)\"),3,2))))","v":1},{"$f":"IF($O8631=\"Sunpower Corp.\",3,(IF(OR($Q8631=\"mono\",$Q8631=\"poly\",$Q8631=\"HIT\",$Q8631=\"EFG\",$Q8631=\"mono-LGBC\"),1,2)))","v":1},{"$f":"IF($O8631=\"Sunpower Corp.\",3,(IF(OR($Q8631=\"mono\",$Q8631=\"poly\",$Q8631=\"HIT\",$Q8631=\"EFG\",$Q8631=\"mono-LGBC\"),1,IF(OR($Q8631=\"µc-Si / a-Si\",$Q8631=\"a-Si (single)\",$Q8631=\"a-Si (tandem)\",$Q8631=\"a-Si (triple)\"),3,2))))","v":1},0,null,null,26249,null,null,8631]
["Linuo Group Co., Ltd LNPV-125*125-F/C 180m","Linuo Group Co., Ltd ","LNPV-125*125-F/C 180m",180,"+...",36.74,4.9000000000000004,44.07,5.35,-149.83799999999999,4.8150000000000004,-0.37,1000,null,null,14.010829925537109,"mono",72,"pseudo-square",1590,808,42,null,null,15.5,null,"-","-","-","-","-",{"$f":"IF($O8653=\"Sunpower Corp.\",3,(IF(OR($Q8653=\"mono\",$Q8653=\"poly\",$Q8653=\"HIT\",$Q8653=\"EFG\",$Q8653=\"mono-LGBC\"),1,IF(OR($Q8653=\"µc-Si / a-Si\",$Q8653=\"a-Si (single)\",$Q8653=\"a-Si (tandem)\",$Q8653=\"a-Si (triple)\"),3,2))))","v":1},{"$f":"IF($O8653=\"Sunpower Corp.\",3,(IF(OR($Q8653=\"mono\",$Q8653=\"poly\",$Q8653=\"HIT\",$Q8653=\"EFG\",$Q8653=\"mono-LGBC\"),1,2)))","v":1},{"$f":"IF($O8653=\"Sunpower Corp.\",3,(IF(OR($Q8653=\"mono\",$Q8653=\"poly\",$Q8653=\"HIT\",$Q8653=\"EFG\",$Q8653=\"mono-LGBC\"),1,IF(OR($Q8653=\"µc-Si / a-Si\",$Q8653=\"a-Si (single)\",$Q8653=\"a-Si (tandem)\",$Q8653=\"a-Si (triple)\"),3,2))))","v":1},0,null,null,7717,null,null,8653]
["Linuo Group Co., Ltd LNPV-156*156-54F/C 185","Linuo Group Co., Ltd ","LNPV-156*156-54F/C 185",185,"+...",26.49,6.98,32.299999999999997,7.61,-116.28,5.3270000000000008,-0.45,1000,null,null,12.482729911804199,"poly",54,"square",1494,992,42,null,null,17.5,null,"-","-","-","-","-",{"$f":"IF($O8676=\"Sunpower Corp.\",3,(IF(OR($Q8676=\"mono\",$Q8676=\"poly\",$Q8676=\"HIT\",$Q8676=\"EFG\",$Q8676=\"mono-LGBC\"),1,IF(OR($Q8676=\"µc-Si / a-Si\",$Q8676=\"a-Si (single)\",$Q8676=\"a-Si (tandem)\",$Q8676=\"a-Si (triple)\"),3,2))))","v":1},{"$f":"IF($O8676=\"Sunpower Corp.\",3,(IF(OR($Q8676=\"mono\",$Q8676=\"poly\",$Q8676=\"HIT\",$Q8676=\"EFG\",$Q8676=\"mono-LGBC\"),1,2)))","v":1},{"$f":"IF($O8676=\"Sunpower Corp.\",3,(IF(OR($Q8676=\"mono\",$Q8676=\"poly\",$Q8676=\"HIT\",$Q8676=\"EFG\",$Q8676=\"mono-LGBC\"),1,IF(OR($Q8676=\"µc-Si / a-Si\",$Q8676=\"a-Si (single)\",$Q8676=\"a-Si (tandem)\",$Q8676=\"a-Si (triple)\"),3,2))))","v":1},0,null,null,7703,null,null,8676]
["Linuo Group Co., Ltd LS-50","Linuo Group Co., Ltd ","LS-50",50,"+5...-10",17.5,2.85,21.5,3.02,-73.099999999999994,2.718,null,1000,"China","Motech Industries",11.540570259094238,"mono",null,"square",978,443,40,"aluminum","others",5,"www.linuo.com/en","-","-","-","-","-",{"$f":"IF($O8698=\"Sunpower Corp.\",3,(IF(OR($Q8698=\"mono\",$Q8698=\"poly\",$Q8698=\"HIT\",$Q8698=\"EFG\",$Q8698=\"mono-LGBC\"),1,IF(OR($Q8698=\"µc-Si / a-Si\",$Q8698=\"a-Si (single)\",$Q8698=\"a-Si (tandem)\",$Q8698=\"a-Si (triple)\"),3,2))))","v":1},{"$f":"IF($O8698=\"Sunpower Corp.\",3,(IF(OR($Q8698=\"mono\",$Q8698=\"poly\",$Q8698=\"HIT\",$Q8698=\"EFG\",$Q8698=\"mono-LGBC\"),1,2)))","v":1},{"$f":"IF($O8698=\"Sunpower Corp.\",3,(IF(OR($Q8698=\"mono\",$Q8698=\"poly\",$Q8698=\"HIT\",$Q8698=\"EFG\",$Q8698=\"mono-LGBC\"),1,IF(OR($Q8698=\"µc-Si / a-Si\",$Q8698=\"a-Si (single)\",$Q8698=\"a-Si (tandem)\",$Q8698=\"a-Si (triple)\"),3,2))))","v":1},0,null,null,1326,null,null,8698]
["LT Solar China LT-101170","LT Solar China ","LT-101170",170,"+3...-3",35.799999999999997,4.75,44.2,5.05,-167.96,5.05,-0.47,1000,null,null,13.31620979309082,"mono",72,"pseudo-square",1580,808,35,"aluminum","junction box",15,"www.ltsolar.com","-","-","-","-","-",{"$f":"IF($O8725=\"Sunpower Corp.\",3,(IF(OR($Q8725=\"mono\",$Q8725=\"poly\",$Q8725=\"HIT\",$Q8725=\"EFG\",$Q8725=\"mono-LGBC\"),1,IF(OR($Q8725=\"µc-Si / a-Si\",$Q8725=\"a-Si (single)\",$Q8725=\"a-Si (tandem)\",$Q8725=\"a-Si (triple)\"),3,2))))","v":1},{"$f":"IF($O8725=\"Sunpower Corp.\",3,(IF(OR($Q8725=\"mono\",$Q8725=\"poly\",$Q8725=\"HIT\",$Q8725=\"EFG\",$Q8725=\"mono-LGBC\"),1,2)))","v":1},{"$f":"IF($O8725=\"Sunpower Corp.\",3,(IF(OR($Q8725=\"mono\",$Q8725=\"poly\",$Q8725=\"HIT\",$Q8725=\"EFG\",$Q8725=\"mono-LGBC\"),1,IF(OR($Q8725=\"µc-Si / a-Si\",$Q8725=\"a-Si (single)\",$Q8725=\"a-Si (tandem)\",$Q8725=\"a-Si (triple)\"),3,2))))","v":1},0,null,null,20276,null,null,8725]
["Lucky Power Technology Co., Ltd. LPG-125-3S(123)","Lucky Power Technology Co., Ltd. ","LPG-125-3S(123)",123,"+...",17.690000000000001,6.97,21.84,7.65,-76.44,9.18,-0.46,1000,null,null,10.527790069580078,"poly",36,"square",1096,1066,13.5,null,"cable Tyco",37,null,"-","-","-","-","-",{"$f":"IF($O8743=\"Sunpower Corp.\",3,(IF(OR($Q8743=\"mono\",$Q8743=\"poly\",$Q8743=\"HIT\",$Q8743=\"EFG\",$Q8743=\"mono-LGBC\"),1,IF(OR($Q8743=\"µc-Si / a-Si\",$Q8743=\"a-Si (single)\",$Q8743=\"a-Si (tandem)\",$Q8743=\"a-Si (triple)\"),3,2))))","v":1},{"$f":"IF($O8743=\"Sunpower Corp.\",3,(IF(OR($Q8743=\"mono\",$Q8743=\"poly\",$Q8743=\"HIT\",$Q8743=\"EFG\",$Q8743=\"mono-LGBC\"),1,2)))","v":1},{"$f":"IF($O8743=\"Sunpower Corp.\",3,(IF(OR($Q8743=\"mono\",$Q8743=\"poly\",$Q8743=\"HIT\",$Q8743=\"EFG\",$Q8743=\"mono-LGBC\"),1,IF(OR($Q8743=\"µc-Si / a-Si\",$Q8743=\"a-Si (single)\",$Q8743=\"a-Si (tandem)\",$Q8743=\"a-Si (triple)\"),3,2))))","v":1},0,null,null,7739,null,null,8743]
["Lucky Power Technology Co., Ltd. LPG-140-C","Lucky Power Technology Co., Ltd. ","LPG-140-C",140,"+8...-8",30.46,4.5999999999999996,36.93,5,-118.176,2,-0.43,1000,null,null,10.971790313720703,"mono",60,"pseudo-square",1450,880,13.5,null,"cable",40.299999999999997,null,"-","-","-","-","-",{"$f":"IF($O8750=\"Sunpower Corp.\",3,(IF(OR($Q8750=\"mono\",$Q8750=\"poly\",$Q8750=\"HIT\",$Q8750=\"EFG\",$Q8750=\"mono-LGBC\"),1,IF(OR($Q8750=\"µc-Si / a-Si\",$Q8750=\"a-Si (single)\",$Q8750=\"a-Si (tandem)\",$Q8750=\"a-Si (triple)\"),3,2))))","v":1},{"$f":"IF($O8750=\"Sunpower Corp.\",3,(IF(OR($Q8750=\"mono\",$Q8750=\"poly\",$Q8750=\"HIT\",$Q8750=\"EFG\",$Q8750=\"mono-LGBC\"),1,2)))","v":1},{"$f":"IF($O8750=\"Sunpower Corp.\",3,(IF(OR($Q8750=\"mono\",$Q8750=\"poly\",$Q8750=\"HIT\",$Q8750=\"EFG\",$Q8750=\"mono-LGBC\"),1,IF(OR($Q8750=\"µc-Si / a-Si\",$Q8750=\"a-Si (single)\",$Q8750=\"a-Si (tandem)\",$Q8750=\"a-Si (triple)\"),3,2))))","v":1},0,null,null,7773,null,null,8750]
["Lucky Power Technology Co., Ltd. LPG-187-3S(195)","Lucky Power Technology Co., Ltd. ","LPG-187-3S(195)",195,"+...",27.18,7.17,33.19,7.8,-116.16500000000001,9.36,-0.46,1000,null,null,11.475959777832031,"poly",54,"square",1594,1066,13.5,null,"cable Tyco",57.2,null,"-","-","-","-","-",{"$f":"IF($O8769=\"Sunpower Corp.\",3,(IF(OR($Q8769=\"mono\",$Q8769=\"poly\",$Q8769=\"HIT\",$Q8769=\"EFG\",$Q8769=\"mono-LGBC\"),1,IF(OR($Q8769=\"µc-Si / a-Si\",$Q8769=\"a-Si (single)\",$Q8769=\"a-Si (tandem)\",$Q8769=\"a-Si (triple)\"),3,2))))","v":1},{"$f":"IF($O8769=\"Sunpower Corp.\",3,(IF(OR($Q8769=\"mono\",$Q8769=\"poly\",$Q8769=\"HIT\",$Q8769=\"EFG\",$Q8769=\"mono-LGBC\"),1,2)))","v":1},{"$f":"IF($O8769=\"Sunpower Corp.\",3,(IF(OR($Q8769=\"mono\",$Q8769=\"poly\",$Q8769=\"HIT\",$Q8769=\"EFG\",$Q8769=\"mono-LGBC\"),1,IF(OR($Q8769=\"µc-Si / a-Si\",$Q8769=\"a-Si (single)\",$Q8769=\"a-Si (tandem)\",$Q8769=\"a-Si (triple)\"),3,2))))","v":1},0,null,null,7723,null,null,8769]
["Lucky Power Technology Co., Ltd. LPS-196-3S(198)","Lucky Power Technology Co., Ltd. ","LPS-196-3S(198)",198,"+5...-5",26.7,7.43,33.17,8,-106.14400000000002,3.2,-0.43,1000,null,null,13.382499694824219,"mono",54,"pseudo-square",1496,989,39,"aluminum","cable Tyco",17.5,null,"-","-","-","-","-",{"$f":"IF($O8795=\"Sunpower Corp.\",3,(IF(OR($Q8795=\"mono\",$Q8795=\"poly\",$Q8795=\"HIT\",$Q8795=\"EFG\",$Q8795=\"mono-LGBC\"),1,IF(OR($Q8795=\"µc-Si / a-Si\",$Q8795=\"a-Si (single)\",$Q8795=\"a-Si (tandem)\",$Q8795=\"a-Si (triple)\"),3,2))))","v":1},{"$f":"IF($O8795=\"Sunpower Corp.\",3,(IF(OR($Q8795=\"mono\",$Q8795=\"poly\",$Q8795=\"HIT\",$Q8795=\"EFG\",$Q8795=\"mono-LGBC\"),1,2)))","v":1},{"$f":"IF($O8795=\"Sunpower Corp.\",3,(IF(OR($Q8795=\"mono\",$Q8795=\"poly\",$Q8795=\"HIT\",$Q8795=\"EFG\",$Q8795=\"mono-LGBC\"),1,IF(OR($Q8795=\"µc-Si / a-Si\",$Q8795=\"a-Si (single)\",$Q8795=\"a-Si (tandem)\",$Q8795=\"a-Si (triple)\"),3,2))))","v":1},0,null,null,7751,null,null,8795]
["Lumos Solar LS235-60M","Lumos Solar ","LS235-60M",235,"+3...-3",29.6,7.94,36.799999999999997,8.5399999999999991,-112.97599999999998,3.3305999999999996,-0.42299999999999999,1000,null,null,14.474010467529297,"mono",60,"pseudo-square",1640,990,50,"aluminum","junction box MC4",19.8,"www.lumossolar.com","-","-","-","-","-",{"$f":"IF($O8808=\"Sunpower Corp.\",3,(IF(OR($Q8808=\"mono\",$Q8808=\"poly\",$Q8808=\"HIT\",$Q8808=\"EFG\",$Q8808=\"mono-LGBC\"),1,IF(OR($Q8808=\"µc-Si / a-Si\",$Q8808=\"a-Si (single)\",$Q8808=\"a-Si (tandem)\",$Q8808=\"a-Si (triple)\"),3,2))))","v":1},{"$f":"IF($O8808=\"Sunpower Corp.\",3,(IF(OR($Q8808=\"mono\",$Q8808=\"poly\",$Q8808=\"HIT\",$Q8808=\"EFG\",$Q8808=\"mono-LGBC\"),1,2)))","v":1},{"$f":"IF($O8808=\"Sunpower Corp.\",3,(IF(OR($Q8808=\"mono\",$Q8808=\"poly\",$Q8808=\"HIT\",$Q8808=\"EFG\",$Q8808=\"mono-LGBC\"),1,IF(OR($Q8808=\"µc-Si / a-Si\",$Q8808=\"a-Si (single)\",$Q8808=\"a-Si (tandem)\",$Q8808=\"a-Si (triple)\"),3,2))))","v":1},0,null,null,25828,null,null,8808]
["Mage Solar GmbH Mage Powertec Plus 185/6PR","Mage Solar GmbH ","Mage Powertec Plus 185/6PR",185,"+2,7...0",24.67,7.5,29.48,8.25,-102.29559999999999,4.5374999999999996,-0.48,1000,null,null,14.085490226745605,"poly",48,"square",1324,992,45,"aluminum","junction box MC4",15.5,"www.magesolar.com","-","-","-","-","-",{"$f":"IF($O8840=\"Sunpower Corp.\",3,(IF(OR($Q8840=\"mono\",$Q8840=\"poly\",$Q8840=\"HIT\",$Q8840=\"EFG\",$Q8840=\"mono-LGBC\"),1,IF(OR($Q8840=\"µc-Si / a-Si\",$Q8840=\"a-Si (single)\",$Q8840=\"a-Si (tandem)\",$Q8840=\"a-Si (triple)\"),3,2))))","v":1},{"$f":"IF($O8840=\"Sunpower Corp.\",3,(IF(OR($Q8840=\"mono\",$Q8840=\"poly\",$Q8840=\"HIT\",$Q8840=\"EFG\",$Q8840=\"mono-LGBC\"),1,2)))","v":1},{"$f":"IF($O8840=\"Sunpower Corp.\",3,(IF(OR($Q8840=\"mono\",$Q8840=\"poly\",$Q8840=\"HIT\",$Q8840=\"EFG\",$Q8840=\"mono-LGBC\"),1,IF(OR($Q8840=\"µc-Si / a-Si\",$Q8840=\"a-Si (single)\",$Q8840=\"a-Si (tandem)\",$Q8840=\"a-Si (triple)\"),3,2))))","v":1},0,null,null,26288,null,null,8840]
["Mage Solar GmbH Mage Powertec Plus 230/5MI","Mage Solar GmbH ","Mage Powertec Plus 230/5MI",230,"+2,17...0",48.5,4.75,59.1,5.19,-195.03,2.0760000000000001,-0.43,1000,null,null,13.4964599609375,"mono",96,"pseudo-square",1575,1082,50,"aluminum","junction box MC4",22,"www.magesolar.eu","-","-","-","-","-",{"$f":"IF($O8853=\"Sunpower Corp.\",3,(IF(OR($Q8853=\"mono\",$Q8853=\"poly\",$Q8853=\"HIT\",$Q8853=\"EFG\",$Q8853=\"mono-LGBC\"),1,IF(OR($Q8853=\"µc-Si / a-Si\",$Q8853=\"a-Si (single)\",$Q8853=\"a-Si (tandem)\",$Q8853=\"a-Si (triple)\"),3,2))))","v":1},{"$f":"IF($O8853=\"Sunpower Corp.\",3,(IF(OR($Q8853=\"mono\",$Q8853=\"poly\",$Q8853=\"HIT\",$Q8853=\"EFG\",$Q8853=\"mono-LGBC\"),1,2)))","v":1},{"$f":"IF($O8853=\"Sunpower Corp.\",3,(IF(OR($Q8853=\"mono\",$Q8853=\"poly\",$Q8853=\"HIT\",$Q8853=\"EFG\",$Q8853=\"mono-LGBC\"),1,IF(OR($Q8853=\"µc-Si / a-Si\",$Q8853=\"a-Si (single)\",$Q8853=\"a-Si (tandem)\",$Q8853=\"a-Si (triple)\"),3,2))))","v":1},0,null,null,20694,null,null,8853]
["Mage Solar GmbH Mage Powertec Plus 245/5MI","Mage Solar GmbH ","Mage Powertec Plus 245/5MI",245,"+2,04...0",49.1,4.99,59.7,5.5,-197.01,2.2000000000000002,-0.43,1000,null,null,14.376669883728027,"mono",96,"pseudo-square",1575,1082,50,"aluminum","junction box MC4",22,"www.magesolar.com","-","-","-","-","-",{"$f":"IF($O8869=\"Sunpower Corp.\",3,(IF(OR($Q8869=\"mono\",$Q8869=\"poly\",$Q8869=\"HIT\",$Q8869=\"EFG\",$Q8869=\"mono-LGBC\"),1,IF(OR($Q8869=\"µc-Si / a-Si\",$Q8869=\"a-Si (single)\",$Q8869=\"a-Si (tandem)\",$Q8869=\"a-Si (triple)\"),3,2))))","v":1},{"$f":"IF($O8869=\"Sunpower Corp.\",3,(IF(OR($Q8869=\"mono\",$Q8869=\"poly\",$Q8869=\"HIT\",$Q8869=\"EFG\",$Q8869=\"mono-LGBC\"),1,2)))","v":1},{"$f":"IF($O8869=\"Sunpower Corp.\",3,(IF(OR($Q8869=\"mono\",$Q8869=\"poly\",$Q8869=\"HIT\",$Q8869=\"EFG\",$Q8869=\"mono-LGBC\"),1,IF(OR($Q8869=\"µc-Si / a-Si\",$Q8869=\"a-Si (single)\",$Q8869=\"a-Si (tandem)\",$Q8869=\"a-Si (triple)\"),3,2))))","v":1},0,null,null,26277,null,null,8869]
["Masdar PV GmbH MPV100-S","Masdar PV GmbH ","MPV100-S",100,"+5...-5",75,1.34,96,1.58,-288,1.58,-0.2,1000,"Germany",null,6.9930071830749512,"a-Si",null,"rectangular",1300,1100,7,"frameless","junction box",29.5,"www.masdarpv.com","-","-","-","-","-",{"$f":"IF($O8898=\"Sunpower Corp.\",3,(IF(OR($Q8898=\"mono\",$Q8898=\"poly\",$Q8898=\"HIT\",$Q8898=\"EFG\",$Q8898=\"mono-LGBC\"),1,IF(OR($Q8898=\"µc-Si / a-Si\",$Q8898=\"a-Si (single)\",$Q8898=\"a-Si (tandem)\",$Q8898=\"a-Si (triple)\"),3,2))))","v":2},{"$f":"IF($O8898=\"Sunpower Corp.\",3,(IF(OR($Q8898=\"mono\",$Q8898=\"poly\",$Q8898=\"HIT\",$Q8898=\"EFG\",$Q8898=\"mono-LGBC\"),1,2)))","v":2},{"$f":"IF($O8898=\"Sunpower Corp.\",3,(IF(OR($Q8898=\"mono\",$Q8898=\"poly\",$Q8898=\"HIT\",$Q8898=\"EFG\",$Q8898=\"mono-LGBC\"),1,IF(OR($Q8898=\"µc-Si / a-Si\",$Q8898=\"a-Si (single)\",$Q8898=\"a-Si (tandem)\",$Q8898=\"a-Si (triple)\"),3,2))))","v":2},0,null,null,25068,null,null,8898]
["MDT technologies GmbH MDT218P-PM4","MDT technologies GmbH ","MDT218P-PM4",218,"+3...-3",29,7.53,36.6,7.92,-120.78,2.7720000000000007,-0.5,1000,null,null,13.148280143737793,"poly",60,"square",1663,997,39,"aluminum","cable Tyco",22,"www.mdtsolar.de","-","-","-","-","-",{"$f":"IF($O8914=\"Sunpower Corp.\",3,(IF(OR($Q8914=\"mono\",$Q8914=\"poly\",$Q8914=\"HIT\",$Q8914=\"EFG\",$Q8914=\"mono-LGBC\"),1,IF(OR($Q8914=\"µc-Si / a-Si\",$Q8914=\"a-Si (single)\",$Q8914=\"a-Si (tandem)\",$Q8914=\"a-Si (triple)\"),3,2))))","v":1},{"$f":"IF($O8914=\"Sunpower Corp.\",3,(IF(OR($Q8914=\"mono\",$Q8914=\"poly\",$Q8914=\"HIT\",$Q8914=\"EFG\",$Q8914=\"mono-LGBC\"),1,2)))","v":1},{"$f":"IF($O8914=\"Sunpower Corp.\",3,(IF(OR($Q8914=\"mono\",$Q8914=\"poly\",$Q8914=\"HIT\",$Q8914=\"EFG\",$Q8914=\"mono-LGBC\"),1,IF(OR($Q8914=\"µc-Si / a-Si\",$Q8914=\"a-Si (single)\",$Q8914=\"a-Si (tandem)\",$Q8914=\"a-Si (triple)\"),3,2))))","v":1},0,null,null,11160,null,null,8914]
["MEREG GmbH PM 80","MEREG GmbH ","PM 80",80,"+6,25...-6,25",17.39,4.5999999999999996,21.6,5.0999999999999996,-74.951999999999984,0.86699999999999999,-0.37,800,"India",null,12.121210098266602,"mono",36,"square",1200,550,40,"aluminum","cable H + S",7.5,"www.mereg.de","-","-","-","-","-",{"$f":"IF($O8935=\"Sunpower Corp.\",3,(IF(OR($Q8935=\"mono\",$Q8935=\"poly\",$Q8935=\"HIT\",$Q8935=\"EFG\",$Q8935=\"mono-LGBC\"),1,IF(OR($Q8935=\"µc-Si / a-Si\",$Q8935=\"a-Si (single)\",$Q8935=\"a-Si (tandem)\",$Q8935=\"a-Si (triple)\"),3,2))))","v":1},{"$f":"IF($O8935=\"Sunpower Corp.\",3,(IF(OR($Q8935=\"mono\",$Q8935=\"poly\",$Q8935=\"HIT\",$Q8935=\"EFG\",$Q8935=\"mono-LGBC\"),1,2)))","v":1},{"$f":"IF($O8935=\"Sunpower Corp.\",3,(IF(OR($Q8935=\"mono\",$Q8935=\"poly\",$Q8935=\"HIT\",$Q8935=\"EFG\",$Q8935=\"mono-LGBC\"),1,IF(OR($Q8935=\"µc-Si / a-Si\",$Q8935=\"a-Si (single)\",$Q8935=\"a-Si (tandem)\",$Q8935=\"a-Si (triple)\"),3,2))))","v":1},0,null,null,5493,null,null,8935]
["Meridies GT-185 (175)","Meridies ","GT-185 (175)",175,"+3...0",36.200000000000003,4.8499999999999996,43.9,5.3,-149.26,2.0139999999999998,-0.47,1000,null,null,13.707859992980957,"mono",72,"pseudo-square",1580,808,35,"aluminum",null,15,"www.meridiesitalia.com","-","-","-","-","-",{"$f":"IF($O8944=\"Sunpower Corp.\",3,(IF(OR($Q8944=\"mono\",$Q8944=\"poly\",$Q8944=\"HIT\",$Q8944=\"EFG\",$Q8944=\"mono-LGBC\"),1,IF(OR($Q8944=\"µc-Si / a-Si\",$Q8944=\"a-Si (single)\",$Q8944=\"a-Si (tandem)\",$Q8944=\"a-Si (triple)\"),3,2))))","v":1},{"$f":"IF($O8944=\"Sunpower Corp.\",3,(IF(OR($Q8944=\"mono\",$Q8944=\"poly\",$Q8944=\"HIT\",$Q8944=\"EFG\",$Q8944=\"mono-LGBC\"),1,2)))","v":1},{"$f":"IF($O8944=\"Sunpower Corp.\",3,(IF(OR($Q8944=\"mono\",$Q8944=\"poly\",$Q8944=\"HIT\",$Q8944=\"EFG\",$Q8944=\"mono-LGBC\"),1,IF(OR($Q8944=\"µc-Si / a-Si\",$Q8944=\"a-Si (single)\",$Q8944=\"a-Si (tandem)\",$Q8944=\"a-Si (triple)\"),3,2))))","v":1},0,null,null,17793,null,null,8944]
["Micron Photovoltaic Panels Micron CA295M72","Micron Photovoltaic Panels ","Micron CA295M72",295,"+3...-3",36.880000000000003,8.01,46.44,8.48,-171.828,4.24,-0.47,1000,"Italy","Q-Cells AG",14.936389923095703,"mono",72,"square",1979,998,45,"aluminum","junction box Tyco",24,"www.micronsun.it","-","-","-","-","-",{"$f":"IF($O8964=\"Sunpower Corp.\",3,(IF(OR($Q8964=\"mono\",$Q8964=\"poly\",$Q8964=\"HIT\",$Q8964=\"EFG\",$Q8964=\"mono-LGBC\"),1,IF(OR($Q8964=\"µc-Si / a-Si\",$Q8964=\"a-Si (single)\",$Q8964=\"a-Si (tandem)\",$Q8964=\"a-Si (triple)\"),3,2))))","v":1},{"$f":"IF($O8964=\"Sunpower Corp.\",3,(IF(OR($Q8964=\"mono\",$Q8964=\"poly\",$Q8964=\"HIT\",$Q8964=\"EFG\",$Q8964=\"mono-LGBC\"),1,2)))","v":1},{"$f":"IF($O8964=\"Sunpower Corp.\",3,(IF(OR($Q8964=\"mono\",$Q8964=\"poly\",$Q8964=\"HIT\",$Q8964=\"EFG\",$Q8964=\"mono-LGBC\"),1,IF(OR($Q8964=\"µc-Si / a-Si\",$Q8964=\"a-Si (single)\",$Q8964=\"a-Si (tandem)\",$Q8964=\"a-Si (triple)\"),3,2))))","v":1},0,null,null,17979,null,null,8964]
["Millennium Electric T.O.U. Ltd. MIL-PV-225W-M02","Millennium Electric T.O.U. Ltd. ","MIL-PV-225W-M02",225,"+3...-3",30.1,7.48,36.799999999999997,8.16,-139.84,8.16,-0.45,1000,"China","diverse",13.729689598083496,"mono",60,"square",1652,992,50,"aluminum","cable MC",22,"www.millenniumsolar.com","-","-","-","-","-",{"$f":"IF($O8989=\"Sunpower Corp.\",3,(IF(OR($Q8989=\"mono\",$Q8989=\"poly\",$Q8989=\"HIT\",$Q8989=\"EFG\",$Q8989=\"mono-LGBC\"),1,IF(OR($Q8989=\"µc-Si / a-Si\",$Q8989=\"a-Si (single)\",$Q8989=\"a-Si (tandem)\",$Q8989=\"a-Si (triple)\"),3,2))))","v":1},{"$f":"IF($O8989=\"Sunpower Corp.\",3,(IF(OR($Q8989=\"mono\",$Q8989=\"poly\",$Q8989=\"HIT\",$Q8989=\"EFG\",$Q8989=\"mono-LGBC\"),1,2)))","v":1},{"$f":"IF($O8989=\"Sunpower Corp.\",3,(IF(OR($Q8989=\"mono\",$Q8989=\"poly\",$Q8989=\"HIT\",$Q8989=\"EFG\",$Q8989=\"mono-LGBC\"),1,IF(OR($Q8989=\"µc-Si / a-Si\",$Q8989=\"a-Si (single)\",$Q8989=\"a-Si (tandem)\",$Q8989=\"a-Si (triple)\"),3,2))))","v":1},0,null,null,9114,null,null,8989]
["Millennium Electric T.O.U. Ltd. MIL-PV-290W-M02-72","Millennium Electric T.O.U. Ltd. ","MIL-PV-290W-M02-72",290,"+3...-3",35.799999999999997,8.24,44.8,8.66,-170.24,8.66,-0.45,1000,"China","diverse",14.94573974609375,"mono",72,"pseudo-square",1956,992,50,"aluminum","cable MC",23.5,"www.millenniumsolar.com","-","-","-","-","-",{"$f":"IF($O9009=\"Sunpower Corp.\",3,(IF(OR($Q9009=\"mono\",$Q9009=\"poly\",$Q9009=\"HIT\",$Q9009=\"EFG\",$Q9009=\"mono-LGBC\"),1,IF(OR($Q9009=\"µc-Si / a-Si\",$Q9009=\"a-Si (single)\",$Q9009=\"a-Si (tandem)\",$Q9009=\"a-Si (triple)\"),3,2))))","v":1},{"$f":"IF($O9009=\"Sunpower Corp.\",3,(IF(OR($Q9009=\"mono\",$Q9009=\"poly\",$Q9009=\"HIT\",$Q9009=\"EFG\",$Q9009=\"mono-LGBC\"),1,2)))","v":1},{"$f":"IF($O9009=\"Sunpower Corp.\",3,(IF(OR($Q9009=\"mono\",$Q9009=\"poly\",$Q9009=\"HIT\",$Q9009=\"EFG\",$Q9009=\"mono-LGBC\"),1,IF(OR($Q9009=\"µc-Si / a-Si\",$Q9009=\"a-Si (single)\",$Q9009=\"a-Si (tandem)\",$Q9009=\"a-Si (triple)\"),3,2))))","v":1},0,null,null,27734,null,null,9009]
["Mitsubishi Electric Corporation PV-AE125MF5N","Mitsubishi Electric Corporation ","PV-AE125MF5N",125,"+10...-5",17.3,7.23,21.8,7.9,-71.94,3.95,-0.47,null,"Japan","Mitsubishi Electric Corporation",12.405349731445313,"poly",36,"square",1495,674,46,"aluminum","cable MC new",13.5,"global.mitsubishielectric.com/solar","-","-","-","-","-",{"$f":"IF($O9028=\"Sunpower Corp.\",3,(IF(OR($Q9028=\"mono\",$Q9028=\"poly\",$Q9028=\"HIT\",$Q9028=\"EFG\",$Q9028=\"mono-LGBC\"),1,IF(OR($Q9028=\"µc-Si / a-Si\",$Q9028=\"a-Si (single)\",$Q9028=\"a-Si (tandem)\",$Q9028=\"a-Si (triple)\"),3,2))))","v":1},{"$f":"IF($O9028=\"Sunpower Corp.\",3,(IF(OR($Q9028=\"mono\",$Q9028=\"poly\",$Q9028=\"HIT\",$Q9028=\"EFG\",$Q9028=\"mono-LGBC\"),1,2)))","v":1},{"$f":"IF($O9028=\"Sunpower Corp.\",3,(IF(OR($Q9028=\"mono\",$Q9028=\"poly\",$Q9028=\"HIT\",$Q9028=\"EFG\",$Q9028=\"mono-LGBC\"),1,IF(OR($Q9028=\"µc-Si / a-Si\",$Q9028=\"a-Si (single)\",$Q9028=\"a-Si (tandem)\",$Q9028=\"a-Si (triple)\"),3,2))))","v":1},0,null,null,5595,null,null,9028]
["Mitsubishi Electric Corporation PV-TE120MF5N","Mitsubishi Electric Corporation ","PV-TE120MF5N",120,"+10...-5",17.2,6.99,21.6,7.75,-71.28,3.875,-0.47,1000,"Japan","Mitsubishi Electric Corporation",11.909130096435547,"poly",36,"square",1495,674,46,"aluminum","cable MC new",13.5,"global.mitsubishielectric.com/solar","-","-","-","-","-",{"$f":"IF($O9054=\"Sunpower Corp.\",3,(IF(OR($Q9054=\"mono\",$Q9054=\"poly\",$Q9054=\"HIT\",$Q9054=\"EFG\",$Q9054=\"mono-LGBC\"),1,IF(OR($Q9054=\"µc-Si / a-Si\",$Q9054=\"a-Si (single)\",$Q9054=\"a-Si (tandem)\",$Q9054=\"a-Si (triple)\"),3,2))))","v":1},{"$f":"IF($O9054=\"Sunpower Corp.\",3,(IF(OR($Q9054=\"mono\",$Q9054=\"poly\",$Q9054=\"HIT\",$Q9054=\"EFG\",$Q9054=\"mono-LGBC\"),1,2)))","v":1},{"$f":"IF($O9054=\"Sunpower Corp.\",3,(IF(OR($Q9054=\"mono\",$Q9054=\"poly\",$Q9054=\"HIT\",$Q9054=\"EFG\",$Q9054=\"mono-LGBC\"),1,IF(OR($Q9054=\"µc-Si / a-Si\",$Q9054=\"a-Si (single)\",$Q9054=\"a-Si (tandem)\",$Q9054=\"a-Si (triple)\"),3,2))))","v":1},0,null,null,5602,null,null,9054]
["Mitsubishi Electric Corporation PV-UE130MF5N","Mitsubishi Electric Corporation ","PV-UE130MF5N",130,"+10...-5",17.399999999999999,7.47,21.9,8.0500000000000007,-74.459999999999994,4.83,-0.47,null,"Japan","Mitsubishi Electric Corporation",12.901559829711914,"poly",36,"square",1495,674,46,"aluminum","cable MC new",13.5,"global.mitsubishielectric.com/solar","-","-","-","-","-",{"$f":"IF($O9073=\"Sunpower Corp.\",3,(IF(OR($Q9073=\"mono\",$Q9073=\"poly\",$Q9073=\"HIT\",$Q9073=\"EFG\",$Q9073=\"mono-LGBC\"),1,IF(OR($Q9073=\"µc-Si / a-Si\",$Q9073=\"a-Si (single)\",$Q9073=\"a-Si (tandem)\",$Q9073=\"a-Si (triple)\"),3,2))))","v":1},{"$f":"IF($O9073=\"Sunpower Corp.\",3,(IF(OR($Q9073=\"mono\",$Q9073=\"poly\",$Q9073=\"HIT\",$Q9073=\"EFG\",$Q9073=\"mono-LGBC\"),1,2)))","v":1},{"$f":"IF($O9073=\"Sunpower Corp.\",3,(IF(OR($Q9073=\"mono\",$Q9073=\"poly\",$Q9073=\"HIT\",$Q9073=\"EFG\",$Q9073=\"mono-LGBC\"),1,IF(OR($Q9073=\"µc-Si / a-Si\",$Q9073=\"a-Si (single)\",$Q9073=\"a-Si (tandem)\",$Q9073=\"a-Si (triple)\"),3,2))))","v":1},0,null,null,5612,null,null,9073]
["ModulTeq. Ltd. & Co. KG MTS180-72","ModulTeq. Ltd. & Co. KG ","MTS180-72",180,"+3...-3",36.36,4.95,43.64,5.01,-165.83199999999999,5.01,-0.47,null,null,null,14.099510192871094,"mono",72,"pseudo-square",1580,808,35,"aluminum","junction box",15,"www.modulteq.com","-","-","-","-","-",{"$f":"IF($O9099=\"Sunpower Corp.\",3,(IF(OR($Q9099=\"mono\",$Q9099=\"poly\",$Q9099=\"HIT\",$Q9099=\"EFG\",$Q9099=\"mono-LGBC\"),1,IF(OR($Q9099=\"µc-Si / a-Si\",$Q9099=\"a-Si (single)\",$Q9099=\"a-Si (tandem)\",$Q9099=\"a-Si (triple)\"),3,2))))","v":1},{"$f":"IF($O9099=\"Sunpower Corp.\",3,(IF(OR($Q9099=\"mono\",$Q9099=\"poly\",$Q9099=\"HIT\",$Q9099=\"EFG\",$Q9099=\"mono-LGBC\"),1,2)))","v":1},{"$f":"IF($O9099=\"Sunpower Corp.\",3,(IF(OR($Q9099=\"mono\",$Q9099=\"poly\",$Q9099=\"HIT\",$Q9099=\"EFG\",$Q9099=\"mono-LGBC\"),1,IF(OR($Q9099=\"µc-Si / a-Si\",$Q9099=\"a-Si (single)\",$Q9099=\"a-Si (tandem)\",$Q9099=\"a-Si (triple)\"),3,2))))","v":1},0,null,null,20564,null,null,9099]
["Moser Baer MBPV 220","Moser Baer ","MBPV 220",220,"+2,5...0",30,7.34,36.1,7.95,-126.35,5.5650000000000004,-0.5,1000,null,null,13.276889801025391,"poly",60,"square",1662,997,41,"aluminum","junction box Tyco",21.5,null,"-","-","-","-","-",{"$f":"IF($O9118=\"Sunpower Corp.\",3,(IF(OR($Q9118=\"mono\",$Q9118=\"poly\",$Q9118=\"HIT\",$Q9118=\"EFG\",$Q9118=\"mono-LGBC\"),1,IF(OR($Q9118=\"µc-Si / a-Si\",$Q9118=\"a-Si (single)\",$Q9118=\"a-Si (tandem)\",$Q9118=\"a-Si (triple)\"),3,2))))","v":1},{"$f":"IF($O9118=\"Sunpower Corp.\",3,(IF(OR($Q9118=\"mono\",$Q9118=\"poly\",$Q9118=\"HIT\",$Q9118=\"EFG\",$Q9118=\"mono-LGBC\"),1,2)))","v":1},{"$f":"IF($O9118=\"Sunpower Corp.\",3,(IF(OR($Q9118=\"mono\",$Q9118=\"poly\",$Q9118=\"HIT\",$Q9118=\"EFG\",$Q9118=\"mono-LGBC\"),1,IF(OR($Q9118=\"µc-Si / a-Si\",$Q9118=\"a-Si (single)\",$Q9118=\"a-Si (tandem)\",$Q9118=\"a-Si (triple)\"),3,2))))","v":1},0,null,1,6849,null,null,9118]
["Moser Baer MBPV CAAP 235","Moser Baer ","MBPV CAAP 235",235,"+3...-3",30.59,7.68,37.340000000000003,8.24,-130.69,9.4760000000000009,-0.45,1000,null,null,14.276590347290039,"poly",60,"square",1661,991,37,"aluminum","junction box MC4",18.7,"www.moserbaer.com","-","-","-","-","-",{"$f":"IF($O9128=\"Sunpower Corp.\",3,(IF(OR($Q9128=\"mono\",$Q9128=\"poly\",$Q9128=\"HIT\",$Q9128=\"EFG\",$Q9128=\"mono-LGBC\"),1,IF(OR($Q9128=\"µc-Si / a-Si\",$Q9128=\"a-Si (single)\",$Q9128=\"a-Si (tandem)\",$Q9128=\"a-Si (triple)\"),3,2))))","v":1},{"$f":"IF($O9128=\"Sunpower Corp.\",3,(IF(OR($Q9128=\"mono\",$Q9128=\"poly\",$Q9128=\"HIT\",$Q9128=\"EFG\",$Q9128=\"mono-LGBC\"),1,2)))","v":1},{"$f":"IF($O9128=\"Sunpower Corp.\",3,(IF(OR($Q9128=\"mono\",$Q9128=\"poly\",$Q9128=\"HIT\",$Q9128=\"EFG\",$Q9128=\"mono-LGBC\"),1,IF(OR($Q9128=\"µc-Si / a-Si\",$Q9128=\"a-Si (single)\",$Q9128=\"a-Si (tandem)\",$Q9128=\"a-Si (triple)\"),3,2))))","v":1},0,null,1,31679,null,null,9128]
["Moser Baer MBTF Bin 340 W","Moser Baer ","MBTF Bin 340 W",340,"+3...-3",138,2.46,183,2.94,-585.6,4.1160000000000005,-0.2,1000,null,null,5.9440560340881348,"a-Si (single)",null,null,2600,2200,7.5,"frameless","junction box MC",98,"www.moserbaer.com","-","-","-","-","-",{"$f":"IF($O9144=\"Sunpower Corp.\",3,(IF(OR($Q9144=\"mono\",$Q9144=\"poly\",$Q9144=\"HIT\",$Q9144=\"EFG\",$Q9144=\"mono-LGBC\"),1,IF(OR($Q9144=\"µc-Si / a-Si\",$Q9144=\"a-Si (single)\",$Q9144=\"a-Si (tandem)\",$Q9144=\"a-Si (triple)\"),3,2))))","v":3},{"$f":"IF($O9144=\"Sunpower Corp.\",3,(IF(OR($Q9144=\"mono\",$Q9144=\"poly\",$Q9144=\"HIT\",$Q9144=\"EFG\",$Q9144=\"mono-LGBC\"),1,2)))","v":2},{"$f":"IF($O9144=\"Sunpower Corp.\",3,(IF(OR($Q9144=\"mono\",$Q9144=\"poly\",$Q9144=\"HIT\",$Q9144=\"EFG\",$Q9144=\"mono-LGBC\"),1,IF(OR($Q9144=\"µc-Si / a-Si\",$Q9144=\"a-Si (single)\",$Q9144=\"a-Si (tandem)\",$Q9144=\"a-Si (triple)\"),3,2))))","v":3},0,null,null,21576,null,null,9144]
["Nanosolar Inc. Utility Panel 210","Nanosolar Inc. ","Utility Panel 210",210,"+5...-5",35.299999999999997,6.1,47.6,7.2,-142.80000000000001,0.72,-0.45,1500,"Germany","Nanosolar",10.485019683837891,"CIGS",84,null,1937,1034,7,"frameless","cable",32,"www.nanosolar.com","-","-","-","-","-",{"$f":"IF($O9173=\"Sunpower Corp.\",3,(IF(OR($Q9173=\"mono\",$Q9173=\"poly\",$Q9173=\"HIT\",$Q9173=\"EFG\",$Q9173=\"mono-LGBC\"),1,IF(OR($Q9173=\"µc-Si / a-Si\",$Q9173=\"a-Si (single)\",$Q9173=\"a-Si (tandem)\",$Q9173=\"a-Si (triple)\"),3,2))))","v":2},{"$f":"IF($O9173=\"Sunpower Corp.\",3,(IF(OR($Q9173=\"mono\",$Q9173=\"poly\",$Q9173=\"HIT\",$Q9173=\"EFG\",$Q9173=\"mono-LGBC\"),1,2)))","v":2},{"$f":"IF($O9173=\"Sunpower Corp.\",3,(IF(OR($Q9173=\"mono\",$Q9173=\"poly\",$Q9173=\"HIT\",$Q9173=\"EFG\",$Q9173=\"mono-LGBC\"),1,IF(OR($Q9173=\"µc-Si / a-Si\",$Q9173=\"a-Si (single)\",$Q9173=\"a-Si (tandem)\",$Q9173=\"a-Si (triple)\"),3,2))))","v":2},0,null,null,12405,null,null,9173]
["Naps Systems Oy NP135GK","Naps Systems Oy ","NP135GK",135,"+3,7...0",17.2,7.84,22.2,8.49,-77.7,4.2450000000000001,-0.53,750,"Estonia",null,13.614359855651855,"poly",36,"square",1480,670,34,"aluminum","cable H + S",10.5,"www.napssystems.com","-","-","-","-","-",{"$f":"IF($O9189=\"Sunpower Corp.\",3,(IF(OR($Q9189=\"mono\",$Q9189=\"poly\",$Q9189=\"HIT\",$Q9189=\"EFG\",$Q9189=\"mono-LGBC\"),1,IF(OR($Q9189=\"µc-Si / a-Si\",$Q9189=\"a-Si (single)\",$Q9189=\"a-Si (tandem)\",$Q9189=\"a-Si (triple)\"),3,2))))","v":1},{"$f":"IF($O9189=\"Sunpower Corp.\",3,(IF(OR($Q9189=\"mono\",$Q9189=\"poly\",$Q9189=\"HIT\",$Q9189=\"EFG\",$Q9189=\"mono-LGBC\"),1,2)))","v":1},{"$f":"IF($O9189=\"Sunpower Corp.\",3,(IF(OR($Q9189=\"mono\",$Q9189=\"poly\",$Q9189=\"HIT\",$Q9189=\"EFG\",$Q9189=\"mono-LGBC\"),1,IF(OR($Q9189=\"µc-Si / a-Si\",$Q9189=\"a-Si (single)\",$Q9189=\"a-Si (tandem)\",$Q9189=\"a-Si (triple)\"),3,2))))","v":1},0,null,null,26520,null,null,9189]
["Naps Systems Oy Pallas 205 SBW","Naps Systems Oy ","Pallas 205 SBW",205,"+2,44...0",25.7,7.96,33.200000000000003,8.6,-116.2,3.87,-0.53,1000,"Sweden",null,14.191860198974609,"poly",54,"square",1465,986,35,"aluminum","cable H + S",19.3,"www.napssystems.com","-","-","-","-","-",{"$f":"IF($O9198=\"Sunpower Corp.\",3,(IF(OR($Q9198=\"mono\",$Q9198=\"poly\",$Q9198=\"HIT\",$Q9198=\"EFG\",$Q9198=\"mono-LGBC\"),1,IF(OR($Q9198=\"µc-Si / a-Si\",$Q9198=\"a-Si (single)\",$Q9198=\"a-Si (tandem)\",$Q9198=\"a-Si (triple)\"),3,2))))","v":1},{"$f":"IF($O9198=\"Sunpower Corp.\",3,(IF(OR($Q9198=\"mono\",$Q9198=\"poly\",$Q9198=\"HIT\",$Q9198=\"EFG\",$Q9198=\"mono-LGBC\"),1,2)))","v":1},{"$f":"IF($O9198=\"Sunpower Corp.\",3,(IF(OR($Q9198=\"mono\",$Q9198=\"poly\",$Q9198=\"HIT\",$Q9198=\"EFG\",$Q9198=\"mono-LGBC\"),1,IF(OR($Q9198=\"µc-Si / a-Si\",$Q9198=\"a-Si (single)\",$Q9198=\"a-Si (tandem)\",$Q9198=\"a-Si (triple)\"),3,2))))","v":1},0,null,null,14809,null,null,9198]
["NENGLI CLEAN ENERGY INDUSTRY LTD NG-SUNM 230","NENGLI CLEAN ENERGY INDUSTRY LTD ","NG-SUNM 230",230,"+3...-1",30.48,7.55,36.75,8.57,-128.625,2.1425000000000001,-0.4,1000,null,null,14.051810264587402,"mono",60,"pseudo-square",1650,992,45,"aluminum","junction box MC4",21,"www.nengli-earth.com","-","-","-","-","-",{"$f":"IF($O9228=\"Sunpower Corp.\",3,(IF(OR($Q9228=\"mono\",$Q9228=\"poly\",$Q9228=\"HIT\",$Q9228=\"EFG\",$Q9228=\"mono-LGBC\"),1,IF(OR($Q9228=\"µc-Si / a-Si\",$Q9228=\"a-Si (single)\",$Q9228=\"a-Si (tandem)\",$Q9228=\"a-Si (triple)\"),3,2))))","v":1},{"$f":"IF($O9228=\"Sunpower Corp.\",3,(IF(OR($Q9228=\"mono\",$Q9228=\"poly\",$Q9228=\"HIT\",$Q9228=\"EFG\",$Q9228=\"mono-LGBC\"),1,2)))","v":1},{"$f":"IF($O9228=\"Sunpower Corp.\",3,(IF(OR($Q9228=\"mono\",$Q9228=\"poly\",$Q9228=\"HIT\",$Q9228=\"EFG\",$Q9228=\"mono-LGBC\"),1,IF(OR($Q9228=\"µc-Si / a-Si\",$Q9228=\"a-Si (single)\",$Q9228=\"a-Si (tandem)\",$Q9228=\"a-Si (triple)\"),3,2))))","v":1},0,null,null,29100,null,null,9228]
["NENGLI CLEAN ENERGY INDUSTRY LTD NG-SUNP 230","NENGLI CLEAN ENERGY INDUSTRY LTD ","NG-SUNP 230",230,"+3...-1",30,7.66,37,8.18,-129.5,2.0449999999999999,-0.4,1000,null,null,14.051810264587402,"poly",60,"square",1650,992,50,"aluminum","junction box MC4",21,"www.nengli-earth.com","-","-","-","-","-",{"$f":"IF($O9243=\"Sunpower Corp.\",3,(IF(OR($Q9243=\"mono\",$Q9243=\"poly\",$Q9243=\"HIT\",$Q9243=\"EFG\",$Q9243=\"mono-LGBC\"),1,IF(OR($Q9243=\"µc-Si / a-Si\",$Q9243=\"a-Si (single)\",$Q9243=\"a-Si (tandem)\",$Q9243=\"a-Si (triple)\"),3,2))))","v":1},{"$f":"IF($O9243=\"Sunpower Corp.\",3,(IF(OR($Q9243=\"mono\",$Q9243=\"poly\",$Q9243=\"HIT\",$Q9243=\"EFG\",$Q9243=\"mono-LGBC\"),1,2)))","v":1},{"$f":"IF($O9243=\"Sunpower Corp.\",3,(IF(OR($Q9243=\"mono\",$Q9243=\"poly\",$Q9243=\"HIT\",$Q9243=\"EFG\",$Q9243=\"mono-LGBC\"),1,IF(OR($Q9243=\"µc-Si / a-Si\",$Q9243=\"a-Si (single)\",$Q9243=\"a-Si (tandem)\",$Q9243=\"a-Si (triple)\"),3,2))))","v":1},0,null,null,29115,null,null,9243]
["NexPower Technology Corporation NB-120AP","NexPower Technology Corporation ","NB-120AP",120,"+...",120,1,169,1.1000000000000001,-540.79999999999995,0.77,-0.28000000000000003,null,null,null,7.792208194732666,"µc-Si / a-Si",null,null,1400,1100,10.9,"frameless",null,40,null,"-","-","-","-","-",{"$f":"IF($O9273=\"Sunpower Corp.\",3,(IF(OR($Q9273=\"mono\",$Q9273=\"poly\",$Q9273=\"HIT\",$Q9273=\"EFG\",$Q9273=\"mono-LGBC\"),1,IF(OR($Q9273=\"µc-Si / a-Si\",$Q9273=\"a-Si (single)\",$Q9273=\"a-Si (tandem)\",$Q9273=\"a-Si (triple)\"),3,2))))","v":3},{"$f":"IF($O9273=\"Sunpower Corp.\",3,(IF(OR($Q9273=\"mono\",$Q9273=\"poly\",$Q9273=\"HIT\",$Q9273=\"EFG\",$Q9273=\"mono-LGBC\"),1,2)))","v":2},{"$f":"IF($O9273=\"Sunpower Corp.\",3,(IF(OR($Q9273=\"mono\",$Q9273=\"poly\",$Q9273=\"HIT\",$Q9273=\"EFG\",$Q9273=\"mono-LGBC\"),1,IF(OR($Q9273=\"µc-Si / a-Si\",$Q9273=\"a-Si (single)\",$Q9273=\"a-Si (tandem)\",$Q9273=\"a-Si (triple)\"),3,2))))","v":3},0,null,null,28741,null,null,9273]
["Ningbo Beida New Energy S&T Co., LTD BD155-72M","Ningbo Beida New Energy S&T Co., LTD ","BD155-72M",155,"+3...-3",35.200000000000003,4.4000000000000004,43.3,4.9800000000000004,-149.81799999999998,3.2370000000000001,-0.48799999999999999,1000,null,null,12.141249656677246,"mono",72,"pseudo-square",1580,808,50,"aluminum","junction box",15.5,"www.beida-solar.com","-","-","-","-","-",{"$f":"IF($O9292=\"Sunpower Corp.\",3,(IF(OR($Q9292=\"mono\",$Q9292=\"poly\",$Q9292=\"HIT\",$Q9292=\"EFG\",$Q9292=\"mono-LGBC\"),1,IF(OR($Q9292=\"µc-Si / a-Si\",$Q9292=\"a-Si (single)\",$Q9292=\"a-Si (tandem)\",$Q9292=\"a-Si (triple)\"),3,2))))","v":1},{"$f":"IF($O9292=\"Sunpower Corp.\",3,(IF(OR($Q9292=\"mono\",$Q9292=\"poly\",$Q9292=\"HIT\",$Q9292=\"EFG\",$Q9292=\"mono-LGBC\"),1,2)))","v":1},{"$f":"IF($O9292=\"Sunpower Corp.\",3,(IF(OR($Q9292=\"mono\",$Q9292=\"poly\",$Q9292=\"HIT\",$Q9292=\"EFG\",$Q9292=\"mono-LGBC\"),1,IF(OR($Q9292=\"µc-Si / a-Si\",$Q9292=\"a-Si (single)\",$Q9292=\"a-Si (tandem)\",$Q9292=\"a-Si (triple)\"),3,2))))","v":1},0,null,null,19656,null,null,9292]
["Ningbo Beida New Energy S&T Co., LTD BD175-48P","Ningbo Beida New Energy S&T Co., LTD ","BD175-48P",175,"+3...-3",23.2,7.54,29.04,8.1,-100.47839999999998,5.2649999999999997,-0.48799999999999999,1000,null,null,13.324119567871094,"poly",48,"square",1324,992,50,"aluminum","junction box",15.6,"www.beida-solar.com","-","-","-","-","-",{"$f":"IF($O9299=\"Sunpower Corp.\",3,(IF(OR($Q9299=\"mono\",$Q9299=\"poly\",$Q9299=\"HIT\",$Q9299=\"EFG\",$Q9299=\"mono-LGBC\"),1,IF(OR($Q9299=\"µc-Si / a-Si\",$Q9299=\"a-Si (single)\",$Q9299=\"a-Si (tandem)\",$Q9299=\"a-Si (triple)\"),3,2))))","v":1},{"$f":"IF($O9299=\"Sunpower Corp.\",3,(IF(OR($Q9299=\"mono\",$Q9299=\"poly\",$Q9299=\"HIT\",$Q9299=\"EFG\",$Q9299=\"mono-LGBC\"),1,2)))","v":1},{"$f":"IF($O9299=\"Sunpower Corp.\",3,(IF(OR($Q9299=\"mono\",$Q9299=\"poly\",$Q9299=\"HIT\",$Q9299=\"EFG\",$Q9299=\"mono-LGBC\"),1,IF(OR($Q9299=\"µc-Si / a-Si\",$Q9299=\"a-Si (single)\",$Q9299=\"a-Si (tandem)\",$Q9299=\"a-Si (triple)\"),3,2))))","v":1},0,null,null,19671,null,null,9299]
["Ningbo Beida New Energy S&T Co., LTD BD215-54P","Ningbo Beida New Energy S&T Co., LTD ","BD215-54P",215,"+3...-3",27.54,7.81,33.200000000000003,8.5,-114.87199999999999,5.5250000000000004,-0.48799999999999999,1000,null,null,14.624420166015625,"poly",54,"square",1482,992,50,"aluminum","junction box",17.8,"www.beida-solar.com","-","-","-","-","-",{"$f":"IF($O9317=\"Sunpower Corp.\",3,(IF(OR($Q9317=\"mono\",$Q9317=\"poly\",$Q9317=\"HIT\",$Q9317=\"EFG\",$Q9317=\"mono-LGBC\"),1,IF(OR($Q9317=\"µc-Si / a-Si\",$Q9317=\"a-Si (single)\",$Q9317=\"a-Si (tandem)\",$Q9317=\"a-Si (triple)\"),3,2))))","v":1},{"$f":"IF($O9317=\"Sunpower Corp.\",3,(IF(OR($Q9317=\"mono\",$Q9317=\"poly\",$Q9317=\"HIT\",$Q9317=\"EFG\",$Q9317=\"mono-LGBC\"),1,2)))","v":1},{"$f":"IF($O9317=\"Sunpower Corp.\",3,(IF(OR($Q9317=\"mono\",$Q9317=\"poly\",$Q9317=\"HIT\",$Q9317=\"EFG\",$Q9317=\"mono-LGBC\"),1,IF(OR($Q9317=\"µc-Si / a-Si\",$Q9317=\"a-Si (single)\",$Q9317=\"a-Si (tandem)\",$Q9317=\"a-Si (triple)\"),3,2))))","v":1},0,null,null,19688,null,null,9317]
["Ningbo Best Solar Energy Technology Co., Ltd. BEST180MI-72","Ningbo Best Solar Energy Technology Co., Ltd. ","BEST180MI-72",180,"+3...-3",36,5,44.1,5.3,-154.35,1.59,-0.45,1000,"China",null,14.099510192871094,"mono",72,"pseudo-square",1580,808,46,"aluminum","junction box",18.5,"www.cnbestsolar.com","-","-","-","-","-",{"$f":"IF($O9344=\"Sunpower Corp.\",3,(IF(OR($Q9344=\"mono\",$Q9344=\"poly\",$Q9344=\"HIT\",$Q9344=\"EFG\",$Q9344=\"mono-LGBC\"),1,IF(OR($Q9344=\"µc-Si / a-Si\",$Q9344=\"a-Si (single)\",$Q9344=\"a-Si (tandem)\",$Q9344=\"a-Si (triple)\"),3,2))))","v":1},{"$f":"IF($O9344=\"Sunpower Corp.\",3,(IF(OR($Q9344=\"mono\",$Q9344=\"poly\",$Q9344=\"HIT\",$Q9344=\"EFG\",$Q9344=\"mono-LGBC\"),1,2)))","v":1},{"$f":"IF($O9344=\"Sunpower Corp.\",3,(IF(OR($Q9344=\"mono\",$Q9344=\"poly\",$Q9344=\"HIT\",$Q9344=\"EFG\",$Q9344=\"mono-LGBC\"),1,IF(OR($Q9344=\"µc-Si / a-Si\",$Q9344=\"a-Si (single)\",$Q9344=\"a-Si (tandem)\",$Q9344=\"a-Si (triple)\"),3,2))))","v":1},0,null,null,34611,null,null,9344]
["Ningbo Best Solar Energy Technology Co., Ltd. Best-210W (1575x1080x46)","Ningbo Best Solar Energy Technology Co., Ltd. ","Best-210W (1575x1080x46)",210,"+3...-3",47.5,4.42,58.5,4.79,-193.05,1.9160000000000001,-0.43,1000,null,null,12.345680236816406,"mono",96,"pseudo-square",1575,1080,46,"aluminum","junction box",23,"www.cnbestsolar.com","-","-","-","-","-",{"$f":"IF($O9362=\"Sunpower Corp.\",3,(IF(OR($Q9362=\"mono\",$Q9362=\"poly\",$Q9362=\"HIT\",$Q9362=\"EFG\",$Q9362=\"mono-LGBC\"),1,IF(OR($Q9362=\"µc-Si / a-Si\",$Q9362=\"a-Si (single)\",$Q9362=\"a-Si (tandem)\",$Q9362=\"a-Si (triple)\"),3,2))))","v":1},{"$f":"IF($O9362=\"Sunpower Corp.\",3,(IF(OR($Q9362=\"mono\",$Q9362=\"poly\",$Q9362=\"HIT\",$Q9362=\"EFG\",$Q9362=\"mono-LGBC\"),1,2)))","v":1},{"$f":"IF($O9362=\"Sunpower Corp.\",3,(IF(OR($Q9362=\"mono\",$Q9362=\"poly\",$Q9362=\"HIT\",$Q9362=\"EFG\",$Q9362=\"mono-LGBC\"),1,IF(OR($Q9362=\"µc-Si / a-Si\",$Q9362=\"a-Si (single)\",$Q9362=\"a-Si (tandem)\",$Q9362=\"a-Si (triple)\"),3,2))))","v":1},0,null,null,20602,null,null,9362]
["Ningbo Best Solar Energy Technology Co., Ltd. Best-230W","Ningbo Best Solar Energy Technology Co., Ltd. ","Best-230W",230,"+3...0",48.5,4.74,59.1,5.19,-195.03,2.0760000000000001,-0.43,1000,null,null,13.521459579467773,"mono",96,"pseudo-square",1575,1080,46,"aluminum","junction box",23,"www.cnbestsolar.com","-","-","-","-","-",{"$f":"IF($O9383=\"Sunpower Corp.\",3,(IF(OR($Q9383=\"mono\",$Q9383=\"poly\",$Q9383=\"HIT\",$Q9383=\"EFG\",$Q9383=\"mono-LGBC\"),1,IF(OR($Q9383=\"µc-Si / a-Si\",$Q9383=\"a-Si (single)\",$Q9383=\"a-Si (tandem)\",$Q9383=\"a-Si (triple)\"),3,2))))","v":1},{"$f":"IF($O9383=\"Sunpower Corp.\",3,(IF(OR($Q9383=\"mono\",$Q9383=\"poly\",$Q9383=\"HIT\",$Q9383=\"EFG\",$Q9383=\"mono-LGBC\"),1,2)))","v":1},{"$f":"IF($O9383=\"Sunpower Corp.\",3,(IF(OR($Q9383=\"mono\",$Q9383=\"poly\",$Q9383=\"HIT\",$Q9383=\"EFG\",$Q9383=\"mono-LGBC\"),1,IF(OR($Q9383=\"µc-Si / a-Si\",$Q9383=\"a-Si (single)\",$Q9383=\"a-Si (tandem)\",$Q9383=\"a-Si (triple)\"),3,2))))","v":1},0,null,null,20318,null,null,9383]
["Ningbo Best Solar Energy Technology Co., Ltd. Best-270NI","Ningbo Best Solar Energy Technology Co., Ltd. ","Best-270NI",270,"+3...-3",36.200000000000003,7.48,44.4,8.16,-155.4,3.2640000000000002,-0.5,1000,null,null,13.950240135192871,"mono",72,"pseudo-square",1955,990,46,"aluminum","junction box",23,"www.cnbestsolar.com","-","-","-","-","-",{"$f":"IF($O9407=\"Sunpower Corp.\",3,(IF(OR($Q9407=\"mono\",$Q9407=\"poly\",$Q9407=\"HIT\",$Q9407=\"EFG\",$Q9407=\"mono-LGBC\"),1,IF(OR($Q9407=\"µc-Si / a-Si\",$Q9407=\"a-Si (single)\",$Q9407=\"a-Si (tandem)\",$Q9407=\"a-Si (triple)\"),3,2))))","v":1},{"$f":"IF($O9407=\"Sunpower Corp.\",3,(IF(OR($Q9407=\"mono\",$Q9407=\"poly\",$Q9407=\"HIT\",$Q9407=\"EFG\",$Q9407=\"mono-LGBC\"),1,2)))","v":1},{"$f":"IF($O9407=\"Sunpower Corp.\",3,(IF(OR($Q9407=\"mono\",$Q9407=\"poly\",$Q9407=\"HIT\",$Q9407=\"EFG\",$Q9407=\"mono-LGBC\"),1,IF(OR($Q9407=\"µc-Si / a-Si\",$Q9407=\"a-Si (single)\",$Q9407=\"a-Si (tandem)\",$Q9407=\"a-Si (triple)\"),3,2))))","v":1},0,null,null,20300,null,null,9407]
["Ningbo Komaes Solar Technology Co., Ltd. KM(P)140","Ningbo Komaes Solar Technology Co., Ltd. ","KM(P)140",140,"+3...-3",18.36,7.65,21.96,8.17,-76.86,4.085,-0.47,1000,null,null,13.910969734191895,"poly",36,"square",1480,680,35,"aluminum","junction box",11.6,"www.komaes-solar.com","-","-","-","-","-",{"$f":"IF($O9428=\"Sunpower Corp.\",3,(IF(OR($Q9428=\"mono\",$Q9428=\"poly\",$Q9428=\"HIT\",$Q9428=\"EFG\",$Q9428=\"mono-LGBC\"),1,IF(OR($Q9428=\"µc-Si / a-Si\",$Q9428=\"a-Si (single)\",$Q9428=\"a-Si (tandem)\",$Q9428=\"a-Si (triple)\"),3,2))))","v":1},{"$f":"IF($O9428=\"Sunpower Corp.\",3,(IF(OR($Q9428=\"mono\",$Q9428=\"poly\",$Q9428=\"HIT\",$Q9428=\"EFG\",$Q9428=\"mono-LGBC\"),1,2)))","v":1},{"$f":"IF($O9428=\"Sunpower Corp.\",3,(IF(OR($Q9428=\"mono\",$Q9428=\"poly\",$Q9428=\"HIT\",$Q9428=\"EFG\",$Q9428=\"mono-LGBC\"),1,IF(OR($Q9428=\"µc-Si / a-Si\",$Q9428=\"a-Si (single)\",$Q9428=\"a-Si (tandem)\",$Q9428=\"a-Si (triple)\"),3,2))))","v":1},0,null,null,35090,null,null,9428]
["Ningbo Komaes Solar Technology Co., Ltd. KM(P)220","Ningbo Komaes Solar Technology Co., Ltd. ","KM(P)220",220,"+5...-5",30,7.4,36.6,8.1,-124.44,4.05,-0.5,1000,null,null,13.432900428771973,"poly",60,"square",1646,995,50,"aluminum","junction box",19.5,"www.komaes-solar.com","-","-","-","-","-",{"$f":"IF($O9432=\"Sunpower Corp.\",3,(IF(OR($Q9432=\"mono\",$Q9432=\"poly\",$Q9432=\"HIT\",$Q9432=\"EFG\",$Q9432=\"mono-LGBC\"),1,IF(OR($Q9432=\"µc-Si / a-Si\",$Q9432=\"a-Si (single)\",$Q9432=\"a-Si (tandem)\",$Q9432=\"a-Si (triple)\"),3,2))))","v":1},{"$f":"IF($O9432=\"Sunpower Corp.\",3,(IF(OR($Q9432=\"mono\",$Q9432=\"poly\",$Q9432=\"HIT\",$Q9432=\"EFG\",$Q9432=\"mono-LGBC\"),1,2)))","v":1},{"$f":"IF($O9432=\"Sunpower Corp.\",3,(IF(OR($Q9432=\"mono\",$Q9432=\"poly\",$Q9432=\"HIT\",$Q9432=\"EFG\",$Q9432=\"mono-LGBC\"),1,IF(OR($Q9432=\"µc-Si / a-Si\",$Q9432=\"a-Si (single)\",$Q9432=\"a-Si (tandem)\",$Q9432=\"a-Si (triple)\"),3,2))))","v":1},0,null,null,11662,null,null,9432]
["Ningbo Komaes Solar Technology Co., Ltd. KM140(6)","Ningbo Komaes Solar Technology Co., Ltd. ","KM140(6)",140,"+3...-3",18.36,7.65,21.96,8.17,-76.86,4.085,-0.47,1000,null,null,13.910969734191895,"mono",36,"pseudo-square",1480,680,35,"aluminum","junction box",11.6,"www.komaes-solar.com","-","-","-","-","-",{"$f":"IF($O9454=\"Sunpower Corp.\",3,(IF(OR($Q9454=\"mono\",$Q9454=\"poly\",$Q9454=\"HIT\",$Q9454=\"EFG\",$Q9454=\"mono-LGBC\"),1,IF(OR($Q9454=\"µc-Si / a-Si\",$Q9454=\"a-Si (single)\",$Q9454=\"a-Si (tandem)\",$Q9454=\"a-Si (triple)\"),3,2))))","v":1},{"$f":"IF($O9454=\"Sunpower Corp.\",3,(IF(OR($Q9454=\"mono\",$Q9454=\"poly\",$Q9454=\"HIT\",$Q9454=\"EFG\",$Q9454=\"mono-LGBC\"),1,2)))","v":1},{"$f":"IF($O9454=\"Sunpower Corp.\",3,(IF(OR($Q9454=\"mono\",$Q9454=\"poly\",$Q9454=\"HIT\",$Q9454=\"EFG\",$Q9454=\"mono-LGBC\"),1,IF(OR($Q9454=\"µc-Si / a-Si\",$Q9454=\"a-Si (single)\",$Q9454=\"a-Si (tandem)\",$Q9454=\"a-Si (triple)\"),3,2))))","v":1},0,null,null,35095,null,null,9454]
["Ningbo Komaes Solar Technology Co., Ltd. KM90","Ningbo Komaes Solar Technology Co., Ltd. ","KM90",90,"+3...-3",18.3,4.92,22.03,5.31,-77.105000000000004,2.6549999999999998,-0.47,1000,null,null,13.523670196533203,"mono",36,"pseudo-square",1210,550,35,"aluminum","junction box",8,"www.komaes-solar.com","-","-","-","-","-",{"$f":"IF($O9481=\"Sunpower Corp.\",3,(IF(OR($Q9481=\"mono\",$Q9481=\"poly\",$Q9481=\"HIT\",$Q9481=\"EFG\",$Q9481=\"mono-LGBC\"),1,IF(OR($Q9481=\"µc-Si / a-Si\",$Q9481=\"a-Si (single)\",$Q9481=\"a-Si (tandem)\",$Q9481=\"a-Si (triple)\"),3,2))))","v":1},{"$f":"IF($O9481=\"Sunpower Corp.\",3,(IF(OR($Q9481=\"mono\",$Q9481=\"poly\",$Q9481=\"HIT\",$Q9481=\"EFG\",$Q9481=\"mono-LGBC\"),1,2)))","v":1},{"$f":"IF($O9481=\"Sunpower Corp.\",3,(IF(OR($Q9481=\"mono\",$Q9481=\"poly\",$Q9481=\"HIT\",$Q9481=\"EFG\",$Q9481=\"mono-LGBC\"),1,IF(OR($Q9481=\"µc-Si / a-Si\",$Q9481=\"a-Si (single)\",$Q9481=\"a-Si (tandem)\",$Q9481=\"a-Si (triple)\"),3,2))))","v":1},0,null,null,35102,null,null,9481]
["Ningbo Qixin Solar Electrical Appliance Co., Ltd SL135CE-27M","Ningbo Qixin Solar Electrical Appliance Co., Ltd ","SL135CE-27M",135,"+5...-5",26.36,5.12,32.4,5.48,-123.12,2.1920000000000002,-0.47,null,null,null,13.923270225524902,"mono",54,"pseudo-square",1200,808,40,"aluminum","junction box",12.7,null,"-","-","-","-","-",{"$f":"IF($O9499=\"Sunpower Corp.\",3,(IF(OR($Q9499=\"mono\",$Q9499=\"poly\",$Q9499=\"HIT\",$Q9499=\"EFG\",$Q9499=\"mono-LGBC\"),1,IF(OR($Q9499=\"µc-Si / a-Si\",$Q9499=\"a-Si (single)\",$Q9499=\"a-Si (tandem)\",$Q9499=\"a-Si (triple)\"),3,2))))","v":1},{"$f":"IF($O9499=\"Sunpower Corp.\",3,(IF(OR($Q9499=\"mono\",$Q9499=\"poly\",$Q9499=\"HIT\",$Q9499=\"EFG\",$Q9499=\"mono-LGBC\"),1,2)))","v":1},{"$f":"IF($O9499=\"Sunpower Corp.\",3,(IF(OR($Q9499=\"mono\",$Q9499=\"poly\",$Q9499=\"HIT\",$Q9499=\"EFG\",$Q9499=\"mono-LGBC\"),1,IF(OR($Q9499=\"µc-Si / a-Si\",$Q9499=\"a-Si (single)\",$Q9499=\"a-Si (tandem)\",$Q9499=\"a-Si (triple)\"),3,2))))","v":1},0,null,null,8099,null,null,9499]
["Ningbo Qixin Solar Electrical Appliance Co., Ltd SL220CE-33P","Ningbo Qixin Solar Electrical Appliance Co., Ltd ","SL220CE-33P",220,"+...",30.12,7.3,36.299999999999997,7.81,-137.94,3.1240000000000001,-0.47,null,null,null,13.688400268554688,"poly",60,"square",1640,980,40,null,null,18.600000000000001,"www.nbqxsolar.com","-","-","-","-","-",{"$f":"IF($O9526=\"Sunpower Corp.\",3,(IF(OR($Q9526=\"mono\",$Q9526=\"poly\",$Q9526=\"HIT\",$Q9526=\"EFG\",$Q9526=\"mono-LGBC\"),1,IF(OR($Q9526=\"µc-Si / a-Si\",$Q9526=\"a-Si (single)\",$Q9526=\"a-Si (tandem)\",$Q9526=\"a-Si (triple)\"),3,2))))","v":1},{"$f":"IF($O9526=\"Sunpower Corp.\",3,(IF(OR($Q9526=\"mono\",$Q9526=\"poly\",$Q9526=\"HIT\",$Q9526=\"EFG\",$Q9526=\"mono-LGBC\"),1,2)))","v":1},{"$f":"IF($O9526=\"Sunpower Corp.\",3,(IF(OR($Q9526=\"mono\",$Q9526=\"poly\",$Q9526=\"HIT\",$Q9526=\"EFG\",$Q9526=\"mono-LGBC\"),1,IF(OR($Q9526=\"µc-Si / a-Si\",$Q9526=\"a-Si (single)\",$Q9526=\"a-Si (tandem)\",$Q9526=\"a-Si (triple)\"),3,2))))","v":1},0,null,null,11265,null,null,9526]
["Ningbo Qixin Solar Electrical Appliance Co., Ltd SL235CE-33P","Ningbo Qixin Solar Electrical Appliance Co., Ltd ","SL235CE-33P",235,"+...",33,7.12,39.86,7.69,-151.46799999999999,3.0760000000000001,-0.47,null,null,null,13.187430381774902,"poly",66,"square",1800,990,46,null,null,22.6,"www.nbqxsolar.com","-","-","-","-","-",{"$f":"IF($O9531=\"Sunpower Corp.\",3,(IF(OR($Q9531=\"mono\",$Q9531=\"poly\",$Q9531=\"HIT\",$Q9531=\"EFG\",$Q9531=\"mono-LGBC\"),1,IF(OR($Q9531=\"µc-Si / a-Si\",$Q9531=\"a-Si (single)\",$Q9531=\"a-Si (tandem)\",$Q9531=\"a-Si (triple)\"),3,2))))","v":1},{"$f":"IF($O9531=\"Sunpower Corp.\",3,(IF(OR($Q9531=\"mono\",$Q9531=\"poly\",$Q9531=\"HIT\",$Q9531=\"EFG\",$Q9531=\"mono-LGBC\"),1,2)))","v":1},{"$f":"IF($O9531=\"Sunpower Corp.\",3,(IF(OR($Q9531=\"mono\",$Q9531=\"poly\",$Q9531=\"HIT\",$Q9531=\"EFG\",$Q9531=\"mono-LGBC\"),1,IF(OR($Q9531=\"µc-Si / a-Si\",$Q9531=\"a-Si (single)\",$Q9531=\"a-Si (tandem)\",$Q9531=\"a-Si (triple)\"),3,2))))","v":1},0,null,null,11262,null,null,9531]
["Ningbo South New Energy Technology Co.,Ltd. NBS-72M-170","Ningbo South New Energy Technology Co.,Ltd. ","NBS-72M-170",170,"+5...-5",34.549999999999997,4.92,43.2,5.54,-164.16,4.4320000000000004,-0.6,1000,null,null,13.31620979309082,"mono",72,"pseudo-square",1580,808,45,"aluminum","junction box",15.5,"www.nbsouth.com","-","-","-","-","-",{"$f":"IF($O9564=\"Sunpower Corp.\",3,(IF(OR($Q9564=\"mono\",$Q9564=\"poly\",$Q9564=\"HIT\",$Q9564=\"EFG\",$Q9564=\"mono-LGBC\"),1,IF(OR($Q9564=\"µc-Si / a-Si\",$Q9564=\"a-Si (single)\",$Q9564=\"a-Si (tandem)\",$Q9564=\"a-Si (triple)\"),3,2))))","v":1},{"$f":"IF($O9564=\"Sunpower Corp.\",3,(IF(OR($Q9564=\"mono\",$Q9564=\"poly\",$Q9564=\"HIT\",$Q9564=\"EFG\",$Q9564=\"mono-LGBC\"),1,2)))","v":1},{"$f":"IF($O9564=\"Sunpower Corp.\",3,(IF(OR($Q9564=\"mono\",$Q9564=\"poly\",$Q9564=\"HIT\",$Q9564=\"EFG\",$Q9564=\"mono-LGBC\"),1,IF(OR($Q9564=\"µc-Si / a-Si\",$Q9564=\"a-Si (single)\",$Q9564=\"a-Si (tandem)\",$Q9564=\"a-Si (triple)\"),3,2))))","v":1},0,null,null,21025,null,null,9564]
["Ningbo Ulica Solar Science &Technology Co., Ltd. UL-180M-AD","Ningbo Ulica Solar Science &Technology Co., Ltd. ","UL-180M-AD",180,"+3...-3",36,5,44,5.37,-154,3.4904999999999999,-0.5,1000,null,null,14.240509986877441,"mono",72,"pseudo-square",1580,800,46,"aluminum","junction box",17,null,"-","-","-","-","-",{"$f":"IF($O9576=\"Sunpower Corp.\",3,(IF(OR($Q9576=\"mono\",$Q9576=\"poly\",$Q9576=\"HIT\",$Q9576=\"EFG\",$Q9576=\"mono-LGBC\"),1,IF(OR($Q9576=\"µc-Si / a-Si\",$Q9576=\"a-Si (single)\",$Q9576=\"a-Si (tandem)\",$Q9576=\"a-Si (triple)\"),3,2))))","v":1},{"$f":"IF($O9576=\"Sunpower Corp.\",3,(IF(OR($Q9576=\"mono\",$Q9576=\"poly\",$Q9576=\"HIT\",$Q9576=\"EFG\",$Q9576=\"mono-LGBC\"),1,2)))","v":1},{"$f":"IF($O9576=\"Sunpower Corp.\",3,(IF(OR($Q9576=\"mono\",$Q9576=\"poly\",$Q9576=\"HIT\",$Q9576=\"EFG\",$Q9576=\"mono-LGBC\"),1,IF(OR($Q9576=\"µc-Si / a-Si\",$Q9576=\"a-Si (single)\",$Q9576=\"a-Si (tandem)\",$Q9576=\"a-Si (triple)\"),3,2))))","v":1},0,null,null,11537,null,null,9576]
["Ningbo Ulica Solar Science &Technology Co., Ltd. UL-210P-54","Ningbo Ulica Solar Science &Technology Co., Ltd. ","UL-210P-54",210,"+3...-3",26.9,7.81,33.200000000000003,8.32,-116.2,5.4079999999999995,-0.4,1000,null,null,14.241510391235352,"poly",54,"square",1479,997,46,"aluminum","junction box",18,"www.ulicasolar.com","-","-","-","-","-",{"$f":"IF($O9590=\"Sunpower Corp.\",3,(IF(OR($Q9590=\"mono\",$Q9590=\"poly\",$Q9590=\"HIT\",$Q9590=\"EFG\",$Q9590=\"mono-LGBC\"),1,IF(OR($Q9590=\"µc-Si / a-Si\",$Q9590=\"a-Si (single)\",$Q9590=\"a-Si (tandem)\",$Q9590=\"a-Si (triple)\"),3,2))))","v":1},{"$f":"IF($O9590=\"Sunpower Corp.\",3,(IF(OR($Q9590=\"mono\",$Q9590=\"poly\",$Q9590=\"HIT\",$Q9590=\"EFG\",$Q9590=\"mono-LGBC\"),1,2)))","v":1},{"$f":"IF($O9590=\"Sunpower Corp.\",3,(IF(OR($Q9590=\"mono\",$Q9590=\"poly\",$Q9590=\"HIT\",$Q9590=\"EFG\",$Q9590=\"mono-LGBC\"),1,IF(OR($Q9590=\"µc-Si / a-Si\",$Q9590=\"a-Si (single)\",$Q9590=\"a-Si (tandem)\",$Q9590=\"a-Si (triple)\"),3,2))))","v":1},0,null,null,25932,null,null,9590]
["Ningbo Ulica Solar Science &Technology Co., Ltd. UL-275P-72","Ningbo Ulica Solar Science &Technology Co., Ltd. ","UL-275P-72",275,"+3...-3",36.1,7.62,44.1,8.35,-154.35,5.4275000000000002,-0.4,1000,null,null,14.123270034790039,"poly",72,"square",1953,997,46,"aluminum","junction box",18,"www.ulicasolar.com","-","-","-","-","-",{"$f":"IF($O9621=\"Sunpower Corp.\",3,(IF(OR($Q9621=\"mono\",$Q9621=\"poly\",$Q9621=\"HIT\",$Q9621=\"EFG\",$Q9621=\"mono-LGBC\"),1,IF(OR($Q9621=\"µc-Si / a-Si\",$Q9621=\"a-Si (single)\",$Q9621=\"a-Si (tandem)\",$Q9621=\"a-Si (triple)\"),3,2))))","v":1},{"$f":"IF($O9621=\"Sunpower Corp.\",3,(IF(OR($Q9621=\"mono\",$Q9621=\"poly\",$Q9621=\"HIT\",$Q9621=\"EFG\",$Q9621=\"mono-LGBC\"),1,2)))","v":1},{"$f":"IF($O9621=\"Sunpower Corp.\",3,(IF(OR($Q9621=\"mono\",$Q9621=\"poly\",$Q9621=\"HIT\",$Q9621=\"EFG\",$Q9621=\"mono-LGBC\"),1,IF(OR($Q9621=\"µc-Si / a-Si\",$Q9621=\"a-Si (single)\",$Q9621=\"a-Si (tandem)\",$Q9621=\"a-Si (triple)\"),3,2))))","v":1},0,null,null,25939,null,null,9621]
["Ningbo Ulica Solar Science &Technology Co., Ltd. UL-295P-72","Ningbo Ulica Solar Science &Technology Co., Ltd. ","UL-295P-72",295,"+3...-3",36.4,8.11,44.9,8.5500000000000007,-157.15,5.5575000000000001,-0.4,1000,null,null,15.150420188903809,"poly",72,"square",1953,997,46,"aluminum","junction box",18,"www.ulicasolar.com","-","-","-","-","-",{"$f":"IF($O9629=\"Sunpower Corp.\",3,(IF(OR($Q9629=\"mono\",$Q9629=\"poly\",$Q9629=\"HIT\",$Q9629=\"EFG\",$Q9629=\"mono-LGBC\"),1,IF(OR($Q9629=\"µc-Si / a-Si\",$Q9629=\"a-Si (single)\",$Q9629=\"a-Si (tandem)\",$Q9629=\"a-Si (triple)\"),3,2))))","v":1},{"$f":"IF($O9629=\"Sunpower Corp.\",3,(IF(OR($Q9629=\"mono\",$Q9629=\"poly\",$Q9629=\"HIT\",$Q9629=\"EFG\",$Q9629=\"mono-LGBC\"),1,2)))","v":1},{"$f":"IF($O9629=\"Sunpower Corp.\",3,(IF(OR($Q9629=\"mono\",$Q9629=\"poly\",$Q9629=\"HIT\",$Q9629=\"EFG\",$Q9629=\"mono-LGBC\"),1,IF(OR($Q9629=\"µc-Si / a-Si\",$Q9629=\"a-Si (single)\",$Q9629=\"a-Si (tandem)\",$Q9629=\"a-Si (triple)\"),3,2))))","v":1},0,null,null,25942,null,null,9629]
["Ningbo Zhonghong Photovoltaic Technology BSL6B-230P","Ningbo Zhonghong Photovoltaic Technology ","BSL6B-230P",230,"+3...-3",29.4,7.81,36.4,8.6199999999999992,-127.4,5.6029999999999998,null,1000,"China",null,14.272749900817871,"poly",60,"square",1641,982,45,"aluminum","junction box",20,null,"-","-","-","-","-",{"$f":"IF($O9646=\"Sunpower Corp.\",3,(IF(OR($Q9646=\"mono\",$Q9646=\"poly\",$Q9646=\"HIT\",$Q9646=\"EFG\",$Q9646=\"mono-LGBC\"),1,IF(OR($Q9646=\"µc-Si / a-Si\",$Q9646=\"a-Si (single)\",$Q9646=\"a-Si (tandem)\",$Q9646=\"a-Si (triple)\"),3,2))))","v":1},{"$f":"IF($O9646=\"Sunpower Corp.\",3,(IF(OR($Q9646=\"mono\",$Q9646=\"poly\",$Q9646=\"HIT\",$Q9646=\"EFG\",$Q9646=\"mono-LGBC\"),1,2)))","v":1},{"$f":"IF($O9646=\"Sunpower Corp.\",3,(IF(OR($Q9646=\"mono\",$Q9646=\"poly\",$Q9646=\"HIT\",$Q9646=\"EFG\",$Q9646=\"mono-LGBC\"),1,IF(OR($Q9646=\"µc-Si / a-Si\",$Q9646=\"a-Si (single)\",$Q9646=\"a-Si (tandem)\",$Q9646=\"a-Si (triple)\"),3,2))))","v":1},0,null,null,10309,null,null,9646]
["No.36 Research Institute of CETC NES36-5-85M","No.36 Research Institute of CETC ","NES36-5-85M",85,"+3...-3",18.2,4.67,22.3,5.25,-86.078000000000003,1.6274999999999999,-0.53,715,"China",null,13.147820472717285,"mono",36,"pseudo-square",1195,541,40,"aluminum","junction box",8,"www.cetcsolar.com","-","-","-","-","-",{"$f":"IF($O9674=\"Sunpower Corp.\",3,(IF(OR($Q9674=\"mono\",$Q9674=\"poly\",$Q9674=\"HIT\",$Q9674=\"EFG\",$Q9674=\"mono-LGBC\"),1,IF(OR($Q9674=\"µc-Si / a-Si\",$Q9674=\"a-Si (single)\",$Q9674=\"a-Si (tandem)\",$Q9674=\"a-Si (triple)\"),3,2))))","v":1},{"$f":"IF($O9674=\"Sunpower Corp.\",3,(IF(OR($Q9674=\"mono\",$Q9674=\"poly\",$Q9674=\"HIT\",$Q9674=\"EFG\",$Q9674=\"mono-LGBC\"),1,2)))","v":1},{"$f":"IF($O9674=\"Sunpower Corp.\",3,(IF(OR($Q9674=\"mono\",$Q9674=\"poly\",$Q9674=\"HIT\",$Q9674=\"EFG\",$Q9674=\"mono-LGBC\"),1,IF(OR($Q9674=\"µc-Si / a-Si\",$Q9674=\"a-Si (single)\",$Q9674=\"a-Si (tandem)\",$Q9674=\"a-Si (triple)\"),3,2))))","v":1},0,null,null,22025,null,null,9674]
["No.36 Research Institute of CETC NES54-6-210P","No.36 Research Institute of CETC ","NES54-6-210P",210,"+3...-3",26.4,7.95,33.6,8.33,-114.24,4.165,-0.45,1000,"China",null,14.284319877624512,"poly",54,"square",1482,992,50,"aluminum","junction box",16.8,"www.cetcsolar.com","-","-","-","-","-",{"$f":"IF($O9695=\"Sunpower Corp.\",3,(IF(OR($Q9695=\"mono\",$Q9695=\"poly\",$Q9695=\"HIT\",$Q9695=\"EFG\",$Q9695=\"mono-LGBC\"),1,IF(OR($Q9695=\"µc-Si / a-Si\",$Q9695=\"a-Si (single)\",$Q9695=\"a-Si (tandem)\",$Q9695=\"a-Si (triple)\"),3,2))))","v":1},{"$f":"IF($O9695=\"Sunpower Corp.\",3,(IF(OR($Q9695=\"mono\",$Q9695=\"poly\",$Q9695=\"HIT\",$Q9695=\"EFG\",$Q9695=\"mono-LGBC\"),1,2)))","v":1},{"$f":"IF($O9695=\"Sunpower Corp.\",3,(IF(OR($Q9695=\"mono\",$Q9695=\"poly\",$Q9695=\"HIT\",$Q9695=\"EFG\",$Q9695=\"mono-LGBC\"),1,IF(OR($Q9695=\"µc-Si / a-Si\",$Q9695=\"a-Si (single)\",$Q9695=\"a-Si (tandem)\",$Q9695=\"a-Si (triple)\"),3,2))))","v":1},0,null,null,28822,null,null,9695]
["No.36 Research Institute of CETC NES72-6-280P","No.36 Research Institute of CETC ","NES72-6-280P",280,"+3...-3",36.6,7.66,44.5,8.4499999999999993,-151.30000000000001,4.2249999999999996,-0.45,1000,"China",null,14.430370330810547,"poly",72,"square",1956,992,50,"aluminum","junction box MC4",27,"www.cetcsolar.com","-","-","-","-","-",{"$f":"IF($O9719=\"Sunpower Corp.\",3,(IF(OR($Q9719=\"mono\",$Q9719=\"poly\",$Q9719=\"HIT\",$Q9719=\"EFG\",$Q9719=\"mono-LGBC\"),1,IF(OR($Q9719=\"µc-Si / a-Si\",$Q9719=\"a-Si (single)\",$Q9719=\"a-Si (tandem)\",$Q9719=\"a-Si (triple)\"),3,2))))","v":1},{"$f":"IF($O9719=\"Sunpower Corp.\",3,(IF(OR($Q9719=\"mono\",$Q9719=\"poly\",$Q9719=\"HIT\",$Q9719=\"EFG\",$Q9719=\"mono-LGBC\"),1,2)))","v":1},{"$f":"IF($O9719=\"Sunpower Corp.\",3,(IF(OR($Q9719=\"mono\",$Q9719=\"poly\",$Q9719=\"HIT\",$Q9719=\"EFG\",$Q9719=\"mono-LGBC\"),1,IF(OR($Q9719=\"µc-Si / a-Si\",$Q9719=\"a-Si (single)\",$Q9719=\"a-Si (tandem)\",$Q9719=\"a-Si (triple)\"),3,2))))","v":1},0,null,null,22008,null,null,9719]
["Noble Solar Industries (NSI) NSI 230/60-P","Noble Solar Industries (NSI) ","NSI 230/60-P",230,"+3...-3",29.5,7.8,36.6,8.42,-124.44,3.7889999999999997,-0.47,1000,null,null,14.051810264587402,"mono",60,"pseudo-square",1650,992,46,"aluminum","junction box MC4",19.5,"www.noblesolarindustries.com","-","-","-","-","-",{"$f":"IF($O9740=\"Sunpower Corp.\",3,(IF(OR($Q9740=\"mono\",$Q9740=\"poly\",$Q9740=\"HIT\",$Q9740=\"EFG\",$Q9740=\"mono-LGBC\"),1,IF(OR($Q9740=\"µc-Si / a-Si\",$Q9740=\"a-Si (single)\",$Q9740=\"a-Si (tandem)\",$Q9740=\"a-Si (triple)\"),3,2))))","v":1},{"$f":"IF($O9740=\"Sunpower Corp.\",3,(IF(OR($Q9740=\"mono\",$Q9740=\"poly\",$Q9740=\"HIT\",$Q9740=\"EFG\",$Q9740=\"mono-LGBC\"),1,2)))","v":1},{"$f":"IF($O9740=\"Sunpower Corp.\",3,(IF(OR($Q9740=\"mono\",$Q9740=\"poly\",$Q9740=\"HIT\",$Q9740=\"EFG\",$Q9740=\"mono-LGBC\"),1,IF(OR($Q9740=\"µc-Si / a-Si\",$Q9740=\"a-Si (single)\",$Q9740=\"a-Si (tandem)\",$Q9740=\"a-Si (triple)\"),3,2))))","v":1},0,null,null,24386,null,null,9740]
["Noble Solar Industries (NSI) NSI 240/96-M","Noble Solar Industries (NSI) ","NSI 240/96-M",240,"+3...-3",49,4.88,59.7,5.0999999999999996,-220.89,1.53,-0.52,1000,null,null,14.384349822998047,"mono",96,"pseudo-square",1580,1056,50,"aluminum","junction box MC4",16,"www.noblesolarindustries.com","-","-","-","-","-",{"$f":"IF($O9745=\"Sunpower Corp.\",3,(IF(OR($Q9745=\"mono\",$Q9745=\"poly\",$Q9745=\"HIT\",$Q9745=\"EFG\",$Q9745=\"mono-LGBC\"),1,IF(OR($Q9745=\"µc-Si / a-Si\",$Q9745=\"a-Si (single)\",$Q9745=\"a-Si (tandem)\",$Q9745=\"a-Si (triple)\"),3,2))))","v":1},{"$f":"IF($O9745=\"Sunpower Corp.\",3,(IF(OR($Q9745=\"mono\",$Q9745=\"poly\",$Q9745=\"HIT\",$Q9745=\"EFG\",$Q9745=\"mono-LGBC\"),1,2)))","v":1},{"$f":"IF($O9745=\"Sunpower Corp.\",3,(IF(OR($Q9745=\"mono\",$Q9745=\"poly\",$Q9745=\"HIT\",$Q9745=\"EFG\",$Q9745=\"mono-LGBC\"),1,IF(OR($Q9745=\"µc-Si / a-Si\",$Q9745=\"a-Si (single)\",$Q9745=\"a-Si (tandem)\",$Q9745=\"a-Si (triple)\"),3,2))))","v":1},0,null,null,24380,null,null,9745]
["no-vo GmbH PK 200-54","no-vo GmbH ","PK 200-54",200,"+3...-3",25.82,7.75,34.25,7.9,-133.57499999999999,3.95,-0.44,null,null,null,13.604109764099121,"poly",54,"square",1482,992,50,"aluminum","junction box MC4",15,"www.no-vo.de","-","-","-","-","-",{"$f":"IF($O9765=\"Sunpower Corp.\",3,(IF(OR($Q9765=\"mono\",$Q9765=\"poly\",$Q9765=\"HIT\",$Q9765=\"EFG\",$Q9765=\"mono-LGBC\"),1,IF(OR($Q9765=\"µc-Si / a-Si\",$Q9765=\"a-Si (single)\",$Q9765=\"a-Si (tandem)\",$Q9765=\"a-Si (triple)\"),3,2))))","v":1},{"$f":"IF($O9765=\"Sunpower Corp.\",3,(IF(OR($Q9765=\"mono\",$Q9765=\"poly\",$Q9765=\"HIT\",$Q9765=\"EFG\",$Q9765=\"mono-LGBC\"),1,2)))","v":1},{"$f":"IF($O9765=\"Sunpower Corp.\",3,(IF(OR($Q9765=\"mono\",$Q9765=\"poly\",$Q9765=\"HIT\",$Q9765=\"EFG\",$Q9765=\"mono-LGBC\"),1,IF(OR($Q9765=\"µc-Si / a-Si\",$Q9765=\"a-Si (single)\",$Q9765=\"a-Si (tandem)\",$Q9765=\"a-Si (triple)\"),3,2))))","v":1},0,null,null,29396,null,null,9765]
["ORI Solar Limited ORI-265P","ORI Solar Limited ","ORI-265P",265,"+3...-3",35.6,7.44,43.9,8.0399999999999991,-149.26,3.3767999999999998,-0.45,1000,null,null,13.65034008026123,"poly",72,"square",1957,992,50,"aluminum","junction box",22.5,"www.orisolar.com","-","-","-","-","-",{"$f":"IF($O9784=\"Sunpower Corp.\",3,(IF(OR($Q9784=\"mono\",$Q9784=\"poly\",$Q9784=\"HIT\",$Q9784=\"EFG\",$Q9784=\"mono-LGBC\"),1,IF(OR($Q9784=\"µc-Si / a-Si\",$Q9784=\"a-Si (single)\",$Q9784=\"a-Si (tandem)\",$Q9784=\"a-Si (triple)\"),3,2))))","v":1},{"$f":"IF($O9784=\"Sunpower Corp.\",3,(IF(OR($Q9784=\"mono\",$Q9784=\"poly\",$Q9784=\"HIT\",$Q9784=\"EFG\",$Q9784=\"mono-LGBC\"),1,2)))","v":1},{"$f":"IF($O9784=\"Sunpower Corp.\",3,(IF(OR($Q9784=\"mono\",$Q9784=\"poly\",$Q9784=\"HIT\",$Q9784=\"EFG\",$Q9784=\"mono-LGBC\"),1,IF(OR($Q9784=\"µc-Si / a-Si\",$Q9784=\"a-Si (single)\",$Q9784=\"a-Si (tandem)\",$Q9784=\"a-Si (triple)\"),3,2))))","v":1},0,null,null,23430,null,null,9784]
["Pairan GmbH EGM-235","Pairan GmbH ","EGM-235",235,"+3...-3",28.22,8.33,36.76,9.01,-119.47,3.6040000000000001,-0.43,1000,null,null,14.386289596557617,"mono",60,"pseudo-square",1650,990,50,"aluminum","junction box MC4",19.5,"www.pairan.com","-","-","-","-","-",{"$f":"IF($O9810=\"Sunpower Corp.\",3,(IF(OR($Q9810=\"mono\",$Q9810=\"poly\",$Q9810=\"HIT\",$Q9810=\"EFG\",$Q9810=\"mono-LGBC\"),1,IF(OR($Q9810=\"µc-Si / a-Si\",$Q9810=\"a-Si (single)\",$Q9810=\"a-Si (tandem)\",$Q9810=\"a-Si (triple)\"),3,2))))","v":1},{"$f":"IF($O9810=\"Sunpower Corp.\",3,(IF(OR($Q9810=\"mono\",$Q9810=\"poly\",$Q9810=\"HIT\",$Q9810=\"EFG\",$Q9810=\"mono-LGBC\"),1,2)))","v":1},{"$f":"IF($O9810=\"Sunpower Corp.\",3,(IF(OR($Q9810=\"mono\",$Q9810=\"poly\",$Q9810=\"HIT\",$Q9810=\"EFG\",$Q9810=\"mono-LGBC\"),1,IF(OR($Q9810=\"µc-Si / a-Si\",$Q9810=\"a-Si (single)\",$Q9810=\"a-Si (tandem)\",$Q9810=\"a-Si (triple)\"),3,2))))","v":1},0,null,null,31849,null,null,9810]
["Perfect Source Technology Corp. PST 212 GT","Perfect Source Technology Corp. ","PST 212 GT",212,"+3...0",28.8,7.36,36.4,7.76,-123.76,5.4320000000000013,-0.44,1000,"Taiwan (Formosa)",null,12.786399841308594,"poly",60,"square",1663,997,39,"aluminum","junction box Spelsberg",22,"www.pstsolar.com","-","-","-","-","-",{"$f":"IF($O9829=\"Sunpower Corp.\",3,(IF(OR($Q9829=\"mono\",$Q9829=\"poly\",$Q9829=\"HIT\",$Q9829=\"EFG\",$Q9829=\"mono-LGBC\"),1,IF(OR($Q9829=\"µc-Si / a-Si\",$Q9829=\"a-Si (single)\",$Q9829=\"a-Si (tandem)\",$Q9829=\"a-Si (triple)\"),3,2))))","v":1},{"$f":"IF($O9829=\"Sunpower Corp.\",3,(IF(OR($Q9829=\"mono\",$Q9829=\"poly\",$Q9829=\"HIT\",$Q9829=\"EFG\",$Q9829=\"mono-LGBC\"),1,2)))","v":1},{"$f":"IF($O9829=\"Sunpower Corp.\",3,(IF(OR($Q9829=\"mono\",$Q9829=\"poly\",$Q9829=\"HIT\",$Q9829=\"EFG\",$Q9829=\"mono-LGBC\"),1,IF(OR($Q9829=\"µc-Si / a-Si\",$Q9829=\"a-Si (single)\",$Q9829=\"a-Si (tandem)\",$Q9829=\"a-Si (triple)\"),3,2))))","v":1},0,null,null,23884,null,null,9829]
["Perfectenergy (Shanghai) Co., Ltd. PEM-230/260-96M","Perfectenergy (Shanghai) Co., Ltd. ","PEM-230/260-96M",260,"+3...-3",50.1,5.09,60.3,5.35,-205.02,1.605,-0.49,1000,"China","Perfectenergy",15.451359748840332,"mono",96,"pseudo-square",1580,1065,50,"aluminum","junction box Tyco",21,"www.perfectenergy-gmbh.de","-","-","-","-","-",{"$f":"IF($O9855=\"Sunpower Corp.\",3,(IF(OR($Q9855=\"mono\",$Q9855=\"poly\",$Q9855=\"HIT\",$Q9855=\"EFG\",$Q9855=\"mono-LGBC\"),1,IF(OR($Q9855=\"µc-Si / a-Si\",$Q9855=\"a-Si (single)\",$Q9855=\"a-Si (tandem)\",$Q9855=\"a-Si (triple)\"),3,2))))","v":1},{"$f":"IF($O9855=\"Sunpower Corp.\",3,(IF(OR($Q9855=\"mono\",$Q9855=\"poly\",$Q9855=\"HIT\",$Q9855=\"EFG\",$Q9855=\"mono-LGBC\"),1,2)))","v":1},{"$f":"IF($O9855=\"Sunpower Corp.\",3,(IF(OR($Q9855=\"mono\",$Q9855=\"poly\",$Q9855=\"HIT\",$Q9855=\"EFG\",$Q9855=\"mono-LGBC\"),1,IF(OR($Q9855=\"µc-Si / a-Si\",$Q9855=\"a-Si (single)\",$Q9855=\"a-Si (tandem)\",$Q9855=\"a-Si (triple)\"),3,2))))","v":1},0,null,null,19179,null,null,9855]
["Perlight Solar Co., Ltd PLM-080P","Perlight Solar Co., Ltd ","PLM-080P",80,"+3...-3",17.600000000000001,4.55,21.6,4.93,-74.73599999999999,3.2044999999999999,-0.48799999999999999,715,null,null,11.775440216064453,"poly",36,"rectangular",1005,676,40,null,"junction box",8.5,"www.perlightsolar.com.cn","-","-","-","-","-",{"$f":"IF($O9874=\"Sunpower Corp.\",3,(IF(OR($Q9874=\"mono\",$Q9874=\"poly\",$Q9874=\"HIT\",$Q9874=\"EFG\",$Q9874=\"mono-LGBC\"),1,IF(OR($Q9874=\"µc-Si / a-Si\",$Q9874=\"a-Si (single)\",$Q9874=\"a-Si (tandem)\",$Q9874=\"a-Si (triple)\"),3,2))))","v":1},{"$f":"IF($O9874=\"Sunpower Corp.\",3,(IF(OR($Q9874=\"mono\",$Q9874=\"poly\",$Q9874=\"HIT\",$Q9874=\"EFG\",$Q9874=\"mono-LGBC\"),1,2)))","v":1},{"$f":"IF($O9874=\"Sunpower Corp.\",3,(IF(OR($Q9874=\"mono\",$Q9874=\"poly\",$Q9874=\"HIT\",$Q9874=\"EFG\",$Q9874=\"mono-LGBC\"),1,IF(OR($Q9874=\"µc-Si / a-Si\",$Q9874=\"a-Si (single)\",$Q9874=\"a-Si (tandem)\",$Q9874=\"a-Si (triple)\"),3,2))))","v":1},0,null,null,10509,null,null,9874]
["Perlight Solar Co., Ltd PLM-100","Perlight Solar Co., Ltd ","PLM-100",100,"+3...-3",17.399999999999999,5.75,21.4,6.23,-84.958000000000013,3.738,-0.54900000000000004,1000,null,null,11.635890007019043,"mono",72,"others",1061,810,40,null,null,12,"www.perlightsolar.com.cn","-","-","-","-","-",{"$f":"IF($O9884=\"Sunpower Corp.\",3,(IF(OR($Q9884=\"mono\",$Q9884=\"poly\",$Q9884=\"HIT\",$Q9884=\"EFG\",$Q9884=\"mono-LGBC\"),1,IF(OR($Q9884=\"µc-Si / a-Si\",$Q9884=\"a-Si (single)\",$Q9884=\"a-Si (tandem)\",$Q9884=\"a-Si (triple)\"),3,2))))","v":1},{"$f":"IF($O9884=\"Sunpower Corp.\",3,(IF(OR($Q9884=\"mono\",$Q9884=\"poly\",$Q9884=\"HIT\",$Q9884=\"EFG\",$Q9884=\"mono-LGBC\"),1,2)))","v":1},{"$f":"IF($O9884=\"Sunpower Corp.\",3,(IF(OR($Q9884=\"mono\",$Q9884=\"poly\",$Q9884=\"HIT\",$Q9884=\"EFG\",$Q9884=\"mono-LGBC\"),1,IF(OR($Q9884=\"µc-Si / a-Si\",$Q9884=\"a-Si (single)\",$Q9884=\"a-Si (tandem)\",$Q9884=\"a-Si (triple)\"),3,2))))","v":1},0,null,null,10477,null,null,9884]
["Perlight Solar Co., Ltd PLM-155/24","Perlight Solar Co., Ltd ","PLM-155/24",155,"+3...-3",34.5,4.49,43.5,5.03,-144.85499999999999,1.5089999999999999,-0.45900000000000002,1000,null,null,12.141249656677246,"mono",72,"pseudo-square",1580,808,40,"aluminum","junction box",16,"www.perlightsolar.com.cn","-","-","-","-","-",{"$f":"IF($O9900=\"Sunpower Corp.\",3,(IF(OR($Q9900=\"mono\",$Q9900=\"poly\",$Q9900=\"HIT\",$Q9900=\"EFG\",$Q9900=\"mono-LGBC\"),1,IF(OR($Q9900=\"µc-Si / a-Si\",$Q9900=\"a-Si (single)\",$Q9900=\"a-Si (tandem)\",$Q9900=\"a-Si (triple)\"),3,2))))","v":1},{"$f":"IF($O9900=\"Sunpower Corp.\",3,(IF(OR($Q9900=\"mono\",$Q9900=\"poly\",$Q9900=\"HIT\",$Q9900=\"EFG\",$Q9900=\"mono-LGBC\"),1,2)))","v":1},{"$f":"IF($O9900=\"Sunpower Corp.\",3,(IF(OR($Q9900=\"mono\",$Q9900=\"poly\",$Q9900=\"HIT\",$Q9900=\"EFG\",$Q9900=\"mono-LGBC\"),1,IF(OR($Q9900=\"µc-Si / a-Si\",$Q9900=\"a-Si (single)\",$Q9900=\"a-Si (tandem)\",$Q9900=\"a-Si (triple)\"),3,2))))","v":1},0,null,null,4163,null,null,9900]
["Perlight Solar Co., Ltd PLM-200M-54","Perlight Solar Co., Ltd ","PLM-200M-54",200,"+3...-3",27.1,7.38,32.799999999999997,8.4700000000000006,-109.22399999999999,2.5409999999999999,-0.45900000000000002,1000,null,null,13.513059616088867,"mono",54,"pseudo-square",1495,990,46,"aluminum","junction box MC",17,"www.perlightsolar.com.cn","-","-","-","-","-",{"$f":"IF($O9929=\"Sunpower Corp.\",3,(IF(OR($Q9929=\"mono\",$Q9929=\"poly\",$Q9929=\"HIT\",$Q9929=\"EFG\",$Q9929=\"mono-LGBC\"),1,IF(OR($Q9929=\"µc-Si / a-Si\",$Q9929=\"a-Si (single)\",$Q9929=\"a-Si (tandem)\",$Q9929=\"a-Si (triple)\"),3,2))))","v":1},{"$f":"IF($O9929=\"Sunpower Corp.\",3,(IF(OR($Q9929=\"mono\",$Q9929=\"poly\",$Q9929=\"HIT\",$Q9929=\"EFG\",$Q9929=\"mono-LGBC\"),1,2)))","v":1},{"$f":"IF($O9929=\"Sunpower Corp.\",3,(IF(OR($Q9929=\"mono\",$Q9929=\"poly\",$Q9929=\"HIT\",$Q9929=\"EFG\",$Q9929=\"mono-LGBC\"),1,IF(OR($Q9929=\"µc-Si / a-Si\",$Q9929=\"a-Si (single)\",$Q9929=\"a-Si (tandem)\",$Q9929=\"a-Si (triple)\"),3,2))))","v":1},0,null,null,18912,null,null,9929]
["Perlight Solar Co., Ltd PLM-210P-54","Perlight Solar Co., Ltd ","PLM-210P-54",210,"+3...-3",26.6,7.9,33.6,8.4499999999999993,-117.6,4.2249999999999996,-0.45,1000,null,null,14.18871021270752,"poly",54,"square",1495,990,46,"aluminum","junction box",17,"www.perlightsolar.com.cn","-","-","-","-","-",{"$f":"IF($O9939=\"Sunpower Corp.\",3,(IF(OR($Q9939=\"mono\",$Q9939=\"poly\",$Q9939=\"HIT\",$Q9939=\"EFG\",$Q9939=\"mono-LGBC\"),1,IF(OR($Q9939=\"µc-Si / a-Si\",$Q9939=\"a-Si (single)\",$Q9939=\"a-Si (tandem)\",$Q9939=\"a-Si (triple)\"),3,2))))","v":1},{"$f":"IF($O9939=\"Sunpower Corp.\",3,(IF(OR($Q9939=\"mono\",$Q9939=\"poly\",$Q9939=\"HIT\",$Q9939=\"EFG\",$Q9939=\"mono-LGBC\"),1,2)))","v":1},{"$f":"IF($O9939=\"Sunpower Corp.\",3,(IF(OR($Q9939=\"mono\",$Q9939=\"poly\",$Q9939=\"HIT\",$Q9939=\"EFG\",$Q9939=\"mono-LGBC\"),1,IF(OR($Q9939=\"µc-Si / a-Si\",$Q9939=\"a-Si (single)\",$Q9939=\"a-Si (tandem)\",$Q9939=\"a-Si (triple)\"),3,2))))","v":1},0,null,null,30322,null,null,9939]
["Perlight Solar Co., Ltd PLM-260P-72","Perlight Solar Co., Ltd ","PLM-260P-72",260,"+3...-3",35.799999999999997,7.27,43.8,7.79,-153.30000000000001,3.895,-0.45,1000,null,null,13.331469535827637,"poly",72,"square",1966,992,50,"aluminum","junction box",27,"www.perlightsolar.com.cn","-","-","-","-","-",{"$f":"IF($O9974=\"Sunpower Corp.\",3,(IF(OR($Q9974=\"mono\",$Q9974=\"poly\",$Q9974=\"HIT\",$Q9974=\"EFG\",$Q9974=\"mono-LGBC\"),1,IF(OR($Q9974=\"µc-Si / a-Si\",$Q9974=\"a-Si (single)\",$Q9974=\"a-Si (tandem)\",$Q9974=\"a-Si (triple)\"),3,2))))","v":1},{"$f":"IF($O9974=\"Sunpower Corp.\",3,(IF(OR($Q9974=\"mono\",$Q9974=\"poly\",$Q9974=\"HIT\",$Q9974=\"EFG\",$Q9974=\"mono-LGBC\"),1,2)))","v":1},{"$f":"IF($O9974=\"Sunpower Corp.\",3,(IF(OR($Q9974=\"mono\",$Q9974=\"poly\",$Q9974=\"HIT\",$Q9974=\"EFG\",$Q9974=\"mono-LGBC\"),1,IF(OR($Q9974=\"µc-Si / a-Si\",$Q9974=\"a-Si (single)\",$Q9974=\"a-Si (tandem)\",$Q9974=\"a-Si (triple)\"),3,2))))","v":1},0,null,null,30369,null,null,9974]
["Perlight Solar Co., Ltd PLM-280M-72","Perlight Solar Co., Ltd ","PLM-280M-72",280,"+3...-3",35.9,7.73,44.2,8.32,-147.18600000000001,2.496,-0.45900000000000002,1000,null,null,14.356969833374023,"mono",72,"pseudo-square",1966,992,50,"aluminum","junction box",27,"www.perlightsolar.com.cn","-","-","-","-","-",{"$f":"IF($O9984=\"Sunpower Corp.\",3,(IF(OR($Q9984=\"mono\",$Q9984=\"poly\",$Q9984=\"HIT\",$Q9984=\"EFG\",$Q9984=\"mono-LGBC\"),1,IF(OR($Q9984=\"µc-Si / a-Si\",$Q9984=\"a-Si (single)\",$Q9984=\"a-Si (tandem)\",$Q9984=\"a-Si (triple)\"),3,2))))","v":1},{"$f":"IF($O9984=\"Sunpower Corp.\",3,(IF(OR($Q9984=\"mono\",$Q9984=\"poly\",$Q9984=\"HIT\",$Q9984=\"EFG\",$Q9984=\"mono-LGBC\"),1,2)))","v":1},{"$f":"IF($O9984=\"Sunpower Corp.\",3,(IF(OR($Q9984=\"mono\",$Q9984=\"poly\",$Q9984=\"HIT\",$Q9984=\"EFG\",$Q9984=\"mono-LGBC\"),1,IF(OR($Q9984=\"µc-Si / a-Si\",$Q9984=\"a-Si (single)\",$Q9984=\"a-Si (tandem)\",$Q9984=\"a-Si (triple)\"),3,2))))","v":1},0,null,null,13024,null,null,9984]
["Perlight Solar Co., Ltd PLM-P110","Perlight Solar Co., Ltd ","PLM-P110",110,"+3...-3",17,6.47,21.4,7.21,-74.900000000000006,3.605,-0.45,1000,null,null,10.979889869689941,"poly",36,"square",1482,676,35,"aluminum","junction box",12,"www.perlightsolar.com.cn","-","-","-","-","-",{"$f":"IF($O9999=\"Sunpower Corp.\",3,(IF(OR($Q9999=\"mono\",$Q9999=\"poly\",$Q9999=\"HIT\",$Q9999=\"EFG\",$Q9999=\"mono-LGBC\"),1,IF(OR($Q9999=\"µc-Si / a-Si\",$Q9999=\"a-Si (single)\",$Q9999=\"a-Si (tandem)\",$Q9999=\"a-Si (triple)\"),3,2))))","v":1},{"$f":"IF($O9999=\"Sunpower Corp.\",3,(IF(OR($Q9999=\"mono\",$Q9999=\"poly\",$Q9999=\"HIT\",$Q9999=\"EFG\",$Q9999=\"mono-LGBC\"),1,2)))","v":1},{"$f":"IF($O9999=\"Sunpower Corp.\",3,(IF(OR($Q9999=\"mono\",$Q9999=\"poly\",$Q9999=\"HIT\",$Q9999=\"EFG\",$Q9999=\"mono-LGBC\"),1,IF(OR($Q9999=\"µc-Si / a-Si\",$Q9999=\"a-Si (single)\",$Q9999=\"a-Si (tandem)\",$Q9999=\"a-Si (triple)\"),3,2))))","v":1},0,null,null,13040,null,null,9999]
["Perlight Solar Co., Ltd PLM-P280","Perlight Solar Co., Ltd ","PLM-P280",280,"+...",36.700000000000003,7.63,44.4,8.14,-155.4,4.07,-0.45,1000,null,null,14.430370330810547,"poly",48,"rectangular",1956,992,50,null,"junction box",27,"www.perlightsolar.com.cn","-","-","-","-","-",{"$f":"IF($O10029=\"Sunpower Corp.\",3,(IF(OR($Q10029=\"mono\",$Q10029=\"poly\",$Q10029=\"HIT\",$Q10029=\"EFG\",$Q10029=\"mono-LGBC\"),1,IF(OR($Q10029=\"µc-Si / a-Si\",$Q10029=\"a-Si (single)\",$Q10029=\"a-Si (tandem)\",$Q10029=\"a-Si (triple)\"),3,2))))","v":1},{"$f":"IF($O10029=\"Sunpower Corp.\",3,(IF(OR($Q10029=\"mono\",$Q10029=\"poly\",$Q10029=\"HIT\",$Q10029=\"EFG\",$Q10029=\"mono-LGBC\"),1,2)))","v":1},{"$f":"IF($O10029=\"Sunpower Corp.\",3,(IF(OR($Q10029=\"mono\",$Q10029=\"poly\",$Q10029=\"HIT\",$Q10029=\"EFG\",$Q10029=\"mono-LGBC\"),1,IF(OR($Q10029=\"µc-Si / a-Si\",$Q10029=\"a-Si (single)\",$Q10029=\"a-Si (tandem)\",$Q10029=\"a-Si (triple)\"),3,2))))","v":1},0,null,null,13055,null,null,10029]
["Phono Solar Technology Co., Ltd. PS180P-24/F","Phono Solar Technology Co., Ltd. ","PS180P-24/F",180,"+3...-3",36,5,44.6,5.25,-214.08,2.625,-0.35,1000,"China","JA Solar",14.099510192871094,"poly",72,"square",1580,808,35,"aluminum","cable MC",15,"www.phonosolar.com","-","-","-","-","-",{"$f":"IF($O10048=\"Sunpower Corp.\",3,(IF(OR($Q10048=\"mono\",$Q10048=\"poly\",$Q10048=\"HIT\",$Q10048=\"EFG\",$Q10048=\"mono-LGBC\"),1,IF(OR($Q10048=\"µc-Si / a-Si\",$Q10048=\"a-Si (single)\",$Q10048=\"a-Si (tandem)\",$Q10048=\"a-Si (triple)\"),3,2))))","v":1},{"$f":"IF($O10048=\"Sunpower Corp.\",3,(IF(OR($Q10048=\"mono\",$Q10048=\"poly\",$Q10048=\"HIT\",$Q10048=\"EFG\",$Q10048=\"mono-LGBC\"),1,2)))","v":1},{"$f":"IF($O10048=\"Sunpower Corp.\",3,(IF(OR($Q10048=\"mono\",$Q10048=\"poly\",$Q10048=\"HIT\",$Q10048=\"EFG\",$Q10048=\"mono-LGBC\"),1,IF(OR($Q10048=\"µc-Si / a-Si\",$Q10048=\"a-Si (single)\",$Q10048=\"a-Si (tandem)\",$Q10048=\"a-Si (triple)\"),3,2))))","v":1},0,null,null,11897,null,null,10048]
["Phono Solar Technology Co., Ltd. PS235P-20/U","Phono Solar Technology Co., Ltd. ","PS235P-20/U",235,"+3...-3",29.6,7.94,37.299999999999997,8.4,-179.04,4.2,-0.35,1000,"China","JA Solar",14.444829940795898,"poly",60,"square",1640,992,35,"aluminum","cable MC",19,"www.phonosolar.com","-","-","-","-","-",{"$f":"IF($O10074=\"Sunpower Corp.\",3,(IF(OR($Q10074=\"mono\",$Q10074=\"poly\",$Q10074=\"HIT\",$Q10074=\"EFG\",$Q10074=\"mono-LGBC\"),1,IF(OR($Q10074=\"µc-Si / a-Si\",$Q10074=\"a-Si (single)\",$Q10074=\"a-Si (tandem)\",$Q10074=\"a-Si (triple)\"),3,2))))","v":1},{"$f":"IF($O10074=\"Sunpower Corp.\",3,(IF(OR($Q10074=\"mono\",$Q10074=\"poly\",$Q10074=\"HIT\",$Q10074=\"EFG\",$Q10074=\"mono-LGBC\"),1,2)))","v":1},{"$f":"IF($O10074=\"Sunpower Corp.\",3,(IF(OR($Q10074=\"mono\",$Q10074=\"poly\",$Q10074=\"HIT\",$Q10074=\"EFG\",$Q10074=\"mono-LGBC\"),1,IF(OR($Q10074=\"µc-Si / a-Si\",$Q10074=\"a-Si (single)\",$Q10074=\"a-Si (tandem)\",$Q10074=\"a-Si (triple)\"),3,2))))","v":1},0,null,null,11905,null,null,10074]
["Phono Solar Technology Co., Ltd. PS80M-12/D","Phono Solar Technology Co., Ltd. ","PS80M-12/D",80,"+3...-3",17.399999999999999,4.5999999999999996,21.8,4.95,-104.64,2.4750000000000001,-0.35,715,"China","JA Solar",12.374420166015625,"mono",36,"pseudo-square",1195,541,35,"aluminum","cable MC",8,"www.phonosolar.com","-","-","-","-","-",{"$f":"IF($O10093=\"Sunpower Corp.\",3,(IF(OR($Q10093=\"mono\",$Q10093=\"poly\",$Q10093=\"HIT\",$Q10093=\"EFG\",$Q10093=\"mono-LGBC\"),1,IF(OR($Q10093=\"µc-Si / a-Si\",$Q10093=\"a-Si (single)\",$Q10093=\"a-Si (tandem)\",$Q10093=\"a-Si (triple)\"),3,2))))","v":1},{"$f":"IF($O10093=\"Sunpower Corp.\",3,(IF(OR($Q10093=\"mono\",$Q10093=\"poly\",$Q10093=\"HIT\",$Q10093=\"EFG\",$Q10093=\"mono-LGBC\"),1,2)))","v":1},{"$f":"IF($O10093=\"Sunpower Corp.\",3,(IF(OR($Q10093=\"mono\",$Q10093=\"poly\",$Q10093=\"HIT\",$Q10093=\"EFG\",$Q10093=\"mono-LGBC\"),1,IF(OR($Q10093=\"µc-Si / a-Si\",$Q10093=\"a-Si (single)\",$Q10093=\"a-Si (tandem)\",$Q10093=\"a-Si (triple)\"),3,2))))","v":1},0,null,null,11872,null,null,10093]
["Photowatt International SAS PW2350-230","Photowatt International SAS ","PW2350-230",230,"+2,2...0",29.8,7.75,37.200000000000003,7.75,-126.48,5.0374999999999996,-0.43,1000,null,null,14.298890113830566,"poly",60,"square",1638,982,40,"aluminum","junction box",20,"www.photowatt.com","-","-","-","-","-",{"$f":"IF($O10113=\"Sunpower Corp.\",3,(IF(OR($Q10113=\"mono\",$Q10113=\"poly\",$Q10113=\"HIT\",$Q10113=\"EFG\",$Q10113=\"mono-LGBC\"),1,IF(OR($Q10113=\"µc-Si / a-Si\",$Q10113=\"a-Si (single)\",$Q10113=\"a-Si (tandem)\",$Q10113=\"a-Si (triple)\"),3,2))))","v":1},{"$f":"IF($O10113=\"Sunpower Corp.\",3,(IF(OR($Q10113=\"mono\",$Q10113=\"poly\",$Q10113=\"HIT\",$Q10113=\"EFG\",$Q10113=\"mono-LGBC\"),1,2)))","v":1},{"$f":"IF($O10113=\"Sunpower Corp.\",3,(IF(OR($Q10113=\"mono\",$Q10113=\"poly\",$Q10113=\"HIT\",$Q10113=\"EFG\",$Q10113=\"mono-LGBC\"),1,IF(OR($Q10113=\"µc-Si / a-Si\",$Q10113=\"a-Si (single)\",$Q10113=\"a-Si (tandem)\",$Q10113=\"a-Si (triple)\"),3,2))))","v":1},0,null,null,31236,null,null,10113]
["Photowatt International SAS PW6-110 (110)","Photowatt International SAS ","PW6-110 (110)",110,"+3...-3",17.2,6.4,21.7,6.9,-80.290000000000006,2.0699999999999998,-0.43,1000,null,null,11.616120338439941,"poly",36,"square",1424,665,38,"aluminum","junction box",12.5,"www.photowatt.com","-","-","-","-","-",{"$f":"IF($O10118=\"Sunpower Corp.\",3,(IF(OR($Q10118=\"mono\",$Q10118=\"poly\",$Q10118=\"HIT\",$Q10118=\"EFG\",$Q10118=\"mono-LGBC\"),1,IF(OR($Q10118=\"µc-Si / a-Si\",$Q10118=\"a-Si (single)\",$Q10118=\"a-Si (tandem)\",$Q10118=\"a-Si (triple)\"),3,2))))","v":1},{"$f":"IF($O10118=\"Sunpower Corp.\",3,(IF(OR($Q10118=\"mono\",$Q10118=\"poly\",$Q10118=\"HIT\",$Q10118=\"EFG\",$Q10118=\"mono-LGBC\"),1,2)))","v":1},{"$f":"IF($O10118=\"Sunpower Corp.\",3,(IF(OR($Q10118=\"mono\",$Q10118=\"poly\",$Q10118=\"HIT\",$Q10118=\"EFG\",$Q10118=\"mono-LGBC\"),1,IF(OR($Q10118=\"µc-Si / a-Si\",$Q10118=\"a-Si (single)\",$Q10118=\"a-Si (tandem)\",$Q10118=\"a-Si (triple)\"),3,2))))","v":1},0,null,null,15401,null,null,10118]
["PLG Power Ltd. P-225 (220)","PLG Power Ltd. ","P-225 (220)",220,"+3...-3",29.2,7.54,36.6,8.1,-128.1,4.05,-0.45,1000,"India",null,13.66886043548584,"poly",60,"square",1639,982,42,"aluminum","junction box",21,"www.plgpower.com","-","-","-","-","-",{"$f":"IF($O10143=\"Sunpower Corp.\",3,(IF(OR($Q10143=\"mono\",$Q10143=\"poly\",$Q10143=\"HIT\",$Q10143=\"EFG\",$Q10143=\"mono-LGBC\"),1,IF(OR($Q10143=\"µc-Si / a-Si\",$Q10143=\"a-Si (single)\",$Q10143=\"a-Si (tandem)\",$Q10143=\"a-Si (triple)\"),3,2))))","v":1},{"$f":"IF($O10143=\"Sunpower Corp.\",3,(IF(OR($Q10143=\"mono\",$Q10143=\"poly\",$Q10143=\"HIT\",$Q10143=\"EFG\",$Q10143=\"mono-LGBC\"),1,2)))","v":1},{"$f":"IF($O10143=\"Sunpower Corp.\",3,(IF(OR($Q10143=\"mono\",$Q10143=\"poly\",$Q10143=\"HIT\",$Q10143=\"EFG\",$Q10143=\"mono-LGBC\"),1,IF(OR($Q10143=\"µc-Si / a-Si\",$Q10143=\"a-Si (single)\",$Q10143=\"a-Si (tandem)\",$Q10143=\"a-Si (triple)\"),3,2))))","v":1},0,null,null,9893,null,null,10143]
["PLG Power Ltd. P-series 260","PLG Power Ltd. ","P-series 260",260,"+3...-3",33.700000000000003,7.72,41.5,8.1999999999999993,-145.25,4.0999999999999996,-0.45,1000,null,null,13.543009757995605,"poly",72,"square",1955,982,42,null,"junction box",26,"www.plgpower.com","-","-","-","-","-",{"$f":"IF($O10165=\"Sunpower Corp.\",3,(IF(OR($Q10165=\"mono\",$Q10165=\"poly\",$Q10165=\"HIT\",$Q10165=\"EFG\",$Q10165=\"mono-LGBC\"),1,IF(OR($Q10165=\"µc-Si / a-Si\",$Q10165=\"a-Si (single)\",$Q10165=\"a-Si (tandem)\",$Q10165=\"a-Si (triple)\"),3,2))))","v":1},{"$f":"IF($O10165=\"Sunpower Corp.\",3,(IF(OR($Q10165=\"mono\",$Q10165=\"poly\",$Q10165=\"HIT\",$Q10165=\"EFG\",$Q10165=\"mono-LGBC\"),1,2)))","v":1},{"$f":"IF($O10165=\"Sunpower Corp.\",3,(IF(OR($Q10165=\"mono\",$Q10165=\"poly\",$Q10165=\"HIT\",$Q10165=\"EFG\",$Q10165=\"mono-LGBC\"),1,IF(OR($Q10165=\"µc-Si / a-Si\",$Q10165=\"a-Si (single)\",$Q10165=\"a-Si (tandem)\",$Q10165=\"a-Si (triple)\"),3,2))))","v":1},0,null,null,14489,null,null,10165]
["Power Nature Sarl TSM(8x9) 150","Power Nature Sarl ","TSM(8x9) 150",150,"+...",34.6,4.34,44,4.6900000000000004,-167.2,4.6900000000000004,-0.47,1000,null,null,11.813529968261719,"mono",72,"pseudo-square",1190,1067,46.5,"aluminum","junction box",15,null,"-","-","-","-","-",{"$f":"IF($O10188=\"Sunpower Corp.\",3,(IF(OR($Q10188=\"mono\",$Q10188=\"poly\",$Q10188=\"HIT\",$Q10188=\"EFG\",$Q10188=\"mono-LGBC\"),1,IF(OR($Q10188=\"µc-Si / a-Si\",$Q10188=\"a-Si (single)\",$Q10188=\"a-Si (tandem)\",$Q10188=\"a-Si (triple)\"),3,2))))","v":1},{"$f":"IF($O10188=\"Sunpower Corp.\",3,(IF(OR($Q10188=\"mono\",$Q10188=\"poly\",$Q10188=\"HIT\",$Q10188=\"EFG\",$Q10188=\"mono-LGBC\"),1,2)))","v":1},{"$f":"IF($O10188=\"Sunpower Corp.\",3,(IF(OR($Q10188=\"mono\",$Q10188=\"poly\",$Q10188=\"HIT\",$Q10188=\"EFG\",$Q10188=\"mono-LGBC\"),1,IF(OR($Q10188=\"µc-Si / a-Si\",$Q10188=\"a-Si (single)\",$Q10188=\"a-Si (tandem)\",$Q10188=\"a-Si (triple)\"),3,2))))","v":1},0,null,null,10548,null,null,10188]
["Powercom Co., Ltd. PPV-230S6","Powercom Co., Ltd. ","PPV-230S6",230,"+3...-3",29.95,7.68,36.840000000000003,8.35,-117.88800000000002,3.1729999999999996,-0.37,1000,null,null,14.163960456848145,"mono",60,"pseudo-square",1632,995,50,"aluminum","others",20.2,"www.pcmups.com.tw","-","-","-","-","-",{"$f":"IF($O10204=\"Sunpower Corp.\",3,(IF(OR($Q10204=\"mono\",$Q10204=\"poly\",$Q10204=\"HIT\",$Q10204=\"EFG\",$Q10204=\"mono-LGBC\"),1,IF(OR($Q10204=\"µc-Si / a-Si\",$Q10204=\"a-Si (single)\",$Q10204=\"a-Si (tandem)\",$Q10204=\"a-Si (triple)\"),3,2))))","v":1},{"$f":"IF($O10204=\"Sunpower Corp.\",3,(IF(OR($Q10204=\"mono\",$Q10204=\"poly\",$Q10204=\"HIT\",$Q10204=\"EFG\",$Q10204=\"mono-LGBC\"),1,2)))","v":1},{"$f":"IF($O10204=\"Sunpower Corp.\",3,(IF(OR($Q10204=\"mono\",$Q10204=\"poly\",$Q10204=\"HIT\",$Q10204=\"EFG\",$Q10204=\"mono-LGBC\"),1,IF(OR($Q10204=\"µc-Si / a-Si\",$Q10204=\"a-Si (single)\",$Q10204=\"a-Si (tandem)\",$Q10204=\"a-Si (triple)\"),3,2))))","v":1},0,null,null,25837,null,null,10204]
["POWERQUANT Photovoltaik GmbH PQ-225-PS2","POWERQUANT Photovoltaik GmbH ","PQ-225-PS2",225,"+3...-2",20.05,11.23,24.8,12.1,-89.28,7.26,-0.43,750,"Austria","Falconcell",14.649889945983887,"poly",240,"rectangular",1564,982,46,"aluminum","junction box Tyco",20.5,"www.powerquant.com","-","-","-","-","-",{"$f":"IF($O10213=\"Sunpower Corp.\",3,(IF(OR($Q10213=\"mono\",$Q10213=\"poly\",$Q10213=\"HIT\",$Q10213=\"EFG\",$Q10213=\"mono-LGBC\"),1,IF(OR($Q10213=\"µc-Si / a-Si\",$Q10213=\"a-Si (single)\",$Q10213=\"a-Si (tandem)\",$Q10213=\"a-Si (triple)\"),3,2))))","v":1},{"$f":"IF($O10213=\"Sunpower Corp.\",3,(IF(OR($Q10213=\"mono\",$Q10213=\"poly\",$Q10213=\"HIT\",$Q10213=\"EFG\",$Q10213=\"mono-LGBC\"),1,2)))","v":1},{"$f":"IF($O10213=\"Sunpower Corp.\",3,(IF(OR($Q10213=\"mono\",$Q10213=\"poly\",$Q10213=\"HIT\",$Q10213=\"EFG\",$Q10213=\"mono-LGBC\"),1,IF(OR($Q10213=\"µc-Si / a-Si\",$Q10213=\"a-Si (single)\",$Q10213=\"a-Si (tandem)\",$Q10213=\"a-Si (triple)\"),3,2))))","v":1},0,null,null,14963,null,null,10213]
["Pro Sun Europe GmbH PSE2100W (220)","Pro Sun Europe GmbH ","PSE2100W (220)",220,"+3...-1",44.3,4.97,54.5,5.35,-185.3,2.6749999999999998,-0.45,1000,null,null,14.400259971618652,"mono",88,"pseudo-square",1455,1050,42,"aluminum","junction box Tyco",21,"www.prosuneurope.de","-","-","-","-","-",{"$f":"IF($O10249=\"Sunpower Corp.\",3,(IF(OR($Q10249=\"mono\",$Q10249=\"poly\",$Q10249=\"HIT\",$Q10249=\"EFG\",$Q10249=\"mono-LGBC\"),1,IF(OR($Q10249=\"µc-Si / a-Si\",$Q10249=\"a-Si (single)\",$Q10249=\"a-Si (tandem)\",$Q10249=\"a-Si (triple)\"),3,2))))","v":1},{"$f":"IF($O10249=\"Sunpower Corp.\",3,(IF(OR($Q10249=\"mono\",$Q10249=\"poly\",$Q10249=\"HIT\",$Q10249=\"EFG\",$Q10249=\"mono-LGBC\"),1,2)))","v":1},{"$f":"IF($O10249=\"Sunpower Corp.\",3,(IF(OR($Q10249=\"mono\",$Q10249=\"poly\",$Q10249=\"HIT\",$Q10249=\"EFG\",$Q10249=\"mono-LGBC\"),1,IF(OR($Q10249=\"µc-Si / a-Si\",$Q10249=\"a-Si (single)\",$Q10249=\"a-Si (tandem)\",$Q10249=\"a-Si (triple)\"),3,2))))","v":1},0,null,null,16524,null,null,10249]
["PV Enterprise PVE-M6-230","PV Enterprise ","PVE-M6-230",230,"+3...-3",29.08,7.91,37.17,8.34,-122.661,3.0023999999999997,-0.47,1000,null,null,14.065990447998047,"mono",60,"pseudo-square",1650,991,46,"aluminum","junction box",19.5,"www.pvesweden.se","-","-","-","-","-",{"$f":"IF($O10258=\"Sunpower Corp.\",3,(IF(OR($Q10258=\"mono\",$Q10258=\"poly\",$Q10258=\"HIT\",$Q10258=\"EFG\",$Q10258=\"mono-LGBC\"),1,IF(OR($Q10258=\"µc-Si / a-Si\",$Q10258=\"a-Si (single)\",$Q10258=\"a-Si (tandem)\",$Q10258=\"a-Si (triple)\"),3,2))))","v":1},{"$f":"IF($O10258=\"Sunpower Corp.\",3,(IF(OR($Q10258=\"mono\",$Q10258=\"poly\",$Q10258=\"HIT\",$Q10258=\"EFG\",$Q10258=\"mono-LGBC\"),1,2)))","v":1},{"$f":"IF($O10258=\"Sunpower Corp.\",3,(IF(OR($Q10258=\"mono\",$Q10258=\"poly\",$Q10258=\"HIT\",$Q10258=\"EFG\",$Q10258=\"mono-LGBC\"),1,IF(OR($Q10258=\"µc-Si / a-Si\",$Q10258=\"a-Si (single)\",$Q10258=\"a-Si (tandem)\",$Q10258=\"a-Si (triple)\"),3,2))))","v":1},0,null,null,19192,null,null,10258]
["PV Enterprise PVE-P6-235","PV Enterprise ","PVE-P6-235",235,"+3...-3",29.52,7.96,37.340000000000003,8.4,-123.22200000000001,3.0239999999999996,-0.47,1000,null,null,14.371769905090332,"poly",60,"square",1650,991,46,"aluminum","junction box",19.5,"www.pvesweden.se","-","-","-","-","-",{"$f":"IF($O10275=\"Sunpower Corp.\",3,(IF(OR($Q10275=\"mono\",$Q10275=\"poly\",$Q10275=\"HIT\",$Q10275=\"EFG\",$Q10275=\"mono-LGBC\"),1,IF(OR($Q10275=\"µc-Si / a-Si\",$Q10275=\"a-Si (single)\",$Q10275=\"a-Si (tandem)\",$Q10275=\"a-Si (triple)\"),3,2))))","v":1},{"$f":"IF($O10275=\"Sunpower Corp.\",3,(IF(OR($Q10275=\"mono\",$Q10275=\"poly\",$Q10275=\"HIT\",$Q10275=\"EFG\",$Q10275=\"mono-LGBC\"),1,2)))","v":1},{"$f":"IF($O10275=\"Sunpower Corp.\",3,(IF(OR($Q10275=\"mono\",$Q10275=\"poly\",$Q10275=\"HIT\",$Q10275=\"EFG\",$Q10275=\"mono-LGBC\"),1,IF(OR($Q10275=\"µc-Si / a-Si\",$Q10275=\"a-Si (single)\",$Q10275=\"a-Si (tandem)\",$Q10275=\"a-Si (triple)\"),3,2))))","v":1},0,null,null,19186,null,null,10275]
["PV Power Technologies Pvt Ltd. PVQ3B 180","PV Power Technologies Pvt Ltd. ","PVQ3B 180",180,"+3...0",24,7.5,30.1,8,-105.35,6.4,-0.45,1000,"India","Q-Cells AG",13.854519844055176,"poly",48,"square",1323,989,35,"aluminum","junction box MC4",17,"www.pvpowertech.com","-","-","-","-","-",{"$f":"IF($O10307=\"Sunpower Corp.\",3,(IF(OR($Q10307=\"mono\",$Q10307=\"poly\",$Q10307=\"HIT\",$Q10307=\"EFG\",$Q10307=\"mono-LGBC\"),1,IF(OR($Q10307=\"µc-Si / a-Si\",$Q10307=\"a-Si (single)\",$Q10307=\"a-Si (tandem)\",$Q10307=\"a-Si (triple)\"),3,2))))","v":1},{"$f":"IF($O10307=\"Sunpower Corp.\",3,(IF(OR($Q10307=\"mono\",$Q10307=\"poly\",$Q10307=\"HIT\",$Q10307=\"EFG\",$Q10307=\"mono-LGBC\"),1,2)))","v":1},{"$f":"IF($O10307=\"Sunpower Corp.\",3,(IF(OR($Q10307=\"mono\",$Q10307=\"poly\",$Q10307=\"HIT\",$Q10307=\"EFG\",$Q10307=\"mono-LGBC\"),1,IF(OR($Q10307=\"µc-Si / a-Si\",$Q10307=\"a-Si (single)\",$Q10307=\"a-Si (tandem)\",$Q10307=\"a-Si (triple)\"),3,2))))","v":1},0,null,null,15315,null,null,10307]
["PV Products GmbH PVP-A180M","PV Products GmbH ","PVP-A180M",180,"+...",23.4,7.7,29.2,8.5,-99.28,3.57,-0.42,1000,"Austria",null,13.903900146484375,"mono",48,"pseudo-square",1309,989,40.5,"aluminum","junction box",17,"www.pvp.co.at","-","-","-","-","-",{"$f":"IF($O10320=\"Sunpower Corp.\",3,(IF(OR($Q10320=\"mono\",$Q10320=\"poly\",$Q10320=\"HIT\",$Q10320=\"EFG\",$Q10320=\"mono-LGBC\"),1,IF(OR($Q10320=\"µc-Si / a-Si\",$Q10320=\"a-Si (single)\",$Q10320=\"a-Si (tandem)\",$Q10320=\"a-Si (triple)\"),3,2))))","v":1},{"$f":"IF($O10320=\"Sunpower Corp.\",3,(IF(OR($Q10320=\"mono\",$Q10320=\"poly\",$Q10320=\"HIT\",$Q10320=\"EFG\",$Q10320=\"mono-LGBC\"),1,2)))","v":1},{"$f":"IF($O10320=\"Sunpower Corp.\",3,(IF(OR($Q10320=\"mono\",$Q10320=\"poly\",$Q10320=\"HIT\",$Q10320=\"EFG\",$Q10320=\"mono-LGBC\"),1,IF(OR($Q10320=\"µc-Si / a-Si\",$Q10320=\"a-Si (single)\",$Q10320=\"a-Si (tandem)\",$Q10320=\"a-Si (triple)\"),3,2))))","v":1},0,null,null,30262,null,null,10320]
["PV Products GmbH PVP-A235M","PV Products GmbH ","PVP-A235M",235,"+...",29.7,7.9,36.9,8.6,-125.46,3.6120000000000001,-0.42,1000,"Austria",null,14.586480140686035,"mono",60,"pseudo-square",1629,989,40.5,"aluminum","junction box",21,"www.pvp.co.at","-","-","-","-","-",{"$f":"IF($O10332=\"Sunpower Corp.\",3,(IF(OR($Q10332=\"mono\",$Q10332=\"poly\",$Q10332=\"HIT\",$Q10332=\"EFG\",$Q10332=\"mono-LGBC\"),1,IF(OR($Q10332=\"µc-Si / a-Si\",$Q10332=\"a-Si (single)\",$Q10332=\"a-Si (tandem)\",$Q10332=\"a-Si (triple)\"),3,2))))","v":1},{"$f":"IF($O10332=\"Sunpower Corp.\",3,(IF(OR($Q10332=\"mono\",$Q10332=\"poly\",$Q10332=\"HIT\",$Q10332=\"EFG\",$Q10332=\"mono-LGBC\"),1,2)))","v":1},{"$f":"IF($O10332=\"Sunpower Corp.\",3,(IF(OR($Q10332=\"mono\",$Q10332=\"poly\",$Q10332=\"HIT\",$Q10332=\"EFG\",$Q10332=\"mono-LGBC\"),1,IF(OR($Q10332=\"µc-Si / a-Si\",$Q10332=\"a-Si (single)\",$Q10332=\"a-Si (tandem)\",$Q10332=\"a-Si (triple)\"),3,2))))","v":1},0,null,null,30268,null,null,10332]
["PVflex Solar GmbH FK 200-45 (85W)","PVflex Solar GmbH ","FK 200-45 (85W)",85,"+5...-5",15.2,5.6,21.1,6.5,-84.4,4.55,-0.52,800,"Germany",null,9.3585023880004883,"CIGS",36,"rectangular",2005,453,1.3,"frameless","junction box",1.8,"www.pvflex.com","-","-","-","-","-",{"$f":"IF($O10359=\"Sunpower Corp.\",3,(IF(OR($Q10359=\"mono\",$Q10359=\"poly\",$Q10359=\"HIT\",$Q10359=\"EFG\",$Q10359=\"mono-LGBC\"),1,IF(OR($Q10359=\"µc-Si / a-Si\",$Q10359=\"a-Si (single)\",$Q10359=\"a-Si (tandem)\",$Q10359=\"a-Si (triple)\"),3,2))))","v":2},{"$f":"IF($O10359=\"Sunpower Corp.\",3,(IF(OR($Q10359=\"mono\",$Q10359=\"poly\",$Q10359=\"HIT\",$Q10359=\"EFG\",$Q10359=\"mono-LGBC\"),1,2)))","v":2},{"$f":"IF($O10359=\"Sunpower Corp.\",3,(IF(OR($Q10359=\"mono\",$Q10359=\"poly\",$Q10359=\"HIT\",$Q10359=\"EFG\",$Q10359=\"mono-LGBC\"),1,IF(OR($Q10359=\"µc-Si / a-Si\",$Q10359=\"a-Si (single)\",$Q10359=\"a-Si (tandem)\",$Q10359=\"a-Si (triple)\"),3,2))))","v":2},0,null,null,26720,null,null,10359]
["PVT Austria Photovoltaik Technik GmbH PVT-2xxMAE-A_205","PVT Austria Photovoltaik Technik GmbH ","PVT-2xxMAE-A_205",205,"+3...-3",44,4.7,53,5.4,-174.9,2.7,-0.48,1000,"Austria",null,13.532750129699707,"mono",88,"pseudo-square",1451,1044,35,"aluminum","junction box Tyco",19.5,"www.pvt-austria.at","-","-","-","-","-",{"$f":"IF($O10377=\"Sunpower Corp.\",3,(IF(OR($Q10377=\"mono\",$Q10377=\"poly\",$Q10377=\"HIT\",$Q10377=\"EFG\",$Q10377=\"mono-LGBC\"),1,IF(OR($Q10377=\"µc-Si / a-Si\",$Q10377=\"a-Si (single)\",$Q10377=\"a-Si (tandem)\",$Q10377=\"a-Si (triple)\"),3,2))))","v":1},{"$f":"IF($O10377=\"Sunpower Corp.\",3,(IF(OR($Q10377=\"mono\",$Q10377=\"poly\",$Q10377=\"HIT\",$Q10377=\"EFG\",$Q10377=\"mono-LGBC\"),1,2)))","v":1},{"$f":"IF($O10377=\"Sunpower Corp.\",3,(IF(OR($Q10377=\"mono\",$Q10377=\"poly\",$Q10377=\"HIT\",$Q10377=\"EFG\",$Q10377=\"mono-LGBC\"),1,IF(OR($Q10377=\"µc-Si / a-Si\",$Q10377=\"a-Si (single)\",$Q10377=\"a-Si (tandem)\",$Q10377=\"a-Si (triple)\"),3,2))))","v":1},0,null,null,3248,null,null,10377]
["Q-Cells SE Q.PRO 245 G2","Q-Cells SE ","Q.PRO 245 G2",245,"+2,04...0",30.55,8.0299999999999994,37.479999999999997,8.52,-112.44,3.4079999999999999,-0.41,1000,"various","Q-Cells AG",14.670660018920898,"poly",60,"square",1670,1000,50,"aluminum","junction box",20,"www.q-cells.com","-","-","-","-","-",{"$f":"IF($O10404=\"Sunpower Corp.\",3,(IF(OR($Q10404=\"mono\",$Q10404=\"poly\",$Q10404=\"HIT\",$Q10404=\"EFG\",$Q10404=\"mono-LGBC\"),1,IF(OR($Q10404=\"µc-Si / a-Si\",$Q10404=\"a-Si (single)\",$Q10404=\"a-Si (tandem)\",$Q10404=\"a-Si (triple)\"),3,2))))","v":1},{"$f":"IF($O10404=\"Sunpower Corp.\",3,(IF(OR($Q10404=\"mono\",$Q10404=\"poly\",$Q10404=\"HIT\",$Q10404=\"EFG\",$Q10404=\"mono-LGBC\"),1,2)))","v":1},{"$f":"IF($O10404=\"Sunpower Corp.\",3,(IF(OR($Q10404=\"mono\",$Q10404=\"poly\",$Q10404=\"HIT\",$Q10404=\"EFG\",$Q10404=\"mono-LGBC\"),1,IF(OR($Q10404=\"µc-Si / a-Si\",$Q10404=\"a-Si (single)\",$Q10404=\"a-Si (tandem)\",$Q10404=\"a-Si (triple)\"),3,2))))","v":1},0,null,null,27900,null,null,10404]
["Q-Cells SE Q.SMART UF L 95","Q-Cells SE ","Q.SMART UF L 95",95,"+5,26...0",66.900000000000006,1.42,90.7,1.63,-272.10000000000002,0.16300000000000001,-0.38,1000,"Germany","Q-Cells AG",10.111709594726563,"CIGS",null,null,1190,789.5,7.3,"frameless","junction box MC4",16.5,"www.q-cells.com","-","-","-","-","-",{"$f":"IF($O10422=\"Sunpower Corp.\",3,(IF(OR($Q10422=\"mono\",$Q10422=\"poly\",$Q10422=\"HIT\",$Q10422=\"EFG\",$Q10422=\"mono-LGBC\"),1,IF(OR($Q10422=\"µc-Si / a-Si\",$Q10422=\"a-Si (single)\",$Q10422=\"a-Si (tandem)\",$Q10422=\"a-Si (triple)\"),3,2))))","v":2},{"$f":"IF($O10422=\"Sunpower Corp.\",3,(IF(OR($Q10422=\"mono\",$Q10422=\"poly\",$Q10422=\"HIT\",$Q10422=\"EFG\",$Q10422=\"mono-LGBC\"),1,2)))","v":2},{"$f":"IF($O10422=\"Sunpower Corp.\",3,(IF(OR($Q10422=\"mono\",$Q10422=\"poly\",$Q10422=\"HIT\",$Q10422=\"EFG\",$Q10422=\"mono-LGBC\"),1,IF(OR($Q10422=\"µc-Si / a-Si\",$Q10422=\"a-Si (single)\",$Q10422=\"a-Si (tandem)\",$Q10422=\"a-Si (triple)\"),3,2))))","v":2},0,null,null,19844,null,null,10422]
["Qingdao Fullgreen Solar Tech. Corp., Ltd FG200M-72","Qingdao Fullgreen Solar Tech. Corp., Ltd ","FG200M-72",200,"+3...-3",36.5,5.48,44.5,5.92,-151.30000000000001,2.0720000000000005,-0.51,1000,"China",null,15.666119575500488,"mono",72,"pseudo-square",1580,808,45,"aluminum","junction box",15.5,"www.fullgreensolar.com","-","-","-","-","-",{"$f":"IF($O10430=\"Sunpower Corp.\",3,(IF(OR($Q10430=\"mono\",$Q10430=\"poly\",$Q10430=\"HIT\",$Q10430=\"EFG\",$Q10430=\"mono-LGBC\"),1,IF(OR($Q10430=\"µc-Si / a-Si\",$Q10430=\"a-Si (single)\",$Q10430=\"a-Si (tandem)\",$Q10430=\"a-Si (triple)\"),3,2))))","v":1},{"$f":"IF($O10430=\"Sunpower Corp.\",3,(IF(OR($Q10430=\"mono\",$Q10430=\"poly\",$Q10430=\"HIT\",$Q10430=\"EFG\",$Q10430=\"mono-LGBC\"),1,2)))","v":1},{"$f":"IF($O10430=\"Sunpower Corp.\",3,(IF(OR($Q10430=\"mono\",$Q10430=\"poly\",$Q10430=\"HIT\",$Q10430=\"EFG\",$Q10430=\"mono-LGBC\"),1,IF(OR($Q10430=\"µc-Si / a-Si\",$Q10430=\"a-Si (single)\",$Q10430=\"a-Si (tandem)\",$Q10430=\"a-Si (triple)\"),3,2))))","v":1},0,null,null,29775,null,null,10430]
["Qingdao Fullgreen Solar Tech. Corp., Ltd FG250M-96","Qingdao Fullgreen Solar Tech. Corp., Ltd ","FG250M-96",250,"+3...-3",49,5.0999999999999996,59.8,5.51,-203.32,1.9285000000000003,-0.51,1000,"China",null,14.857069969177246,"mono",96,"pseudo-square",1580,1065,50,"aluminum","junction box",21.5,"www.fullgreensolar.com","-","-","-","-","-",{"$f":"IF($O10451=\"Sunpower Corp.\",3,(IF(OR($Q10451=\"mono\",$Q10451=\"poly\",$Q10451=\"HIT\",$Q10451=\"EFG\",$Q10451=\"mono-LGBC\"),1,IF(OR($Q10451=\"µc-Si / a-Si\",$Q10451=\"a-Si (single)\",$Q10451=\"a-Si (tandem)\",$Q10451=\"a-Si (triple)\"),3,2))))","v":1},{"$f":"IF($O10451=\"Sunpower Corp.\",3,(IF(OR($Q10451=\"mono\",$Q10451=\"poly\",$Q10451=\"HIT\",$Q10451=\"EFG\",$Q10451=\"mono-LGBC\"),1,2)))","v":1},{"$f":"IF($O10451=\"Sunpower Corp.\",3,(IF(OR($Q10451=\"mono\",$Q10451=\"poly\",$Q10451=\"HIT\",$Q10451=\"EFG\",$Q10451=\"mono-LGBC\"),1,IF(OR($Q10451=\"µc-Si / a-Si\",$Q10451=\"a-Si (single)\",$Q10451=\"a-Si (tandem)\",$Q10451=\"a-Si (triple)\"),3,2))))","v":1},0,null,null,29784,null,null,10451]
["Qingdao Jiaoyang Lamping Co., Ltd (Joy Solar) JYSP-175W","Qingdao Jiaoyang Lamping Co., Ltd (Joy Solar) ","JYSP-175W",175,"+3...-3",36,4.8600000000000003,43.2,5.45,-146.88,2.0165000000000002,-0.48,1000,null,null,13.707859992980957,"mono",72,"pseudo-square",1580,808,35,"aluminum","junction box",16,"www.joysolar.com","-","-","-","-","-",{"$f":"IF($O10475=\"Sunpower Corp.\",3,(IF(OR($Q10475=\"mono\",$Q10475=\"poly\",$Q10475=\"HIT\",$Q10475=\"EFG\",$Q10475=\"mono-LGBC\"),1,IF(OR($Q10475=\"µc-Si / a-Si\",$Q10475=\"a-Si (single)\",$Q10475=\"a-Si (tandem)\",$Q10475=\"a-Si (triple)\"),3,2))))","v":1},{"$f":"IF($O10475=\"Sunpower Corp.\",3,(IF(OR($Q10475=\"mono\",$Q10475=\"poly\",$Q10475=\"HIT\",$Q10475=\"EFG\",$Q10475=\"mono-LGBC\"),1,2)))","v":1},{"$f":"IF($O10475=\"Sunpower Corp.\",3,(IF(OR($Q10475=\"mono\",$Q10475=\"poly\",$Q10475=\"HIT\",$Q10475=\"EFG\",$Q10475=\"mono-LGBC\"),1,IF(OR($Q10475=\"µc-Si / a-Si\",$Q10475=\"a-Si (single)\",$Q10475=\"a-Si (tandem)\",$Q10475=\"a-Si (triple)\"),3,2))))","v":1},0,null,null,20179,null,null,10475]
["QS Solar Co. Ltd. QS50DGU","QS Solar Co. Ltd. ","QS50DGU",50,"+5...-5",55.7,0.9,73.5,1.18,-205.8,1.0620000000000001,-0.19,1000,null,null,4.5477738380432129,"a-Si (single)",null,null,1397,787,30,"frameless","junction box",17.399999999999999,null,"-","-","-","-","-",{"$f":"IF($O10496=\"Sunpower Corp.\",3,(IF(OR($Q10496=\"mono\",$Q10496=\"poly\",$Q10496=\"HIT\",$Q10496=\"EFG\",$Q10496=\"mono-LGBC\"),1,IF(OR($Q10496=\"µc-Si / a-Si\",$Q10496=\"a-Si (single)\",$Q10496=\"a-Si (tandem)\",$Q10496=\"a-Si (triple)\"),3,2))))","v":3},{"$f":"IF($O10496=\"Sunpower Corp.\",3,(IF(OR($Q10496=\"mono\",$Q10496=\"poly\",$Q10496=\"HIT\",$Q10496=\"EFG\",$Q10496=\"mono-LGBC\"),1,2)))","v":2},{"$f":"IF($O10496=\"Sunpower Corp.\",3,(IF(OR($Q10496=\"mono\",$Q10496=\"poly\",$Q10496=\"HIT\",$Q10496=\"EFG\",$Q10496=\"mono-LGBC\"),1,IF(OR($Q10496=\"µc-Si / a-Si\",$Q10496=\"a-Si (single)\",$Q10496=\"a-Si (tandem)\",$Q10496=\"a-Si (triple)\"),3,2))))","v":3},0,null,null,7842,null,null,10496]
["RAH Kraft GmbH RAHWXS/A 190 S","RAH Kraft GmbH ","RAHWXS/A 190 S",190,"+3...0",36.72,5.17,44.28,5.85,-132.84,2.1644999999999999,-0.48,1000,null,null,14.882820129394531,"mono",72,"pseudo-square",1580,808,40,"aluminum","junction box Tyco",15.5,"www.rah-solar.de","-","-","-","-","-",{"$f":"IF($O10520=\"Sunpower Corp.\",3,(IF(OR($Q10520=\"mono\",$Q10520=\"poly\",$Q10520=\"HIT\",$Q10520=\"EFG\",$Q10520=\"mono-LGBC\"),1,IF(OR($Q10520=\"µc-Si / a-Si\",$Q10520=\"a-Si (single)\",$Q10520=\"a-Si (tandem)\",$Q10520=\"a-Si (triple)\"),3,2))))","v":1},{"$f":"IF($O10520=\"Sunpower Corp.\",3,(IF(OR($Q10520=\"mono\",$Q10520=\"poly\",$Q10520=\"HIT\",$Q10520=\"EFG\",$Q10520=\"mono-LGBC\"),1,2)))","v":1},{"$f":"IF($O10520=\"Sunpower Corp.\",3,(IF(OR($Q10520=\"mono\",$Q10520=\"poly\",$Q10520=\"HIT\",$Q10520=\"EFG\",$Q10520=\"mono-LGBC\"),1,IF(OR($Q10520=\"µc-Si / a-Si\",$Q10520=\"a-Si (single)\",$Q10520=\"a-Si (tandem)\",$Q10520=\"a-Si (triple)\"),3,2))))","v":1},0,null,null,20864,null,null,10520]
["Realforce Power Co., Ltd RF-225P60","Realforce Power Co., Ltd ","RF-225P60",225,"+3...-3",29.4,7.65,36.200000000000003,8.3699999999999992,-126.7,5.0219999999999985,-0.45,1000,"China",null,13.83014965057373,"poly",60,"square",1640,992,40,null,"junction box",19,"www.realforce-solar.com","-","-","-","-","-",{"$f":"IF($O10541=\"Sunpower Corp.\",3,(IF(OR($Q10541=\"mono\",$Q10541=\"poly\",$Q10541=\"HIT\",$Q10541=\"EFG\",$Q10541=\"mono-LGBC\"),1,IF(OR($Q10541=\"µc-Si / a-Si\",$Q10541=\"a-Si (single)\",$Q10541=\"a-Si (tandem)\",$Q10541=\"a-Si (triple)\"),3,2))))","v":1},{"$f":"IF($O10541=\"Sunpower Corp.\",3,(IF(OR($Q10541=\"mono\",$Q10541=\"poly\",$Q10541=\"HIT\",$Q10541=\"EFG\",$Q10541=\"mono-LGBC\"),1,2)))","v":1},{"$f":"IF($O10541=\"Sunpower Corp.\",3,(IF(OR($Q10541=\"mono\",$Q10541=\"poly\",$Q10541=\"HIT\",$Q10541=\"EFG\",$Q10541=\"mono-LGBC\"),1,IF(OR($Q10541=\"µc-Si / a-Si\",$Q10541=\"a-Si (single)\",$Q10541=\"a-Si (tandem)\",$Q10541=\"a-Si (triple)\"),3,2))))","v":1},0,null,null,28916,null,null,10541]
["REC REC220PE (BLK)","REC ","REC220PE (BLK)",220,"+2...0",28.6,7.7,35.9,8.3000000000000007,-118.47,5.81,-0.43,1000,"Singapore","REC Solar AS",13.333209991455078,"poly",60,"square",1665,991,38,"aluminum","junction box H + S",18,"www.recgroup.com","-","-","-","-","-",{"$f":"IF($O10559=\"Sunpower Corp.\",3,(IF(OR($Q10559=\"mono\",$Q10559=\"poly\",$Q10559=\"HIT\",$Q10559=\"EFG\",$Q10559=\"mono-LGBC\"),1,IF(OR($Q10559=\"µc-Si / a-Si\",$Q10559=\"a-Si (single)\",$Q10559=\"a-Si (tandem)\",$Q10559=\"a-Si (triple)\"),3,2))))","v":1},{"$f":"IF($O10559=\"Sunpower Corp.\",3,(IF(OR($Q10559=\"mono\",$Q10559=\"poly\",$Q10559=\"HIT\",$Q10559=\"EFG\",$Q10559=\"mono-LGBC\"),1,2)))","v":1},{"$f":"IF($O10559=\"Sunpower Corp.\",3,(IF(OR($Q10559=\"mono\",$Q10559=\"poly\",$Q10559=\"HIT\",$Q10559=\"EFG\",$Q10559=\"mono-LGBC\"),1,IF(OR($Q10559=\"µc-Si / a-Si\",$Q10559=\"a-Si (single)\",$Q10559=\"a-Si (tandem)\",$Q10559=\"a-Si (triple)\"),3,2))))","v":1},0,null,null,23590,null,null,10559]
["REC REC230PEI","REC ","REC230PEI",230,"+2...0",29.2,7.9,36.5,8.4,-120.45,5.88,-0.43,1000,"Singapore","REC Solar AS",13.83076000213623,"poly",60,"square",1707,1014,17,"aluminum","junction box H + S",21.6,"www.recgroup.com","-","-","-","-","-",{"$f":"IF($O10566=\"Sunpower Corp.\",3,(IF(OR($Q10566=\"mono\",$Q10566=\"poly\",$Q10566=\"HIT\",$Q10566=\"EFG\",$Q10566=\"mono-LGBC\"),1,IF(OR($Q10566=\"µc-Si / a-Si\",$Q10566=\"a-Si (single)\",$Q10566=\"a-Si (tandem)\",$Q10566=\"a-Si (triple)\"),3,2))))","v":1},{"$f":"IF($O10566=\"Sunpower Corp.\",3,(IF(OR($Q10566=\"mono\",$Q10566=\"poly\",$Q10566=\"HIT\",$Q10566=\"EFG\",$Q10566=\"mono-LGBC\"),1,2)))","v":1},{"$f":"IF($O10566=\"Sunpower Corp.\",3,(IF(OR($Q10566=\"mono\",$Q10566=\"poly\",$Q10566=\"HIT\",$Q10566=\"EFG\",$Q10566=\"mono-LGBC\"),1,IF(OR($Q10566=\"µc-Si / a-Si\",$Q10566=\"a-Si (single)\",$Q10566=\"a-Si (tandem)\",$Q10566=\"a-Si (triple)\"),3,2))))","v":1},0,null,null,26645,null,null,10566]
["Reliance Industries Ltd. RS1275","Reliance Industries Ltd. ","RS1275",74,"+5...0",17.5,4.5,21.5,4.8,-75.25,2.4,null,1000,"India",null,11.089529991149902,"poly",36,"rectangular",1008,662,35,"aluminum","junction box",7.2,"www.relsolar.com","-","-","-","-","-",{"$f":"IF($O10585=\"Sunpower Corp.\",3,(IF(OR($Q10585=\"mono\",$Q10585=\"poly\",$Q10585=\"HIT\",$Q10585=\"EFG\",$Q10585=\"mono-LGBC\"),1,IF(OR($Q10585=\"µc-Si / a-Si\",$Q10585=\"a-Si (single)\",$Q10585=\"a-Si (tandem)\",$Q10585=\"a-Si (triple)\"),3,2))))","v":1},{"$f":"IF($O10585=\"Sunpower Corp.\",3,(IF(OR($Q10585=\"mono\",$Q10585=\"poly\",$Q10585=\"HIT\",$Q10585=\"EFG\",$Q10585=\"mono-LGBC\"),1,2)))","v":1},{"$f":"IF($O10585=\"Sunpower Corp.\",3,(IF(OR($Q10585=\"mono\",$Q10585=\"poly\",$Q10585=\"HIT\",$Q10585=\"EFG\",$Q10585=\"mono-LGBC\"),1,IF(OR($Q10585=\"µc-Si / a-Si\",$Q10585=\"a-Si (single)\",$Q10585=\"a-Si (tandem)\",$Q10585=\"a-Si (triple)\"),3,2))))","v":1},0,null,null,13364,null,null,10585]
["Reliance Industries Ltd. RS250-S6","Reliance Industries Ltd. ","RS250-S6",250,"+3...0",30.23,8.27,37.5,8.6999999999999993,-123.75,2.61,-0.49,1000,"India",null,15.087380409240723,"mono",60,"pseudo-square",1662,997,43,"aluminum","junction box MC4",18.600000000000001,"www.relsolar.com","-","-","-","-","-",{"$f":"IF($O10615=\"Sunpower Corp.\",3,(IF(OR($Q10615=\"mono\",$Q10615=\"poly\",$Q10615=\"HIT\",$Q10615=\"EFG\",$Q10615=\"mono-LGBC\"),1,IF(OR($Q10615=\"µc-Si / a-Si\",$Q10615=\"a-Si (single)\",$Q10615=\"a-Si (tandem)\",$Q10615=\"a-Si (triple)\"),3,2))))","v":1},{"$f":"IF($O10615=\"Sunpower Corp.\",3,(IF(OR($Q10615=\"mono\",$Q10615=\"poly\",$Q10615=\"HIT\",$Q10615=\"EFG\",$Q10615=\"mono-LGBC\"),1,2)))","v":1},{"$f":"IF($O10615=\"Sunpower Corp.\",3,(IF(OR($Q10615=\"mono\",$Q10615=\"poly\",$Q10615=\"HIT\",$Q10615=\"EFG\",$Q10615=\"mono-LGBC\"),1,IF(OR($Q10615=\"µc-Si / a-Si\",$Q10615=\"a-Si (single)\",$Q10615=\"a-Si (tandem)\",$Q10615=\"a-Si (triple)\"),3,2))))","v":1},0,null,null,26664,null,null,10615]
["Renergies Italia srl REN170M/165","Renergies Italia srl ","REN170M/165",165,"+5...-5",36.25,4.55,44.27,5.04,-150.518,0.95760000000000001,-0.45,800,null,null,12.931790351867676,"mono",72,"pseudo-square",1585,805,40,"aluminum","junction box",14,null,"-","-","-","-","-",{"$f":"IF($O10630=\"Sunpower Corp.\",3,(IF(OR($Q10630=\"mono\",$Q10630=\"poly\",$Q10630=\"HIT\",$Q10630=\"EFG\",$Q10630=\"mono-LGBC\"),1,IF(OR($Q10630=\"µc-Si / a-Si\",$Q10630=\"a-Si (single)\",$Q10630=\"a-Si (tandem)\",$Q10630=\"a-Si (triple)\"),3,2))))","v":1},{"$f":"IF($O10630=\"Sunpower Corp.\",3,(IF(OR($Q10630=\"mono\",$Q10630=\"poly\",$Q10630=\"HIT\",$Q10630=\"EFG\",$Q10630=\"mono-LGBC\"),1,2)))","v":1},{"$f":"IF($O10630=\"Sunpower Corp.\",3,(IF(OR($Q10630=\"mono\",$Q10630=\"poly\",$Q10630=\"HIT\",$Q10630=\"EFG\",$Q10630=\"mono-LGBC\"),1,IF(OR($Q10630=\"µc-Si / a-Si\",$Q10630=\"a-Si (single)\",$Q10630=\"a-Si (tandem)\",$Q10630=\"a-Si (triple)\"),3,2))))","v":1},0,null,null,7851,null,null,10630]
["ReneSola Ltd. JC290S-24/Ab","ReneSola Ltd. ","JC290S-24/Ab",290,"+3...-3",35.4,8.15,45.2,8.4499999999999993,-162.72,2.5350000000000001,-0.53,1000,"China",null,14.94573974609375,"mono",72,"pseudo-square",1956,992,50,"aluminum","junction box",29,"www.renesola.com","-","-","-","-","-",{"$f":"IF($O10660=\"Sunpower Corp.\",3,(IF(OR($Q10660=\"mono\",$Q10660=\"poly\",$Q10660=\"HIT\",$Q10660=\"EFG\",$Q10660=\"mono-LGBC\"),1,IF(OR($Q10660=\"µc-Si / a-Si\",$Q10660=\"a-Si (single)\",$Q10660=\"a-Si (tandem)\",$Q10660=\"a-Si (triple)\"),3,2))))","v":1},{"$f":"IF($O10660=\"Sunpower Corp.\",3,(IF(OR($Q10660=\"mono\",$Q10660=\"poly\",$Q10660=\"HIT\",$Q10660=\"EFG\",$Q10660=\"mono-LGBC\"),1,2)))","v":1},{"$f":"IF($O10660=\"Sunpower Corp.\",3,(IF(OR($Q10660=\"mono\",$Q10660=\"poly\",$Q10660=\"HIT\",$Q10660=\"EFG\",$Q10660=\"mono-LGBC\"),1,IF(OR($Q10660=\"µc-Si / a-Si\",$Q10660=\"a-Si (single)\",$Q10660=\"a-Si (tandem)\",$Q10660=\"a-Si (triple)\"),3,2))))","v":1},0,null,null,20978,null,null,10660]
["Rich Solar Italy S.r.l. RS-M220","Rich Solar Italy S.r.l. ","RS-M220",220,"+2,27...0",29.4,7.48,36.799999999999997,8.07,-128.80000000000001,4.0350000000000001,-0.45,1000,"China",null,13.440859794616699,"mono",60,"pseudo-square",1650,992,50,"aluminum","junction box",19.5,"www.richsolar.it","-","-","-","-","-",{"$f":"IF($O10675=\"Sunpower Corp.\",3,(IF(OR($Q10675=\"mono\",$Q10675=\"poly\",$Q10675=\"HIT\",$Q10675=\"EFG\",$Q10675=\"mono-LGBC\"),1,IF(OR($Q10675=\"µc-Si / a-Si\",$Q10675=\"a-Si (single)\",$Q10675=\"a-Si (tandem)\",$Q10675=\"a-Si (triple)\"),3,2))))","v":1},{"$f":"IF($O10675=\"Sunpower Corp.\",3,(IF(OR($Q10675=\"mono\",$Q10675=\"poly\",$Q10675=\"HIT\",$Q10675=\"EFG\",$Q10675=\"mono-LGBC\"),1,2)))","v":1},{"$f":"IF($O10675=\"Sunpower Corp.\",3,(IF(OR($Q10675=\"mono\",$Q10675=\"poly\",$Q10675=\"HIT\",$Q10675=\"EFG\",$Q10675=\"mono-LGBC\"),1,IF(OR($Q10675=\"µc-Si / a-Si\",$Q10675=\"a-Si (single)\",$Q10675=\"a-Si (tandem)\",$Q10675=\"a-Si (triple)\"),3,2))))","v":1},0,null,null,26539,null,null,10675]
["Rich Solar Italy S.r.l. RS-P220","Rich Solar Italy S.r.l. ","RS-P220",220,"+2,27...0",29,7.58,36.299999999999997,8.1199999999999992,-127.05,4.0599999999999996,-0.45,1000,"China",null,13.440859794616699,"poly",60,"square",1650,992,50,"aluminum","junction box",19.5,"www.richsolar.it","-","-","-","-","-",{"$f":"IF($O10685=\"Sunpower Corp.\",3,(IF(OR($Q10685=\"mono\",$Q10685=\"poly\",$Q10685=\"HIT\",$Q10685=\"EFG\",$Q10685=\"mono-LGBC\"),1,IF(OR($Q10685=\"µc-Si / a-Si\",$Q10685=\"a-Si (single)\",$Q10685=\"a-Si (tandem)\",$Q10685=\"a-Si (triple)\"),3,2))))","v":1},{"$f":"IF($O10685=\"Sunpower Corp.\",3,(IF(OR($Q10685=\"mono\",$Q10685=\"poly\",$Q10685=\"HIT\",$Q10685=\"EFG\",$Q10685=\"mono-LGBC\"),1,2)))","v":1},{"$f":"IF($O10685=\"Sunpower Corp.\",3,(IF(OR($Q10685=\"mono\",$Q10685=\"poly\",$Q10685=\"HIT\",$Q10685=\"EFG\",$Q10685=\"mono-LGBC\"),1,IF(OR($Q10685=\"µc-Si / a-Si\",$Q10685=\"a-Si (single)\",$Q10685=\"a-Si (tandem)\",$Q10685=\"a-Si (triple)\"),3,2))))","v":1},0,null,null,19280,null,null,10685]
["Risen Energy Co., Ltd. SYP200M","Risen Energy Co., Ltd. ","SYP200M",200,"+3...0",43,4.6500000000000004,52.8,5.01,-195.36,1.002,-0.5,1000,"China","Risen",12.837630271911621,"mono",88,"pseudo-square",1456,1070,50,"aluminum","junction box MC4",20.5,"www.risenenergy.com","-","-","-","-","-",{"$f":"IF($O10714=\"Sunpower Corp.\",3,(IF(OR($Q10714=\"mono\",$Q10714=\"poly\",$Q10714=\"HIT\",$Q10714=\"EFG\",$Q10714=\"mono-LGBC\"),1,IF(OR($Q10714=\"µc-Si / a-Si\",$Q10714=\"a-Si (single)\",$Q10714=\"a-Si (tandem)\",$Q10714=\"a-Si (triple)\"),3,2))))","v":1},{"$f":"IF($O10714=\"Sunpower Corp.\",3,(IF(OR($Q10714=\"mono\",$Q10714=\"poly\",$Q10714=\"HIT\",$Q10714=\"EFG\",$Q10714=\"mono-LGBC\"),1,2)))","v":1},{"$f":"IF($O10714=\"Sunpower Corp.\",3,(IF(OR($Q10714=\"mono\",$Q10714=\"poly\",$Q10714=\"HIT\",$Q10714=\"EFG\",$Q10714=\"mono-LGBC\"),1,IF(OR($Q10714=\"µc-Si / a-Si\",$Q10714=\"a-Si (single)\",$Q10714=\"a-Si (tandem)\",$Q10714=\"a-Si (triple)\"),3,2))))","v":1},0,null,null,10594,null,null,10714]
["Risen Energy Co., Ltd. SYP225S","Risen Energy Co., Ltd. ","SYP225S",225,"+3...0",29.6,7.61,37,8.14,-144.30000000000001,2.4420000000000002,-0.44,1000,"China","Risen",13.83014965057373,"poly",60,"square",1640,992,50,"aluminum","junction box MC4",20,"www.risenenergy.com","-","-","-","-","-",{"$f":"IF($O10730=\"Sunpower Corp.\",3,(IF(OR($Q10730=\"mono\",$Q10730=\"poly\",$Q10730=\"HIT\",$Q10730=\"EFG\",$Q10730=\"mono-LGBC\"),1,IF(OR($Q10730=\"µc-Si / a-Si\",$Q10730=\"a-Si (single)\",$Q10730=\"a-Si (tandem)\",$Q10730=\"a-Si (triple)\"),3,2))))","v":1},{"$f":"IF($O10730=\"Sunpower Corp.\",3,(IF(OR($Q10730=\"mono\",$Q10730=\"poly\",$Q10730=\"HIT\",$Q10730=\"EFG\",$Q10730=\"mono-LGBC\"),1,2)))","v":1},{"$f":"IF($O10730=\"Sunpower Corp.\",3,(IF(OR($Q10730=\"mono\",$Q10730=\"poly\",$Q10730=\"HIT\",$Q10730=\"EFG\",$Q10730=\"mono-LGBC\"),1,IF(OR($Q10730=\"µc-Si / a-Si\",$Q10730=\"a-Si (single)\",$Q10730=\"a-Si (tandem)\",$Q10730=\"a-Si (triple)\"),3,2))))","v":1},0,null,null,29410,null,null,10730]
["Risen Energy Co., Ltd. SYP280S","Risen Energy Co., Ltd. ","SYP280S",280,"+3...0",35.200000000000003,7.95,44.8,8.33,-174.72,2.4990000000000001,-0.44,1000,"China","Risen",14.430370330810547,"poly",72,"square",1956,992,50,"aluminum","junction box MC4",24,"www.risenenergy.com","-","-","-","-","-",{"$f":"IF($O10755=\"Sunpower Corp.\",3,(IF(OR($Q10755=\"mono\",$Q10755=\"poly\",$Q10755=\"HIT\",$Q10755=\"EFG\",$Q10755=\"mono-LGBC\"),1,IF(OR($Q10755=\"µc-Si / a-Si\",$Q10755=\"a-Si (single)\",$Q10755=\"a-Si (tandem)\",$Q10755=\"a-Si (triple)\"),3,2))))","v":1},{"$f":"IF($O10755=\"Sunpower Corp.\",3,(IF(OR($Q10755=\"mono\",$Q10755=\"poly\",$Q10755=\"HIT\",$Q10755=\"EFG\",$Q10755=\"mono-LGBC\"),1,2)))","v":1},{"$f":"IF($O10755=\"Sunpower Corp.\",3,(IF(OR($Q10755=\"mono\",$Q10755=\"poly\",$Q10755=\"HIT\",$Q10755=\"EFG\",$Q10755=\"mono-LGBC\"),1,IF(OR($Q10755=\"µc-Si / a-Si\",$Q10755=\"a-Si (single)\",$Q10755=\"a-Si (tandem)\",$Q10755=\"a-Si (triple)\"),3,2))))","v":1},0,null,null,13504,null,null,10755]
["Risen Energy Co., Ltd. SYP300M","Risen Energy Co., Ltd. ","SYP300M",300,"+3...0",35.799999999999997,8.3800000000000008,44.8,8.93,-165.76,1.786,-0.5,1000,"China","Risen",15.46111011505127,"mono",72,"pseudo-square",1956,992,50,"aluminum","junction box MC4",23.5,"www.risenenergy.com","-","-","-","-","-",{"$f":"IF($O10760=\"Sunpower Corp.\",3,(IF(OR($Q10760=\"mono\",$Q10760=\"poly\",$Q10760=\"HIT\",$Q10760=\"EFG\",$Q10760=\"mono-LGBC\"),1,IF(OR($Q10760=\"µc-Si / a-Si\",$Q10760=\"a-Si (single)\",$Q10760=\"a-Si (tandem)\",$Q10760=\"a-Si (triple)\"),3,2))))","v":1},{"$f":"IF($O10760=\"Sunpower Corp.\",3,(IF(OR($Q10760=\"mono\",$Q10760=\"poly\",$Q10760=\"HIT\",$Q10760=\"EFG\",$Q10760=\"mono-LGBC\"),1,2)))","v":1},{"$f":"IF($O10760=\"Sunpower Corp.\",3,(IF(OR($Q10760=\"mono\",$Q10760=\"poly\",$Q10760=\"HIT\",$Q10760=\"EFG\",$Q10760=\"mono-LGBC\"),1,IF(OR($Q10760=\"µc-Si / a-Si\",$Q10760=\"a-Si (single)\",$Q10760=\"a-Si (tandem)\",$Q10760=\"a-Si (triple)\"),3,2))))","v":1},0,null,null,13532,null,null,10760]
["Ritek Corporation PM255","Ritek Corporation ","PM255",255,"+3...-3",33.65,7.63,43.31,8.19,-128.19759999999999,10.073700000000001,-0.376,1000,"Taiwan (Formosa)",null,13.075099945068359,"poly",72,"square",1966,992,42,"aluminum",null,29,"www.riteksolar.com","-","-","-","-","-",{"$f":"IF($O10780=\"Sunpower Corp.\",3,(IF(OR($Q10780=\"mono\",$Q10780=\"poly\",$Q10780=\"HIT\",$Q10780=\"EFG\",$Q10780=\"mono-LGBC\"),1,IF(OR($Q10780=\"µc-Si / a-Si\",$Q10780=\"a-Si (single)\",$Q10780=\"a-Si (tandem)\",$Q10780=\"a-Si (triple)\"),3,2))))","v":1},{"$f":"IF($O10780=\"Sunpower Corp.\",3,(IF(OR($Q10780=\"mono\",$Q10780=\"poly\",$Q10780=\"HIT\",$Q10780=\"EFG\",$Q10780=\"mono-LGBC\"),1,2)))","v":1},{"$f":"IF($O10780=\"Sunpower Corp.\",3,(IF(OR($Q10780=\"mono\",$Q10780=\"poly\",$Q10780=\"HIT\",$Q10780=\"EFG\",$Q10780=\"mono-LGBC\"),1,IF(OR($Q10780=\"µc-Si / a-Si\",$Q10780=\"a-Si (single)\",$Q10780=\"a-Si (tandem)\",$Q10780=\"a-Si (triple)\"),3,2))))","v":1},0,null,null,32194,null,null,10780]
["Romag Ltd. SMT6(60)P(225)","Romag Ltd. ","SMT6(60)P(225)",225,"+3...-3",29.03,7.76,36.979999999999997,8.24,-129.43,4.12,-0.45,1000,"Great Britain","Gintech",13.802330017089844,"poly",60,"square",1640,994,46,"aluminum","junction box",21,"www.romag.co.uk","-","-","-","-","-",{"$f":"IF($O10805=\"Sunpower Corp.\",3,(IF(OR($Q10805=\"mono\",$Q10805=\"poly\",$Q10805=\"HIT\",$Q10805=\"EFG\",$Q10805=\"mono-LGBC\"),1,IF(OR($Q10805=\"µc-Si / a-Si\",$Q10805=\"a-Si (single)\",$Q10805=\"a-Si (tandem)\",$Q10805=\"a-Si (triple)\"),3,2))))","v":1},{"$f":"IF($O10805=\"Sunpower Corp.\",3,(IF(OR($Q10805=\"mono\",$Q10805=\"poly\",$Q10805=\"HIT\",$Q10805=\"EFG\",$Q10805=\"mono-LGBC\"),1,2)))","v":1},{"$f":"IF($O10805=\"Sunpower Corp.\",3,(IF(OR($Q10805=\"mono\",$Q10805=\"poly\",$Q10805=\"HIT\",$Q10805=\"EFG\",$Q10805=\"mono-LGBC\"),1,IF(OR($Q10805=\"µc-Si / a-Si\",$Q10805=\"a-Si (single)\",$Q10805=\"a-Si (tandem)\",$Q10805=\"a-Si (triple)\"),3,2))))","v":1},0,null,null,14370,null,null,10805]
["Ryazan Metal Ceramics Instrumentation Plant JSC RZMP-120-T","Ryazan Metal Ceramics Instrumentation Plant JSC ","RZMP-120-T",120,"+3...-3",16.649999999999999,7.2,21.6,7.65,-58.32,15.3,-0.4,1000,"European Russia","diverse",11.968589782714844,"poly",36,"square",1492,672,35.299999999999997,"aluminum","junction box Tyco",14.6,"www.rmcip.ru","-","-","-","-","-",{"$f":"IF($O10825=\"Sunpower Corp.\",3,(IF(OR($Q10825=\"mono\",$Q10825=\"poly\",$Q10825=\"HIT\",$Q10825=\"EFG\",$Q10825=\"mono-LGBC\"),1,IF(OR($Q10825=\"µc-Si / a-Si\",$Q10825=\"a-Si (single)\",$Q10825=\"a-Si (tandem)\",$Q10825=\"a-Si (triple)\"),3,2))))","v":1},{"$f":"IF($O10825=\"Sunpower Corp.\",3,(IF(OR($Q10825=\"mono\",$Q10825=\"poly\",$Q10825=\"HIT\",$Q10825=\"EFG\",$Q10825=\"mono-LGBC\"),1,2)))","v":1},{"$f":"IF($O10825=\"Sunpower Corp.\",3,(IF(OR($Q10825=\"mono\",$Q10825=\"poly\",$Q10825=\"HIT\",$Q10825=\"EFG\",$Q10825=\"mono-LGBC\"),1,IF(OR($Q10825=\"µc-Si / a-Si\",$Q10825=\"a-Si (single)\",$Q10825=\"a-Si (tandem)\",$Q10825=\"a-Si (triple)\"),3,2))))","v":1},0,null,null,20816,null,null,10825]
["Saint Gobain Solar S.r.l. Sunlap Tipo 1 poli","Saint Gobain Solar S.r.l. ","Sunlap Tipo 1 poli",67,"+...",10.11,6.62,12.28,7.82,-44.207999999999998,0,-0.45,1000,null,null,11.983799934387207,"poly",20,"square",962,664,7.5,null,null,10.8,null,"-","-","-","-","-",{"$f":"IF($O10850=\"Sunpower Corp.\",3,(IF(OR($Q10850=\"mono\",$Q10850=\"poly\",$Q10850=\"HIT\",$Q10850=\"EFG\",$Q10850=\"mono-LGBC\"),1,IF(OR($Q10850=\"µc-Si / a-Si\",$Q10850=\"a-Si (single)\",$Q10850=\"a-Si (tandem)\",$Q10850=\"a-Si (triple)\"),3,2))))","v":1},{"$f":"IF($O10850=\"Sunpower Corp.\",3,(IF(OR($Q10850=\"mono\",$Q10850=\"poly\",$Q10850=\"HIT\",$Q10850=\"EFG\",$Q10850=\"mono-LGBC\"),1,2)))","v":1},{"$f":"IF($O10850=\"Sunpower Corp.\",3,(IF(OR($Q10850=\"mono\",$Q10850=\"poly\",$Q10850=\"HIT\",$Q10850=\"EFG\",$Q10850=\"mono-LGBC\"),1,IF(OR($Q10850=\"µc-Si / a-Si\",$Q10850=\"a-Si (single)\",$Q10850=\"a-Si (tandem)\",$Q10850=\"a-Si (triple)\"),3,2))))","v":1},0,null,null,28680,null,null,10850]
["Saint-Gobain Building Distribution (Solarkauf) Luxra PV 60 S (200W)","Saint-Gobain Building Distribution (Solarkauf) ","Luxra PV 60 S (200W)",200,"+1,5...-1",27.88,7.18,36.119999999999997,7.83,-119.196,2.8188,-0.47,1000,null,null,12.231289863586426,"mono",60,"pseudo-square",1650,991,46,"aluminum","junction box MC4",19.5,"www.solarkauf.com","-","-","-","-","-",{"$f":"IF($O10874=\"Sunpower Corp.\",3,(IF(OR($Q10874=\"mono\",$Q10874=\"poly\",$Q10874=\"HIT\",$Q10874=\"EFG\",$Q10874=\"mono-LGBC\"),1,IF(OR($Q10874=\"µc-Si / a-Si\",$Q10874=\"a-Si (single)\",$Q10874=\"a-Si (tandem)\",$Q10874=\"a-Si (triple)\"),3,2))))","v":1},{"$f":"IF($O10874=\"Sunpower Corp.\",3,(IF(OR($Q10874=\"mono\",$Q10874=\"poly\",$Q10874=\"HIT\",$Q10874=\"EFG\",$Q10874=\"mono-LGBC\"),1,2)))","v":1},{"$f":"IF($O10874=\"Sunpower Corp.\",3,(IF(OR($Q10874=\"mono\",$Q10874=\"poly\",$Q10874=\"HIT\",$Q10874=\"EFG\",$Q10874=\"mono-LGBC\"),1,IF(OR($Q10874=\"µc-Si / a-Si\",$Q10874=\"a-Si (single)\",$Q10874=\"a-Si (tandem)\",$Q10874=\"a-Si (triple)\"),3,2))))","v":1},0,null,null,24637,null,null,10874]
["Saint-Gobain Building Distribution (Solarkauf) Luxra PV 60 S (210W)","Saint-Gobain Building Distribution (Solarkauf) ","Luxra PV 60 S (210W)",210,"+1,5...-1",28.28,7.43,36.46,8,-120.31800000000001,2.88,-0.47,1000,null,null,12.842860221862793,"mono",60,"pseudo-square",1650,991,46,"aluminum","junction box MC4",19.5,"www.solarkauf.com","-","-","-","-","-",{"$f":"IF($O10876=\"Sunpower Corp.\",3,(IF(OR($Q10876=\"mono\",$Q10876=\"poly\",$Q10876=\"HIT\",$Q10876=\"EFG\",$Q10876=\"mono-LGBC\"),1,IF(OR($Q10876=\"µc-Si / a-Si\",$Q10876=\"a-Si (single)\",$Q10876=\"a-Si (tandem)\",$Q10876=\"a-Si (triple)\"),3,2))))","v":1},{"$f":"IF($O10876=\"Sunpower Corp.\",3,(IF(OR($Q10876=\"mono\",$Q10876=\"poly\",$Q10876=\"HIT\",$Q10876=\"EFG\",$Q10876=\"mono-LGBC\"),1,2)))","v":1},{"$f":"IF($O10876=\"Sunpower Corp.\",3,(IF(OR($Q10876=\"mono\",$Q10876=\"poly\",$Q10876=\"HIT\",$Q10876=\"EFG\",$Q10876=\"mono-LGBC\"),1,IF(OR($Q10876=\"µc-Si / a-Si\",$Q10876=\"a-Si (single)\",$Q10876=\"a-Si (tandem)\",$Q10876=\"a-Si (triple)\"),3,2))))","v":1},0,null,null,24647,null,null,10876]
["Saint-Gobain Building Distribution (Solarkauf) Luxra PV 72 J (185W)","Saint-Gobain Building Distribution (Solarkauf) ","Luxra PV 72 J (185W)",185,"+3...0",36.4,5.09,45,5.43,-157.5,2.7149999999999999,-0.47,1000,null,null,14.49116039276123,"mono",72,"pseudo-square",1580,808,45,"aluminum","junction box MC4",14.5,"www.solarkauf.com","-","-","-","-","-",{"$f":"IF($O10899=\"Sunpower Corp.\",3,(IF(OR($Q10899=\"mono\",$Q10899=\"poly\",$Q10899=\"HIT\",$Q10899=\"EFG\",$Q10899=\"mono-LGBC\"),1,IF(OR($Q10899=\"µc-Si / a-Si\",$Q10899=\"a-Si (single)\",$Q10899=\"a-Si (tandem)\",$Q10899=\"a-Si (triple)\"),3,2))))","v":1},{"$f":"IF($O10899=\"Sunpower Corp.\",3,(IF(OR($Q10899=\"mono\",$Q10899=\"poly\",$Q10899=\"HIT\",$Q10899=\"EFG\",$Q10899=\"mono-LGBC\"),1,2)))","v":1},{"$f":"IF($O10899=\"Sunpower Corp.\",3,(IF(OR($Q10899=\"mono\",$Q10899=\"poly\",$Q10899=\"HIT\",$Q10899=\"EFG\",$Q10899=\"mono-LGBC\"),1,IF(OR($Q10899=\"µc-Si / a-Si\",$Q10899=\"a-Si (single)\",$Q10899=\"a-Si (tandem)\",$Q10899=\"a-Si (triple)\"),3,2))))","v":1},0,null,null,24684,null,null,10899]
["Saint-Gobain Building Distribution (Solarkauf) Luxra PV 96 J (235W)","Saint-Gobain Building Distribution (Solarkauf) ","Luxra PV 96 J (235W)",235,"+3...0",48.8,4.8099999999999996,59.2,5.27,-195.36,2.1080000000000001,-0.43,1000,null,null,13.789870262145996,"mono",96,"pseudo-square",1575,1082,50,"aluminum","junction box MC4",20,"www.solarkauf.com","-","-","-","-","-",{"$f":"IF($O10921=\"Sunpower Corp.\",3,(IF(OR($Q10921=\"mono\",$Q10921=\"poly\",$Q10921=\"HIT\",$Q10921=\"EFG\",$Q10921=\"mono-LGBC\"),1,IF(OR($Q10921=\"µc-Si / a-Si\",$Q10921=\"a-Si (single)\",$Q10921=\"a-Si (tandem)\",$Q10921=\"a-Si (triple)\"),3,2))))","v":1},{"$f":"IF($O10921=\"Sunpower Corp.\",3,(IF(OR($Q10921=\"mono\",$Q10921=\"poly\",$Q10921=\"HIT\",$Q10921=\"EFG\",$Q10921=\"mono-LGBC\"),1,2)))","v":1},{"$f":"IF($O10921=\"Sunpower Corp.\",3,(IF(OR($Q10921=\"mono\",$Q10921=\"poly\",$Q10921=\"HIT\",$Q10921=\"EFG\",$Q10921=\"mono-LGBC\"),1,IF(OR($Q10921=\"µc-Si / a-Si\",$Q10921=\"a-Si (single)\",$Q10921=\"a-Si (tandem)\",$Q10921=\"a-Si (triple)\"),3,2))))","v":1},0,null,null,24699,null,null,10921]
["Sanyo Electric Co., Ltd. HIT-205DNKHE1","Sanyo Electric Co., Ltd. ","HIT-205DNKHE1",205,"+10...-5",41.3,4.97,50.9,5.43,-127.25,1.6289999999999998,-0.3,1000,"Hungary","SolarTech",14.590120315551758,"HIT",96,"pseudo-square",1630,862,35,"aluminum","cable MC",26,"www.sanyo-solar.eu","-","-","-","-","-",{"$f":"IF($O10944=\"Sunpower Corp.\",3,(IF(OR($Q10944=\"mono\",$Q10944=\"poly\",$Q10944=\"HIT\",$Q10944=\"EFG\",$Q10944=\"mono-LGBC\"),1,IF(OR($Q10944=\"µc-Si / a-Si\",$Q10944=\"a-Si (single)\",$Q10944=\"a-Si (tandem)\",$Q10944=\"a-Si (triple)\"),3,2))))","v":1},{"$f":"IF($O10944=\"Sunpower Corp.\",3,(IF(OR($Q10944=\"mono\",$Q10944=\"poly\",$Q10944=\"HIT\",$Q10944=\"EFG\",$Q10944=\"mono-LGBC\"),1,2)))","v":1},{"$f":"IF($O10944=\"Sunpower Corp.\",3,(IF(OR($Q10944=\"mono\",$Q10944=\"poly\",$Q10944=\"HIT\",$Q10944=\"EFG\",$Q10944=\"mono-LGBC\"),1,IF(OR($Q10944=\"µc-Si / a-Si\",$Q10944=\"a-Si (single)\",$Q10944=\"a-Si (tandem)\",$Q10944=\"a-Si (triple)\"),3,2))))","v":1},0,null,null,15397,null,null,10944]
["Scheuten Solar Technology GmbH Multisol Fusion P6-60 225 U","Scheuten Solar Technology GmbH ","Multisol Fusion P6-60 225 U",225,"+2,2...0",29.6,7.61,37.6,8.16,-127.84,5.7120000000000006,-0.48,1000,null,"diverse",13.925689697265625,"poly",60,"square",1637,987,40,"aluminum","cable MC new",18.5,"www.scheutensolar.com","-","-","-","-","-",{"$f":"IF($O10960=\"Sunpower Corp.\",3,(IF(OR($Q10960=\"mono\",$Q10960=\"poly\",$Q10960=\"HIT\",$Q10960=\"EFG\",$Q10960=\"mono-LGBC\"),1,IF(OR($Q10960=\"µc-Si / a-Si\",$Q10960=\"a-Si (single)\",$Q10960=\"a-Si (tandem)\",$Q10960=\"a-Si (triple)\"),3,2))))","v":1},{"$f":"IF($O10960=\"Sunpower Corp.\",3,(IF(OR($Q10960=\"mono\",$Q10960=\"poly\",$Q10960=\"HIT\",$Q10960=\"EFG\",$Q10960=\"mono-LGBC\"),1,2)))","v":1},{"$f":"IF($O10960=\"Sunpower Corp.\",3,(IF(OR($Q10960=\"mono\",$Q10960=\"poly\",$Q10960=\"HIT\",$Q10960=\"EFG\",$Q10960=\"mono-LGBC\"),1,IF(OR($Q10960=\"µc-Si / a-Si\",$Q10960=\"a-Si (single)\",$Q10960=\"a-Si (tandem)\",$Q10960=\"a-Si (triple)\"),3,2))))","v":1},0,null,null,27715,null,null,10960]
["Scheuten Solar Technology GmbH Multisol Vitro P6-54 200 Gold Line","Scheuten Solar Technology GmbH ","Multisol Vitro P6-54 200 Gold Line",200,"+5...0",25.9,7.71,33,8.2200000000000006,-112.2,5.7540000000000013,-0.48,1000,"Germany","diverse",13.604109764099121,"poly",54,"square",1488,988,null,"frameless","cable MC new",23,"www.scheutensolar.com",null,null,null,null,null,{"$f":"IF($O10989=\"Sunpower Corp.\",3,(IF(OR($Q10989=\"mono\",$Q10989=\"poly\",$Q10989=\"HIT\",$Q10989=\"EFG\",$Q10989=\"mono-LGBC\"),1,IF(OR($Q10989=\"µc-Si / a-Si\",$Q10989=\"a-Si (single)\",$Q10989=\"a-Si (tandem)\",$Q10989=\"a-Si (triple)\"),3,2))))","v":1},{"$f":"IF($O10989=\"Sunpower Corp.\",3,(IF(OR($Q10989=\"mono\",$Q10989=\"poly\",$Q10989=\"HIT\",$Q10989=\"EFG\",$Q10989=\"mono-LGBC\"),1,2)))","v":1},{"$f":"IF($O10989=\"Sunpower Corp.\",3,(IF(OR($Q10989=\"mono\",$Q10989=\"poly\",$Q10989=\"HIT\",$Q10989=\"EFG\",$Q10989=\"mono-LGBC\"),1,IF(OR($Q10989=\"µc-Si / a-Si\",$Q10989=\"a-Si (single)\",$Q10989=\"a-Si (tandem)\",$Q10989=\"a-Si (triple)\"),3,2))))","v":1},0,null,null,27718,null,null,10989]
["Schott Solar GmbH SCHOTT ASI TM 103","Schott Solar GmbH ","SCHOTT ASI TM 103",103,"+1,9...0",30.9,3.33,41.1,3.94,-135.63,3.1520000000000001,-0.2,1000,"Germany","Schott Solar AG",7.1070561408996582,"a-Si (tandem)",72,null,1308,1108,35,"aluminum","junction box MC4",20.8,"www.schottsolar.com",null,null,null,null,null,{"$f":"IF($O11005=\"Sunpower Corp.\",3,(IF(OR($Q11005=\"mono\",$Q11005=\"poly\",$Q11005=\"HIT\",$Q11005=\"EFG\",$Q11005=\"mono-LGBC\"),1,IF(OR($Q11005=\"µc-Si / a-Si\",$Q11005=\"a-Si (single)\",$Q11005=\"a-Si (tandem)\",$Q11005=\"a-Si (triple)\"),3,2))))","v":3},{"$f":"IF($O11005=\"Sunpower Corp.\",3,(IF(OR($Q11005=\"mono\",$Q11005=\"poly\",$Q11005=\"HIT\",$Q11005=\"EFG\",$Q11005=\"mono-LGBC\"),1,2)))","v":2},{"$f":"IF($O11005=\"Sunpower Corp.\",3,(IF(OR($Q11005=\"mono\",$Q11005=\"poly\",$Q11005=\"HIT\",$Q11005=\"EFG\",$Q11005=\"mono-LGBC\"),1,IF(OR($Q11005=\"µc-Si / a-Si\",$Q11005=\"a-Si (single)\",$Q11005=\"a-Si (tandem)\",$Q11005=\"a-Si (triple)\"),3,2))))","v":3},0,null,null,27074,null,null,11005]
["Schott Solar GmbH SCHOTT POLY TM 235","Schott Solar GmbH ","SCHOTT POLY TM 235",235,"+2,12...0",30.2,7.78,37.1,8.42,-122.43,3.3680000000000003,-0.5,1000,"Czech Republic","Schott Solar AG",14.044899940490723,"poly",60,"square",1685,993,50,"aluminum","junction box Tyco",23,"www.schottsolar.com",null,null,null,null,null,{"$f":"IF($O11018=\"Sunpower Corp.\",3,(IF(OR($Q11018=\"mono\",$Q11018=\"poly\",$Q11018=\"HIT\",$Q11018=\"EFG\",$Q11018=\"mono-LGBC\"),1,IF(OR($Q11018=\"µc-Si / a-Si\",$Q11018=\"a-Si (single)\",$Q11018=\"a-Si (tandem)\",$Q11018=\"a-Si (triple)\"),3,2))))","v":1},{"$f":"IF($O11018=\"Sunpower Corp.\",3,(IF(OR($Q11018=\"mono\",$Q11018=\"poly\",$Q11018=\"HIT\",$Q11018=\"EFG\",$Q11018=\"mono-LGBC\"),1,2)))","v":1},{"$f":"IF($O11018=\"Sunpower Corp.\",3,(IF(OR($Q11018=\"mono\",$Q11018=\"poly\",$Q11018=\"HIT\",$Q11018=\"EFG\",$Q11018=\"mono-LGBC\"),1,IF(OR($Q11018=\"µc-Si / a-Si\",$Q11018=\"a-Si (single)\",$Q11018=\"a-Si (tandem)\",$Q11018=\"a-Si (triple)\"),3,2))))","v":1},0,null,null,18941,null,null,11018]
["Schüco International KG MPE 220 PS 15","Schüco International KG ","MPE 220 PS 15",220,"+5...0",29.8,7.4,36.5,8.1199999999999992,-116.8,3.2480000000000002,-0.45,1000,null,null,13.654950141906738,"poly",60,"square",1639,983,42,"aluminum","cable MC new",20,"www.schueco.com",null,null,null,null,null,{"$f":"IF($O11050=\"Sunpower Corp.\",3,(IF(OR($Q11050=\"mono\",$Q11050=\"poly\",$Q11050=\"HIT\",$Q11050=\"EFG\",$Q11050=\"mono-LGBC\"),1,IF(OR($Q11050=\"µc-Si / a-Si\",$Q11050=\"a-Si (single)\",$Q11050=\"a-Si (tandem)\",$Q11050=\"a-Si (triple)\"),3,2))))","v":1},{"$f":"IF($O11050=\"Sunpower Corp.\",3,(IF(OR($Q11050=\"mono\",$Q11050=\"poly\",$Q11050=\"HIT\",$Q11050=\"EFG\",$Q11050=\"mono-LGBC\"),1,2)))","v":1},{"$f":"IF($O11050=\"Sunpower Corp.\",3,(IF(OR($Q11050=\"mono\",$Q11050=\"poly\",$Q11050=\"HIT\",$Q11050=\"EFG\",$Q11050=\"mono-LGBC\"),1,IF(OR($Q11050=\"µc-Si / a-Si\",$Q11050=\"a-Si (single)\",$Q11050=\"a-Si (tandem)\",$Q11050=\"a-Si (triple)\"),3,2))))","v":1},0,null,null,26414,null,null,11050]
["Schüco International KG MPE 235 PS 15","Schüco International KG ","MPE 235 PS 15",235,"+5...0",30.1,7.81,36.799999999999997,8.44,-117.76,3.3759999999999999,-0.45,1000,null,null,14.585969924926758,"poly",60,"square",1639,983,42,"aluminum","cable MC new",20,"www.schueco.com",null,null,null,null,null,{"$f":"IF($O11063=\"Sunpower Corp.\",3,(IF(OR($Q11063=\"mono\",$Q11063=\"poly\",$Q11063=\"HIT\",$Q11063=\"EFG\",$Q11063=\"mono-LGBC\"),1,IF(OR($Q11063=\"µc-Si / a-Si\",$Q11063=\"a-Si (single)\",$Q11063=\"a-Si (tandem)\",$Q11063=\"a-Si (triple)\"),3,2))))","v":1},{"$f":"IF($O11063=\"Sunpower Corp.\",3,(IF(OR($Q11063=\"mono\",$Q11063=\"poly\",$Q11063=\"HIT\",$Q11063=\"EFG\",$Q11063=\"mono-LGBC\"),1,2)))","v":1},{"$f":"IF($O11063=\"Sunpower Corp.\",3,(IF(OR($Q11063=\"mono\",$Q11063=\"poly\",$Q11063=\"HIT\",$Q11063=\"EFG\",$Q11063=\"mono-LGBC\"),1,IF(OR($Q11063=\"µc-Si / a-Si\",$Q11063=\"a-Si (single)\",$Q11063=\"a-Si (tandem)\",$Q11063=\"a-Si (triple)\"),3,2))))","v":1},0,null,null,26417,null,null,11063]
["Schüco International KG MPE 355 MP 05","Schüco International KG ","MPE 355 MP 05",355,"+5...0",71.16,4.99,89.5,5.3,-340.1,2.12,-0.45,1000,null,null,13.109620094299316,"mono",144,"pseudo-square",2156,1256,93,"aluminum","cable MC new",49,"www.schueco.com",null,null,null,null,null,{"$f":"IF($O11076=\"Sunpower Corp.\",3,(IF(OR($Q11076=\"mono\",$Q11076=\"poly\",$Q11076=\"HIT\",$Q11076=\"EFG\",$Q11076=\"mono-LGBC\"),1,IF(OR($Q11076=\"µc-Si / a-Si\",$Q11076=\"a-Si (single)\",$Q11076=\"a-Si (tandem)\",$Q11076=\"a-Si (triple)\"),3,2))))","v":1},{"$f":"IF($O11076=\"Sunpower Corp.\",3,(IF(OR($Q11076=\"mono\",$Q11076=\"poly\",$Q11076=\"HIT\",$Q11076=\"EFG\",$Q11076=\"mono-LGBC\"),1,2)))","v":1},{"$f":"IF($O11076=\"Sunpower Corp.\",3,(IF(OR($Q11076=\"mono\",$Q11076=\"poly\",$Q11076=\"HIT\",$Q11076=\"EFG\",$Q11076=\"mono-LGBC\"),1,IF(OR($Q11076=\"µc-Si / a-Si\",$Q11076=\"a-Si (single)\",$Q11076=\"a-Si (tandem)\",$Q11076=\"a-Si (triple)\"),3,2))))","v":1},0,null,null,26434,null,null,11076]
["SCN Energy GmbH SCN-170/170-72MS plus","SCN Energy GmbH ","SCN-170/170-72MS plus",170,"+3...0",35.799999999999997,4.76,44.5,5.15,-151.30000000000001,1.9570000000000001,-0.48,1000,null,null,13.377429962158203,"mono",72,"pseudo-square",1191,1067,35,"aluminum","cable",15,"www.scn-energy.de",null,null,null,null,null,{"$f":"IF($O11108=\"Sunpower Corp.\",3,(IF(OR($Q11108=\"mono\",$Q11108=\"poly\",$Q11108=\"HIT\",$Q11108=\"EFG\",$Q11108=\"mono-LGBC\"),1,IF(OR($Q11108=\"µc-Si / a-Si\",$Q11108=\"a-Si (single)\",$Q11108=\"a-Si (tandem)\",$Q11108=\"a-Si (triple)\"),3,2))))","v":1},{"$f":"IF($O11108=\"Sunpower Corp.\",3,(IF(OR($Q11108=\"mono\",$Q11108=\"poly\",$Q11108=\"HIT\",$Q11108=\"EFG\",$Q11108=\"mono-LGBC\"),1,2)))","v":1},{"$f":"IF($O11108=\"Sunpower Corp.\",3,(IF(OR($Q11108=\"mono\",$Q11108=\"poly\",$Q11108=\"HIT\",$Q11108=\"EFG\",$Q11108=\"mono-LGBC\"),1,IF(OR($Q11108=\"µc-Si / a-Si\",$Q11108=\"a-Si (single)\",$Q11108=\"a-Si (tandem)\",$Q11108=\"a-Si (triple)\"),3,2))))","v":1},0,null,null,23521,null,null,11108]
["SCN Energy GmbH SCN-170/180-72MS","SCN Energy GmbH ","SCN-170/180-72MS",180,"+...",34.6,5.2,44,5.64,-154,2.9891999999999994,-0.48499999999999999,1000,null,null,14.164340019226074,"mono",72,"pseudo-square",1191,1067,35,"aluminum","cable",15,null,null,null,null,null,null,{"$f":"IF($O11115=\"Sunpower Corp.\",3,(IF(OR($Q11115=\"mono\",$Q11115=\"poly\",$Q11115=\"HIT\",$Q11115=\"EFG\",$Q11115=\"mono-LGBC\"),1,IF(OR($Q11115=\"µc-Si / a-Si\",$Q11115=\"a-Si (single)\",$Q11115=\"a-Si (tandem)\",$Q11115=\"a-Si (triple)\"),3,2))))","v":1},{"$f":"IF($O11115=\"Sunpower Corp.\",3,(IF(OR($Q11115=\"mono\",$Q11115=\"poly\",$Q11115=\"HIT\",$Q11115=\"EFG\",$Q11115=\"mono-LGBC\"),1,2)))","v":1},{"$f":"IF($O11115=\"Sunpower Corp.\",3,(IF(OR($Q11115=\"mono\",$Q11115=\"poly\",$Q11115=\"HIT\",$Q11115=\"EFG\",$Q11115=\"mono-LGBC\"),1,IF(OR($Q11115=\"µc-Si / a-Si\",$Q11115=\"a-Si (single)\",$Q11115=\"a-Si (tandem)\",$Q11115=\"a-Si (triple)\"),3,2))))","v":1},0,null,null,10533,null,null,11115]
["SCN Energy GmbH SCN-230/230-96M","SCN Energy GmbH ","SCN-230/230-96M",230,"+3...-3",46.94,5.01,58.2,5.51,-197.88,2.0937999999999999,-0.47,1000,null,null,13.70773983001709,"mono",96,"pseudo-square",1574,1066,46.5,"aluminum","junction box",20,"www.scn-energy.de",null,null,null,null,null,{"$f":"IF($O11133=\"Sunpower Corp.\",3,(IF(OR($Q11133=\"mono\",$Q11133=\"poly\",$Q11133=\"HIT\",$Q11133=\"EFG\",$Q11133=\"mono-LGBC\"),1,IF(OR($Q11133=\"µc-Si / a-Si\",$Q11133=\"a-Si (single)\",$Q11133=\"a-Si (tandem)\",$Q11133=\"a-Si (triple)\"),3,2))))","v":1},{"$f":"IF($O11133=\"Sunpower Corp.\",3,(IF(OR($Q11133=\"mono\",$Q11133=\"poly\",$Q11133=\"HIT\",$Q11133=\"EFG\",$Q11133=\"mono-LGBC\"),1,2)))","v":1},{"$f":"IF($O11133=\"Sunpower Corp.\",3,(IF(OR($Q11133=\"mono\",$Q11133=\"poly\",$Q11133=\"HIT\",$Q11133=\"EFG\",$Q11133=\"mono-LGBC\"),1,IF(OR($Q11133=\"µc-Si / a-Si\",$Q11133=\"a-Si (single)\",$Q11133=\"a-Si (tandem)\",$Q11133=\"a-Si (triple)\"),3,2))))","v":1},0,null,null,10538,null,null,11133]
["S-Energy Co. Ltd. SM-230PL0","S-Energy Co. Ltd. ","SM-230PL0",230,"+3...-3",29.5,7.8,36.9,8.39,-129.15,4.1950000000000003,-0.45,1000,null,null,14.487279891967773,"poly",60,"square",1620,980,50,null,"junction box",19,"www.s-energy.co.kr",null,null,null,null,null,{"$f":"IF($O11160=\"Sunpower Corp.\",3,(IF(OR($Q11160=\"mono\",$Q11160=\"poly\",$Q11160=\"HIT\",$Q11160=\"EFG\",$Q11160=\"mono-LGBC\"),1,IF(OR($Q11160=\"µc-Si / a-Si\",$Q11160=\"a-Si (single)\",$Q11160=\"a-Si (tandem)\",$Q11160=\"a-Si (triple)\"),3,2))))","v":1},{"$f":"IF($O11160=\"Sunpower Corp.\",3,(IF(OR($Q11160=\"mono\",$Q11160=\"poly\",$Q11160=\"HIT\",$Q11160=\"EFG\",$Q11160=\"mono-LGBC\"),1,2)))","v":1},{"$f":"IF($O11160=\"Sunpower Corp.\",3,(IF(OR($Q11160=\"mono\",$Q11160=\"poly\",$Q11160=\"HIT\",$Q11160=\"EFG\",$Q11160=\"mono-LGBC\"),1,IF(OR($Q11160=\"µc-Si / a-Si\",$Q11160=\"a-Si (single)\",$Q11160=\"a-Si (tandem)\",$Q11160=\"a-Si (triple)\"),3,2))))","v":1},0,null,null,19666,null,null,11160]
["Senersun LTD. OSC-M230C","Senersun LTD. ","OSC-M230C",230,"+3...0",48.5,4.74,59.1,5.19,-195.03,2.0760000000000001,-0.44,1000,"China","Jinko",13.4964599609375,"mono",96,"pseudo-square",1575,1082,50,"aluminum","junction box",22,"www.one-sun.com",null,null,null,null,null,{"$f":"IF($O11178=\"Sunpower Corp.\",3,(IF(OR($Q11178=\"mono\",$Q11178=\"poly\",$Q11178=\"HIT\",$Q11178=\"EFG\",$Q11178=\"mono-LGBC\"),1,IF(OR($Q11178=\"µc-Si / a-Si\",$Q11178=\"a-Si (single)\",$Q11178=\"a-Si (tandem)\",$Q11178=\"a-Si (triple)\"),3,2))))","v":1},{"$f":"IF($O11178=\"Sunpower Corp.\",3,(IF(OR($Q11178=\"mono\",$Q11178=\"poly\",$Q11178=\"HIT\",$Q11178=\"EFG\",$Q11178=\"mono-LGBC\"),1,2)))","v":1},{"$f":"IF($O11178=\"Sunpower Corp.\",3,(IF(OR($Q11178=\"mono\",$Q11178=\"poly\",$Q11178=\"HIT\",$Q11178=\"EFG\",$Q11178=\"mono-LGBC\"),1,IF(OR($Q11178=\"µc-Si / a-Si\",$Q11178=\"a-Si (single)\",$Q11178=\"a-Si (tandem)\",$Q11178=\"a-Si (triple)\"),3,2))))","v":1},0,null,null,25010,null,null,11178]
["Senersun LTD. SSP60-230-A","Senersun LTD. ","SSP60-230-A",230,"+3...-3",30.1,7.67,37.14,8.4499999999999993,-129.99,3.38,-0.5,1000,null,null,14.166049957275391,"poly",60,"square",1640,990,50,"aluminum","junction box MC4",20,null,null,null,null,null,null,{"$f":"IF($O11205=\"Sunpower Corp.\",3,(IF(OR($Q11205=\"mono\",$Q11205=\"poly\",$Q11205=\"HIT\",$Q11205=\"EFG\",$Q11205=\"mono-LGBC\"),1,IF(OR($Q11205=\"µc-Si / a-Si\",$Q11205=\"a-Si (single)\",$Q11205=\"a-Si (tandem)\",$Q11205=\"a-Si (triple)\"),3,2))))","v":1},{"$f":"IF($O11205=\"Sunpower Corp.\",3,(IF(OR($Q11205=\"mono\",$Q11205=\"poly\",$Q11205=\"HIT\",$Q11205=\"EFG\",$Q11205=\"mono-LGBC\"),1,2)))","v":1},{"$f":"IF($O11205=\"Sunpower Corp.\",3,(IF(OR($Q11205=\"mono\",$Q11205=\"poly\",$Q11205=\"HIT\",$Q11205=\"EFG\",$Q11205=\"mono-LGBC\"),1,IF(OR($Q11205=\"µc-Si / a-Si\",$Q11205=\"a-Si (single)\",$Q11205=\"a-Si (tandem)\",$Q11205=\"a-Si (triple)\"),3,2))))","v":1},0,null,null,28532,null,null,11205]
["Senso Tecnologie S.R.L. ST100M-16","Senso Tecnologie S.R.L. ","ST100M-16",100,"+3...-3",22.6,4.4240000000000004,26.6,5.8239999999999998,-95.76,1.9219199999999999,-0.44,1000,null,null,11.459480285644531,"mono",48,"pseudo-square",1080,808,40,"aluminum","junction box",11,"www.sensotec.it",null,null,null,null,null,{"$f":"IF($O11207=\"Sunpower Corp.\",3,(IF(OR($Q11207=\"mono\",$Q11207=\"poly\",$Q11207=\"HIT\",$Q11207=\"EFG\",$Q11207=\"mono-LGBC\"),1,IF(OR($Q11207=\"µc-Si / a-Si\",$Q11207=\"a-Si (single)\",$Q11207=\"a-Si (tandem)\",$Q11207=\"a-Si (triple)\"),3,2))))","v":1},{"$f":"IF($O11207=\"Sunpower Corp.\",3,(IF(OR($Q11207=\"mono\",$Q11207=\"poly\",$Q11207=\"HIT\",$Q11207=\"EFG\",$Q11207=\"mono-LGBC\"),1,2)))","v":1},{"$f":"IF($O11207=\"Sunpower Corp.\",3,(IF(OR($Q11207=\"mono\",$Q11207=\"poly\",$Q11207=\"HIT\",$Q11207=\"EFG\",$Q11207=\"mono-LGBC\"),1,IF(OR($Q11207=\"µc-Si / a-Si\",$Q11207=\"a-Si (single)\",$Q11207=\"a-Si (tandem)\",$Q11207=\"a-Si (triple)\"),3,2))))","v":1},0,null,null,20015,null,null,11207]
["Senso Tecnologie S.R.L. ST210M-32","Senso Tecnologie S.R.L. ","ST210M-32",210,"+3...-3",46.3,4.54,56.02,5.28,-190.46800000000002,2.3759999999999999,-0.47,715,null,null,12.322859764099121,"mono",96,"pseudo-square",1575,1082,40,"aluminum","junction box",16.8,"www.sensotec.it",null,null,null,null,null,{"$f":"IF($O11231=\"Sunpower Corp.\",3,(IF(OR($Q11231=\"mono\",$Q11231=\"poly\",$Q11231=\"HIT\",$Q11231=\"EFG\",$Q11231=\"mono-LGBC\"),1,IF(OR($Q11231=\"µc-Si / a-Si\",$Q11231=\"a-Si (single)\",$Q11231=\"a-Si (tandem)\",$Q11231=\"a-Si (triple)\"),3,2))))","v":1},{"$f":"IF($O11231=\"Sunpower Corp.\",3,(IF(OR($Q11231=\"mono\",$Q11231=\"poly\",$Q11231=\"HIT\",$Q11231=\"EFG\",$Q11231=\"mono-LGBC\"),1,2)))","v":1},{"$f":"IF($O11231=\"Sunpower Corp.\",3,(IF(OR($Q11231=\"mono\",$Q11231=\"poly\",$Q11231=\"HIT\",$Q11231=\"EFG\",$Q11231=\"mono-LGBC\"),1,IF(OR($Q11231=\"µc-Si / a-Si\",$Q11231=\"a-Si (single)\",$Q11231=\"a-Si (tandem)\",$Q11231=\"a-Si (triple)\"),3,2))))","v":1},0,null,null,20000,null,null,11231]
["Senso Tecnologie S.R.L. ST270P-24","Senso Tecnologie S.R.L. ","ST270P-24",270,"+3...-3",35.020000000000003,7.71,43.65,8.59,-148.41,3.8654999999999999,-0.47,1000,null,null,13.943519592285156,"poly",72,"square",1952,992,50,"aluminum","junction box",24,"www.sensotec.it",null,null,null,null,null,{"$f":"IF($O11252=\"Sunpower Corp.\",3,(IF(OR($Q11252=\"mono\",$Q11252=\"poly\",$Q11252=\"HIT\",$Q11252=\"EFG\",$Q11252=\"mono-LGBC\"),1,IF(OR($Q11252=\"µc-Si / a-Si\",$Q11252=\"a-Si (single)\",$Q11252=\"a-Si (tandem)\",$Q11252=\"a-Si (triple)\"),3,2))))","v":1},{"$f":"IF($O11252=\"Sunpower Corp.\",3,(IF(OR($Q11252=\"mono\",$Q11252=\"poly\",$Q11252=\"HIT\",$Q11252=\"EFG\",$Q11252=\"mono-LGBC\"),1,2)))","v":1},{"$f":"IF($O11252=\"Sunpower Corp.\",3,(IF(OR($Q11252=\"mono\",$Q11252=\"poly\",$Q11252=\"HIT\",$Q11252=\"EFG\",$Q11252=\"mono-LGBC\"),1,IF(OR($Q11252=\"µc-Si / a-Si\",$Q11252=\"a-Si (single)\",$Q11252=\"a-Si (tandem)\",$Q11252=\"a-Si (triple)\"),3,2))))","v":1},0,null,null,19984,null,null,11252]
["Seraphim Solar System SRP-200-5MB","Seraphim Solar System ","SRP-200-5MB",200,"+2,5...0",36.5,5.48,43.8,6.14,-140.16,2.456,-0.4,1000,null,null,15.666119575500488,"mono",72,"pseudo-square",1580,808,35,"aluminum","junction box",15.5,"www.seraphim-energy.com",null,null,null,null,null,{"$f":"IF($O11270=\"Sunpower Corp.\",3,(IF(OR($Q11270=\"mono\",$Q11270=\"poly\",$Q11270=\"HIT\",$Q11270=\"EFG\",$Q11270=\"mono-LGBC\"),1,IF(OR($Q11270=\"µc-Si / a-Si\",$Q11270=\"a-Si (single)\",$Q11270=\"a-Si (tandem)\",$Q11270=\"a-Si (triple)\"),3,2))))","v":1},{"$f":"IF($O11270=\"Sunpower Corp.\",3,(IF(OR($Q11270=\"mono\",$Q11270=\"poly\",$Q11270=\"HIT\",$Q11270=\"EFG\",$Q11270=\"mono-LGBC\"),1,2)))","v":1},{"$f":"IF($O11270=\"Sunpower Corp.\",3,(IF(OR($Q11270=\"mono\",$Q11270=\"poly\",$Q11270=\"HIT\",$Q11270=\"EFG\",$Q11270=\"mono-LGBC\"),1,IF(OR($Q11270=\"µc-Si / a-Si\",$Q11270=\"a-Si (single)\",$Q11270=\"a-Si (tandem)\",$Q11270=\"a-Si (triple)\"),3,2))))","v":1},0,null,null,32555,null,null,11270]
["Serrano Environnement SAS SEES M156/6/12 2010 03 - 260W","Serrano Environnement SAS ","SEES M156/6/12 2010 03 - 260W",260,"+3...0",35.28,7.37,43.92,8.1999999999999993,-149.328,3.69,-0.47,1000,"France",null,13.399629592895508,"mono",72,"pseudo-square",1956,992,45,null,null,23.8,"www.serrano-environnement.com",null,null,null,null,null,{"$f":"IF($O11297=\"Sunpower Corp.\",3,(IF(OR($Q11297=\"mono\",$Q11297=\"poly\",$Q11297=\"HIT\",$Q11297=\"EFG\",$Q11297=\"mono-LGBC\"),1,IF(OR($Q11297=\"µc-Si / a-Si\",$Q11297=\"a-Si (single)\",$Q11297=\"a-Si (tandem)\",$Q11297=\"a-Si (triple)\"),3,2))))","v":1},{"$f":"IF($O11297=\"Sunpower Corp.\",3,(IF(OR($Q11297=\"mono\",$Q11297=\"poly\",$Q11297=\"HIT\",$Q11297=\"EFG\",$Q11297=\"mono-LGBC\"),1,2)))","v":1},{"$f":"IF($O11297=\"Sunpower Corp.\",3,(IF(OR($Q11297=\"mono\",$Q11297=\"poly\",$Q11297=\"HIT\",$Q11297=\"EFG\",$Q11297=\"mono-LGBC\"),1,IF(OR($Q11297=\"µc-Si / a-Si\",$Q11297=\"a-Si (single)\",$Q11297=\"a-Si (tandem)\",$Q11297=\"a-Si (triple)\"),3,2))))","v":1},0,null,null,28223,null,null,11297]
["SES 21 AG renewis PV 160-M","SES 21 AG ","renewis PV 160-M",160,"+3...-3",34.799999999999997,4.5999999999999996,44.3,5.37,-146.19,3.2219999999999995,-0.49,1000,"Portugal",null,12.118379592895508,"mono",72,"pseudo-square",1622,814,40,"aluminum","cable",18.5,"www.ses-21.com",null,null,null,null,null,{"$f":"IF($O11315=\"Sunpower Corp.\",3,(IF(OR($Q11315=\"mono\",$Q11315=\"poly\",$Q11315=\"HIT\",$Q11315=\"EFG\",$Q11315=\"mono-LGBC\"),1,IF(OR($Q11315=\"µc-Si / a-Si\",$Q11315=\"a-Si (single)\",$Q11315=\"a-Si (tandem)\",$Q11315=\"a-Si (triple)\"),3,2))))","v":1},{"$f":"IF($O11315=\"Sunpower Corp.\",3,(IF(OR($Q11315=\"mono\",$Q11315=\"poly\",$Q11315=\"HIT\",$Q11315=\"EFG\",$Q11315=\"mono-LGBC\"),1,2)))","v":1},{"$f":"IF($O11315=\"Sunpower Corp.\",3,(IF(OR($Q11315=\"mono\",$Q11315=\"poly\",$Q11315=\"HIT\",$Q11315=\"EFG\",$Q11315=\"mono-LGBC\"),1,IF(OR($Q11315=\"µc-Si / a-Si\",$Q11315=\"a-Si (single)\",$Q11315=\"a-Si (tandem)\",$Q11315=\"a-Si (triple)\"),3,2))))","v":1},0,null,null,1094,null,null,11315]
["Sfera Energy Srl Sfera 165","Sfera Energy Srl ","Sfera 165",165,"+3...-3",34,4.7300000000000004,43.6,5.04,-165.68,2.016,-0.47,1000,null,null,12.92455005645752,"mono",72,"pseudo-square",1580,808,35,"aluminum",null,14.5,null,null,null,null,null,null,{"$f":"IF($O11342=\"Sunpower Corp.\",3,(IF(OR($Q11342=\"mono\",$Q11342=\"poly\",$Q11342=\"HIT\",$Q11342=\"EFG\",$Q11342=\"mono-LGBC\"),1,IF(OR($Q11342=\"µc-Si / a-Si\",$Q11342=\"a-Si (single)\",$Q11342=\"a-Si (tandem)\",$Q11342=\"a-Si (triple)\"),3,2))))","v":1},{"$f":"IF($O11342=\"Sunpower Corp.\",3,(IF(OR($Q11342=\"mono\",$Q11342=\"poly\",$Q11342=\"HIT\",$Q11342=\"EFG\",$Q11342=\"mono-LGBC\"),1,2)))","v":1},{"$f":"IF($O11342=\"Sunpower Corp.\",3,(IF(OR($Q11342=\"mono\",$Q11342=\"poly\",$Q11342=\"HIT\",$Q11342=\"EFG\",$Q11342=\"mono-LGBC\"),1,IF(OR($Q11342=\"µc-Si / a-Si\",$Q11342=\"a-Si (single)\",$Q11342=\"a-Si (tandem)\",$Q11342=\"a-Si (triple)\"),3,2))))","v":1},0,null,null,5093,null,null,11342]
["Shandong Linuo Photovoltaic Hi-Tech Co., Ltd. 220W Series PV Module (200)","Shandong Linuo Photovoltaic Hi-Tech Co., Ltd. ","220W Series PV Module (200)",200,"+3...-3",29.32,6.82,35.880000000000003,7.46,-129.16800000000001,5.2220000000000013,-0.45,1000,null,null,12.204170227050781,"poly",60,"square",1652,992,50,"aluminum","junction box",23.5,"www.linuo.com",null,null,null,null,null,{"$f":"IF($O11360=\"Sunpower Corp.\",3,(IF(OR($Q11360=\"mono\",$Q11360=\"poly\",$Q11360=\"HIT\",$Q11360=\"EFG\",$Q11360=\"mono-LGBC\"),1,IF(OR($Q11360=\"µc-Si / a-Si\",$Q11360=\"a-Si (single)\",$Q11360=\"a-Si (tandem)\",$Q11360=\"a-Si (triple)\"),3,2))))","v":1},{"$f":"IF($O11360=\"Sunpower Corp.\",3,(IF(OR($Q11360=\"mono\",$Q11360=\"poly\",$Q11360=\"HIT\",$Q11360=\"EFG\",$Q11360=\"mono-LGBC\"),1,2)))","v":1},{"$f":"IF($O11360=\"Sunpower Corp.\",3,(IF(OR($Q11360=\"mono\",$Q11360=\"poly\",$Q11360=\"HIT\",$Q11360=\"EFG\",$Q11360=\"mono-LGBC\"),1,IF(OR($Q11360=\"µc-Si / a-Si\",$Q11360=\"a-Si (single)\",$Q11360=\"a-Si (tandem)\",$Q11360=\"a-Si (triple)\"),3,2))))","v":1},0,null,null,13623,null,null,11360]
["Shandong Sunvim Solar Technology Co., Ltd. SUN-120-36P","Shandong Sunvim Solar Technology Co., Ltd. ","SUN-120-36P",120,"+3...-3",16.7,7.2,21.9,8,-77.219399999999993,2.512,-0.50780000000000003,1000,"China",null,11.978059768676758,"poly",36,"square",1482,676,50,"aluminum","junction box",13,"www.sunvim.com",null,null,null,null,null,{"$f":"IF($O11371=\"Sunpower Corp.\",3,(IF(OR($Q11371=\"mono\",$Q11371=\"poly\",$Q11371=\"HIT\",$Q11371=\"EFG\",$Q11371=\"mono-LGBC\"),1,IF(OR($Q11371=\"µc-Si / a-Si\",$Q11371=\"a-Si (single)\",$Q11371=\"a-Si (tandem)\",$Q11371=\"a-Si (triple)\"),3,2))))","v":1},{"$f":"IF($O11371=\"Sunpower Corp.\",3,(IF(OR($Q11371=\"mono\",$Q11371=\"poly\",$Q11371=\"HIT\",$Q11371=\"EFG\",$Q11371=\"mono-LGBC\"),1,2)))","v":1},{"$f":"IF($O11371=\"Sunpower Corp.\",3,(IF(OR($Q11371=\"mono\",$Q11371=\"poly\",$Q11371=\"HIT\",$Q11371=\"EFG\",$Q11371=\"mono-LGBC\"),1,IF(OR($Q11371=\"µc-Si / a-Si\",$Q11371=\"a-Si (single)\",$Q11371=\"a-Si (tandem)\",$Q11371=\"a-Si (triple)\"),3,2))))","v":1},0,null,null,28781,null,null,11371]
["Shanghai Alex Solar Energy Science & Technology ALM150-24","Shanghai Alex Solar Energy Science & Technology ","ALM150-24",150,"+3...-3",33.9,4.43,43.3,4.72,-142.88999999999999,2.36,-0.23,1000,null,"Shanghai Alex Solar Energy",11.749589920043945,"mono",72,"pseudo-square",1580,808,45,"aluminum","junction box",16,null,null,null,null,null,null,{"$f":"IF($O11392=\"Sunpower Corp.\",3,(IF(OR($Q11392=\"mono\",$Q11392=\"poly\",$Q11392=\"HIT\",$Q11392=\"EFG\",$Q11392=\"mono-LGBC\"),1,IF(OR($Q11392=\"µc-Si / a-Si\",$Q11392=\"a-Si (single)\",$Q11392=\"a-Si (tandem)\",$Q11392=\"a-Si (triple)\"),3,2))))","v":1},{"$f":"IF($O11392=\"Sunpower Corp.\",3,(IF(OR($Q11392=\"mono\",$Q11392=\"poly\",$Q11392=\"HIT\",$Q11392=\"EFG\",$Q11392=\"mono-LGBC\"),1,2)))","v":1},{"$f":"IF($O11392=\"Sunpower Corp.\",3,(IF(OR($Q11392=\"mono\",$Q11392=\"poly\",$Q11392=\"HIT\",$Q11392=\"EFG\",$Q11392=\"mono-LGBC\"),1,IF(OR($Q11392=\"µc-Si / a-Si\",$Q11392=\"a-Si (single)\",$Q11392=\"a-Si (tandem)\",$Q11392=\"a-Si (triple)\"),3,2))))","v":1},0,null,null,6224,null,null,11392]
["Shanghai Alex Solar Energy Science & Technology ALM-205D-24","Shanghai Alex Solar Energy Science & Technology ","ALM-205D-24",205,"+3...-3",37.200000000000003,5.56,45.3,6.06,-169.875,3.3330000000000002,-0.43099999999999999,1000,"China","Shanghai Alex Solar Energy",16.057779312133789,"mono",72,"pseudo-square",1580,808,35,"aluminum","junction box",15.6,"www.alex-solar.com",null,null,null,null,null,{"$f":"IF($O11406=\"Sunpower Corp.\",3,(IF(OR($Q11406=\"mono\",$Q11406=\"poly\",$Q11406=\"HIT\",$Q11406=\"EFG\",$Q11406=\"mono-LGBC\"),1,IF(OR($Q11406=\"µc-Si / a-Si\",$Q11406=\"a-Si (single)\",$Q11406=\"a-Si (tandem)\",$Q11406=\"a-Si (triple)\"),3,2))))","v":1},{"$f":"IF($O11406=\"Sunpower Corp.\",3,(IF(OR($Q11406=\"mono\",$Q11406=\"poly\",$Q11406=\"HIT\",$Q11406=\"EFG\",$Q11406=\"mono-LGBC\"),1,2)))","v":1},{"$f":"IF($O11406=\"Sunpower Corp.\",3,(IF(OR($Q11406=\"mono\",$Q11406=\"poly\",$Q11406=\"HIT\",$Q11406=\"EFG\",$Q11406=\"mono-LGBC\"),1,IF(OR($Q11406=\"µc-Si / a-Si\",$Q11406=\"a-Si (single)\",$Q11406=\"a-Si (tandem)\",$Q11406=\"a-Si (triple)\"),3,2))))","v":1},0,null,null,25531,null,null,11406]
["Shanghai BiaoDi Industry Co., Ltd. BDM(190) 16498p","Shanghai BiaoDi Industry Co., Ltd. ","BDM(190) 16498p",190,"+...",28.5,6.67,35.6,7.47,-121.04,3.7349999999999999,-0.45,1000,null,null,11.716529846191406,"poly",60,"square",1643,987,46,null,"junction box",19,"www.biaodi.cn",null,null,null,null,null,{"$f":"IF($O11441=\"Sunpower Corp.\",3,(IF(OR($Q11441=\"mono\",$Q11441=\"poly\",$Q11441=\"HIT\",$Q11441=\"EFG\",$Q11441=\"mono-LGBC\"),1,IF(OR($Q11441=\"µc-Si / a-Si\",$Q11441=\"a-Si (single)\",$Q11441=\"a-Si (tandem)\",$Q11441=\"a-Si (triple)\"),3,2))))","v":1},{"$f":"IF($O11441=\"Sunpower Corp.\",3,(IF(OR($Q11441=\"mono\",$Q11441=\"poly\",$Q11441=\"HIT\",$Q11441=\"EFG\",$Q11441=\"mono-LGBC\"),1,2)))","v":1},{"$f":"IF($O11441=\"Sunpower Corp.\",3,(IF(OR($Q11441=\"mono\",$Q11441=\"poly\",$Q11441=\"HIT\",$Q11441=\"EFG\",$Q11441=\"mono-LGBC\"),1,IF(OR($Q11441=\"µc-Si / a-Si\",$Q11441=\"a-Si (single)\",$Q11441=\"a-Si (tandem)\",$Q11441=\"a-Si (triple)\"),3,2))))","v":1},0,null,null,19308,null,null,11441]
["Shanghai BiaoDi Industry Co., Ltd. BDM(235) 19698p","Shanghai BiaoDi Industry Co., Ltd. ","BDM(235) 19698p",235,"+...",34.799999999999997,6.75,41.8,7.56,-142.12,3.78,-0.45,1000,null,null,12.141519546508789,"poly",72,"square",1961,987,50,null,"junction box",23,"www.biaodi.cn",null,null,null,null,null,{"$f":"IF($O11451=\"Sunpower Corp.\",3,(IF(OR($Q11451=\"mono\",$Q11451=\"poly\",$Q11451=\"HIT\",$Q11451=\"EFG\",$Q11451=\"mono-LGBC\"),1,IF(OR($Q11451=\"µc-Si / a-Si\",$Q11451=\"a-Si (single)\",$Q11451=\"a-Si (tandem)\",$Q11451=\"a-Si (triple)\"),3,2))))","v":1},{"$f":"IF($O11451=\"Sunpower Corp.\",3,(IF(OR($Q11451=\"mono\",$Q11451=\"poly\",$Q11451=\"HIT\",$Q11451=\"EFG\",$Q11451=\"mono-LGBC\"),1,2)))","v":1},{"$f":"IF($O11451=\"Sunpower Corp.\",3,(IF(OR($Q11451=\"mono\",$Q11451=\"poly\",$Q11451=\"HIT\",$Q11451=\"EFG\",$Q11451=\"mono-LGBC\"),1,IF(OR($Q11451=\"µc-Si / a-Si\",$Q11451=\"a-Si (single)\",$Q11451=\"a-Si (tandem)\",$Q11451=\"a-Si (triple)\"),3,2))))","v":1},0,null,null,19315,null,null,11451]
["Shanghai Chaori Solar Energy Chaori 175W","Shanghai Chaori Solar Energy ","Chaori 175W",175,"+3...-3",35,5,43,5.42,-163.4,0,-0.38,1000,"China","Shanghai Chaori Solar Energy",13.707859992980957,"mono",12,"pseudo-square",1580,808,46,"aluminum","junction box",15.5,"www.chaorisolar.com",null,null,null,null,null,{"$f":"IF($O11466=\"Sunpower Corp.\",3,(IF(OR($Q11466=\"mono\",$Q11466=\"poly\",$Q11466=\"HIT\",$Q11466=\"EFG\",$Q11466=\"mono-LGBC\"),1,IF(OR($Q11466=\"µc-Si / a-Si\",$Q11466=\"a-Si (single)\",$Q11466=\"a-Si (tandem)\",$Q11466=\"a-Si (triple)\"),3,2))))","v":1},{"$f":"IF($O11466=\"Sunpower Corp.\",3,(IF(OR($Q11466=\"mono\",$Q11466=\"poly\",$Q11466=\"HIT\",$Q11466=\"EFG\",$Q11466=\"mono-LGBC\"),1,2)))","v":1},{"$f":"IF($O11466=\"Sunpower Corp.\",3,(IF(OR($Q11466=\"mono\",$Q11466=\"poly\",$Q11466=\"HIT\",$Q11466=\"EFG\",$Q11466=\"mono-LGBC\"),1,IF(OR($Q11466=\"µc-Si / a-Si\",$Q11466=\"a-Si (single)\",$Q11466=\"a-Si (tandem)\",$Q11466=\"a-Si (triple)\"),3,2))))","v":1},0,null,null,5775,null,null,11466]
["Shanghai Juguang New Energy PV Techn. Co., Ltd. JGM-190/180-72M","Shanghai Juguang New Energy PV Techn. Co., Ltd. ","JGM-190/180-72M",180,"+...",35.6,5.0599999999999996,44.4,5.4,-150.96,1.62,-0.49,1000,null,null,14.099510192871094,"mono",72,"pseudo-square",1580,808,40,"aluminum","junction box",15.5,"www.jgpv.com.cn",null,null,null,null,null,{"$f":"IF($O11496=\"Sunpower Corp.\",3,(IF(OR($Q11496=\"mono\",$Q11496=\"poly\",$Q11496=\"HIT\",$Q11496=\"EFG\",$Q11496=\"mono-LGBC\"),1,IF(OR($Q11496=\"µc-Si / a-Si\",$Q11496=\"a-Si (single)\",$Q11496=\"a-Si (tandem)\",$Q11496=\"a-Si (triple)\"),3,2))))","v":1},{"$f":"IF($O11496=\"Sunpower Corp.\",3,(IF(OR($Q11496=\"mono\",$Q11496=\"poly\",$Q11496=\"HIT\",$Q11496=\"EFG\",$Q11496=\"mono-LGBC\"),1,2)))","v":1},{"$f":"IF($O11496=\"Sunpower Corp.\",3,(IF(OR($Q11496=\"mono\",$Q11496=\"poly\",$Q11496=\"HIT\",$Q11496=\"EFG\",$Q11496=\"mono-LGBC\"),1,IF(OR($Q11496=\"µc-Si / a-Si\",$Q11496=\"a-Si (single)\",$Q11496=\"a-Si (tandem)\",$Q11496=\"a-Si (triple)\"),3,2))))","v":1},0,null,null,30546,null,null,11496]
["Shanghai Pubsolar Co., Ltd. GYS-180C","Shanghai Pubsolar Co., Ltd. ","GYS-180C",180,"+3...-3",38.08,4.7300000000000004,44.64,5.18,-160.70399999999998,1.7612000000000001,-0.45,1000,"China",null,14.099510192871094,"mono",72,"pseudo-square",1580,808,46,"aluminum","junction box MC4",17,"www.pubsolar.com",null,null,null,null,null,{"$f":"IF($O11511=\"Sunpower Corp.\",3,(IF(OR($Q11511=\"mono\",$Q11511=\"poly\",$Q11511=\"HIT\",$Q11511=\"EFG\",$Q11511=\"mono-LGBC\"),1,IF(OR($Q11511=\"µc-Si / a-Si\",$Q11511=\"a-Si (single)\",$Q11511=\"a-Si (tandem)\",$Q11511=\"a-Si (triple)\"),3,2))))","v":1},{"$f":"IF($O11511=\"Sunpower Corp.\",3,(IF(OR($Q11511=\"mono\",$Q11511=\"poly\",$Q11511=\"HIT\",$Q11511=\"EFG\",$Q11511=\"mono-LGBC\"),1,2)))","v":1},{"$f":"IF($O11511=\"Sunpower Corp.\",3,(IF(OR($Q11511=\"mono\",$Q11511=\"poly\",$Q11511=\"HIT\",$Q11511=\"EFG\",$Q11511=\"mono-LGBC\"),1,IF(OR($Q11511=\"µc-Si / a-Si\",$Q11511=\"a-Si (single)\",$Q11511=\"a-Si (tandem)\",$Q11511=\"a-Si (triple)\"),3,2))))","v":1},0,null,null,6954,null,null,11511]
["Shanghai Solar Energy S&T Co. Ltd S-220D (215)","Shanghai Solar Energy S&T Co. Ltd ","S-220D (215)",215,"+3...-3",29.5,7.3,36.6,8.0500000000000007,-124.44,3.7030000000000007,-0.46,1000,null,null,13.108960151672363,"poly",60,"square",1650,994,46,null,"junction box",23,"www.ssec-solar.com",null,null,null,null,null,{"$f":"IF($O11535=\"Sunpower Corp.\",3,(IF(OR($Q11535=\"mono\",$Q11535=\"poly\",$Q11535=\"HIT\",$Q11535=\"EFG\",$Q11535=\"mono-LGBC\"),1,IF(OR($Q11535=\"µc-Si / a-Si\",$Q11535=\"a-Si (single)\",$Q11535=\"a-Si (tandem)\",$Q11535=\"a-Si (triple)\"),3,2))))","v":1},{"$f":"IF($O11535=\"Sunpower Corp.\",3,(IF(OR($Q11535=\"mono\",$Q11535=\"poly\",$Q11535=\"HIT\",$Q11535=\"EFG\",$Q11535=\"mono-LGBC\"),1,2)))","v":1},{"$f":"IF($O11535=\"Sunpower Corp.\",3,(IF(OR($Q11535=\"mono\",$Q11535=\"poly\",$Q11535=\"HIT\",$Q11535=\"EFG\",$Q11535=\"mono-LGBC\"),1,IF(OR($Q11535=\"µc-Si / a-Si\",$Q11535=\"a-Si (single)\",$Q11535=\"a-Si (tandem)\",$Q11535=\"a-Si (triple)\"),3,2))))","v":1},0,null,null,23576,null,null,11535]
["Shanghai ST Solar CO., Ltd ST180P 48","Shanghai ST Solar CO., Ltd ","ST180P 48",180,"+3...0",24.38,7.38,29.33,7.96,-102.655,3.1840000000000002,-0.46,1000,"China",null,13.503379821777344,"poly",36,"square",1333,1000,35,"aluminum","junction box MC4",15,"www.st-solar.com",null,null,null,null,null,{"$f":"IF($O11556=\"Sunpower Corp.\",3,(IF(OR($Q11556=\"mono\",$Q11556=\"poly\",$Q11556=\"HIT\",$Q11556=\"EFG\",$Q11556=\"mono-LGBC\"),1,IF(OR($Q11556=\"µc-Si / a-Si\",$Q11556=\"a-Si (single)\",$Q11556=\"a-Si (tandem)\",$Q11556=\"a-Si (triple)\"),3,2))))","v":1},{"$f":"IF($O11556=\"Sunpower Corp.\",3,(IF(OR($Q11556=\"mono\",$Q11556=\"poly\",$Q11556=\"HIT\",$Q11556=\"EFG\",$Q11556=\"mono-LGBC\"),1,2)))","v":1},{"$f":"IF($O11556=\"Sunpower Corp.\",3,(IF(OR($Q11556=\"mono\",$Q11556=\"poly\",$Q11556=\"HIT\",$Q11556=\"EFG\",$Q11556=\"mono-LGBC\"),1,IF(OR($Q11556=\"µc-Si / a-Si\",$Q11556=\"a-Si (single)\",$Q11556=\"a-Si (tandem)\",$Q11556=\"a-Si (triple)\"),3,2))))","v":1},0,null,null,32672,null,null,11556]
["Shanghai ST Solar CO., Ltd ST190P 54","Shanghai ST Solar CO., Ltd ","ST190P 54",190,"+3...0",26.67,7.09,32.56,8.08,-114.2856,2.8280000000000003,-0.47,1000,"China",null,12.743120193481445,"poly",54,"square",1491,1000,35,"aluminum","junction box MC4",19,"www.st-solar.com",null,null,null,null,null,{"$f":"IF($O11561=\"Sunpower Corp.\",3,(IF(OR($Q11561=\"mono\",$Q11561=\"poly\",$Q11561=\"HIT\",$Q11561=\"EFG\",$Q11561=\"mono-LGBC\"),1,IF(OR($Q11561=\"µc-Si / a-Si\",$Q11561=\"a-Si (single)\",$Q11561=\"a-Si (tandem)\",$Q11561=\"a-Si (triple)\"),3,2))))","v":1},{"$f":"IF($O11561=\"Sunpower Corp.\",3,(IF(OR($Q11561=\"mono\",$Q11561=\"poly\",$Q11561=\"HIT\",$Q11561=\"EFG\",$Q11561=\"mono-LGBC\"),1,2)))","v":1},{"$f":"IF($O11561=\"Sunpower Corp.\",3,(IF(OR($Q11561=\"mono\",$Q11561=\"poly\",$Q11561=\"HIT\",$Q11561=\"EFG\",$Q11561=\"mono-LGBC\"),1,IF(OR($Q11561=\"µc-Si / a-Si\",$Q11561=\"a-Si (single)\",$Q11561=\"a-Si (tandem)\",$Q11561=\"a-Si (triple)\"),3,2))))","v":1},0,null,null,32685,null,null,11561]
["Shanghai ST Solar CO., Ltd ST245P 60","Shanghai ST Solar CO., Ltd ","ST245P 60",245,"+3...0",31.26,7.77,37.56,8.2799999999999994,-131.46,2.4839999999999995,-0.46,1000,"China",null,14.857489585876465,"poly",60,"square",1649,1000,40,"aluminum","junction box MC4",20,"www.st-solar.com",null,null,null,null,null,{"$f":"IF($O11581=\"Sunpower Corp.\",3,(IF(OR($Q11581=\"mono\",$Q11581=\"poly\",$Q11581=\"HIT\",$Q11581=\"EFG\",$Q11581=\"mono-LGBC\"),1,IF(OR($Q11581=\"µc-Si / a-Si\",$Q11581=\"a-Si (single)\",$Q11581=\"a-Si (tandem)\",$Q11581=\"a-Si (triple)\"),3,2))))","v":1},{"$f":"IF($O11581=\"Sunpower Corp.\",3,(IF(OR($Q11581=\"mono\",$Q11581=\"poly\",$Q11581=\"HIT\",$Q11581=\"EFG\",$Q11581=\"mono-LGBC\"),1,2)))","v":1},{"$f":"IF($O11581=\"Sunpower Corp.\",3,(IF(OR($Q11581=\"mono\",$Q11581=\"poly\",$Q11581=\"HIT\",$Q11581=\"EFG\",$Q11581=\"mono-LGBC\"),1,IF(OR($Q11581=\"µc-Si / a-Si\",$Q11581=\"a-Si (single)\",$Q11581=\"a-Si (tandem)\",$Q11581=\"a-Si (triple)\"),3,2))))","v":1},0,null,null,32628,null,null,11581]
["Shanghai ST Solar CO., Ltd STM220 88","Shanghai ST Solar CO., Ltd ","STM220 88",220,"+3...0",44.62,4.91,54.56,5.29,-190.96,1.587,-0.46,1000,null,null,14.157560348510742,"mono",88,"pseudo-square",1455,1068,40,"aluminum","junction box MC4",17,"www.st-solar.com",null,null,null,null,null,{"$f":"IF($O11606=\"Sunpower Corp.\",3,(IF(OR($Q11606=\"mono\",$Q11606=\"poly\",$Q11606=\"HIT\",$Q11606=\"EFG\",$Q11606=\"mono-LGBC\"),1,IF(OR($Q11606=\"µc-Si / a-Si\",$Q11606=\"a-Si (single)\",$Q11606=\"a-Si (tandem)\",$Q11606=\"a-Si (triple)\"),3,2))))","v":1},{"$f":"IF($O11606=\"Sunpower Corp.\",3,(IF(OR($Q11606=\"mono\",$Q11606=\"poly\",$Q11606=\"HIT\",$Q11606=\"EFG\",$Q11606=\"mono-LGBC\"),1,2)))","v":1},{"$f":"IF($O11606=\"Sunpower Corp.\",3,(IF(OR($Q11606=\"mono\",$Q11606=\"poly\",$Q11606=\"HIT\",$Q11606=\"EFG\",$Q11606=\"mono-LGBC\"),1,IF(OR($Q11606=\"µc-Si / a-Si\",$Q11606=\"a-Si (single)\",$Q11606=\"a-Si (tandem)\",$Q11606=\"a-Si (triple)\"),3,2))))","v":1},0,null,null,32679,null,null,11606]
["Shanghai Sunsys Solar Co. Ltd. USL165-24P","Shanghai Sunsys Solar Co. Ltd. ","USL165-24P",165,"+5...-5",34.200000000000003,4.82,43.2,5.45,-164.16,5.45,-0.47,715,null,null,12.92455005645752,"poly",72,"square",1580,808,35,"aluminum","junction box",null,"www.uptchina.com",null,null,null,null,null,{"$f":"IF($O11630=\"Sunpower Corp.\",3,(IF(OR($Q11630=\"mono\",$Q11630=\"poly\",$Q11630=\"HIT\",$Q11630=\"EFG\",$Q11630=\"mono-LGBC\"),1,IF(OR($Q11630=\"µc-Si / a-Si\",$Q11630=\"a-Si (single)\",$Q11630=\"a-Si (tandem)\",$Q11630=\"a-Si (triple)\"),3,2))))","v":1},{"$f":"IF($O11630=\"Sunpower Corp.\",3,(IF(OR($Q11630=\"mono\",$Q11630=\"poly\",$Q11630=\"HIT\",$Q11630=\"EFG\",$Q11630=\"mono-LGBC\"),1,2)))","v":1},{"$f":"IF($O11630=\"Sunpower Corp.\",3,(IF(OR($Q11630=\"mono\",$Q11630=\"poly\",$Q11630=\"HIT\",$Q11630=\"EFG\",$Q11630=\"mono-LGBC\"),1,IF(OR($Q11630=\"µc-Si / a-Si\",$Q11630=\"a-Si (single)\",$Q11630=\"a-Si (tandem)\",$Q11630=\"a-Si (triple)\"),3,2))))","v":1},0,null,null,19433,null,null,11630]
["Shanghai Topsolar Green Energy Co., Ltd. TSM48-175M(175)","Shanghai Topsolar Green Energy Co., Ltd. ","TSM48-175M(175)",175,"+...",23,7.6,29.3,8.2899999999999991,-99.62,4.1449999999999996,-0.5,1000,null,null,13.197629928588867,"mono",48,null,1334,994,40,"aluminum","junction box",17,null,null,null,null,null,null,{"$f":"IF($O11651=\"Sunpower Corp.\",3,(IF(OR($Q11651=\"mono\",$Q11651=\"poly\",$Q11651=\"HIT\",$Q11651=\"EFG\",$Q11651=\"mono-LGBC\"),1,IF(OR($Q11651=\"µc-Si / a-Si\",$Q11651=\"a-Si (single)\",$Q11651=\"a-Si (tandem)\",$Q11651=\"a-Si (triple)\"),3,2))))","v":1},{"$f":"IF($O11651=\"Sunpower Corp.\",3,(IF(OR($Q11651=\"mono\",$Q11651=\"poly\",$Q11651=\"HIT\",$Q11651=\"EFG\",$Q11651=\"mono-LGBC\"),1,2)))","v":1},{"$f":"IF($O11651=\"Sunpower Corp.\",3,(IF(OR($Q11651=\"mono\",$Q11651=\"poly\",$Q11651=\"HIT\",$Q11651=\"EFG\",$Q11651=\"mono-LGBC\"),1,IF(OR($Q11651=\"µc-Si / a-Si\",$Q11651=\"a-Si (single)\",$Q11651=\"a-Si (tandem)\",$Q11651=\"a-Si (triple)\"),3,2))))","v":1},0,null,null,4378,null,null,11651]
["Shanghai Topsolar Green Energy Co., Ltd. TSM72-156M (300)","Shanghai Topsolar Green Energy Co., Ltd. ","TSM72-156M (300)",300,"+3...-3",36.1,8.31,44.7,8.7799999999999994,-151.97999999999999,4.3899999999999997,-0.5,1000,"China",null,15.46111011505127,"mono",72,"pseudo-square",1956,992,50,"aluminum","junction box others",23,"www.topsola.com",null,null,null,null,null,{"$f":"IF($O11675=\"Sunpower Corp.\",3,(IF(OR($Q11675=\"mono\",$Q11675=\"poly\",$Q11675=\"HIT\",$Q11675=\"EFG\",$Q11675=\"mono-LGBC\"),1,IF(OR($Q11675=\"µc-Si / a-Si\",$Q11675=\"a-Si (single)\",$Q11675=\"a-Si (tandem)\",$Q11675=\"a-Si (triple)\"),3,2))))","v":1},{"$f":"IF($O11675=\"Sunpower Corp.\",3,(IF(OR($Q11675=\"mono\",$Q11675=\"poly\",$Q11675=\"HIT\",$Q11675=\"EFG\",$Q11675=\"mono-LGBC\"),1,2)))","v":1},{"$f":"IF($O11675=\"Sunpower Corp.\",3,(IF(OR($Q11675=\"mono\",$Q11675=\"poly\",$Q11675=\"HIT\",$Q11675=\"EFG\",$Q11675=\"mono-LGBC\"),1,IF(OR($Q11675=\"µc-Si / a-Si\",$Q11675=\"a-Si (single)\",$Q11675=\"a-Si (tandem)\",$Q11675=\"a-Si (triple)\"),3,2))))","v":1},0,null,null,21240,null,null,11675]
["Shanghai WoNeng Solar Energy WNSM-165M","Shanghai WoNeng Solar Energy ","WNSM-165M",165,"+3...-3",35,4.71,42,5.28,-142.80000000000001,4.7519999999999998,-0.37,1000,"China",null,12.92455005645752,"mono",72,"pseudo-square",1580,808,45,"aluminum","junction box",15.5,"www.wn-solar-com",null,null,null,null,null,{"$f":"IF($O11690=\"Sunpower Corp.\",3,(IF(OR($Q11690=\"mono\",$Q11690=\"poly\",$Q11690=\"HIT\",$Q11690=\"EFG\",$Q11690=\"mono-LGBC\"),1,IF(OR($Q11690=\"µc-Si / a-Si\",$Q11690=\"a-Si (single)\",$Q11690=\"a-Si (tandem)\",$Q11690=\"a-Si (triple)\"),3,2))))","v":1},{"$f":"IF($O11690=\"Sunpower Corp.\",3,(IF(OR($Q11690=\"mono\",$Q11690=\"poly\",$Q11690=\"HIT\",$Q11690=\"EFG\",$Q11690=\"mono-LGBC\"),1,2)))","v":1},{"$f":"IF($O11690=\"Sunpower Corp.\",3,(IF(OR($Q11690=\"mono\",$Q11690=\"poly\",$Q11690=\"HIT\",$Q11690=\"EFG\",$Q11690=\"mono-LGBC\"),1,IF(OR($Q11690=\"µc-Si / a-Si\",$Q11690=\"a-Si (single)\",$Q11690=\"a-Si (tandem)\",$Q11690=\"a-Si (triple)\"),3,2))))","v":1},0,null,null,28169,null,null,11690]
["Shanghai WoNeng Solar Energy WNSM-210M","Shanghai WoNeng Solar Energy ","WNSM-210M",210,"+3...-3",47,4.47,56.4,5.01,-191.76,4.5090000000000003,-0.37,1000,"China",null,12.322859764099121,"mono",96,"pseudo-square",1575,1082,50,"aluminum","junction box",21.5,"www.wn-solar-com",null,null,null,null,null,{"$f":"IF($O11700=\"Sunpower Corp.\",3,(IF(OR($Q11700=\"mono\",$Q11700=\"poly\",$Q11700=\"HIT\",$Q11700=\"EFG\",$Q11700=\"mono-LGBC\"),1,IF(OR($Q11700=\"µc-Si / a-Si\",$Q11700=\"a-Si (single)\",$Q11700=\"a-Si (tandem)\",$Q11700=\"a-Si (triple)\"),3,2))))","v":1},{"$f":"IF($O11700=\"Sunpower Corp.\",3,(IF(OR($Q11700=\"mono\",$Q11700=\"poly\",$Q11700=\"HIT\",$Q11700=\"EFG\",$Q11700=\"mono-LGBC\"),1,2)))","v":1},{"$f":"IF($O11700=\"Sunpower Corp.\",3,(IF(OR($Q11700=\"mono\",$Q11700=\"poly\",$Q11700=\"HIT\",$Q11700=\"EFG\",$Q11700=\"mono-LGBC\"),1,IF(OR($Q11700=\"µc-Si / a-Si\",$Q11700=\"a-Si (single)\",$Q11700=\"a-Si (tandem)\",$Q11700=\"a-Si (triple)\"),3,2))))","v":1},0,null,null,28177,null,null,11700]
["Shanghai WoNeng Solar Energy WNSM-250P","Shanghai WoNeng Solar Energy ","WNSM-250P",250,"+3...-3",35.5,7.04,42,8.11,-142.80000000000001,7.2989999999999995,-0.37,1000,"China",null,12.877679824829102,"poly",72,"square",1957,992,50,"aluminum","junction box",22.5,"www.wn-solar-com",null,null,null,null,null,{"$f":"IF($O11716=\"Sunpower Corp.\",3,(IF(OR($Q11716=\"mono\",$Q11716=\"poly\",$Q11716=\"HIT\",$Q11716=\"EFG\",$Q11716=\"mono-LGBC\"),1,IF(OR($Q11716=\"µc-Si / a-Si\",$Q11716=\"a-Si (single)\",$Q11716=\"a-Si (tandem)\",$Q11716=\"a-Si (triple)\"),3,2))))","v":1},{"$f":"IF($O11716=\"Sunpower Corp.\",3,(IF(OR($Q11716=\"mono\",$Q11716=\"poly\",$Q11716=\"HIT\",$Q11716=\"EFG\",$Q11716=\"mono-LGBC\"),1,2)))","v":1},{"$f":"IF($O11716=\"Sunpower Corp.\",3,(IF(OR($Q11716=\"mono\",$Q11716=\"poly\",$Q11716=\"HIT\",$Q11716=\"EFG\",$Q11716=\"mono-LGBC\"),1,IF(OR($Q11716=\"µc-Si / a-Si\",$Q11716=\"a-Si (single)\",$Q11716=\"a-Si (tandem)\",$Q11716=\"a-Si (triple)\"),3,2))))","v":1},0,null,null,28195,null,null,11716]
["Shanghai Zhaokun Photovoltaic Technology Co., Ltd. ZKM210P","Shanghai Zhaokun Photovoltaic Technology Co., Ltd. ","ZKM210P",210,"+3...-3",29,7.24,34.799999999999997,8.11,-116.928,3.4061999999999997,-0.47,1000,"China",null,12.829910278320313,"poly",60,"square",1650,992,50,null,"junction box",null,"www.zk-pv.com",null,null,null,null,null,{"$f":"IF($O11745=\"Sunpower Corp.\",3,(IF(OR($Q11745=\"mono\",$Q11745=\"poly\",$Q11745=\"HIT\",$Q11745=\"EFG\",$Q11745=\"mono-LGBC\"),1,IF(OR($Q11745=\"µc-Si / a-Si\",$Q11745=\"a-Si (single)\",$Q11745=\"a-Si (tandem)\",$Q11745=\"a-Si (triple)\"),3,2))))","v":1},{"$f":"IF($O11745=\"Sunpower Corp.\",3,(IF(OR($Q11745=\"mono\",$Q11745=\"poly\",$Q11745=\"HIT\",$Q11745=\"EFG\",$Q11745=\"mono-LGBC\"),1,2)))","v":1},{"$f":"IF($O11745=\"Sunpower Corp.\",3,(IF(OR($Q11745=\"mono\",$Q11745=\"poly\",$Q11745=\"HIT\",$Q11745=\"EFG\",$Q11745=\"mono-LGBC\"),1,IF(OR($Q11745=\"µc-Si / a-Si\",$Q11745=\"a-Si (single)\",$Q11745=\"a-Si (tandem)\",$Q11745=\"a-Si (triple)\"),3,2))))","v":1},0,null,null,33835,null,null,11745]
["Shanghai Zhaokun Photovoltaic Technology Co., Ltd. ZKM250P","Shanghai Zhaokun Photovoltaic Technology Co., Ltd. ","ZKM250P",250,"+3...-3",35.5,7.04,42,8.11,-141.12,3.4061999999999997,-0.47,1000,"China",null,12.877679824829102,"poly",72,"square",1957,992,50,null,"junction box",null,"www.zk-pv.com",null,null,null,null,null,{"$f":"IF($O11761=\"Sunpower Corp.\",3,(IF(OR($Q11761=\"mono\",$Q11761=\"poly\",$Q11761=\"HIT\",$Q11761=\"EFG\",$Q11761=\"mono-LGBC\"),1,IF(OR($Q11761=\"µc-Si / a-Si\",$Q11761=\"a-Si (single)\",$Q11761=\"a-Si (tandem)\",$Q11761=\"a-Si (triple)\"),3,2))))","v":1},{"$f":"IF($O11761=\"Sunpower Corp.\",3,(IF(OR($Q11761=\"mono\",$Q11761=\"poly\",$Q11761=\"HIT\",$Q11761=\"EFG\",$Q11761=\"mono-LGBC\"),1,2)))","v":1},{"$f":"IF($O11761=\"Sunpower Corp.\",3,(IF(OR($Q11761=\"mono\",$Q11761=\"poly\",$Q11761=\"HIT\",$Q11761=\"EFG\",$Q11761=\"mono-LGBC\"),1,IF(OR($Q11761=\"µc-Si / a-Si\",$Q11761=\"a-Si (single)\",$Q11761=\"a-Si (tandem)\",$Q11761=\"a-Si (triple)\"),3,2))))","v":1},0,null,null,33844,null,null,11761]
["Shanghai Zhaokun Photovoltaic Technology Co., Ltd. ZK-P200","Shanghai Zhaokun Photovoltaic Technology Co., Ltd. ","ZK-P200",200,"+3...-3",27.21,7.36,32.72,7.86,-113.21119999999999,5.109,-0.48799999999999999,1000,null,null,13.604109764099121,"poly",54,null,1482,992,50,"aluminum",null,17.8,"www.zk-solar.com",null,null,null,null,null,{"$f":"IF($O11774=\"Sunpower Corp.\",3,(IF(OR($Q11774=\"mono\",$Q11774=\"poly\",$Q11774=\"HIT\",$Q11774=\"EFG\",$Q11774=\"mono-LGBC\"),1,IF(OR($Q11774=\"µc-Si / a-Si\",$Q11774=\"a-Si (single)\",$Q11774=\"a-Si (tandem)\",$Q11774=\"a-Si (triple)\"),3,2))))","v":1},{"$f":"IF($O11774=\"Sunpower Corp.\",3,(IF(OR($Q11774=\"mono\",$Q11774=\"poly\",$Q11774=\"HIT\",$Q11774=\"EFG\",$Q11774=\"mono-LGBC\"),1,2)))","v":1},{"$f":"IF($O11774=\"Sunpower Corp.\",3,(IF(OR($Q11774=\"mono\",$Q11774=\"poly\",$Q11774=\"HIT\",$Q11774=\"EFG\",$Q11774=\"mono-LGBC\"),1,IF(OR($Q11774=\"µc-Si / a-Si\",$Q11774=\"a-Si (single)\",$Q11774=\"a-Si (tandem)\",$Q11774=\"a-Si (triple)\"),3,2))))","v":1},0,null,null,11669,null,null,11774]
["Sharp Corporation ND-162E1","Sharp Corporation ","ND-162E1",162,"+...",22.8,7.11,28.4,7.92,-103.94399999999999,4.1976000000000004,-0.48499999999999999,1000,null,"Sharp Corporation",12.36553955078125,"poly",48,"square",1318,994,46,null,null,16,"www.sharp-world.com",null,null,null,null,null,{"$f":"IF($O11806=\"Sunpower Corp.\",3,(IF(OR($Q11806=\"mono\",$Q11806=\"poly\",$Q11806=\"HIT\",$Q11806=\"EFG\",$Q11806=\"mono-LGBC\"),1,IF(OR($Q11806=\"µc-Si / a-Si\",$Q11806=\"a-Si (single)\",$Q11806=\"a-Si (tandem)\",$Q11806=\"a-Si (triple)\"),3,2))))","v":1},{"$f":"IF($O11806=\"Sunpower Corp.\",3,(IF(OR($Q11806=\"mono\",$Q11806=\"poly\",$Q11806=\"HIT\",$Q11806=\"EFG\",$Q11806=\"mono-LGBC\"),1,2)))","v":1},{"$f":"IF($O11806=\"Sunpower Corp.\",3,(IF(OR($Q11806=\"mono\",$Q11806=\"poly\",$Q11806=\"HIT\",$Q11806=\"EFG\",$Q11806=\"mono-LGBC\"),1,IF(OR($Q11806=\"µc-Si / a-Si\",$Q11806=\"a-Si (single)\",$Q11806=\"a-Si (tandem)\",$Q11806=\"a-Si (triple)\"),3,2))))","v":1},0,null,null,12167,null,null,11806]
["Sharp Corporation ND-72ELUC","Sharp Corporation ","ND-72ELUC",72,"+10...-5",10.029999999999999,7.18,12.71,7.89,-45.756000000000007,4.1817000000000002,-0.48499999999999999,null,null,"Sharp Corporation",6.2426838874816895,"poly",21,"square",1165,990,46,"aluminum","cable MC new",10.5,"www.sharp-solar.com",null,null,null,null,null,{"$f":"IF($O11819=\"Sunpower Corp.\",3,(IF(OR($Q11819=\"mono\",$Q11819=\"poly\",$Q11819=\"HIT\",$Q11819=\"EFG\",$Q11819=\"mono-LGBC\"),1,IF(OR($Q11819=\"µc-Si / a-Si\",$Q11819=\"a-Si (single)\",$Q11819=\"a-Si (tandem)\",$Q11819=\"a-Si (triple)\"),3,2))))","v":1},{"$f":"IF($O11819=\"Sunpower Corp.\",3,(IF(OR($Q11819=\"mono\",$Q11819=\"poly\",$Q11819=\"HIT\",$Q11819=\"EFG\",$Q11819=\"mono-LGBC\"),1,2)))","v":1},{"$f":"IF($O11819=\"Sunpower Corp.\",3,(IF(OR($Q11819=\"mono\",$Q11819=\"poly\",$Q11819=\"HIT\",$Q11819=\"EFG\",$Q11819=\"mono-LGBC\"),1,IF(OR($Q11819=\"µc-Si / a-Si\",$Q11819=\"a-Si (single)\",$Q11819=\"a-Si (tandem)\",$Q11819=\"a-Si (triple)\"),3,2))))","v":1},0,null,null,28056,null,null,11819]
["Sharp Corporation NU-180 (E1)","Sharp Corporation ","NU-180 (E1)",180,"+10...-5",23.7,7.6,30,8.3699999999999992,-103.8,4.4360999999999988,-0.48499999999999999,1000,"Great Britain","Sharp Corporation",13.739489555358887,"mono",48,"pseudo-square",1318,994,46,"aluminum","cable MC old",16,"www.sharp-world.com",null,null,null,null,null,{"$f":"IF($O11845=\"Sunpower Corp.\",3,(IF(OR($Q11845=\"mono\",$Q11845=\"poly\",$Q11845=\"HIT\",$Q11845=\"EFG\",$Q11845=\"mono-LGBC\"),1,IF(OR($Q11845=\"µc-Si / a-Si\",$Q11845=\"a-Si (single)\",$Q11845=\"a-Si (tandem)\",$Q11845=\"a-Si (triple)\"),3,2))))","v":1},{"$f":"IF($O11845=\"Sunpower Corp.\",3,(IF(OR($Q11845=\"mono\",$Q11845=\"poly\",$Q11845=\"HIT\",$Q11845=\"EFG\",$Q11845=\"mono-LGBC\"),1,2)))","v":1},{"$f":"IF($O11845=\"Sunpower Corp.\",3,(IF(OR($Q11845=\"mono\",$Q11845=\"poly\",$Q11845=\"HIT\",$Q11845=\"EFG\",$Q11845=\"mono-LGBC\"),1,IF(OR($Q11845=\"µc-Si / a-Si\",$Q11845=\"a-Si (single)\",$Q11845=\"a-Si (tandem)\",$Q11845=\"a-Si (triple)\"),3,2))))","v":1},0,null,null,2929,null,null,11845]
["Shenzhen Topray Solar Co. Ltd. TPS-105-230","Shenzhen Topray Solar Co. Ltd. ","TPS-105-230",230,"+3...0",46.4,4.96,58,5.38,-191.4,2.5823999999999998,-0.47,1000,"China","Topray",13.621489524841309,"mono",96,"pseudo-square",1581,1068,50,"aluminum","junction box MC4",20,"www.topraysolar.com",null,null,null,null,null,{"$f":"IF($O11864=\"Sunpower Corp.\",3,(IF(OR($Q11864=\"mono\",$Q11864=\"poly\",$Q11864=\"HIT\",$Q11864=\"EFG\",$Q11864=\"mono-LGBC\"),1,IF(OR($Q11864=\"µc-Si / a-Si\",$Q11864=\"a-Si (single)\",$Q11864=\"a-Si (tandem)\",$Q11864=\"a-Si (triple)\"),3,2))))","v":1},{"$f":"IF($O11864=\"Sunpower Corp.\",3,(IF(OR($Q11864=\"mono\",$Q11864=\"poly\",$Q11864=\"HIT\",$Q11864=\"EFG\",$Q11864=\"mono-LGBC\"),1,2)))","v":1},{"$f":"IF($O11864=\"Sunpower Corp.\",3,(IF(OR($Q11864=\"mono\",$Q11864=\"poly\",$Q11864=\"HIT\",$Q11864=\"EFG\",$Q11864=\"mono-LGBC\"),1,IF(OR($Q11864=\"µc-Si / a-Si\",$Q11864=\"a-Si (single)\",$Q11864=\"a-Si (tandem)\",$Q11864=\"a-Si (triple)\"),3,2))))","v":1},0,null,null,20947,null,null,11864]
["Shenzhen Topray Solar Co. Ltd. TPS-105S-185","Shenzhen Topray Solar Co. Ltd. ","TPS-105S-185",185,"+3...0",24.1,7.67,29.7,8.0299999999999994,-98.01,3.8543999999999996,-0.47,1000,"China","Topray",14.113949775695801,"mono",48,"pseudo-square",1324,990,40,"aluminum","junction box MC4",16,"www.topraysolar.com",null,null,null,null,null,{"$f":"IF($O11871=\"Sunpower Corp.\",3,(IF(OR($Q11871=\"mono\",$Q11871=\"poly\",$Q11871=\"HIT\",$Q11871=\"EFG\",$Q11871=\"mono-LGBC\"),1,IF(OR($Q11871=\"µc-Si / a-Si\",$Q11871=\"a-Si (single)\",$Q11871=\"a-Si (tandem)\",$Q11871=\"a-Si (triple)\"),3,2))))","v":1},{"$f":"IF($O11871=\"Sunpower Corp.\",3,(IF(OR($Q11871=\"mono\",$Q11871=\"poly\",$Q11871=\"HIT\",$Q11871=\"EFG\",$Q11871=\"mono-LGBC\"),1,2)))","v":1},{"$f":"IF($O11871=\"Sunpower Corp.\",3,(IF(OR($Q11871=\"mono\",$Q11871=\"poly\",$Q11871=\"HIT\",$Q11871=\"EFG\",$Q11871=\"mono-LGBC\"),1,IF(OR($Q11871=\"µc-Si / a-Si\",$Q11871=\"a-Si (single)\",$Q11871=\"a-Si (tandem)\",$Q11871=\"a-Si (triple)\"),3,2))))","v":1},0,null,null,20943,null,null,11871]
["Shinsung Holdings Co., Ltd. SS-AM 200 Wp","Shinsung Holdings Co., Ltd. ","SS-AM 200 Wp",200,"+...",25.72,7.78,33.369999999999997,8.48,-133.47999999999999,4.748800000000001,-0.49,null,null,null,13.364540100097656,"mono",54,"pseudo-square",1501,997,35,null,"junction box",16.2,"www.shinsung.co.kr",null,null,null,null,null,{"$f":"IF($O11909=\"Sunpower Corp.\",3,(IF(OR($Q11909=\"mono\",$Q11909=\"poly\",$Q11909=\"HIT\",$Q11909=\"EFG\",$Q11909=\"mono-LGBC\"),1,IF(OR($Q11909=\"µc-Si / a-Si\",$Q11909=\"a-Si (single)\",$Q11909=\"a-Si (tandem)\",$Q11909=\"a-Si (triple)\"),3,2))))","v":1},{"$f":"IF($O11909=\"Sunpower Corp.\",3,(IF(OR($Q11909=\"mono\",$Q11909=\"poly\",$Q11909=\"HIT\",$Q11909=\"EFG\",$Q11909=\"mono-LGBC\"),1,2)))","v":1},{"$f":"IF($O11909=\"Sunpower Corp.\",3,(IF(OR($Q11909=\"mono\",$Q11909=\"poly\",$Q11909=\"HIT\",$Q11909=\"EFG\",$Q11909=\"mono-LGBC\"),1,IF(OR($Q11909=\"µc-Si / a-Si\",$Q11909=\"a-Si (single)\",$Q11909=\"a-Si (tandem)\",$Q11909=\"a-Si (triple)\"),3,2))))","v":1},0,null,null,12567,null,null,11909]
["Shinsung Holdings Co., Ltd. SS-BM 215W","Shinsung Holdings Co., Ltd. ","SS-BM 215W",215,"+3...-3",29.2,7.7,37.200000000000003,8.3000000000000007,-151.21800000000002,4.6870099999999999,-0.4924,null,null,null,13.022159576416016,"mono",60,"pseudo-square",1656,997,35,null,"junction box",18,"www.shinsungcs.co.kr",null,null,null,null,null,{"$f":"IF($O11916=\"Sunpower Corp.\",3,(IF(OR($Q11916=\"mono\",$Q11916=\"poly\",$Q11916=\"HIT\",$Q11916=\"EFG\",$Q11916=\"mono-LGBC\"),1,IF(OR($Q11916=\"µc-Si / a-Si\",$Q11916=\"a-Si (single)\",$Q11916=\"a-Si (tandem)\",$Q11916=\"a-Si (triple)\"),3,2))))","v":1},{"$f":"IF($O11916=\"Sunpower Corp.\",3,(IF(OR($Q11916=\"mono\",$Q11916=\"poly\",$Q11916=\"HIT\",$Q11916=\"EFG\",$Q11916=\"mono-LGBC\"),1,2)))","v":1},{"$f":"IF($O11916=\"Sunpower Corp.\",3,(IF(OR($Q11916=\"mono\",$Q11916=\"poly\",$Q11916=\"HIT\",$Q11916=\"EFG\",$Q11916=\"mono-LGBC\"),1,IF(OR($Q11916=\"µc-Si / a-Si\",$Q11916=\"a-Si (single)\",$Q11916=\"a-Si (tandem)\",$Q11916=\"a-Si (triple)\"),3,2))))","v":1},0,null,null,24223,null,null,11916]
["Shinsung Holdings Co., Ltd. TS-S390","Shinsung Holdings Co., Ltd. ","TS-S390",390,"+2...-2",49.38,7.92,59.62,8.42,-238.48,4.21,-0.5,1000,null,null,15.212510108947754,"mono",96,"pseudo-square",1960,1308,40,"aluminum","junction box Tyco",35.5,null,null,null,null,null,null,{"$f":"IF($O11938=\"Sunpower Corp.\",3,(IF(OR($Q11938=\"mono\",$Q11938=\"poly\",$Q11938=\"HIT\",$Q11938=\"EFG\",$Q11938=\"mono-LGBC\"),1,IF(OR($Q11938=\"µc-Si / a-Si\",$Q11938=\"a-Si (single)\",$Q11938=\"a-Si (tandem)\",$Q11938=\"a-Si (triple)\"),3,2))))","v":1},{"$f":"IF($O11938=\"Sunpower Corp.\",3,(IF(OR($Q11938=\"mono\",$Q11938=\"poly\",$Q11938=\"HIT\",$Q11938=\"EFG\",$Q11938=\"mono-LGBC\"),1,2)))","v":1},{"$f":"IF($O11938=\"Sunpower Corp.\",3,(IF(OR($Q11938=\"mono\",$Q11938=\"poly\",$Q11938=\"HIT\",$Q11938=\"EFG\",$Q11938=\"mono-LGBC\"),1,IF(OR($Q11938=\"µc-Si / a-Si\",$Q11938=\"a-Si (single)\",$Q11938=\"a-Si (tandem)\",$Q11938=\"a-Si (triple)\"),3,2))))","v":1},0,null,null,18640,null,null,11938]
["Shurjo Energy Private Limited SE74MP-EB2411B","Shurjo Energy Private Limited ","SE74MP-EB2411B",74,"+10...-10",18.5,4,36.6,4.8,-135.41999999999999,0.48,-0.44,500,"India","Global Solar",10.329939842224121,"CIGS",40,"rectangular",1188,603,34,"aluminum","junction box",9.4,"www,shurjo-energy.com",null,null,null,null,null,{"$f":"IF($O11961=\"Sunpower Corp.\",3,(IF(OR($Q11961=\"mono\",$Q11961=\"poly\",$Q11961=\"HIT\",$Q11961=\"EFG\",$Q11961=\"mono-LGBC\"),1,IF(OR($Q11961=\"µc-Si / a-Si\",$Q11961=\"a-Si (single)\",$Q11961=\"a-Si (tandem)\",$Q11961=\"a-Si (triple)\"),3,2))))","v":2},{"$f":"IF($O11961=\"Sunpower Corp.\",3,(IF(OR($Q11961=\"mono\",$Q11961=\"poly\",$Q11961=\"HIT\",$Q11961=\"EFG\",$Q11961=\"mono-LGBC\"),1,2)))","v":2},{"$f":"IF($O11961=\"Sunpower Corp.\",3,(IF(OR($Q11961=\"mono\",$Q11961=\"poly\",$Q11961=\"HIT\",$Q11961=\"EFG\",$Q11961=\"mono-LGBC\"),1,IF(OR($Q11961=\"µc-Si / a-Si\",$Q11961=\"a-Si (single)\",$Q11961=\"a-Si (tandem)\",$Q11961=\"a-Si (triple)\"),3,2))))","v":2},0,null,null,26992,null,null,11961]
["SILCIO S.A. SE 190 Wp","SILCIO S.A. ","SE 190 Wp",190,"+...",27.4,6.95,35,7.7,-119,3.5419999999999998,-0.28999999999999998,1000,null,null,11.568280220031738,"poly",60,"square",1654,993,40,"aluminum","junction box H + S",22,"www.silcio.gr",null,null,null,null,null,{"$f":"IF($O11983=\"Sunpower Corp.\",3,(IF(OR($Q11983=\"mono\",$Q11983=\"poly\",$Q11983=\"HIT\",$Q11983=\"EFG\",$Q11983=\"mono-LGBC\"),1,IF(OR($Q11983=\"µc-Si / a-Si\",$Q11983=\"a-Si (single)\",$Q11983=\"a-Si (tandem)\",$Q11983=\"a-Si (triple)\"),3,2))))","v":1},{"$f":"IF($O11983=\"Sunpower Corp.\",3,(IF(OR($Q11983=\"mono\",$Q11983=\"poly\",$Q11983=\"HIT\",$Q11983=\"EFG\",$Q11983=\"mono-LGBC\"),1,2)))","v":1},{"$f":"IF($O11983=\"Sunpower Corp.\",3,(IF(OR($Q11983=\"mono\",$Q11983=\"poly\",$Q11983=\"HIT\",$Q11983=\"EFG\",$Q11983=\"mono-LGBC\"),1,IF(OR($Q11983=\"µc-Si / a-Si\",$Q11983=\"a-Si (single)\",$Q11983=\"a-Si (tandem)\",$Q11983=\"a-Si (triple)\"),3,2))))","v":1},0,null,null,12583,null,null,11983]
["Silfab S.p.A. SLA235P","Silfab S.p.A. ","SLA235P",235,"+1...-1",29.6,7.95,37,8.4499999999999993,-122.1,7.1825000000000001,-0.43,1000,null,null,14.386289596557617,"poly",60,"square",1650,990,38,"aluminum","junction box Tyco",19,"www.silfab.eu",null,null,null,null,null,{"$f":"IF($O12004=\"Sunpower Corp.\",3,(IF(OR($Q12004=\"mono\",$Q12004=\"poly\",$Q12004=\"HIT\",$Q12004=\"EFG\",$Q12004=\"mono-LGBC\"),1,IF(OR($Q12004=\"µc-Si / a-Si\",$Q12004=\"a-Si (single)\",$Q12004=\"a-Si (tandem)\",$Q12004=\"a-Si (triple)\"),3,2))))","v":1},{"$f":"IF($O12004=\"Sunpower Corp.\",3,(IF(OR($Q12004=\"mono\",$Q12004=\"poly\",$Q12004=\"HIT\",$Q12004=\"EFG\",$Q12004=\"mono-LGBC\"),1,2)))","v":1},{"$f":"IF($O12004=\"Sunpower Corp.\",3,(IF(OR($Q12004=\"mono\",$Q12004=\"poly\",$Q12004=\"HIT\",$Q12004=\"EFG\",$Q12004=\"mono-LGBC\"),1,IF(OR($Q12004=\"µc-Si / a-Si\",$Q12004=\"a-Si (single)\",$Q12004=\"a-Si (tandem)\",$Q12004=\"a-Si (triple)\"),3,2))))","v":1},0,null,null,28069,null,null,12004]
["Siliken, SL GT40M6L 145Wp","Siliken, SL ","GT40M6L 145Wp",145,"+3...0",19.399999999999999,7.45,24.4,8.06,-86.86399999999999,4.9972000000000003,-0.41,1000,"Spain","diverse",9.0182209014892578,"mono",40,"pseudo-square",1634,984,5,"frameless","junction box Tyco",17,"www.siliken.com",null,null,null,null,null,{"$f":"IF($O12026=\"Sunpower Corp.\",3,(IF(OR($Q12026=\"mono\",$Q12026=\"poly\",$Q12026=\"HIT\",$Q12026=\"EFG\",$Q12026=\"mono-LGBC\"),1,IF(OR($Q12026=\"µc-Si / a-Si\",$Q12026=\"a-Si (single)\",$Q12026=\"a-Si (tandem)\",$Q12026=\"a-Si (triple)\"),3,2))))","v":1},{"$f":"IF($O12026=\"Sunpower Corp.\",3,(IF(OR($Q12026=\"mono\",$Q12026=\"poly\",$Q12026=\"HIT\",$Q12026=\"EFG\",$Q12026=\"mono-LGBC\"),1,2)))","v":1},{"$f":"IF($O12026=\"Sunpower Corp.\",3,(IF(OR($Q12026=\"mono\",$Q12026=\"poly\",$Q12026=\"HIT\",$Q12026=\"EFG\",$Q12026=\"mono-LGBC\"),1,IF(OR($Q12026=\"µc-Si / a-Si\",$Q12026=\"a-Si (single)\",$Q12026=\"a-Si (tandem)\",$Q12026=\"a-Si (triple)\"),3,2))))","v":1},0,null,null,14301,null,null,12026]
["Siliken, SL GT40P6L 170Wp","Siliken, SL ","GT40P6L 170Wp",170,"+3...0",19.899999999999999,7.9,24.9,9.02,-88.643999999999991,5.5923999999999996,-0.43,1000,null,null,10.573089599609375,"poly",40,"square",1634,984,4.5,"frameless","junction box",17,"www.siliken.com",null,null,null,null,null,{"$f":"IF($O12033=\"Sunpower Corp.\",3,(IF(OR($Q12033=\"mono\",$Q12033=\"poly\",$Q12033=\"HIT\",$Q12033=\"EFG\",$Q12033=\"mono-LGBC\"),1,IF(OR($Q12033=\"µc-Si / a-Si\",$Q12033=\"a-Si (single)\",$Q12033=\"a-Si (tandem)\",$Q12033=\"a-Si (triple)\"),3,2))))","v":1},{"$f":"IF($O12033=\"Sunpower Corp.\",3,(IF(OR($Q12033=\"mono\",$Q12033=\"poly\",$Q12033=\"HIT\",$Q12033=\"EFG\",$Q12033=\"mono-LGBC\"),1,2)))","v":1},{"$f":"IF($O12033=\"Sunpower Corp.\",3,(IF(OR($Q12033=\"mono\",$Q12033=\"poly\",$Q12033=\"HIT\",$Q12033=\"EFG\",$Q12033=\"mono-LGBC\"),1,IF(OR($Q12033=\"µc-Si / a-Si\",$Q12033=\"a-Si (single)\",$Q12033=\"a-Si (tandem)\",$Q12033=\"a-Si (triple)\"),3,2))))","v":1},0,null,null,32137,null,null,12033]
["Siliken, SL SLK50M6L 175Wp","Siliken, SL ","SLK50M6L 175Wp",175,"+3...0",24,7.3,30.4,8,-108.22399999999999,4.96,-0.41,1000,"Spain","diverse",12.856300354003906,"mono",50,"pseudo-square",1640,830,40,"aluminum","junction box Tyco",16,"www.siliken.com",null,null,null,null,null,{"$f":"IF($O12052=\"Sunpower Corp.\",3,(IF(OR($Q12052=\"mono\",$Q12052=\"poly\",$Q12052=\"HIT\",$Q12052=\"EFG\",$Q12052=\"mono-LGBC\"),1,IF(OR($Q12052=\"µc-Si / a-Si\",$Q12052=\"a-Si (single)\",$Q12052=\"a-Si (tandem)\",$Q12052=\"a-Si (triple)\"),3,2))))","v":1},{"$f":"IF($O12052=\"Sunpower Corp.\",3,(IF(OR($Q12052=\"mono\",$Q12052=\"poly\",$Q12052=\"HIT\",$Q12052=\"EFG\",$Q12052=\"mono-LGBC\"),1,2)))","v":1},{"$f":"IF($O12052=\"Sunpower Corp.\",3,(IF(OR($Q12052=\"mono\",$Q12052=\"poly\",$Q12052=\"HIT\",$Q12052=\"EFG\",$Q12052=\"mono-LGBC\"),1,IF(OR($Q12052=\"µc-Si / a-Si\",$Q12052=\"a-Si (single)\",$Q12052=\"a-Si (tandem)\",$Q12052=\"a-Si (triple)\"),3,2))))","v":1},0,null,null,14282,null,null,12052]
["Siliken, SL SLK60P6C 225Wp","Siliken, SL ","SLK60P6C 225Wp",225,"+3...0",29.6,7.6,36.89,8.1,-131.32839999999999,5.0219999999999994,-0.43,1000,"Spain","diverse",13.858090400695801,"poly",60,"square",1640,990,40,"aluminum","junction box Tyco",19,"www.siliken.com",null,null,null,null,null,{"$f":"IF($O12078=\"Sunpower Corp.\",3,(IF(OR($Q12078=\"mono\",$Q12078=\"poly\",$Q12078=\"HIT\",$Q12078=\"EFG\",$Q12078=\"mono-LGBC\"),1,IF(OR($Q12078=\"µc-Si / a-Si\",$Q12078=\"a-Si (single)\",$Q12078=\"a-Si (tandem)\",$Q12078=\"a-Si (triple)\"),3,2))))","v":1},{"$f":"IF($O12078=\"Sunpower Corp.\",3,(IF(OR($Q12078=\"mono\",$Q12078=\"poly\",$Q12078=\"HIT\",$Q12078=\"EFG\",$Q12078=\"mono-LGBC\"),1,2)))","v":1},{"$f":"IF($O12078=\"Sunpower Corp.\",3,(IF(OR($Q12078=\"mono\",$Q12078=\"poly\",$Q12078=\"HIT\",$Q12078=\"EFG\",$Q12078=\"mono-LGBC\"),1,IF(OR($Q12078=\"µc-Si / a-Si\",$Q12078=\"a-Si (single)\",$Q12078=\"a-Si (tandem)\",$Q12078=\"a-Si (triple)\"),3,2))))","v":1},0,null,null,14293,null,null,12078]
["Siliken, SL SLK72M6L 300Wp","Siliken, SL ","SLK72M6L 300Wp",300,"+3...0",35.799999999999997,8.3800000000000008,44.4,8.91,-159.84,5.3459999999999992,-0.41,1000,null,null,15.460729598999023,"mono",72,"pseudo-square",1960,990,40,"aluminum","junction box",23,"www.siliken.com",null,null,null,null,null,{"$f":"IF($O12091=\"Sunpower Corp.\",3,(IF(OR($Q12091=\"mono\",$Q12091=\"poly\",$Q12091=\"HIT\",$Q12091=\"EFG\",$Q12091=\"mono-LGBC\"),1,IF(OR($Q12091=\"µc-Si / a-Si\",$Q12091=\"a-Si (single)\",$Q12091=\"a-Si (tandem)\",$Q12091=\"a-Si (triple)\"),3,2))))","v":1},{"$f":"IF($O12091=\"Sunpower Corp.\",3,(IF(OR($Q12091=\"mono\",$Q12091=\"poly\",$Q12091=\"HIT\",$Q12091=\"EFG\",$Q12091=\"mono-LGBC\"),1,2)))","v":1},{"$f":"IF($O12091=\"Sunpower Corp.\",3,(IF(OR($Q12091=\"mono\",$Q12091=\"poly\",$Q12091=\"HIT\",$Q12091=\"EFG\",$Q12091=\"mono-LGBC\"),1,IF(OR($Q12091=\"µc-Si / a-Si\",$Q12091=\"a-Si (single)\",$Q12091=\"a-Si (tandem)\",$Q12091=\"a-Si (triple)\"),3,2))))","v":1},0,null,null,32141,null,null,12091]
["Sillia énergie 60 P 240","Sillia énergie ","60 P 240",240,"+3...-3",31.15,7.7,38.299999999999997,8.25,-134.05000000000001,4.125,-0.46,1000,"France",null,14.400010108947754,"poly",60,"square",1665,1001,42,"aluminum","cable MC new",22,"www.sillia.com",null,null,null,null,null,{"$f":"IF($O12123=\"Sunpower Corp.\",3,(IF(OR($Q12123=\"mono\",$Q12123=\"poly\",$Q12123=\"HIT\",$Q12123=\"EFG\",$Q12123=\"mono-LGBC\"),1,IF(OR($Q12123=\"µc-Si / a-Si\",$Q12123=\"a-Si (single)\",$Q12123=\"a-Si (tandem)\",$Q12123=\"a-Si (triple)\"),3,2))))","v":1},{"$f":"IF($O12123=\"Sunpower Corp.\",3,(IF(OR($Q12123=\"mono\",$Q12123=\"poly\",$Q12123=\"HIT\",$Q12123=\"EFG\",$Q12123=\"mono-LGBC\"),1,2)))","v":1},{"$f":"IF($O12123=\"Sunpower Corp.\",3,(IF(OR($Q12123=\"mono\",$Q12123=\"poly\",$Q12123=\"HIT\",$Q12123=\"EFG\",$Q12123=\"mono-LGBC\"),1,IF(OR($Q12123=\"µc-Si / a-Si\",$Q12123=\"a-Si (single)\",$Q12123=\"a-Si (tandem)\",$Q12123=\"a-Si (triple)\"),3,2))))","v":1},0,null,null,27816,null,null,12123]
["Sinodeu New Energy Co., Ltd. ZD205-20P","Sinodeu New Energy Co., Ltd. ","ZD205-20P",205,"+3...-3",28.4,7.22,35.9,8.0500000000000007,-132.83000000000001,2.415,-0.52,1000,null,null,12.626259803771973,"poly",60,null,1640,990,null,"aluminum","junction box",null,"www.sinodeupv.com",null,null,null,null,null,{"$f":"IF($O12136=\"Sunpower Corp.\",3,(IF(OR($Q12136=\"mono\",$Q12136=\"poly\",$Q12136=\"HIT\",$Q12136=\"EFG\",$Q12136=\"mono-LGBC\"),1,IF(OR($Q12136=\"µc-Si / a-Si\",$Q12136=\"a-Si (single)\",$Q12136=\"a-Si (tandem)\",$Q12136=\"a-Si (triple)\"),3,2))))","v":1},{"$f":"IF($O12136=\"Sunpower Corp.\",3,(IF(OR($Q12136=\"mono\",$Q12136=\"poly\",$Q12136=\"HIT\",$Q12136=\"EFG\",$Q12136=\"mono-LGBC\"),1,2)))","v":1},{"$f":"IF($O12136=\"Sunpower Corp.\",3,(IF(OR($Q12136=\"mono\",$Q12136=\"poly\",$Q12136=\"HIT\",$Q12136=\"EFG\",$Q12136=\"mono-LGBC\"),1,IF(OR($Q12136=\"µc-Si / a-Si\",$Q12136=\"a-Si (single)\",$Q12136=\"a-Si (tandem)\",$Q12136=\"a-Si (triple)\"),3,2))))","v":1},0,null,null,12806,null,null,12136]
["Sinodeu New Energy Co., Ltd. ZD255-24P","Sinodeu New Energy Co., Ltd. ","ZD255-24P",255,"+3...-3",34.6,7.37,43.3,8.1300000000000008,-160.21,2.4390000000000001,-0.52,1000,null,null,13.168499946594238,"poly",72,null,1956,990,null,"aluminum","junction box",null,"www.sinodeupv.com",null,null,null,null,null,{"$f":"IF($O12148=\"Sunpower Corp.\",3,(IF(OR($Q12148=\"mono\",$Q12148=\"poly\",$Q12148=\"HIT\",$Q12148=\"EFG\",$Q12148=\"mono-LGBC\"),1,IF(OR($Q12148=\"µc-Si / a-Si\",$Q12148=\"a-Si (single)\",$Q12148=\"a-Si (tandem)\",$Q12148=\"a-Si (triple)\"),3,2))))","v":1},{"$f":"IF($O12148=\"Sunpower Corp.\",3,(IF(OR($Q12148=\"mono\",$Q12148=\"poly\",$Q12148=\"HIT\",$Q12148=\"EFG\",$Q12148=\"mono-LGBC\"),1,2)))","v":1},{"$f":"IF($O12148=\"Sunpower Corp.\",3,(IF(OR($Q12148=\"mono\",$Q12148=\"poly\",$Q12148=\"HIT\",$Q12148=\"EFG\",$Q12148=\"mono-LGBC\"),1,IF(OR($Q12148=\"µc-Si / a-Si\",$Q12148=\"a-Si (single)\",$Q12148=\"a-Si (tandem)\",$Q12148=\"a-Si (triple)\"),3,2))))","v":1},0,null,null,12800,null,null,12148]
["Sinosun Solar Energy Co., Ltd. SS156P72-270","Sinosun Solar Energy Co., Ltd. ","SS156P72-270",270,"+3...-3",35.5,7.61,44,8.14,-154,3.6629999999999998,-0.46,1000,"China",null,13.907890319824219,"poly",72,"square",1957,992,50,"aluminum","junction box MC4",22.5,"www.sinosunsolar.com",null,null,null,null,null,{"$f":"IF($O12181=\"Sunpower Corp.\",3,(IF(OR($Q12181=\"mono\",$Q12181=\"poly\",$Q12181=\"HIT\",$Q12181=\"EFG\",$Q12181=\"mono-LGBC\"),1,IF(OR($Q12181=\"µc-Si / a-Si\",$Q12181=\"a-Si (single)\",$Q12181=\"a-Si (tandem)\",$Q12181=\"a-Si (triple)\"),3,2))))","v":1},{"$f":"IF($O12181=\"Sunpower Corp.\",3,(IF(OR($Q12181=\"mono\",$Q12181=\"poly\",$Q12181=\"HIT\",$Q12181=\"EFG\",$Q12181=\"mono-LGBC\"),1,2)))","v":1},{"$f":"IF($O12181=\"Sunpower Corp.\",3,(IF(OR($Q12181=\"mono\",$Q12181=\"poly\",$Q12181=\"HIT\",$Q12181=\"EFG\",$Q12181=\"mono-LGBC\"),1,IF(OR($Q12181=\"µc-Si / a-Si\",$Q12181=\"a-Si (single)\",$Q12181=\"a-Si (tandem)\",$Q12181=\"a-Si (triple)\"),3,2))))","v":1},0,null,null,32461,null,null,12181]
["SKY GLOBAL SOLAR, S.A. SGM 72/180W","SKY GLOBAL SOLAR, S.A. ","SGM 72/180W",180,"+3...-3",36,5,43.2,5.6,-146.88,5.04,-0.37,1000,"China",null,14.099510192871094,"mono",72,"pseudo-square",1580,808,46,"aluminum","junction box",16,"www.sky-global.com",null,null,null,null,null,{"$f":"IF($O12197=\"Sunpower Corp.\",3,(IF(OR($Q12197=\"mono\",$Q12197=\"poly\",$Q12197=\"HIT\",$Q12197=\"EFG\",$Q12197=\"mono-LGBC\"),1,IF(OR($Q12197=\"µc-Si / a-Si\",$Q12197=\"a-Si (single)\",$Q12197=\"a-Si (tandem)\",$Q12197=\"a-Si (triple)\"),3,2))))","v":1},{"$f":"IF($O12197=\"Sunpower Corp.\",3,(IF(OR($Q12197=\"mono\",$Q12197=\"poly\",$Q12197=\"HIT\",$Q12197=\"EFG\",$Q12197=\"mono-LGBC\"),1,2)))","v":1},{"$f":"IF($O12197=\"Sunpower Corp.\",3,(IF(OR($Q12197=\"mono\",$Q12197=\"poly\",$Q12197=\"HIT\",$Q12197=\"EFG\",$Q12197=\"mono-LGBC\"),1,IF(OR($Q12197=\"µc-Si / a-Si\",$Q12197=\"a-Si (single)\",$Q12197=\"a-Si (tandem)\",$Q12197=\"a-Si (triple)\"),3,2))))","v":1},0,null,null,5224,null,null,12197]
["Skybasesolar GmbH SK125*125-M-72-200","Skybasesolar GmbH ","SK125*125-M-72-200",200,"+3...0",37.4,5.35,45.2,5.76,-158.18644,2.1709439999999995,-0.47409000000000001,1000,null,null,15.666119575500488,"mono",72,"pseudo-square",1580,808,46,"aluminum","junction box",15.5,"www.skybasesolar.com",null,null,null,null,null,{"$f":"IF($O12207=\"Sunpower Corp.\",3,(IF(OR($Q12207=\"mono\",$Q12207=\"poly\",$Q12207=\"HIT\",$Q12207=\"EFG\",$Q12207=\"mono-LGBC\"),1,IF(OR($Q12207=\"µc-Si / a-Si\",$Q12207=\"a-Si (single)\",$Q12207=\"a-Si (tandem)\",$Q12207=\"a-Si (triple)\"),3,2))))","v":1},{"$f":"IF($O12207=\"Sunpower Corp.\",3,(IF(OR($Q12207=\"mono\",$Q12207=\"poly\",$Q12207=\"HIT\",$Q12207=\"EFG\",$Q12207=\"mono-LGBC\"),1,2)))","v":1},{"$f":"IF($O12207=\"Sunpower Corp.\",3,(IF(OR($Q12207=\"mono\",$Q12207=\"poly\",$Q12207=\"HIT\",$Q12207=\"EFG\",$Q12207=\"mono-LGBC\"),1,IF(OR($Q12207=\"µc-Si / a-Si\",$Q12207=\"a-Si (single)\",$Q12207=\"a-Si (tandem)\",$Q12207=\"a-Si (triple)\"),3,2))))","v":1},0,null,null,24568,null,null,12207]
["Skybasesolar GmbH SK156*156-P-72-275","Skybasesolar GmbH ","SK156*156-P-72-275",275,"+3...0",35.6,7.72,44.7,8.23,-153.32100000000003,8.5591999999999988,-0.46200000000000002,1000,null,null,14.173150062561035,"poly",60,"square",1952,994,46,"aluminum","junction box",23,"www.skybasesolar.com",null,null,null,null,null,{"$f":"IF($O12222=\"Sunpower Corp.\",3,(IF(OR($Q12222=\"mono\",$Q12222=\"poly\",$Q12222=\"HIT\",$Q12222=\"EFG\",$Q12222=\"mono-LGBC\"),1,IF(OR($Q12222=\"µc-Si / a-Si\",$Q12222=\"a-Si (single)\",$Q12222=\"a-Si (tandem)\",$Q12222=\"a-Si (triple)\"),3,2))))","v":1},{"$f":"IF($O12222=\"Sunpower Corp.\",3,(IF(OR($Q12222=\"mono\",$Q12222=\"poly\",$Q12222=\"HIT\",$Q12222=\"EFG\",$Q12222=\"mono-LGBC\"),1,2)))","v":1},{"$f":"IF($O12222=\"Sunpower Corp.\",3,(IF(OR($Q12222=\"mono\",$Q12222=\"poly\",$Q12222=\"HIT\",$Q12222=\"EFG\",$Q12222=\"mono-LGBC\"),1,IF(OR($Q12222=\"µc-Si / a-Si\",$Q12222=\"a-Si (single)\",$Q12222=\"a-Si (tandem)\",$Q12222=\"a-Si (triple)\"),3,2))))","v":1},0,null,null,24583,null,null,12222]
["Smile Solar Energy Co.,Ltd. SSMK-55TG11.5S","Smile Solar Energy Co.,Ltd. ","SSMK-55TG11.5S",55,"+...",68,0.81,91.8,1.1399999999999999,-279.99,0.85727999999999993,-0.23,null,null,null,null,"a-Si",null,"others",980,950,11.5,"frameless","junction box",23,"www.smilesolar.com.tw",null,null,null,null,null,{"$f":"IF($O12252=\"Sunpower Corp.\",3,(IF(OR($Q12252=\"mono\",$Q12252=\"poly\",$Q12252=\"HIT\",$Q12252=\"EFG\",$Q12252=\"mono-LGBC\"),1,IF(OR($Q12252=\"µc-Si / a-Si\",$Q12252=\"a-Si (single)\",$Q12252=\"a-Si (tandem)\",$Q12252=\"a-Si (triple)\"),3,2))))","v":2},{"$f":"IF($O12252=\"Sunpower Corp.\",3,(IF(OR($Q12252=\"mono\",$Q12252=\"poly\",$Q12252=\"HIT\",$Q12252=\"EFG\",$Q12252=\"mono-LGBC\"),1,2)))","v":2},{"$f":"IF($O12252=\"Sunpower Corp.\",3,(IF(OR($Q12252=\"mono\",$Q12252=\"poly\",$Q12252=\"HIT\",$Q12252=\"EFG\",$Q12252=\"mono-LGBC\"),1,IF(OR($Q12252=\"µc-Si / a-Si\",$Q12252=\"a-Si (single)\",$Q12252=\"a-Si (tandem)\",$Q12252=\"a-Si (triple)\"),3,2))))","v":2},0,null,null,31002,null,null,12252]
["Smile Solar Energy Co.,Ltd. SSR215MG","Smile Solar Energy Co.,Ltd. ","SSR215MG",215,"+...",29.17,7.32,37.08,7.87,-140.904,2.3609999999999998,-0.52,null,null,null,null,null,60,"pseudo-square",1760,1066,13,"frameless",null,56,"www.smilesolar.com.tw",null,null,null,null,null,{"$f":"IF($O12267=\"Sunpower Corp.\",3,(IF(OR($Q12267=\"mono\",$Q12267=\"poly\",$Q12267=\"HIT\",$Q12267=\"EFG\",$Q12267=\"mono-LGBC\"),1,IF(OR($Q12267=\"µc-Si / a-Si\",$Q12267=\"a-Si (single)\",$Q12267=\"a-Si (tandem)\",$Q12267=\"a-Si (triple)\"),3,2))))","v":2},{"$f":"IF($O12267=\"Sunpower Corp.\",3,(IF(OR($Q12267=\"mono\",$Q12267=\"poly\",$Q12267=\"HIT\",$Q12267=\"EFG\",$Q12267=\"mono-LGBC\"),1,2)))","v":2},{"$f":"IF($O12267=\"Sunpower Corp.\",3,(IF(OR($Q12267=\"mono\",$Q12267=\"poly\",$Q12267=\"HIT\",$Q12267=\"EFG\",$Q12267=\"mono-LGBC\"),1,IF(OR($Q12267=\"µc-Si / a-Si\",$Q12267=\"a-Si (single)\",$Q12267=\"a-Si (tandem)\",$Q12267=\"a-Si (triple)\"),3,2))))","v":2},0,null,null,30974,null,null,12267]
["Smile Solar Energy Co.,Ltd. SSTA-266PG33S","Smile Solar Energy Co.,Ltd. ","SSTA-266PG33S",266,"+...",34.4,7.75,43.22,8.3800000000000008,-178.49860000000001,8.1286000000000023,-0.56299999999999994,null,null,null,null,"poly",70,"square",1750,1200,15,"frameless","junction box",76.13,"www.smilesolar.com.tw",null,null,null,null,null,{"$f":"IF($O12291=\"Sunpower Corp.\",3,(IF(OR($Q12291=\"mono\",$Q12291=\"poly\",$Q12291=\"HIT\",$Q12291=\"EFG\",$Q12291=\"mono-LGBC\"),1,IF(OR($Q12291=\"µc-Si / a-Si\",$Q12291=\"a-Si (single)\",$Q12291=\"a-Si (tandem)\",$Q12291=\"a-Si (triple)\"),3,2))))","v":1},{"$f":"IF($O12291=\"Sunpower Corp.\",3,(IF(OR($Q12291=\"mono\",$Q12291=\"poly\",$Q12291=\"HIT\",$Q12291=\"EFG\",$Q12291=\"mono-LGBC\"),1,2)))","v":1},{"$f":"IF($O12291=\"Sunpower Corp.\",3,(IF(OR($Q12291=\"mono\",$Q12291=\"poly\",$Q12291=\"HIT\",$Q12291=\"EFG\",$Q12291=\"mono-LGBC\"),1,IF(OR($Q12291=\"µc-Si / a-Si\",$Q12291=\"a-Si (single)\",$Q12291=\"a-Si (tandem)\",$Q12291=\"a-Si (triple)\"),3,2))))","v":1},0,null,null,30980,null,null,12291]
["Solar Cells Hellas, S.A. SCHL660P (205)","Solar Cells Hellas, S.A. ","SCHL660P (205)",205,"+3...-2",28.84,7.1,37.54,7.77,-131.38999999999999,5.2059000000000006,-0.5,1000,null,null,12.726579666137695,"poly",60,"square",1642,981,45,"frameless","junction box",18,"www.schellas.gr",null,null,null,null,null,{"$f":"IF($O12312=\"Sunpower Corp.\",3,(IF(OR($Q12312=\"mono\",$Q12312=\"poly\",$Q12312=\"HIT\",$Q12312=\"EFG\",$Q12312=\"mono-LGBC\"),1,IF(OR($Q12312=\"µc-Si / a-Si\",$Q12312=\"a-Si (single)\",$Q12312=\"a-Si (tandem)\",$Q12312=\"a-Si (triple)\"),3,2))))","v":1},{"$f":"IF($O12312=\"Sunpower Corp.\",3,(IF(OR($Q12312=\"mono\",$Q12312=\"poly\",$Q12312=\"HIT\",$Q12312=\"EFG\",$Q12312=\"mono-LGBC\"),1,2)))","v":1},{"$f":"IF($O12312=\"Sunpower Corp.\",3,(IF(OR($Q12312=\"mono\",$Q12312=\"poly\",$Q12312=\"HIT\",$Q12312=\"EFG\",$Q12312=\"mono-LGBC\"),1,IF(OR($Q12312=\"µc-Si / a-Si\",$Q12312=\"a-Si (single)\",$Q12312=\"a-Si (tandem)\",$Q12312=\"a-Si (triple)\"),3,2))))","v":1},0,null,null,23935,null,null,12312]
["Solar Direkt GmbH SDP-5 165+","Solar Direkt GmbH ","SDP-5 165+",165,"+3...-3",34.700000000000003,7.65,43.06,5.32,-150.71,2.66,-0.45,1000,null,null,12.92455005645752,"poly",72,"square",1580,808,50,null,"junction box MC4",16.5,"www.solardirectgroup.com",null,null,null,null,null,{"$f":"IF($O12336=\"Sunpower Corp.\",3,(IF(OR($Q12336=\"mono\",$Q12336=\"poly\",$Q12336=\"HIT\",$Q12336=\"EFG\",$Q12336=\"mono-LGBC\"),1,IF(OR($Q12336=\"µc-Si / a-Si\",$Q12336=\"a-Si (single)\",$Q12336=\"a-Si (tandem)\",$Q12336=\"a-Si (triple)\"),3,2))))","v":1},{"$f":"IF($O12336=\"Sunpower Corp.\",3,(IF(OR($Q12336=\"mono\",$Q12336=\"poly\",$Q12336=\"HIT\",$Q12336=\"EFG\",$Q12336=\"mono-LGBC\"),1,2)))","v":1},{"$f":"IF($O12336=\"Sunpower Corp.\",3,(IF(OR($Q12336=\"mono\",$Q12336=\"poly\",$Q12336=\"HIT\",$Q12336=\"EFG\",$Q12336=\"mono-LGBC\"),1,IF(OR($Q12336=\"µc-Si / a-Si\",$Q12336=\"a-Si (single)\",$Q12336=\"a-Si (tandem)\",$Q12336=\"a-Si (triple)\"),3,2))))","v":1},0,null,null,26906,null,null,12336]
["Solar Direkt GmbH SDP-6 225+","Solar Direkt GmbH ","SDP-6 225+",225,"+3...-3",29.9,7.53,36.700000000000003,8.24,-124.78,4.944,-0.47,1000,null,null,13.785510063171387,"poly",60,"square",1642,994,40,null,"junction box MC4",20,"www.solardirectgroup.com",null,null,null,null,null,{"$f":"IF($O12341=\"Sunpower Corp.\",3,(IF(OR($Q12341=\"mono\",$Q12341=\"poly\",$Q12341=\"HIT\",$Q12341=\"EFG\",$Q12341=\"mono-LGBC\"),1,IF(OR($Q12341=\"µc-Si / a-Si\",$Q12341=\"a-Si (single)\",$Q12341=\"a-Si (tandem)\",$Q12341=\"a-Si (triple)\"),3,2))))","v":1},{"$f":"IF($O12341=\"Sunpower Corp.\",3,(IF(OR($Q12341=\"mono\",$Q12341=\"poly\",$Q12341=\"HIT\",$Q12341=\"EFG\",$Q12341=\"mono-LGBC\"),1,2)))","v":1},{"$f":"IF($O12341=\"Sunpower Corp.\",3,(IF(OR($Q12341=\"mono\",$Q12341=\"poly\",$Q12341=\"HIT\",$Q12341=\"EFG\",$Q12341=\"mono-LGBC\"),1,IF(OR($Q12341=\"µc-Si / a-Si\",$Q12341=\"a-Si (single)\",$Q12341=\"a-Si (tandem)\",$Q12341=\"a-Si (triple)\"),3,2))))","v":1},0,null,null,26911,null,null,12341]
["Solar Frontier Ltd. SC75-EX-A","Solar Frontier Ltd. ","SC75-EX-A",75,"+7...-5",40.5,1.85,55.5,2.2000000000000002,-188.7,0,null,1000,null,null,9.4740629196166992,"CIS",null,"others",1235,641,35,null,"junction box",12.4,"www.solarfrontier.co.jp",null,null,null,null,null,{"$f":"IF($O12362=\"Sunpower Corp.\",3,(IF(OR($Q12362=\"mono\",$Q12362=\"poly\",$Q12362=\"HIT\",$Q12362=\"EFG\",$Q12362=\"mono-LGBC\"),1,IF(OR($Q12362=\"µc-Si / a-Si\",$Q12362=\"a-Si (single)\",$Q12362=\"a-Si (tandem)\",$Q12362=\"a-Si (triple)\"),3,2))))","v":2},{"$f":"IF($O12362=\"Sunpower Corp.\",3,(IF(OR($Q12362=\"mono\",$Q12362=\"poly\",$Q12362=\"HIT\",$Q12362=\"EFG\",$Q12362=\"mono-LGBC\"),1,2)))","v":2},{"$f":"IF($O12362=\"Sunpower Corp.\",3,(IF(OR($Q12362=\"mono\",$Q12362=\"poly\",$Q12362=\"HIT\",$Q12362=\"EFG\",$Q12362=\"mono-LGBC\"),1,IF(OR($Q12362=\"µc-Si / a-Si\",$Q12362=\"a-Si (single)\",$Q12362=\"a-Si (tandem)\",$Q12362=\"a-Si (triple)\"),3,2))))","v":2},0,null,null,4198,null,null,12362]
["Solar Green Energy S.p.A. Horus 245 P","Solar Green Energy S.p.A. ","Horus 245 P",245,"+3...0",30.61,7.97,37.76,8.4499999999999993,-132.16,4.2249999999999996,-0.45,1000,null,null,14.803540229797363,"poly",60,"square",1665,994,38,"aluminum","junction box MC4",19,"www.solargreenenergy.it",null,null,null,null,null,{"$f":"IF($O12386=\"Sunpower Corp.\",3,(IF(OR($Q12386=\"mono\",$Q12386=\"poly\",$Q12386=\"HIT\",$Q12386=\"EFG\",$Q12386=\"mono-LGBC\"),1,IF(OR($Q12386=\"µc-Si / a-Si\",$Q12386=\"a-Si (single)\",$Q12386=\"a-Si (tandem)\",$Q12386=\"a-Si (triple)\"),3,2))))","v":1},{"$f":"IF($O12386=\"Sunpower Corp.\",3,(IF(OR($Q12386=\"mono\",$Q12386=\"poly\",$Q12386=\"HIT\",$Q12386=\"EFG\",$Q12386=\"mono-LGBC\"),1,2)))","v":1},{"$f":"IF($O12386=\"Sunpower Corp.\",3,(IF(OR($Q12386=\"mono\",$Q12386=\"poly\",$Q12386=\"HIT\",$Q12386=\"EFG\",$Q12386=\"mono-LGBC\"),1,IF(OR($Q12386=\"µc-Si / a-Si\",$Q12386=\"a-Si (single)\",$Q12386=\"a-Si (tandem)\",$Q12386=\"a-Si (triple)\"),3,2))))","v":1},0,null,null,30961,null,null,12386]
["Solar Power Inc. (Headquarters) SP200FP12","Solar Power Inc. (Headquarters) ","SP200FP12",200,"+3...-3",25.41,7.87,32.299999999999997,8.4,-112.72699999999998,7.98,-0.46500000000000002,1000,"China",null,13.61378002166748,"poly",54,"square",1475,996,46,"aluminum","junction box Tyco",17.25,"www.solarpowerinc.net",null,null,null,null,null,{"$f":"IF($O12407=\"Sunpower Corp.\",3,(IF(OR($Q12407=\"mono\",$Q12407=\"poly\",$Q12407=\"HIT\",$Q12407=\"EFG\",$Q12407=\"mono-LGBC\"),1,IF(OR($Q12407=\"µc-Si / a-Si\",$Q12407=\"a-Si (single)\",$Q12407=\"a-Si (tandem)\",$Q12407=\"a-Si (triple)\"),3,2))))","v":1},{"$f":"IF($O12407=\"Sunpower Corp.\",3,(IF(OR($Q12407=\"mono\",$Q12407=\"poly\",$Q12407=\"HIT\",$Q12407=\"EFG\",$Q12407=\"mono-LGBC\"),1,2)))","v":1},{"$f":"IF($O12407=\"Sunpower Corp.\",3,(IF(OR($Q12407=\"mono\",$Q12407=\"poly\",$Q12407=\"HIT\",$Q12407=\"EFG\",$Q12407=\"mono-LGBC\"),1,IF(OR($Q12407=\"µc-Si / a-Si\",$Q12407=\"a-Si (single)\",$Q12407=\"a-Si (tandem)\",$Q12407=\"a-Si (triple)\"),3,2))))","v":1},0,null,null,14334,null,null,12407]
["Solar Power Inc. (Headquarters) SP220FM52","Solar Power Inc. (Headquarters) ","SP220FM52",220,"+5...-5",27,8.15,33.5,8.7100000000000009,-110.55,8.0132000000000012,-0.46200000000000002,null,"China",null,14.024350166320801,"mono",54,"pseudo-square",1575,996,46,"aluminum","junction box Tyco",17.25,"www.solarpowerinc.net",null,null,null,null,null,{"$f":"IF($O12431=\"Sunpower Corp.\",3,(IF(OR($Q12431=\"mono\",$Q12431=\"poly\",$Q12431=\"HIT\",$Q12431=\"EFG\",$Q12431=\"mono-LGBC\"),1,IF(OR($Q12431=\"µc-Si / a-Si\",$Q12431=\"a-Si (single)\",$Q12431=\"a-Si (tandem)\",$Q12431=\"a-Si (triple)\"),3,2))))","v":1},{"$f":"IF($O12431=\"Sunpower Corp.\",3,(IF(OR($Q12431=\"mono\",$Q12431=\"poly\",$Q12431=\"HIT\",$Q12431=\"EFG\",$Q12431=\"mono-LGBC\"),1,2)))","v":1},{"$f":"IF($O12431=\"Sunpower Corp.\",3,(IF(OR($Q12431=\"mono\",$Q12431=\"poly\",$Q12431=\"HIT\",$Q12431=\"EFG\",$Q12431=\"mono-LGBC\"),1,IF(OR($Q12431=\"µc-Si / a-Si\",$Q12431=\"a-Si (single)\",$Q12431=\"a-Si (tandem)\",$Q12431=\"a-Si (triple)\"),3,2))))","v":1},0,null,null,14366,null,null,12431]
["Solar Semiconductor Inc. SSI-3M6-200","Solar Semiconductor Inc. ","SSI-3M6-200",200,"+3...-2",26.3,7.6,33,8.26,-122.1,4.9559999999999995,-0.46,1000,null,"diverse",13.351510047912598,"poly",54,"square",1507,994,42,"aluminum","junction box Tyco",16.5,null,null,null,null,null,null,{"$f":"IF($O12446=\"Sunpower Corp.\",3,(IF(OR($Q12446=\"mono\",$Q12446=\"poly\",$Q12446=\"HIT\",$Q12446=\"EFG\",$Q12446=\"mono-LGBC\"),1,IF(OR($Q12446=\"µc-Si / a-Si\",$Q12446=\"a-Si (single)\",$Q12446=\"a-Si (tandem)\",$Q12446=\"a-Si (triple)\"),3,2))))","v":1},{"$f":"IF($O12446=\"Sunpower Corp.\",3,(IF(OR($Q12446=\"mono\",$Q12446=\"poly\",$Q12446=\"HIT\",$Q12446=\"EFG\",$Q12446=\"mono-LGBC\"),1,2)))","v":1},{"$f":"IF($O12446=\"Sunpower Corp.\",3,(IF(OR($Q12446=\"mono\",$Q12446=\"poly\",$Q12446=\"HIT\",$Q12446=\"EFG\",$Q12446=\"mono-LGBC\"),1,IF(OR($Q12446=\"µc-Si / a-Si\",$Q12446=\"a-Si (single)\",$Q12446=\"a-Si (tandem)\",$Q12446=\"a-Si (triple)\"),3,2))))","v":1},0,null,null,11843,null,null,12446]
["Solar Semiconductor Inc. SSI-M6-135","Solar Semiconductor Inc. ","SSI-M6-135",135,"+3...-2",17.8,7.58,22.3,8.2200000000000006,-82.51,4.9319999999999995,-0.46,1000,null,"diverse",13.330650329589844,"poly",36,"square",1507,672,42,"aluminum","junction box Tyco",12,null,null,null,null,null,null,{"$f":"IF($O12456=\"Sunpower Corp.\",3,(IF(OR($Q12456=\"mono\",$Q12456=\"poly\",$Q12456=\"HIT\",$Q12456=\"EFG\",$Q12456=\"mono-LGBC\"),1,IF(OR($Q12456=\"µc-Si / a-Si\",$Q12456=\"a-Si (single)\",$Q12456=\"a-Si (tandem)\",$Q12456=\"a-Si (triple)\"),3,2))))","v":1},{"$f":"IF($O12456=\"Sunpower Corp.\",3,(IF(OR($Q12456=\"mono\",$Q12456=\"poly\",$Q12456=\"HIT\",$Q12456=\"EFG\",$Q12456=\"mono-LGBC\"),1,2)))","v":1},{"$f":"IF($O12456=\"Sunpower Corp.\",3,(IF(OR($Q12456=\"mono\",$Q12456=\"poly\",$Q12456=\"HIT\",$Q12456=\"EFG\",$Q12456=\"mono-LGBC\"),1,IF(OR($Q12456=\"µc-Si / a-Si\",$Q12456=\"a-Si (single)\",$Q12456=\"a-Si (tandem)\",$Q12456=\"a-Si (triple)\"),3,2))))","v":1},0,null,null,8694,null,null,12456]
["Solar Tehnika d.o.o. ST-P-60C (215)","Solar Tehnika d.o.o. ","ST-P-60C (215)",215,"+...",29.58,7.29,36.36,7.82,-130.89599999999999,3.91,-0.46,1000,null,null,12.954350471496582,"poly",60,"square",1663,998,35,null,"junction box",20,null,null,null,null,null,null,{"$f":"IF($O12491=\"Sunpower Corp.\",3,(IF(OR($Q12491=\"mono\",$Q12491=\"poly\",$Q12491=\"HIT\",$Q12491=\"EFG\",$Q12491=\"mono-LGBC\"),1,IF(OR($Q12491=\"µc-Si / a-Si\",$Q12491=\"a-Si (single)\",$Q12491=\"a-Si (tandem)\",$Q12491=\"a-Si (triple)\"),3,2))))","v":1},{"$f":"IF($O12491=\"Sunpower Corp.\",3,(IF(OR($Q12491=\"mono\",$Q12491=\"poly\",$Q12491=\"HIT\",$Q12491=\"EFG\",$Q12491=\"mono-LGBC\"),1,2)))","v":1},{"$f":"IF($O12491=\"Sunpower Corp.\",3,(IF(OR($Q12491=\"mono\",$Q12491=\"poly\",$Q12491=\"HIT\",$Q12491=\"EFG\",$Q12491=\"mono-LGBC\"),1,IF(OR($Q12491=\"µc-Si / a-Si\",$Q12491=\"a-Si (single)\",$Q12491=\"a-Si (tandem)\",$Q12491=\"a-Si (triple)\"),3,2))))","v":1},0,null,null,12159,null,null,12491]
["SolarConsult AG SC 165 GT/MC (175)","SolarConsult AG ","SC 165 GT/MC (175)",175,"+3...-3",36.6,4.78,43.65,5.0999999999999996,-165.87,5.0999999999999996,-0.47,800,null,"Schott Solar AG",13.419219970703125,"poly",72,"square",1620,805,42,"aluminum","junction box Tyco",16,null,null,null,null,null,null,{"$f":"IF($O12505=\"Sunpower Corp.\",3,(IF(OR($Q12505=\"mono\",$Q12505=\"poly\",$Q12505=\"HIT\",$Q12505=\"EFG\",$Q12505=\"mono-LGBC\"),1,IF(OR($Q12505=\"µc-Si / a-Si\",$Q12505=\"a-Si (single)\",$Q12505=\"a-Si (tandem)\",$Q12505=\"a-Si (triple)\"),3,2))))","v":1},{"$f":"IF($O12505=\"Sunpower Corp.\",3,(IF(OR($Q12505=\"mono\",$Q12505=\"poly\",$Q12505=\"HIT\",$Q12505=\"EFG\",$Q12505=\"mono-LGBC\"),1,2)))","v":1},{"$f":"IF($O12505=\"Sunpower Corp.\",3,(IF(OR($Q12505=\"mono\",$Q12505=\"poly\",$Q12505=\"HIT\",$Q12505=\"EFG\",$Q12505=\"mono-LGBC\"),1,IF(OR($Q12505=\"µc-Si / a-Si\",$Q12505=\"a-Si (single)\",$Q12505=\"a-Si (tandem)\",$Q12505=\"a-Si (triple)\"),3,2))))","v":1},0,null,null,27859,null,null,12505]
["Solarday SpA PX48 T","Solarday SpA ","PX48 T",175,"+5...-5",23.4,7.4,29.2,8,-94.462000000000003,4.7279999999999998,-0.44180000000000003,1000,null,null,10.458219528198242,"poly",48,"square",1665,1005,43,"aluminum","junction box",22,"www.solarday.it",null,null,null,null,null,{"$f":"IF($O12517=\"Sunpower Corp.\",3,(IF(OR($Q12517=\"mono\",$Q12517=\"poly\",$Q12517=\"HIT\",$Q12517=\"EFG\",$Q12517=\"mono-LGBC\"),1,IF(OR($Q12517=\"µc-Si / a-Si\",$Q12517=\"a-Si (single)\",$Q12517=\"a-Si (tandem)\",$Q12517=\"a-Si (triple)\"),3,2))))","v":1},{"$f":"IF($O12517=\"Sunpower Corp.\",3,(IF(OR($Q12517=\"mono\",$Q12517=\"poly\",$Q12517=\"HIT\",$Q12517=\"EFG\",$Q12517=\"mono-LGBC\"),1,2)))","v":1},{"$f":"IF($O12517=\"Sunpower Corp.\",3,(IF(OR($Q12517=\"mono\",$Q12517=\"poly\",$Q12517=\"HIT\",$Q12517=\"EFG\",$Q12517=\"mono-LGBC\"),1,IF(OR($Q12517=\"µc-Si / a-Si\",$Q12517=\"a-Si (single)\",$Q12517=\"a-Si (tandem)\",$Q12517=\"a-Si (triple)\"),3,2))))","v":1},0,null,null,24879,null,null,12517]
["Solar-Fabrik AG Premium M mono (180)","Solar-Fabrik AG ","Premium M mono (180)",180,"+1,4...-1,4",36.799999999999997,4.9000000000000004,44.8,5.3,-156.80000000000001,1.06,-0.47,1000,"Germany",null,14.106659889221191,"mono",72,"pseudo-square",1593,801,35,"aluminum","others",15.5,"www.solar-fabrik.de",null,null,null,null,null,{"$f":"IF($O12550=\"Sunpower Corp.\",3,(IF(OR($Q12550=\"mono\",$Q12550=\"poly\",$Q12550=\"HIT\",$Q12550=\"EFG\",$Q12550=\"mono-LGBC\"),1,IF(OR($Q12550=\"µc-Si / a-Si\",$Q12550=\"a-Si (single)\",$Q12550=\"a-Si (tandem)\",$Q12550=\"a-Si (triple)\"),3,2))))","v":1},{"$f":"IF($O12550=\"Sunpower Corp.\",3,(IF(OR($Q12550=\"mono\",$Q12550=\"poly\",$Q12550=\"HIT\",$Q12550=\"EFG\",$Q12550=\"mono-LGBC\"),1,2)))","v":1},{"$f":"IF($O12550=\"Sunpower Corp.\",3,(IF(OR($Q12550=\"mono\",$Q12550=\"poly\",$Q12550=\"HIT\",$Q12550=\"EFG\",$Q12550=\"mono-LGBC\"),1,IF(OR($Q12550=\"µc-Si / a-Si\",$Q12550=\"a-Si (single)\",$Q12550=\"a-Si (tandem)\",$Q12550=\"a-Si (triple)\"),3,2))))","v":1},0,null,null,26757,null,null,12550]
["Solar-Fabrik AG Premium S poly (A135)","Solar-Fabrik AG ","Premium S poly (A135)",135,"+1,85...-1,85",17.940000000000001,7.52,21.86,8.08,-72.137999999999991,4.04,-0.47,1000,"Germany",null,13.534119606018066,"poly",36,"square",1491,669,35,"aluminum","others",12.5,"www.solar-fabrik.de",null,null,null,null,null,{"$f":"IF($O12562=\"Sunpower Corp.\",3,(IF(OR($Q12562=\"mono\",$Q12562=\"poly\",$Q12562=\"HIT\",$Q12562=\"EFG\",$Q12562=\"mono-LGBC\"),1,IF(OR($Q12562=\"µc-Si / a-Si\",$Q12562=\"a-Si (single)\",$Q12562=\"a-Si (tandem)\",$Q12562=\"a-Si (triple)\"),3,2))))","v":1},{"$f":"IF($O12562=\"Sunpower Corp.\",3,(IF(OR($Q12562=\"mono\",$Q12562=\"poly\",$Q12562=\"HIT\",$Q12562=\"EFG\",$Q12562=\"mono-LGBC\"),1,2)))","v":1},{"$f":"IF($O12562=\"Sunpower Corp.\",3,(IF(OR($Q12562=\"mono\",$Q12562=\"poly\",$Q12562=\"HIT\",$Q12562=\"EFG\",$Q12562=\"mono-LGBC\"),1,IF(OR($Q12562=\"µc-Si / a-Si\",$Q12562=\"a-Si (single)\",$Q12562=\"a-Si (tandem)\",$Q12562=\"a-Si (triple)\"),3,2))))","v":1},0,null,null,26748,null,null,12562]
["Solarfun Power Holdings Black Diamond SF080-P (85W)","Solarfun Power Holdings ","Black Diamond SF080-P (85W)",85,"+3...-3",17.8,4.78,21.8,5.15,-74.12,2.5750000000000002,-0.48,1000,"China","Solarfun",12.913220405578613,"poly",36,"square",1210,544,45,"aluminum","junction box",8,"www.solarfun-power.com",null,null,null,null,null,{"$f":"IF($O12575=\"Sunpower Corp.\",3,(IF(OR($Q12575=\"mono\",$Q12575=\"poly\",$Q12575=\"HIT\",$Q12575=\"EFG\",$Q12575=\"mono-LGBC\"),1,IF(OR($Q12575=\"µc-Si / a-Si\",$Q12575=\"a-Si (single)\",$Q12575=\"a-Si (tandem)\",$Q12575=\"a-Si (triple)\"),3,2))))","v":1},{"$f":"IF($O12575=\"Sunpower Corp.\",3,(IF(OR($Q12575=\"mono\",$Q12575=\"poly\",$Q12575=\"HIT\",$Q12575=\"EFG\",$Q12575=\"mono-LGBC\"),1,2)))","v":1},{"$f":"IF($O12575=\"Sunpower Corp.\",3,(IF(OR($Q12575=\"mono\",$Q12575=\"poly\",$Q12575=\"HIT\",$Q12575=\"EFG\",$Q12575=\"mono-LGBC\"),1,IF(OR($Q12575=\"µc-Si / a-Si\",$Q12575=\"a-Si (single)\",$Q12575=\"a-Si (tandem)\",$Q12575=\"a-Si (triple)\"),3,2))))","v":1},0,null,null,14490,null,null,12575]
["Solarfun Power Holdings Black Diamond SF190-M (185 W)","Solarfun Power Holdings ","Black Diamond SF190-M (185 W)",185,"+3...-3",26.4,7,33,8.08,-115.5,3.2320000000000002,-0.5,1000,"China","Solarfun",12.38286018371582,"mono",54,"pseudo-square",1494,1000,45,"aluminum","junction box",18,"www.solarfun-power.com",null,null,null,null,null,{"$f":"IF($O12600=\"Sunpower Corp.\",3,(IF(OR($Q12600=\"mono\",$Q12600=\"poly\",$Q12600=\"HIT\",$Q12600=\"EFG\",$Q12600=\"mono-LGBC\"),1,IF(OR($Q12600=\"µc-Si / a-Si\",$Q12600=\"a-Si (single)\",$Q12600=\"a-Si (tandem)\",$Q12600=\"a-Si (triple)\"),3,2))))","v":1},{"$f":"IF($O12600=\"Sunpower Corp.\",3,(IF(OR($Q12600=\"mono\",$Q12600=\"poly\",$Q12600=\"HIT\",$Q12600=\"EFG\",$Q12600=\"mono-LGBC\"),1,2)))","v":1},{"$f":"IF($O12600=\"Sunpower Corp.\",3,(IF(OR($Q12600=\"mono\",$Q12600=\"poly\",$Q12600=\"HIT\",$Q12600=\"EFG\",$Q12600=\"mono-LGBC\"),1,IF(OR($Q12600=\"µc-Si / a-Si\",$Q12600=\"a-Si (single)\",$Q12600=\"a-Si (tandem)\",$Q12600=\"a-Si (triple)\"),3,2))))","v":1},0,null,null,12948,null,null,12600]
["Solarfun Power Holdings Black Diamond SF220-P (240 W)","Solarfun Power Holdings ","Black Diamond SF220-P (240 W)",240,"+3...-3",30.2,7.95,37,8.5399999999999991,-118.4,3.4159999999999999,-0.45,1000,"China","Solarfun",14.527850151062012,"poly",60,"square",1652,1000,50,"aluminum","junction box",23,"www.solarfun-power.com",null,null,null,null,null,{"$f":"IF($O12627=\"Sunpower Corp.\",3,(IF(OR($Q12627=\"mono\",$Q12627=\"poly\",$Q12627=\"HIT\",$Q12627=\"EFG\",$Q12627=\"mono-LGBC\"),1,IF(OR($Q12627=\"µc-Si / a-Si\",$Q12627=\"a-Si (single)\",$Q12627=\"a-Si (tandem)\",$Q12627=\"a-Si (triple)\"),3,2))))","v":1},{"$f":"IF($O12627=\"Sunpower Corp.\",3,(IF(OR($Q12627=\"mono\",$Q12627=\"poly\",$Q12627=\"HIT\",$Q12627=\"EFG\",$Q12627=\"mono-LGBC\"),1,2)))","v":1},{"$f":"IF($O12627=\"Sunpower Corp.\",3,(IF(OR($Q12627=\"mono\",$Q12627=\"poly\",$Q12627=\"HIT\",$Q12627=\"EFG\",$Q12627=\"mono-LGBC\"),1,IF(OR($Q12627=\"µc-Si / a-Si\",$Q12627=\"a-Si (single)\",$Q12627=\"a-Si (tandem)\",$Q12627=\"a-Si (triple)\"),3,2))))","v":1},0,null,null,14517,null,null,12627]
["Solarfun Power Holdings SF120-18-P115","Solarfun Power Holdings ","SF120-18-P115",115,"+3...-3",17.8,6.46,22.15,7.07,-70.88,2.8280000000000003,-0.45,1000,"China","Solarfun",11.353179931640625,"poly",36,"square",1494,678,45,"aluminum","junction box",12,"www.solarfun-power.com",null,null,null,null,null,{"$f":"IF($O12645=\"Sunpower Corp.\",3,(IF(OR($Q12645=\"mono\",$Q12645=\"poly\",$Q12645=\"HIT\",$Q12645=\"EFG\",$Q12645=\"mono-LGBC\"),1,IF(OR($Q12645=\"µc-Si / a-Si\",$Q12645=\"a-Si (single)\",$Q12645=\"a-Si (tandem)\",$Q12645=\"a-Si (triple)\"),3,2))))","v":1},{"$f":"IF($O12645=\"Sunpower Corp.\",3,(IF(OR($Q12645=\"mono\",$Q12645=\"poly\",$Q12645=\"HIT\",$Q12645=\"EFG\",$Q12645=\"mono-LGBC\"),1,2)))","v":1},{"$f":"IF($O12645=\"Sunpower Corp.\",3,(IF(OR($Q12645=\"mono\",$Q12645=\"poly\",$Q12645=\"HIT\",$Q12645=\"EFG\",$Q12645=\"mono-LGBC\"),1,IF(OR($Q12645=\"µc-Si / a-Si\",$Q12645=\"a-Si (single)\",$Q12645=\"a-Si (tandem)\",$Q12645=\"a-Si (triple)\"),3,2))))","v":1},0,null,null,4236,null,null,12645]
["Solarfun Power Holdings SF160-24-1M170 (scac)","Solarfun Power Holdings ","SF160-24-1M170 (scac)",170,"+3...-3",35,4.8600000000000003,43.8,5.36,-144.54,1.6080000000000001,-0.44,1000,"China","Solarfun",13.31620979309082,"mono",72,"square",1580,808,45,"aluminum","junction box",15,"www.solarfun-power.com",null,null,null,null,null,{"$f":"IF($O12653=\"Sunpower Corp.\",3,(IF(OR($Q12653=\"mono\",$Q12653=\"poly\",$Q12653=\"HIT\",$Q12653=\"EFG\",$Q12653=\"mono-LGBC\"),1,IF(OR($Q12653=\"µc-Si / a-Si\",$Q12653=\"a-Si (single)\",$Q12653=\"a-Si (tandem)\",$Q12653=\"a-Si (triple)\"),3,2))))","v":1},{"$f":"IF($O12653=\"Sunpower Corp.\",3,(IF(OR($Q12653=\"mono\",$Q12653=\"poly\",$Q12653=\"HIT\",$Q12653=\"EFG\",$Q12653=\"mono-LGBC\"),1,2)))","v":1},{"$f":"IF($O12653=\"Sunpower Corp.\",3,(IF(OR($Q12653=\"mono\",$Q12653=\"poly\",$Q12653=\"HIT\",$Q12653=\"EFG\",$Q12653=\"mono-LGBC\"),1,IF(OR($Q12653=\"µc-Si / a-Si\",$Q12653=\"a-Si (single)\",$Q12653=\"a-Si (tandem)\",$Q12653=\"a-Si (triple)\"),3,2))))","v":1},0,null,null,27916,null,null,12653]
["Solarfun Power Holdings SF190-27-M190","Solarfun Power Holdings ","SF190-27-M190",190,"+3...-3",26.5,7.17,32.799999999999997,7.93,-114.8,3.1719999999999997,-0.5,1000,"China","Solarfun",12.71753978729248,"mono",54,"pseudo-square",1494,1000,45,"aluminum","junction box",18,"www.solarfun-power.com",null,null,null,null,null,{"$f":"IF($O12690=\"Sunpower Corp.\",3,(IF(OR($Q12690=\"mono\",$Q12690=\"poly\",$Q12690=\"HIT\",$Q12690=\"EFG\",$Q12690=\"mono-LGBC\"),1,IF(OR($Q12690=\"µc-Si / a-Si\",$Q12690=\"a-Si (single)\",$Q12690=\"a-Si (tandem)\",$Q12690=\"a-Si (triple)\"),3,2))))","v":1},{"$f":"IF($O12690=\"Sunpower Corp.\",3,(IF(OR($Q12690=\"mono\",$Q12690=\"poly\",$Q12690=\"HIT\",$Q12690=\"EFG\",$Q12690=\"mono-LGBC\"),1,2)))","v":1},{"$f":"IF($O12690=\"Sunpower Corp.\",3,(IF(OR($Q12690=\"mono\",$Q12690=\"poly\",$Q12690=\"HIT\",$Q12690=\"EFG\",$Q12690=\"mono-LGBC\"),1,IF(OR($Q12690=\"µc-Si / a-Si\",$Q12690=\"a-Si (single)\",$Q12690=\"a-Si (tandem)\",$Q12690=\"a-Si (triple)\"),3,2))))","v":1},0,null,null,4263,null,null,12690]
["Solarfun Power Holdings SF190-27-M200","Solarfun Power Holdings ","SF190-27-M200",200,"+3...-3",26.7,7.49,33,8.19,-115.5,3.2759999999999998,-0.5,1000,"China","Solarfun",13.386879920959473,"mono",54,"pseudo-square",1494,1000,45,"aluminum","junction box",18,"www.solarfun-power.com",null,null,null,null,null,{"$f":"IF($O12692=\"Sunpower Corp.\",3,(IF(OR($Q12692=\"mono\",$Q12692=\"poly\",$Q12692=\"HIT\",$Q12692=\"EFG\",$Q12692=\"mono-LGBC\"),1,IF(OR($Q12692=\"µc-Si / a-Si\",$Q12692=\"a-Si (single)\",$Q12692=\"a-Si (tandem)\",$Q12692=\"a-Si (triple)\"),3,2))))","v":1},{"$f":"IF($O12692=\"Sunpower Corp.\",3,(IF(OR($Q12692=\"mono\",$Q12692=\"poly\",$Q12692=\"HIT\",$Q12692=\"EFG\",$Q12692=\"mono-LGBC\"),1,2)))","v":1},{"$f":"IF($O12692=\"Sunpower Corp.\",3,(IF(OR($Q12692=\"mono\",$Q12692=\"poly\",$Q12692=\"HIT\",$Q12692=\"EFG\",$Q12692=\"mono-LGBC\"),1,IF(OR($Q12692=\"µc-Si / a-Si\",$Q12692=\"a-Si (single)\",$Q12692=\"a-Si (tandem)\",$Q12692=\"a-Si (triple)\"),3,2))))","v":1},0,null,null,4264,null,null,12692]
["Solarfun Power Holdings SF220-30-M225","Solarfun Power Holdings ","SF220-30-M225",225,"+3...-3",30.1,7.48,36.799999999999997,8.16,-128.80000000000001,3.2640000000000002,-0.5,1000,"China","Solarfun",13.619850158691406,"mono",60,"pseudo-square",1652,1000,50,"aluminum","junction box",22,"www.solarfun-power.com",null,null,null,null,null,{"$f":"IF($O12715=\"Sunpower Corp.\",3,(IF(OR($Q12715=\"mono\",$Q12715=\"poly\",$Q12715=\"HIT\",$Q12715=\"EFG\",$Q12715=\"mono-LGBC\"),1,IF(OR($Q12715=\"µc-Si / a-Si\",$Q12715=\"a-Si (single)\",$Q12715=\"a-Si (tandem)\",$Q12715=\"a-Si (triple)\"),3,2))))","v":1},{"$f":"IF($O12715=\"Sunpower Corp.\",3,(IF(OR($Q12715=\"mono\",$Q12715=\"poly\",$Q12715=\"HIT\",$Q12715=\"EFG\",$Q12715=\"mono-LGBC\"),1,2)))","v":1},{"$f":"IF($O12715=\"Sunpower Corp.\",3,(IF(OR($Q12715=\"mono\",$Q12715=\"poly\",$Q12715=\"HIT\",$Q12715=\"EFG\",$Q12715=\"mono-LGBC\"),1,IF(OR($Q12715=\"µc-Si / a-Si\",$Q12715=\"a-Si (single)\",$Q12715=\"a-Si (tandem)\",$Q12715=\"a-Si (triple)\"),3,2))))","v":1},0,null,null,5957,null,null,12715]
["Solarfun Power Holdings SF260-36-M275","Solarfun Power Holdings ","SF260-36-M275",275,"+3...-3",36.299999999999997,7.6,44.5,8.2799999999999994,-155.75,3.3119999999999998,-0.5,1000,"China","Solarfun",13.987790107727051,"mono",72,"pseudo-square",1966,1000,50,"aluminum","junction box",26,"www.solarfun-power.com",null,null,null,null,null,{"$f":"IF($O12737=\"Sunpower Corp.\",3,(IF(OR($Q12737=\"mono\",$Q12737=\"poly\",$Q12737=\"HIT\",$Q12737=\"EFG\",$Q12737=\"mono-LGBC\"),1,IF(OR($Q12737=\"µc-Si / a-Si\",$Q12737=\"a-Si (single)\",$Q12737=\"a-Si (tandem)\",$Q12737=\"a-Si (triple)\"),3,2))))","v":1},{"$f":"IF($O12737=\"Sunpower Corp.\",3,(IF(OR($Q12737=\"mono\",$Q12737=\"poly\",$Q12737=\"HIT\",$Q12737=\"EFG\",$Q12737=\"mono-LGBC\"),1,2)))","v":1},{"$f":"IF($O12737=\"Sunpower Corp.\",3,(IF(OR($Q12737=\"mono\",$Q12737=\"poly\",$Q12737=\"HIT\",$Q12737=\"EFG\",$Q12737=\"mono-LGBC\"),1,IF(OR($Q12737=\"µc-Si / a-Si\",$Q12737=\"a-Si (single)\",$Q12737=\"a-Si (tandem)\",$Q12737=\"a-Si (triple)\"),3,2))))","v":1},0,null,null,5975,null,null,12737]
["Solaria Energía y Medio Ambiente S.L. S5M155","Solaria Energía y Medio Ambiente S.L. ","S5M155",155,"+3,23...0",34.520000000000003,4.49,43.5,4.95,-134.85,2.1285000000000003,-0.44,1000,null,null,12.386520385742188,"mono",72,"pseudo-square",1584,790,35,"aluminum","cable Tyco",14.3,"www.solariaenergia.com",null,null,null,null,null,{"$f":"IF($O12764=\"Sunpower Corp.\",3,(IF(OR($Q12764=\"mono\",$Q12764=\"poly\",$Q12764=\"HIT\",$Q12764=\"EFG\",$Q12764=\"mono-LGBC\"),1,IF(OR($Q12764=\"µc-Si / a-Si\",$Q12764=\"a-Si (single)\",$Q12764=\"a-Si (tandem)\",$Q12764=\"a-Si (triple)\"),3,2))))","v":1},{"$f":"IF($O12764=\"Sunpower Corp.\",3,(IF(OR($Q12764=\"mono\",$Q12764=\"poly\",$Q12764=\"HIT\",$Q12764=\"EFG\",$Q12764=\"mono-LGBC\"),1,2)))","v":1},{"$f":"IF($O12764=\"Sunpower Corp.\",3,(IF(OR($Q12764=\"mono\",$Q12764=\"poly\",$Q12764=\"HIT\",$Q12764=\"EFG\",$Q12764=\"mono-LGBC\"),1,IF(OR($Q12764=\"µc-Si / a-Si\",$Q12764=\"a-Si (single)\",$Q12764=\"a-Si (tandem)\",$Q12764=\"a-Si (triple)\"),3,2))))","v":1},0,null,null,14998,null,null,12764]
["Solaria Energía y Medio Ambiente S.L. S6Ps125","Solaria Energía y Medio Ambiente S.L. ","S6Ps125",125,"+4...0",17.190000000000001,7.27,21.81,8.1300000000000008,-63.248999999999988,1.6260000000000003,-0.43,1000,"Spain",null,12.500800132751465,"poly",60,"square",1488,672,35,"aluminum","cable Tyco",11.5,"www.solariaenergia.com",null,null,null,null,null,{"$f":"IF($O12782=\"Sunpower Corp.\",3,(IF(OR($Q12782=\"mono\",$Q12782=\"poly\",$Q12782=\"HIT\",$Q12782=\"EFG\",$Q12782=\"mono-LGBC\"),1,IF(OR($Q12782=\"µc-Si / a-Si\",$Q12782=\"a-Si (single)\",$Q12782=\"a-Si (tandem)\",$Q12782=\"a-Si (triple)\"),3,2))))","v":1},{"$f":"IF($O12782=\"Sunpower Corp.\",3,(IF(OR($Q12782=\"mono\",$Q12782=\"poly\",$Q12782=\"HIT\",$Q12782=\"EFG\",$Q12782=\"mono-LGBC\"),1,2)))","v":1},{"$f":"IF($O12782=\"Sunpower Corp.\",3,(IF(OR($Q12782=\"mono\",$Q12782=\"poly\",$Q12782=\"HIT\",$Q12782=\"EFG\",$Q12782=\"mono-LGBC\"),1,IF(OR($Q12782=\"µc-Si / a-Si\",$Q12782=\"a-Si (single)\",$Q12782=\"a-Si (tandem)\",$Q12782=\"a-Si (triple)\"),3,2))))","v":1},0,null,null,26633,null,null,12782]
["SOLARION AG SOL100GG (115)","SOLARION AG ","SOL100GG (115)",115,"+5...-5",17.5,6.57,24.1,7.61,-84.35,0.76100000000000012,-0.45,1000,null,null,10.89015007019043,"CIGS",270,null,1320,800,7,"frameless","cable MC new",15.5,"www.solarion.de",null,null,null,null,null,{"$f":"IF($O12789=\"Sunpower Corp.\",3,(IF(OR($Q12789=\"mono\",$Q12789=\"poly\",$Q12789=\"HIT\",$Q12789=\"EFG\",$Q12789=\"mono-LGBC\"),1,IF(OR($Q12789=\"µc-Si / a-Si\",$Q12789=\"a-Si (single)\",$Q12789=\"a-Si (tandem)\",$Q12789=\"a-Si (triple)\"),3,2))))","v":2},{"$f":"IF($O12789=\"Sunpower Corp.\",3,(IF(OR($Q12789=\"mono\",$Q12789=\"poly\",$Q12789=\"HIT\",$Q12789=\"EFG\",$Q12789=\"mono-LGBC\"),1,2)))","v":2},{"$f":"IF($O12789=\"Sunpower Corp.\",3,(IF(OR($Q12789=\"mono\",$Q12789=\"poly\",$Q12789=\"HIT\",$Q12789=\"EFG\",$Q12789=\"mono-LGBC\"),1,IF(OR($Q12789=\"µc-Si / a-Si\",$Q12789=\"a-Si (single)\",$Q12789=\"a-Si (tandem)\",$Q12789=\"a-Si (triple)\"),3,2))))","v":2},0,null,null,24868,null,null,12789]
["SolarQ Schoenau A.E. SQ 175-24(180)","SolarQ Schoenau A.E. ","SQ 175-24(180)",180,"+5...-5",36,5,45,5.2,-171,2.08,-0.4,748,null,null,14.099510192871094,"mono",72,null,1580,808,45,"aluminum","junction box",15,null,null,null,null,null,null,{"$f":"IF($O12808=\"Sunpower Corp.\",3,(IF(OR($Q12808=\"mono\",$Q12808=\"poly\",$Q12808=\"HIT\",$Q12808=\"EFG\",$Q12808=\"mono-LGBC\"),1,IF(OR($Q12808=\"µc-Si / a-Si\",$Q12808=\"a-Si (single)\",$Q12808=\"a-Si (tandem)\",$Q12808=\"a-Si (triple)\"),3,2))))","v":1},{"$f":"IF($O12808=\"Sunpower Corp.\",3,(IF(OR($Q12808=\"mono\",$Q12808=\"poly\",$Q12808=\"HIT\",$Q12808=\"EFG\",$Q12808=\"mono-LGBC\"),1,2)))","v":1},{"$f":"IF($O12808=\"Sunpower Corp.\",3,(IF(OR($Q12808=\"mono\",$Q12808=\"poly\",$Q12808=\"HIT\",$Q12808=\"EFG\",$Q12808=\"mono-LGBC\"),1,IF(OR($Q12808=\"µc-Si / a-Si\",$Q12808=\"a-Si (single)\",$Q12808=\"a-Si (tandem)\",$Q12808=\"a-Si (triple)\"),3,2))))","v":1},0,null,null,4184,null,null,12808]
["Solartec Energia Renovable S72PC-255","Solartec Energia Renovable ","S72PC-255",255,"+...",34.299999999999997,7.44,43.8,7.94,-153.738,2.7790000000000008,-0.47,null,null,null,13.141949653625488,"poly",72,"square",1956,992,50,"aluminum","cable MC new",25,"www.solartec.mx",null,null,null,null,null,{"$f":"IF($O12834=\"Sunpower Corp.\",3,(IF(OR($Q12834=\"mono\",$Q12834=\"poly\",$Q12834=\"HIT\",$Q12834=\"EFG\",$Q12834=\"mono-LGBC\"),1,IF(OR($Q12834=\"µc-Si / a-Si\",$Q12834=\"a-Si (single)\",$Q12834=\"a-Si (tandem)\",$Q12834=\"a-Si (triple)\"),3,2))))","v":1},{"$f":"IF($O12834=\"Sunpower Corp.\",3,(IF(OR($Q12834=\"mono\",$Q12834=\"poly\",$Q12834=\"HIT\",$Q12834=\"EFG\",$Q12834=\"mono-LGBC\"),1,2)))","v":1},{"$f":"IF($O12834=\"Sunpower Corp.\",3,(IF(OR($Q12834=\"mono\",$Q12834=\"poly\",$Q12834=\"HIT\",$Q12834=\"EFG\",$Q12834=\"mono-LGBC\"),1,IF(OR($Q12834=\"µc-Si / a-Si\",$Q12834=\"a-Si (single)\",$Q12834=\"a-Si (tandem)\",$Q12834=\"a-Si (triple)\"),3,2))))","v":1},0,null,null,21169,null,null,12834]
["Solartec s.r.o. SG-175-5Z","Solartec s.r.o. ","SG-175-5Z",175,"+5...-5",35.9,4.88,43.7,5.3,-166.06,2.12,-0.47,850,"Czech Republic","Solartec s.r.o.",12.503259658813477,"mono",50,"pseudo-square",1637,855,35,"aluminum","junction box H + S",17,"www.solartec.cz",null,null,null,null,null,{"$f":"IF($O12847=\"Sunpower Corp.\",3,(IF(OR($Q12847=\"mono\",$Q12847=\"poly\",$Q12847=\"HIT\",$Q12847=\"EFG\",$Q12847=\"mono-LGBC\"),1,IF(OR($Q12847=\"µc-Si / a-Si\",$Q12847=\"a-Si (single)\",$Q12847=\"a-Si (tandem)\",$Q12847=\"a-Si (triple)\"),3,2))))","v":1},{"$f":"IF($O12847=\"Sunpower Corp.\",3,(IF(OR($Q12847=\"mono\",$Q12847=\"poly\",$Q12847=\"HIT\",$Q12847=\"EFG\",$Q12847=\"mono-LGBC\"),1,2)))","v":1},{"$f":"IF($O12847=\"Sunpower Corp.\",3,(IF(OR($Q12847=\"mono\",$Q12847=\"poly\",$Q12847=\"HIT\",$Q12847=\"EFG\",$Q12847=\"mono-LGBC\"),1,IF(OR($Q12847=\"µc-Si / a-Si\",$Q12847=\"a-Si (single)\",$Q12847=\"a-Si (tandem)\",$Q12847=\"a-Si (triple)\"),3,2))))","v":1},0,null,null,5509,null,null,12847]
["SolarVolt 250S","SolarVolt ","250S",250,"+3...0",34.6,7.23,43.8,7.87,-170.82,2.3609999999999998,-0.44,1000,"China",null,12.884260177612305,"poly",72,"square",1956,992,50,"aluminum","junction box MC4",24,null,null,null,null,null,null,{"$f":"IF($O12879=\"Sunpower Corp.\",3,(IF(OR($Q12879=\"mono\",$Q12879=\"poly\",$Q12879=\"HIT\",$Q12879=\"EFG\",$Q12879=\"mono-LGBC\"),1,IF(OR($Q12879=\"µc-Si / a-Si\",$Q12879=\"a-Si (single)\",$Q12879=\"a-Si (tandem)\",$Q12879=\"a-Si (triple)\"),3,2))))","v":1},{"$f":"IF($O12879=\"Sunpower Corp.\",3,(IF(OR($Q12879=\"mono\",$Q12879=\"poly\",$Q12879=\"HIT\",$Q12879=\"EFG\",$Q12879=\"mono-LGBC\"),1,2)))","v":1},{"$f":"IF($O12879=\"Sunpower Corp.\",3,(IF(OR($Q12879=\"mono\",$Q12879=\"poly\",$Q12879=\"HIT\",$Q12879=\"EFG\",$Q12879=\"mono-LGBC\"),1,IF(OR($Q12879=\"µc-Si / a-Si\",$Q12879=\"a-Si (single)\",$Q12879=\"a-Si (tandem)\",$Q12879=\"a-Si (triple)\"),3,2))))","v":1},0,null,null,18919,null,null,12879]
["Solarwatt AG BLUE 60P (255)","Solarwatt AG ","BLUE 60P (255)",255,"+5...-5",30.4,8.39,37.799999999999997,8.77,-124.74,3.508,-0.38,1000,null,null,15.33189,"poly",60,"square",1680,990,40,"aluminum","junction box Tyco",19,"www.solarwatt.de",null,null,null,null,null,1,1,1,0,null,null,null,null,null,12892]
["Solarwatt AG M140-36 GEG LK XL (135)","Solarwatt AG ","M140-36 GEG LK XL (135)",135,"+5...-5",18.3,7.4,22,8.56,-81.400000000000006,2.5680000000000001,-0.5,1000,"Germany",null,10.546879768371582,"mono",36,"pseudo-square",1600,800,9,"frameless",null,29,"www.solarwatt.de",null,null,null,null,null,{"$f":"IF($O12908=\"Sunpower Corp.\",3,(IF(OR($Q12908=\"mono\",$Q12908=\"poly\",$Q12908=\"HIT\",$Q12908=\"EFG\",$Q12908=\"mono-LGBC\"),1,IF(OR($Q12908=\"µc-Si / a-Si\",$Q12908=\"a-Si (single)\",$Q12908=\"a-Si (tandem)\",$Q12908=\"a-Si (triple)\"),3,2))))","v":1},{"$f":"IF($O12908=\"Sunpower Corp.\",3,(IF(OR($Q12908=\"mono\",$Q12908=\"poly\",$Q12908=\"HIT\",$Q12908=\"EFG\",$Q12908=\"mono-LGBC\"),1,2)))","v":1},{"$f":"IF($O12908=\"Sunpower Corp.\",3,(IF(OR($Q12908=\"mono\",$Q12908=\"poly\",$Q12908=\"HIT\",$Q12908=\"EFG\",$Q12908=\"mono-LGBC\"),1,IF(OR($Q12908=\"µc-Si / a-Si\",$Q12908=\"a-Si (single)\",$Q12908=\"a-Si (tandem)\",$Q12908=\"a-Si (triple)\"),3,2))))","v":1},0,null,null,9162,null,null,12908]
["Solarwatt AG M220-60 GET AK black (230W)","Solarwatt AG ","M220-60 GET AK black (230W)",230,"+2...0",29.1,7.92,36.299999999999997,8.48,-134.31,2.544,-0.5,1000,"Germany",null,13.828760147094727,"mono",60,"pseudo-square",1680,990,50,"aluminum","junction box Tyco",24,"www.solarwatt.de",null,null,null,null,null,{"$f":"IF($O12937=\"Sunpower Corp.\",3,(IF(OR($Q12937=\"mono\",$Q12937=\"poly\",$Q12937=\"HIT\",$Q12937=\"EFG\",$Q12937=\"mono-LGBC\"),1,IF(OR($Q12937=\"µc-Si / a-Si\",$Q12937=\"a-Si (single)\",$Q12937=\"a-Si (tandem)\",$Q12937=\"a-Si (triple)\"),3,2))))","v":1},{"$f":"IF($O12937=\"Sunpower Corp.\",3,(IF(OR($Q12937=\"mono\",$Q12937=\"poly\",$Q12937=\"HIT\",$Q12937=\"EFG\",$Q12937=\"mono-LGBC\"),1,2)))","v":1},{"$f":"IF($O12937=\"Sunpower Corp.\",3,(IF(OR($Q12937=\"mono\",$Q12937=\"poly\",$Q12937=\"HIT\",$Q12937=\"EFG\",$Q12937=\"mono-LGBC\"),1,IF(OR($Q12937=\"µc-Si / a-Si\",$Q12937=\"a-Si (single)\",$Q12937=\"a-Si (tandem)\",$Q12937=\"a-Si (triple)\"),3,2))))","v":1},0,null,null,24841,null,null,12937]
["Solarwatt AG M230-96 GET LK (215)","Solarwatt AG ","M230-96 GET LK (215)",215,"+5...-5",47,4.5999999999999996,58.3,5.07,-215.71,1.5209999999999999,-0.5,1000,"Germany",null,12.717260360717773,"mono",96,"pseudo-square",1604,1054,5,"frameless",null,24,"www.solarwatt.de",null,null,null,null,null,{"$f":"IF($O12953=\"Sunpower Corp.\",3,(IF(OR($Q12953=\"mono\",$Q12953=\"poly\",$Q12953=\"HIT\",$Q12953=\"EFG\",$Q12953=\"mono-LGBC\"),1,IF(OR($Q12953=\"µc-Si / a-Si\",$Q12953=\"a-Si (single)\",$Q12953=\"a-Si (tandem)\",$Q12953=\"a-Si (triple)\"),3,2))))","v":1},{"$f":"IF($O12953=\"Sunpower Corp.\",3,(IF(OR($Q12953=\"mono\",$Q12953=\"poly\",$Q12953=\"HIT\",$Q12953=\"EFG\",$Q12953=\"mono-LGBC\"),1,2)))","v":1},{"$f":"IF($O12953=\"Sunpower Corp.\",3,(IF(OR($Q12953=\"mono\",$Q12953=\"poly\",$Q12953=\"HIT\",$Q12953=\"EFG\",$Q12953=\"mono-LGBC\"),1,IF(OR($Q12953=\"µc-Si / a-Si\",$Q12953=\"a-Si (single)\",$Q12953=\"a-Si (tandem)\",$Q12953=\"a-Si (triple)\"),3,2))))","v":1},0,null,null,15173,null,null,12953]
["Solarwatt AG M270-72 GET AK (285)","Solarwatt AG ","M270-72 GET AK (285)",285,"+5...-5",35.9,7.94,43.8,8.18,-162.06,2.4539999999999997,-0.5,1000,null,null,14.393939971923828,"mono",72,"pseudo-square",2000,990,50,"aluminum","junction box Tyco",29,"www.solarwatt.de",null,null,null,null,null,{"$f":"IF($O12982=\"Sunpower Corp.\",3,(IF(OR($Q12982=\"mono\",$Q12982=\"poly\",$Q12982=\"HIT\",$Q12982=\"EFG\",$Q12982=\"mono-LGBC\"),1,IF(OR($Q12982=\"µc-Si / a-Si\",$Q12982=\"a-Si (single)\",$Q12982=\"a-Si (tandem)\",$Q12982=\"a-Si (triple)\"),3,2))))","v":1},{"$f":"IF($O12982=\"Sunpower Corp.\",3,(IF(OR($Q12982=\"mono\",$Q12982=\"poly\",$Q12982=\"HIT\",$Q12982=\"EFG\",$Q12982=\"mono-LGBC\"),1,2)))","v":1},{"$f":"IF($O12982=\"Sunpower Corp.\",3,(IF(OR($Q12982=\"mono\",$Q12982=\"poly\",$Q12982=\"HIT\",$Q12982=\"EFG\",$Q12982=\"mono-LGBC\"),1,IF(OR($Q12982=\"µc-Si / a-Si\",$Q12982=\"a-Si (single)\",$Q12982=\"a-Si (tandem)\",$Q12982=\"a-Si (triple)\"),3,2))))","v":1},0,null,null,25518,null,null,12982]
["Solarwatt AG ORANGE 54M (235)","Solarwatt AG ","ORANGE 54M (235)",235,"+5...-5",28.7,8.19,34.5,8.6,-113.85,4.3,-0.41,1000,"Germany",null,15.61669,"mono",54,"pseudo-square",1520,990,50,"aluminum","junction box MC4",21,"www.solarwatt.de",null,null,null,null,null,{"$f":"IF($O12998=\"Sunpower Corp.\",3,(IF(OR($Q12998=\"mono\",$Q12998=\"poly\",$Q12998=\"HIT\",$Q12998=\"EFG\",$Q12998=\"mono-LGBC\"),1,IF(OR($Q12998=\"µc-Si / a-Si\",$Q12998=\"a-Si (single)\",$Q12998=\"a-Si (tandem)\",$Q12998=\"a-Si (triple)\"),3,2))))","v":1},{"$f":"IF($O12998=\"Sunpower Corp.\",3,(IF(OR($Q12998=\"mono\",$Q12998=\"poly\",$Q12998=\"HIT\",$Q12998=\"EFG\",$Q12998=\"mono-LGBC\"),1,2)))","v":1},{"$f":"IF($O12998=\"Sunpower Corp.\",3,(IF(OR($Q12998=\"mono\",$Q12998=\"poly\",$Q12998=\"HIT\",$Q12998=\"EFG\",$Q12998=\"mono-LGBC\"),1,IF(OR($Q12998=\"µc-Si / a-Si\",$Q12998=\"a-Si (single)\",$Q12998=\"a-Si (tandem)\",$Q12998=\"a-Si (triple)\"),3,2))))","v":1},0,null,null,null,null,null,12998]
["Solarwatt AG ORANGE 60P (245)","Solarwatt AG ","ORANGE 60P (245)",245,"+5...-5",30.6,8.01,37.299999999999997,8.41,-119.36,4.2050000000000001,-0.39,1000,null,null,14.730639999999999,"poly",60,null,1680,990,50,"aluminum","junction box MC4",24,"www.solarwatt.de",null,null,null,null,null,{"$f":"IF($O13021=\"Sunpower Corp.\",3,(IF(OR($Q13021=\"mono\",$Q13021=\"poly\",$Q13021=\"HIT\",$Q13021=\"EFG\",$Q13021=\"mono-LGBC\"),1,IF(OR($Q13021=\"µc-Si / a-Si\",$Q13021=\"a-Si (single)\",$Q13021=\"a-Si (tandem)\",$Q13021=\"a-Si (triple)\"),3,2))))","v":1},{"$f":"IF($O13021=\"Sunpower Corp.\",3,(IF(OR($Q13021=\"mono\",$Q13021=\"poly\",$Q13021=\"HIT\",$Q13021=\"EFG\",$Q13021=\"mono-LGBC\"),1,2)))","v":1},{"$f":"IF($O13021=\"Sunpower Corp.\",3,(IF(OR($Q13021=\"mono\",$Q13021=\"poly\",$Q13021=\"HIT\",$Q13021=\"EFG\",$Q13021=\"mono-LGBC\"),1,IF(OR($Q13021=\"µc-Si / a-Si\",$Q13021=\"a-Si (single)\",$Q13021=\"a-Si (tandem)\",$Q13021=\"a-Si (triple)\"),3,2))))","v":1},0,null,null,null,null,null,13021]
["Solarwatt AG ORANGE 60P (255)","Solarwatt AG ","ORANGE 60P (255)",255,"+5...-5",31,8.24,37.9,8.57,-121.28,4.2850000000000001,-0.39,1000,null,null,15.33189,"poly",60,null,1680,990,50,"aluminum","junction box MC4",24,"www.solarwatt.de",null,null,null,null,null,{"$f":"IF($O13023=\"Sunpower Corp.\",3,(IF(OR($Q13023=\"mono\",$Q13023=\"poly\",$Q13023=\"HIT\",$Q13023=\"EFG\",$Q13023=\"mono-LGBC\"),1,IF(OR($Q13023=\"µc-Si / a-Si\",$Q13023=\"a-Si (single)\",$Q13023=\"a-Si (tandem)\",$Q13023=\"a-Si (triple)\"),3,2))))","v":1},{"$f":"IF($O13023=\"Sunpower Corp.\",3,(IF(OR($Q13023=\"mono\",$Q13023=\"poly\",$Q13023=\"HIT\",$Q13023=\"EFG\",$Q13023=\"mono-LGBC\"),1,2)))","v":1},{"$f":"IF($O13023=\"Sunpower Corp.\",3,(IF(OR($Q13023=\"mono\",$Q13023=\"poly\",$Q13023=\"HIT\",$Q13023=\"EFG\",$Q13023=\"mono-LGBC\"),1,IF(OR($Q13023=\"µc-Si / a-Si\",$Q13023=\"a-Si (single)\",$Q13023=\"a-Si (tandem)\",$Q13023=\"a-Si (triple)\"),3,2))))","v":1},0,null,null,null,null,null,13023]
["Solarwatt AG P220-60 GET AK (230)","Solarwatt AG ","P220-60 GET AK (230)",230,"+5...-5",47.8,4.8,58.9,5.22,-206.15,2.61,-0.46,1000,"Germany",null,13.477089881896973,"poly",96,"square",1610,1060,50,"aluminum",null,24,"www.solarwatt.de",null,null,null,null,null,{"$f":"IF($O13047=\"Sunpower Corp.\",3,(IF(OR($Q13047=\"mono\",$Q13047=\"poly\",$Q13047=\"HIT\",$Q13047=\"EFG\",$Q13047=\"mono-LGBC\"),1,IF(OR($Q13047=\"µc-Si / a-Si\",$Q13047=\"a-Si (single)\",$Q13047=\"a-Si (tandem)\",$Q13047=\"a-Si (triple)\"),3,2))))","v":1},{"$f":"IF($O13047=\"Sunpower Corp.\",3,(IF(OR($Q13047=\"mono\",$Q13047=\"poly\",$Q13047=\"HIT\",$Q13047=\"EFG\",$Q13047=\"mono-LGBC\"),1,2)))","v":1},{"$f":"IF($O13047=\"Sunpower Corp.\",3,(IF(OR($Q13047=\"mono\",$Q13047=\"poly\",$Q13047=\"HIT\",$Q13047=\"EFG\",$Q13047=\"mono-LGBC\"),1,IF(OR($Q13047=\"µc-Si / a-Si\",$Q13047=\"a-Si (single)\",$Q13047=\"a-Si (tandem)\",$Q13047=\"a-Si (triple)\"),3,2))))","v":1},0,null,null,15237,null,null,13047]
["Solarwood Folkendange S.A. MS-5-1120-980-MB","Solarwood Folkendange S.A. ","MS-5-1120-980-MB",125,"+3...-3",16.68,7.5,20.5,8.18,-71.75,1.6360000000000001,-0.56999999999999995,1000,"Luxembourg","diverse",12.755100250244141,"mono",36,"pseudo-square",1120,980,null,"frameless","junction box MC",18,"www.solarwood.lu",null,null,null,null,null,{"$f":"IF($O13068=\"Sunpower Corp.\",3,(IF(OR($Q13068=\"mono\",$Q13068=\"poly\",$Q13068=\"HIT\",$Q13068=\"EFG\",$Q13068=\"mono-LGBC\"),1,IF(OR($Q13068=\"µc-Si / a-Si\",$Q13068=\"a-Si (single)\",$Q13068=\"a-Si (tandem)\",$Q13068=\"a-Si (triple)\"),3,2))))","v":1},{"$f":"IF($O13068=\"Sunpower Corp.\",3,(IF(OR($Q13068=\"mono\",$Q13068=\"poly\",$Q13068=\"HIT\",$Q13068=\"EFG\",$Q13068=\"mono-LGBC\"),1,2)))","v":1},{"$f":"IF($O13068=\"Sunpower Corp.\",3,(IF(OR($Q13068=\"mono\",$Q13068=\"poly\",$Q13068=\"HIT\",$Q13068=\"EFG\",$Q13068=\"mono-LGBC\"),1,IF(OR($Q13068=\"µc-Si / a-Si\",$Q13068=\"a-Si (single)\",$Q13068=\"a-Si (tandem)\",$Q13068=\"a-Si (triple)\"),3,2))))","v":1},0,null,null,5888,null,null,13068]
["Solarworld AG Sunmodule Plus SW 240 mono","Solarworld AG ","Sunmodule Plus SW 240 mono",240,"+3...-3",30.6,7.87,37.6,8.2200000000000006,-124.08,3.4524000000000004,-0.45,1000,"USA","Solarworld AG",14.314040184020996,"mono",60,"pseudo-square",1675,1001,31,"aluminum","cable MC new",22,"www.solarworld.com",null,null,null,null,null,{"$f":"IF($O13092=\"Sunpower Corp.\",3,(IF(OR($Q13092=\"mono\",$Q13092=\"poly\",$Q13092=\"HIT\",$Q13092=\"EFG\",$Q13092=\"mono-LGBC\"),1,IF(OR($Q13092=\"µc-Si / a-Si\",$Q13092=\"a-Si (single)\",$Q13092=\"a-Si (tandem)\",$Q13092=\"a-Si (triple)\"),3,2))))","v":1},{"$f":"IF($O13092=\"Sunpower Corp.\",3,(IF(OR($Q13092=\"mono\",$Q13092=\"poly\",$Q13092=\"HIT\",$Q13092=\"EFG\",$Q13092=\"mono-LGBC\"),1,2)))","v":1},{"$f":"IF($O13092=\"Sunpower Corp.\",3,(IF(OR($Q13092=\"mono\",$Q13092=\"poly\",$Q13092=\"HIT\",$Q13092=\"EFG\",$Q13092=\"mono-LGBC\"),1,IF(OR($Q13092=\"µc-Si / a-Si\",$Q13092=\"a-Si (single)\",$Q13092=\"a-Si (tandem)\",$Q13092=\"a-Si (triple)\"),3,2))))","v":1},0,null,null,14444,null,null,13092]
["Solecho srl DT180-24","Solecho srl ","DT180-24",180,"+3...-3",35.200000000000003,5.1100000000000003,43.6,5.51,-152.6,3.3059999999999996,-0.45,1000,null,null,14.099510192871094,"mono",72,"pseudo-square",1580,808,35,"aluminum","junction box",15.5,"www.solecho.it",null,null,null,null,null,{"$f":"IF($O13117=\"Sunpower Corp.\",3,(IF(OR($Q13117=\"mono\",$Q13117=\"poly\",$Q13117=\"HIT\",$Q13117=\"EFG\",$Q13117=\"mono-LGBC\"),1,IF(OR($Q13117=\"µc-Si / a-Si\",$Q13117=\"a-Si (single)\",$Q13117=\"a-Si (tandem)\",$Q13117=\"a-Si (triple)\"),3,2))))","v":1},{"$f":"IF($O13117=\"Sunpower Corp.\",3,(IF(OR($Q13117=\"mono\",$Q13117=\"poly\",$Q13117=\"HIT\",$Q13117=\"EFG\",$Q13117=\"mono-LGBC\"),1,2)))","v":1},{"$f":"IF($O13117=\"Sunpower Corp.\",3,(IF(OR($Q13117=\"mono\",$Q13117=\"poly\",$Q13117=\"HIT\",$Q13117=\"EFG\",$Q13117=\"mono-LGBC\"),1,IF(OR($Q13117=\"µc-Si / a-Si\",$Q13117=\"a-Si (single)\",$Q13117=\"a-Si (tandem)\",$Q13117=\"a-Si (triple)\"),3,2))))","v":1},0,null,null,19200,null,null,13117]
["Solecho srl SST155 BLACK","Solecho srl ","SST155 BLACK",155,"+3...-3",34.799999999999997,4.46,43.8,5.12,-162.06,1.5359999999999998,-0.52,1000,null,null,12.141249656677246,"mono",72,"pseudo-square",1580,808,35,"aluminum","junction box",15.6,"www.solecho.it",null,null,null,null,null,{"$f":"IF($O13137=\"Sunpower Corp.\",3,(IF(OR($Q13137=\"mono\",$Q13137=\"poly\",$Q13137=\"HIT\",$Q13137=\"EFG\",$Q13137=\"mono-LGBC\"),1,IF(OR($Q13137=\"µc-Si / a-Si\",$Q13137=\"a-Si (single)\",$Q13137=\"a-Si (tandem)\",$Q13137=\"a-Si (triple)\"),3,2))))","v":1},{"$f":"IF($O13137=\"Sunpower Corp.\",3,(IF(OR($Q13137=\"mono\",$Q13137=\"poly\",$Q13137=\"HIT\",$Q13137=\"EFG\",$Q13137=\"mono-LGBC\"),1,2)))","v":1},{"$f":"IF($O13137=\"Sunpower Corp.\",3,(IF(OR($Q13137=\"mono\",$Q13137=\"poly\",$Q13137=\"HIT\",$Q13137=\"EFG\",$Q13137=\"mono-LGBC\"),1,IF(OR($Q13137=\"µc-Si / a-Si\",$Q13137=\"a-Si (single)\",$Q13137=\"a-Si (tandem)\",$Q13137=\"a-Si (triple)\"),3,2))))","v":1},0,null,null,19407,null,null,13137]
["Solecho srl SST165-72M","Solecho srl ","SST165-72M",165,"+3...-3",35,4.72,44.2,5.21,-163.54,1.5629999999999999,-0.52,1000,null,null,12.92455005645752,"mono",72,"pseudo-square",1580,808,35,"aluminum","junction box",15.6,"www.solecho.it",null,null,null,null,null,{"$f":"IF($O13142=\"Sunpower Corp.\",3,(IF(OR($Q13142=\"mono\",$Q13142=\"poly\",$Q13142=\"HIT\",$Q13142=\"EFG\",$Q13142=\"mono-LGBC\"),1,IF(OR($Q13142=\"µc-Si / a-Si\",$Q13142=\"a-Si (single)\",$Q13142=\"a-Si (tandem)\",$Q13142=\"a-Si (triple)\"),3,2))))","v":1},{"$f":"IF($O13142=\"Sunpower Corp.\",3,(IF(OR($Q13142=\"mono\",$Q13142=\"poly\",$Q13142=\"HIT\",$Q13142=\"EFG\",$Q13142=\"mono-LGBC\"),1,2)))","v":1},{"$f":"IF($O13142=\"Sunpower Corp.\",3,(IF(OR($Q13142=\"mono\",$Q13142=\"poly\",$Q13142=\"HIT\",$Q13142=\"EFG\",$Q13142=\"mono-LGBC\"),1,IF(OR($Q13142=\"µc-Si / a-Si\",$Q13142=\"a-Si (single)\",$Q13142=\"a-Si (tandem)\",$Q13142=\"a-Si (triple)\"),3,2))))","v":1},0,null,null,19356,null,null,13142]
["Solecho srl SSTBPW225-60P","Solecho srl ","SSTBPW225-60P",225,"+3...-3",30,7.51,37.200000000000003,8.27,-223.2,4.9619999999999997,-0.5,1000,null,null,13.858090400695801,"poly",60,"square",1640,990,40,"aluminum","junction box MC4",20,"www.solecho.it",null,null,null,null,null,{"$f":"IF($O13176=\"Sunpower Corp.\",3,(IF(OR($Q13176=\"mono\",$Q13176=\"poly\",$Q13176=\"HIT\",$Q13176=\"EFG\",$Q13176=\"mono-LGBC\"),1,IF(OR($Q13176=\"µc-Si / a-Si\",$Q13176=\"a-Si (single)\",$Q13176=\"a-Si (tandem)\",$Q13176=\"a-Si (triple)\"),3,2))))","v":1},{"$f":"IF($O13176=\"Sunpower Corp.\",3,(IF(OR($Q13176=\"mono\",$Q13176=\"poly\",$Q13176=\"HIT\",$Q13176=\"EFG\",$Q13176=\"mono-LGBC\"),1,2)))","v":1},{"$f":"IF($O13176=\"Sunpower Corp.\",3,(IF(OR($Q13176=\"mono\",$Q13176=\"poly\",$Q13176=\"HIT\",$Q13176=\"EFG\",$Q13176=\"mono-LGBC\"),1,IF(OR($Q13176=\"µc-Si / a-Si\",$Q13176=\"a-Si (single)\",$Q13176=\"a-Si (tandem)\",$Q13176=\"a-Si (triple)\"),3,2))))","v":1},0,null,null,32699,null,null,13176]
["SOLEOTECH International PV-200M-60M-Mono","SOLEOTECH International ","PV-200M-60M-Mono",200,"+3...-3",28.6,7,36,7.6,-126,3.8,-0.45,1000,null,null,12.218959808349609,"mono",60,"pseudo-square",1650,992,46,null,"junction box MC4",19.5,"www.soleotech.fr",null,null,null,null,null,{"$f":"IF($O13187=\"Sunpower Corp.\",3,(IF(OR($Q13187=\"mono\",$Q13187=\"poly\",$Q13187=\"HIT\",$Q13187=\"EFG\",$Q13187=\"mono-LGBC\"),1,IF(OR($Q13187=\"µc-Si / a-Si\",$Q13187=\"a-Si (single)\",$Q13187=\"a-Si (tandem)\",$Q13187=\"a-Si (triple)\"),3,2))))","v":1},{"$f":"IF($O13187=\"Sunpower Corp.\",3,(IF(OR($Q13187=\"mono\",$Q13187=\"poly\",$Q13187=\"HIT\",$Q13187=\"EFG\",$Q13187=\"mono-LGBC\"),1,2)))","v":1},{"$f":"IF($O13187=\"Sunpower Corp.\",3,(IF(OR($Q13187=\"mono\",$Q13187=\"poly\",$Q13187=\"HIT\",$Q13187=\"EFG\",$Q13187=\"mono-LGBC\"),1,IF(OR($Q13187=\"µc-Si / a-Si\",$Q13187=\"a-Si (single)\",$Q13187=\"a-Si (tandem)\",$Q13187=\"a-Si (triple)\"),3,2))))","v":1},0,null,null,17369,null,null,13187]
["SOLEX GmbH FSM 160-24","SOLEX GmbH ","FSM 160-24",160,"+5...-3",33.5,4.78,42.5,5.9,-144.5,4.13,null,715,null,null,12.58158016204834,"mono",72,null,1570,810,40,"aluminum","junction box",18.600000000000001,null,null,null,null,null,null,{"$f":"IF($O13212=\"Sunpower Corp.\",3,(IF(OR($Q13212=\"mono\",$Q13212=\"poly\",$Q13212=\"HIT\",$Q13212=\"EFG\",$Q13212=\"mono-LGBC\"),1,IF(OR($Q13212=\"µc-Si / a-Si\",$Q13212=\"a-Si (single)\",$Q13212=\"a-Si (tandem)\",$Q13212=\"a-Si (triple)\"),3,2))))","v":1},{"$f":"IF($O13212=\"Sunpower Corp.\",3,(IF(OR($Q13212=\"mono\",$Q13212=\"poly\",$Q13212=\"HIT\",$Q13212=\"EFG\",$Q13212=\"mono-LGBC\"),1,2)))","v":1},{"$f":"IF($O13212=\"Sunpower Corp.\",3,(IF(OR($Q13212=\"mono\",$Q13212=\"poly\",$Q13212=\"HIT\",$Q13212=\"EFG\",$Q13212=\"mono-LGBC\"),1,IF(OR($Q13212=\"µc-Si / a-Si\",$Q13212=\"a-Si (single)\",$Q13212=\"a-Si (tandem)\",$Q13212=\"a-Si (triple)\"),3,2))))","v":1},0,null,null,4299,null,null,13212]
["SolGate Inc. SG17024","SolGate Inc. ","SG17024",170,"+2...-2",35.6,4.7699999999999996,44.1,5.0999999999999996,-151.70400000000001,1.4279999999999999,-0.48199999999999998,600,"Canada",null,13.298749923706055,"mono",72,"pseudo-square",1586,806,35,null,"junction box",15,"www.solgate.ca",null,null,null,null,null,{"$f":"IF($O13228=\"Sunpower Corp.\",3,(IF(OR($Q13228=\"mono\",$Q13228=\"poly\",$Q13228=\"HIT\",$Q13228=\"EFG\",$Q13228=\"mono-LGBC\"),1,IF(OR($Q13228=\"µc-Si / a-Si\",$Q13228=\"a-Si (single)\",$Q13228=\"a-Si (tandem)\",$Q13228=\"a-Si (triple)\"),3,2))))","v":1},{"$f":"IF($O13228=\"Sunpower Corp.\",3,(IF(OR($Q13228=\"mono\",$Q13228=\"poly\",$Q13228=\"HIT\",$Q13228=\"EFG\",$Q13228=\"mono-LGBC\"),1,2)))","v":1},{"$f":"IF($O13228=\"Sunpower Corp.\",3,(IF(OR($Q13228=\"mono\",$Q13228=\"poly\",$Q13228=\"HIT\",$Q13228=\"EFG\",$Q13228=\"mono-LGBC\"),1,IF(OR($Q13228=\"µc-Si / a-Si\",$Q13228=\"a-Si (single)\",$Q13228=\"a-Si (tandem)\",$Q13228=\"a-Si (triple)\"),3,2))))","v":1},0,null,null,16387,null,null,13228]
["Solibertec S.L. SL220","Solibertec S.L. ","SL220",220,"+...",45.2,4.87,59.2,5.43,-224.96,5.43,-0.47,1000,null,null,13.135899543762207,"mono",96,"pseudo-square",1580,1060,50,"aluminum","junction box",21,"www.solibertec.com",null,null,null,null,null,{"$f":"IF($O13237=\"Sunpower Corp.\",3,(IF(OR($Q13237=\"mono\",$Q13237=\"poly\",$Q13237=\"HIT\",$Q13237=\"EFG\",$Q13237=\"mono-LGBC\"),1,IF(OR($Q13237=\"µc-Si / a-Si\",$Q13237=\"a-Si (single)\",$Q13237=\"a-Si (tandem)\",$Q13237=\"a-Si (triple)\"),3,2))))","v":1},{"$f":"IF($O13237=\"Sunpower Corp.\",3,(IF(OR($Q13237=\"mono\",$Q13237=\"poly\",$Q13237=\"HIT\",$Q13237=\"EFG\",$Q13237=\"mono-LGBC\"),1,2)))","v":1},{"$f":"IF($O13237=\"Sunpower Corp.\",3,(IF(OR($Q13237=\"mono\",$Q13237=\"poly\",$Q13237=\"HIT\",$Q13237=\"EFG\",$Q13237=\"mono-LGBC\"),1,IF(OR($Q13237=\"µc-Si / a-Si\",$Q13237=\"a-Si (single)\",$Q13237=\"a-Si (tandem)\",$Q13237=\"a-Si (triple)\"),3,2))))","v":1},0,null,null,19347,null,null,13237]
["Solon SE SOLON Black 230/02(215)","Solon SE ","SOLON Black 230/02(215)",215,"+3...-3",28.58,7.53,35.6,8.11,-128.16,3.2439999999999998,-0.47,1000,"Germany","diverse",13.109760284423828,"mono",60,"pseudo-square",1640,1000,42,"aluminum","junction box MC4",23.5,"www.solon.com",null,null,null,null,null,{"$f":"IF($O13267=\"Sunpower Corp.\",3,(IF(OR($Q13267=\"mono\",$Q13267=\"poly\",$Q13267=\"HIT\",$Q13267=\"EFG\",$Q13267=\"mono-LGBC\"),1,IF(OR($Q13267=\"µc-Si / a-Si\",$Q13267=\"a-Si (single)\",$Q13267=\"a-Si (tandem)\",$Q13267=\"a-Si (triple)\"),3,2))))","v":1},{"$f":"IF($O13267=\"Sunpower Corp.\",3,(IF(OR($Q13267=\"mono\",$Q13267=\"poly\",$Q13267=\"HIT\",$Q13267=\"EFG\",$Q13267=\"mono-LGBC\"),1,2)))","v":1},{"$f":"IF($O13267=\"Sunpower Corp.\",3,(IF(OR($Q13267=\"mono\",$Q13267=\"poly\",$Q13267=\"HIT\",$Q13267=\"EFG\",$Q13267=\"mono-LGBC\"),1,IF(OR($Q13267=\"µc-Si / a-Si\",$Q13267=\"a-Si (single)\",$Q13267=\"a-Si (tandem)\",$Q13267=\"a-Si (triple)\"),3,2))))","v":1},0,null,null,8638,null,null,13267]
["Solon SE SOLON Black 230/07(240)","Solon SE ","SOLON Black 230/07(240)",240,"+3...-3",29.62,8.11,36.75,8.56,-132.30000000000001,3.4240000000000004,-0.47,1000,"Germany","diverse",14.634149551391602,"mono",60,"pseudo-square",1640,1000,42,"aluminum","junction box MC4",23.5,"www.solon.com",null,null,null,null,null,{"$f":"IF($O13282=\"Sunpower Corp.\",3,(IF(OR($Q13282=\"mono\",$Q13282=\"poly\",$Q13282=\"HIT\",$Q13282=\"EFG\",$Q13282=\"mono-LGBC\"),1,IF(OR($Q13282=\"µc-Si / a-Si\",$Q13282=\"a-Si (single)\",$Q13282=\"a-Si (tandem)\",$Q13282=\"a-Si (triple)\"),3,2))))","v":1},{"$f":"IF($O13282=\"Sunpower Corp.\",3,(IF(OR($Q13282=\"mono\",$Q13282=\"poly\",$Q13282=\"HIT\",$Q13282=\"EFG\",$Q13282=\"mono-LGBC\"),1,2)))","v":1},{"$f":"IF($O13282=\"Sunpower Corp.\",3,(IF(OR($Q13282=\"mono\",$Q13282=\"poly\",$Q13282=\"HIT\",$Q13282=\"EFG\",$Q13282=\"mono-LGBC\"),1,IF(OR($Q13282=\"µc-Si / a-Si\",$Q13282=\"a-Si (single)\",$Q13282=\"a-Si (tandem)\",$Q13282=\"a-Si (triple)\"),3,2))))","v":1},0,null,null,8652,null,null,13282]
["Solon SE SOLON Black 280/12(275)","Solon SE ","SOLON Black 280/12(275)",275,"+3...-3",35,7.86,43.42,8.36,-156.31200000000001,1.6719999999999999,-0.47,1000,null,null,14.036419868469238,"mono",72,"pseudo-square",1973,993,4.5,"frameless","junction box MC4",16.5,"www.solon.com",null,null,null,null,null,{"$f":"IF($O13312=\"Sunpower Corp.\",3,(IF(OR($Q13312=\"mono\",$Q13312=\"poly\",$Q13312=\"HIT\",$Q13312=\"EFG\",$Q13312=\"mono-LGBC\"),1,IF(OR($Q13312=\"µc-Si / a-Si\",$Q13312=\"a-Si (single)\",$Q13312=\"a-Si (tandem)\",$Q13312=\"a-Si (triple)\"),3,2))))","v":1},{"$f":"IF($O13312=\"Sunpower Corp.\",3,(IF(OR($Q13312=\"mono\",$Q13312=\"poly\",$Q13312=\"HIT\",$Q13312=\"EFG\",$Q13312=\"mono-LGBC\"),1,2)))","v":1},{"$f":"IF($O13312=\"Sunpower Corp.\",3,(IF(OR($Q13312=\"mono\",$Q13312=\"poly\",$Q13312=\"HIT\",$Q13312=\"EFG\",$Q13312=\"mono-LGBC\"),1,IF(OR($Q13312=\"µc-Si / a-Si\",$Q13312=\"a-Si (single)\",$Q13312=\"a-Si (tandem)\",$Q13312=\"a-Si (triple)\"),3,2))))","v":1},0,null,null,16403,null,null,13312]
["Solon SE SOLON Blue 220/01(220)","Solon SE ","SOLON Blue 220/01(220)",220,"+3...-3",28.75,7.65,36.4,8.3000000000000007,-127.4,5.81,-0.45,1000,"USA","diverse",13.414629936218262,"poly",60,"square",1640,1000,42,"aluminum","junction box Tyco",23.5,"www.solon.com",null,null,null,null,null,{"$f":"IF($O13327=\"Sunpower Corp.\",3,(IF(OR($Q13327=\"mono\",$Q13327=\"poly\",$Q13327=\"HIT\",$Q13327=\"EFG\",$Q13327=\"mono-LGBC\"),1,IF(OR($Q13327=\"µc-Si / a-Si\",$Q13327=\"a-Si (single)\",$Q13327=\"a-Si (tandem)\",$Q13327=\"a-Si (triple)\"),3,2))))","v":1},{"$f":"IF($O13327=\"Sunpower Corp.\",3,(IF(OR($Q13327=\"mono\",$Q13327=\"poly\",$Q13327=\"HIT\",$Q13327=\"EFG\",$Q13327=\"mono-LGBC\"),1,2)))","v":1},{"$f":"IF($O13327=\"Sunpower Corp.\",3,(IF(OR($Q13327=\"mono\",$Q13327=\"poly\",$Q13327=\"HIT\",$Q13327=\"EFG\",$Q13327=\"mono-LGBC\"),1,IF(OR($Q13327=\"µc-Si / a-Si\",$Q13327=\"a-Si (single)\",$Q13327=\"a-Si (tandem)\",$Q13327=\"a-Si (triple)\"),3,2))))","v":1},0,null,null,8666,null,null,13327]
["Solon SE SOLON Blue 220/03(230)","Solon SE ","SOLON Blue 220/03(230)",230,"+3...-3",29.58,7.78,36.69,8.24,-124.746,4.12,-0.42,1000,"various","diverse",14.02439022064209,"poly",60,"square",1640,1000,42,"aluminum","junction box MC old",23.5,"www.solon.com",null,null,null,null,null,{"$f":"IF($O13338=\"Sunpower Corp.\",3,(IF(OR($Q13338=\"mono\",$Q13338=\"poly\",$Q13338=\"HIT\",$Q13338=\"EFG\",$Q13338=\"mono-LGBC\"),1,IF(OR($Q13338=\"µc-Si / a-Si\",$Q13338=\"a-Si (single)\",$Q13338=\"a-Si (tandem)\",$Q13338=\"a-Si (triple)\"),3,2))))","v":1},{"$f":"IF($O13338=\"Sunpower Corp.\",3,(IF(OR($Q13338=\"mono\",$Q13338=\"poly\",$Q13338=\"HIT\",$Q13338=\"EFG\",$Q13338=\"mono-LGBC\"),1,2)))","v":1},{"$f":"IF($O13338=\"Sunpower Corp.\",3,(IF(OR($Q13338=\"mono\",$Q13338=\"poly\",$Q13338=\"HIT\",$Q13338=\"EFG\",$Q13338=\"mono-LGBC\"),1,IF(OR($Q13338=\"µc-Si / a-Si\",$Q13338=\"a-Si (single)\",$Q13338=\"a-Si (tandem)\",$Q13338=\"a-Si (triple)\"),3,2))))","v":1},0,null,null,6116,null,null,13338]
["Solon SE SOLON Blue 250/05(245)","Solon SE ","SOLON Blue 250/05(245)",245,"+3...-3",null,null,37.200000000000003,8.59,-130.19999999999999,6.0130000000000008,-0.45,1000,"Germany","diverse",13.161769866943359,"poly",60,"square",1783,1044,27,"others","junction box MC4",22.5,"www.solon.com",null,null,null,null,null,{"$f":"IF($O13356=\"Sunpower Corp.\",3,(IF(OR($Q13356=\"mono\",$Q13356=\"poly\",$Q13356=\"HIT\",$Q13356=\"EFG\",$Q13356=\"mono-LGBC\"),1,IF(OR($Q13356=\"µc-Si / a-Si\",$Q13356=\"a-Si (single)\",$Q13356=\"a-Si (tandem)\",$Q13356=\"a-Si (triple)\"),3,2))))","v":1},{"$f":"IF($O13356=\"Sunpower Corp.\",3,(IF(OR($Q13356=\"mono\",$Q13356=\"poly\",$Q13356=\"HIT\",$Q13356=\"EFG\",$Q13356=\"mono-LGBC\"),1,2)))","v":1},{"$f":"IF($O13356=\"Sunpower Corp.\",3,(IF(OR($Q13356=\"mono\",$Q13356=\"poly\",$Q13356=\"HIT\",$Q13356=\"EFG\",$Q13356=\"mono-LGBC\"),1,IF(OR($Q13356=\"µc-Si / a-Si\",$Q13356=\"a-Si (single)\",$Q13356=\"a-Si (tandem)\",$Q13356=\"a-Si (triple)\"),3,2))))","v":1},0,null,null,27463,null,null,13356]
["Solon SE SOLON SOLitaire Black 250/05(235)","Solon SE ","SOLON SOLitaire Black 250/05(235)",235,"+2,12...0",29.41,7.99,36.479999999999997,8.4700000000000006,-131.32799999999997,3.3880000000000003,-0.47,1000,null,null,12.624549865722656,"mono",60,"pseudo-square",1783,1044,27,"plastic",null,22.5,"www.solon.com",null,null,null,null,null,{"$f":"IF($O13383=\"Sunpower Corp.\",3,(IF(OR($Q13383=\"mono\",$Q13383=\"poly\",$Q13383=\"HIT\",$Q13383=\"EFG\",$Q13383=\"mono-LGBC\"),1,IF(OR($Q13383=\"µc-Si / a-Si\",$Q13383=\"a-Si (single)\",$Q13383=\"a-Si (tandem)\",$Q13383=\"a-Si (triple)\"),3,2))))","v":1},{"$f":"IF($O13383=\"Sunpower Corp.\",3,(IF(OR($Q13383=\"mono\",$Q13383=\"poly\",$Q13383=\"HIT\",$Q13383=\"EFG\",$Q13383=\"mono-LGBC\"),1,2)))","v":1},{"$f":"IF($O13383=\"Sunpower Corp.\",3,(IF(OR($Q13383=\"mono\",$Q13383=\"poly\",$Q13383=\"HIT\",$Q13383=\"EFG\",$Q13383=\"mono-LGBC\"),1,IF(OR($Q13383=\"µc-Si / a-Si\",$Q13383=\"a-Si (single)\",$Q13383=\"a-Si (tandem)\",$Q13383=\"a-Si (triple)\"),3,2))))","v":1},0,null,null,27980,null,null,13383]
["SoloPower Inc. SFX3-i240","SoloPower Inc. ","SFX3-i240",240,"+5...-3",69,3.5,98,4.0999999999999996,-343,8.2000000000000003E-2,null,1000,null,null,8.9389467239379883,"CIGS",180,null,3051,880,2,"frameless","junction box",6.8,"www.solopower.com",null,null,null,null,null,{"$f":"IF($O13401=\"Sunpower Corp.\",3,(IF(OR($Q13401=\"mono\",$Q13401=\"poly\",$Q13401=\"HIT\",$Q13401=\"EFG\",$Q13401=\"mono-LGBC\"),1,IF(OR($Q13401=\"µc-Si / a-Si\",$Q13401=\"a-Si (single)\",$Q13401=\"a-Si (tandem)\",$Q13401=\"a-Si (triple)\"),3,2))))","v":2},{"$f":"IF($O13401=\"Sunpower Corp.\",3,(IF(OR($Q13401=\"mono\",$Q13401=\"poly\",$Q13401=\"HIT\",$Q13401=\"EFG\",$Q13401=\"mono-LGBC\"),1,2)))","v":2},{"$f":"IF($O13401=\"Sunpower Corp.\",3,(IF(OR($Q13401=\"mono\",$Q13401=\"poly\",$Q13401=\"HIT\",$Q13401=\"EFG\",$Q13401=\"mono-LGBC\"),1,IF(OR($Q13401=\"µc-Si / a-Si\",$Q13401=\"a-Si (single)\",$Q13401=\"a-Si (tandem)\",$Q13401=\"a-Si (triple)\"),3,2))))","v":2},0,null,null,28239,null,null,13401]
["Solsonica S.p.A. S608-175","Solsonica S.p.A. ","S608-175",175,"+3...-3",23.18,7.61,29.6,8.1,-99.16,3.4020000000000001,-0.45400000000000001,1000,"Italy","Solsonica",13.01786994934082,"poly",48,"square",1347,998,45,"aluminum","junction box Tyco",18,"www.solsonica.com",null,null,null,null,null,{"$f":"IF($O13422=\"Sunpower Corp.\",3,(IF(OR($Q13422=\"mono\",$Q13422=\"poly\",$Q13422=\"HIT\",$Q13422=\"EFG\",$Q13422=\"mono-LGBC\"),1,IF(OR($Q13422=\"µc-Si / a-Si\",$Q13422=\"a-Si (single)\",$Q13422=\"a-Si (tandem)\",$Q13422=\"a-Si (triple)\"),3,2))))","v":1},{"$f":"IF($O13422=\"Sunpower Corp.\",3,(IF(OR($Q13422=\"mono\",$Q13422=\"poly\",$Q13422=\"HIT\",$Q13422=\"EFG\",$Q13422=\"mono-LGBC\"),1,2)))","v":1},{"$f":"IF($O13422=\"Sunpower Corp.\",3,(IF(OR($Q13422=\"mono\",$Q13422=\"poly\",$Q13422=\"HIT\",$Q13422=\"EFG\",$Q13422=\"mono-LGBC\"),1,IF(OR($Q13422=\"µc-Si / a-Si\",$Q13422=\"a-Si (single)\",$Q13422=\"a-Si (tandem)\",$Q13422=\"a-Si (triple)\"),3,2))))","v":1},0,null,null,9669,null,null,13422]
["Solsonica S.p.A. S610BI-215","Solsonica S.p.A. ","S610BI-215",215,"+3...-3",28.7,7.5,36.85,8,-123.44750000000001,3.36,-0.45400000000000001,1000,"Italy","Solsonica",15.808449745178223,"poly",60,"square",1707,1022,16,"others","junction box Tyco",20,"www.solsonica.com",null,null,null,null,null,{"$f":"IF($O13446=\"Sunpower Corp.\",3,(IF(OR($Q13446=\"mono\",$Q13446=\"poly\",$Q13446=\"HIT\",$Q13446=\"EFG\",$Q13446=\"mono-LGBC\"),1,IF(OR($Q13446=\"µc-Si / a-Si\",$Q13446=\"a-Si (single)\",$Q13446=\"a-Si (tandem)\",$Q13446=\"a-Si (triple)\"),3,2))))","v":1},{"$f":"IF($O13446=\"Sunpower Corp.\",3,(IF(OR($Q13446=\"mono\",$Q13446=\"poly\",$Q13446=\"HIT\",$Q13446=\"EFG\",$Q13446=\"mono-LGBC\"),1,2)))","v":1},{"$f":"IF($O13446=\"Sunpower Corp.\",3,(IF(OR($Q13446=\"mono\",$Q13446=\"poly\",$Q13446=\"HIT\",$Q13446=\"EFG\",$Q13446=\"mono-LGBC\"),1,IF(OR($Q13446=\"µc-Si / a-Si\",$Q13446=\"a-Si (single)\",$Q13446=\"a-Si (tandem)\",$Q13446=\"a-Si (triple)\"),3,2))))","v":1},0,null,null,14210,null,null,13446]
["Solsonica S.p.A. S612-275","Solsonica S.p.A. ","S612-275",275,"+3...-3",35.44,7.75,44.9,8.24,-150.41499999999999,3.4608000000000003,-0.45400000000000001,1000,"Italy","Solsonica",13.923749923706055,"poly",72,"square",1979,998,45,"aluminum","junction box Tyco",26,"www.solsonica.com",null,null,null,null,null,{"$f":"IF($O13467=\"Sunpower Corp.\",3,(IF(OR($Q13467=\"mono\",$Q13467=\"poly\",$Q13467=\"HIT\",$Q13467=\"EFG\",$Q13467=\"mono-LGBC\"),1,IF(OR($Q13467=\"µc-Si / a-Si\",$Q13467=\"a-Si (single)\",$Q13467=\"a-Si (tandem)\",$Q13467=\"a-Si (triple)\"),3,2))))","v":1},{"$f":"IF($O13467=\"Sunpower Corp.\",3,(IF(OR($Q13467=\"mono\",$Q13467=\"poly\",$Q13467=\"HIT\",$Q13467=\"EFG\",$Q13467=\"mono-LGBC\"),1,2)))","v":1},{"$f":"IF($O13467=\"Sunpower Corp.\",3,(IF(OR($Q13467=\"mono\",$Q13467=\"poly\",$Q13467=\"HIT\",$Q13467=\"EFG\",$Q13467=\"mono-LGBC\"),1,IF(OR($Q13467=\"µc-Si / a-Si\",$Q13467=\"a-Si (single)\",$Q13467=\"a-Si (tandem)\",$Q13467=\"a-Si (triple)\"),3,2))))","v":1},0,null,null,9665,null,null,13467]
["Solsonica S.p.A. Solsonica 610 silver plus 220","Solsonica S.p.A. ","Solsonica 610 silver plus 220",220,"+3...-3",28.98,7.59,37.049999999999997,8.09,-124.11750000000001,3.3977999999999997,-0.45400000000000001,1000,"Italy","Solsonica",13.255620002746582,"poly",60,"square",1663,998,35,"aluminum","junction box",18,"www.solsonica.com",null,null,null,null,null,{"$f":"IF($O13471=\"Sunpower Corp.\",3,(IF(OR($Q13471=\"mono\",$Q13471=\"poly\",$Q13471=\"HIT\",$Q13471=\"EFG\",$Q13471=\"mono-LGBC\"),1,IF(OR($Q13471=\"µc-Si / a-Si\",$Q13471=\"a-Si (single)\",$Q13471=\"a-Si (tandem)\",$Q13471=\"a-Si (triple)\"),3,2))))","v":1},{"$f":"IF($O13471=\"Sunpower Corp.\",3,(IF(OR($Q13471=\"mono\",$Q13471=\"poly\",$Q13471=\"HIT\",$Q13471=\"EFG\",$Q13471=\"mono-LGBC\"),1,2)))","v":1},{"$f":"IF($O13471=\"Sunpower Corp.\",3,(IF(OR($Q13471=\"mono\",$Q13471=\"poly\",$Q13471=\"HIT\",$Q13471=\"EFG\",$Q13471=\"mono-LGBC\"),1,IF(OR($Q13471=\"µc-Si / a-Si\",$Q13471=\"a-Si (single)\",$Q13471=\"a-Si (tandem)\",$Q13471=\"a-Si (triple)\"),3,2))))","v":1},0,null,null,23001,null,null,13471]
["Solterra Fotovoltaico SA Sol 160 H","Solterra Fotovoltaico SA ","Sol 160 H",160,"+...",34.799999999999997,4.5999999999999996,43.5,5.2,-43.5,1.3988,-0.4,600,"Switzerland","Solterra Fotovoltaico SA",12.562740325927734,"mono",72,"pseudo-square",1596,798,40,"aluminum","junction box others",17,"www.solterra.ch",null,null,null,null,null,{"$f":"IF($O13493=\"Sunpower Corp.\",3,(IF(OR($Q13493=\"mono\",$Q13493=\"poly\",$Q13493=\"HIT\",$Q13493=\"EFG\",$Q13493=\"mono-LGBC\"),1,IF(OR($Q13493=\"µc-Si / a-Si\",$Q13493=\"a-Si (single)\",$Q13493=\"a-Si (tandem)\",$Q13493=\"a-Si (triple)\"),3,2))))","v":1},{"$f":"IF($O13493=\"Sunpower Corp.\",3,(IF(OR($Q13493=\"mono\",$Q13493=\"poly\",$Q13493=\"HIT\",$Q13493=\"EFG\",$Q13493=\"mono-LGBC\"),1,2)))","v":1},{"$f":"IF($O13493=\"Sunpower Corp.\",3,(IF(OR($Q13493=\"mono\",$Q13493=\"poly\",$Q13493=\"HIT\",$Q13493=\"EFG\",$Q13493=\"mono-LGBC\"),1,IF(OR($Q13493=\"µc-Si / a-Si\",$Q13493=\"a-Si (single)\",$Q13493=\"a-Si (tandem)\",$Q13493=\"a-Si (triple)\"),3,2))))","v":1},0,null,null,3448,null,null,13493]
["Solvo Solar Limited HH230(30)P","Solvo Solar Limited ","HH230(30)P",230,"+3...-3",29.5,7.8,36.6,8.42,-120.78,3.3680000000000003,-0.43,1000,"China","Huanghe Solar",14.051810264587402,"poly",60,"square",1650,992,50,"aluminum","junction box MC",19.5,"www.solvo-solar.com",null,null,null,null,null,{"$f":"IF($O13520=\"Sunpower Corp.\",3,(IF(OR($Q13520=\"mono\",$Q13520=\"poly\",$Q13520=\"HIT\",$Q13520=\"EFG\",$Q13520=\"mono-LGBC\"),1,IF(OR($Q13520=\"µc-Si / a-Si\",$Q13520=\"a-Si (single)\",$Q13520=\"a-Si (tandem)\",$Q13520=\"a-Si (triple)\"),3,2))))","v":1},{"$f":"IF($O13520=\"Sunpower Corp.\",3,(IF(OR($Q13520=\"mono\",$Q13520=\"poly\",$Q13520=\"HIT\",$Q13520=\"EFG\",$Q13520=\"mono-LGBC\"),1,2)))","v":1},{"$f":"IF($O13520=\"Sunpower Corp.\",3,(IF(OR($Q13520=\"mono\",$Q13520=\"poly\",$Q13520=\"HIT\",$Q13520=\"EFG\",$Q13520=\"mono-LGBC\"),1,IF(OR($Q13520=\"µc-Si / a-Si\",$Q13520=\"a-Si (single)\",$Q13520=\"a-Si (tandem)\",$Q13520=\"a-Si (triple)\"),3,2))))","v":1},0,null,null,26847,null,null,13520]
["SONNETT GmbH & Co. KG SM-54P-185","SONNETT GmbH & Co. KG ","SM-54P-185",185,"+3...-3",26.5,6.98,32.51,7.59,-152.79699999999997,2.6565000000000003,-0.35,1000,null,null,12.583800315856934,"poly",54,"square",1482,992,45,null,null,18.3,"www.sonnett.de",null,null,null,null,null,{"$f":"IF($O13538=\"Sunpower Corp.\",3,(IF(OR($Q13538=\"mono\",$Q13538=\"poly\",$Q13538=\"HIT\",$Q13538=\"EFG\",$Q13538=\"mono-LGBC\"),1,IF(OR($Q13538=\"µc-Si / a-Si\",$Q13538=\"a-Si (single)\",$Q13538=\"a-Si (tandem)\",$Q13538=\"a-Si (triple)\"),3,2))))","v":1},{"$f":"IF($O13538=\"Sunpower Corp.\",3,(IF(OR($Q13538=\"mono\",$Q13538=\"poly\",$Q13538=\"HIT\",$Q13538=\"EFG\",$Q13538=\"mono-LGBC\"),1,2)))","v":1},{"$f":"IF($O13538=\"Sunpower Corp.\",3,(IF(OR($Q13538=\"mono\",$Q13538=\"poly\",$Q13538=\"HIT\",$Q13538=\"EFG\",$Q13538=\"mono-LGBC\"),1,IF(OR($Q13538=\"µc-Si / a-Si\",$Q13538=\"a-Si (single)\",$Q13538=\"a-Si (tandem)\",$Q13538=\"a-Si (triple)\"),3,2))))","v":1},0,null,null,30140,null,null,13538]
["Sontasun (Foshan) New Material Co., Ltd ZTX-M240W","Sontasun (Foshan) New Material Co., Ltd ","ZTX-M240W",240,"+...",33,7.3,40.200000000000003,8.1,-152.76,0,-0.5,1000,null,null,13.54325008392334,"mono",66,"pseudo-square",1790,990,50,"aluminum","junction box",21,"www.sontasun.com",null,null,null,null,null,{"$f":"IF($O13565=\"Sunpower Corp.\",3,(IF(OR($Q13565=\"mono\",$Q13565=\"poly\",$Q13565=\"HIT\",$Q13565=\"EFG\",$Q13565=\"mono-LGBC\"),1,IF(OR($Q13565=\"µc-Si / a-Si\",$Q13565=\"a-Si (single)\",$Q13565=\"a-Si (tandem)\",$Q13565=\"a-Si (triple)\"),3,2))))","v":1},{"$f":"IF($O13565=\"Sunpower Corp.\",3,(IF(OR($Q13565=\"mono\",$Q13565=\"poly\",$Q13565=\"HIT\",$Q13565=\"EFG\",$Q13565=\"mono-LGBC\"),1,2)))","v":1},{"$f":"IF($O13565=\"Sunpower Corp.\",3,(IF(OR($Q13565=\"mono\",$Q13565=\"poly\",$Q13565=\"HIT\",$Q13565=\"EFG\",$Q13565=\"mono-LGBC\"),1,IF(OR($Q13565=\"µc-Si / a-Si\",$Q13565=\"a-Si (single)\",$Q13565=\"a-Si (tandem)\",$Q13565=\"a-Si (triple)\"),3,2))))","v":1},0,null,null,24147,null,null,13565]
["Sontasun (Foshan) New Material Co., Ltd ZTX-P80W","Sontasun (Foshan) New Material Co., Ltd ","ZTX-P80W",80,"+...",18,4.45,21.6,4.93,-82.08,0,-0.5,1000,null,null,12.383899688720703,"poly",36,"square",950,680,35,"aluminum","junction box",10,"www.sontasun.com",null,null,null,null,null,{"$f":"IF($O13577=\"Sunpower Corp.\",3,(IF(OR($Q13577=\"mono\",$Q13577=\"poly\",$Q13577=\"HIT\",$Q13577=\"EFG\",$Q13577=\"mono-LGBC\"),1,IF(OR($Q13577=\"µc-Si / a-Si\",$Q13577=\"a-Si (single)\",$Q13577=\"a-Si (tandem)\",$Q13577=\"a-Si (triple)\"),3,2))))","v":1},{"$f":"IF($O13577=\"Sunpower Corp.\",3,(IF(OR($Q13577=\"mono\",$Q13577=\"poly\",$Q13577=\"HIT\",$Q13577=\"EFG\",$Q13577=\"mono-LGBC\"),1,2)))","v":1},{"$f":"IF($O13577=\"Sunpower Corp.\",3,(IF(OR($Q13577=\"mono\",$Q13577=\"poly\",$Q13577=\"HIT\",$Q13577=\"EFG\",$Q13577=\"mono-LGBC\"),1,IF(OR($Q13577=\"µc-Si / a-Si\",$Q13577=\"a-Si (single)\",$Q13577=\"a-Si (tandem)\",$Q13577=\"a-Si (triple)\"),3,2))))","v":1},0,null,null,24149,null,null,13577]
["SORGENIA SPA SLX-P225/60-210","SORGENIA SPA ","SLX-P225/60-210",210,"+2,5...-2,5",28.1,7.48,36.6,8.1,-128.1,0,-0.43,1000,"Italy",null,12.65308952331543,"poly",60,"square",1663,998,45,"aluminum","junction box Tyco",20.5,"www.sorgenia.it",null,null,null,null,null,{"$f":"IF($O13590=\"Sunpower Corp.\",3,(IF(OR($Q13590=\"mono\",$Q13590=\"poly\",$Q13590=\"HIT\",$Q13590=\"EFG\",$Q13590=\"mono-LGBC\"),1,IF(OR($Q13590=\"µc-Si / a-Si\",$Q13590=\"a-Si (single)\",$Q13590=\"a-Si (tandem)\",$Q13590=\"a-Si (triple)\"),3,2))))","v":1},{"$f":"IF($O13590=\"Sunpower Corp.\",3,(IF(OR($Q13590=\"mono\",$Q13590=\"poly\",$Q13590=\"HIT\",$Q13590=\"EFG\",$Q13590=\"mono-LGBC\"),1,2)))","v":1},{"$f":"IF($O13590=\"Sunpower Corp.\",3,(IF(OR($Q13590=\"mono\",$Q13590=\"poly\",$Q13590=\"HIT\",$Q13590=\"EFG\",$Q13590=\"mono-LGBC\"),1,IF(OR($Q13590=\"µc-Si / a-Si\",$Q13590=\"a-Si (single)\",$Q13590=\"a-Si (tandem)\",$Q13590=\"a-Si (triple)\"),3,2))))","v":1},0,null,null,9397,null,null,13590]
["Sovello AG SV-X-200-fa1","Sovello AG ","SV-X-200-fa1",200,"+2,5...0",18.3,10.93,22.9,11.7,-75.569999999999993,7.02,-0.45,1000,"Germany",null,12.745750427246094,"ribbon",114,null,1650,951,46,"aluminum","cable MC",18.600000000000001,null,null,null,null,null,null,{"$f":"IF($O13622=\"Sunpower Corp.\",3,(IF(OR($Q13622=\"mono\",$Q13622=\"poly\",$Q13622=\"HIT\",$Q13622=\"EFG\",$Q13622=\"mono-LGBC\"),1,IF(OR($Q13622=\"µc-Si / a-Si\",$Q13622=\"a-Si (single)\",$Q13622=\"a-Si (tandem)\",$Q13622=\"a-Si (triple)\"),3,2))))","v":2},{"$f":"IF($O13622=\"Sunpower Corp.\",3,(IF(OR($Q13622=\"mono\",$Q13622=\"poly\",$Q13622=\"HIT\",$Q13622=\"EFG\",$Q13622=\"mono-LGBC\"),1,2)))","v":2},{"$f":"IF($O13622=\"Sunpower Corp.\",3,(IF(OR($Q13622=\"mono\",$Q13622=\"poly\",$Q13622=\"HIT\",$Q13622=\"EFG\",$Q13622=\"mono-LGBC\"),1,IF(OR($Q13622=\"µc-Si / a-Si\",$Q13622=\"a-Si (single)\",$Q13622=\"a-Si (tandem)\",$Q13622=\"a-Si (triple)\"),3,2))))","v":2},0,null,null,27827,null,null,13622]
["SPSistem S.r.l. SPS 195P plus","SPSistem S.r.l. ","SPS 195P plus",195,"+5...0",25.66,7.6,31.19,8.1199999999999992,-106.04600000000002,2.4359999999999995,-0.43,1000,null,null,14.222200393676758,"poly",50,"square",1644,834,35,"aluminum",null,17.5,"www.spsistem.com",null,null,null,null,null,{"$f":"IF($O13635=\"Sunpower Corp.\",3,(IF(OR($Q13635=\"mono\",$Q13635=\"poly\",$Q13635=\"HIT\",$Q13635=\"EFG\",$Q13635=\"mono-LGBC\"),1,IF(OR($Q13635=\"µc-Si / a-Si\",$Q13635=\"a-Si (single)\",$Q13635=\"a-Si (tandem)\",$Q13635=\"a-Si (triple)\"),3,2))))","v":1},{"$f":"IF($O13635=\"Sunpower Corp.\",3,(IF(OR($Q13635=\"mono\",$Q13635=\"poly\",$Q13635=\"HIT\",$Q13635=\"EFG\",$Q13635=\"mono-LGBC\"),1,2)))","v":1},{"$f":"IF($O13635=\"Sunpower Corp.\",3,(IF(OR($Q13635=\"mono\",$Q13635=\"poly\",$Q13635=\"HIT\",$Q13635=\"EFG\",$Q13635=\"mono-LGBC\"),1,IF(OR($Q13635=\"µc-Si / a-Si\",$Q13635=\"a-Si (single)\",$Q13635=\"a-Si (tandem)\",$Q13635=\"a-Si (triple)\"),3,2))))","v":1},0,null,null,19531,null,null,13635]
["SPSistem S.r.l. SPS 235P plus","SPSistem S.r.l. ","SPS 235P plus",235,"+5...0",31.2,7.65,37.35,8.25,-126.99,2.4750000000000001,-0.43,1000,null,null,14.409680366516113,"poly",60,"square",1644,992,35,"aluminum",null,23.5,"www.spsistem.com",null,null,null,null,null,{"$f":"IF($O13648=\"Sunpower Corp.\",3,(IF(OR($Q13648=\"mono\",$Q13648=\"poly\",$Q13648=\"HIT\",$Q13648=\"EFG\",$Q13648=\"mono-LGBC\"),1,IF(OR($Q13648=\"µc-Si / a-Si\",$Q13648=\"a-Si (single)\",$Q13648=\"a-Si (tandem)\",$Q13648=\"a-Si (triple)\"),3,2))))","v":1},{"$f":"IF($O13648=\"Sunpower Corp.\",3,(IF(OR($Q13648=\"mono\",$Q13648=\"poly\",$Q13648=\"HIT\",$Q13648=\"EFG\",$Q13648=\"mono-LGBC\"),1,2)))","v":1},{"$f":"IF($O13648=\"Sunpower Corp.\",3,(IF(OR($Q13648=\"mono\",$Q13648=\"poly\",$Q13648=\"HIT\",$Q13648=\"EFG\",$Q13648=\"mono-LGBC\"),1,IF(OR($Q13648=\"µc-Si / a-Si\",$Q13648=\"a-Si (single)\",$Q13648=\"a-Si (tandem)\",$Q13648=\"a-Si (triple)\"),3,2))))","v":1},0,null,null,31905,null,null,13648]
["Suisse Soleil AG Soleil 210P27V","Suisse Soleil AG ","Soleil 210P27V",210,"+6...0",27,7.78,33.6,8.68,-120.96,2.8643999999999998,-0.48,1000,null,null,14.037429809570313,"poly",54,"square",1496,1000,50,"aluminum","junction box MC4",18,"www.suissesoleil.ch",null,null,null,null,null,{"$f":"IF($O13684=\"Sunpower Corp.\",3,(IF(OR($Q13684=\"mono\",$Q13684=\"poly\",$Q13684=\"HIT\",$Q13684=\"EFG\",$Q13684=\"mono-LGBC\"),1,IF(OR($Q13684=\"µc-Si / a-Si\",$Q13684=\"a-Si (single)\",$Q13684=\"a-Si (tandem)\",$Q13684=\"a-Si (triple)\"),3,2))))","v":1},{"$f":"IF($O13684=\"Sunpower Corp.\",3,(IF(OR($Q13684=\"mono\",$Q13684=\"poly\",$Q13684=\"HIT\",$Q13684=\"EFG\",$Q13684=\"mono-LGBC\"),1,2)))","v":1},{"$f":"IF($O13684=\"Sunpower Corp.\",3,(IF(OR($Q13684=\"mono\",$Q13684=\"poly\",$Q13684=\"HIT\",$Q13684=\"EFG\",$Q13684=\"mono-LGBC\"),1,IF(OR($Q13684=\"µc-Si / a-Si\",$Q13684=\"a-Si (single)\",$Q13684=\"a-Si (tandem)\",$Q13684=\"a-Si (triple)\"),3,2))))","v":1},0,null,null,29430,null,null,13684]
["Sun Earth Solar Power Co. Ltd. Sun Earth TDB125x125-36-P 75W","Sun Earth Solar Power Co. Ltd. ","Sun Earth TDB125x125-36-P 75W",75,"+3...-3",17.5,4.29,21.7,4.8600000000000003,-75.95,2.4300000000000002,-0.45,1000,null,"Sun Earth Solar",11.411179542541504,"mono",36,"pseudo-square",1195,550,40,"aluminum","junction box",8,"www.nbsolar.com",null,null,null,null,null,{"$f":"IF($O13693=\"Sunpower Corp.\",3,(IF(OR($Q13693=\"mono\",$Q13693=\"poly\",$Q13693=\"HIT\",$Q13693=\"EFG\",$Q13693=\"mono-LGBC\"),1,IF(OR($Q13693=\"µc-Si / a-Si\",$Q13693=\"a-Si (single)\",$Q13693=\"a-Si (tandem)\",$Q13693=\"a-Si (triple)\"),3,2))))","v":1},{"$f":"IF($O13693=\"Sunpower Corp.\",3,(IF(OR($Q13693=\"mono\",$Q13693=\"poly\",$Q13693=\"HIT\",$Q13693=\"EFG\",$Q13693=\"mono-LGBC\"),1,2)))","v":1},{"$f":"IF($O13693=\"Sunpower Corp.\",3,(IF(OR($Q13693=\"mono\",$Q13693=\"poly\",$Q13693=\"HIT\",$Q13693=\"EFG\",$Q13693=\"mono-LGBC\"),1,IF(OR($Q13693=\"µc-Si / a-Si\",$Q13693=\"a-Si (single)\",$Q13693=\"a-Si (tandem)\",$Q13693=\"a-Si (triple)\"),3,2))))","v":1},0,null,null,29073,null,null,13693]
["Sun Earth Solar Power Co. Ltd. Sun Earth TDB125x125-96-P 240W","Sun Earth Solar Power Co. Ltd. ","Sun Earth TDB125x125-96-P 240W",240,"+3...-3",48.6,5,59.5,5.28,-208.25,1.5839999999999999,-0.4,1000,"China","Sun Earth Solar",14.119810104370117,"mono",96,"pseudo-square",1596,1065,46,"aluminum","junction box",22,"www.sun-earth.com",null,null,null,null,null,{"$f":"IF($O13709=\"Sunpower Corp.\",3,(IF(OR($Q13709=\"mono\",$Q13709=\"poly\",$Q13709=\"HIT\",$Q13709=\"EFG\",$Q13709=\"mono-LGBC\"),1,IF(OR($Q13709=\"µc-Si / a-Si\",$Q13709=\"a-Si (single)\",$Q13709=\"a-Si (tandem)\",$Q13709=\"a-Si (triple)\"),3,2))))","v":1},{"$f":"IF($O13709=\"Sunpower Corp.\",3,(IF(OR($Q13709=\"mono\",$Q13709=\"poly\",$Q13709=\"HIT\",$Q13709=\"EFG\",$Q13709=\"mono-LGBC\"),1,2)))","v":1},{"$f":"IF($O13709=\"Sunpower Corp.\",3,(IF(OR($Q13709=\"mono\",$Q13709=\"poly\",$Q13709=\"HIT\",$Q13709=\"EFG\",$Q13709=\"mono-LGBC\"),1,IF(OR($Q13709=\"µc-Si / a-Si\",$Q13709=\"a-Si (single)\",$Q13709=\"a-Si (tandem)\",$Q13709=\"a-Si (triple)\"),3,2))))","v":1},0,null,null,27008,null,null,13709]
["Sun Tech Solar Co. Ltd. XTP165-34","Sun Tech Solar Co. Ltd. ","XTP165-34",165,"+5...-5",35.200000000000003,4.6900000000000004,44.1,5.2,-154.35,3.12,-0.45,1000,null,null,12.88286018371582,"mono",72,"pseudo-square",1593,804,40,"aluminum","junction box",15,"www.solarsuntech.com",null,null,null,null,null,{"$f":"IF($O13738=\"Sunpower Corp.\",3,(IF(OR($Q13738=\"mono\",$Q13738=\"poly\",$Q13738=\"HIT\",$Q13738=\"EFG\",$Q13738=\"mono-LGBC\"),1,IF(OR($Q13738=\"µc-Si / a-Si\",$Q13738=\"a-Si (single)\",$Q13738=\"a-Si (tandem)\",$Q13738=\"a-Si (triple)\"),3,2))))","v":1},{"$f":"IF($O13738=\"Sunpower Corp.\",3,(IF(OR($Q13738=\"mono\",$Q13738=\"poly\",$Q13738=\"HIT\",$Q13738=\"EFG\",$Q13738=\"mono-LGBC\"),1,2)))","v":1},{"$f":"IF($O13738=\"Sunpower Corp.\",3,(IF(OR($Q13738=\"mono\",$Q13738=\"poly\",$Q13738=\"HIT\",$Q13738=\"EFG\",$Q13738=\"mono-LGBC\"),1,IF(OR($Q13738=\"µc-Si / a-Si\",$Q13738=\"a-Si (single)\",$Q13738=\"a-Si (tandem)\",$Q13738=\"a-Si (triple)\"),3,2))))","v":1},0,null,null,7051,null,null,13738]
["SUN VALUE GmbH Sun Value SV-200 MI","SUN VALUE GmbH ","Sun Value SV-200 MI",200,"+3...-3",47,4.26,56.4,4.7699999999999996,-186.12,2.3849999999999998,-0.38,1000,null,null,11.73606014251709,"mono",96,"pseudo-square",1575,1082,50,null,"junction box",21.5,"www.sun-value.com",null,null,null,null,null,{"$f":"IF($O13754=\"Sunpower Corp.\",3,(IF(OR($Q13754=\"mono\",$Q13754=\"poly\",$Q13754=\"HIT\",$Q13754=\"EFG\",$Q13754=\"mono-LGBC\"),1,IF(OR($Q13754=\"µc-Si / a-Si\",$Q13754=\"a-Si (single)\",$Q13754=\"a-Si (tandem)\",$Q13754=\"a-Si (triple)\"),3,2))))","v":1},{"$f":"IF($O13754=\"Sunpower Corp.\",3,(IF(OR($Q13754=\"mono\",$Q13754=\"poly\",$Q13754=\"HIT\",$Q13754=\"EFG\",$Q13754=\"mono-LGBC\"),1,2)))","v":1},{"$f":"IF($O13754=\"Sunpower Corp.\",3,(IF(OR($Q13754=\"mono\",$Q13754=\"poly\",$Q13754=\"HIT\",$Q13754=\"EFG\",$Q13754=\"mono-LGBC\"),1,IF(OR($Q13754=\"µc-Si / a-Si\",$Q13754=\"a-Si (single)\",$Q13754=\"a-Si (tandem)\",$Q13754=\"a-Si (triple)\"),3,2))))","v":1},0,null,null,28010,null,null,13754]
["SUN VALUE GmbH Sun Value SV-250 PI","SUN VALUE GmbH ","Sun Value SV-250 PI",250,"+3...-3",35.299999999999997,7.08,42.4,7.93,-144.16,3.5684999999999998,-0.4,1000,null,null,12.877679824829102,"poly",72,"square",1957,992,50,null,"junction box",22.5,"www.sun-value.com",null,null,null,null,null,{"$f":"IF($O13777=\"Sunpower Corp.\",3,(IF(OR($Q13777=\"mono\",$Q13777=\"poly\",$Q13777=\"HIT\",$Q13777=\"EFG\",$Q13777=\"mono-LGBC\"),1,IF(OR($Q13777=\"µc-Si / a-Si\",$Q13777=\"a-Si (single)\",$Q13777=\"a-Si (tandem)\",$Q13777=\"a-Si (triple)\"),3,2))))","v":1},{"$f":"IF($O13777=\"Sunpower Corp.\",3,(IF(OR($Q13777=\"mono\",$Q13777=\"poly\",$Q13777=\"HIT\",$Q13777=\"EFG\",$Q13777=\"mono-LGBC\"),1,2)))","v":1},{"$f":"IF($O13777=\"Sunpower Corp.\",3,(IF(OR($Q13777=\"mono\",$Q13777=\"poly\",$Q13777=\"HIT\",$Q13777=\"EFG\",$Q13777=\"mono-LGBC\"),1,IF(OR($Q13777=\"µc-Si / a-Si\",$Q13777=\"a-Si (single)\",$Q13777=\"a-Si (tandem)\",$Q13777=\"a-Si (triple)\"),3,2))))","v":1},0,null,null,28030,null,null,13777]
["Sun Well Solar Corporation WD-C-GF-0904","Sun Well Solar Corporation ","WD-C-GF-0904",75,"+6,66...0",95,0.81,135,1.08,-459,0.97199999999999998,-0.2,1000,null,null,5.2447547912597656,"a-Si (single)",null,null,1300,1100,7,"frameless","junction box MC4",24,"www.sunwellsolar.com",null,null,null,null,null,{"$f":"IF($O13799=\"Sunpower Corp.\",3,(IF(OR($Q13799=\"mono\",$Q13799=\"poly\",$Q13799=\"HIT\",$Q13799=\"EFG\",$Q13799=\"mono-LGBC\"),1,IF(OR($Q13799=\"µc-Si / a-Si\",$Q13799=\"a-Si (single)\",$Q13799=\"a-Si (tandem)\",$Q13799=\"a-Si (triple)\"),3,2))))","v":3},{"$f":"IF($O13799=\"Sunpower Corp.\",3,(IF(OR($Q13799=\"mono\",$Q13799=\"poly\",$Q13799=\"HIT\",$Q13799=\"EFG\",$Q13799=\"mono-LGBC\"),1,2)))","v":2},{"$f":"IF($O13799=\"Sunpower Corp.\",3,(IF(OR($Q13799=\"mono\",$Q13799=\"poly\",$Q13799=\"HIT\",$Q13799=\"EFG\",$Q13799=\"mono-LGBC\"),1,IF(OR($Q13799=\"µc-Si / a-Si\",$Q13799=\"a-Si (single)\",$Q13799=\"a-Si (tandem)\",$Q13799=\"a-Si (triple)\"),3,2))))","v":3},0,null,null,25469,null,null,13799]
["Sun Well Solar Corporation WD-E-CC-125D","Sun Well Solar Corporation ","WD-E-CC-125D",115,"+4,35...0",103,1.1399999999999999,128,1.35,-512,0.94499999999999995,-0.35,1000,null,null,8.0419578552246094,"µc-Si / a-Si",null,null,1300,1100,7,"frameless","junction box MC4",24,"www.sunwellsolar.com",null,null,null,null,null,{"$f":"IF($O13804=\"Sunpower Corp.\",3,(IF(OR($Q13804=\"mono\",$Q13804=\"poly\",$Q13804=\"HIT\",$Q13804=\"EFG\",$Q13804=\"mono-LGBC\"),1,IF(OR($Q13804=\"µc-Si / a-Si\",$Q13804=\"a-Si (single)\",$Q13804=\"a-Si (tandem)\",$Q13804=\"a-Si (triple)\"),3,2))))","v":3},{"$f":"IF($O13804=\"Sunpower Corp.\",3,(IF(OR($Q13804=\"mono\",$Q13804=\"poly\",$Q13804=\"HIT\",$Q13804=\"EFG\",$Q13804=\"mono-LGBC\"),1,2)))","v":2},{"$f":"IF($O13804=\"Sunpower Corp.\",3,(IF(OR($Q13804=\"mono\",$Q13804=\"poly\",$Q13804=\"HIT\",$Q13804=\"EFG\",$Q13804=\"mono-LGBC\"),1,IF(OR($Q13804=\"µc-Si / a-Si\",$Q13804=\"a-Si (single)\",$Q13804=\"a-Si (tandem)\",$Q13804=\"a-Si (triple)\"),3,2))))","v":3},0,null,null,25477,null,null,13804]
["SUNAGE S.A. SAM 96/5-250","SUNAGE S.A. ","SAM 96/5-250",250,"+4,9...0",47.62,5.25,59.2,5.47,-195.36,2.7349999999999999,-0.42,1000,"Switzerland",null,14.476140022277832,"mono",96,"pseudo-square",1614,1070,45,"aluminum","junction box MC4",24,"www.sunage.ch",null,null,null,null,null,{"$f":"IF($O13823=\"Sunpower Corp.\",3,(IF(OR($Q13823=\"mono\",$Q13823=\"poly\",$Q13823=\"HIT\",$Q13823=\"EFG\",$Q13823=\"mono-LGBC\"),1,IF(OR($Q13823=\"µc-Si / a-Si\",$Q13823=\"a-Si (single)\",$Q13823=\"a-Si (tandem)\",$Q13823=\"a-Si (triple)\"),3,2))))","v":1},{"$f":"IF($O13823=\"Sunpower Corp.\",3,(IF(OR($Q13823=\"mono\",$Q13823=\"poly\",$Q13823=\"HIT\",$Q13823=\"EFG\",$Q13823=\"mono-LGBC\"),1,2)))","v":1},{"$f":"IF($O13823=\"Sunpower Corp.\",3,(IF(OR($Q13823=\"mono\",$Q13823=\"poly\",$Q13823=\"HIT\",$Q13823=\"EFG\",$Q13823=\"mono-LGBC\"),1,IF(OR($Q13823=\"µc-Si / a-Si\",$Q13823=\"a-Si (single)\",$Q13823=\"a-Si (tandem)\",$Q13823=\"a-Si (triple)\"),3,2))))","v":1},0,null,null,15035,null,null,13823]
["Sunbe Electric Industries Co., Ltd. SPM (P)-290","Sunbe Electric Industries Co., Ltd. ","SPM (P)-290",290,"+3...-3",37.42,7.75,44,8.3000000000000007,-158.4,3.32,-0.48,1000,null,null,14.94573974609375,"poly",72,"square",1956,992,50,"aluminum","junction box MC",25,"www.sunbe-solar.com",null,null,null,null,null,{"$f":"IF($O13849=\"Sunpower Corp.\",3,(IF(OR($Q13849=\"mono\",$Q13849=\"poly\",$Q13849=\"HIT\",$Q13849=\"EFG\",$Q13849=\"mono-LGBC\"),1,IF(OR($Q13849=\"µc-Si / a-Si\",$Q13849=\"a-Si (single)\",$Q13849=\"a-Si (tandem)\",$Q13849=\"a-Si (triple)\"),3,2))))","v":1},{"$f":"IF($O13849=\"Sunpower Corp.\",3,(IF(OR($Q13849=\"mono\",$Q13849=\"poly\",$Q13849=\"HIT\",$Q13849=\"EFG\",$Q13849=\"mono-LGBC\"),1,2)))","v":1},{"$f":"IF($O13849=\"Sunpower Corp.\",3,(IF(OR($Q13849=\"mono\",$Q13849=\"poly\",$Q13849=\"HIT\",$Q13849=\"EFG\",$Q13849=\"mono-LGBC\"),1,IF(OR($Q13849=\"µc-Si / a-Si\",$Q13849=\"a-Si (single)\",$Q13849=\"a-Si (tandem)\",$Q13849=\"a-Si (triple)\"),3,2))))","v":1},0,null,null,25370,null,null,13849]
["sunblu GmbH SBF170M5C/ 180 BEA Black Edition","sunblu GmbH ","SBF170M5C/ 180 BEA Black Edition",180,"+0...0",37.200000000000003,4.8499999999999996,43,5.77,-16.34,4.0389999999999997,-0.49,1000,null,"diverse",14.099510192871094,"mono",72,"pseudo-square",1580,808,50,"aluminum","junction box MC",15.5,"www.sunblu.com",null,null,null,null,null,{"$f":"IF($O13868=\"Sunpower Corp.\",3,(IF(OR($Q13868=\"mono\",$Q13868=\"poly\",$Q13868=\"HIT\",$Q13868=\"EFG\",$Q13868=\"mono-LGBC\"),1,IF(OR($Q13868=\"µc-Si / a-Si\",$Q13868=\"a-Si (single)\",$Q13868=\"a-Si (tandem)\",$Q13868=\"a-Si (triple)\"),3,2))))","v":1},{"$f":"IF($O13868=\"Sunpower Corp.\",3,(IF(OR($Q13868=\"mono\",$Q13868=\"poly\",$Q13868=\"HIT\",$Q13868=\"EFG\",$Q13868=\"mono-LGBC\"),1,2)))","v":1},{"$f":"IF($O13868=\"Sunpower Corp.\",3,(IF(OR($Q13868=\"mono\",$Q13868=\"poly\",$Q13868=\"HIT\",$Q13868=\"EFG\",$Q13868=\"mono-LGBC\"),1,IF(OR($Q13868=\"µc-Si / a-Si\",$Q13868=\"a-Si (single)\",$Q13868=\"a-Si (tandem)\",$Q13868=\"a-Si (triple)\"),3,2))))","v":1},0,null,null,13809,null,null,13868]
["SunConnex BV SC-175P","SunConnex BV ","SC-175P",175,"+3...-3",23.41,7.48,29.29,8.0299999999999994,-93.728000000000009,2.4089999999999998,-0.51,1000,null,null,13.517680168151855,"poly",48,"square",1309,989,48,"aluminum","junction box Tyco",15.5,null,null,null,null,null,null,{"$f":"IF($O13894=\"Sunpower Corp.\",3,(IF(OR($Q13894=\"mono\",$Q13894=\"poly\",$Q13894=\"HIT\",$Q13894=\"EFG\",$Q13894=\"mono-LGBC\"),1,IF(OR($Q13894=\"µc-Si / a-Si\",$Q13894=\"a-Si (single)\",$Q13894=\"a-Si (tandem)\",$Q13894=\"a-Si (triple)\"),3,2))))","v":1},{"$f":"IF($O13894=\"Sunpower Corp.\",3,(IF(OR($Q13894=\"mono\",$Q13894=\"poly\",$Q13894=\"HIT\",$Q13894=\"EFG\",$Q13894=\"mono-LGBC\"),1,2)))","v":1},{"$f":"IF($O13894=\"Sunpower Corp.\",3,(IF(OR($Q13894=\"mono\",$Q13894=\"poly\",$Q13894=\"HIT\",$Q13894=\"EFG\",$Q13894=\"mono-LGBC\"),1,IF(OR($Q13894=\"µc-Si / a-Si\",$Q13894=\"a-Si (single)\",$Q13894=\"a-Si (tandem)\",$Q13894=\"a-Si (triple)\"),3,2))))","v":1},0,null,null,6419,null,null,13894]
["SunEnergy Europe GmbH SEE 225P-60-SO1","SunEnergy Europe GmbH ","SEE 225P-60-SO1",225,"+3...-3",29.19,7.71,36.75,8.2899999999999991,-132.30000000000001,11.606,-0.44,1000,"Taiwan (Formosa)","Neosolar",13.763250350952148,"poly",60,"square",1658,986,50,"aluminum","junction box Tyco",20,"www.sunenergy.eu",null,null,null,null,null,{"$f":"IF($O13913=\"Sunpower Corp.\",3,(IF(OR($Q13913=\"mono\",$Q13913=\"poly\",$Q13913=\"HIT\",$Q13913=\"EFG\",$Q13913=\"mono-LGBC\"),1,IF(OR($Q13913=\"µc-Si / a-Si\",$Q13913=\"a-Si (single)\",$Q13913=\"a-Si (tandem)\",$Q13913=\"a-Si (triple)\"),3,2))))","v":1},{"$f":"IF($O13913=\"Sunpower Corp.\",3,(IF(OR($Q13913=\"mono\",$Q13913=\"poly\",$Q13913=\"HIT\",$Q13913=\"EFG\",$Q13913=\"mono-LGBC\"),1,2)))","v":1},{"$f":"IF($O13913=\"Sunpower Corp.\",3,(IF(OR($Q13913=\"mono\",$Q13913=\"poly\",$Q13913=\"HIT\",$Q13913=\"EFG\",$Q13913=\"mono-LGBC\"),1,IF(OR($Q13913=\"µc-Si / a-Si\",$Q13913=\"a-Si (single)\",$Q13913=\"a-Si (tandem)\",$Q13913=\"a-Si (triple)\"),3,2))))","v":1},0,null,null,27084,null,null,13913]
["Sunerg Solar S.r.l. XM 60/156-235","Sunerg Solar S.r.l. ","XM 60/156-235",235,"+2...-2",30.9,7.65,36.9,8.17,-136.53,3.2680000000000002,-0.45,1000,null,null,14.129389762878418,"mono",60,"pseudo-square",1680,990,50,null,"junction box",23,"www.sunergsolar.com",null,null,null,null,null,{"$f":"IF($O13923=\"Sunpower Corp.\",3,(IF(OR($Q13923=\"mono\",$Q13923=\"poly\",$Q13923=\"HIT\",$Q13923=\"EFG\",$Q13923=\"mono-LGBC\"),1,IF(OR($Q13923=\"µc-Si / a-Si\",$Q13923=\"a-Si (single)\",$Q13923=\"a-Si (tandem)\",$Q13923=\"a-Si (triple)\"),3,2))))","v":1},{"$f":"IF($O13923=\"Sunpower Corp.\",3,(IF(OR($Q13923=\"mono\",$Q13923=\"poly\",$Q13923=\"HIT\",$Q13923=\"EFG\",$Q13923=\"mono-LGBC\"),1,2)))","v":1},{"$f":"IF($O13923=\"Sunpower Corp.\",3,(IF(OR($Q13923=\"mono\",$Q13923=\"poly\",$Q13923=\"HIT\",$Q13923=\"EFG\",$Q13923=\"mono-LGBC\"),1,IF(OR($Q13923=\"µc-Si / a-Si\",$Q13923=\"a-Si (single)\",$Q13923=\"a-Si (tandem)\",$Q13923=\"a-Si (triple)\"),3,2))))","v":1},0,null,null,21724,null,null,13923]
["Sunfilm AG (nun Schüco TF) Model L235","Sunfilm AG (nun Schüco TF) ","Model L235",235,"+5...-5",107.58499999999999,2.21,141.637,2.74,-524.05690000000004,2.74,-0.3,1000,"Germany",null,8.2167835235595703,"µc-Si / a-Si",null,null,2600,1100,7.3,"frameless","junction box MC4",54,"www.sunfilm.com",null,null,null,null,null,{"$f":"IF($O13958=\"Sunpower Corp.\",3,(IF(OR($Q13958=\"mono\",$Q13958=\"poly\",$Q13958=\"HIT\",$Q13958=\"EFG\",$Q13958=\"mono-LGBC\"),1,IF(OR($Q13958=\"µc-Si / a-Si\",$Q13958=\"a-Si (single)\",$Q13958=\"a-Si (tandem)\",$Q13958=\"a-Si (triple)\"),3,2))))","v":3},{"$f":"IF($O13958=\"Sunpower Corp.\",3,(IF(OR($Q13958=\"mono\",$Q13958=\"poly\",$Q13958=\"HIT\",$Q13958=\"EFG\",$Q13958=\"mono-LGBC\"),1,2)))","v":2},{"$f":"IF($O13958=\"Sunpower Corp.\",3,(IF(OR($Q13958=\"mono\",$Q13958=\"poly\",$Q13958=\"HIT\",$Q13958=\"EFG\",$Q13958=\"mono-LGBC\"),1,IF(OR($Q13958=\"µc-Si / a-Si\",$Q13958=\"a-Si (single)\",$Q13958=\"a-Si (tandem)\",$Q13958=\"a-Si (triple)\"),3,2))))","v":3},0,null,null,17420,null,null,13958]
["Sunfilm AG (nun Schüco TF) Model Q117,5","Sunfilm AG (nun Schüco TF) ","Model Q117,5",117.5,"+5...-5",108,1.0900000000000001,141,1.29,-521.70000000000005,1.29,-0.3,1000,"Germany",null,8.2167835235595703,"µc-Si / a-Si",null,null,1300,1100,7.3,"frameless","junction box MC4",27,"www.sunfilm.com",null,null,null,null,null,{"$f":"IF($O13968=\"Sunpower Corp.\",3,(IF(OR($Q13968=\"mono\",$Q13968=\"poly\",$Q13968=\"HIT\",$Q13968=\"EFG\",$Q13968=\"mono-LGBC\"),1,IF(OR($Q13968=\"µc-Si / a-Si\",$Q13968=\"a-Si (single)\",$Q13968=\"a-Si (tandem)\",$Q13968=\"a-Si (triple)\"),3,2))))","v":3},{"$f":"IF($O13968=\"Sunpower Corp.\",3,(IF(OR($Q13968=\"mono\",$Q13968=\"poly\",$Q13968=\"HIT\",$Q13968=\"EFG\",$Q13968=\"mono-LGBC\"),1,2)))","v":2},{"$f":"IF($O13968=\"Sunpower Corp.\",3,(IF(OR($Q13968=\"mono\",$Q13968=\"poly\",$Q13968=\"HIT\",$Q13968=\"EFG\",$Q13968=\"mono-LGBC\"),1,IF(OR($Q13968=\"µc-Si / a-Si\",$Q13968=\"a-Si (single)\",$Q13968=\"a-Si (tandem)\",$Q13968=\"a-Si (triple)\"),3,2))))","v":3},0,null,null,13377,null,null,13968]
["Sunfilm AG (nun Schüco TF) Model SN2-147,5","Sunfilm AG (nun Schüco TF) ","Model SN2-147,5",147.5,"+5...-5",103,1.4,132,1.7,-462,1.7,-0.28999999999999998,1000,"Germany",null,8.2944202423095703,"µc-Si / a-Si",null,null,1684,1056,8.4,"frameless","junction box MC4",37,"www.sunfilm.com",null,null,null,null,null,{"$f":"IF($O13984=\"Sunpower Corp.\",3,(IF(OR($Q13984=\"mono\",$Q13984=\"poly\",$Q13984=\"HIT\",$Q13984=\"EFG\",$Q13984=\"mono-LGBC\"),1,IF(OR($Q13984=\"µc-Si / a-Si\",$Q13984=\"a-Si (single)\",$Q13984=\"a-Si (tandem)\",$Q13984=\"a-Si (triple)\"),3,2))))","v":3},{"$f":"IF($O13984=\"Sunpower Corp.\",3,(IF(OR($Q13984=\"mono\",$Q13984=\"poly\",$Q13984=\"HIT\",$Q13984=\"EFG\",$Q13984=\"mono-LGBC\"),1,2)))","v":2},{"$f":"IF($O13984=\"Sunpower Corp.\",3,(IF(OR($Q13984=\"mono\",$Q13984=\"poly\",$Q13984=\"HIT\",$Q13984=\"EFG\",$Q13984=\"mono-LGBC\"),1,IF(OR($Q13984=\"µc-Si / a-Si\",$Q13984=\"a-Si (single)\",$Q13984=\"a-Si (tandem)\",$Q13984=\"a-Si (triple)\"),3,2))))","v":3},0,null,null,17177,null,null,13984]
["Sunfree Solar Power Technology Co., Ltd. SSP5A-235M","Sunfree Solar Power Technology Co., Ltd. ","SSP5A-235M",235,"+3...-3",48,4.8899999999999997,57.6,5.48,-195.84,2.4660000000000002,-0.47,1000,"China",null,13.789870262145996,"mono",96,"pseudo-square",1575,1082,50,"aluminum","junction box MC4",20.2,"www.sunfreesolar.com",null,null,null,null,null,{"$f":"IF($O14013=\"Sunpower Corp.\",3,(IF(OR($Q14013=\"mono\",$Q14013=\"poly\",$Q14013=\"HIT\",$Q14013=\"EFG\",$Q14013=\"mono-LGBC\"),1,IF(OR($Q14013=\"µc-Si / a-Si\",$Q14013=\"a-Si (single)\",$Q14013=\"a-Si (tandem)\",$Q14013=\"a-Si (triple)\"),3,2))))","v":1},{"$f":"IF($O14013=\"Sunpower Corp.\",3,(IF(OR($Q14013=\"mono\",$Q14013=\"poly\",$Q14013=\"HIT\",$Q14013=\"EFG\",$Q14013=\"mono-LGBC\"),1,2)))","v":1},{"$f":"IF($O14013=\"Sunpower Corp.\",3,(IF(OR($Q14013=\"mono\",$Q14013=\"poly\",$Q14013=\"HIT\",$Q14013=\"EFG\",$Q14013=\"mono-LGBC\"),1,IF(OR($Q14013=\"µc-Si / a-Si\",$Q14013=\"a-Si (single)\",$Q14013=\"a-Si (tandem)\",$Q14013=\"a-Si (triple)\"),3,2))))","v":1},0,null,null,24763,null,null,14013]
["Sunfree Solar Power Technology Co., Ltd. SSP5C-85M","Sunfree Solar Power Technology Co., Ltd. ","SSP5C-85M",85,"+3...-3",18,4.72,22.7,5.48,-77.180000000000007,2.4660000000000002,-0.47,1000,"China",null,12.810640335083008,"mono",36,"pseudo-square",1213,547,45,"aluminum","junction box MC4",7.1,"www.sunfreesolar.com",null,null,null,null,null,{"$f":"IF($O14023=\"Sunpower Corp.\",3,(IF(OR($Q14023=\"mono\",$Q14023=\"poly\",$Q14023=\"HIT\",$Q14023=\"EFG\",$Q14023=\"mono-LGBC\"),1,IF(OR($Q14023=\"µc-Si / a-Si\",$Q14023=\"a-Si (single)\",$Q14023=\"a-Si (tandem)\",$Q14023=\"a-Si (triple)\"),3,2))))","v":1},{"$f":"IF($O14023=\"Sunpower Corp.\",3,(IF(OR($Q14023=\"mono\",$Q14023=\"poly\",$Q14023=\"HIT\",$Q14023=\"EFG\",$Q14023=\"mono-LGBC\"),1,2)))","v":1},{"$f":"IF($O14023=\"Sunpower Corp.\",3,(IF(OR($Q14023=\"mono\",$Q14023=\"poly\",$Q14023=\"HIT\",$Q14023=\"EFG\",$Q14023=\"mono-LGBC\"),1,IF(OR($Q14023=\"µc-Si / a-Si\",$Q14023=\"a-Si (single)\",$Q14023=\"a-Si (tandem)\",$Q14023=\"a-Si (triple)\"),3,2))))","v":1},0,null,null,24773,null,null,14023]
["Sunfree Solar Power Technology Co., Ltd. SSP6B-215P","Sunfree Solar Power Technology Co., Ltd. ","SSP6B-215P",215,"+3...-3",29,7.41,34.799999999999997,8.3000000000000007,-118.32,3.7349999999999999,-0.47,1000,"China",null,13.135390281677246,"poly",60,"square",1650,992,45,"aluminum","junction box MC4",17.5,"www.sunfreesolar.com",null,null,null,null,null,{"$f":"IF($O14038=\"Sunpower Corp.\",3,(IF(OR($Q14038=\"mono\",$Q14038=\"poly\",$Q14038=\"HIT\",$Q14038=\"EFG\",$Q14038=\"mono-LGBC\"),1,IF(OR($Q14038=\"µc-Si / a-Si\",$Q14038=\"a-Si (single)\",$Q14038=\"a-Si (tandem)\",$Q14038=\"a-Si (triple)\"),3,2))))","v":1},{"$f":"IF($O14038=\"Sunpower Corp.\",3,(IF(OR($Q14038=\"mono\",$Q14038=\"poly\",$Q14038=\"HIT\",$Q14038=\"EFG\",$Q14038=\"mono-LGBC\"),1,2)))","v":1},{"$f":"IF($O14038=\"Sunpower Corp.\",3,(IF(OR($Q14038=\"mono\",$Q14038=\"poly\",$Q14038=\"HIT\",$Q14038=\"EFG\",$Q14038=\"mono-LGBC\"),1,IF(OR($Q14038=\"µc-Si / a-Si\",$Q14038=\"a-Si (single)\",$Q14038=\"a-Si (tandem)\",$Q14038=\"a-Si (triple)\"),3,2))))","v":1},0,null,null,24788,null,null,14038]
["Sungen Ltd SGM-220P","Sungen Ltd ","SGM-220P",220,"+3...-3",29.4,7.48,35.869999999999997,8.4,-125.545,4.2,-0.45,1000,null,null,13.468009948730469,"poly",60,"square",1650,990,40,"aluminum","junction box",25.5,"www.sungen.com",null,null,null,null,null,{"$f":"IF($O14068=\"Sunpower Corp.\",3,(IF(OR($Q14068=\"mono\",$Q14068=\"poly\",$Q14068=\"HIT\",$Q14068=\"EFG\",$Q14068=\"mono-LGBC\"),1,IF(OR($Q14068=\"µc-Si / a-Si\",$Q14068=\"a-Si (single)\",$Q14068=\"a-Si (tandem)\",$Q14068=\"a-Si (triple)\"),3,2))))","v":1},{"$f":"IF($O14068=\"Sunpower Corp.\",3,(IF(OR($Q14068=\"mono\",$Q14068=\"poly\",$Q14068=\"HIT\",$Q14068=\"EFG\",$Q14068=\"mono-LGBC\"),1,2)))","v":1},{"$f":"IF($O14068=\"Sunpower Corp.\",3,(IF(OR($Q14068=\"mono\",$Q14068=\"poly\",$Q14068=\"HIT\",$Q14068=\"EFG\",$Q14068=\"mono-LGBC\"),1,IF(OR($Q14068=\"µc-Si / a-Si\",$Q14068=\"a-Si (single)\",$Q14068=\"a-Si (tandem)\",$Q14068=\"a-Si (triple)\"),3,2))))","v":1},0,null,null,9822,null,null,14068]
["Sungold Solar Co. Ltd SG 090 S1-18","Sungold Solar Co. Ltd ","SG 090 S1-18",90,"+5...-3",18.2,4.9400000000000004,22.1,5.35,-75.14,0.90950000000000009,-0.48,1000,"China",null,13.811070442199707,"mono",null,"pseudo-square",1209,539,null,null,null,null,"www.sungoldsolar.com",null,null,null,null,null,{"$f":"IF($O14087=\"Sunpower Corp.\",3,(IF(OR($Q14087=\"mono\",$Q14087=\"poly\",$Q14087=\"HIT\",$Q14087=\"EFG\",$Q14087=\"mono-LGBC\"),1,IF(OR($Q14087=\"µc-Si / a-Si\",$Q14087=\"a-Si (single)\",$Q14087=\"a-Si (tandem)\",$Q14087=\"a-Si (triple)\"),3,2))))","v":1},{"$f":"IF($O14087=\"Sunpower Corp.\",3,(IF(OR($Q14087=\"mono\",$Q14087=\"poly\",$Q14087=\"HIT\",$Q14087=\"EFG\",$Q14087=\"mono-LGBC\"),1,2)))","v":1},{"$f":"IF($O14087=\"Sunpower Corp.\",3,(IF(OR($Q14087=\"mono\",$Q14087=\"poly\",$Q14087=\"HIT\",$Q14087=\"EFG\",$Q14087=\"mono-LGBC\"),1,IF(OR($Q14087=\"µc-Si / a-Si\",$Q14087=\"a-Si (single)\",$Q14087=\"a-Si (tandem)\",$Q14087=\"a-Si (triple)\"),3,2))))","v":1},0,null,null,24709,null,null,14087]
["Sungold Solar Co. Ltd SG 185 M2-27","Sungold Solar Co. Ltd ","SG 185 M2-27",185,"+5...-3",26.5,6.98,32.4,7.68,-110.16,1.3056000000000001,-0.48,1000,"China",null,12.583800315856934,"poly",null,"square",1482,992,null,null,null,null,"www.sungoldsolar.com",null,null,null,null,null,{"$f":"IF($O14113=\"Sunpower Corp.\",3,(IF(OR($Q14113=\"mono\",$Q14113=\"poly\",$Q14113=\"HIT\",$Q14113=\"EFG\",$Q14113=\"mono-LGBC\"),1,IF(OR($Q14113=\"µc-Si / a-Si\",$Q14113=\"a-Si (single)\",$Q14113=\"a-Si (tandem)\",$Q14113=\"a-Si (triple)\"),3,2))))","v":1},{"$f":"IF($O14113=\"Sunpower Corp.\",3,(IF(OR($Q14113=\"mono\",$Q14113=\"poly\",$Q14113=\"HIT\",$Q14113=\"EFG\",$Q14113=\"mono-LGBC\"),1,2)))","v":1},{"$f":"IF($O14113=\"Sunpower Corp.\",3,(IF(OR($Q14113=\"mono\",$Q14113=\"poly\",$Q14113=\"HIT\",$Q14113=\"EFG\",$Q14113=\"mono-LGBC\"),1,IF(OR($Q14113=\"µc-Si / a-Si\",$Q14113=\"a-Si (single)\",$Q14113=\"a-Si (tandem)\",$Q14113=\"a-Si (triple)\"),3,2))))","v":1},0,null,null,24735,null,null,14113]
["Sungold Solar Co. Ltd SG 280 M2-36","Sungold Solar Co. Ltd ","SG 280 M2-36",280,"+5...-3",36.4,7.7,44.5,8.2799999999999994,-151.30000000000001,1.4076,-0.48,1000,"China",null,14.430370330810547,"poly",null,"square",1956,992,null,null,null,null,"www,sungoldsolar.com",null,null,null,null,null,{"$f":"IF($O14132=\"Sunpower Corp.\",3,(IF(OR($Q14132=\"mono\",$Q14132=\"poly\",$Q14132=\"HIT\",$Q14132=\"EFG\",$Q14132=\"mono-LGBC\"),1,IF(OR($Q14132=\"µc-Si / a-Si\",$Q14132=\"a-Si (single)\",$Q14132=\"a-Si (tandem)\",$Q14132=\"a-Si (triple)\"),3,2))))","v":1},{"$f":"IF($O14132=\"Sunpower Corp.\",3,(IF(OR($Q14132=\"mono\",$Q14132=\"poly\",$Q14132=\"HIT\",$Q14132=\"EFG\",$Q14132=\"mono-LGBC\"),1,2)))","v":1},{"$f":"IF($O14132=\"Sunpower Corp.\",3,(IF(OR($Q14132=\"mono\",$Q14132=\"poly\",$Q14132=\"HIT\",$Q14132=\"EFG\",$Q14132=\"mono-LGBC\"),1,IF(OR($Q14132=\"µc-Si / a-Si\",$Q14132=\"a-Si (single)\",$Q14132=\"a-Si (tandem)\",$Q14132=\"a-Si (triple)\"),3,2))))","v":1},0,null,null,24754,null,null,14132]
["Suniva, Inc. ART305-72-3-2","Suniva, Inc. ","ART305-72-3-2",305,"+2...-2",35.9,8.5,44.93,8.82,-149.16760000000002,3.1751999999999998,-0.46,1000,"India","Suniva",15.630610466003418,"mono",72,"pseudo-square",1975,988,50,"aluminum","junction box MC4",28,"www.suniva.com",null,null,null,null,null,{"$f":"IF($O14139=\"Sunpower Corp.\",3,(IF(OR($Q14139=\"mono\",$Q14139=\"poly\",$Q14139=\"HIT\",$Q14139=\"EFG\",$Q14139=\"mono-LGBC\"),1,IF(OR($Q14139=\"µc-Si / a-Si\",$Q14139=\"a-Si (single)\",$Q14139=\"a-Si (tandem)\",$Q14139=\"a-Si (triple)\"),3,2))))","v":1},{"$f":"IF($O14139=\"Sunpower Corp.\",3,(IF(OR($Q14139=\"mono\",$Q14139=\"poly\",$Q14139=\"HIT\",$Q14139=\"EFG\",$Q14139=\"mono-LGBC\"),1,2)))","v":1},{"$f":"IF($O14139=\"Sunpower Corp.\",3,(IF(OR($Q14139=\"mono\",$Q14139=\"poly\",$Q14139=\"HIT\",$Q14139=\"EFG\",$Q14139=\"mono-LGBC\"),1,IF(OR($Q14139=\"µc-Si / a-Si\",$Q14139=\"a-Si (single)\",$Q14139=\"a-Si (tandem)\",$Q14139=\"a-Si (triple)\"),3,2))))","v":1},0,null,null,24822,null,null,14139]
["Sunlan Solar Co., Ltd. SLM275P-72","Sunlan Solar Co., Ltd. ","SLM275P-72",275,"+3...-3",35,7.84,44.6,8.26,-156.1,4.9559999999999995,-0.41,1000,"China",null,14.165439605712891,"poly",72,"square",1957,992,50,"aluminum","junction box MC",22.5,"www.sunlansolar.com",null,null,null,null,null,{"$f":"IF($O14157=\"Sunpower Corp.\",3,(IF(OR($Q14157=\"mono\",$Q14157=\"poly\",$Q14157=\"HIT\",$Q14157=\"EFG\",$Q14157=\"mono-LGBC\"),1,IF(OR($Q14157=\"µc-Si / a-Si\",$Q14157=\"a-Si (single)\",$Q14157=\"a-Si (tandem)\",$Q14157=\"a-Si (triple)\"),3,2))))","v":1},{"$f":"IF($O14157=\"Sunpower Corp.\",3,(IF(OR($Q14157=\"mono\",$Q14157=\"poly\",$Q14157=\"HIT\",$Q14157=\"EFG\",$Q14157=\"mono-LGBC\"),1,2)))","v":1},{"$f":"IF($O14157=\"Sunpower Corp.\",3,(IF(OR($Q14157=\"mono\",$Q14157=\"poly\",$Q14157=\"HIT\",$Q14157=\"EFG\",$Q14157=\"mono-LGBC\"),1,IF(OR($Q14157=\"µc-Si / a-Si\",$Q14157=\"a-Si (single)\",$Q14157=\"a-Si (tandem)\",$Q14157=\"a-Si (triple)\"),3,2))))","v":1},0,null,null,24669,null,null,14157]
["Sunlink PV Co.,Ltd SL080-12(85)","Sunlink PV Co.,Ltd ","SL080-12(85)",85,"+3...-3",17.2,4.9000000000000004,21.6,5.47,-79.92,1.9145000000000001,-0.48,1000,"China",null,13.309029579162598,"mono",36,"pseudo-square",1196,534,35,"aluminum","junction box",8,"www.sunlink-pv.cn",null,null,null,null,null,{"$f":"IF($O14178=\"Sunpower Corp.\",3,(IF(OR($Q14178=\"mono\",$Q14178=\"poly\",$Q14178=\"HIT\",$Q14178=\"EFG\",$Q14178=\"mono-LGBC\"),1,IF(OR($Q14178=\"µc-Si / a-Si\",$Q14178=\"a-Si (single)\",$Q14178=\"a-Si (tandem)\",$Q14178=\"a-Si (triple)\"),3,2))))","v":1},{"$f":"IF($O14178=\"Sunpower Corp.\",3,(IF(OR($Q14178=\"mono\",$Q14178=\"poly\",$Q14178=\"HIT\",$Q14178=\"EFG\",$Q14178=\"mono-LGBC\"),1,2)))","v":1},{"$f":"IF($O14178=\"Sunpower Corp.\",3,(IF(OR($Q14178=\"mono\",$Q14178=\"poly\",$Q14178=\"HIT\",$Q14178=\"EFG\",$Q14178=\"mono-LGBC\"),1,IF(OR($Q14178=\"µc-Si / a-Si\",$Q14178=\"a-Si (single)\",$Q14178=\"a-Si (tandem)\",$Q14178=\"a-Si (triple)\"),3,2))))","v":1},0,null,null,4321,null,null,14178]
["Sunlink PV Co.,Ltd SL135-12","Sunlink PV Co.,Ltd ","SL135-12",135,"+5...-5",17.8,7.58,22.2,8.4499999999999993,-79.92,2.7884999999999995,-0.47,null,null,null,13.629549980163574,"poly",36,"square",1485,667,35,"aluminum","junction box",13,"www.sunlink-pv.com",null,null,null,null,null,{"$f":"IF($O14202=\"Sunpower Corp.\",3,(IF(OR($Q14202=\"mono\",$Q14202=\"poly\",$Q14202=\"HIT\",$Q14202=\"EFG\",$Q14202=\"mono-LGBC\"),1,IF(OR($Q14202=\"µc-Si / a-Si\",$Q14202=\"a-Si (single)\",$Q14202=\"a-Si (tandem)\",$Q14202=\"a-Si (triple)\"),3,2))))","v":1},{"$f":"IF($O14202=\"Sunpower Corp.\",3,(IF(OR($Q14202=\"mono\",$Q14202=\"poly\",$Q14202=\"HIT\",$Q14202=\"EFG\",$Q14202=\"mono-LGBC\"),1,2)))","v":1},{"$f":"IF($O14202=\"Sunpower Corp.\",3,(IF(OR($Q14202=\"mono\",$Q14202=\"poly\",$Q14202=\"HIT\",$Q14202=\"EFG\",$Q14202=\"mono-LGBC\"),1,IF(OR($Q14202=\"µc-Si / a-Si\",$Q14202=\"a-Si (single)\",$Q14202=\"a-Si (tandem)\",$Q14202=\"a-Si (triple)\"),3,2))))","v":1},0,null,null,25433,null,null,14202]
["Sunlink PV Co.,Ltd SL200-20","Sunlink PV Co.,Ltd ","SL200-20",200,"+3...-3",28.6,6.99,36,7.77,-129.6,2.5640999999999998,-0.48,null,null,null,12.106539726257324,"poly",60,"square",1652,1000,50,"aluminum","junction box MC4",20,"www.sunlink-pv.com",null,null,null,null,null,{"$f":"IF($O14223=\"Sunpower Corp.\",3,(IF(OR($Q14223=\"mono\",$Q14223=\"poly\",$Q14223=\"HIT\",$Q14223=\"EFG\",$Q14223=\"mono-LGBC\"),1,IF(OR($Q14223=\"µc-Si / a-Si\",$Q14223=\"a-Si (single)\",$Q14223=\"a-Si (tandem)\",$Q14223=\"a-Si (triple)\"),3,2))))","v":1},{"$f":"IF($O14223=\"Sunpower Corp.\",3,(IF(OR($Q14223=\"mono\",$Q14223=\"poly\",$Q14223=\"HIT\",$Q14223=\"EFG\",$Q14223=\"mono-LGBC\"),1,2)))","v":1},{"$f":"IF($O14223=\"Sunpower Corp.\",3,(IF(OR($Q14223=\"mono\",$Q14223=\"poly\",$Q14223=\"HIT\",$Q14223=\"EFG\",$Q14223=\"mono-LGBC\"),1,IF(OR($Q14223=\"µc-Si / a-Si\",$Q14223=\"a-Si (single)\",$Q14223=\"a-Si (tandem)\",$Q14223=\"a-Si (triple)\"),3,2))))","v":1},0,null,null,25398,null,null,14223]
["Sunner Solar Corp. SA-100","Sunner Solar Corp. ","SA-100",100,"+5...-5",100,1,128,1.24,-422.4,1.1160000000000001,-0.2,null,null,null,6.3484158515930176,"a-Si (single)",155,null,1414,1114,35,"aluminum","junction box MC4",20.5,"www.sunnersolar.com",null,null,null,null,null,{"$f":"IF($O14251=\"Sunpower Corp.\",3,(IF(OR($Q14251=\"mono\",$Q14251=\"poly\",$Q14251=\"HIT\",$Q14251=\"EFG\",$Q14251=\"mono-LGBC\"),1,IF(OR($Q14251=\"µc-Si / a-Si\",$Q14251=\"a-Si (single)\",$Q14251=\"a-Si (tandem)\",$Q14251=\"a-Si (triple)\"),3,2))))","v":3},{"$f":"IF($O14251=\"Sunpower Corp.\",3,(IF(OR($Q14251=\"mono\",$Q14251=\"poly\",$Q14251=\"HIT\",$Q14251=\"EFG\",$Q14251=\"mono-LGBC\"),1,2)))","v":2},{"$f":"IF($O14251=\"Sunpower Corp.\",3,(IF(OR($Q14251=\"mono\",$Q14251=\"poly\",$Q14251=\"HIT\",$Q14251=\"EFG\",$Q14251=\"mono-LGBC\"),1,IF(OR($Q14251=\"µc-Si / a-Si\",$Q14251=\"a-Si (single)\",$Q14251=\"a-Si (tandem)\",$Q14251=\"a-Si (triple)\"),3,2))))","v":3},0,null,null,25334,null,null,14251]
["Sunny Power & Technology Co., Ltd SPM225-P","Sunny Power & Technology Co., Ltd ","SPM225-P",225,"+3...-3",28.5,7.9,36.4,8.52,-120.12,3.4931999999999999,-0.48,1000,null,null,13.83014965057373,"poly",60,"square",1640,992,50,"aluminum","junction box MC4",20,"www.sunnypowersolar.com",null,null,null,null,null,{"$f":"IF($O14268=\"Sunpower Corp.\",3,(IF(OR($Q14268=\"mono\",$Q14268=\"poly\",$Q14268=\"HIT\",$Q14268=\"EFG\",$Q14268=\"mono-LGBC\"),1,IF(OR($Q14268=\"µc-Si / a-Si\",$Q14268=\"a-Si (single)\",$Q14268=\"a-Si (tandem)\",$Q14268=\"a-Si (triple)\"),3,2))))","v":1},{"$f":"IF($O14268=\"Sunpower Corp.\",3,(IF(OR($Q14268=\"mono\",$Q14268=\"poly\",$Q14268=\"HIT\",$Q14268=\"EFG\",$Q14268=\"mono-LGBC\"),1,2)))","v":1},{"$f":"IF($O14268=\"Sunpower Corp.\",3,(IF(OR($Q14268=\"mono\",$Q14268=\"poly\",$Q14268=\"HIT\",$Q14268=\"EFG\",$Q14268=\"mono-LGBC\"),1,IF(OR($Q14268=\"µc-Si / a-Si\",$Q14268=\"a-Si (single)\",$Q14268=\"a-Si (tandem)\",$Q14268=\"a-Si (triple)\"),3,2))))","v":1},0,null,null,19543,null,null,14268]
["Sunny Power & Technology Co., Ltd SPM265-P","Sunny Power & Technology Co., Ltd ","SPM265-P",265,"+3...-3",32.700000000000003,8.11,41.7,8.68,-137.61000000000001,3.5588000000000002,-0.48,1000,null,null,14.840950012207031,"poly",66,"square",1800,992,50,"aluminum","junction box MC4",22.5,"www.sunnypowersolar.com",null,null,null,null,null,{"$f":"IF($O14276=\"Sunpower Corp.\",3,(IF(OR($Q14276=\"mono\",$Q14276=\"poly\",$Q14276=\"HIT\",$Q14276=\"EFG\",$Q14276=\"mono-LGBC\"),1,IF(OR($Q14276=\"µc-Si / a-Si\",$Q14276=\"a-Si (single)\",$Q14276=\"a-Si (tandem)\",$Q14276=\"a-Si (triple)\"),3,2))))","v":1},{"$f":"IF($O14276=\"Sunpower Corp.\",3,(IF(OR($Q14276=\"mono\",$Q14276=\"poly\",$Q14276=\"HIT\",$Q14276=\"EFG\",$Q14276=\"mono-LGBC\"),1,2)))","v":1},{"$f":"IF($O14276=\"Sunpower Corp.\",3,(IF(OR($Q14276=\"mono\",$Q14276=\"poly\",$Q14276=\"HIT\",$Q14276=\"EFG\",$Q14276=\"mono-LGBC\"),1,IF(OR($Q14276=\"µc-Si / a-Si\",$Q14276=\"a-Si (single)\",$Q14276=\"a-Si (tandem)\",$Q14276=\"a-Si (triple)\"),3,2))))","v":1},0,null,null,19550,null,null,14276]
["Sunny Roo Products BBPV-210W (54) poly","Sunny Roo Products ","BBPV-210W (54) poly",210,"+3...0",27,7.78,33.6,8.44,-120.96,2.7851999999999997,-0.44,1000,null,null,14.284319877624512,"poly",54,"square",1482,992,50,"aluminum","junction box MC4",18,"www.sunnyrooproducts.com",null,null,null,null,null,{"$f":"IF($O14294=\"Sunpower Corp.\",3,(IF(OR($Q14294=\"mono\",$Q14294=\"poly\",$Q14294=\"HIT\",$Q14294=\"EFG\",$Q14294=\"mono-LGBC\"),1,IF(OR($Q14294=\"µc-Si / a-Si\",$Q14294=\"a-Si (single)\",$Q14294=\"a-Si (tandem)\",$Q14294=\"a-Si (triple)\"),3,2))))","v":1},{"$f":"IF($O14294=\"Sunpower Corp.\",3,(IF(OR($Q14294=\"mono\",$Q14294=\"poly\",$Q14294=\"HIT\",$Q14294=\"EFG\",$Q14294=\"mono-LGBC\"),1,2)))","v":1},{"$f":"IF($O14294=\"Sunpower Corp.\",3,(IF(OR($Q14294=\"mono\",$Q14294=\"poly\",$Q14294=\"HIT\",$Q14294=\"EFG\",$Q14294=\"mono-LGBC\"),1,IF(OR($Q14294=\"µc-Si / a-Si\",$Q14294=\"a-Si (single)\",$Q14294=\"a-Si (tandem)\",$Q14294=\"a-Si (triple)\"),3,2))))","v":1},0,null,null,25246,null,null,14294]
["Sunpeak-Vertrieb Unternehmensgruppe Ratio-Data SP-230G","Sunpeak-Vertrieb Unternehmensgruppe Ratio-Data ","SP-230G",230,"+...",30.64,7.5,37.200000000000003,8.0500000000000007,-141.36000000000001,4.83,-0.44,1000,null,"Gintech",14.290169715881348,"poly",60,null,1639,982,35,"aluminum","junction box Tyco",22.7,"www.sunpeak.eu",null,null,null,null,null,{"$f":"IF($O14321=\"Sunpower Corp.\",3,(IF(OR($Q14321=\"mono\",$Q14321=\"poly\",$Q14321=\"HIT\",$Q14321=\"EFG\",$Q14321=\"mono-LGBC\"),1,IF(OR($Q14321=\"µc-Si / a-Si\",$Q14321=\"a-Si (single)\",$Q14321=\"a-Si (tandem)\",$Q14321=\"a-Si (triple)\"),3,2))))","v":1},{"$f":"IF($O14321=\"Sunpower Corp.\",3,(IF(OR($Q14321=\"mono\",$Q14321=\"poly\",$Q14321=\"HIT\",$Q14321=\"EFG\",$Q14321=\"mono-LGBC\"),1,2)))","v":1},{"$f":"IF($O14321=\"Sunpower Corp.\",3,(IF(OR($Q14321=\"mono\",$Q14321=\"poly\",$Q14321=\"HIT\",$Q14321=\"EFG\",$Q14321=\"mono-LGBC\"),1,IF(OR($Q14321=\"µc-Si / a-Si\",$Q14321=\"a-Si (single)\",$Q14321=\"a-Si (tandem)\",$Q14321=\"a-Si (triple)\"),3,2))))","v":1},0,null,null,26702,null,null,14321]
["SunPow Ltd. SPPVM19570005","SunPow Ltd. ","SPPVM19570005",195,"+3...-3",41.44,4.7,49.2,5.03,-186.96,2.0120000000000005,-0.47,1000,"China","Jetion",13.780529975891113,"mono",80,"pseudo-square",1340,1056,40,"aluminum","junction box",16.3,"www.sunpow.de",null,null,null,null,null,{"$f":"IF($O14333=\"Sunpower Corp.\",3,(IF(OR($Q14333=\"mono\",$Q14333=\"poly\",$Q14333=\"HIT\",$Q14333=\"EFG\",$Q14333=\"mono-LGBC\"),1,IF(OR($Q14333=\"µc-Si / a-Si\",$Q14333=\"a-Si (single)\",$Q14333=\"a-Si (tandem)\",$Q14333=\"a-Si (triple)\"),3,2))))","v":1},{"$f":"IF($O14333=\"Sunpower Corp.\",3,(IF(OR($Q14333=\"mono\",$Q14333=\"poly\",$Q14333=\"HIT\",$Q14333=\"EFG\",$Q14333=\"mono-LGBC\"),1,2)))","v":1},{"$f":"IF($O14333=\"Sunpower Corp.\",3,(IF(OR($Q14333=\"mono\",$Q14333=\"poly\",$Q14333=\"HIT\",$Q14333=\"EFG\",$Q14333=\"mono-LGBC\"),1,IF(OR($Q14333=\"µc-Si / a-Si\",$Q14333=\"a-Si (single)\",$Q14333=\"a-Si (tandem)\",$Q14333=\"a-Si (triple)\"),3,2))))","v":1},0,null,null,13688,null,null,14333]
["Sunpower Corp. SPR-305E-WHT-D","Sunpower Corp. ","SPR-305E-WHT-D",305,"+5...-3",54.7,5.58,64.2,5.96,-176.55,1.9667999999999999,-0.38,1000,"Philippines","Sunpower Corp.",18.703460693359375,"mono",96,"pseudo-square",1559,1046,46,"aluminum","cable MC",18.600000000000001,"www.sunpowercorp.com",null,null,null,null,null,{"$f":"IF($O14366=\"Sunpower Corp.\",3,(IF(OR($Q14366=\"mono\",$Q14366=\"poly\",$Q14366=\"HIT\",$Q14366=\"EFG\",$Q14366=\"mono-LGBC\"),1,IF(OR($Q14366=\"µc-Si / a-Si\",$Q14366=\"a-Si (single)\",$Q14366=\"a-Si (tandem)\",$Q14366=\"a-Si (triple)\"),3,2))))","v":3},{"$f":"IF($O14366=\"Sunpower Corp.\",3,(IF(OR($Q14366=\"mono\",$Q14366=\"poly\",$Q14366=\"HIT\",$Q14366=\"EFG\",$Q14366=\"mono-LGBC\"),1,2)))","v":3},{"$f":"IF($O14366=\"Sunpower Corp.\",3,(IF(OR($Q14366=\"mono\",$Q14366=\"poly\",$Q14366=\"HIT\",$Q14366=\"EFG\",$Q14366=\"mono-LGBC\"),1,IF(OR($Q14366=\"µc-Si / a-Si\",$Q14366=\"a-Si (single)\",$Q14366=\"a-Si (tandem)\",$Q14366=\"a-Si (triple)\"),3,2))))","v":3},0,null,null,14981,null,null,14366]
["Sunpower Corp. T5 Solar Roof Tile 320","Sunpower Corp. ","T5 Solar Roof Tile 320",320,"+3...-3",54.64,5.57,64.599999999999994,6.14,-174.42,1.8419999999999996,-0.38,1000,"USA","Sunpower Corp.",15.330430030822754,"mono",96,"pseudo-square",1908,1094,213,"others","cable MC",21.3,"www.sunpowercorp.com",null,null,null,null,null,{"$f":"IF($O14378=\"Sunpower Corp.\",3,(IF(OR($Q14378=\"mono\",$Q14378=\"poly\",$Q14378=\"HIT\",$Q14378=\"EFG\",$Q14378=\"mono-LGBC\"),1,IF(OR($Q14378=\"µc-Si / a-Si\",$Q14378=\"a-Si (single)\",$Q14378=\"a-Si (tandem)\",$Q14378=\"a-Si (triple)\"),3,2))))","v":3},{"$f":"IF($O14378=\"Sunpower Corp.\",3,(IF(OR($Q14378=\"mono\",$Q14378=\"poly\",$Q14378=\"HIT\",$Q14378=\"EFG\",$Q14378=\"mono-LGBC\"),1,2)))","v":3},{"$f":"IF($O14378=\"Sunpower Corp.\",3,(IF(OR($Q14378=\"mono\",$Q14378=\"poly\",$Q14378=\"HIT\",$Q14378=\"EFG\",$Q14378=\"mono-LGBC\"),1,IF(OR($Q14378=\"µc-Si / a-Si\",$Q14378=\"a-Si (single)\",$Q14378=\"a-Si (tandem)\",$Q14378=\"a-Si (triple)\"),3,2))))","v":3},0,null,null,9580,null,null,14378]
["Sunrise Solartech Co., Ltd. SR-195P6","Sunrise Solartech Co., Ltd. ","SR-195P6",195,"+1,5...-1,5",26.95,7.24,32.4,7.83,-110.16,3.915,-0.47,1000,"China","Sunrise",13.27295970916748,"poly",54,"square",1481,992,48,"aluminum","junction box",17.7,"www.srsolartech.de",null,null,null,null,null,{"$f":"IF($O14391=\"Sunpower Corp.\",3,(IF(OR($Q14391=\"mono\",$Q14391=\"poly\",$Q14391=\"HIT\",$Q14391=\"EFG\",$Q14391=\"mono-LGBC\"),1,IF(OR($Q14391=\"µc-Si / a-Si\",$Q14391=\"a-Si (single)\",$Q14391=\"a-Si (tandem)\",$Q14391=\"a-Si (triple)\"),3,2))))","v":1},{"$f":"IF($O14391=\"Sunpower Corp.\",3,(IF(OR($Q14391=\"mono\",$Q14391=\"poly\",$Q14391=\"HIT\",$Q14391=\"EFG\",$Q14391=\"mono-LGBC\"),1,2)))","v":1},{"$f":"IF($O14391=\"Sunpower Corp.\",3,(IF(OR($Q14391=\"mono\",$Q14391=\"poly\",$Q14391=\"HIT\",$Q14391=\"EFG\",$Q14391=\"mono-LGBC\"),1,IF(OR($Q14391=\"µc-Si / a-Si\",$Q14391=\"a-Si (single)\",$Q14391=\"a-Si (tandem)\",$Q14391=\"a-Si (triple)\"),3,2))))","v":1},0,null,null,15293,null,null,14391]
["Sunrise Solartech Co., Ltd. SRM 175D72-L","Sunrise Solartech Co., Ltd. ","SRM 175D72-L",175,"+1,5...-1,5",35.799999999999997,4.8899999999999997,44.2,5.25,-150.28,2.625,-0.48,1000,"China","Sunrise",13.682250022888184,"mono",72,"pseudo-square",1581,809,48,"aluminum","junction box",16.5,"www.srsolartech.de",null,null,null,null,null,{"$f":"IF($O14416=\"Sunpower Corp.\",3,(IF(OR($Q14416=\"mono\",$Q14416=\"poly\",$Q14416=\"HIT\",$Q14416=\"EFG\",$Q14416=\"mono-LGBC\"),1,IF(OR($Q14416=\"µc-Si / a-Si\",$Q14416=\"a-Si (single)\",$Q14416=\"a-Si (tandem)\",$Q14416=\"a-Si (triple)\"),3,2))))","v":1},{"$f":"IF($O14416=\"Sunpower Corp.\",3,(IF(OR($Q14416=\"mono\",$Q14416=\"poly\",$Q14416=\"HIT\",$Q14416=\"EFG\",$Q14416=\"mono-LGBC\"),1,2)))","v":1},{"$f":"IF($O14416=\"Sunpower Corp.\",3,(IF(OR($Q14416=\"mono\",$Q14416=\"poly\",$Q14416=\"HIT\",$Q14416=\"EFG\",$Q14416=\"mono-LGBC\"),1,IF(OR($Q14416=\"µc-Si / a-Si\",$Q14416=\"a-Si (single)\",$Q14416=\"a-Si (tandem)\",$Q14416=\"a-Si (triple)\"),3,2))))","v":1},0,null,null,15264,null,null,14416]
["Sunrise Solartech Co., Ltd. SR-M654205","Sunrise Solartech Co., Ltd. ","SR-M654205",205,"+1,5...-1,5",26.4,7.77,32.47,8.39,-120.139,2.6009000000000002,-0.53,1000,"China","Sunrise",13.953630447387695,"mono",54,"pseudo-square",1481,992,50,"aluminum","junction box MC4",17.899999999999999,"www.srsolartech.de",null,null,null,null,null,{"$f":"IF($O14443=\"Sunpower Corp.\",3,(IF(OR($Q14443=\"mono\",$Q14443=\"poly\",$Q14443=\"HIT\",$Q14443=\"EFG\",$Q14443=\"mono-LGBC\"),1,IF(OR($Q14443=\"µc-Si / a-Si\",$Q14443=\"a-Si (single)\",$Q14443=\"a-Si (tandem)\",$Q14443=\"a-Si (triple)\"),3,2))))","v":1},{"$f":"IF($O14443=\"Sunpower Corp.\",3,(IF(OR($Q14443=\"mono\",$Q14443=\"poly\",$Q14443=\"HIT\",$Q14443=\"EFG\",$Q14443=\"mono-LGBC\"),1,2)))","v":1},{"$f":"IF($O14443=\"Sunpower Corp.\",3,(IF(OR($Q14443=\"mono\",$Q14443=\"poly\",$Q14443=\"HIT\",$Q14443=\"EFG\",$Q14443=\"mono-LGBC\"),1,IF(OR($Q14443=\"µc-Si / a-Si\",$Q14443=\"a-Si (single)\",$Q14443=\"a-Si (tandem)\",$Q14443=\"a-Si (triple)\"),3,2))))","v":1},0,null,null,15271,null,null,14443]
["Sunrise Solartech Co., Ltd. SR-M672285","Sunrise Solartech Co., Ltd. ","SR-M672285",285,"+1,5...-1,5",35.4,8.06,43.54,8.6999999999999993,-161.09799999999998,2.6969999999999996,-0.53,1000,null,null,14.673049926757813,"mono",72,"pseudo-square",1958,992,50,"aluminum","junction box MC4",23.2,"www.srsolartech.cn",null,null,null,null,null,{"$f":"IF($O14461=\"Sunpower Corp.\",3,(IF(OR($Q14461=\"mono\",$Q14461=\"poly\",$Q14461=\"HIT\",$Q14461=\"EFG\",$Q14461=\"mono-LGBC\"),1,IF(OR($Q14461=\"µc-Si / a-Si\",$Q14461=\"a-Si (single)\",$Q14461=\"a-Si (tandem)\",$Q14461=\"a-Si (triple)\"),3,2))))","v":1},{"$f":"IF($O14461=\"Sunpower Corp.\",3,(IF(OR($Q14461=\"mono\",$Q14461=\"poly\",$Q14461=\"HIT\",$Q14461=\"EFG\",$Q14461=\"mono-LGBC\"),1,2)))","v":1},{"$f":"IF($O14461=\"Sunpower Corp.\",3,(IF(OR($Q14461=\"mono\",$Q14461=\"poly\",$Q14461=\"HIT\",$Q14461=\"EFG\",$Q14461=\"mono-LGBC\"),1,IF(OR($Q14461=\"µc-Si / a-Si\",$Q14461=\"a-Si (single)\",$Q14461=\"a-Si (tandem)\",$Q14461=\"a-Si (triple)\"),3,2))))","v":1},0,null,null,19570,null,null,14461]
["Sunrise Solartech Co., Ltd. SR-P636130","Sunrise Solartech Co., Ltd. ","SR-P636130",130,"+1,5...-1,5",18,7.23,22.32,7.8,-75.888000000000005,3.5880000000000001,-0.45,1000,"China","Sunrise",13.179960250854492,"poly",36,"square",1481,666,35,"aluminum","junction box",11.8,"www.srsolartech.cn",null,null,null,null,null,{"$f":"IF($O14469=\"Sunpower Corp.\",3,(IF(OR($Q14469=\"mono\",$Q14469=\"poly\",$Q14469=\"HIT\",$Q14469=\"EFG\",$Q14469=\"mono-LGBC\"),1,IF(OR($Q14469=\"µc-Si / a-Si\",$Q14469=\"a-Si (single)\",$Q14469=\"a-Si (tandem)\",$Q14469=\"a-Si (triple)\"),3,2))))","v":1},{"$f":"IF($O14469=\"Sunpower Corp.\",3,(IF(OR($Q14469=\"mono\",$Q14469=\"poly\",$Q14469=\"HIT\",$Q14469=\"EFG\",$Q14469=\"mono-LGBC\"),1,2)))","v":1},{"$f":"IF($O14469=\"Sunpower Corp.\",3,(IF(OR($Q14469=\"mono\",$Q14469=\"poly\",$Q14469=\"HIT\",$Q14469=\"EFG\",$Q14469=\"mono-LGBC\"),1,IF(OR($Q14469=\"µc-Si / a-Si\",$Q14469=\"a-Si (single)\",$Q14469=\"a-Si (tandem)\",$Q14469=\"a-Si (triple)\"),3,2))))","v":1},0,null,null,29038,null,null,14469]
["Sunrise Solartech Co., Ltd. SR-P660210","Sunrise Solartech Co., Ltd. ","SR-P660210",210,"+1,5...-1,5",28,7.5,34.520000000000003,8.18,-117.36800000000001,3.7628000000000004,-0.45,1000,"China","Sunrise",12.93179988861084,"poly",60,"square",1637,992,50,"aluminum","junction box",20.2,"www.srsolartech.cn",null,null,null,null,null,{"$f":"IF($O14490=\"Sunpower Corp.\",3,(IF(OR($Q14490=\"mono\",$Q14490=\"poly\",$Q14490=\"HIT\",$Q14490=\"EFG\",$Q14490=\"mono-LGBC\"),1,IF(OR($Q14490=\"µc-Si / a-Si\",$Q14490=\"a-Si (single)\",$Q14490=\"a-Si (tandem)\",$Q14490=\"a-Si (triple)\"),3,2))))","v":1},{"$f":"IF($O14490=\"Sunpower Corp.\",3,(IF(OR($Q14490=\"mono\",$Q14490=\"poly\",$Q14490=\"HIT\",$Q14490=\"EFG\",$Q14490=\"mono-LGBC\"),1,2)))","v":1},{"$f":"IF($O14490=\"Sunpower Corp.\",3,(IF(OR($Q14490=\"mono\",$Q14490=\"poly\",$Q14490=\"HIT\",$Q14490=\"EFG\",$Q14490=\"mono-LGBC\"),1,IF(OR($Q14490=\"µc-Si / a-Si\",$Q14490=\"a-Si (single)\",$Q14490=\"a-Si (tandem)\",$Q14490=\"a-Si (triple)\"),3,2))))","v":1},0,null,null,29058,null,null,14490]
["Sunset Energietechnik GmbH PX 210-60","Sunset Energietechnik GmbH ","PX 210-60",210,"+5...-5",29.5,7.11,36.299999999999997,7.8,-130.68,4.68,-0.46,800,"Germany",null,13.311779975891113,"poly",60,"square",1618,975,35,"aluminum","junction box others",18.100000000000001,"www.sunset-solar.de",null,null,null,null,null,{"$f":"IF($O14514=\"Sunpower Corp.\",3,(IF(OR($Q14514=\"mono\",$Q14514=\"poly\",$Q14514=\"HIT\",$Q14514=\"EFG\",$Q14514=\"mono-LGBC\"),1,IF(OR($Q14514=\"µc-Si / a-Si\",$Q14514=\"a-Si (single)\",$Q14514=\"a-Si (tandem)\",$Q14514=\"a-Si (triple)\"),3,2))))","v":1},{"$f":"IF($O14514=\"Sunpower Corp.\",3,(IF(OR($Q14514=\"mono\",$Q14514=\"poly\",$Q14514=\"HIT\",$Q14514=\"EFG\",$Q14514=\"mono-LGBC\"),1,2)))","v":1},{"$f":"IF($O14514=\"Sunpower Corp.\",3,(IF(OR($Q14514=\"mono\",$Q14514=\"poly\",$Q14514=\"HIT\",$Q14514=\"EFG\",$Q14514=\"mono-LGBC\"),1,IF(OR($Q14514=\"µc-Si / a-Si\",$Q14514=\"a-Si (single)\",$Q14514=\"a-Si (tandem)\",$Q14514=\"a-Si (triple)\"),3,2))))","v":1},0,null,null,8303,null,null,14514]
["Suntech Power Co., Ltd. STP075S-12/Bb","Suntech Power Co., Ltd. ","STP075S-12/Bb",75,"+3...-3",17.3,4.4000000000000004,21.6,4.87,-77.760000000000005,2.9219999999999997,-0.48,715,"China","Suntech Power Co., Ltd.",11.601019859313965,"mono",36,"pseudo-square",1195,541,30,"aluminum","junction box",8,"www.suntech-power.com",null,null,null,null,null,{"$f":"IF($O14535=\"Sunpower Corp.\",3,(IF(OR($Q14535=\"mono\",$Q14535=\"poly\",$Q14535=\"HIT\",$Q14535=\"EFG\",$Q14535=\"mono-LGBC\"),1,IF(OR($Q14535=\"µc-Si / a-Si\",$Q14535=\"a-Si (single)\",$Q14535=\"a-Si (tandem)\",$Q14535=\"a-Si (triple)\"),3,2))))","v":1},{"$f":"IF($O14535=\"Sunpower Corp.\",3,(IF(OR($Q14535=\"mono\",$Q14535=\"poly\",$Q14535=\"HIT\",$Q14535=\"EFG\",$Q14535=\"mono-LGBC\"),1,2)))","v":1},{"$f":"IF($O14535=\"Sunpower Corp.\",3,(IF(OR($Q14535=\"mono\",$Q14535=\"poly\",$Q14535=\"HIT\",$Q14535=\"EFG\",$Q14535=\"mono-LGBC\"),1,IF(OR($Q14535=\"µc-Si / a-Si\",$Q14535=\"a-Si (single)\",$Q14535=\"a-Si (tandem)\",$Q14535=\"a-Si (triple)\"),3,2))))","v":1},0,null,null,3329,null,null,14535]
["Suntech Power Co., Ltd. STP170S-24/Ad","Suntech Power Co., Ltd. ","STP170S-24/Ad",170,"+3...-3",35.6,4.8,44.4,5.15,-150.96,0.87550000000000006,-0.48,1000,null,null,13.31620979309082,"mono",72,"pseudo-square",1580,808,35,"aluminum","junction box",15.5,"www.suntech-power.com",null,null,null,null,null,{"$f":"IF($O14559=\"Sunpower Corp.\",3,(IF(OR($Q14559=\"mono\",$Q14559=\"poly\",$Q14559=\"HIT\",$Q14559=\"EFG\",$Q14559=\"mono-LGBC\"),1,IF(OR($Q14559=\"µc-Si / a-Si\",$Q14559=\"a-Si (single)\",$Q14559=\"a-Si (tandem)\",$Q14559=\"a-Si (triple)\"),3,2))))","v":1},{"$f":"IF($O14559=\"Sunpower Corp.\",3,(IF(OR($Q14559=\"mono\",$Q14559=\"poly\",$Q14559=\"HIT\",$Q14559=\"EFG\",$Q14559=\"mono-LGBC\"),1,2)))","v":1},{"$f":"IF($O14559=\"Sunpower Corp.\",3,(IF(OR($Q14559=\"mono\",$Q14559=\"poly\",$Q14559=\"HIT\",$Q14559=\"EFG\",$Q14559=\"mono-LGBC\"),1,IF(OR($Q14559=\"µc-Si / a-Si\",$Q14559=\"a-Si (single)\",$Q14559=\"a-Si (tandem)\",$Q14559=\"a-Si (triple)\"),3,2))))","v":1},0,null,null,7070,null,null,14559]
["Suntech Power Co., Ltd. STP200-18/Ud","Suntech Power Co., Ltd. ","STP200-18/Ud",200,"+3...-3",26.2,7.63,33.4,8.1199999999999992,-113.56,4.4659999999999993,-0.47,1000,null,null,13.604109764099121,"poly",54,"square",1482,992,35,"aluminum","junction box",16.8,"www.suntech-power.com",null,null,null,null,null,{"$f":"IF($O14580=\"Sunpower Corp.\",3,(IF(OR($Q14580=\"mono\",$Q14580=\"poly\",$Q14580=\"HIT\",$Q14580=\"EFG\",$Q14580=\"mono-LGBC\"),1,IF(OR($Q14580=\"µc-Si / a-Si\",$Q14580=\"a-Si (single)\",$Q14580=\"a-Si (tandem)\",$Q14580=\"a-Si (triple)\"),3,2))))","v":1},{"$f":"IF($O14580=\"Sunpower Corp.\",3,(IF(OR($Q14580=\"mono\",$Q14580=\"poly\",$Q14580=\"HIT\",$Q14580=\"EFG\",$Q14580=\"mono-LGBC\"),1,2)))","v":1},{"$f":"IF($O14580=\"Sunpower Corp.\",3,(IF(OR($Q14580=\"mono\",$Q14580=\"poly\",$Q14580=\"HIT\",$Q14580=\"EFG\",$Q14580=\"mono-LGBC\"),1,IF(OR($Q14580=\"µc-Si / a-Si\",$Q14580=\"a-Si (single)\",$Q14580=\"a-Si (tandem)\",$Q14580=\"a-Si (triple)\"),3,2))))","v":1},0,null,null,7065,null,null,14580]
["Suntech Power Co., Ltd. STP260S-24/Vb","Suntech Power Co., Ltd. ","STP260S-24/Vb",260,"+3...-3",35,7.43,43.6,7.9,-154.99799999999999,4.74,-0.48,1000,"China","Suntech Power Co., Ltd.",13.399629592895508,"mono",72,"pseudo-square",1956,992,50,"aluminum","junction box",23,"www.suntech-power.com",null,null,null,null,null,{"$f":"IF($O14598=\"Sunpower Corp.\",3,(IF(OR($Q14598=\"mono\",$Q14598=\"poly\",$Q14598=\"HIT\",$Q14598=\"EFG\",$Q14598=\"mono-LGBC\"),1,IF(OR($Q14598=\"µc-Si / a-Si\",$Q14598=\"a-Si (single)\",$Q14598=\"a-Si (tandem)\",$Q14598=\"a-Si (triple)\"),3,2))))","v":1},{"$f":"IF($O14598=\"Sunpower Corp.\",3,(IF(OR($Q14598=\"mono\",$Q14598=\"poly\",$Q14598=\"HIT\",$Q14598=\"EFG\",$Q14598=\"mono-LGBC\"),1,2)))","v":1},{"$f":"IF($O14598=\"Sunpower Corp.\",3,(IF(OR($Q14598=\"mono\",$Q14598=\"poly\",$Q14598=\"HIT\",$Q14598=\"EFG\",$Q14598=\"mono-LGBC\"),1,IF(OR($Q14598=\"µc-Si / a-Si\",$Q14598=\"a-Si (single)\",$Q14598=\"a-Si (tandem)\",$Q14598=\"a-Si (triple)\"),3,2))))","v":1},0,null,null,2747,null,null,14598]
["Suntech Power Co., Ltd. STP275-24/Vd","Suntech Power Co., Ltd. ","STP275-24/Vd",275,"+3...0",35.1,7.84,44.7,8.26,-151.97999999999999,3.7169999999999996,-0.47,1000,null,null,14.172690391540527,"poly",72,"square",1956,992,50,"aluminum","junction box",27,"www.suntech-power.com",null,null,null,null,null,{"$f":"IF($O14605=\"Sunpower Corp.\",3,(IF(OR($Q14605=\"mono\",$Q14605=\"poly\",$Q14605=\"HIT\",$Q14605=\"EFG\",$Q14605=\"mono-LGBC\"),1,IF(OR($Q14605=\"µc-Si / a-Si\",$Q14605=\"a-Si (single)\",$Q14605=\"a-Si (tandem)\",$Q14605=\"a-Si (triple)\"),3,2))))","v":1},{"$f":"IF($O14605=\"Sunpower Corp.\",3,(IF(OR($Q14605=\"mono\",$Q14605=\"poly\",$Q14605=\"HIT\",$Q14605=\"EFG\",$Q14605=\"mono-LGBC\"),1,2)))","v":1},{"$f":"IF($O14605=\"Sunpower Corp.\",3,(IF(OR($Q14605=\"mono\",$Q14605=\"poly\",$Q14605=\"HIT\",$Q14605=\"EFG\",$Q14605=\"mono-LGBC\"),1,IF(OR($Q14605=\"µc-Si / a-Si\",$Q14605=\"a-Si (single)\",$Q14605=\"a-Si (tandem)\",$Q14605=\"a-Si (triple)\"),3,2))))","v":1},0,null,null,16618,null,null,14605]
["Sunvic New Energy Co., Ltd. SV546P 210W","Sunvic New Energy Co., Ltd. ","SV546P 210W",210,"+3...-3",27.4,7.66,33.299999999999997,8.1999999999999993,-123.21,8.1999999999999993,-0.45,1000,null,null,14.284319877624512,"poly",54,"square",1482,992,40,null,"junction box MC4",18,"www.cn-sunvic.com",null,null,null,null,null,{"$f":"IF($O14624=\"Sunpower Corp.\",3,(IF(OR($Q14624=\"mono\",$Q14624=\"poly\",$Q14624=\"HIT\",$Q14624=\"EFG\",$Q14624=\"mono-LGBC\"),1,IF(OR($Q14624=\"µc-Si / a-Si\",$Q14624=\"a-Si (single)\",$Q14624=\"a-Si (tandem)\",$Q14624=\"a-Si (triple)\"),3,2))))","v":1},{"$f":"IF($O14624=\"Sunpower Corp.\",3,(IF(OR($Q14624=\"mono\",$Q14624=\"poly\",$Q14624=\"HIT\",$Q14624=\"EFG\",$Q14624=\"mono-LGBC\"),1,2)))","v":1},{"$f":"IF($O14624=\"Sunpower Corp.\",3,(IF(OR($Q14624=\"mono\",$Q14624=\"poly\",$Q14624=\"HIT\",$Q14624=\"EFG\",$Q14624=\"mono-LGBC\"),1,IF(OR($Q14624=\"µc-Si / a-Si\",$Q14624=\"a-Si (single)\",$Q14624=\"a-Si (tandem)\",$Q14624=\"a-Si (triple)\"),3,2))))","v":1},0,null,null,32007,null,null,14624]
["Sunvic New Energy Co., Ltd. SV965M 240W","Sunvic New Energy Co., Ltd. ","SV965M 240W",240,"+3...-3",50.3,4.78,59.6,5.24,-202.64,2.62,-0.5,1000,null,null,14.262789726257324,"mono",96,"pseudo-square",1580,1065,40,null,"junction box MC4",19,"www.cn-sunvic.com",null,null,null,null,null,{"$f":"IF($O14654=\"Sunpower Corp.\",3,(IF(OR($Q14654=\"mono\",$Q14654=\"poly\",$Q14654=\"HIT\",$Q14654=\"EFG\",$Q14654=\"mono-LGBC\"),1,IF(OR($Q14654=\"µc-Si / a-Si\",$Q14654=\"a-Si (single)\",$Q14654=\"a-Si (tandem)\",$Q14654=\"a-Si (triple)\"),3,2))))","v":1},{"$f":"IF($O14654=\"Sunpower Corp.\",3,(IF(OR($Q14654=\"mono\",$Q14654=\"poly\",$Q14654=\"HIT\",$Q14654=\"EFG\",$Q14654=\"mono-LGBC\"),1,2)))","v":1},{"$f":"IF($O14654=\"Sunpower Corp.\",3,(IF(OR($Q14654=\"mono\",$Q14654=\"poly\",$Q14654=\"HIT\",$Q14654=\"EFG\",$Q14654=\"mono-LGBC\"),1,IF(OR($Q14654=\"µc-Si / a-Si\",$Q14654=\"a-Si (single)\",$Q14654=\"a-Si (tandem)\",$Q14654=\"a-Si (triple)\"),3,2))))","v":1},0,null,null,31989,null,null,14654]
["Sunways SM 245M, 230 Wp","Sunways AG","EcoLine SM 245M, 230 Wp",230,"+2,5...0",31.8,7.23,37.200000000000003,8.2100000000000009,-122.76,4.9260000000000002,-0.44,1000,"Deutschland","Sunways AG",14.091859316679614,"mono",60,"ps. -quadratisch",1642,994,40,"Aluminium","MC4 Compatible",20,"www.sunways.de","-","-","-","-","-",{"$f":"IF($O14669=\"Sunpower Corp.\",3,(IF(OR($Q14669=\"mono\",$Q14669=\"poly\",$Q14669=\"HIT\",$Q14669=\"EFG\",$Q14669=\"mono-LGBC\"),1,IF(OR($Q14669=\"µc-Si / a-Si\",$Q14669=\"a-Si (single)\",$Q14669=\"a-Si (tandem)\",$Q14669=\"a-Si (triple)\"),3,2))))","v":1},{"$f":"IF($O14669=\"Sunpower Corp.\",3,(IF(OR($Q14669=\"mono\",$Q14669=\"poly\",$Q14669=\"HIT\",$Q14669=\"EFG\",$Q14669=\"mono-LGBC\"),1,2)))","v":1},{"$f":"IF($O14669=\"Sunpower Corp.\",3,(IF(OR($Q14669=\"mono\",$Q14669=\"poly\",$Q14669=\"HIT\",$Q14669=\"EFG\",$Q14669=\"mono-LGBC\"),1,IF(OR($Q14669=\"µc-Si / a-Si\",$Q14669=\"a-Si (single)\",$Q14669=\"a-Si (tandem)\",$Q14669=\"a-Si (triple)\"),3,2))))","v":1},0,null,1,26968,null,null,14669]
["(Sunways SM 215L, 220 Wp)","Sunways AG","(SM 215L, 220 Wp)",220,"+2,5...0",28.6,7.7,36,8.4499999999999993,-133.19999999999999,8.4499999999999993,-0.48,1000,"Deutschland","Sunways AG",12.891128559709363,"mono",60,"ps. -quadratisch",1610,1060,50,"Rahmenlos","Tyco",20,"www.sunways.de","-","-","-","-","-",{"$f":"IF($O14699=\"Sunpower Corp.\",3,(IF(OR($Q14699=\"mono\",$Q14699=\"poly\",$Q14699=\"HIT\",$Q14699=\"EFG\",$Q14699=\"mono-LGBC\"),1,IF(OR($Q14699=\"µc-Si / a-Si\",$Q14699=\"a-Si (single)\",$Q14699=\"a-Si (tandem)\",$Q14699=\"a-Si (triple)\"),3,2))))","v":1},{"$f":"IF($O14699=\"Sunpower Corp.\",3,(IF(OR($Q14699=\"mono\",$Q14699=\"poly\",$Q14699=\"HIT\",$Q14699=\"EFG\",$Q14699=\"mono-LGBC\"),1,2)))","v":1},{"$f":"IF($O14699=\"Sunpower Corp.\",3,(IF(OR($Q14699=\"mono\",$Q14699=\"poly\",$Q14699=\"HIT\",$Q14699=\"EFG\",$Q14699=\"mono-LGBC\"),1,IF(OR($Q14699=\"µc-Si / a-Si\",$Q14699=\"a-Si (single)\",$Q14699=\"a-Si (tandem)\",$Q14699=\"a-Si (triple)\"),3,2))))","v":1},0,null,2,null,null,null,14699]
["(Sunways SM 235U, 230 Wp)","Sunways AG","(SM 235U, 230 Wp)",230,"+2,5...0",29.3,7.86,36.799999999999997,8.34,-132.84,5.0039999999999996,-0.43,1000,"Deutschland","Sunways AG",13.828763828763831,"poly",60,"quadratisch",1680,990,50,"Aluminium","Tyco",24,"www.sunways.de","-","-","-","-","-",{"$f":"IF($O14714=\"Sunpower Corp.\",3,(IF(OR($Q14714=\"mono\",$Q14714=\"poly\",$Q14714=\"HIT\",$Q14714=\"EFG\",$Q14714=\"mono-LGBC\"),1,IF(OR($Q14714=\"µc-Si / a-Si\",$Q14714=\"a-Si (single)\",$Q14714=\"a-Si (tandem)\",$Q14714=\"a-Si (triple)\"),3,2))))","v":1},{"$f":"IF($O14714=\"Sunpower Corp.\",3,(IF(OR($Q14714=\"mono\",$Q14714=\"poly\",$Q14714=\"HIT\",$Q14714=\"EFG\",$Q14714=\"mono-LGBC\"),1,2)))","v":1},{"$f":"IF($O14714=\"Sunpower Corp.\",3,(IF(OR($Q14714=\"mono\",$Q14714=\"poly\",$Q14714=\"HIT\",$Q14714=\"EFG\",$Q14714=\"mono-LGBC\"),1,IF(OR($Q14714=\"µc-Si / a-Si\",$Q14714=\"a-Si (single)\",$Q14714=\"a-Si (tandem)\",$Q14714=\"a-Si (triple)\"),3,2))))","v":1},0,null,2,null,null,null,14714]
["Sunworx GmbH Sunworx SW 230 M (220W)","Sunworx GmbH ","Sunworx SW 230 M (220W)",220,"+1,1...-1,1",30.4,7.3,36.299999999999997,7.87,-134.31,3.1480000000000001,-0.49,1000,"Germany",null,13.227510452270508,"mono",60,"pseudo-square",1680,990,50,"aluminum","junction box",23,"www.sunworx-solar.de",null,null,null,null,null,{"$f":"IF($O14724=\"Sunpower Corp.\",3,(IF(OR($Q14724=\"mono\",$Q14724=\"poly\",$Q14724=\"HIT\",$Q14724=\"EFG\",$Q14724=\"mono-LGBC\"),1,IF(OR($Q14724=\"µc-Si / a-Si\",$Q14724=\"a-Si (single)\",$Q14724=\"a-Si (tandem)\",$Q14724=\"a-Si (triple)\"),3,2))))","v":1},{"$f":"IF($O14724=\"Sunpower Corp.\",3,(IF(OR($Q14724=\"mono\",$Q14724=\"poly\",$Q14724=\"HIT\",$Q14724=\"EFG\",$Q14724=\"mono-LGBC\"),1,2)))","v":1},{"$f":"IF($O14724=\"Sunpower Corp.\",3,(IF(OR($Q14724=\"mono\",$Q14724=\"poly\",$Q14724=\"HIT\",$Q14724=\"EFG\",$Q14724=\"mono-LGBC\"),1,IF(OR($Q14724=\"µc-Si / a-Si\",$Q14724=\"a-Si (single)\",$Q14724=\"a-Si (tandem)\",$Q14724=\"a-Si (triple)\"),3,2))))","v":1},0,null,null,8874,null,null,14724]
["Surana Telecom & Power Ltd. SVL-125","Surana Telecom & Power Ltd. ","SVL-125",125,"+...0",18.2,6.86,22.1,7.48,-7.5140000000000011,2.2439999999999998,-0.45,null,null,null,12.808030128479004,null,36,null,1490,655,42,"aluminum","junction box",10.5,"www.suranaventures.com",null,null,null,null,null,{"$f":"IF($O14753=\"Sunpower Corp.\",3,(IF(OR($Q14753=\"mono\",$Q14753=\"poly\",$Q14753=\"HIT\",$Q14753=\"EFG\",$Q14753=\"mono-LGBC\"),1,IF(OR($Q14753=\"µc-Si / a-Si\",$Q14753=\"a-Si (single)\",$Q14753=\"a-Si (tandem)\",$Q14753=\"a-Si (triple)\"),3,2))))","v":2},{"$f":"IF($O14753=\"Sunpower Corp.\",3,(IF(OR($Q14753=\"mono\",$Q14753=\"poly\",$Q14753=\"HIT\",$Q14753=\"EFG\",$Q14753=\"mono-LGBC\"),1,2)))","v":2},{"$f":"IF($O14753=\"Sunpower Corp.\",3,(IF(OR($Q14753=\"mono\",$Q14753=\"poly\",$Q14753=\"HIT\",$Q14753=\"EFG\",$Q14753=\"mono-LGBC\"),1,IF(OR($Q14753=\"µc-Si / a-Si\",$Q14753=\"a-Si (single)\",$Q14753=\"a-Si (tandem)\",$Q14753=\"a-Si (triple)\"),3,2))))","v":2},0,null,null,24988,null,null,14753]
["Suzhou Shenglong PV-Tech CO.,LTD SLSM-175D","Suzhou Shenglong PV-Tech CO.,LTD ","SLSM-175D",175,"+3...-3",35.799999999999997,4.8899999999999997,44.2,5.25,-154.08120000000002,3.58575,-0.46899999999999997,1000,"China",null,13.673609733581543,"mono",72,"pseudo-square",1582,809,50,"aluminum","junction box",16.5,"www.shenglong-solar.com",null,null,null,null,null,{"$f":"IF($O14769=\"Sunpower Corp.\",3,(IF(OR($Q14769=\"mono\",$Q14769=\"poly\",$Q14769=\"HIT\",$Q14769=\"EFG\",$Q14769=\"mono-LGBC\"),1,IF(OR($Q14769=\"µc-Si / a-Si\",$Q14769=\"a-Si (single)\",$Q14769=\"a-Si (tandem)\",$Q14769=\"a-Si (triple)\"),3,2))))","v":1},{"$f":"IF($O14769=\"Sunpower Corp.\",3,(IF(OR($Q14769=\"mono\",$Q14769=\"poly\",$Q14769=\"HIT\",$Q14769=\"EFG\",$Q14769=\"mono-LGBC\"),1,2)))","v":1},{"$f":"IF($O14769=\"Sunpower Corp.\",3,(IF(OR($Q14769=\"mono\",$Q14769=\"poly\",$Q14769=\"HIT\",$Q14769=\"EFG\",$Q14769=\"mono-LGBC\"),1,IF(OR($Q14769=\"µc-Si / a-Si\",$Q14769=\"a-Si (single)\",$Q14769=\"a-Si (tandem)\",$Q14769=\"a-Si (triple)\"),3,2))))","v":1},0,null,null,3649,null,null,14769]
["SWISSWATT MW170-72C","SWISSWATT ","MW170-72C",170,"+3...0",35.200000000000003,4.83,43.8,5.14,-151.98599999999999,2.827,-0.48,1000,null,null,13.31620979309082,"mono",72,"pseudo-square",1580,808,40,"aluminum","junction box MC4",15.5,"www.swiss-watt.com",null,null,null,null,null,{"$f":"IF($O14779=\"Sunpower Corp.\",3,(IF(OR($Q14779=\"mono\",$Q14779=\"poly\",$Q14779=\"HIT\",$Q14779=\"EFG\",$Q14779=\"mono-LGBC\"),1,IF(OR($Q14779=\"µc-Si / a-Si\",$Q14779=\"a-Si (single)\",$Q14779=\"a-Si (tandem)\",$Q14779=\"a-Si (triple)\"),3,2))))","v":1},{"$f":"IF($O14779=\"Sunpower Corp.\",3,(IF(OR($Q14779=\"mono\",$Q14779=\"poly\",$Q14779=\"HIT\",$Q14779=\"EFG\",$Q14779=\"mono-LGBC\"),1,2)))","v":1},{"$f":"IF($O14779=\"Sunpower Corp.\",3,(IF(OR($Q14779=\"mono\",$Q14779=\"poly\",$Q14779=\"HIT\",$Q14779=\"EFG\",$Q14779=\"mono-LGBC\"),1,IF(OR($Q14779=\"µc-Si / a-Si\",$Q14779=\"a-Si (single)\",$Q14779=\"a-Si (tandem)\",$Q14779=\"a-Si (triple)\"),3,2))))","v":1},0,null,null,23742,null,null,14779]
["Symphony Energy Co., Ltd. SE-M285NA3","Symphony Energy Co., Ltd. ","SE-M285NA3",285,"+3...-3",35.4,8.0399999999999991,44.8,8.66,-152.32,2.5979999999999994,-0.43,1000,null,null,14.837630271911621,"poly",72,"square",1956,982,35,"aluminum","junction box Tyco",22,"www.spne.co.kr",null,null,null,null,null,{"$f":"IF($O14814=\"Sunpower Corp.\",3,(IF(OR($Q14814=\"mono\",$Q14814=\"poly\",$Q14814=\"HIT\",$Q14814=\"EFG\",$Q14814=\"mono-LGBC\"),1,IF(OR($Q14814=\"µc-Si / a-Si\",$Q14814=\"a-Si (single)\",$Q14814=\"a-Si (tandem)\",$Q14814=\"a-Si (triple)\"),3,2))))","v":1},{"$f":"IF($O14814=\"Sunpower Corp.\",3,(IF(OR($Q14814=\"mono\",$Q14814=\"poly\",$Q14814=\"HIT\",$Q14814=\"EFG\",$Q14814=\"mono-LGBC\"),1,2)))","v":1},{"$f":"IF($O14814=\"Sunpower Corp.\",3,(IF(OR($Q14814=\"mono\",$Q14814=\"poly\",$Q14814=\"HIT\",$Q14814=\"EFG\",$Q14814=\"mono-LGBC\"),1,IF(OR($Q14814=\"µc-Si / a-Si\",$Q14814=\"a-Si (single)\",$Q14814=\"a-Si (tandem)\",$Q14814=\"a-Si (triple)\"),3,2))))","v":1},0,null,null,32746,null,null,14814]
["Symphony Energy Co., Ltd. SE-P255","Symphony Energy Co., Ltd. ","SE-P255",255,"+3...-3",31.1,8.2100000000000009,38.200000000000003,8.81,-129.88,5.2859999999999996,-0.43,1000,null,null,15.872500419616699,"mono",60,"square",1636,982,35,"aluminum","junction box Tyco",19,"www.symphonyenergy.com",null,null,null,null,null,{"$f":"IF($O14824=\"Sunpower Corp.\",3,(IF(OR($Q14824=\"mono\",$Q14824=\"poly\",$Q14824=\"HIT\",$Q14824=\"EFG\",$Q14824=\"mono-LGBC\"),1,IF(OR($Q14824=\"µc-Si / a-Si\",$Q14824=\"a-Si (single)\",$Q14824=\"a-Si (tandem)\",$Q14824=\"a-Si (triple)\"),3,2))))","v":1},{"$f":"IF($O14824=\"Sunpower Corp.\",3,(IF(OR($Q14824=\"mono\",$Q14824=\"poly\",$Q14824=\"HIT\",$Q14824=\"EFG\",$Q14824=\"mono-LGBC\"),1,2)))","v":1},{"$f":"IF($O14824=\"Sunpower Corp.\",3,(IF(OR($Q14824=\"mono\",$Q14824=\"poly\",$Q14824=\"HIT\",$Q14824=\"EFG\",$Q14824=\"mono-LGBC\"),1,IF(OR($Q14824=\"µc-Si / a-Si\",$Q14824=\"a-Si (single)\",$Q14824=\"a-Si (tandem)\",$Q14824=\"a-Si (triple)\"),3,2))))","v":1},0,null,null,32767,null,null,14824]
["Symphony Energy Co., Ltd. SE-S290NA3","Symphony Energy Co., Ltd. ","SE-S290NA3",290,"+3...-3",35.799999999999997,8.11,45.2,8.65,-153.68,2.5950000000000002,-0.43,1000,null,null,15.097940444946289,"mono",72,"pseudo-square",1956,982,35,"aluminum","junction box Tyco",22,"www.spne.co.kr",null,null,null,null,null,{"$f":"IF($O14843=\"Sunpower Corp.\",3,(IF(OR($Q14843=\"mono\",$Q14843=\"poly\",$Q14843=\"HIT\",$Q14843=\"EFG\",$Q14843=\"mono-LGBC\"),1,IF(OR($Q14843=\"µc-Si / a-Si\",$Q14843=\"a-Si (single)\",$Q14843=\"a-Si (tandem)\",$Q14843=\"a-Si (triple)\"),3,2))))","v":1},{"$f":"IF($O14843=\"Sunpower Corp.\",3,(IF(OR($Q14843=\"mono\",$Q14843=\"poly\",$Q14843=\"HIT\",$Q14843=\"EFG\",$Q14843=\"mono-LGBC\"),1,2)))","v":1},{"$f":"IF($O14843=\"Sunpower Corp.\",3,(IF(OR($Q14843=\"mono\",$Q14843=\"poly\",$Q14843=\"HIT\",$Q14843=\"EFG\",$Q14843=\"mono-LGBC\"),1,IF(OR($Q14843=\"µc-Si / a-Si\",$Q14843=\"a-Si (single)\",$Q14843=\"a-Si (tandem)\",$Q14843=\"a-Si (triple)\"),3,2))))","v":1},0,null,null,32755,null,null,14843]
["Synergy Renewable Energy pvt.ltd SRE - 200 (210)","Synergy Renewable Energy pvt.ltd ","SRE - 200 (210)",210,"+5...-5",27,7.78,33.21,8.11,-119.556,4.8659999999999997,-0.43,1000,"India",null,14.527850151062012,"mono",54,"pseudo-square",1475,980,42,"aluminum","cable",16.5,"www.synergysolar.in",null,null,null,null,null,{"$f":"IF($O14869=\"Sunpower Corp.\",3,(IF(OR($Q14869=\"mono\",$Q14869=\"poly\",$Q14869=\"HIT\",$Q14869=\"EFG\",$Q14869=\"mono-LGBC\"),1,IF(OR($Q14869=\"µc-Si / a-Si\",$Q14869=\"a-Si (single)\",$Q14869=\"a-Si (tandem)\",$Q14869=\"a-Si (triple)\"),3,2))))","v":1},{"$f":"IF($O14869=\"Sunpower Corp.\",3,(IF(OR($Q14869=\"mono\",$Q14869=\"poly\",$Q14869=\"HIT\",$Q14869=\"EFG\",$Q14869=\"mono-LGBC\"),1,2)))","v":1},{"$f":"IF($O14869=\"Sunpower Corp.\",3,(IF(OR($Q14869=\"mono\",$Q14869=\"poly\",$Q14869=\"HIT\",$Q14869=\"EFG\",$Q14869=\"mono-LGBC\"),1,IF(OR($Q14869=\"µc-Si / a-Si\",$Q14869=\"a-Si (single)\",$Q14869=\"a-Si (tandem)\",$Q14869=\"a-Si (triple)\"),3,2))))","v":1},0,null,null,26033,null,null,14869]
["systaic Deutschland AG PV-M 235","systaic Deutschland AG ","PV-M 235",235,"+1,7...-0,4",29.3,8.0399999999999991,36.6,8.6,-135.41999999999999,2.58,-0.51,1000,"Germany","diverse",14.129389762878418,"mono",60,"pseudo-square",1680,990,50,"aluminum","junction box Tyco",24,null,null,null,null,null,null,{"$f":"IF($O14888=\"Sunpower Corp.\",3,(IF(OR($Q14888=\"mono\",$Q14888=\"poly\",$Q14888=\"HIT\",$Q14888=\"EFG\",$Q14888=\"mono-LGBC\"),1,IF(OR($Q14888=\"µc-Si / a-Si\",$Q14888=\"a-Si (single)\",$Q14888=\"a-Si (tandem)\",$Q14888=\"a-Si (triple)\"),3,2))))","v":1},{"$f":"IF($O14888=\"Sunpower Corp.\",3,(IF(OR($Q14888=\"mono\",$Q14888=\"poly\",$Q14888=\"HIT\",$Q14888=\"EFG\",$Q14888=\"mono-LGBC\"),1,2)))","v":1},{"$f":"IF($O14888=\"Sunpower Corp.\",3,(IF(OR($Q14888=\"mono\",$Q14888=\"poly\",$Q14888=\"HIT\",$Q14888=\"EFG\",$Q14888=\"mono-LGBC\"),1,IF(OR($Q14888=\"µc-Si / a-Si\",$Q14888=\"a-Si (single)\",$Q14888=\"a-Si (tandem)\",$Q14888=\"a-Si (triple)\"),3,2))))","v":1},0,null,null,26058,null,null,14888]
["TAICIS Solar Energy Co., Ltd. TCF-C972 (145)","TAICIS Solar Energy Co., Ltd. ","TCF-C972 (145)",145,"+...",27.36,5.3,38.799999999999997,6.7,-194,0.67,-0.5,1000,null,null,8.4153585433959961,"CIGS",72,null,1936,890,50,"aluminum","junction box",20.5,"www.taicis.com",null,null,null,null,null,{"$f":"IF($O14908=\"Sunpower Corp.\",3,(IF(OR($Q14908=\"mono\",$Q14908=\"poly\",$Q14908=\"HIT\",$Q14908=\"EFG\",$Q14908=\"mono-LGBC\"),1,IF(OR($Q14908=\"µc-Si / a-Si\",$Q14908=\"a-Si (single)\",$Q14908=\"a-Si (tandem)\",$Q14908=\"a-Si (triple)\"),3,2))))","v":2},{"$f":"IF($O14908=\"Sunpower Corp.\",3,(IF(OR($Q14908=\"mono\",$Q14908=\"poly\",$Q14908=\"HIT\",$Q14908=\"EFG\",$Q14908=\"mono-LGBC\"),1,2)))","v":2},{"$f":"IF($O14908=\"Sunpower Corp.\",3,(IF(OR($Q14908=\"mono\",$Q14908=\"poly\",$Q14908=\"HIT\",$Q14908=\"EFG\",$Q14908=\"mono-LGBC\"),1,IF(OR($Q14908=\"µc-Si / a-Si\",$Q14908=\"a-Si (single)\",$Q14908=\"a-Si (tandem)\",$Q14908=\"a-Si (triple)\"),3,2))))","v":2},0,null,null,13608,null,null,14908]
["Taizhou Sopray Solar Co., Ltd. SR-185 (45NSR-R)","Taizhou Sopray Solar Co., Ltd. ","SR-185 (45NSR-R)",185,"+3...-3",37.200000000000003,4.97,44.5,5.54,-148.63,1.8836000000000002,-0.48,1000,"China",null,14.49116039276123,"mono",72,"pseudo-square",1580,808,45,"aluminum","junction box MC4",16.5,"www.sopraysolar.com",null,null,null,null,null,{"$f":"IF($O14933=\"Sunpower Corp.\",3,(IF(OR($Q14933=\"mono\",$Q14933=\"poly\",$Q14933=\"HIT\",$Q14933=\"EFG\",$Q14933=\"mono-LGBC\"),1,IF(OR($Q14933=\"µc-Si / a-Si\",$Q14933=\"a-Si (single)\",$Q14933=\"a-Si (tandem)\",$Q14933=\"a-Si (triple)\"),3,2))))","v":1},{"$f":"IF($O14933=\"Sunpower Corp.\",3,(IF(OR($Q14933=\"mono\",$Q14933=\"poly\",$Q14933=\"HIT\",$Q14933=\"EFG\",$Q14933=\"mono-LGBC\"),1,2)))","v":1},{"$f":"IF($O14933=\"Sunpower Corp.\",3,(IF(OR($Q14933=\"mono\",$Q14933=\"poly\",$Q14933=\"HIT\",$Q14933=\"EFG\",$Q14933=\"mono-LGBC\"),1,IF(OR($Q14933=\"µc-Si / a-Si\",$Q14933=\"a-Si (single)\",$Q14933=\"a-Si (tandem)\",$Q14933=\"a-Si (triple)\"),3,2))))","v":1},0,null,null,24135,null,null,14933]
["Tamesol TM-M572260","Tamesol ","TM-M572260",260,"+3...-3",35,7.44,43.7,7.8,-148.58000000000001,3.51,-0.47,1000,null,null,13.399629592895508,"mono",72,"pseudo-square",1956,992,50,"aluminum","junction box",23,"www.tamesol.com",null,null,null,null,null,{"$f":"IF($O14953=\"Sunpower Corp.\",3,(IF(OR($Q14953=\"mono\",$Q14953=\"poly\",$Q14953=\"HIT\",$Q14953=\"EFG\",$Q14953=\"mono-LGBC\"),1,IF(OR($Q14953=\"µc-Si / a-Si\",$Q14953=\"a-Si (single)\",$Q14953=\"a-Si (tandem)\",$Q14953=\"a-Si (triple)\"),3,2))))","v":1},{"$f":"IF($O14953=\"Sunpower Corp.\",3,(IF(OR($Q14953=\"mono\",$Q14953=\"poly\",$Q14953=\"HIT\",$Q14953=\"EFG\",$Q14953=\"mono-LGBC\"),1,2)))","v":1},{"$f":"IF($O14953=\"Sunpower Corp.\",3,(IF(OR($Q14953=\"mono\",$Q14953=\"poly\",$Q14953=\"HIT\",$Q14953=\"EFG\",$Q14953=\"mono-LGBC\"),1,IF(OR($Q14953=\"µc-Si / a-Si\",$Q14953=\"a-Si (single)\",$Q14953=\"a-Si (tandem)\",$Q14953=\"a-Si (triple)\"),3,2))))","v":1},0,null,null,33299,null,null,14953]
["Tamesol TM-P63660","Tamesol ","TM-P63660",60,"+3...-3",17.489999999999998,3.43,21.67,3.67,-69.344000000000008,1.101,-0.47,1000,null,null,11.544010162353516,"poly",60,"rectangular",770,675,30,"aluminum","junction box",6.8,"www.tamesol.com",null,null,null,null,null,{"$f":"IF($O14958=\"Sunpower Corp.\",3,(IF(OR($Q14958=\"mono\",$Q14958=\"poly\",$Q14958=\"HIT\",$Q14958=\"EFG\",$Q14958=\"mono-LGBC\"),1,IF(OR($Q14958=\"µc-Si / a-Si\",$Q14958=\"a-Si (single)\",$Q14958=\"a-Si (tandem)\",$Q14958=\"a-Si (triple)\"),3,2))))","v":1},{"$f":"IF($O14958=\"Sunpower Corp.\",3,(IF(OR($Q14958=\"mono\",$Q14958=\"poly\",$Q14958=\"HIT\",$Q14958=\"EFG\",$Q14958=\"mono-LGBC\"),1,2)))","v":1},{"$f":"IF($O14958=\"Sunpower Corp.\",3,(IF(OR($Q14958=\"mono\",$Q14958=\"poly\",$Q14958=\"HIT\",$Q14958=\"EFG\",$Q14958=\"mono-LGBC\"),1,IF(OR($Q14958=\"µc-Si / a-Si\",$Q14958=\"a-Si (single)\",$Q14958=\"a-Si (tandem)\",$Q14958=\"a-Si (triple)\"),3,2))))","v":1},0,null,null,33289,null,null,14958]
["TBEA SunOasis Co., Ltd TBEA 3275","TBEA SunOasis Co., Ltd ","TBEA 3275",275,"+5...-3",35.6,7.7,44.3,8.5,-159.47999999999999,5.5250000000000004,-0.5,1000,"China",null,14.124290466308594,"poly",72,"square",1947,1000,50,"aluminum","cable MC",21.8,"www.sunoasis.com.cn",null,null,null,null,null,{"$f":"IF($O14979=\"Sunpower Corp.\",3,(IF(OR($Q14979=\"mono\",$Q14979=\"poly\",$Q14979=\"HIT\",$Q14979=\"EFG\",$Q14979=\"mono-LGBC\"),1,IF(OR($Q14979=\"µc-Si / a-Si\",$Q14979=\"a-Si (single)\",$Q14979=\"a-Si (tandem)\",$Q14979=\"a-Si (triple)\"),3,2))))","v":1},{"$f":"IF($O14979=\"Sunpower Corp.\",3,(IF(OR($Q14979=\"mono\",$Q14979=\"poly\",$Q14979=\"HIT\",$Q14979=\"EFG\",$Q14979=\"mono-LGBC\"),1,2)))","v":1},{"$f":"IF($O14979=\"Sunpower Corp.\",3,(IF(OR($Q14979=\"mono\",$Q14979=\"poly\",$Q14979=\"HIT\",$Q14979=\"EFG\",$Q14979=\"mono-LGBC\"),1,IF(OR($Q14979=\"µc-Si / a-Si\",$Q14979=\"a-Si (single)\",$Q14979=\"a-Si (tandem)\",$Q14979=\"a-Si (triple)\"),3,2))))","v":1},0,null,null,33617,null,null,14979]
["TD Solar Company Ltd. TDP6660-210","TD Solar Company Ltd. ","TDP6660-210",210,"+3...-3",28.76,7.31,36.229999999999997,7.95,-113.39989999999999,6.36,-0.37,1000,"China",null,12.908140182495117,"poly",60,"square",1640,992,50,"aluminum","junction box",18.5,"www.tdsolar-power.com",null,null,null,null,null,{"$f":"IF($O15007=\"Sunpower Corp.\",3,(IF(OR($Q15007=\"mono\",$Q15007=\"poly\",$Q15007=\"HIT\",$Q15007=\"EFG\",$Q15007=\"mono-LGBC\"),1,IF(OR($Q15007=\"µc-Si / a-Si\",$Q15007=\"a-Si (single)\",$Q15007=\"a-Si (tandem)\",$Q15007=\"a-Si (triple)\"),3,2))))","v":1},{"$f":"IF($O15007=\"Sunpower Corp.\",3,(IF(OR($Q15007=\"mono\",$Q15007=\"poly\",$Q15007=\"HIT\",$Q15007=\"EFG\",$Q15007=\"mono-LGBC\"),1,2)))","v":1},{"$f":"IF($O15007=\"Sunpower Corp.\",3,(IF(OR($Q15007=\"mono\",$Q15007=\"poly\",$Q15007=\"HIT\",$Q15007=\"EFG\",$Q15007=\"mono-LGBC\"),1,IF(OR($Q15007=\"µc-Si / a-Si\",$Q15007=\"a-Si (single)\",$Q15007=\"a-Si (tandem)\",$Q15007=\"a-Si (triple)\"),3,2))))","v":1},0,null,null,22381,null,null,15007]
["Temposolar SL 175W-72M","Temposolar SL ","175W-72M",175,"+3...-3",35.6,4.92,44,5.4,-149.6,2.7,-0.5,1000,null,null,13.707859992980957,"mono",72,"pseudo-square",1580,808,40,"aluminum","junction box",17,"www.temposolar.com",null,null,null,null,null,{"$f":"IF($O15028=\"Sunpower Corp.\",3,(IF(OR($Q15028=\"mono\",$Q15028=\"poly\",$Q15028=\"HIT\",$Q15028=\"EFG\",$Q15028=\"mono-LGBC\"),1,IF(OR($Q15028=\"µc-Si / a-Si\",$Q15028=\"a-Si (single)\",$Q15028=\"a-Si (tandem)\",$Q15028=\"a-Si (triple)\"),3,2))))","v":1},{"$f":"IF($O15028=\"Sunpower Corp.\",3,(IF(OR($Q15028=\"mono\",$Q15028=\"poly\",$Q15028=\"HIT\",$Q15028=\"EFG\",$Q15028=\"mono-LGBC\"),1,2)))","v":1},{"$f":"IF($O15028=\"Sunpower Corp.\",3,(IF(OR($Q15028=\"mono\",$Q15028=\"poly\",$Q15028=\"HIT\",$Q15028=\"EFG\",$Q15028=\"mono-LGBC\"),1,IF(OR($Q15028=\"µc-Si / a-Si\",$Q15028=\"a-Si (single)\",$Q15028=\"a-Si (tandem)\",$Q15028=\"a-Si (triple)\"),3,2))))","v":1},0,null,null,18301,null,null,15028]
["Temposolar SL TS-NP 135W","Temposolar SL ","TS-NP 135W",135,"+...",62.3,2.17,78.400000000000006,2.52,-250.88,1.7640000000000002,-0.28000000000000003,1000,null,null,8.5703620910644531,"µc-Si / a-Si",null,null,1414,1114,35.5,null,"junction box MC4",20.5,"www.temposolar.com",null,null,null,null,null,{"$f":"IF($O15044=\"Sunpower Corp.\",3,(IF(OR($Q15044=\"mono\",$Q15044=\"poly\",$Q15044=\"HIT\",$Q15044=\"EFG\",$Q15044=\"mono-LGBC\"),1,IF(OR($Q15044=\"µc-Si / a-Si\",$Q15044=\"a-Si (single)\",$Q15044=\"a-Si (tandem)\",$Q15044=\"a-Si (triple)\"),3,2))))","v":3},{"$f":"IF($O15044=\"Sunpower Corp.\",3,(IF(OR($Q15044=\"mono\",$Q15044=\"poly\",$Q15044=\"HIT\",$Q15044=\"EFG\",$Q15044=\"mono-LGBC\"),1,2)))","v":2},{"$f":"IF($O15044=\"Sunpower Corp.\",3,(IF(OR($Q15044=\"mono\",$Q15044=\"poly\",$Q15044=\"HIT\",$Q15044=\"EFG\",$Q15044=\"mono-LGBC\"),1,IF(OR($Q15044=\"µc-Si / a-Si\",$Q15044=\"a-Si (single)\",$Q15044=\"a-Si (tandem)\",$Q15044=\"a-Si (triple)\"),3,2))))","v":3},0,null,null,28550,null,null,15044]
["Tenesol Total Energie Deutschland GmbH TE2000 : 190 Wp (Mono)","Tenesol Total Energie Deutschland GmbH ","TE2000 : 190 Wp (Mono)",190,"+2,6...-2,6",25,7.6,32.1,8.1,-109.2684,2.3813999999999997,-0.43,1000,"Republic of South Africa","diverse",12.646010398864746,"mono",54,"pseudo-square",1510,995,50,"aluminum","cable Tyco",18,"www.tenesol.com",null,null,null,null,null,{"$f":"IF($O15053=\"Sunpower Corp.\",3,(IF(OR($Q15053=\"mono\",$Q15053=\"poly\",$Q15053=\"HIT\",$Q15053=\"EFG\",$Q15053=\"mono-LGBC\"),1,IF(OR($Q15053=\"µc-Si / a-Si\",$Q15053=\"a-Si (single)\",$Q15053=\"a-Si (tandem)\",$Q15053=\"a-Si (triple)\"),3,2))))","v":1},{"$f":"IF($O15053=\"Sunpower Corp.\",3,(IF(OR($Q15053=\"mono\",$Q15053=\"poly\",$Q15053=\"HIT\",$Q15053=\"EFG\",$Q15053=\"mono-LGBC\"),1,2)))","v":1},{"$f":"IF($O15053=\"Sunpower Corp.\",3,(IF(OR($Q15053=\"mono\",$Q15053=\"poly\",$Q15053=\"HIT\",$Q15053=\"EFG\",$Q15053=\"mono-LGBC\"),1,IF(OR($Q15053=\"µc-Si / a-Si\",$Q15053=\"a-Si (single)\",$Q15053=\"a-Si (tandem)\",$Q15053=\"a-Si (triple)\"),3,2))))","v":1},0,null,null,26310,null,null,15053]
["Tianwei New Energy Holdings Co., Ltd. TW180(28)P","Tianwei New Energy Holdings Co., Ltd. ","TW180(28)P",180,"+3...-3",28.15,6.57,36.200000000000003,7.21,-123.08,4.3259999999999996,-0.44,1000,null,null,10.944009780883789,"poly",60,"square",1653,995,45,"aluminum","junction box",20,"www.twnesolar.com",null,null,null,null,null,{"$f":"IF($O15089=\"Sunpower Corp.\",3,(IF(OR($Q15089=\"mono\",$Q15089=\"poly\",$Q15089=\"HIT\",$Q15089=\"EFG\",$Q15089=\"mono-LGBC\"),1,IF(OR($Q15089=\"µc-Si / a-Si\",$Q15089=\"a-Si (single)\",$Q15089=\"a-Si (tandem)\",$Q15089=\"a-Si (triple)\"),3,2))))","v":1},{"$f":"IF($O15089=\"Sunpower Corp.\",3,(IF(OR($Q15089=\"mono\",$Q15089=\"poly\",$Q15089=\"HIT\",$Q15089=\"EFG\",$Q15089=\"mono-LGBC\"),1,2)))","v":1},{"$f":"IF($O15089=\"Sunpower Corp.\",3,(IF(OR($Q15089=\"mono\",$Q15089=\"poly\",$Q15089=\"HIT\",$Q15089=\"EFG\",$Q15089=\"mono-LGBC\"),1,IF(OR($Q15089=\"µc-Si / a-Si\",$Q15089=\"a-Si (single)\",$Q15089=\"a-Si (tandem)\",$Q15089=\"a-Si (triple)\"),3,2))))","v":1},0,null,null,33482,null,null,15089]
["Tianwei New Energy Holdings Co., Ltd. TW190(35)D-1","Tianwei New Energy Holdings Co., Ltd. ","TW190(35)D-1",190,"+3...-3",37.299999999999997,5.0999999999999996,44.4,5.62,-150.96,2.81,-0.43,1000,"China",null,14.882820129394531,"mono",72,"pseudo-square",1580,808,40,"aluminum","junction box",15.5,"www.twnesolar.com",null,null,null,null,null,{"$f":"IF($O15102=\"Sunpower Corp.\",3,(IF(OR($Q15102=\"mono\",$Q15102=\"poly\",$Q15102=\"HIT\",$Q15102=\"EFG\",$Q15102=\"mono-LGBC\"),1,IF(OR($Q15102=\"µc-Si / a-Si\",$Q15102=\"a-Si (single)\",$Q15102=\"a-Si (tandem)\",$Q15102=\"a-Si (triple)\"),3,2))))","v":1},{"$f":"IF($O15102=\"Sunpower Corp.\",3,(IF(OR($Q15102=\"mono\",$Q15102=\"poly\",$Q15102=\"HIT\",$Q15102=\"EFG\",$Q15102=\"mono-LGBC\"),1,2)))","v":1},{"$f":"IF($O15102=\"Sunpower Corp.\",3,(IF(OR($Q15102=\"mono\",$Q15102=\"poly\",$Q15102=\"HIT\",$Q15102=\"EFG\",$Q15102=\"mono-LGBC\"),1,IF(OR($Q15102=\"µc-Si / a-Si\",$Q15102=\"a-Si (single)\",$Q15102=\"a-Si (tandem)\",$Q15102=\"a-Si (triple)\"),3,2))))","v":1},0,null,null,34701,null,null,15102]
["Tianwei New Energy Holdings Co., Ltd. TW205P54","Tianwei New Energy Holdings Co., Ltd. ","TW205P54",205,"+3...-3",26.7,7.68,33.4,8.25,-113.56,4.95,-0.44,1000,null,null,13.944210052490234,"poly",54,"square",1482,992,40,"aluminum","junction box",17.5,"www.twnesolar.com",null,null,null,null,null,{"$f":"IF($O15115=\"Sunpower Corp.\",3,(IF(OR($Q15115=\"mono\",$Q15115=\"poly\",$Q15115=\"HIT\",$Q15115=\"EFG\",$Q15115=\"mono-LGBC\"),1,IF(OR($Q15115=\"µc-Si / a-Si\",$Q15115=\"a-Si (single)\",$Q15115=\"a-Si (tandem)\",$Q15115=\"a-Si (triple)\"),3,2))))","v":1},{"$f":"IF($O15115=\"Sunpower Corp.\",3,(IF(OR($Q15115=\"mono\",$Q15115=\"poly\",$Q15115=\"HIT\",$Q15115=\"EFG\",$Q15115=\"mono-LGBC\"),1,2)))","v":1},{"$f":"IF($O15115=\"Sunpower Corp.\",3,(IF(OR($Q15115=\"mono\",$Q15115=\"poly\",$Q15115=\"HIT\",$Q15115=\"EFG\",$Q15115=\"mono-LGBC\"),1,IF(OR($Q15115=\"µc-Si / a-Si\",$Q15115=\"a-Si (single)\",$Q15115=\"a-Si (tandem)\",$Q15115=\"a-Si (triple)\"),3,2))))","v":1},0,null,null,21003,null,null,15115]
["Titan Energy Systems Ltd. TITAN 12-50","Titan Energy Systems Ltd. ","TITAN 12-50",50,"+3...-3",17.2,2.9,21,3.2,-79.8,3.2,null,600,"India","RWE Schott Solar GmbH / RWE Schott Solar Inc.",11.345589637756348,"EFG",36,"square",975,452,36,"aluminum","junction box others",5.6,"www.titansolar.com",null,null,null,null,null,{"$f":"IF($O15147=\"Sunpower Corp.\",3,(IF(OR($Q15147=\"mono\",$Q15147=\"poly\",$Q15147=\"HIT\",$Q15147=\"EFG\",$Q15147=\"mono-LGBC\"),1,IF(OR($Q15147=\"µc-Si / a-Si\",$Q15147=\"a-Si (single)\",$Q15147=\"a-Si (tandem)\",$Q15147=\"a-Si (triple)\"),3,2))))","v":1},{"$f":"IF($O15147=\"Sunpower Corp.\",3,(IF(OR($Q15147=\"mono\",$Q15147=\"poly\",$Q15147=\"HIT\",$Q15147=\"EFG\",$Q15147=\"mono-LGBC\"),1,2)))","v":1},{"$f":"IF($O15147=\"Sunpower Corp.\",3,(IF(OR($Q15147=\"mono\",$Q15147=\"poly\",$Q15147=\"HIT\",$Q15147=\"EFG\",$Q15147=\"mono-LGBC\"),1,IF(OR($Q15147=\"µc-Si / a-Si\",$Q15147=\"a-Si (single)\",$Q15147=\"a-Si (tandem)\",$Q15147=\"a-Si (triple)\"),3,2))))","v":1},0,null,null,1380,null,null,15147]
["Titan Energy Systems Ltd. TITAN CIGS 120","Titan Energy Systems Ltd. ","TITAN CIGS 120",120,"+3...-3",45.8,4.91,45.5,4.8,-227.5,24,null,700,"India","Global Solar",8.1455116271972656,"CIGS",16,"square",1257,1172,42,"aluminum","cable others",17,"www.titansolar.com",null,null,null,null,null,{"$f":"IF($O15154=\"Sunpower Corp.\",3,(IF(OR($Q15154=\"mono\",$Q15154=\"poly\",$Q15154=\"HIT\",$Q15154=\"EFG\",$Q15154=\"mono-LGBC\"),1,IF(OR($Q15154=\"µc-Si / a-Si\",$Q15154=\"a-Si (single)\",$Q15154=\"a-Si (tandem)\",$Q15154=\"a-Si (triple)\"),3,2))))","v":2},{"$f":"IF($O15154=\"Sunpower Corp.\",3,(IF(OR($Q15154=\"mono\",$Q15154=\"poly\",$Q15154=\"HIT\",$Q15154=\"EFG\",$Q15154=\"mono-LGBC\"),1,2)))","v":2},{"$f":"IF($O15154=\"Sunpower Corp.\",3,(IF(OR($Q15154=\"mono\",$Q15154=\"poly\",$Q15154=\"HIT\",$Q15154=\"EFG\",$Q15154=\"mono-LGBC\"),1,IF(OR($Q15154=\"µc-Si / a-Si\",$Q15154=\"a-Si (single)\",$Q15154=\"a-Si (tandem)\",$Q15154=\"a-Si (triple)\"),3,2))))","v":2},0,null,null,3435,null,null,15154]
["Titan Energy Systems Ltd. TITAN S5-96 (235)","Titan Energy Systems Ltd. ","TITAN S5-96 (235)",235,"+2...0",48.66,4.83,59.81,5.2,-187.20530000000002,3.64,-0.41,1000,null,null,13.62030029296875,"mono",96,"pseudo-square",1614,1069,42,null,"junction box MC4",20,"www.titan-energy.com",null,null,null,null,null,{"$f":"IF($O15172=\"Sunpower Corp.\",3,(IF(OR($Q15172=\"mono\",$Q15172=\"poly\",$Q15172=\"HIT\",$Q15172=\"EFG\",$Q15172=\"mono-LGBC\"),1,IF(OR($Q15172=\"µc-Si / a-Si\",$Q15172=\"a-Si (single)\",$Q15172=\"a-Si (tandem)\",$Q15172=\"a-Si (triple)\"),3,2))))","v":1},{"$f":"IF($O15172=\"Sunpower Corp.\",3,(IF(OR($Q15172=\"mono\",$Q15172=\"poly\",$Q15172=\"HIT\",$Q15172=\"EFG\",$Q15172=\"mono-LGBC\"),1,2)))","v":1},{"$f":"IF($O15172=\"Sunpower Corp.\",3,(IF(OR($Q15172=\"mono\",$Q15172=\"poly\",$Q15172=\"HIT\",$Q15172=\"EFG\",$Q15172=\"mono-LGBC\"),1,IF(OR($Q15172=\"µc-Si / a-Si\",$Q15172=\"a-Si (single)\",$Q15172=\"a-Si (tandem)\",$Q15172=\"a-Si (triple)\"),3,2))))","v":1},0,null,null,17953,null,null,15172]
["Topsun Co., Ltd. TS-S350","Topsun Co., Ltd. ","TS-S350",350,"+2...-2",44.86,7.81,54.56,8.3000000000000007,-218.24,4.1500000000000004,-0.49,1000,"South Korea",null,14.865779876708984,"mono",88,"pseudo-square",1800,1308,40,"aluminum","junction box",32,"www.topsun.com",null,null,null,null,null,{"$f":"IF($O15199=\"Sunpower Corp.\",3,(IF(OR($Q15199=\"mono\",$Q15199=\"poly\",$Q15199=\"HIT\",$Q15199=\"EFG\",$Q15199=\"mono-LGBC\"),1,IF(OR($Q15199=\"µc-Si / a-Si\",$Q15199=\"a-Si (single)\",$Q15199=\"a-Si (tandem)\",$Q15199=\"a-Si (triple)\"),3,2))))","v":1},{"$f":"IF($O15199=\"Sunpower Corp.\",3,(IF(OR($Q15199=\"mono\",$Q15199=\"poly\",$Q15199=\"HIT\",$Q15199=\"EFG\",$Q15199=\"mono-LGBC\"),1,2)))","v":1},{"$f":"IF($O15199=\"Sunpower Corp.\",3,(IF(OR($Q15199=\"mono\",$Q15199=\"poly\",$Q15199=\"HIT\",$Q15199=\"EFG\",$Q15199=\"mono-LGBC\"),1,IF(OR($Q15199=\"µc-Si / a-Si\",$Q15199=\"a-Si (single)\",$Q15199=\"a-Si (tandem)\",$Q15199=\"a-Si (triple)\"),3,2))))","v":1},0,null,null,33167,null,null,15199]
["Transform Solar Pty Ltd. SVR157","Transform Solar Pty Ltd. ","SVR157",157,"+5...-5",74.099999999999994,2.12,91.8,2.2999999999999998,-293.76,0.92,-0.45,null,null,null,12.327239990234375,"mono",null,null,1518,839,46,"aluminum","junction box",17,"www.transformsolar.com",null,null,null,null,null,{"$f":"IF($O15217=\"Sunpower Corp.\",3,(IF(OR($Q15217=\"mono\",$Q15217=\"poly\",$Q15217=\"HIT\",$Q15217=\"EFG\",$Q15217=\"mono-LGBC\"),1,IF(OR($Q15217=\"µc-Si / a-Si\",$Q15217=\"a-Si (single)\",$Q15217=\"a-Si (tandem)\",$Q15217=\"a-Si (triple)\"),3,2))))","v":1},{"$f":"IF($O15217=\"Sunpower Corp.\",3,(IF(OR($Q15217=\"mono\",$Q15217=\"poly\",$Q15217=\"HIT\",$Q15217=\"EFG\",$Q15217=\"mono-LGBC\"),1,2)))","v":1},{"$f":"IF($O15217=\"Sunpower Corp.\",3,(IF(OR($Q15217=\"mono\",$Q15217=\"poly\",$Q15217=\"HIT\",$Q15217=\"EFG\",$Q15217=\"mono-LGBC\"),1,IF(OR($Q15217=\"µc-Si / a-Si\",$Q15217=\"a-Si (single)\",$Q15217=\"a-Si (tandem)\",$Q15217=\"a-Si (triple)\"),3,2))))","v":1},0,null,null,22770,null,null,15217]
["Trend Capital GmbH & Co. ALGATEC Solarwerke ASM-GG-poly 2-5","Trend Capital GmbH & Co. ALGATEC Solarwerke ","ASM-GG-poly 2-5",56.400001525878906,"+3...-3",11.63,4.8499999999999996,14.77,5.25,-48.741,3.15,-0.37,1000,null,null,6.5497617721557617,"mono",24,null,1090,790,65,null,null,36,null,null,null,null,null,null,{"$f":"IF($O15244=\"Sunpower Corp.\",3,(IF(OR($Q15244=\"mono\",$Q15244=\"poly\",$Q15244=\"HIT\",$Q15244=\"EFG\",$Q15244=\"mono-LGBC\"),1,IF(OR($Q15244=\"µc-Si / a-Si\",$Q15244=\"a-Si (single)\",$Q15244=\"a-Si (tandem)\",$Q15244=\"a-Si (triple)\"),3,2))))","v":1},{"$f":"IF($O15244=\"Sunpower Corp.\",3,(IF(OR($Q15244=\"mono\",$Q15244=\"poly\",$Q15244=\"HIT\",$Q15244=\"EFG\",$Q15244=\"mono-LGBC\"),1,2)))","v":1},{"$f":"IF($O15244=\"Sunpower Corp.\",3,(IF(OR($Q15244=\"mono\",$Q15244=\"poly\",$Q15244=\"HIT\",$Q15244=\"EFG\",$Q15244=\"mono-LGBC\"),1,IF(OR($Q15244=\"µc-Si / a-Si\",$Q15244=\"a-Si (single)\",$Q15244=\"a-Si (tandem)\",$Q15244=\"a-Si (triple)\"),3,2))))","v":1},0,null,null,5018,null,null,15244]
["Trend Capital GmbH & Co. ALGATEC Solarwerke ASM-poly-CS 3-6/225","Trend Capital GmbH & Co. ALGATEC Solarwerke ","ASM-poly-CS 3-6/225",225,"+3...-3",29.5,7.65,37,8.25,-133.19999999999999,4.95,-0.46,1000,null,null,13.501350402832031,"poly",60,"square",1650,1010,42,"aluminum","junction box MC4",21,"www.algatec.com",null,null,null,null,null,{"$f":"IF($O15266=\"Sunpower Corp.\",3,(IF(OR($Q15266=\"mono\",$Q15266=\"poly\",$Q15266=\"HIT\",$Q15266=\"EFG\",$Q15266=\"mono-LGBC\"),1,IF(OR($Q15266=\"µc-Si / a-Si\",$Q15266=\"a-Si (single)\",$Q15266=\"a-Si (tandem)\",$Q15266=\"a-Si (triple)\"),3,2))))","v":1},{"$f":"IF($O15266=\"Sunpower Corp.\",3,(IF(OR($Q15266=\"mono\",$Q15266=\"poly\",$Q15266=\"HIT\",$Q15266=\"EFG\",$Q15266=\"mono-LGBC\"),1,2)))","v":1},{"$f":"IF($O15266=\"Sunpower Corp.\",3,(IF(OR($Q15266=\"mono\",$Q15266=\"poly\",$Q15266=\"HIT\",$Q15266=\"EFG\",$Q15266=\"mono-LGBC\"),1,IF(OR($Q15266=\"µc-Si / a-Si\",$Q15266=\"a-Si (single)\",$Q15266=\"a-Si (tandem)\",$Q15266=\"a-Si (triple)\"),3,2))))","v":1},0,null,null,7950,null,null,15266]
["Trend Capital GmbH & Co. ALGATEC Solarwerke ASM-T-mono 2-5","Trend Capital GmbH & Co. ALGATEC Solarwerke ","ASM-T-mono 2-5",93.449996948242188,"+2...",19.597000000000001,4.7690000000000001,24.643000000000001,5.0979999999999999,-93.6434,3.0587999999999997,-0.48,1000,null,null,7.1888761520385742,"mono",40,"pseudo-square",1595,815,42,"aluminum","junction box MC4",15,"www.algatec.com",null,null,null,null,null,{"$f":"IF($O15270=\"Sunpower Corp.\",3,(IF(OR($Q15270=\"mono\",$Q15270=\"poly\",$Q15270=\"HIT\",$Q15270=\"EFG\",$Q15270=\"mono-LGBC\"),1,IF(OR($Q15270=\"µc-Si / a-Si\",$Q15270=\"a-Si (single)\",$Q15270=\"a-Si (tandem)\",$Q15270=\"a-Si (triple)\"),3,2))))","v":1},{"$f":"IF($O15270=\"Sunpower Corp.\",3,(IF(OR($Q15270=\"mono\",$Q15270=\"poly\",$Q15270=\"HIT\",$Q15270=\"EFG\",$Q15270=\"mono-LGBC\"),1,2)))","v":1},{"$f":"IF($O15270=\"Sunpower Corp.\",3,(IF(OR($Q15270=\"mono\",$Q15270=\"poly\",$Q15270=\"HIT\",$Q15270=\"EFG\",$Q15270=\"mono-LGBC\"),1,IF(OR($Q15270=\"µc-Si / a-Si\",$Q15270=\"a-Si (single)\",$Q15270=\"a-Si (tandem)\",$Q15270=\"a-Si (triple)\"),3,2))))","v":1},0,null,null,7945,null,null,15270]
["Trina Solar Energy Co., Ltd TSM-185DC01A","Trina Solar Energy Co., Ltd ","TSM-185DC01A",185,"+3...0",36.1,5.14,44.6,5.48,-156.1,2.74,-0.45,1000,null,null,14.464099884033203,"mono",72,"pseudo-square",1581,809,40,"aluminum","junction box",15.6,"www.trinasolar.com",null,null,null,null,null,{"$f":"IF($O15291=\"Sunpower Corp.\",3,(IF(OR($Q15291=\"mono\",$Q15291=\"poly\",$Q15291=\"HIT\",$Q15291=\"EFG\",$Q15291=\"mono-LGBC\"),1,IF(OR($Q15291=\"µc-Si / a-Si\",$Q15291=\"a-Si (single)\",$Q15291=\"a-Si (tandem)\",$Q15291=\"a-Si (triple)\"),3,2))))","v":1},{"$f":"IF($O15291=\"Sunpower Corp.\",3,(IF(OR($Q15291=\"mono\",$Q15291=\"poly\",$Q15291=\"HIT\",$Q15291=\"EFG\",$Q15291=\"mono-LGBC\"),1,2)))","v":1},{"$f":"IF($O15291=\"Sunpower Corp.\",3,(IF(OR($Q15291=\"mono\",$Q15291=\"poly\",$Q15291=\"HIT\",$Q15291=\"EFG\",$Q15291=\"mono-LGBC\"),1,IF(OR($Q15291=\"µc-Si / a-Si\",$Q15291=\"a-Si (single)\",$Q15291=\"a-Si (tandem)\",$Q15291=\"a-Si (triple)\"),3,2))))","v":1},0,null,null,28737,null,null,15291]
["Trina Solar Energy Co., Ltd TSM-220PA05 Black","Trina Solar Energy Co., Ltd ","TSM-220PA05 Black",220,"+3...0",29,7.6,36.799999999999997,8.15,-128.80000000000001,4.0750000000000002,-0.45,null,"China","Trina Solar",13.440859794616699,"poly",60,"square",1650,992,40,"aluminum","junction box Tyco",19.5,"www.trinasolar.com",null,null,null,null,null,{"$f":"IF($O15309=\"Sunpower Corp.\",3,(IF(OR($Q15309=\"mono\",$Q15309=\"poly\",$Q15309=\"HIT\",$Q15309=\"EFG\",$Q15309=\"mono-LGBC\"),1,IF(OR($Q15309=\"µc-Si / a-Si\",$Q15309=\"a-Si (single)\",$Q15309=\"a-Si (tandem)\",$Q15309=\"a-Si (triple)\"),3,2))))","v":1},{"$f":"IF($O15309=\"Sunpower Corp.\",3,(IF(OR($Q15309=\"mono\",$Q15309=\"poly\",$Q15309=\"HIT\",$Q15309=\"EFG\",$Q15309=\"mono-LGBC\"),1,2)))","v":1},{"$f":"IF($O15309=\"Sunpower Corp.\",3,(IF(OR($Q15309=\"mono\",$Q15309=\"poly\",$Q15309=\"HIT\",$Q15309=\"EFG\",$Q15309=\"mono-LGBC\"),1,IF(OR($Q15309=\"µc-Si / a-Si\",$Q15309=\"a-Si (single)\",$Q15309=\"a-Si (tandem)\",$Q15309=\"a-Si (triple)\"),3,2))))","v":1},0,null,null,25890,null,null,15309]
["Trina Solar Energy Co., Ltd TSM-265PC14","Trina Solar Energy Co., Ltd ","TSM-265PC14",265,"+3...0",35.299999999999997,7.5,44.2,8.1999999999999993,-154.69999999999999,4.0999999999999996,-0.45,1000,"China","Trina Solar",13.657320022583008,"poly",72,"square",1956,992,46,"aluminum","junction box MC4",28,"www.trinasolar.com",null,null,null,null,null,{"$f":"IF($O15336=\"Sunpower Corp.\",3,(IF(OR($Q15336=\"mono\",$Q15336=\"poly\",$Q15336=\"HIT\",$Q15336=\"EFG\",$Q15336=\"mono-LGBC\"),1,IF(OR($Q15336=\"µc-Si / a-Si\",$Q15336=\"a-Si (single)\",$Q15336=\"a-Si (tandem)\",$Q15336=\"a-Si (triple)\"),3,2))))","v":1},{"$f":"IF($O15336=\"Sunpower Corp.\",3,(IF(OR($Q15336=\"mono\",$Q15336=\"poly\",$Q15336=\"HIT\",$Q15336=\"EFG\",$Q15336=\"mono-LGBC\"),1,2)))","v":1},{"$f":"IF($O15336=\"Sunpower Corp.\",3,(IF(OR($Q15336=\"mono\",$Q15336=\"poly\",$Q15336=\"HIT\",$Q15336=\"EFG\",$Q15336=\"mono-LGBC\"),1,IF(OR($Q15336=\"µc-Si / a-Si\",$Q15336=\"a-Si (single)\",$Q15336=\"a-Si (tandem)\",$Q15336=\"a-Si (triple)\"),3,2))))","v":1},0,null,null,16457,null,null,15336]
["Tynsolar Corporation Tynsolar 220 poly","Tynsolar Corporation ","Tynsolar 220 poly",220,"+5...-5",30.12,7.3,36,8,-158.4,4,-0.4,1000,"Taiwan (Formosa)","Motech Industries",13.432900428771973,"poly",60,"square",1646,995,50,"aluminum","junction box",21,"www.tynsolar.com.tw",null,null,null,null,null,{"$f":"IF($O15354=\"Sunpower Corp.\",3,(IF(OR($Q15354=\"mono\",$Q15354=\"poly\",$Q15354=\"HIT\",$Q15354=\"EFG\",$Q15354=\"mono-LGBC\"),1,IF(OR($Q15354=\"µc-Si / a-Si\",$Q15354=\"a-Si (single)\",$Q15354=\"a-Si (tandem)\",$Q15354=\"a-Si (triple)\"),3,2))))","v":1},{"$f":"IF($O15354=\"Sunpower Corp.\",3,(IF(OR($Q15354=\"mono\",$Q15354=\"poly\",$Q15354=\"HIT\",$Q15354=\"EFG\",$Q15354=\"mono-LGBC\"),1,2)))","v":1},{"$f":"IF($O15354=\"Sunpower Corp.\",3,(IF(OR($Q15354=\"mono\",$Q15354=\"poly\",$Q15354=\"HIT\",$Q15354=\"EFG\",$Q15354=\"mono-LGBC\"),1,IF(OR($Q15354=\"µc-Si / a-Si\",$Q15354=\"a-Si (single)\",$Q15354=\"a-Si (tandem)\",$Q15354=\"a-Si (triple)\"),3,2))))","v":1},0,null,null,4653,null,null,15354]
["UE Solar Co., Ltd. (China Etenergy) ZHM160","UE Solar Co., Ltd. (China Etenergy) ","ZHM160",160,"+3...0",34.700000000000003,4.6100000000000003,41.99,5.08,-159.56200000000001,2.032,-0.5,1000,null,"Motech Industries",12.532899856567383,"mono",72,"pseudo-square",1580,808,50,"aluminum","junction box",16,"www.uesolar.com",null,null,null,null,null,{"$f":"IF($O15381=\"Sunpower Corp.\",3,(IF(OR($Q15381=\"mono\",$Q15381=\"poly\",$Q15381=\"HIT\",$Q15381=\"EFG\",$Q15381=\"mono-LGBC\"),1,IF(OR($Q15381=\"µc-Si / a-Si\",$Q15381=\"a-Si (single)\",$Q15381=\"a-Si (tandem)\",$Q15381=\"a-Si (triple)\"),3,2))))","v":1},{"$f":"IF($O15381=\"Sunpower Corp.\",3,(IF(OR($Q15381=\"mono\",$Q15381=\"poly\",$Q15381=\"HIT\",$Q15381=\"EFG\",$Q15381=\"mono-LGBC\"),1,2)))","v":1},{"$f":"IF($O15381=\"Sunpower Corp.\",3,(IF(OR($Q15381=\"mono\",$Q15381=\"poly\",$Q15381=\"HIT\",$Q15381=\"EFG\",$Q15381=\"mono-LGBC\"),1,IF(OR($Q15381=\"µc-Si / a-Si\",$Q15381=\"a-Si (single)\",$Q15381=\"a-Si (tandem)\",$Q15381=\"a-Si (triple)\"),3,2))))","v":1},0,null,null,19872,null,null,15381]
["UE Solar Co., Ltd. (China Etenergy) ZHM-175 (50mm)","UE Solar Co., Ltd. (China Etenergy) ","ZHM-175 (50mm)",175,"+3...0",35.700000000000003,4.91,44.06,5.41,-154.21,2.1640000000000001,-0.5,1000,null,null,13.707859992980957,"mono",72,"pseudo-square",1580,808,50,"aluminum","junction box MC4",16,"www.uesolar.com",null,null,null,null,null,{"$f":"IF($O15399=\"Sunpower Corp.\",3,(IF(OR($Q15399=\"mono\",$Q15399=\"poly\",$Q15399=\"HIT\",$Q15399=\"EFG\",$Q15399=\"mono-LGBC\"),1,IF(OR($Q15399=\"µc-Si / a-Si\",$Q15399=\"a-Si (single)\",$Q15399=\"a-Si (tandem)\",$Q15399=\"a-Si (triple)\"),3,2))))","v":1},{"$f":"IF($O15399=\"Sunpower Corp.\",3,(IF(OR($Q15399=\"mono\",$Q15399=\"poly\",$Q15399=\"HIT\",$Q15399=\"EFG\",$Q15399=\"mono-LGBC\"),1,2)))","v":1},{"$f":"IF($O15399=\"Sunpower Corp.\",3,(IF(OR($Q15399=\"mono\",$Q15399=\"poly\",$Q15399=\"HIT\",$Q15399=\"EFG\",$Q15399=\"mono-LGBC\"),1,IF(OR($Q15399=\"µc-Si / a-Si\",$Q15399=\"a-Si (single)\",$Q15399=\"a-Si (tandem)\",$Q15399=\"a-Si (triple)\"),3,2))))","v":1},0,null,null,11442,null,null,15399]
["UE Solar Co., Ltd. (China Etenergy) ZHM-185P","UE Solar Co., Ltd. (China Etenergy) ","ZHM-185P",185,"+3...0",24,7.71,28.8,8.49,-100.8,3.3960000000000004,-0.5,1000,null,null,14.199749946594238,"poly",48,"square",1316,990,50,"aluminum","junction box",15,"www.uesolar.com",null,null,null,null,null,{"$f":"IF($O15410=\"Sunpower Corp.\",3,(IF(OR($Q15410=\"mono\",$Q15410=\"poly\",$Q15410=\"HIT\",$Q15410=\"EFG\",$Q15410=\"mono-LGBC\"),1,IF(OR($Q15410=\"µc-Si / a-Si\",$Q15410=\"a-Si (single)\",$Q15410=\"a-Si (tandem)\",$Q15410=\"a-Si (triple)\"),3,2))))","v":1},{"$f":"IF($O15410=\"Sunpower Corp.\",3,(IF(OR($Q15410=\"mono\",$Q15410=\"poly\",$Q15410=\"HIT\",$Q15410=\"EFG\",$Q15410=\"mono-LGBC\"),1,2)))","v":1},{"$f":"IF($O15410=\"Sunpower Corp.\",3,(IF(OR($Q15410=\"mono\",$Q15410=\"poly\",$Q15410=\"HIT\",$Q15410=\"EFG\",$Q15410=\"mono-LGBC\"),1,IF(OR($Q15410=\"µc-Si / a-Si\",$Q15410=\"a-Si (single)\",$Q15410=\"a-Si (tandem)\",$Q15410=\"a-Si (triple)\"),3,2))))","v":1},0,null,null,11415,null,null,15410]
["UE Solar Co., Ltd. (China Etenergy) ZHM-210","UE Solar Co., Ltd. (China Etenergy) ","ZHM-210",210,"+3...0",29,7.24,34.799999999999997,7.96,-121.8,3.1840000000000002,-0.5,1000,null,null,12.934220314025879,"mono",60,"pseudo-square",1640,990,50,"aluminum","junction box",20,"www.uesolar.com",null,null,null,null,null,{"$f":"IF($O15425=\"Sunpower Corp.\",3,(IF(OR($Q15425=\"mono\",$Q15425=\"poly\",$Q15425=\"HIT\",$Q15425=\"EFG\",$Q15425=\"mono-LGBC\"),1,IF(OR($Q15425=\"µc-Si / a-Si\",$Q15425=\"a-Si (single)\",$Q15425=\"a-Si (tandem)\",$Q15425=\"a-Si (triple)\"),3,2))))","v":1},{"$f":"IF($O15425=\"Sunpower Corp.\",3,(IF(OR($Q15425=\"mono\",$Q15425=\"poly\",$Q15425=\"HIT\",$Q15425=\"EFG\",$Q15425=\"mono-LGBC\"),1,2)))","v":1},{"$f":"IF($O15425=\"Sunpower Corp.\",3,(IF(OR($Q15425=\"mono\",$Q15425=\"poly\",$Q15425=\"HIT\",$Q15425=\"EFG\",$Q15425=\"mono-LGBC\"),1,IF(OR($Q15425=\"µc-Si / a-Si\",$Q15425=\"a-Si (single)\",$Q15425=\"a-Si (tandem)\",$Q15425=\"a-Si (triple)\"),3,2))))","v":1},0,null,null,11412,null,null,15425]
["UE Solar Co., Ltd. (China Etenergy) ZHM-245P","UE Solar Co., Ltd. (China Etenergy) ","ZHM-245P",245,"+3...0",34.4,7.12,41.28,7.83,-144.47999999999999,3.1320000000000001,-0.5,1000,null,null,12.691010475158691,"poly",72,"square",1950,990,50,"aluminum","junction box",24,"www.uesolar.com",null,null,null,null,null,{"$f":"IF($O15455=\"Sunpower Corp.\",3,(IF(OR($Q15455=\"mono\",$Q15455=\"poly\",$Q15455=\"HIT\",$Q15455=\"EFG\",$Q15455=\"mono-LGBC\"),1,IF(OR($Q15455=\"µc-Si / a-Si\",$Q15455=\"a-Si (single)\",$Q15455=\"a-Si (tandem)\",$Q15455=\"a-Si (triple)\"),3,2))))","v":1},{"$f":"IF($O15455=\"Sunpower Corp.\",3,(IF(OR($Q15455=\"mono\",$Q15455=\"poly\",$Q15455=\"HIT\",$Q15455=\"EFG\",$Q15455=\"mono-LGBC\"),1,2)))","v":1},{"$f":"IF($O15455=\"Sunpower Corp.\",3,(IF(OR($Q15455=\"mono\",$Q15455=\"poly\",$Q15455=\"HIT\",$Q15455=\"EFG\",$Q15455=\"mono-LGBC\"),1,IF(OR($Q15455=\"µc-Si / a-Si\",$Q15455=\"a-Si (single)\",$Q15455=\"a-Si (tandem)\",$Q15455=\"a-Si (triple)\"),3,2))))","v":1},0,null,null,17510,null,null,15455]
["UE Solar Co., Ltd. (China Etenergy) ZHM260M","UE Solar Co., Ltd. (China Etenergy) ","ZHM260M",260,"+3...0",35.1,7.41,42.48,8.15,-161.42399999999998,3.26,-0.5,1000,null,"Motech Industries",13.468009948730469,"mono",72,"pseudo-square",1950,990,50,"aluminum","junction box",24,"www.uesolar.com",null,null,null,null,null,{"$f":"IF($O15470=\"Sunpower Corp.\",3,(IF(OR($Q15470=\"mono\",$Q15470=\"poly\",$Q15470=\"HIT\",$Q15470=\"EFG\",$Q15470=\"mono-LGBC\"),1,IF(OR($Q15470=\"µc-Si / a-Si\",$Q15470=\"a-Si (single)\",$Q15470=\"a-Si (tandem)\",$Q15470=\"a-Si (triple)\"),3,2))))","v":1},{"$f":"IF($O15470=\"Sunpower Corp.\",3,(IF(OR($Q15470=\"mono\",$Q15470=\"poly\",$Q15470=\"HIT\",$Q15470=\"EFG\",$Q15470=\"mono-LGBC\"),1,2)))","v":1},{"$f":"IF($O15470=\"Sunpower Corp.\",3,(IF(OR($Q15470=\"mono\",$Q15470=\"poly\",$Q15470=\"HIT\",$Q15470=\"EFG\",$Q15470=\"mono-LGBC\"),1,IF(OR($Q15470=\"µc-Si / a-Si\",$Q15470=\"a-Si (single)\",$Q15470=\"a-Si (tandem)\",$Q15470=\"a-Si (triple)\"),3,2))))","v":1},0,null,null,19897,null,null,15470]
["UE Solar Co., Ltd. (China Etenergy) ZHM-300","UE Solar Co., Ltd. (China Etenergy) ","ZHM-300",300,"+3...0",37.1,8.09,44.53,8.9,-155.85499999999999,3.56,-0.5,1000,null,null,15.540019989013672,"mono",72,"pseudo-square",1950,990,50,"aluminum","junction box",24,"www.uesolar.com",null,null,null,null,null,{"$f":"IF($O15500=\"Sunpower Corp.\",3,(IF(OR($Q15500=\"mono\",$Q15500=\"poly\",$Q15500=\"HIT\",$Q15500=\"EFG\",$Q15500=\"mono-LGBC\"),1,IF(OR($Q15500=\"µc-Si / a-Si\",$Q15500=\"a-Si (single)\",$Q15500=\"a-Si (tandem)\",$Q15500=\"a-Si (triple)\"),3,2))))","v":1},{"$f":"IF($O15500=\"Sunpower Corp.\",3,(IF(OR($Q15500=\"mono\",$Q15500=\"poly\",$Q15500=\"HIT\",$Q15500=\"EFG\",$Q15500=\"mono-LGBC\"),1,2)))","v":1},{"$f":"IF($O15500=\"Sunpower Corp.\",3,(IF(OR($Q15500=\"mono\",$Q15500=\"poly\",$Q15500=\"HIT\",$Q15500=\"EFG\",$Q15500=\"mono-LGBC\"),1,IF(OR($Q15500=\"µc-Si / a-Si\",$Q15500=\"a-Si (single)\",$Q15500=\"a-Si (tandem)\",$Q15500=\"a-Si (triple)\"),3,2))))","v":1},0,null,null,17537,null,null,15500]
["Union Solar International Co. Ltd. Union 180","Union Solar International Co. Ltd. ","Union 180",180,"+3...-3",35.799999999999997,5.03,44.7,5.41,-160.91999999999999,3.2459999999999996,-0.45,1000,"China",null,14.099510192871094,"mono",72,"pseudo-square",1580,808,35,"aluminum","junction box MC",16,"www.union-solar.com",null,null,null,null,null,{"$f":"IF($O15509=\"Sunpower Corp.\",3,(IF(OR($Q15509=\"mono\",$Q15509=\"poly\",$Q15509=\"HIT\",$Q15509=\"EFG\",$Q15509=\"mono-LGBC\"),1,IF(OR($Q15509=\"µc-Si / a-Si\",$Q15509=\"a-Si (single)\",$Q15509=\"a-Si (tandem)\",$Q15509=\"a-Si (triple)\"),3,2))))","v":1},{"$f":"IF($O15509=\"Sunpower Corp.\",3,(IF(OR($Q15509=\"mono\",$Q15509=\"poly\",$Q15509=\"HIT\",$Q15509=\"EFG\",$Q15509=\"mono-LGBC\"),1,2)))","v":1},{"$f":"IF($O15509=\"Sunpower Corp.\",3,(IF(OR($Q15509=\"mono\",$Q15509=\"poly\",$Q15509=\"HIT\",$Q15509=\"EFG\",$Q15509=\"mono-LGBC\"),1,IF(OR($Q15509=\"µc-Si / a-Si\",$Q15509=\"a-Si (single)\",$Q15509=\"a-Si (tandem)\",$Q15509=\"a-Si (triple)\"),3,2))))","v":1},0,null,null,9006,null,null,15509]
["UNITEC EUROPA S.A. DK MS 150/35","UNITEC EUROPA S.A. ","DK MS 150/35",150,"+3...-3",35,4.29,43.1,4.8,-146.54,2.4,-0.5,1000,null,null,11.749589920043945,"mono",72,"pseudo-square",1580,808,50,"aluminum","junction box",16,null,null,null,null,null,null,{"$f":"IF($O15525=\"Sunpower Corp.\",3,(IF(OR($Q15525=\"mono\",$Q15525=\"poly\",$Q15525=\"HIT\",$Q15525=\"EFG\",$Q15525=\"mono-LGBC\"),1,IF(OR($Q15525=\"µc-Si / a-Si\",$Q15525=\"a-Si (single)\",$Q15525=\"a-Si (tandem)\",$Q15525=\"a-Si (triple)\"),3,2))))","v":1},{"$f":"IF($O15525=\"Sunpower Corp.\",3,(IF(OR($Q15525=\"mono\",$Q15525=\"poly\",$Q15525=\"HIT\",$Q15525=\"EFG\",$Q15525=\"mono-LGBC\"),1,2)))","v":1},{"$f":"IF($O15525=\"Sunpower Corp.\",3,(IF(OR($Q15525=\"mono\",$Q15525=\"poly\",$Q15525=\"HIT\",$Q15525=\"EFG\",$Q15525=\"mono-LGBC\"),1,IF(OR($Q15525=\"µc-Si / a-Si\",$Q15525=\"a-Si (single)\",$Q15525=\"a-Si (tandem)\",$Q15525=\"a-Si (triple)\"),3,2))))","v":1},0,null,null,8214,null,null,15525]
["United Solar Ovonic LLC PVL-136","United Solar Ovonic LLC ","PVL-136",136,"+5...-5",33,4.13,46.2,5.0999999999999996,-143.22,5.0999999999999996,-0.21,1000,"USA","United Solar Ovonic LLC",6.2919740676879883,"a-Si (triple)",22,"rectangular",5486,394,3.3,"frameless","cable MC",7.7,"www.uni-solar.com",null,null,null,null,null,{"$f":"IF($O15554=\"Sunpower Corp.\",3,(IF(OR($Q15554=\"mono\",$Q15554=\"poly\",$Q15554=\"HIT\",$Q15554=\"EFG\",$Q15554=\"mono-LGBC\"),1,IF(OR($Q15554=\"µc-Si / a-Si\",$Q15554=\"a-Si (single)\",$Q15554=\"a-Si (tandem)\",$Q15554=\"a-Si (triple)\"),3,2))))","v":3},{"$f":"IF($O15554=\"Sunpower Corp.\",3,(IF(OR($Q15554=\"mono\",$Q15554=\"poly\",$Q15554=\"HIT\",$Q15554=\"EFG\",$Q15554=\"mono-LGBC\"),1,2)))","v":2},{"$f":"IF($O15554=\"Sunpower Corp.\",3,(IF(OR($Q15554=\"mono\",$Q15554=\"poly\",$Q15554=\"HIT\",$Q15554=\"EFG\",$Q15554=\"mono-LGBC\"),1,IF(OR($Q15554=\"µc-Si / a-Si\",$Q15554=\"a-Si (single)\",$Q15554=\"a-Si (tandem)\",$Q15554=\"a-Si (triple)\"),3,2))))","v":3},0,null,null,2087,null,null,15554]
["Universal Energy Nanjing Solar Technology UE M175HR","Universal Energy Nanjing Solar Technology ","UE M175HR",175,"+...",36.51,4.79,45.22,5.27,-157.36559999999997,1.6336999999999999,-0.46,null,null,null,13.707859992980957,"mono",72,"pseudo-square",1580,808,40,"aluminum","junction box MC",16,"www.universalenergy.com.cn",null,null,null,null,null,{"$f":"IF($O15574=\"Sunpower Corp.\",3,(IF(OR($Q15574=\"mono\",$Q15574=\"poly\",$Q15574=\"HIT\",$Q15574=\"EFG\",$Q15574=\"mono-LGBC\"),1,IF(OR($Q15574=\"µc-Si / a-Si\",$Q15574=\"a-Si (single)\",$Q15574=\"a-Si (tandem)\",$Q15574=\"a-Si (triple)\"),3,2))))","v":1},{"$f":"IF($O15574=\"Sunpower Corp.\",3,(IF(OR($Q15574=\"mono\",$Q15574=\"poly\",$Q15574=\"HIT\",$Q15574=\"EFG\",$Q15574=\"mono-LGBC\"),1,2)))","v":1},{"$f":"IF($O15574=\"Sunpower Corp.\",3,(IF(OR($Q15574=\"mono\",$Q15574=\"poly\",$Q15574=\"HIT\",$Q15574=\"EFG\",$Q15574=\"mono-LGBC\"),1,IF(OR($Q15574=\"µc-Si / a-Si\",$Q15574=\"a-Si (single)\",$Q15574=\"a-Si (tandem)\",$Q15574=\"a-Si (triple)\"),3,2))))","v":1},0,null,null,13127,null,null,15574]
["Universal Energy Nanjing Solar Technology UE M240HR","Universal Energy Nanjing Solar Technology ","UE M240HR",240,"+3...0",30.6,7.84,37.729999999999997,8.58,-86.778999999999996,2.4024000000000001,-0.46,1000,null,"Suniva",14.621489524841309,"mono",60,"pseudo-square",1658,990,40,"aluminum","junction box MC4",19.5,"www.universalenergy.com.cn",null,null,null,null,null,{"$f":"IF($O15580=\"Sunpower Corp.\",3,(IF(OR($Q15580=\"mono\",$Q15580=\"poly\",$Q15580=\"HIT\",$Q15580=\"EFG\",$Q15580=\"mono-LGBC\"),1,IF(OR($Q15580=\"µc-Si / a-Si\",$Q15580=\"a-Si (single)\",$Q15580=\"a-Si (tandem)\",$Q15580=\"a-Si (triple)\"),3,2))))","v":1},{"$f":"IF($O15580=\"Sunpower Corp.\",3,(IF(OR($Q15580=\"mono\",$Q15580=\"poly\",$Q15580=\"HIT\",$Q15580=\"EFG\",$Q15580=\"mono-LGBC\"),1,2)))","v":1},{"$f":"IF($O15580=\"Sunpower Corp.\",3,(IF(OR($Q15580=\"mono\",$Q15580=\"poly\",$Q15580=\"HIT\",$Q15580=\"EFG\",$Q15580=\"mono-LGBC\"),1,IF(OR($Q15580=\"µc-Si / a-Si\",$Q15580=\"a-Si (single)\",$Q15580=\"a-Si (tandem)\",$Q15580=\"a-Si (triple)\"),3,2))))","v":1},0,null,null,13133,null,null,15580]
["Upsolar (Shanghai) Co, Ltd. UP-M160M (transparent)","Upsolar (Shanghai) Co, Ltd. ","UP-M160M (transparent)",160,"+3...-3",36,4.5,44.4,4.8899999999999997,-142.08000000000001,2.4449999999999998,-0.43,1000,"China",null,12.532899856567383,"mono",72,"pseudo-square",1580,808,40,"aluminum","junction box MC4",15.4,"www.upsolar.com",null,null,null,null,null,{"$f":"IF($O15599=\"Sunpower Corp.\",3,(IF(OR($Q15599=\"mono\",$Q15599=\"poly\",$Q15599=\"HIT\",$Q15599=\"EFG\",$Q15599=\"mono-LGBC\"),1,IF(OR($Q15599=\"µc-Si / a-Si\",$Q15599=\"a-Si (single)\",$Q15599=\"a-Si (tandem)\",$Q15599=\"a-Si (triple)\"),3,2))))","v":1},{"$f":"IF($O15599=\"Sunpower Corp.\",3,(IF(OR($Q15599=\"mono\",$Q15599=\"poly\",$Q15599=\"HIT\",$Q15599=\"EFG\",$Q15599=\"mono-LGBC\"),1,2)))","v":1},{"$f":"IF($O15599=\"Sunpower Corp.\",3,(IF(OR($Q15599=\"mono\",$Q15599=\"poly\",$Q15599=\"HIT\",$Q15599=\"EFG\",$Q15599=\"mono-LGBC\"),1,IF(OR($Q15599=\"µc-Si / a-Si\",$Q15599=\"a-Si (single)\",$Q15599=\"a-Si (tandem)\",$Q15599=\"a-Si (triple)\"),3,2))))","v":1},0,null,null,7324,null,null,15599]
["Upsolar (Shanghai) Co, Ltd. UP-M190M (transparent)","Upsolar (Shanghai) Co, Ltd. ","UP-M190M (transparent)",190,"+3...-3",37.200000000000003,5.1100000000000003,45.5,5.45,-145.6,2.7250000000000001,-0.43,1000,"China",null,14.882820129394531,"mono",72,"pseudo-square",1580,808,40,"aluminum","junction box MC4",15.4,"www.upsolar.com",null,null,null,null,null,{"$f":"IF($O15620=\"Sunpower Corp.\",3,(IF(OR($Q15620=\"mono\",$Q15620=\"poly\",$Q15620=\"HIT\",$Q15620=\"EFG\",$Q15620=\"mono-LGBC\"),1,IF(OR($Q15620=\"µc-Si / a-Si\",$Q15620=\"a-Si (single)\",$Q15620=\"a-Si (tandem)\",$Q15620=\"a-Si (triple)\"),3,2))))","v":1},{"$f":"IF($O15620=\"Sunpower Corp.\",3,(IF(OR($Q15620=\"mono\",$Q15620=\"poly\",$Q15620=\"HIT\",$Q15620=\"EFG\",$Q15620=\"mono-LGBC\"),1,2)))","v":1},{"$f":"IF($O15620=\"Sunpower Corp.\",3,(IF(OR($Q15620=\"mono\",$Q15620=\"poly\",$Q15620=\"HIT\",$Q15620=\"EFG\",$Q15620=\"mono-LGBC\"),1,IF(OR($Q15620=\"µc-Si / a-Si\",$Q15620=\"a-Si (single)\",$Q15620=\"a-Si (tandem)\",$Q15620=\"a-Si (triple)\"),3,2))))","v":1},0,null,null,33541,null,null,15620]
["USL Photovoltaics PVT Limited M6-USP120","USL Photovoltaics PVT Limited ","M6-USP120",120,"+10...-10",16.899999999999999,7.1,21,7.7,-69.3,0.77,-3.3E-3,1000,"India","USL Photovoltaics Pvt Ltd",13.148159980773926,"mono",36,"pseudo-square",1415,645,35,"aluminum","cable MC old",10,"www.solarpv.info",null,null,null,null,null,{"$f":"IF($O15645=\"Sunpower Corp.\",3,(IF(OR($Q15645=\"mono\",$Q15645=\"poly\",$Q15645=\"HIT\",$Q15645=\"EFG\",$Q15645=\"mono-LGBC\"),1,IF(OR($Q15645=\"µc-Si / a-Si\",$Q15645=\"a-Si (single)\",$Q15645=\"a-Si (tandem)\",$Q15645=\"a-Si (triple)\"),3,2))))","v":1},{"$f":"IF($O15645=\"Sunpower Corp.\",3,(IF(OR($Q15645=\"mono\",$Q15645=\"poly\",$Q15645=\"HIT\",$Q15645=\"EFG\",$Q15645=\"mono-LGBC\"),1,2)))","v":1},{"$f":"IF($O15645=\"Sunpower Corp.\",3,(IF(OR($Q15645=\"mono\",$Q15645=\"poly\",$Q15645=\"HIT\",$Q15645=\"EFG\",$Q15645=\"mono-LGBC\"),1,IF(OR($Q15645=\"µc-Si / a-Si\",$Q15645=\"a-Si (single)\",$Q15645=\"a-Si (tandem)\",$Q15645=\"a-Si (triple)\"),3,2))))","v":1},0,null,null,2533,null,null,15645]
["VacSol GmbH VSM6-210","VacSol GmbH ","VSM6-210",210,"+3...-3",29.4,7.14,36.6,8.1,-120.78,2.9159999999999999,-0.47,1000,null,null,12.842860221862793,"mono",60,"pseudo-square",1650,991,46,null,"junction box",19.5,"www.vacsol.com",null,null,null,null,null,{"$f":"IF($O15669=\"Sunpower Corp.\",3,(IF(OR($Q15669=\"mono\",$Q15669=\"poly\",$Q15669=\"HIT\",$Q15669=\"EFG\",$Q15669=\"mono-LGBC\"),1,IF(OR($Q15669=\"µc-Si / a-Si\",$Q15669=\"a-Si (single)\",$Q15669=\"a-Si (tandem)\",$Q15669=\"a-Si (triple)\"),3,2))))","v":1},{"$f":"IF($O15669=\"Sunpower Corp.\",3,(IF(OR($Q15669=\"mono\",$Q15669=\"poly\",$Q15669=\"HIT\",$Q15669=\"EFG\",$Q15669=\"mono-LGBC\"),1,2)))","v":1},{"$f":"IF($O15669=\"Sunpower Corp.\",3,(IF(OR($Q15669=\"mono\",$Q15669=\"poly\",$Q15669=\"HIT\",$Q15669=\"EFG\",$Q15669=\"mono-LGBC\"),1,IF(OR($Q15669=\"µc-Si / a-Si\",$Q15669=\"a-Si (single)\",$Q15669=\"a-Si (tandem)\",$Q15669=\"a-Si (triple)\"),3,2))))","v":1},0,null,null,16872,null,null,15669]
["V-Energy S.r.l. VE260PV220W","V-Energy S.r.l. ","VE260PV220W",220,"+3...0",28.43,7.75,36.51,8.35,-116.83200000000001,3.34,-0.44,1000,"Italy","Shinsung",13.255620002746582,"poly",60,"square",1663,998,35,"aluminum","junction box Tyco",22,"www.v-energy.biz",null,null,null,null,null,{"$f":"IF($O15690=\"Sunpower Corp.\",3,(IF(OR($Q15690=\"mono\",$Q15690=\"poly\",$Q15690=\"HIT\",$Q15690=\"EFG\",$Q15690=\"mono-LGBC\"),1,IF(OR($Q15690=\"µc-Si / a-Si\",$Q15690=\"a-Si (single)\",$Q15690=\"a-Si (tandem)\",$Q15690=\"a-Si (triple)\"),3,2))))","v":1},{"$f":"IF($O15690=\"Sunpower Corp.\",3,(IF(OR($Q15690=\"mono\",$Q15690=\"poly\",$Q15690=\"HIT\",$Q15690=\"EFG\",$Q15690=\"mono-LGBC\"),1,2)))","v":1},{"$f":"IF($O15690=\"Sunpower Corp.\",3,(IF(OR($Q15690=\"mono\",$Q15690=\"poly\",$Q15690=\"HIT\",$Q15690=\"EFG\",$Q15690=\"mono-LGBC\"),1,IF(OR($Q15690=\"µc-Si / a-Si\",$Q15690=\"a-Si (single)\",$Q15690=\"a-Si (tandem)\",$Q15690=\"a-Si (triple)\"),3,2))))","v":1},0,null,null,27590,null,null,15690]
["Vidursolar, S. L. VS36 C54 P180","Vidursolar, S. L. ","VS36 C54 P180",180,"+5...-5",25.8,7,32.4,7.63,-110.16,2.2889999999999997,-0.32,1000,"Spain","diverse",8.2061977386474609,"poly",54,"square",1834,1196,11.5,"frameless","junction box",60,"www.vidursolar.es",null,null,null,null,null,{"$f":"IF($O15714=\"Sunpower Corp.\",3,(IF(OR($Q15714=\"mono\",$Q15714=\"poly\",$Q15714=\"HIT\",$Q15714=\"EFG\",$Q15714=\"mono-LGBC\"),1,IF(OR($Q15714=\"µc-Si / a-Si\",$Q15714=\"a-Si (single)\",$Q15714=\"a-Si (tandem)\",$Q15714=\"a-Si (triple)\"),3,2))))","v":1},{"$f":"IF($O15714=\"Sunpower Corp.\",3,(IF(OR($Q15714=\"mono\",$Q15714=\"poly\",$Q15714=\"HIT\",$Q15714=\"EFG\",$Q15714=\"mono-LGBC\"),1,2)))","v":1},{"$f":"IF($O15714=\"Sunpower Corp.\",3,(IF(OR($Q15714=\"mono\",$Q15714=\"poly\",$Q15714=\"HIT\",$Q15714=\"EFG\",$Q15714=\"mono-LGBC\"),1,IF(OR($Q15714=\"µc-Si / a-Si\",$Q15714=\"a-Si (single)\",$Q15714=\"a-Si (tandem)\",$Q15714=\"a-Si (triple)\"),3,2))))","v":1},0,null,null,8536,null,null,15714]
["Viessmann Werke GmbH & Co. Vitovolt 200 M195SA","Viessmann Werke GmbH & Co. ","Vitovolt 200 M195SA",195,"+3...0",36.6,5.33,45.4,5.69,-154.36000000000001,1.7070000000000001,-0.48,1000,"China","Suntech Power Co., Ltd.",15.274470329284668,"mono",72,"pseudo-square",1580,808,35,"aluminum","junction box H + S",15.5,"www.viessmann.com",null,null,null,null,null,{"$f":"IF($O15716=\"Sunpower Corp.\",3,(IF(OR($Q15716=\"mono\",$Q15716=\"poly\",$Q15716=\"HIT\",$Q15716=\"EFG\",$Q15716=\"mono-LGBC\"),1,IF(OR($Q15716=\"µc-Si / a-Si\",$Q15716=\"a-Si (single)\",$Q15716=\"a-Si (tandem)\",$Q15716=\"a-Si (triple)\"),3,2))))","v":1},{"$f":"IF($O15716=\"Sunpower Corp.\",3,(IF(OR($Q15716=\"mono\",$Q15716=\"poly\",$Q15716=\"HIT\",$Q15716=\"EFG\",$Q15716=\"mono-LGBC\"),1,2)))","v":1},{"$f":"IF($O15716=\"Sunpower Corp.\",3,(IF(OR($Q15716=\"mono\",$Q15716=\"poly\",$Q15716=\"HIT\",$Q15716=\"EFG\",$Q15716=\"mono-LGBC\"),1,IF(OR($Q15716=\"µc-Si / a-Si\",$Q15716=\"a-Si (single)\",$Q15716=\"a-Si (tandem)\",$Q15716=\"a-Si (triple)\"),3,2))))","v":1},0,null,null,26852,null,null,15716]
["Vikram Solar Pvt. Limited ELDORA 270 (270 poly)","Vikram Solar Pvt. Limited ","ELDORA 270 (270 poly)",270,"+1...-1",34.700000000000003,7.8,44,8.1,-140.80000000000001,6.48,-0.38,1000,null,null,14.06389045715332,"poly",72,"square",1955,982,36,"aluminum","junction box",25,"www.vikramsolar.com",null,null,null,null,null,{"$f":"IF($O15739=\"Sunpower Corp.\",3,(IF(OR($Q15739=\"mono\",$Q15739=\"poly\",$Q15739=\"HIT\",$Q15739=\"EFG\",$Q15739=\"mono-LGBC\"),1,IF(OR($Q15739=\"µc-Si / a-Si\",$Q15739=\"a-Si (single)\",$Q15739=\"a-Si (tandem)\",$Q15739=\"a-Si (triple)\"),3,2))))","v":1},{"$f":"IF($O15739=\"Sunpower Corp.\",3,(IF(OR($Q15739=\"mono\",$Q15739=\"poly\",$Q15739=\"HIT\",$Q15739=\"EFG\",$Q15739=\"mono-LGBC\"),1,2)))","v":1},{"$f":"IF($O15739=\"Sunpower Corp.\",3,(IF(OR($Q15739=\"mono\",$Q15739=\"poly\",$Q15739=\"HIT\",$Q15739=\"EFG\",$Q15739=\"mono-LGBC\"),1,IF(OR($Q15739=\"µc-Si / a-Si\",$Q15739=\"a-Si (single)\",$Q15739=\"a-Si (tandem)\",$Q15739=\"a-Si (triple)\"),3,2))))","v":1},0,null,null,20724,null,null,15739]
["Vipiemme Solar S.r.l. VPS01B Platinum (240)","Vipiemme Solar S.r.l. ","VPS01B Platinum (240)",240,"+3...-3",31.26,7.69,37.5,8.2100000000000009,-127.5,3.7766000000000006,-0.32700000000000001,1000,"Italy",null,14.662980079650879,"poly",60,"square",1645,995,40,"aluminum",null,21,"www.vipiemmesolar.it",null,null,null,null,null,{"$f":"IF($O15755=\"Sunpower Corp.\",3,(IF(OR($Q15755=\"mono\",$Q15755=\"poly\",$Q15755=\"HIT\",$Q15755=\"EFG\",$Q15755=\"mono-LGBC\"),1,IF(OR($Q15755=\"µc-Si / a-Si\",$Q15755=\"a-Si (single)\",$Q15755=\"a-Si (tandem)\",$Q15755=\"a-Si (triple)\"),3,2))))","v":1},{"$f":"IF($O15755=\"Sunpower Corp.\",3,(IF(OR($Q15755=\"mono\",$Q15755=\"poly\",$Q15755=\"HIT\",$Q15755=\"EFG\",$Q15755=\"mono-LGBC\"),1,2)))","v":1},{"$f":"IF($O15755=\"Sunpower Corp.\",3,(IF(OR($Q15755=\"mono\",$Q15755=\"poly\",$Q15755=\"HIT\",$Q15755=\"EFG\",$Q15755=\"mono-LGBC\"),1,IF(OR($Q15755=\"µc-Si / a-Si\",$Q15755=\"a-Si (single)\",$Q15755=\"a-Si (tandem)\",$Q15755=\"a-Si (triple)\"),3,2))))","v":1},0,null,null,17772,null,null,15755]
["Vipiemme Solar S.r.l. VPS03B Platinum (115)","Vipiemme Solar S.r.l. ","VPS03B Platinum (115)",115,"+3...-3",15.26,7.54,18.510000000000002,8.06,-62.934000000000005,3.7076000000000002,-0.32700000000000001,1000,"Italy",null,13.695690155029297,"poly",30,"square",1640,512,5,"aluminum",null,11,"www.vipiemmesolar.it",null,null,null,null,null,{"$f":"IF($O15784=\"Sunpower Corp.\",3,(IF(OR($Q15784=\"mono\",$Q15784=\"poly\",$Q15784=\"HIT\",$Q15784=\"EFG\",$Q15784=\"mono-LGBC\"),1,IF(OR($Q15784=\"µc-Si / a-Si\",$Q15784=\"a-Si (single)\",$Q15784=\"a-Si (tandem)\",$Q15784=\"a-Si (triple)\"),3,2))))","v":1},{"$f":"IF($O15784=\"Sunpower Corp.\",3,(IF(OR($Q15784=\"mono\",$Q15784=\"poly\",$Q15784=\"HIT\",$Q15784=\"EFG\",$Q15784=\"mono-LGBC\"),1,2)))","v":1},{"$f":"IF($O15784=\"Sunpower Corp.\",3,(IF(OR($Q15784=\"mono\",$Q15784=\"poly\",$Q15784=\"HIT\",$Q15784=\"EFG\",$Q15784=\"mono-LGBC\"),1,IF(OR($Q15784=\"µc-Si / a-Si\",$Q15784=\"a-Si (single)\",$Q15784=\"a-Si (tandem)\",$Q15784=\"a-Si (triple)\"),3,2))))","v":1},0,null,null,17782,null,null,15784]
["W Solar - Zhejiang Yuanzhong Solar Co., Ltd WSM-175DC01","W Solar - Zhejiang Yuanzhong Solar Co., Ltd ","WSM-175DC01",175,"+3...0",36.200000000000003,4.8499999999999996,43.9,5.3,-153.65,2.65,-0.45,1000,"China",null,13.682250022888184,"mono",72,"pseudo-square",1581,809,40,"aluminum","junction box MC4",15.6,"www.wsolaronline.com",null,null,null,null,null,{"$f":"IF($O15800=\"Sunpower Corp.\",3,(IF(OR($Q15800=\"mono\",$Q15800=\"poly\",$Q15800=\"HIT\",$Q15800=\"EFG\",$Q15800=\"mono-LGBC\"),1,IF(OR($Q15800=\"µc-Si / a-Si\",$Q15800=\"a-Si (single)\",$Q15800=\"a-Si (tandem)\",$Q15800=\"a-Si (triple)\"),3,2))))","v":1},{"$f":"IF($O15800=\"Sunpower Corp.\",3,(IF(OR($Q15800=\"mono\",$Q15800=\"poly\",$Q15800=\"HIT\",$Q15800=\"EFG\",$Q15800=\"mono-LGBC\"),1,2)))","v":1},{"$f":"IF($O15800=\"Sunpower Corp.\",3,(IF(OR($Q15800=\"mono\",$Q15800=\"poly\",$Q15800=\"HIT\",$Q15800=\"EFG\",$Q15800=\"mono-LGBC\"),1,IF(OR($Q15800=\"µc-Si / a-Si\",$Q15800=\"a-Si (single)\",$Q15800=\"a-Si (tandem)\",$Q15800=\"a-Si (triple)\"),3,2))))","v":1},0,null,null,25209,null,null,15800]
["W Solar - Zhejiang Yuanzhong Solar Co., Ltd YZM190M-72","W Solar - Zhejiang Yuanzhong Solar Co., Ltd ","YZM190M-72",190,"+5...0",36.5,5.21,44.5,5.52,-155.75,2.76,-0.45,1000,"China",null,14.882820129394531,"mono",72,"pseudo-square",1580,808,45,"aluminum","junction box MC4",15.5,"www.wsolaronline.com",null,null,null,null,null,{"$f":"IF($O15813=\"Sunpower Corp.\",3,(IF(OR($Q15813=\"mono\",$Q15813=\"poly\",$Q15813=\"HIT\",$Q15813=\"EFG\",$Q15813=\"mono-LGBC\"),1,IF(OR($Q15813=\"µc-Si / a-Si\",$Q15813=\"a-Si (single)\",$Q15813=\"a-Si (tandem)\",$Q15813=\"a-Si (triple)\"),3,2))))","v":1},{"$f":"IF($O15813=\"Sunpower Corp.\",3,(IF(OR($Q15813=\"mono\",$Q15813=\"poly\",$Q15813=\"HIT\",$Q15813=\"EFG\",$Q15813=\"mono-LGBC\"),1,2)))","v":1},{"$f":"IF($O15813=\"Sunpower Corp.\",3,(IF(OR($Q15813=\"mono\",$Q15813=\"poly\",$Q15813=\"HIT\",$Q15813=\"EFG\",$Q15813=\"mono-LGBC\"),1,IF(OR($Q15813=\"µc-Si / a-Si\",$Q15813=\"a-Si (single)\",$Q15813=\"a-Si (tandem)\",$Q15813=\"a-Si (triple)\"),3,2))))","v":1},0,null,null,34924,null,null,15813]
["W Solar - Zhejiang Yuanzhong Solar Co., Ltd YZM285P-72","W Solar - Zhejiang Yuanzhong Solar Co., Ltd ","YZM285P-72",285,"+5...0",36,7.92,44.6,8.5500000000000007,-154.31599999999997,5.5575000000000001,-0.46,1000,"China",null,14.680549621582031,"poly",72,"square",1957,992,50,"aluminum","junction box MC4",22.5,"www.wsolaronline.com",null,null,null,null,null,{"$f":"IF($O15845=\"Sunpower Corp.\",3,(IF(OR($Q15845=\"mono\",$Q15845=\"poly\",$Q15845=\"HIT\",$Q15845=\"EFG\",$Q15845=\"mono-LGBC\"),1,IF(OR($Q15845=\"µc-Si / a-Si\",$Q15845=\"a-Si (single)\",$Q15845=\"a-Si (tandem)\",$Q15845=\"a-Si (triple)\"),3,2))))","v":1},{"$f":"IF($O15845=\"Sunpower Corp.\",3,(IF(OR($Q15845=\"mono\",$Q15845=\"poly\",$Q15845=\"HIT\",$Q15845=\"EFG\",$Q15845=\"mono-LGBC\"),1,2)))","v":1},{"$f":"IF($O15845=\"Sunpower Corp.\",3,(IF(OR($Q15845=\"mono\",$Q15845=\"poly\",$Q15845=\"HIT\",$Q15845=\"EFG\",$Q15845=\"mono-LGBC\"),1,IF(OR($Q15845=\"µc-Si / a-Si\",$Q15845=\"a-Si (single)\",$Q15845=\"a-Si (tandem)\",$Q15845=\"a-Si (triple)\"),3,2))))","v":1},0,null,null,34895,null,null,15845]
["W Solar - Zhejiang Yuanzhong Solar Co., Ltd YZW-P60235","W Solar - Zhejiang Yuanzhong Solar Co., Ltd ","YZW-P60235",235,"+3...0",30.1,7.81,37.1,8.31,-128.36599999999999,5.4015000000000004,-0.46,1000,"China",null,14.371769905090332,"poly",60,"square",1650,991,40,"aluminum","junction box MC4",19.97,"www.wsolaronline.com",null,null,null,null,null,{"$f":"IF($O15858=\"Sunpower Corp.\",3,(IF(OR($Q15858=\"mono\",$Q15858=\"poly\",$Q15858=\"HIT\",$Q15858=\"EFG\",$Q15858=\"mono-LGBC\"),1,IF(OR($Q15858=\"µc-Si / a-Si\",$Q15858=\"a-Si (single)\",$Q15858=\"a-Si (tandem)\",$Q15858=\"a-Si (triple)\"),3,2))))","v":1},{"$f":"IF($O15858=\"Sunpower Corp.\",3,(IF(OR($Q15858=\"mono\",$Q15858=\"poly\",$Q15858=\"HIT\",$Q15858=\"EFG\",$Q15858=\"mono-LGBC\"),1,2)))","v":1},{"$f":"IF($O15858=\"Sunpower Corp.\",3,(IF(OR($Q15858=\"mono\",$Q15858=\"poly\",$Q15858=\"HIT\",$Q15858=\"EFG\",$Q15858=\"mono-LGBC\"),1,IF(OR($Q15858=\"µc-Si / a-Si\",$Q15858=\"a-Si (single)\",$Q15858=\"a-Si (tandem)\",$Q15858=\"a-Si (triple)\"),3,2))))","v":1},0,null,null,28566,null,null,15858]
["Wenzhou Changlong Photovoltaic Technology Co., Ltd CLM-230P","Wenzhou Changlong Photovoltaic Technology Co., Ltd ","CLM-230P",230,"+...",30,7.67,36,8.59,-124.56,5.5834999999999999,-0.48799999999999999,1000,null,null,14.051810264587402,"poly",60,"square",1650,992,50,"aluminum","junction box",19.5,"www.clpv.com",null,null,null,null,null,{"$f":"IF($O15890=\"Sunpower Corp.\",3,(IF(OR($Q15890=\"mono\",$Q15890=\"poly\",$Q15890=\"HIT\",$Q15890=\"EFG\",$Q15890=\"mono-LGBC\"),1,IF(OR($Q15890=\"µc-Si / a-Si\",$Q15890=\"a-Si (single)\",$Q15890=\"a-Si (tandem)\",$Q15890=\"a-Si (triple)\"),3,2))))","v":1},{"$f":"IF($O15890=\"Sunpower Corp.\",3,(IF(OR($Q15890=\"mono\",$Q15890=\"poly\",$Q15890=\"HIT\",$Q15890=\"EFG\",$Q15890=\"mono-LGBC\"),1,2)))","v":1},{"$f":"IF($O15890=\"Sunpower Corp.\",3,(IF(OR($Q15890=\"mono\",$Q15890=\"poly\",$Q15890=\"HIT\",$Q15890=\"EFG\",$Q15890=\"mono-LGBC\"),1,IF(OR($Q15890=\"µc-Si / a-Si\",$Q15890=\"a-Si (single)\",$Q15890=\"a-Si (tandem)\",$Q15890=\"a-Si (triple)\"),3,2))))","v":1},0,null,null,22300,null,null,15890]
["Wenzhou Jingri Photovoltaic Technology Co.,Ltd. JR156P-210","Wenzhou Jingri Photovoltaic Technology Co.,Ltd. ","JR156P-210",210,"+3...-3",29.2,7.19,36.4,7.86,-123.76,4.3230000000000004,-0.47,1000,null,null,12.934220314025879,"poly",60,"square",1640,990,45,"aluminum","junction box",20,null,null,null,null,null,null,{"$f":"IF($O15903=\"Sunpower Corp.\",3,(IF(OR($Q15903=\"mono\",$Q15903=\"poly\",$Q15903=\"HIT\",$Q15903=\"EFG\",$Q15903=\"mono-LGBC\"),1,IF(OR($Q15903=\"µc-Si / a-Si\",$Q15903=\"a-Si (single)\",$Q15903=\"a-Si (tandem)\",$Q15903=\"a-Si (triple)\"),3,2))))","v":1},{"$f":"IF($O15903=\"Sunpower Corp.\",3,(IF(OR($Q15903=\"mono\",$Q15903=\"poly\",$Q15903=\"HIT\",$Q15903=\"EFG\",$Q15903=\"mono-LGBC\"),1,2)))","v":1},{"$f":"IF($O15903=\"Sunpower Corp.\",3,(IF(OR($Q15903=\"mono\",$Q15903=\"poly\",$Q15903=\"HIT\",$Q15903=\"EFG\",$Q15903=\"mono-LGBC\"),1,IF(OR($Q15903=\"µc-Si / a-Si\",$Q15903=\"a-Si (single)\",$Q15903=\"a-Si (tandem)\",$Q15903=\"a-Si (triple)\"),3,2))))","v":1},0,null,null,22755,null,null,15903]
["Wenzhou Jingri Photovoltaic Technology Co.,Ltd. JRM270P","Wenzhou Jingri Photovoltaic Technology Co.,Ltd. ","JRM270P",270,"+5...0",35.4,7.63,43.5,8.6199999999999992,-147.9,4.7409999999999997,-0.47,1000,null,null,13.943110466003418,"poly",72,"square",1956,990,45,"aluminum","cable",27,"www.jingrisolar.com",null,null,null,null,null,{"$f":"IF($O15929=\"Sunpower Corp.\",3,(IF(OR($Q15929=\"mono\",$Q15929=\"poly\",$Q15929=\"HIT\",$Q15929=\"EFG\",$Q15929=\"mono-LGBC\"),1,IF(OR($Q15929=\"µc-Si / a-Si\",$Q15929=\"a-Si (single)\",$Q15929=\"a-Si (tandem)\",$Q15929=\"a-Si (triple)\"),3,2))))","v":1},{"$f":"IF($O15929=\"Sunpower Corp.\",3,(IF(OR($Q15929=\"mono\",$Q15929=\"poly\",$Q15929=\"HIT\",$Q15929=\"EFG\",$Q15929=\"mono-LGBC\"),1,2)))","v":1},{"$f":"IF($O15929=\"Sunpower Corp.\",3,(IF(OR($Q15929=\"mono\",$Q15929=\"poly\",$Q15929=\"HIT\",$Q15929=\"EFG\",$Q15929=\"mono-LGBC\"),1,IF(OR($Q15929=\"µc-Si / a-Si\",$Q15929=\"a-Si (single)\",$Q15929=\"a-Si (tandem)\",$Q15929=\"a-Si (triple)\"),3,2))))","v":1},0,null,null,18566,null,null,15929]
["Win Win Precision Technology Co., Ltd. Winaico WSI-190P6","Win Win Precision Technology Co., Ltd. ","Winaico WSI-190P6",190,"+2,63...0",25.22,7.54,30.14,8.2799999999999994,-102.47600000000001,4.9679999999999991,-0.4,1000,"Taiwan (Formosa)",null,14.318559646606445,"poly",48,"square",1339,991,27,"frameless","junction box Tyco",14.9,"www.winaico.com",null,null,null,null,null,{"$f":"IF($O15948=\"Sunpower Corp.\",3,(IF(OR($Q15948=\"mono\",$Q15948=\"poly\",$Q15948=\"HIT\",$Q15948=\"EFG\",$Q15948=\"mono-LGBC\"),1,IF(OR($Q15948=\"µc-Si / a-Si\",$Q15948=\"a-Si (single)\",$Q15948=\"a-Si (tandem)\",$Q15948=\"a-Si (triple)\"),3,2))))","v":1},{"$f":"IF($O15948=\"Sunpower Corp.\",3,(IF(OR($Q15948=\"mono\",$Q15948=\"poly\",$Q15948=\"HIT\",$Q15948=\"EFG\",$Q15948=\"mono-LGBC\"),1,2)))","v":1},{"$f":"IF($O15948=\"Sunpower Corp.\",3,(IF(OR($Q15948=\"mono\",$Q15948=\"poly\",$Q15948=\"HIT\",$Q15948=\"EFG\",$Q15948=\"mono-LGBC\"),1,IF(OR($Q15948=\"µc-Si / a-Si\",$Q15948=\"a-Si (single)\",$Q15948=\"a-Si (tandem)\",$Q15948=\"a-Si (triple)\"),3,2))))","v":1},0,null,null,27647,null,null,15948]
["Win Win Precision Technology Co., Ltd. Winaico WSI-210M6","Win Win Precision Technology Co., Ltd. ","Winaico WSI-210M6",210,"+2,38...0",27.59,7.62,33.409999999999997,8.57,-113.59399999999999,5.1419999999999995,-0.4,1000,"Taiwan (Formosa)",null,14.146010398864746,"mono",54,"pseudo-square",1498,991,27,"frameless","junction box Tyco",16.75,"www.winaico.com",null,null,null,null,null,{"$f":"IF($O15955=\"Sunpower Corp.\",3,(IF(OR($Q15955=\"mono\",$Q15955=\"poly\",$Q15955=\"HIT\",$Q15955=\"EFG\",$Q15955=\"mono-LGBC\"),1,IF(OR($Q15955=\"µc-Si / a-Si\",$Q15955=\"a-Si (single)\",$Q15955=\"a-Si (tandem)\",$Q15955=\"a-Si (triple)\"),3,2))))","v":1},{"$f":"IF($O15955=\"Sunpower Corp.\",3,(IF(OR($Q15955=\"mono\",$Q15955=\"poly\",$Q15955=\"HIT\",$Q15955=\"EFG\",$Q15955=\"mono-LGBC\"),1,2)))","v":1},{"$f":"IF($O15955=\"Sunpower Corp.\",3,(IF(OR($Q15955=\"mono\",$Q15955=\"poly\",$Q15955=\"HIT\",$Q15955=\"EFG\",$Q15955=\"mono-LGBC\"),1,IF(OR($Q15955=\"µc-Si / a-Si\",$Q15955=\"a-Si (single)\",$Q15955=\"a-Si (tandem)\",$Q15955=\"a-Si (triple)\"),3,2))))","v":1},0,null,null,27609,null,null,15955]
["Win Win Precision Technology Co., Ltd. Winaico WSP-140M6","Win Win Precision Technology Co., Ltd. ","Winaico WSP-140M6",140,"+3,57...0",17.93,7.82,22.12,8.64,-75.208000000000013,5.1840000000000002,-0.4,1000,"Taiwan (Formosa)",null,13.650730133056641,"mono",36,"pseudo-square",1506,681,40,"aluminum","junction box Tyco",14.5,"www.winaico.com",null,null,null,null,null,{"$f":"IF($O15977=\"Sunpower Corp.\",3,(IF(OR($Q15977=\"mono\",$Q15977=\"poly\",$Q15977=\"HIT\",$Q15977=\"EFG\",$Q15977=\"mono-LGBC\"),1,IF(OR($Q15977=\"µc-Si / a-Si\",$Q15977=\"a-Si (single)\",$Q15977=\"a-Si (tandem)\",$Q15977=\"a-Si (triple)\"),3,2))))","v":1},{"$f":"IF($O15977=\"Sunpower Corp.\",3,(IF(OR($Q15977=\"mono\",$Q15977=\"poly\",$Q15977=\"HIT\",$Q15977=\"EFG\",$Q15977=\"mono-LGBC\"),1,2)))","v":1},{"$f":"IF($O15977=\"Sunpower Corp.\",3,(IF(OR($Q15977=\"mono\",$Q15977=\"poly\",$Q15977=\"HIT\",$Q15977=\"EFG\",$Q15977=\"mono-LGBC\"),1,IF(OR($Q15977=\"µc-Si / a-Si\",$Q15977=\"a-Si (single)\",$Q15977=\"a-Si (tandem)\",$Q15977=\"a-Si (triple)\"),3,2))))","v":1},0,null,null,27620,null,null,15977]
["Win Win Precision Technology Co., Ltd. Winaico WSP-220P6","Win Win Precision Technology Co., Ltd. ","Winaico WSP-220P6",220,"+2,27...0",29.07,7.57,36.46,8.1199999999999992,-123.96400000000001,4.871999999999999,-0.4,1000,"Taiwan (Formosa)",null,13.2264404296875,"poly",60,"square",1665,999,40,"aluminum","junction box Tyco",22.7,"www.winaico.com",null,null,null,null,null,{"$f":"IF($O16000=\"Sunpower Corp.\",3,(IF(OR($Q16000=\"mono\",$Q16000=\"poly\",$Q16000=\"HIT\",$Q16000=\"EFG\",$Q16000=\"mono-LGBC\"),1,IF(OR($Q16000=\"µc-Si / a-Si\",$Q16000=\"a-Si (single)\",$Q16000=\"a-Si (tandem)\",$Q16000=\"a-Si (triple)\"),3,2))))","v":1},{"$f":"IF($O16000=\"Sunpower Corp.\",3,(IF(OR($Q16000=\"mono\",$Q16000=\"poly\",$Q16000=\"HIT\",$Q16000=\"EFG\",$Q16000=\"mono-LGBC\"),1,2)))","v":1},{"$f":"IF($O16000=\"Sunpower Corp.\",3,(IF(OR($Q16000=\"mono\",$Q16000=\"poly\",$Q16000=\"HIT\",$Q16000=\"EFG\",$Q16000=\"mono-LGBC\"),1,IF(OR($Q16000=\"µc-Si / a-Si\",$Q16000=\"a-Si (single)\",$Q16000=\"a-Si (tandem)\",$Q16000=\"a-Si (triple)\"),3,2))))","v":1},0,null,null,26355,null,null,16000]
["Winsun New Energy Co., Ltd. WSPV-190M","Winsun New Energy Co., Ltd. ","WSPV-190M",190,"+3...-3",36.5,5.21,44.5,5.52,-151.30000000000001,1.7112000000000001,-0.46,1000,null,null,14.882820129394531,"mono",72,"pseudo-square",1580,808,45,"aluminum","junction box MC4",15,"www.winsun-pv.com",null,null,null,null,null,{"$f":"IF($O16022=\"Sunpower Corp.\",3,(IF(OR($Q16022=\"mono\",$Q16022=\"poly\",$Q16022=\"HIT\",$Q16022=\"EFG\",$Q16022=\"mono-LGBC\"),1,IF(OR($Q16022=\"µc-Si / a-Si\",$Q16022=\"a-Si (single)\",$Q16022=\"a-Si (tandem)\",$Q16022=\"a-Si (triple)\"),3,2))))","v":1},{"$f":"IF($O16022=\"Sunpower Corp.\",3,(IF(OR($Q16022=\"mono\",$Q16022=\"poly\",$Q16022=\"HIT\",$Q16022=\"EFG\",$Q16022=\"mono-LGBC\"),1,2)))","v":1},{"$f":"IF($O16022=\"Sunpower Corp.\",3,(IF(OR($Q16022=\"mono\",$Q16022=\"poly\",$Q16022=\"HIT\",$Q16022=\"EFG\",$Q16022=\"mono-LGBC\"),1,IF(OR($Q16022=\"µc-Si / a-Si\",$Q16022=\"a-Si (single)\",$Q16022=\"a-Si (tandem)\",$Q16022=\"a-Si (triple)\"),3,2))))","v":1},0,null,null,21111,null,null,16022]
["Winsun New Energy Co., Ltd. WSPV-230M (60 cells)","Winsun New Energy Co., Ltd. ","WSPV-230M (60 cells)",230,"+3...-3",29.7,7.69,36.799999999999997,8.3000000000000007,-125.12,2.5730000000000004,-0.46,1000,null,null,14.0802001953125,"mono",60,"pseudo-square",1650,990,50,"aluminum","junction box MC4",21,"www.winsun-pv.com",null,null,null,null,null,{"$f":"IF($O16045=\"Sunpower Corp.\",3,(IF(OR($Q16045=\"mono\",$Q16045=\"poly\",$Q16045=\"HIT\",$Q16045=\"EFG\",$Q16045=\"mono-LGBC\"),1,IF(OR($Q16045=\"µc-Si / a-Si\",$Q16045=\"a-Si (single)\",$Q16045=\"a-Si (tandem)\",$Q16045=\"a-Si (triple)\"),3,2))))","v":1},{"$f":"IF($O16045=\"Sunpower Corp.\",3,(IF(OR($Q16045=\"mono\",$Q16045=\"poly\",$Q16045=\"HIT\",$Q16045=\"EFG\",$Q16045=\"mono-LGBC\"),1,2)))","v":1},{"$f":"IF($O16045=\"Sunpower Corp.\",3,(IF(OR($Q16045=\"mono\",$Q16045=\"poly\",$Q16045=\"HIT\",$Q16045=\"EFG\",$Q16045=\"mono-LGBC\"),1,IF(OR($Q16045=\"µc-Si / a-Si\",$Q16045=\"a-Si (single)\",$Q16045=\"a-Si (tandem)\",$Q16045=\"a-Si (triple)\"),3,2))))","v":1},0,null,null,21118,null,null,16045]
["Winsun New Energy Co., Ltd. WSPV-230M (black)","Winsun New Energy Co., Ltd. ","WSPV-230M (black)",230,"+3...-3",29.6,7.77,37,8.34,-125.8,2.5853999999999999,-0.46,1000,null,null,14.0802001953125,"mono",60,"pseudo-square",1650,990,50,"aluminum","junction box MC4",19.5,"www.winsun-pv.com",null,null,null,null,null,{"$f":"IF($O16047=\"Sunpower Corp.\",3,(IF(OR($Q16047=\"mono\",$Q16047=\"poly\",$Q16047=\"HIT\",$Q16047=\"EFG\",$Q16047=\"mono-LGBC\"),1,IF(OR($Q16047=\"µc-Si / a-Si\",$Q16047=\"a-Si (single)\",$Q16047=\"a-Si (tandem)\",$Q16047=\"a-Si (triple)\"),3,2))))","v":1},{"$f":"IF($O16047=\"Sunpower Corp.\",3,(IF(OR($Q16047=\"mono\",$Q16047=\"poly\",$Q16047=\"HIT\",$Q16047=\"EFG\",$Q16047=\"mono-LGBC\"),1,2)))","v":1},{"$f":"IF($O16047=\"Sunpower Corp.\",3,(IF(OR($Q16047=\"mono\",$Q16047=\"poly\",$Q16047=\"HIT\",$Q16047=\"EFG\",$Q16047=\"mono-LGBC\"),1,IF(OR($Q16047=\"µc-Si / a-Si\",$Q16047=\"a-Si (single)\",$Q16047=\"a-Si (tandem)\",$Q16047=\"a-Si (triple)\"),3,2))))","v":1},0,null,null,21094,null,null,16047]
["Wiosun GmbH & Co. KG C220P","Wiosun GmbH & Co. KG ","C220P",220,"+3...0",29.7,7.41,36.65,8.15,-128.27500000000001,3.26,-0.5,1000,"China",null,13.550140380859375,"poly",60,"square",1640,990,50,"aluminum","junction box MC4",20,"www.wiosun.de",null,null,null,null,null,{"$f":"IF($O16084=\"Sunpower Corp.\",3,(IF(OR($Q16084=\"mono\",$Q16084=\"poly\",$Q16084=\"HIT\",$Q16084=\"EFG\",$Q16084=\"mono-LGBC\"),1,IF(OR($Q16084=\"µc-Si / a-Si\",$Q16084=\"a-Si (single)\",$Q16084=\"a-Si (tandem)\",$Q16084=\"a-Si (triple)\"),3,2))))","v":1},{"$f":"IF($O16084=\"Sunpower Corp.\",3,(IF(OR($Q16084=\"mono\",$Q16084=\"poly\",$Q16084=\"HIT\",$Q16084=\"EFG\",$Q16084=\"mono-LGBC\"),1,2)))","v":1},{"$f":"IF($O16084=\"Sunpower Corp.\",3,(IF(OR($Q16084=\"mono\",$Q16084=\"poly\",$Q16084=\"HIT\",$Q16084=\"EFG\",$Q16084=\"mono-LGBC\"),1,IF(OR($Q16084=\"µc-Si / a-Si\",$Q16084=\"a-Si (single)\",$Q16084=\"a-Si (tandem)\",$Q16084=\"a-Si (triple)\"),3,2))))","v":1},0,null,null,14317,null,null,16084]
["Wiosun GmbH & Co. KG PVT175P","Wiosun GmbH & Co. KG ","PVT175P",175,"+3...0",23.6,7.42,28.32,8.2100000000000009,-99.12,3.2840000000000003,-0.5,1000,"Germany",null,13.361430168151855,"poly",48,"square",1315,996,20,"others","junction box MC4",37,"www.wiosun.de",null,null,null,null,null,{"$f":"IF($O16092=\"Sunpower Corp.\",3,(IF(OR($Q16092=\"mono\",$Q16092=\"poly\",$Q16092=\"HIT\",$Q16092=\"EFG\",$Q16092=\"mono-LGBC\"),1,IF(OR($Q16092=\"µc-Si / a-Si\",$Q16092=\"a-Si (single)\",$Q16092=\"a-Si (tandem)\",$Q16092=\"a-Si (triple)\"),3,2))))","v":1},{"$f":"IF($O16092=\"Sunpower Corp.\",3,(IF(OR($Q16092=\"mono\",$Q16092=\"poly\",$Q16092=\"HIT\",$Q16092=\"EFG\",$Q16092=\"mono-LGBC\"),1,2)))","v":1},{"$f":"IF($O16092=\"Sunpower Corp.\",3,(IF(OR($Q16092=\"mono\",$Q16092=\"poly\",$Q16092=\"HIT\",$Q16092=\"EFG\",$Q16092=\"mono-LGBC\"),1,IF(OR($Q16092=\"µc-Si / a-Si\",$Q16092=\"a-Si (single)\",$Q16092=\"a-Si (tandem)\",$Q16092=\"a-Si (triple)\"),3,2))))","v":1},0,null,null,14321,null,null,16092]
["Worldwide Energy and Manufacturing (Amerisolar) AS-5M (195)","Worldwide Energy and Manufacturing (Amerisolar) ","AS-5M (195)",195,"+3...-3",36.67,5.32,45.04,5.63,-148.63199999999998,2.0267999999999997,-0.47,1000,"USA",null,15.274470329284668,"mono",72,"pseudo-square",1580,808,46,"aluminum","junction box MC4",15.5,"www.wwmusa.com",null,null,null,null,null,{"$f":"IF($O16110=\"Sunpower Corp.\",3,(IF(OR($Q16110=\"mono\",$Q16110=\"poly\",$Q16110=\"HIT\",$Q16110=\"EFG\",$Q16110=\"mono-LGBC\"),1,IF(OR($Q16110=\"µc-Si / a-Si\",$Q16110=\"a-Si (single)\",$Q16110=\"a-Si (tandem)\",$Q16110=\"a-Si (triple)\"),3,2))))","v":1},{"$f":"IF($O16110=\"Sunpower Corp.\",3,(IF(OR($Q16110=\"mono\",$Q16110=\"poly\",$Q16110=\"HIT\",$Q16110=\"EFG\",$Q16110=\"mono-LGBC\"),1,2)))","v":1},{"$f":"IF($O16110=\"Sunpower Corp.\",3,(IF(OR($Q16110=\"mono\",$Q16110=\"poly\",$Q16110=\"HIT\",$Q16110=\"EFG\",$Q16110=\"mono-LGBC\"),1,IF(OR($Q16110=\"µc-Si / a-Si\",$Q16110=\"a-Si (single)\",$Q16110=\"a-Si (tandem)\",$Q16110=\"a-Si (triple)\"),3,2))))","v":1},0,null,null,34980,null,null,16110]
["Worldwide Energy and Manufacturing (Amerisolar) AS-6M30 (205)","Worldwide Energy and Manufacturing (Amerisolar) ","AS-6M30 (205)",205,"+3...-3",29.7,6.9,36.299999999999997,7.65,-137.94,3.06,-0.4,1000,"China","JA Solar",12.409199714660645,"mono",60,"pseudo-square",1652,1000,50,"aluminum","junction box MC4",22,"www.wwmusa.com",null,null,null,null,null,{"$f":"IF($O16137=\"Sunpower Corp.\",3,(IF(OR($Q16137=\"mono\",$Q16137=\"poly\",$Q16137=\"HIT\",$Q16137=\"EFG\",$Q16137=\"mono-LGBC\"),1,IF(OR($Q16137=\"µc-Si / a-Si\",$Q16137=\"a-Si (single)\",$Q16137=\"a-Si (tandem)\",$Q16137=\"a-Si (triple)\"),3,2))))","v":1},{"$f":"IF($O16137=\"Sunpower Corp.\",3,(IF(OR($Q16137=\"mono\",$Q16137=\"poly\",$Q16137=\"HIT\",$Q16137=\"EFG\",$Q16137=\"mono-LGBC\"),1,2)))","v":1},{"$f":"IF($O16137=\"Sunpower Corp.\",3,(IF(OR($Q16137=\"mono\",$Q16137=\"poly\",$Q16137=\"HIT\",$Q16137=\"EFG\",$Q16137=\"mono-LGBC\"),1,IF(OR($Q16137=\"µc-Si / a-Si\",$Q16137=\"a-Si (single)\",$Q16137=\"a-Si (tandem)\",$Q16137=\"a-Si (triple)\"),3,2))))","v":1},0,null,null,13704,null,null,16137]
["Worldwide Energy and Manufacturing (Amerisolar) AS-6P 265","Worldwide Energy and Manufacturing (Amerisolar) ","AS-6P 265",265,"+3...-3",35,7.57,43.8,8.0399999999999991,-148.91999999999999,3.4571999999999998,-0.5,1000,null,null,13.657320022583008,"poly",72,"square",1956,992,50,"aluminum","junction box",23,"www.wwmusa.com",null,null,null,null,null,{"$f":"IF($O16155=\"Sunpower Corp.\",3,(IF(OR($Q16155=\"mono\",$Q16155=\"poly\",$Q16155=\"HIT\",$Q16155=\"EFG\",$Q16155=\"mono-LGBC\"),1,IF(OR($Q16155=\"µc-Si / a-Si\",$Q16155=\"a-Si (single)\",$Q16155=\"a-Si (tandem)\",$Q16155=\"a-Si (triple)\"),3,2))))","v":1},{"$f":"IF($O16155=\"Sunpower Corp.\",3,(IF(OR($Q16155=\"mono\",$Q16155=\"poly\",$Q16155=\"HIT\",$Q16155=\"EFG\",$Q16155=\"mono-LGBC\"),1,2)))","v":1},{"$f":"IF($O16155=\"Sunpower Corp.\",3,(IF(OR($Q16155=\"mono\",$Q16155=\"poly\",$Q16155=\"HIT\",$Q16155=\"EFG\",$Q16155=\"mono-LGBC\"),1,IF(OR($Q16155=\"µc-Si / a-Si\",$Q16155=\"a-Si (single)\",$Q16155=\"a-Si (tandem)\",$Q16155=\"a-Si (triple)\"),3,2))))","v":1},0,null,null,34985,null,null,16155]
["Worldwide Energy and Manufacturing (Amerisolar) AS-6P24 (180)","Worldwide Energy and Manufacturing (Amerisolar) ","AS-6P24 (180)",180,"+3...-3",24.4,7.38,29.6,7.95,-112.48,3.18,-0.47,null,null,null,13.788120269775391,"poly",48,"square",1316,992,40,"aluminum","junction box",15.5,"www.wwmusa.com",null,null,null,null,null,{"$f":"IF($O16166=\"Sunpower Corp.\",3,(IF(OR($Q16166=\"mono\",$Q16166=\"poly\",$Q16166=\"HIT\",$Q16166=\"EFG\",$Q16166=\"mono-LGBC\"),1,IF(OR($Q16166=\"µc-Si / a-Si\",$Q16166=\"a-Si (single)\",$Q16166=\"a-Si (tandem)\",$Q16166=\"a-Si (triple)\"),3,2))))","v":1},{"$f":"IF($O16166=\"Sunpower Corp.\",3,(IF(OR($Q16166=\"mono\",$Q16166=\"poly\",$Q16166=\"HIT\",$Q16166=\"EFG\",$Q16166=\"mono-LGBC\"),1,2)))","v":1},{"$f":"IF($O16166=\"Sunpower Corp.\",3,(IF(OR($Q16166=\"mono\",$Q16166=\"poly\",$Q16166=\"HIT\",$Q16166=\"EFG\",$Q16166=\"mono-LGBC\"),1,IF(OR($Q16166=\"µc-Si / a-Si\",$Q16166=\"a-Si (single)\",$Q16166=\"a-Si (tandem)\",$Q16166=\"a-Si (triple)\"),3,2))))","v":1},0,null,null,17289,null,null,16166]
["Wuhan Solar Technology (XLY Solar) Co., Ltd. XLY-165W/24V","Wuhan Solar Technology (XLY Solar) Co., Ltd. ","XLY-165W/24V",165,"+3...-3",34.799999999999997,4.75,43.6,5.07,-148.24,4.5630000000000006,-0.37,1000,"China",null,12.92455005645752,"mono",72,"pseudo-square",1580,808,35,"aluminum","junction box",15.5,"www.xlysolar.com",null,null,null,null,null,{"$f":"IF($O16200=\"Sunpower Corp.\",3,(IF(OR($Q16200=\"mono\",$Q16200=\"poly\",$Q16200=\"HIT\",$Q16200=\"EFG\",$Q16200=\"mono-LGBC\"),1,IF(OR($Q16200=\"µc-Si / a-Si\",$Q16200=\"a-Si (single)\",$Q16200=\"a-Si (tandem)\",$Q16200=\"a-Si (triple)\"),3,2))))","v":1},{"$f":"IF($O16200=\"Sunpower Corp.\",3,(IF(OR($Q16200=\"mono\",$Q16200=\"poly\",$Q16200=\"HIT\",$Q16200=\"EFG\",$Q16200=\"mono-LGBC\"),1,2)))","v":1},{"$f":"IF($O16200=\"Sunpower Corp.\",3,(IF(OR($Q16200=\"mono\",$Q16200=\"poly\",$Q16200=\"HIT\",$Q16200=\"EFG\",$Q16200=\"mono-LGBC\"),1,IF(OR($Q16200=\"µc-Si / a-Si\",$Q16200=\"a-Si (single)\",$Q16200=\"a-Si (tandem)\",$Q16200=\"a-Si (triple)\"),3,2))))","v":1},0,null,null,22822,null,null,16200]
["Wuhan Solar Technology (XLY Solar) Co., Ltd. XLY-240W/24V","Wuhan Solar Technology (XLY Solar) Co., Ltd. ","XLY-240W/24V",240,"+3...-3",34.5,6.96,43.4,7.28,-147.56,6.5519999999999996,-0.37,1000,"China",null,14.75216007232666,"poly",60,"square",1640,992,45,"aluminum","junction box",18.75,"www.xlysolar.com",null,null,null,null,null,{"$f":"IF($O16211=\"Sunpower Corp.\",3,(IF(OR($Q16211=\"mono\",$Q16211=\"poly\",$Q16211=\"HIT\",$Q16211=\"EFG\",$Q16211=\"mono-LGBC\"),1,IF(OR($Q16211=\"µc-Si / a-Si\",$Q16211=\"a-Si (single)\",$Q16211=\"a-Si (tandem)\",$Q16211=\"a-Si (triple)\"),3,2))))","v":1},{"$f":"IF($O16211=\"Sunpower Corp.\",3,(IF(OR($Q16211=\"mono\",$Q16211=\"poly\",$Q16211=\"HIT\",$Q16211=\"EFG\",$Q16211=\"mono-LGBC\"),1,2)))","v":1},{"$f":"IF($O16211=\"Sunpower Corp.\",3,(IF(OR($Q16211=\"mono\",$Q16211=\"poly\",$Q16211=\"HIT\",$Q16211=\"EFG\",$Q16211=\"mono-LGBC\"),1,IF(OR($Q16211=\"µc-Si / a-Si\",$Q16211=\"a-Si (single)\",$Q16211=\"a-Si (tandem)\",$Q16211=\"a-Si (triple)\"),3,2))))","v":1},0,null,null,22833,null,null,16211]
["Wuxi Erquan Solar Energy Science & Technology EQS180P-18","Wuxi Erquan Solar Energy Science & Technology ","EQS180P-18",180,"+...",25.8,6.97,32.4,7.7,-123.12,5.0049999999999999,-0.5,1000,null,null,12.24370002746582,"poly",54,"square",1482,992,42,"aluminum","junction box",17.5,null,null,null,null,null,null,{"$f":"IF($O16239=\"Sunpower Corp.\",3,(IF(OR($Q16239=\"mono\",$Q16239=\"poly\",$Q16239=\"HIT\",$Q16239=\"EFG\",$Q16239=\"mono-LGBC\"),1,IF(OR($Q16239=\"µc-Si / a-Si\",$Q16239=\"a-Si (single)\",$Q16239=\"a-Si (tandem)\",$Q16239=\"a-Si (triple)\"),3,2))))","v":1},{"$f":"IF($O16239=\"Sunpower Corp.\",3,(IF(OR($Q16239=\"mono\",$Q16239=\"poly\",$Q16239=\"HIT\",$Q16239=\"EFG\",$Q16239=\"mono-LGBC\"),1,2)))","v":1},{"$f":"IF($O16239=\"Sunpower Corp.\",3,(IF(OR($Q16239=\"mono\",$Q16239=\"poly\",$Q16239=\"HIT\",$Q16239=\"EFG\",$Q16239=\"mono-LGBC\"),1,IF(OR($Q16239=\"µc-Si / a-Si\",$Q16239=\"a-Si (single)\",$Q16239=\"a-Si (tandem)\",$Q16239=\"a-Si (triple)\"),3,2))))","v":1},0,null,null,3853,null,null,16239]
["Wuxi Erquan Solar Energy Science & Technology EQS280P-24","Wuxi Erquan Solar Energy Science & Technology ","EQS280P-24",280,"+...",35.299999999999997,7.93,44.1,8.31,-167.58,5.4015000000000004,-0.5,1000,null,null,14.430370330810547,"poly",72,"square",1956,992,50,"aluminum","junction box",23,null,null,null,null,null,null,{"$f":"IF($O16256=\"Sunpower Corp.\",3,(IF(OR($Q16256=\"mono\",$Q16256=\"poly\",$Q16256=\"HIT\",$Q16256=\"EFG\",$Q16256=\"mono-LGBC\"),1,IF(OR($Q16256=\"µc-Si / a-Si\",$Q16256=\"a-Si (single)\",$Q16256=\"a-Si (tandem)\",$Q16256=\"a-Si (triple)\"),3,2))))","v":1},{"$f":"IF($O16256=\"Sunpower Corp.\",3,(IF(OR($Q16256=\"mono\",$Q16256=\"poly\",$Q16256=\"HIT\",$Q16256=\"EFG\",$Q16256=\"mono-LGBC\"),1,2)))","v":1},{"$f":"IF($O16256=\"Sunpower Corp.\",3,(IF(OR($Q16256=\"mono\",$Q16256=\"poly\",$Q16256=\"HIT\",$Q16256=\"EFG\",$Q16256=\"mono-LGBC\"),1,IF(OR($Q16256=\"µc-Si / a-Si\",$Q16256=\"a-Si (single)\",$Q16256=\"a-Si (tandem)\",$Q16256=\"a-Si (triple)\"),3,2))))","v":1},0,null,null,3862,null,null,16256]
["Wuxi Saijing Solar Co., Ltd. (ECSolar) ECS-220D (mono 54)","Wuxi Saijing Solar Co., Ltd. (ECSolar) ","ECS-220D (mono 54)",220,"+3...-3",27.1,8.1199999999999992,34.299999999999997,8.67,-120.05,4.335,-0.45,1000,null,null,14.994750022888184,"mono",54,null,1482,990,35,null,"junction box",16.5,"www.wxecs.com",null,null,null,null,null,{"$f":"IF($O16281=\"Sunpower Corp.\",3,(IF(OR($Q16281=\"mono\",$Q16281=\"poly\",$Q16281=\"HIT\",$Q16281=\"EFG\",$Q16281=\"mono-LGBC\"),1,IF(OR($Q16281=\"µc-Si / a-Si\",$Q16281=\"a-Si (single)\",$Q16281=\"a-Si (tandem)\",$Q16281=\"a-Si (triple)\"),3,2))))","v":1},{"$f":"IF($O16281=\"Sunpower Corp.\",3,(IF(OR($Q16281=\"mono\",$Q16281=\"poly\",$Q16281=\"HIT\",$Q16281=\"EFG\",$Q16281=\"mono-LGBC\"),1,2)))","v":1},{"$f":"IF($O16281=\"Sunpower Corp.\",3,(IF(OR($Q16281=\"mono\",$Q16281=\"poly\",$Q16281=\"HIT\",$Q16281=\"EFG\",$Q16281=\"mono-LGBC\"),1,IF(OR($Q16281=\"µc-Si / a-Si\",$Q16281=\"a-Si (single)\",$Q16281=\"a-Si (tandem)\",$Q16281=\"a-Si (triple)\"),3,2))))","v":1},0,null,null,12734,null,null,16281]
["Wuxi Saijing Solar Co., Ltd. (ECSolar) ECS-240D (mono 60)","Wuxi Saijing Solar Co., Ltd. (ECSolar) ","ECS-240D (mono 60)",240,"+3...-3",30.3,7.92,37,8.31,-129.5,4.9859999999999998,-0.5,1000,null,null,14.781970024108887,"mono",60,"pseudo-square",1640,990,50,"aluminum","junction box",22,"www.wxecs.com",null,null,null,null,null,{"$f":"IF($O16291=\"Sunpower Corp.\",3,(IF(OR($Q16291=\"mono\",$Q16291=\"poly\",$Q16291=\"HIT\",$Q16291=\"EFG\",$Q16291=\"mono-LGBC\"),1,IF(OR($Q16291=\"µc-Si / a-Si\",$Q16291=\"a-Si (single)\",$Q16291=\"a-Si (tandem)\",$Q16291=\"a-Si (triple)\"),3,2))))","v":1},{"$f":"IF($O16291=\"Sunpower Corp.\",3,(IF(OR($Q16291=\"mono\",$Q16291=\"poly\",$Q16291=\"HIT\",$Q16291=\"EFG\",$Q16291=\"mono-LGBC\"),1,2)))","v":1},{"$f":"IF($O16291=\"Sunpower Corp.\",3,(IF(OR($Q16291=\"mono\",$Q16291=\"poly\",$Q16291=\"HIT\",$Q16291=\"EFG\",$Q16291=\"mono-LGBC\"),1,IF(OR($Q16291=\"µc-Si / a-Si\",$Q16291=\"a-Si (single)\",$Q16291=\"a-Si (tandem)\",$Q16291=\"a-Si (triple)\"),3,2))))","v":1},0,null,null,12740,null,null,16291]
["Wuxi Saijing Solar Co., Ltd. (ECSolar) ECS-280D (mono 72)","Wuxi Saijing Solar Co., Ltd. (ECSolar) ","ECS-280D (mono 72)",280,"+3...-3",35.9,7.8,44.6,8.1199999999999992,-169.48,4.871999999999999,-0.5,1000,null,null,14.430370330810547,"mono",72,"pseudo-square",1956,992,50,"aluminum","junction box",25,"www.wxecs.com",null,null,null,null,null,{"$f":"IF($O16306=\"Sunpower Corp.\",3,(IF(OR($Q16306=\"mono\",$Q16306=\"poly\",$Q16306=\"HIT\",$Q16306=\"EFG\",$Q16306=\"mono-LGBC\"),1,IF(OR($Q16306=\"µc-Si / a-Si\",$Q16306=\"a-Si (single)\",$Q16306=\"a-Si (tandem)\",$Q16306=\"a-Si (triple)\"),3,2))))","v":1},{"$f":"IF($O16306=\"Sunpower Corp.\",3,(IF(OR($Q16306=\"mono\",$Q16306=\"poly\",$Q16306=\"HIT\",$Q16306=\"EFG\",$Q16306=\"mono-LGBC\"),1,2)))","v":1},{"$f":"IF($O16306=\"Sunpower Corp.\",3,(IF(OR($Q16306=\"mono\",$Q16306=\"poly\",$Q16306=\"HIT\",$Q16306=\"EFG\",$Q16306=\"mono-LGBC\"),1,IF(OR($Q16306=\"µc-Si / a-Si\",$Q16306=\"a-Si (single)\",$Q16306=\"a-Si (tandem)\",$Q16306=\"a-Si (triple)\"),3,2))))","v":1},0,null,null,12748,null,null,16306]
["Wuxi Shangpin Solar Energy Science & Technology SPSM-195D","Wuxi Shangpin Solar Energy Science & Technology ","SPSM-195D",195,"+...",46.65,4.18,54.3,4.8600000000000003,-195.48,3.8880000000000003,-0.51,1000,null,null,11.555970191955566,"mono",96,"pseudo-square",1580,1068,35,null,"junction box",23.5,"www.wxsunpower.com",null,null,null,null,null,{"$f":"IF($O16330=\"Sunpower Corp.\",3,(IF(OR($Q16330=\"mono\",$Q16330=\"poly\",$Q16330=\"HIT\",$Q16330=\"EFG\",$Q16330=\"mono-LGBC\"),1,IF(OR($Q16330=\"µc-Si / a-Si\",$Q16330=\"a-Si (single)\",$Q16330=\"a-Si (tandem)\",$Q16330=\"a-Si (triple)\"),3,2))))","v":1},{"$f":"IF($O16330=\"Sunpower Corp.\",3,(IF(OR($Q16330=\"mono\",$Q16330=\"poly\",$Q16330=\"HIT\",$Q16330=\"EFG\",$Q16330=\"mono-LGBC\"),1,2)))","v":1},{"$f":"IF($O16330=\"Sunpower Corp.\",3,(IF(OR($Q16330=\"mono\",$Q16330=\"poly\",$Q16330=\"HIT\",$Q16330=\"EFG\",$Q16330=\"mono-LGBC\"),1,IF(OR($Q16330=\"µc-Si / a-Si\",$Q16330=\"a-Si (single)\",$Q16330=\"a-Si (tandem)\",$Q16330=\"a-Si (triple)\"),3,2))))","v":1},0,null,null,15808,null,null,16330]
["Wuxi Shangpin Solar Energy Science & Technology SPSM-60D","Wuxi Shangpin Solar Energy Science & Technology ","SPSM-60D",60,"+...",17.2,3.49,21.6,3.86,-77.760000000000005,2.3159999999999998,-0.51,1000,null,null,11.481060028076172,"mono",null,null,780,670,28,null,null,8,"www.wxsunpower.com",null,null,null,null,null,{"$f":"IF($O16351=\"Sunpower Corp.\",3,(IF(OR($Q16351=\"mono\",$Q16351=\"poly\",$Q16351=\"HIT\",$Q16351=\"EFG\",$Q16351=\"mono-LGBC\"),1,IF(OR($Q16351=\"µc-Si / a-Si\",$Q16351=\"a-Si (single)\",$Q16351=\"a-Si (tandem)\",$Q16351=\"a-Si (triple)\"),3,2))))","v":1},{"$f":"IF($O16351=\"Sunpower Corp.\",3,(IF(OR($Q16351=\"mono\",$Q16351=\"poly\",$Q16351=\"HIT\",$Q16351=\"EFG\",$Q16351=\"mono-LGBC\"),1,2)))","v":1},{"$f":"IF($O16351=\"Sunpower Corp.\",3,(IF(OR($Q16351=\"mono\",$Q16351=\"poly\",$Q16351=\"HIT\",$Q16351=\"EFG\",$Q16351=\"mono-LGBC\"),1,IF(OR($Q16351=\"µc-Si / a-Si\",$Q16351=\"a-Si (single)\",$Q16351=\"a-Si (tandem)\",$Q16351=\"a-Si (triple)\"),3,2))))","v":1},0,null,null,4188,null,null,16351]
["X Group S.p.A. XG72P280","X Group S.p.A. ","XG72P280",280,"+1...-1",35.58,7.87,45.2,8.34,-149.16,7.5059999999999993,-0.4,1000,"Italy","X Group S.p.A.",14.540169715881348,"poly",72,"square",1965,980,40,"aluminum","junction box",27,"www.xgroupspa.it",null,null,null,null,null,{"$f":"IF($O16375=\"Sunpower Corp.\",3,(IF(OR($Q16375=\"mono\",$Q16375=\"poly\",$Q16375=\"HIT\",$Q16375=\"EFG\",$Q16375=\"mono-LGBC\"),1,IF(OR($Q16375=\"µc-Si / a-Si\",$Q16375=\"a-Si (single)\",$Q16375=\"a-Si (tandem)\",$Q16375=\"a-Si (triple)\"),3,2))))","v":1},{"$f":"IF($O16375=\"Sunpower Corp.\",3,(IF(OR($Q16375=\"mono\",$Q16375=\"poly\",$Q16375=\"HIT\",$Q16375=\"EFG\",$Q16375=\"mono-LGBC\"),1,2)))","v":1},{"$f":"IF($O16375=\"Sunpower Corp.\",3,(IF(OR($Q16375=\"mono\",$Q16375=\"poly\",$Q16375=\"HIT\",$Q16375=\"EFG\",$Q16375=\"mono-LGBC\"),1,IF(OR($Q16375=\"µc-Si / a-Si\",$Q16375=\"a-Si (single)\",$Q16375=\"a-Si (tandem)\",$Q16375=\"a-Si (triple)\"),3,2))))","v":1},0,null,null,26013,null,null,16375]
["Xi´an Huanghe Photovoltaic Technological Co., Ltd. HH170(36)M","Xi´an Huanghe Photovoltaic Technological Co., Ltd. ","HH170(36)M",170,"+5...-5",35.5,4.79,43.3,5.08,-150.684,1.5748000000000002,-0.46,1000,null,null,13.31620979309082,"mono",72,"pseudo-square",1580,808,45,"aluminum","junction box",15.5,"www.xahhpv.com",null,null,null,null,null,{"$f":"IF($O16380=\"Sunpower Corp.\",3,(IF(OR($Q16380=\"mono\",$Q16380=\"poly\",$Q16380=\"HIT\",$Q16380=\"EFG\",$Q16380=\"mono-LGBC\"),1,IF(OR($Q16380=\"µc-Si / a-Si\",$Q16380=\"a-Si (single)\",$Q16380=\"a-Si (tandem)\",$Q16380=\"a-Si (triple)\"),3,2))))","v":1},{"$f":"IF($O16380=\"Sunpower Corp.\",3,(IF(OR($Q16380=\"mono\",$Q16380=\"poly\",$Q16380=\"HIT\",$Q16380=\"EFG\",$Q16380=\"mono-LGBC\"),1,2)))","v":1},{"$f":"IF($O16380=\"Sunpower Corp.\",3,(IF(OR($Q16380=\"mono\",$Q16380=\"poly\",$Q16380=\"HIT\",$Q16380=\"EFG\",$Q16380=\"mono-LGBC\"),1,IF(OR($Q16380=\"µc-Si / a-Si\",$Q16380=\"a-Si (single)\",$Q16380=\"a-Si (tandem)\",$Q16380=\"a-Si (triple)\"),3,2))))","v":1},0,null,null,20519,null,null,16380]
["Xi´an Huanghe Photovoltaic Technological Co., Ltd. HH240(36)P","Xi´an Huanghe Photovoltaic Technological Co., Ltd. ","HH240(36)P",240,"+3...-3",34.5,6.96,42.8,7.51,-141.24,3.004,-0.43,1000,null,null,12.362569808959961,"poly",72,"square",1957,992,50,"aluminum","junction box",22.5,"www.xahhpv.com",null,null,null,null,null,{"$f":"IF($O16401=\"Sunpower Corp.\",3,(IF(OR($Q16401=\"mono\",$Q16401=\"poly\",$Q16401=\"HIT\",$Q16401=\"EFG\",$Q16401=\"mono-LGBC\"),1,IF(OR($Q16401=\"µc-Si / a-Si\",$Q16401=\"a-Si (single)\",$Q16401=\"a-Si (tandem)\",$Q16401=\"a-Si (triple)\"),3,2))))","v":1},{"$f":"IF($O16401=\"Sunpower Corp.\",3,(IF(OR($Q16401=\"mono\",$Q16401=\"poly\",$Q16401=\"HIT\",$Q16401=\"EFG\",$Q16401=\"mono-LGBC\"),1,2)))","v":1},{"$f":"IF($O16401=\"Sunpower Corp.\",3,(IF(OR($Q16401=\"mono\",$Q16401=\"poly\",$Q16401=\"HIT\",$Q16401=\"EFG\",$Q16401=\"mono-LGBC\"),1,IF(OR($Q16401=\"µc-Si / a-Si\",$Q16401=\"a-Si (single)\",$Q16401=\"a-Si (tandem)\",$Q16401=\"a-Si (triple)\"),3,2))))","v":1},0,null,null,20506,null,null,16401]
["Xiajin Aode New Energy Co.,Ltd ADM-210P","Xiajin Aode New Energy Co.,Ltd ","ADM-210P",210,"+...",27.82,7.55,33.26,8.07,-106.432,4.0350000000000001,-0.39,1000,"China",null,14.284319877624512,"poly",54,"square",1482,992,50,"aluminum","junction box",18,"www.sdaode.com",null,null,null,null,null,{"$f":"IF($O16425=\"Sunpower Corp.\",3,(IF(OR($Q16425=\"mono\",$Q16425=\"poly\",$Q16425=\"HIT\",$Q16425=\"EFG\",$Q16425=\"mono-LGBC\"),1,IF(OR($Q16425=\"µc-Si / a-Si\",$Q16425=\"a-Si (single)\",$Q16425=\"a-Si (tandem)\",$Q16425=\"a-Si (triple)\"),3,2))))","v":1},{"$f":"IF($O16425=\"Sunpower Corp.\",3,(IF(OR($Q16425=\"mono\",$Q16425=\"poly\",$Q16425=\"HIT\",$Q16425=\"EFG\",$Q16425=\"mono-LGBC\"),1,2)))","v":1},{"$f":"IF($O16425=\"Sunpower Corp.\",3,(IF(OR($Q16425=\"mono\",$Q16425=\"poly\",$Q16425=\"HIT\",$Q16425=\"EFG\",$Q16425=\"mono-LGBC\"),1,IF(OR($Q16425=\"µc-Si / a-Si\",$Q16425=\"a-Si (single)\",$Q16425=\"a-Si (tandem)\",$Q16425=\"a-Si (triple)\"),3,2))))","v":1},0,null,null,29607,null,null,16425]
["Xiajin Aode New Energy Co.,Ltd ADM-250M (60x6\")","Xiajin Aode New Energy Co.,Ltd ","ADM-250M (60x6\")",250,"+...",31.37,7.97,37.590000000000003,8.5,-131.565,5.0999999999999996,-0.42,1000,"China",null,15.273699760437012,"mono",60,"pseudo-square",1650,992,50,"aluminum","junction box",20,"www.sdaode.com",null,null,null,null,null,{"$f":"IF($O16446=\"Sunpower Corp.\",3,(IF(OR($Q16446=\"mono\",$Q16446=\"poly\",$Q16446=\"HIT\",$Q16446=\"EFG\",$Q16446=\"mono-LGBC\"),1,IF(OR($Q16446=\"µc-Si / a-Si\",$Q16446=\"a-Si (single)\",$Q16446=\"a-Si (tandem)\",$Q16446=\"a-Si (triple)\"),3,2))))","v":1},{"$f":"IF($O16446=\"Sunpower Corp.\",3,(IF(OR($Q16446=\"mono\",$Q16446=\"poly\",$Q16446=\"HIT\",$Q16446=\"EFG\",$Q16446=\"mono-LGBC\"),1,2)))","v":1},{"$f":"IF($O16446=\"Sunpower Corp.\",3,(IF(OR($Q16446=\"mono\",$Q16446=\"poly\",$Q16446=\"HIT\",$Q16446=\"EFG\",$Q16446=\"mono-LGBC\"),1,IF(OR($Q16446=\"µc-Si / a-Si\",$Q16446=\"a-Si (single)\",$Q16446=\"a-Si (tandem)\",$Q16446=\"a-Si (triple)\"),3,2))))","v":1},0,null,null,29621,null,null,16446]
["Xiamen C & D Inc Jiujiang Zhonghuite PV Co., Ltd QSSM-200P","Xiamen C & D Inc Jiujiang Zhonghuite PV Co., Ltd ","QSSM-200P",200,"+3...-3",28.5,7.02,34.200000000000003,7.86,-116.28,7.0740000000000007,-0.37,1000,"China",null,12.218959808349609,"poly",60,"square",1650,992,50,"aluminum","junction box",19.5,"www.chinacnd.com",null,null,null,null,null,{"$f":"IF($O16470=\"Sunpower Corp.\",3,(IF(OR($Q16470=\"mono\",$Q16470=\"poly\",$Q16470=\"HIT\",$Q16470=\"EFG\",$Q16470=\"mono-LGBC\"),1,IF(OR($Q16470=\"µc-Si / a-Si\",$Q16470=\"a-Si (single)\",$Q16470=\"a-Si (tandem)\",$Q16470=\"a-Si (triple)\"),3,2))))","v":1},{"$f":"IF($O16470=\"Sunpower Corp.\",3,(IF(OR($Q16470=\"mono\",$Q16470=\"poly\",$Q16470=\"HIT\",$Q16470=\"EFG\",$Q16470=\"mono-LGBC\"),1,2)))","v":1},{"$f":"IF($O16470=\"Sunpower Corp.\",3,(IF(OR($Q16470=\"mono\",$Q16470=\"poly\",$Q16470=\"HIT\",$Q16470=\"EFG\",$Q16470=\"mono-LGBC\"),1,IF(OR($Q16470=\"µc-Si / a-Si\",$Q16470=\"a-Si (single)\",$Q16470=\"a-Si (tandem)\",$Q16470=\"a-Si (triple)\"),3,2))))","v":1},0,null,null,22464,null,null,16470]
["Xiamen C & D Inc Jiujiang Zhonghuite PV Co., Ltd QSSM-240M","Xiamen C & D Inc Jiujiang Zhonghuite PV Co., Ltd ","QSSM-240M",240,"+3...-3",48,5,57.6,5.6,-195.84,5.04,-0.37,1000,null,null,14.083270072937012,"mono",96,"pseudo-square",1575,1082,50,"aluminum","junction box",21.5,"www.chinacnd.com",null,null,null,null,null,{"$f":"IF($O16485=\"Sunpower Corp.\",3,(IF(OR($Q16485=\"mono\",$Q16485=\"poly\",$Q16485=\"HIT\",$Q16485=\"EFG\",$Q16485=\"mono-LGBC\"),1,IF(OR($Q16485=\"µc-Si / a-Si\",$Q16485=\"a-Si (single)\",$Q16485=\"a-Si (tandem)\",$Q16485=\"a-Si (triple)\"),3,2))))","v":1},{"$f":"IF($O16485=\"Sunpower Corp.\",3,(IF(OR($Q16485=\"mono\",$Q16485=\"poly\",$Q16485=\"HIT\",$Q16485=\"EFG\",$Q16485=\"mono-LGBC\"),1,2)))","v":1},{"$f":"IF($O16485=\"Sunpower Corp.\",3,(IF(OR($Q16485=\"mono\",$Q16485=\"poly\",$Q16485=\"HIT\",$Q16485=\"EFG\",$Q16485=\"mono-LGBC\"),1,IF(OR($Q16485=\"µc-Si / a-Si\",$Q16485=\"a-Si (single)\",$Q16485=\"a-Si (tandem)\",$Q16485=\"a-Si (triple)\"),3,2))))","v":1},0,null,null,22432,null,null,16485]
["Xunlight Corporation XR-12 1117 A","Xunlight Corporation ","XR-12 1117 A",97,"+5...-5",19.399999999999999,5,26.5,6.35,-104.41,0.86359999999999992,-0.24299999999999999,1000,null,null,5.9120712280273438,"a-Si (triple)",12,null,1801,911,1.5,"frameless","cable",4,"www.xunlight.com",null,null,null,null,null,{"$f":"IF($O16515=\"Sunpower Corp.\",3,(IF(OR($Q16515=\"mono\",$Q16515=\"poly\",$Q16515=\"HIT\",$Q16515=\"EFG\",$Q16515=\"mono-LGBC\"),1,IF(OR($Q16515=\"µc-Si / a-Si\",$Q16515=\"a-Si (single)\",$Q16515=\"a-Si (tandem)\",$Q16515=\"a-Si (triple)\"),3,2))))","v":3},{"$f":"IF($O16515=\"Sunpower Corp.\",3,(IF(OR($Q16515=\"mono\",$Q16515=\"poly\",$Q16515=\"HIT\",$Q16515=\"EFG\",$Q16515=\"mono-LGBC\"),1,2)))","v":2},{"$f":"IF($O16515=\"Sunpower Corp.\",3,(IF(OR($Q16515=\"mono\",$Q16515=\"poly\",$Q16515=\"HIT\",$Q16515=\"EFG\",$Q16515=\"mono-LGBC\"),1,IF(OR($Q16515=\"µc-Si / a-Si\",$Q16515=\"a-Si (single)\",$Q16515=\"a-Si (tandem)\",$Q16515=\"a-Si (triple)\"),3,2))))","v":3},0,null,null,10640,null,null,16515]
["Xuzhou Focus Solar Group Co.,Ltd. 60M-230W","Xuzhou Focus Solar Group Co.,Ltd. ","60M-230W",230,"+3...-3",29.5,7.8,36.9,8.2200000000000006,-125.46,3.5346000000000002,-0.5,1000,null,null,14.137490272521973,"mono",60,"pseudo-square",1640,992,50,null,"junction box",23,"www.cnfocussolar.com",null,null,null,null,null,{"$f":"IF($O16530=\"Sunpower Corp.\",3,(IF(OR($Q16530=\"mono\",$Q16530=\"poly\",$Q16530=\"HIT\",$Q16530=\"EFG\",$Q16530=\"mono-LGBC\"),1,IF(OR($Q16530=\"µc-Si / a-Si\",$Q16530=\"a-Si (single)\",$Q16530=\"a-Si (tandem)\",$Q16530=\"a-Si (triple)\"),3,2))))","v":1},{"$f":"IF($O16530=\"Sunpower Corp.\",3,(IF(OR($Q16530=\"mono\",$Q16530=\"poly\",$Q16530=\"HIT\",$Q16530=\"EFG\",$Q16530=\"mono-LGBC\"),1,2)))","v":1},{"$f":"IF($O16530=\"Sunpower Corp.\",3,(IF(OR($Q16530=\"mono\",$Q16530=\"poly\",$Q16530=\"HIT\",$Q16530=\"EFG\",$Q16530=\"mono-LGBC\"),1,IF(OR($Q16530=\"µc-Si / a-Si\",$Q16530=\"a-Si (single)\",$Q16530=\"a-Si (tandem)\",$Q16530=\"a-Si (triple)\"),3,2))))","v":1},0,null,null,32885,null,null,16530]
["Xuzhou Focus Solar Group Co.,Ltd. 60P-230W","Xuzhou Focus Solar Group Co.,Ltd. ","60P-230W",230,"+3...-3",29.5,7.8,36.9,8.2200000000000006,-125.46,3.5346000000000002,-0.5,1000,null,null,14.137490272521973,"poly",60,"square",1640,992,50,null,"junction box",23,"www.cnfocussolar.com",null,null,null,null,null,{"$f":"IF($O16540=\"Sunpower Corp.\",3,(IF(OR($Q16540=\"mono\",$Q16540=\"poly\",$Q16540=\"HIT\",$Q16540=\"EFG\",$Q16540=\"mono-LGBC\"),1,IF(OR($Q16540=\"µc-Si / a-Si\",$Q16540=\"a-Si (single)\",$Q16540=\"a-Si (tandem)\",$Q16540=\"a-Si (triple)\"),3,2))))","v":1},{"$f":"IF($O16540=\"Sunpower Corp.\",3,(IF(OR($Q16540=\"mono\",$Q16540=\"poly\",$Q16540=\"HIT\",$Q16540=\"EFG\",$Q16540=\"mono-LGBC\"),1,2)))","v":1},{"$f":"IF($O16540=\"Sunpower Corp.\",3,(IF(OR($Q16540=\"mono\",$Q16540=\"poly\",$Q16540=\"HIT\",$Q16540=\"EFG\",$Q16540=\"mono-LGBC\"),1,IF(OR($Q16540=\"µc-Si / a-Si\",$Q16540=\"a-Si (single)\",$Q16540=\"a-Si (tandem)\",$Q16540=\"a-Si (triple)\"),3,2))))","v":1},0,null,null,32866,null,null,16540]
["Xuzhou Focus Solar Group Co.,Ltd. 72M-270W","Xuzhou Focus Solar Group Co.,Ltd. ","72M-270W",270,"+3...-3",35.200000000000003,7.67,44,8.1300000000000008,-149.6,3.4959000000000002,-0.5,1000,null,null,13.914999961853027,"mono",72,"pseudo-square",1956,992,50,null,"junction box",23,"www.cnfocussolar.com",null,null,null,null,null,{"$f":"IF($O16556=\"Sunpower Corp.\",3,(IF(OR($Q16556=\"mono\",$Q16556=\"poly\",$Q16556=\"HIT\",$Q16556=\"EFG\",$Q16556=\"mono-LGBC\"),1,IF(OR($Q16556=\"µc-Si / a-Si\",$Q16556=\"a-Si (single)\",$Q16556=\"a-Si (tandem)\",$Q16556=\"a-Si (triple)\"),3,2))))","v":1},{"$f":"IF($O16556=\"Sunpower Corp.\",3,(IF(OR($Q16556=\"mono\",$Q16556=\"poly\",$Q16556=\"HIT\",$Q16556=\"EFG\",$Q16556=\"mono-LGBC\"),1,2)))","v":1},{"$f":"IF($O16556=\"Sunpower Corp.\",3,(IF(OR($Q16556=\"mono\",$Q16556=\"poly\",$Q16556=\"HIT\",$Q16556=\"EFG\",$Q16556=\"mono-LGBC\"),1,IF(OR($Q16556=\"µc-Si / a-Si\",$Q16556=\"a-Si (single)\",$Q16556=\"a-Si (tandem)\",$Q16556=\"a-Si (triple)\"),3,2))))","v":1},0,null,null,32874,null,null,16556]
["Xuzhou Sunrise Solar Energy Technology Co.,Ltd. XSR-220-60P","Xuzhou Sunrise Solar Energy Technology Co.,Ltd. ","XSR-220-60P",220,"+5...-5",29.6,7.43,36.200000000000003,8.17,-162.9,5.3105000000000002,-0.34,1000,null,null,13.61892032623291,"poly",60,"square",1640,985,40,"aluminum","junction box",15,"www.sun-risesolar.com",null,null,null,null,null,{"$f":"IF($O16589=\"Sunpower Corp.\",3,(IF(OR($Q16589=\"mono\",$Q16589=\"poly\",$Q16589=\"HIT\",$Q16589=\"EFG\",$Q16589=\"mono-LGBC\"),1,IF(OR($Q16589=\"µc-Si / a-Si\",$Q16589=\"a-Si (single)\",$Q16589=\"a-Si (tandem)\",$Q16589=\"a-Si (triple)\"),3,2))))","v":1},{"$f":"IF($O16589=\"Sunpower Corp.\",3,(IF(OR($Q16589=\"mono\",$Q16589=\"poly\",$Q16589=\"HIT\",$Q16589=\"EFG\",$Q16589=\"mono-LGBC\"),1,2)))","v":1},{"$f":"IF($O16589=\"Sunpower Corp.\",3,(IF(OR($Q16589=\"mono\",$Q16589=\"poly\",$Q16589=\"HIT\",$Q16589=\"EFG\",$Q16589=\"mono-LGBC\"),1,IF(OR($Q16589=\"µc-Si / a-Si\",$Q16589=\"a-Si (single)\",$Q16589=\"a-Si (tandem)\",$Q16589=\"a-Si (triple)\"),3,2))))","v":1},0,null,null,32785,null,null,16589]
["Xuzhou Sunrise Solar Energy Technology Co.,Ltd. XSR-270-72P","Xuzhou Sunrise Solar Energy Technology Co.,Ltd. ","XSR-270-72P",270,"+5...-5",36,7.56,44.6,8.27,-200.7,5.3754999999999988,-0.34,1000,null,null,14.057009696960449,"poly",72,"square",1950,985,50,"aluminum","junction box",23,"www.sun-risesolar.com",null,null,null,null,null,{"$f":"IF($O16601=\"Sunpower Corp.\",3,(IF(OR($Q16601=\"mono\",$Q16601=\"poly\",$Q16601=\"HIT\",$Q16601=\"EFG\",$Q16601=\"mono-LGBC\"),1,IF(OR($Q16601=\"µc-Si / a-Si\",$Q16601=\"a-Si (single)\",$Q16601=\"a-Si (tandem)\",$Q16601=\"a-Si (triple)\"),3,2))))","v":1},{"$f":"IF($O16601=\"Sunpower Corp.\",3,(IF(OR($Q16601=\"mono\",$Q16601=\"poly\",$Q16601=\"HIT\",$Q16601=\"EFG\",$Q16601=\"mono-LGBC\"),1,2)))","v":1},{"$f":"IF($O16601=\"Sunpower Corp.\",3,(IF(OR($Q16601=\"mono\",$Q16601=\"poly\",$Q16601=\"HIT\",$Q16601=\"EFG\",$Q16601=\"mono-LGBC\"),1,IF(OR($Q16601=\"µc-Si / a-Si\",$Q16601=\"a-Si (single)\",$Q16601=\"a-Si (tandem)\",$Q16601=\"a-Si (triple)\"),3,2))))","v":1},0,null,null,32793,null,null,16601]
["YaBang Solar YBM205P-60","YaBang Solar ","YBM205P-60",205,"+3...-3",28.5,7.19,34.200000000000003,8.0500000000000007,-112.86,3.22,-0.47,1000,null,null,12.524439811706543,"poly",60,"square",1650,992,50,"aluminum","junction box",19.5,"www.yabangsolar.com",null,null,null,null,null,{"$f":"IF($O16614=\"Sunpower Corp.\",3,(IF(OR($Q16614=\"mono\",$Q16614=\"poly\",$Q16614=\"HIT\",$Q16614=\"EFG\",$Q16614=\"mono-LGBC\"),1,IF(OR($Q16614=\"µc-Si / a-Si\",$Q16614=\"a-Si (single)\",$Q16614=\"a-Si (tandem)\",$Q16614=\"a-Si (triple)\"),3,2))))","v":1},{"$f":"IF($O16614=\"Sunpower Corp.\",3,(IF(OR($Q16614=\"mono\",$Q16614=\"poly\",$Q16614=\"HIT\",$Q16614=\"EFG\",$Q16614=\"mono-LGBC\"),1,2)))","v":1},{"$f":"IF($O16614=\"Sunpower Corp.\",3,(IF(OR($Q16614=\"mono\",$Q16614=\"poly\",$Q16614=\"HIT\",$Q16614=\"EFG\",$Q16614=\"mono-LGBC\"),1,IF(OR($Q16614=\"µc-Si / a-Si\",$Q16614=\"a-Si (single)\",$Q16614=\"a-Si (tandem)\",$Q16614=\"a-Si (triple)\"),3,2))))","v":1},0,null,null,16127,null,null,16614]
["YaBang Solar YBMA170M-72","YaBang Solar ","YBMA170M-72",170,"+3...-3",35.5,4.79,43.3,5.08,-151.55000000000001,2.54,-0.45,1000,null,null,13.31620979309082,"mono",72,"pseudo-square",1580,808,35,"aluminum","junction box",15.5,"www.yabangsolar.com",null,null,null,null,null,{"$f":"IF($O16640=\"Sunpower Corp.\",3,(IF(OR($Q16640=\"mono\",$Q16640=\"poly\",$Q16640=\"HIT\",$Q16640=\"EFG\",$Q16640=\"mono-LGBC\"),1,IF(OR($Q16640=\"µc-Si / a-Si\",$Q16640=\"a-Si (single)\",$Q16640=\"a-Si (tandem)\",$Q16640=\"a-Si (triple)\"),3,2))))","v":1},{"$f":"IF($O16640=\"Sunpower Corp.\",3,(IF(OR($Q16640=\"mono\",$Q16640=\"poly\",$Q16640=\"HIT\",$Q16640=\"EFG\",$Q16640=\"mono-LGBC\"),1,2)))","v":1},{"$f":"IF($O16640=\"Sunpower Corp.\",3,(IF(OR($Q16640=\"mono\",$Q16640=\"poly\",$Q16640=\"HIT\",$Q16640=\"EFG\",$Q16640=\"mono-LGBC\"),1,IF(OR($Q16640=\"µc-Si / a-Si\",$Q16640=\"a-Si (single)\",$Q16640=\"a-Si (tandem)\",$Q16640=\"a-Si (triple)\"),3,2))))","v":1},0,null,null,33736,null,null,16640]
["YaBang Solar YBMB225-60","YaBang Solar ","YBMB225-60",225,"+3...-3",29.3,7.68,36.299999999999997,8.2899999999999991,-127.05,4.1449999999999996,-0.45,1000,"China",null,13.746330261230469,"mono",60,"pseudo-square",1650,992,40,"aluminum","junction box",null,"www.yabangsolar.com",null,null,null,null,null,{"$f":"IF($O16659=\"Sunpower Corp.\",3,(IF(OR($Q16659=\"mono\",$Q16659=\"poly\",$Q16659=\"HIT\",$Q16659=\"EFG\",$Q16659=\"mono-LGBC\"),1,IF(OR($Q16659=\"µc-Si / a-Si\",$Q16659=\"a-Si (single)\",$Q16659=\"a-Si (tandem)\",$Q16659=\"a-Si (triple)\"),3,2))))","v":1},{"$f":"IF($O16659=\"Sunpower Corp.\",3,(IF(OR($Q16659=\"mono\",$Q16659=\"poly\",$Q16659=\"HIT\",$Q16659=\"EFG\",$Q16659=\"mono-LGBC\"),1,2)))","v":1},{"$f":"IF($O16659=\"Sunpower Corp.\",3,(IF(OR($Q16659=\"mono\",$Q16659=\"poly\",$Q16659=\"HIT\",$Q16659=\"EFG\",$Q16659=\"mono-LGBC\"),1,IF(OR($Q16659=\"µc-Si / a-Si\",$Q16659=\"a-Si (single)\",$Q16659=\"a-Si (tandem)\",$Q16659=\"a-Si (triple)\"),3,2))))","v":1},0,null,null,33750,null,null,16659]
["YaBang Solar YBP195-48","YaBang Solar ","YBP195-48",195,"+3...-3",25,7.8,31.1,8.24,-108.85,4.12,-0.45,1000,"China",null,14.846870422363281,"poly",48,"square",1324,992,35,"aluminum","junction box",null,"www.yabangsolar.com",null,null,null,null,null,{"$f":"IF($O16685=\"Sunpower Corp.\",3,(IF(OR($Q16685=\"mono\",$Q16685=\"poly\",$Q16685=\"HIT\",$Q16685=\"EFG\",$Q16685=\"mono-LGBC\"),1,IF(OR($Q16685=\"µc-Si / a-Si\",$Q16685=\"a-Si (single)\",$Q16685=\"a-Si (tandem)\",$Q16685=\"a-Si (triple)\"),3,2))))","v":1},{"$f":"IF($O16685=\"Sunpower Corp.\",3,(IF(OR($Q16685=\"mono\",$Q16685=\"poly\",$Q16685=\"HIT\",$Q16685=\"EFG\",$Q16685=\"mono-LGBC\"),1,2)))","v":1},{"$f":"IF($O16685=\"Sunpower Corp.\",3,(IF(OR($Q16685=\"mono\",$Q16685=\"poly\",$Q16685=\"HIT\",$Q16685=\"EFG\",$Q16685=\"mono-LGBC\"),1,IF(OR($Q16685=\"µc-Si / a-Si\",$Q16685=\"a-Si (single)\",$Q16685=\"a-Si (tandem)\",$Q16685=\"a-Si (triple)\"),3,2))))","v":1},0,null,null,33773,null,null,16685]
["YaBang Solar YBP255-72","YaBang Solar ","YBP255-72",255,"+3...-3",34.799999999999997,7.33,43.2,7.91,-151.19999999999999,3.9550000000000001,-0.45,1000,"China",null,13.141949653625488,"poly",72,"square",1956,992,50,"aluminum","junction box",null,"www.yabangsolar.com",null,null,null,null,null,{"$f":"IF($O16704=\"Sunpower Corp.\",3,(IF(OR($Q16704=\"mono\",$Q16704=\"poly\",$Q16704=\"HIT\",$Q16704=\"EFG\",$Q16704=\"mono-LGBC\"),1,IF(OR($Q16704=\"µc-Si / a-Si\",$Q16704=\"a-Si (single)\",$Q16704=\"a-Si (tandem)\",$Q16704=\"a-Si (triple)\"),3,2))))","v":1},{"$f":"IF($O16704=\"Sunpower Corp.\",3,(IF(OR($Q16704=\"mono\",$Q16704=\"poly\",$Q16704=\"HIT\",$Q16704=\"EFG\",$Q16704=\"mono-LGBC\"),1,2)))","v":1},{"$f":"IF($O16704=\"Sunpower Corp.\",3,(IF(OR($Q16704=\"mono\",$Q16704=\"poly\",$Q16704=\"HIT\",$Q16704=\"EFG\",$Q16704=\"mono-LGBC\"),1,IF(OR($Q16704=\"µc-Si / a-Si\",$Q16704=\"a-Si (single)\",$Q16704=\"a-Si (tandem)\",$Q16704=\"a-Si (triple)\"),3,2))))","v":1},0,null,null,33795,null,null,16704]
["YaBang Solar YBP290-72","YaBang Solar ","YBP290-72",290,"+3...-3",35.799999999999997,8.1,44.4,8.7100000000000009,-155.4,4.3550000000000004,-0.45,1000,"China",null,14.94573974609375,"poly",72,"square",1956,992,50,"aluminum","junction box",null,"www.yabangsolar.com",null,null,null,null,null,{"$f":"IF($O16711=\"Sunpower Corp.\",3,(IF(OR($Q16711=\"mono\",$Q16711=\"poly\",$Q16711=\"HIT\",$Q16711=\"EFG\",$Q16711=\"mono-LGBC\"),1,IF(OR($Q16711=\"µc-Si / a-Si\",$Q16711=\"a-Si (single)\",$Q16711=\"a-Si (tandem)\",$Q16711=\"a-Si (triple)\"),3,2))))","v":1},{"$f":"IF($O16711=\"Sunpower Corp.\",3,(IF(OR($Q16711=\"mono\",$Q16711=\"poly\",$Q16711=\"HIT\",$Q16711=\"EFG\",$Q16711=\"mono-LGBC\"),1,2)))","v":1},{"$f":"IF($O16711=\"Sunpower Corp.\",3,(IF(OR($Q16711=\"mono\",$Q16711=\"poly\",$Q16711=\"HIT\",$Q16711=\"EFG\",$Q16711=\"mono-LGBC\"),1,IF(OR($Q16711=\"µc-Si / a-Si\",$Q16711=\"a-Si (single)\",$Q16711=\"a-Si (tandem)\",$Q16711=\"a-Si (triple)\"),3,2))))","v":1},0,null,null,33802,null,null,16711]
["Yangzhou Tianhua PV-Tech Co., LTD. SDM-170/180-72M","Yangzhou Tianhua PV-Tech Co., LTD. ","SDM-170/180-72M",180,"+3...-3",34.6,5.2,44,5.64,-167.2,5.64,-0.47,1000,null,null,14.099510192871094,"mono",72,"pseudo-square",1580,808,46.5,"aluminum","junction box",15,"www.tianhuasolar.com",null,null,null,null,null,{"$f":"IF($O16733=\"Sunpower Corp.\",3,(IF(OR($Q16733=\"mono\",$Q16733=\"poly\",$Q16733=\"HIT\",$Q16733=\"EFG\",$Q16733=\"mono-LGBC\"),1,IF(OR($Q16733=\"µc-Si / a-Si\",$Q16733=\"a-Si (single)\",$Q16733=\"a-Si (tandem)\",$Q16733=\"a-Si (triple)\"),3,2))))","v":1},{"$f":"IF($O16733=\"Sunpower Corp.\",3,(IF(OR($Q16733=\"mono\",$Q16733=\"poly\",$Q16733=\"HIT\",$Q16733=\"EFG\",$Q16733=\"mono-LGBC\"),1,2)))","v":1},{"$f":"IF($O16733=\"Sunpower Corp.\",3,(IF(OR($Q16733=\"mono\",$Q16733=\"poly\",$Q16733=\"HIT\",$Q16733=\"EFG\",$Q16733=\"mono-LGBC\"),1,IF(OR($Q16733=\"µc-Si / a-Si\",$Q16733=\"a-Si (single)\",$Q16733=\"a-Si (tandem)\",$Q16733=\"a-Si (triple)\"),3,2))))","v":1},0,null,null,8175,null,null,16733]
["Yangzhou Tianhua PV-Tech Co., LTD. TH xxx/ 220-96M","Yangzhou Tianhua PV-Tech Co., LTD. ","TH xxx/ 220-96M",220,"+...",46.37,4.74,57.89,5.18,-196.82600000000002,1.9683999999999999,-0.48,1000,"China",null,13.061960220336914,"mono",96,"pseudo-square",1580,1066,46,"aluminum","junction box MC4",23,"www.tianhusolar.com",null,null,null,null,null,{"$f":"IF($O16756=\"Sunpower Corp.\",3,(IF(OR($Q16756=\"mono\",$Q16756=\"poly\",$Q16756=\"HIT\",$Q16756=\"EFG\",$Q16756=\"mono-LGBC\"),1,IF(OR($Q16756=\"µc-Si / a-Si\",$Q16756=\"a-Si (single)\",$Q16756=\"a-Si (tandem)\",$Q16756=\"a-Si (triple)\"),3,2))))","v":1},{"$f":"IF($O16756=\"Sunpower Corp.\",3,(IF(OR($Q16756=\"mono\",$Q16756=\"poly\",$Q16756=\"HIT\",$Q16756=\"EFG\",$Q16756=\"mono-LGBC\"),1,2)))","v":1},{"$f":"IF($O16756=\"Sunpower Corp.\",3,(IF(OR($Q16756=\"mono\",$Q16756=\"poly\",$Q16756=\"HIT\",$Q16756=\"EFG\",$Q16756=\"mono-LGBC\"),1,IF(OR($Q16756=\"µc-Si / a-Si\",$Q16756=\"a-Si (single)\",$Q16756=\"a-Si (tandem)\",$Q16756=\"a-Si (triple)\"),3,2))))","v":1},0,null,null,17928,null,null,16756]
["Yangzhou Tianhua PV-Tech Co., LTD. TH-170/185-72M","Yangzhou Tianhua PV-Tech Co., LTD. ","TH-170/185-72M",185,"+...",37.5,4.95,44.9,5.3,-170.62,5.3,-0.47,1000,null,null,14.49116039276123,"mono",72,"pseudo-square",1580,808,35,"aluminum","junction box",15,"www.tianhuasolar.com",null,null,null,null,null,{"$f":"IF($O16778=\"Sunpower Corp.\",3,(IF(OR($Q16778=\"mono\",$Q16778=\"poly\",$Q16778=\"HIT\",$Q16778=\"EFG\",$Q16778=\"mono-LGBC\"),1,IF(OR($Q16778=\"µc-Si / a-Si\",$Q16778=\"a-Si (single)\",$Q16778=\"a-Si (tandem)\",$Q16778=\"a-Si (triple)\"),3,2))))","v":1},{"$f":"IF($O16778=\"Sunpower Corp.\",3,(IF(OR($Q16778=\"mono\",$Q16778=\"poly\",$Q16778=\"HIT\",$Q16778=\"EFG\",$Q16778=\"mono-LGBC\"),1,2)))","v":1},{"$f":"IF($O16778=\"Sunpower Corp.\",3,(IF(OR($Q16778=\"mono\",$Q16778=\"poly\",$Q16778=\"HIT\",$Q16778=\"EFG\",$Q16778=\"mono-LGBC\"),1,IF(OR($Q16778=\"µc-Si / a-Si\",$Q16778=\"a-Si (single)\",$Q16778=\"a-Si (tandem)\",$Q16778=\"a-Si (triple)\"),3,2))))","v":1},0,null,null,13303,null,null,16778]
["Yat-sen Microelectronics (Zhongshan) Co., Ltd. YSM-M220","Yat-sen Microelectronics (Zhongshan) Co., Ltd. ","YSM-M220",220,"+3...-3",29.8,7.4,36.799999999999997,8,-128.80000000000001,4,-0.45,1000,null,null,13.572469711303711,"mono",60,"pseudo-square",1634,992,46,null,null,19.5,"www.yat-sen.hk",null,null,null,null,null,{"$f":"IF($O16801=\"Sunpower Corp.\",3,(IF(OR($Q16801=\"mono\",$Q16801=\"poly\",$Q16801=\"HIT\",$Q16801=\"EFG\",$Q16801=\"mono-LGBC\"),1,IF(OR($Q16801=\"µc-Si / a-Si\",$Q16801=\"a-Si (single)\",$Q16801=\"a-Si (tandem)\",$Q16801=\"a-Si (triple)\"),3,2))))","v":1},{"$f":"IF($O16801=\"Sunpower Corp.\",3,(IF(OR($Q16801=\"mono\",$Q16801=\"poly\",$Q16801=\"HIT\",$Q16801=\"EFG\",$Q16801=\"mono-LGBC\"),1,2)))","v":1},{"$f":"IF($O16801=\"Sunpower Corp.\",3,(IF(OR($Q16801=\"mono\",$Q16801=\"poly\",$Q16801=\"HIT\",$Q16801=\"EFG\",$Q16801=\"mono-LGBC\"),1,IF(OR($Q16801=\"µc-Si / a-Si\",$Q16801=\"a-Si (single)\",$Q16801=\"a-Si (tandem)\",$Q16801=\"a-Si (triple)\"),3,2))))","v":1},0,null,null,32724,null,null,16801]
["Yat-sen Microelectronics (Zhongshan) Co., Ltd. YSM-P270","Yat-sen Microelectronics (Zhongshan) Co., Ltd. ","YSM-P270",270,"+3...-3",36.6,7.4,44.2,8,-154.69999999999999,4,-0.45,1000,null,null,13.888150215148926,"poly",72,"square",1948,998,46,null,null,25,"www.yat-sen.hk",null,null,null,null,null,{"$f":"IF($O16823=\"Sunpower Corp.\",3,(IF(OR($Q16823=\"mono\",$Q16823=\"poly\",$Q16823=\"HIT\",$Q16823=\"EFG\",$Q16823=\"mono-LGBC\"),1,IF(OR($Q16823=\"µc-Si / a-Si\",$Q16823=\"a-Si (single)\",$Q16823=\"a-Si (tandem)\",$Q16823=\"a-Si (triple)\"),3,2))))","v":1},{"$f":"IF($O16823=\"Sunpower Corp.\",3,(IF(OR($Q16823=\"mono\",$Q16823=\"poly\",$Q16823=\"HIT\",$Q16823=\"EFG\",$Q16823=\"mono-LGBC\"),1,2)))","v":1},{"$f":"IF($O16823=\"Sunpower Corp.\",3,(IF(OR($Q16823=\"mono\",$Q16823=\"poly\",$Q16823=\"HIT\",$Q16823=\"EFG\",$Q16823=\"mono-LGBC\"),1,IF(OR($Q16823=\"µc-Si / a-Si\",$Q16823=\"a-Si (single)\",$Q16823=\"a-Si (tandem)\",$Q16823=\"a-Si (triple)\"),3,2))))","v":1},0,null,null,32710,null,null,16823]
["Yixing Jintech Solar Energy Co. Ltd. JT-175M","Yixing Jintech Solar Energy Co. Ltd. ","JT-175M",175,"+3...-3",35.799999999999997,4.8899999999999997,44.4,5.47,-157.62,34.898600000000002,-0.52,1000,null,"JA Solar",13.682250022888184,"mono",72,"pseudo-square",1581,809,45,null,"junction box MC4",16,"www.jt-solar.com",null,null,null,null,null,{"$f":"IF($O16840=\"Sunpower Corp.\",3,(IF(OR($Q16840=\"mono\",$Q16840=\"poly\",$Q16840=\"HIT\",$Q16840=\"EFG\",$Q16840=\"mono-LGBC\"),1,IF(OR($Q16840=\"µc-Si / a-Si\",$Q16840=\"a-Si (single)\",$Q16840=\"a-Si (tandem)\",$Q16840=\"a-Si (triple)\"),3,2))))","v":1},{"$f":"IF($O16840=\"Sunpower Corp.\",3,(IF(OR($Q16840=\"mono\",$Q16840=\"poly\",$Q16840=\"HIT\",$Q16840=\"EFG\",$Q16840=\"mono-LGBC\"),1,2)))","v":1},{"$f":"IF($O16840=\"Sunpower Corp.\",3,(IF(OR($Q16840=\"mono\",$Q16840=\"poly\",$Q16840=\"HIT\",$Q16840=\"EFG\",$Q16840=\"mono-LGBC\"),1,IF(OR($Q16840=\"µc-Si / a-Si\",$Q16840=\"a-Si (single)\",$Q16840=\"a-Si (tandem)\",$Q16840=\"a-Si (triple)\"),3,2))))","v":1},0,null,null,9719,null,null,16840]
["Yixing Jintech Solar Energy Co. Ltd. JT-85M","Yixing Jintech Solar Energy Co. Ltd. ","JT-85M",85,"+3...-3",18,4.72,22,5.28,-78.099999999999994,33.686400000000006,-0.52,1000,null,null,13.17216968536377,"mono",36,"pseudo-square",1195,540,35,null,"junction box MC4",9.5,"www.jt-solar.com",null,null,null,null,null,{"$f":"IF($O16848=\"Sunpower Corp.\",3,(IF(OR($Q16848=\"mono\",$Q16848=\"poly\",$Q16848=\"HIT\",$Q16848=\"EFG\",$Q16848=\"mono-LGBC\"),1,IF(OR($Q16848=\"µc-Si / a-Si\",$Q16848=\"a-Si (single)\",$Q16848=\"a-Si (tandem)\",$Q16848=\"a-Si (triple)\"),3,2))))","v":1},{"$f":"IF($O16848=\"Sunpower Corp.\",3,(IF(OR($Q16848=\"mono\",$Q16848=\"poly\",$Q16848=\"HIT\",$Q16848=\"EFG\",$Q16848=\"mono-LGBC\"),1,2)))","v":1},{"$f":"IF($O16848=\"Sunpower Corp.\",3,(IF(OR($Q16848=\"mono\",$Q16848=\"poly\",$Q16848=\"HIT\",$Q16848=\"EFG\",$Q16848=\"mono-LGBC\"),1,IF(OR($Q16848=\"µc-Si / a-Si\",$Q16848=\"a-Si (single)\",$Q16848=\"a-Si (tandem)\",$Q16848=\"a-Si (triple)\"),3,2))))","v":1},0,null,null,9714,null,null,16848]
["Yocasol Inc. PCB180 (A21/A15)","Yocasol Inc. ","PCB180 (A21/A15)",180,"+5...-3",25.6,7.03,32,8.0399999999999991,-102.4,6.4319999999999995,-0.38,1000,"Japan","Motech Industries",12.347370147705078,"poly",54,"square",1480,985,46,"aluminum","junction box MC old",19,"www.yocasol.com",null,null,null,null,null,{"$f":"IF($O16873=\"Sunpower Corp.\",3,(IF(OR($Q16873=\"mono\",$Q16873=\"poly\",$Q16873=\"HIT\",$Q16873=\"EFG\",$Q16873=\"mono-LGBC\"),1,IF(OR($Q16873=\"µc-Si / a-Si\",$Q16873=\"a-Si (single)\",$Q16873=\"a-Si (tandem)\",$Q16873=\"a-Si (triple)\"),3,2))))","v":1},{"$f":"IF($O16873=\"Sunpower Corp.\",3,(IF(OR($Q16873=\"mono\",$Q16873=\"poly\",$Q16873=\"HIT\",$Q16873=\"EFG\",$Q16873=\"mono-LGBC\"),1,2)))","v":1},{"$f":"IF($O16873=\"Sunpower Corp.\",3,(IF(OR($Q16873=\"mono\",$Q16873=\"poly\",$Q16873=\"HIT\",$Q16873=\"EFG\",$Q16873=\"mono-LGBC\"),1,IF(OR($Q16873=\"µc-Si / a-Si\",$Q16873=\"a-Si (single)\",$Q16873=\"a-Si (tandem)\",$Q16873=\"a-Si (triple)\"),3,2))))","v":1},0,null,null,6749,null,null,16873]
["Yunnan Tianda Photovoltaic Co., Ltd. TD180M5B","Yunnan Tianda Photovoltaic Co., Ltd. ","TD180M5B",180,"+3...-3",35.4,5.0999999999999996,44.6,5.42,-156.1,3.2519999999999998,-0.48,1000,"China","Yunnan Tianda Photovoltaic Co., Ltd.",14.099510192871094,"mono",72,"pseudo-square",1580,808,35,"aluminum","junction box",16,"www.ynsolar.cn",null,null,null,null,null,{"$f":"IF($O16905=\"Sunpower Corp.\",3,(IF(OR($Q16905=\"mono\",$Q16905=\"poly\",$Q16905=\"HIT\",$Q16905=\"EFG\",$Q16905=\"mono-LGBC\"),1,IF(OR($Q16905=\"µc-Si / a-Si\",$Q16905=\"a-Si (single)\",$Q16905=\"a-Si (tandem)\",$Q16905=\"a-Si (triple)\"),3,2))))","v":1},{"$f":"IF($O16905=\"Sunpower Corp.\",3,(IF(OR($Q16905=\"mono\",$Q16905=\"poly\",$Q16905=\"HIT\",$Q16905=\"EFG\",$Q16905=\"mono-LGBC\"),1,2)))","v":1},{"$f":"IF($O16905=\"Sunpower Corp.\",3,(IF(OR($Q16905=\"mono\",$Q16905=\"poly\",$Q16905=\"HIT\",$Q16905=\"EFG\",$Q16905=\"mono-LGBC\"),1,IF(OR($Q16905=\"µc-Si / a-Si\",$Q16905=\"a-Si (single)\",$Q16905=\"a-Si (tandem)\",$Q16905=\"a-Si (triple)\"),3,2))))","v":1},0,null,null,6546,null,null,16905]
["Yunnan Tianda Photovoltaic Co., Ltd. TD235P6","Yunnan Tianda Photovoltaic Co., Ltd. ","TD235P6",235,"+3...-3",29.5,7.97,37,8.64,-96.643999999999991,5.0544000000000002,-0.35830000000000001,1000,"China","Yunnan Tianda Photovoltaic Co., Ltd.",14.357279777526855,"poly",60,"square",1650,992,50,"aluminum","junction box",19,"www.ynsolar.cn",null,null,null,null,null,{"$f":"IF($O16918=\"Sunpower Corp.\",3,(IF(OR($Q16918=\"mono\",$Q16918=\"poly\",$Q16918=\"HIT\",$Q16918=\"EFG\",$Q16918=\"mono-LGBC\"),1,IF(OR($Q16918=\"µc-Si / a-Si\",$Q16918=\"a-Si (single)\",$Q16918=\"a-Si (tandem)\",$Q16918=\"a-Si (triple)\"),3,2))))","v":1},{"$f":"IF($O16918=\"Sunpower Corp.\",3,(IF(OR($Q16918=\"mono\",$Q16918=\"poly\",$Q16918=\"HIT\",$Q16918=\"EFG\",$Q16918=\"mono-LGBC\"),1,2)))","v":1},{"$f":"IF($O16918=\"Sunpower Corp.\",3,(IF(OR($Q16918=\"mono\",$Q16918=\"poly\",$Q16918=\"HIT\",$Q16918=\"EFG\",$Q16918=\"mono-LGBC\"),1,IF(OR($Q16918=\"µc-Si / a-Si\",$Q16918=\"a-Si (single)\",$Q16918=\"a-Si (tandem)\",$Q16918=\"a-Si (triple)\"),3,2))))","v":1},0,null,null,25719,null,null,16918]
["Yuraku PTE Ltd. YU160-24-M170","Yuraku PTE Ltd. ","YU160-24-M170",170,"+5...-5",35.9,4.74,44.5,5.15,-169.1,2.06,-0.4,715,null,null,13.31620979309082,"mono",72,"pseudo-square",1580,808,45,"aluminum","junction box",15,"www.yuraku.com.sg",null,null,null,null,null,{"$f":"IF($O16931=\"Sunpower Corp.\",3,(IF(OR($Q16931=\"mono\",$Q16931=\"poly\",$Q16931=\"HIT\",$Q16931=\"EFG\",$Q16931=\"mono-LGBC\"),1,IF(OR($Q16931=\"µc-Si / a-Si\",$Q16931=\"a-Si (single)\",$Q16931=\"a-Si (tandem)\",$Q16931=\"a-Si (triple)\"),3,2))))","v":1},{"$f":"IF($O16931=\"Sunpower Corp.\",3,(IF(OR($Q16931=\"mono\",$Q16931=\"poly\",$Q16931=\"HIT\",$Q16931=\"EFG\",$Q16931=\"mono-LGBC\"),1,2)))","v":1},{"$f":"IF($O16931=\"Sunpower Corp.\",3,(IF(OR($Q16931=\"mono\",$Q16931=\"poly\",$Q16931=\"HIT\",$Q16931=\"EFG\",$Q16931=\"mono-LGBC\"),1,IF(OR($Q16931=\"µc-Si / a-Si\",$Q16931=\"a-Si (single)\",$Q16931=\"a-Si (tandem)\",$Q16931=\"a-Si (triple)\"),3,2))))","v":1},0,null,null,17307,null,null,16931]
["Zhangjiagang Fortunes Solar Technolgy Co., Ltd. SL050M-12","Zhangjiagang Fortunes Solar Technolgy Co., Ltd. ","SL050M-12",50,"+10...-10",17.2,2.91,21.6,3.23,-77.760000000000005,1.0659000000000001,-0.44,1000,"China",null,12.297100067138672,"mono",36,"rectangular",760,535,35,"aluminum",null,5.0999999999999996,"www.fortunes-solar.com.cn",null,null,null,null,null,{"$f":"IF($O16963=\"Sunpower Corp.\",3,(IF(OR($Q16963=\"mono\",$Q16963=\"poly\",$Q16963=\"HIT\",$Q16963=\"EFG\",$Q16963=\"mono-LGBC\"),1,IF(OR($Q16963=\"µc-Si / a-Si\",$Q16963=\"a-Si (single)\",$Q16963=\"a-Si (tandem)\",$Q16963=\"a-Si (triple)\"),3,2))))","v":1},{"$f":"IF($O16963=\"Sunpower Corp.\",3,(IF(OR($Q16963=\"mono\",$Q16963=\"poly\",$Q16963=\"HIT\",$Q16963=\"EFG\",$Q16963=\"mono-LGBC\"),1,2)))","v":1},{"$f":"IF($O16963=\"Sunpower Corp.\",3,(IF(OR($Q16963=\"mono\",$Q16963=\"poly\",$Q16963=\"HIT\",$Q16963=\"EFG\",$Q16963=\"mono-LGBC\"),1,IF(OR($Q16963=\"µc-Si / a-Si\",$Q16963=\"a-Si (single)\",$Q16963=\"a-Si (tandem)\",$Q16963=\"a-Si (triple)\"),3,2))))","v":1},0,null,null,29902,null,null,16963]
["Zhangjiagang Fortunes Solar Technolgy Co., Ltd. SL120P-12","Zhangjiagang Fortunes Solar Technolgy Co., Ltd. ","SL120P-12",120,"+5...-5",17.2,6.98,21.6,7.75,-77.760000000000005,2.5575000000000001,-0.44,1000,"China",null,12.368579864501953,"poly",36,"square",1470,660,35,"aluminum","junction box",12,"www.fortunes-solar.com.cn",null,null,null,null,null,{"$f":"IF($O16976=\"Sunpower Corp.\",3,(IF(OR($Q16976=\"mono\",$Q16976=\"poly\",$Q16976=\"HIT\",$Q16976=\"EFG\",$Q16976=\"mono-LGBC\"),1,IF(OR($Q16976=\"µc-Si / a-Si\",$Q16976=\"a-Si (single)\",$Q16976=\"a-Si (tandem)\",$Q16976=\"a-Si (triple)\"),3,2))))","v":1},{"$f":"IF($O16976=\"Sunpower Corp.\",3,(IF(OR($Q16976=\"mono\",$Q16976=\"poly\",$Q16976=\"HIT\",$Q16976=\"EFG\",$Q16976=\"mono-LGBC\"),1,2)))","v":1},{"$f":"IF($O16976=\"Sunpower Corp.\",3,(IF(OR($Q16976=\"mono\",$Q16976=\"poly\",$Q16976=\"HIT\",$Q16976=\"EFG\",$Q16976=\"mono-LGBC\"),1,IF(OR($Q16976=\"µc-Si / a-Si\",$Q16976=\"a-Si (single)\",$Q16976=\"a-Si (tandem)\",$Q16976=\"a-Si (triple)\"),3,2))))","v":1},0,null,null,29928,null,null,16976]
["Zhangjiagang Fortunes Solar Technolgy Co., Ltd. SL250P-24","Zhangjiagang Fortunes Solar Technolgy Co., Ltd. ","SL250P-24",250,"+3...-3",34.6,7.23,43.8,8.0299999999999994,-157.68,2.6498999999999997,-0.44,1000,"China",null,12.98330020904541,"poly",72,"square",1945,990,50,"aluminum","junction box MC4",23,"www.fortunes-solar.com.cn",null,null,null,null,null,{"$f":"IF($O16992=\"Sunpower Corp.\",3,(IF(OR($Q16992=\"mono\",$Q16992=\"poly\",$Q16992=\"HIT\",$Q16992=\"EFG\",$Q16992=\"mono-LGBC\"),1,IF(OR($Q16992=\"µc-Si / a-Si\",$Q16992=\"a-Si (single)\",$Q16992=\"a-Si (tandem)\",$Q16992=\"a-Si (triple)\"),3,2))))","v":1},{"$f":"IF($O16992=\"Sunpower Corp.\",3,(IF(OR($Q16992=\"mono\",$Q16992=\"poly\",$Q16992=\"HIT\",$Q16992=\"EFG\",$Q16992=\"mono-LGBC\"),1,2)))","v":1},{"$f":"IF($O16992=\"Sunpower Corp.\",3,(IF(OR($Q16992=\"mono\",$Q16992=\"poly\",$Q16992=\"HIT\",$Q16992=\"EFG\",$Q16992=\"mono-LGBC\"),1,IF(OR($Q16992=\"µc-Si / a-Si\",$Q16992=\"a-Si (single)\",$Q16992=\"a-Si (tandem)\",$Q16992=\"a-Si (triple)\"),3,2))))","v":1},0,null,null,29938,null,null,16992]
["Zhejiang BLD Solar Technology Co., Ltd BLD180-72M (35mm)","Zhejiang BLD Solar Technology Co., Ltd ","BLD180-72M (35mm)",180,"+3...-3",36.72,4.91,44.46,5.54,-151.16400000000002,2.0497999999999998,-0.48,1000,null,null,14.099510192871094,"mono",72,"pseudo-square",1580,808,35,"aluminum","junction box",15.5,"www.bldsolar.com",null,null,null,null,null,{"$f":"IF($O17021=\"Sunpower Corp.\",3,(IF(OR($Q17021=\"mono\",$Q17021=\"poly\",$Q17021=\"HIT\",$Q17021=\"EFG\",$Q17021=\"mono-LGBC\"),1,IF(OR($Q17021=\"µc-Si / a-Si\",$Q17021=\"a-Si (single)\",$Q17021=\"a-Si (tandem)\",$Q17021=\"a-Si (triple)\"),3,2))))","v":1},{"$f":"IF($O17021=\"Sunpower Corp.\",3,(IF(OR($Q17021=\"mono\",$Q17021=\"poly\",$Q17021=\"HIT\",$Q17021=\"EFG\",$Q17021=\"mono-LGBC\"),1,2)))","v":1},{"$f":"IF($O17021=\"Sunpower Corp.\",3,(IF(OR($Q17021=\"mono\",$Q17021=\"poly\",$Q17021=\"HIT\",$Q17021=\"EFG\",$Q17021=\"mono-LGBC\"),1,IF(OR($Q17021=\"µc-Si / a-Si\",$Q17021=\"a-Si (single)\",$Q17021=\"a-Si (tandem)\",$Q17021=\"a-Si (triple)\"),3,2))))","v":1},0,null,null,18602,null,null,17021]
["Zhejiang BLD Solar Technology Co., Ltd BLD210-60P","Zhejiang BLD Solar Technology Co., Ltd ","BLD210-60P",210,"+...",28.75,7.3,36,7.99,-124.56,5.1935000000000002,-0.48799999999999999,1000,null,null,12.908140182495117,"poly",60,"square",1640,992,50,null,"junction box",19.3,"www.bldsolar.com",null,null,null,null,null,{"$f":"IF($O17037=\"Sunpower Corp.\",3,(IF(OR($Q17037=\"mono\",$Q17037=\"poly\",$Q17037=\"HIT\",$Q17037=\"EFG\",$Q17037=\"mono-LGBC\"),1,IF(OR($Q17037=\"µc-Si / a-Si\",$Q17037=\"a-Si (single)\",$Q17037=\"a-Si (tandem)\",$Q17037=\"a-Si (triple)\"),3,2))))","v":1},{"$f":"IF($O17037=\"Sunpower Corp.\",3,(IF(OR($Q17037=\"mono\",$Q17037=\"poly\",$Q17037=\"HIT\",$Q17037=\"EFG\",$Q17037=\"mono-LGBC\"),1,2)))","v":1},{"$f":"IF($O17037=\"Sunpower Corp.\",3,(IF(OR($Q17037=\"mono\",$Q17037=\"poly\",$Q17037=\"HIT\",$Q17037=\"EFG\",$Q17037=\"mono-LGBC\"),1,IF(OR($Q17037=\"µc-Si / a-Si\",$Q17037=\"a-Si (single)\",$Q17037=\"a-Si (tandem)\",$Q17037=\"a-Si (triple)\"),3,2))))","v":1},0,null,null,10269,null,null,17037]
["Zhejiang BLD Solar Technology Co., Ltd BLD260-72P (2009)","Zhejiang BLD Solar Technology Co., Ltd ","BLD260-72P (2009)",260,"+...",36,7.23,43.49,7.79,-150.47539999999998,5.0634999999999994,-0.48799999999999999,1000,null,null,13.399629592895508,"poly",72,"square",1956,992,50,null,"junction box",23,"www.bldsolar.com",null,null,null,null,null,{"$f":"IF($O17060=\"Sunpower Corp.\",3,(IF(OR($Q17060=\"mono\",$Q17060=\"poly\",$Q17060=\"HIT\",$Q17060=\"EFG\",$Q17060=\"mono-LGBC\"),1,IF(OR($Q17060=\"µc-Si / a-Si\",$Q17060=\"a-Si (single)\",$Q17060=\"a-Si (tandem)\",$Q17060=\"a-Si (triple)\"),3,2))))","v":1},{"$f":"IF($O17060=\"Sunpower Corp.\",3,(IF(OR($Q17060=\"mono\",$Q17060=\"poly\",$Q17060=\"HIT\",$Q17060=\"EFG\",$Q17060=\"mono-LGBC\"),1,2)))","v":1},{"$f":"IF($O17060=\"Sunpower Corp.\",3,(IF(OR($Q17060=\"mono\",$Q17060=\"poly\",$Q17060=\"HIT\",$Q17060=\"EFG\",$Q17060=\"mono-LGBC\"),1,IF(OR($Q17060=\"µc-Si / a-Si\",$Q17060=\"a-Si (single)\",$Q17060=\"a-Si (tandem)\",$Q17060=\"a-Si (triple)\"),3,2))))","v":1},0,null,null,10286,null,null,17060]
["Zhejiang BLD Solar Technology Co., Ltd BLD265-72P (2009)","Zhejiang BLD Solar Technology Co., Ltd ","BLD265-72P (2009)",265,"+...",36.4,7.28,43.63,7.9,-150.95979999999997,5.1349999999999998,-0.48799999999999999,1000,null,null,13.657320022583008,"poly",72,"square",1956,992,50,null,"junction box",23,"www.bldsolar.com",null,null,null,null,null,{"$f":"IF($O17062=\"Sunpower Corp.\",3,(IF(OR($Q17062=\"mono\",$Q17062=\"poly\",$Q17062=\"HIT\",$Q17062=\"EFG\",$Q17062=\"mono-LGBC\"),1,IF(OR($Q17062=\"µc-Si / a-Si\",$Q17062=\"a-Si (single)\",$Q17062=\"a-Si (tandem)\",$Q17062=\"a-Si (triple)\"),3,2))))","v":1},{"$f":"IF($O17062=\"Sunpower Corp.\",3,(IF(OR($Q17062=\"mono\",$Q17062=\"poly\",$Q17062=\"HIT\",$Q17062=\"EFG\",$Q17062=\"mono-LGBC\"),1,2)))","v":1},{"$f":"IF($O17062=\"Sunpower Corp.\",3,(IF(OR($Q17062=\"mono\",$Q17062=\"poly\",$Q17062=\"HIT\",$Q17062=\"EFG\",$Q17062=\"mono-LGBC\"),1,IF(OR($Q17062=\"µc-Si / a-Si\",$Q17062=\"a-Si (single)\",$Q17062=\"a-Si (tandem)\",$Q17062=\"a-Si (triple)\"),3,2))))","v":1},0,null,null,10287,null,null,17062]
["Zhejiang Global Photovoltaic Technology Co., Ltd. GSM-GSF 220 GET AW","Zhejiang Global Photovoltaic Technology Co., Ltd. ","GSM-GSF 220 GET AW",220,"+5...-5",27.6,7.98,33.799999999999997,8.6,-114.92,4.3,-0.45,1000,null,null,14.964520454406738,"mono",54,"pseudo-square",1482,992,45,null,null,18,"www.globalsolar.com",null,null,null,null,null,{"$f":"IF($O17086=\"Sunpower Corp.\",3,(IF(OR($Q17086=\"mono\",$Q17086=\"poly\",$Q17086=\"HIT\",$Q17086=\"EFG\",$Q17086=\"mono-LGBC\"),1,IF(OR($Q17086=\"µc-Si / a-Si\",$Q17086=\"a-Si (single)\",$Q17086=\"a-Si (tandem)\",$Q17086=\"a-Si (triple)\"),3,2))))","v":1},{"$f":"IF($O17086=\"Sunpower Corp.\",3,(IF(OR($Q17086=\"mono\",$Q17086=\"poly\",$Q17086=\"HIT\",$Q17086=\"EFG\",$Q17086=\"mono-LGBC\"),1,2)))","v":1},{"$f":"IF($O17086=\"Sunpower Corp.\",3,(IF(OR($Q17086=\"mono\",$Q17086=\"poly\",$Q17086=\"HIT\",$Q17086=\"EFG\",$Q17086=\"mono-LGBC\"),1,IF(OR($Q17086=\"µc-Si / a-Si\",$Q17086=\"a-Si (single)\",$Q17086=\"a-Si (tandem)\",$Q17086=\"a-Si (triple)\"),3,2))))","v":1},0,null,null,19501,null,null,17086]
["Zhejiang Global Photovoltaic Technology Co., Ltd. GSP-GSF 280 GET AW","Zhejiang Global Photovoltaic Technology Co., Ltd. ","GSP-GSF 280 GET AW",280,"+5...-5",36.200000000000003,7.75,44,8.2799999999999994,-149.6,4.1399999999999997,-0.45,1000,null,null,14.430370330810547,"poly",72,"square",1956,992,50,null,null,23,"www.globalsolar.cn",null,null,null,null,null,{"$f":"IF($O17107=\"Sunpower Corp.\",3,(IF(OR($Q17107=\"mono\",$Q17107=\"poly\",$Q17107=\"HIT\",$Q17107=\"EFG\",$Q17107=\"mono-LGBC\"),1,IF(OR($Q17107=\"µc-Si / a-Si\",$Q17107=\"a-Si (single)\",$Q17107=\"a-Si (tandem)\",$Q17107=\"a-Si (triple)\"),3,2))))","v":1},{"$f":"IF($O17107=\"Sunpower Corp.\",3,(IF(OR($Q17107=\"mono\",$Q17107=\"poly\",$Q17107=\"HIT\",$Q17107=\"EFG\",$Q17107=\"mono-LGBC\"),1,2)))","v":1},{"$f":"IF($O17107=\"Sunpower Corp.\",3,(IF(OR($Q17107=\"mono\",$Q17107=\"poly\",$Q17107=\"HIT\",$Q17107=\"EFG\",$Q17107=\"mono-LGBC\"),1,IF(OR($Q17107=\"µc-Si / a-Si\",$Q17107=\"a-Si (single)\",$Q17107=\"a-Si (tandem)\",$Q17107=\"a-Si (triple)\"),3,2))))","v":1},0,null,null,19519,null,null,17107]
["Zhejiang Grand Power Energy Co.,Ltd. GPM6-72-270","Zhejiang Grand Power Energy Co.,Ltd. ","GPM6-72-270",270,"+3...-3",35.53,7.6,44.7,8.3000000000000007,-135.88800000000001,3.32,-0.42,1000,"China",null,13.830050468444824,"mono",72,"square",1970,991,50,"aluminum","junction box",27.5,"www.www.solarcgp.com",null,null,null,null,null,{"$f":"IF($O17131=\"Sunpower Corp.\",3,(IF(OR($Q17131=\"mono\",$Q17131=\"poly\",$Q17131=\"HIT\",$Q17131=\"EFG\",$Q17131=\"mono-LGBC\"),1,IF(OR($Q17131=\"µc-Si / a-Si\",$Q17131=\"a-Si (single)\",$Q17131=\"a-Si (tandem)\",$Q17131=\"a-Si (triple)\"),3,2))))","v":1},{"$f":"IF($O17131=\"Sunpower Corp.\",3,(IF(OR($Q17131=\"mono\",$Q17131=\"poly\",$Q17131=\"HIT\",$Q17131=\"EFG\",$Q17131=\"mono-LGBC\"),1,2)))","v":1},{"$f":"IF($O17131=\"Sunpower Corp.\",3,(IF(OR($Q17131=\"mono\",$Q17131=\"poly\",$Q17131=\"HIT\",$Q17131=\"EFG\",$Q17131=\"mono-LGBC\"),1,IF(OR($Q17131=\"µc-Si / a-Si\",$Q17131=\"a-Si (single)\",$Q17131=\"a-Si (tandem)\",$Q17131=\"a-Si (triple)\"),3,2))))","v":1},0,null,null,30311,null,null,17131]
["Zhejiang Grand Power Energy Co.,Ltd. GPP6-72-290","Zhejiang Grand Power Energy Co.,Ltd. ","GPP6-72-290",290,"+3...-3",37.47,7.74,44.4,8.42,-134.976,3.3680000000000003,-0.42,1000,"China",null,14.854499816894531,"poly",72,"square",1970,991,50,"aluminum","junction box",27.5,"www.www.solarcgp.com",null,null,null,null,null,{"$f":"IF($O17156=\"Sunpower Corp.\",3,(IF(OR($Q17156=\"mono\",$Q17156=\"poly\",$Q17156=\"HIT\",$Q17156=\"EFG\",$Q17156=\"mono-LGBC\"),1,IF(OR($Q17156=\"µc-Si / a-Si\",$Q17156=\"a-Si (single)\",$Q17156=\"a-Si (tandem)\",$Q17156=\"a-Si (triple)\"),3,2))))","v":1},{"$f":"IF($O17156=\"Sunpower Corp.\",3,(IF(OR($Q17156=\"mono\",$Q17156=\"poly\",$Q17156=\"HIT\",$Q17156=\"EFG\",$Q17156=\"mono-LGBC\"),1,2)))","v":1},{"$f":"IF($O17156=\"Sunpower Corp.\",3,(IF(OR($Q17156=\"mono\",$Q17156=\"poly\",$Q17156=\"HIT\",$Q17156=\"EFG\",$Q17156=\"mono-LGBC\"),1,IF(OR($Q17156=\"µc-Si / a-Si\",$Q17156=\"a-Si (single)\",$Q17156=\"a-Si (tandem)\",$Q17156=\"a-Si (triple)\"),3,2))))","v":1},0,null,null,30343,null,null,17156]
["Zhejiang Hengji PV-Tech Energy Co., Ltd HJM165M-24","Zhejiang Hengji PV-Tech Energy Co., Ltd ","HJM165M-24",165,"+3...-3",35,4.71,44.3,5.36,-150.62,2.9480000000000004,-0.48,null,null,null,12.92455005645752,"mono",72,"pseudo-square",1580,808,45,"aluminum","junction box",15.5,"www.hengjipv.com",null,null,null,null,null,{"$f":"IF($O17176=\"Sunpower Corp.\",3,(IF(OR($Q17176=\"mono\",$Q17176=\"poly\",$Q17176=\"HIT\",$Q17176=\"EFG\",$Q17176=\"mono-LGBC\"),1,IF(OR($Q17176=\"µc-Si / a-Si\",$Q17176=\"a-Si (single)\",$Q17176=\"a-Si (tandem)\",$Q17176=\"a-Si (triple)\"),3,2))))","v":1},{"$f":"IF($O17176=\"Sunpower Corp.\",3,(IF(OR($Q17176=\"mono\",$Q17176=\"poly\",$Q17176=\"HIT\",$Q17176=\"EFG\",$Q17176=\"mono-LGBC\"),1,2)))","v":1},{"$f":"IF($O17176=\"Sunpower Corp.\",3,(IF(OR($Q17176=\"mono\",$Q17176=\"poly\",$Q17176=\"HIT\",$Q17176=\"EFG\",$Q17176=\"mono-LGBC\"),1,IF(OR($Q17176=\"µc-Si / a-Si\",$Q17176=\"a-Si (single)\",$Q17176=\"a-Si (tandem)\",$Q17176=\"a-Si (triple)\"),3,2))))","v":1},0,null,null,10946,null,null,17176]
["Zhejiang Hengji PV-Tech Energy Co., Ltd HJM175P-16","Zhejiang Hengji PV-Tech Energy Co., Ltd ","HJM175P-16",175,"+...",23.35,7.5,29,8.1,-98.6,7.29,-0.37,1000,null,null,13.304019927978516,"poly",48,"square",1326,992,45,"aluminum","junction box",15.5,"www.hjsolarpv.com",null,null,null,null,null,{"$f":"IF($O17181=\"Sunpower Corp.\",3,(IF(OR($Q17181=\"mono\",$Q17181=\"poly\",$Q17181=\"HIT\",$Q17181=\"EFG\",$Q17181=\"mono-LGBC\"),1,IF(OR($Q17181=\"µc-Si / a-Si\",$Q17181=\"a-Si (single)\",$Q17181=\"a-Si (tandem)\",$Q17181=\"a-Si (triple)\"),3,2))))","v":1},{"$f":"IF($O17181=\"Sunpower Corp.\",3,(IF(OR($Q17181=\"mono\",$Q17181=\"poly\",$Q17181=\"HIT\",$Q17181=\"EFG\",$Q17181=\"mono-LGBC\"),1,2)))","v":1},{"$f":"IF($O17181=\"Sunpower Corp.\",3,(IF(OR($Q17181=\"mono\",$Q17181=\"poly\",$Q17181=\"HIT\",$Q17181=\"EFG\",$Q17181=\"mono-LGBC\"),1,IF(OR($Q17181=\"µc-Si / a-Si\",$Q17181=\"a-Si (single)\",$Q17181=\"a-Si (tandem)\",$Q17181=\"a-Si (triple)\"),3,2))))","v":1},0,null,null,18433,null,null,17181]
["Zhejiang Hengji PV-Tech Energy Co., Ltd HJM220M-28","Zhejiang Hengji PV-Tech Energy Co., Ltd ","HJM220M-28",220,"+3...-3",44.3,4.97,52.59,5.36,-178.80600000000001,1.9832000000000001,-0.37,1000,null,null,14.846090316772461,"mono",84,"pseudo-square",1834,808,45,"aluminum","junction box",19,"www.hengjipv.com",null,null,null,null,null,{"$f":"IF($O17202=\"Sunpower Corp.\",3,(IF(OR($Q17202=\"mono\",$Q17202=\"poly\",$Q17202=\"HIT\",$Q17202=\"EFG\",$Q17202=\"mono-LGBC\"),1,IF(OR($Q17202=\"µc-Si / a-Si\",$Q17202=\"a-Si (single)\",$Q17202=\"a-Si (tandem)\",$Q17202=\"a-Si (triple)\"),3,2))))","v":1},{"$f":"IF($O17202=\"Sunpower Corp.\",3,(IF(OR($Q17202=\"mono\",$Q17202=\"poly\",$Q17202=\"HIT\",$Q17202=\"EFG\",$Q17202=\"mono-LGBC\"),1,2)))","v":1},{"$f":"IF($O17202=\"Sunpower Corp.\",3,(IF(OR($Q17202=\"mono\",$Q17202=\"poly\",$Q17202=\"HIT\",$Q17202=\"EFG\",$Q17202=\"mono-LGBC\"),1,IF(OR($Q17202=\"µc-Si / a-Si\",$Q17202=\"a-Si (single)\",$Q17202=\"a-Si (tandem)\",$Q17202=\"a-Si (triple)\"),3,2))))","v":1},0,null,null,31488,null,null,17202]
["Zhejiang Hongchen Photovoltaic Energy Co., Ltd. HCP180D-24","Zhejiang Hongchen Photovoltaic Energy Co., Ltd. ","HCP180D-24",180,"+3...-3",36.4,4.95,44.2,5.13,-150.28,2.3085,-0.47,null,null,null,14.099510192871094,"mono",72,"pseudo-square",1580,808,45,"aluminum","junction box MC4",15.5,"www.hongchensolar.com",null,null,null,null,null,{"$f":"IF($O17226=\"Sunpower Corp.\",3,(IF(OR($Q17226=\"mono\",$Q17226=\"poly\",$Q17226=\"HIT\",$Q17226=\"EFG\",$Q17226=\"mono-LGBC\"),1,IF(OR($Q17226=\"µc-Si / a-Si\",$Q17226=\"a-Si (single)\",$Q17226=\"a-Si (tandem)\",$Q17226=\"a-Si (triple)\"),3,2))))","v":1},{"$f":"IF($O17226=\"Sunpower Corp.\",3,(IF(OR($Q17226=\"mono\",$Q17226=\"poly\",$Q17226=\"HIT\",$Q17226=\"EFG\",$Q17226=\"mono-LGBC\"),1,2)))","v":1},{"$f":"IF($O17226=\"Sunpower Corp.\",3,(IF(OR($Q17226=\"mono\",$Q17226=\"poly\",$Q17226=\"HIT\",$Q17226=\"EFG\",$Q17226=\"mono-LGBC\"),1,IF(OR($Q17226=\"µc-Si / a-Si\",$Q17226=\"a-Si (single)\",$Q17226=\"a-Si (tandem)\",$Q17226=\"a-Si (triple)\"),3,2))))","v":1},0,null,null,14588,null,null,17226]
["Zhejiang Jemy New Energy Co., Ltd JSM-180P","Zhejiang Jemy New Energy Co., Ltd ","JSM-180P",180,"+...",26.2,6.87,32.799999999999997,7.63,-111.52,3.4335,-0.47,1000,null,null,12.161640167236328,"poly",54,"square",1492,992,45,null,"junction box",18.3,null,null,null,null,null,null,{"$f":"IF($O17241=\"Sunpower Corp.\",3,(IF(OR($Q17241=\"mono\",$Q17241=\"poly\",$Q17241=\"HIT\",$Q17241=\"EFG\",$Q17241=\"mono-LGBC\"),1,IF(OR($Q17241=\"µc-Si / a-Si\",$Q17241=\"a-Si (single)\",$Q17241=\"a-Si (tandem)\",$Q17241=\"a-Si (triple)\"),3,2))))","v":1},{"$f":"IF($O17241=\"Sunpower Corp.\",3,(IF(OR($Q17241=\"mono\",$Q17241=\"poly\",$Q17241=\"HIT\",$Q17241=\"EFG\",$Q17241=\"mono-LGBC\"),1,2)))","v":1},{"$f":"IF($O17241=\"Sunpower Corp.\",3,(IF(OR($Q17241=\"mono\",$Q17241=\"poly\",$Q17241=\"HIT\",$Q17241=\"EFG\",$Q17241=\"mono-LGBC\"),1,IF(OR($Q17241=\"µc-Si / a-Si\",$Q17241=\"a-Si (single)\",$Q17241=\"a-Si (tandem)\",$Q17241=\"a-Si (triple)\"),3,2))))","v":1},0,null,null,23981,null,null,17241]
["Zhejiang Jinghui Solar Energy Tec. Co., Ltd JHM-90","Zhejiang Jinghui Solar Energy Tec. Co., Ltd ","JHM-90",90,"+3...-3",18,4.99,22.2,5.4,-77.7,3.24,null,1000,null,null,13.564209938049316,"mono",36,"pseudo-square",1213,547,35,null,"junction box",8,"www.jh-solar.com",null,null,null,null,null,{"$f":"IF($O17271=\"Sunpower Corp.\",3,(IF(OR($Q17271=\"mono\",$Q17271=\"poly\",$Q17271=\"HIT\",$Q17271=\"EFG\",$Q17271=\"mono-LGBC\"),1,IF(OR($Q17271=\"µc-Si / a-Si\",$Q17271=\"a-Si (single)\",$Q17271=\"a-Si (tandem)\",$Q17271=\"a-Si (triple)\"),3,2))))","v":1},{"$f":"IF($O17271=\"Sunpower Corp.\",3,(IF(OR($Q17271=\"mono\",$Q17271=\"poly\",$Q17271=\"HIT\",$Q17271=\"EFG\",$Q17271=\"mono-LGBC\"),1,2)))","v":1},{"$f":"IF($O17271=\"Sunpower Corp.\",3,(IF(OR($Q17271=\"mono\",$Q17271=\"poly\",$Q17271=\"HIT\",$Q17271=\"EFG\",$Q17271=\"mono-LGBC\"),1,IF(OR($Q17271=\"µc-Si / a-Si\",$Q17271=\"a-Si (single)\",$Q17271=\"a-Si (tandem)\",$Q17271=\"a-Si (triple)\"),3,2))))","v":1},0,null,null,11121,null,null,17271]
["Zhejiang Kingdom Solar Energy Technic Co. Ltd. KD-M160","Zhejiang Kingdom Solar Energy Technic Co. Ltd. ","KD-M160",160,"+3...-3",35.619999999999997,4.49,43.6,5.0199999999999996,-173.09200000000001,3.0119999999999996,-0.54900000000000004,1000,null,null,12.532899856567383,"mono",72,"pseudo-square",1580,808,50,"aluminum","junction box",16.5,"www.kingdomsolar.net",null,null,null,null,null,{"$f":"IF($O17286=\"Sunpower Corp.\",3,(IF(OR($Q17286=\"mono\",$Q17286=\"poly\",$Q17286=\"HIT\",$Q17286=\"EFG\",$Q17286=\"mono-LGBC\"),1,IF(OR($Q17286=\"µc-Si / a-Si\",$Q17286=\"a-Si (single)\",$Q17286=\"a-Si (tandem)\",$Q17286=\"a-Si (triple)\"),3,2))))","v":1},{"$f":"IF($O17286=\"Sunpower Corp.\",3,(IF(OR($Q17286=\"mono\",$Q17286=\"poly\",$Q17286=\"HIT\",$Q17286=\"EFG\",$Q17286=\"mono-LGBC\"),1,2)))","v":1},{"$f":"IF($O17286=\"Sunpower Corp.\",3,(IF(OR($Q17286=\"mono\",$Q17286=\"poly\",$Q17286=\"HIT\",$Q17286=\"EFG\",$Q17286=\"mono-LGBC\"),1,IF(OR($Q17286=\"µc-Si / a-Si\",$Q17286=\"a-Si (single)\",$Q17286=\"a-Si (tandem)\",$Q17286=\"a-Si (triple)\"),3,2))))","v":1},0,null,null,15967,null,null,17286]
["Zhejiang Kingdom Solar Energy Technic Co. Ltd. KD-M210 (54x6\")","Zhejiang Kingdom Solar Energy Technic Co. Ltd. ","KD-M210 (54x6\")",210,"+3...-3",27.21,7.72,33.28,8.33,-132.1216,3.3320000000000003,-0.5,1000,null,null,14.284319877624512,"mono",54,"pseudo-square",1482,992,50,"aluminum","junction box",17.8,"www.kingdomsolar.net",null,null,null,null,null,{"$f":"IF($O17300=\"Sunpower Corp.\",3,(IF(OR($Q17300=\"mono\",$Q17300=\"poly\",$Q17300=\"HIT\",$Q17300=\"EFG\",$Q17300=\"mono-LGBC\"),1,IF(OR($Q17300=\"µc-Si / a-Si\",$Q17300=\"a-Si (single)\",$Q17300=\"a-Si (tandem)\",$Q17300=\"a-Si (triple)\"),3,2))))","v":1},{"$f":"IF($O17300=\"Sunpower Corp.\",3,(IF(OR($Q17300=\"mono\",$Q17300=\"poly\",$Q17300=\"HIT\",$Q17300=\"EFG\",$Q17300=\"mono-LGBC\"),1,2)))","v":1},{"$f":"IF($O17300=\"Sunpower Corp.\",3,(IF(OR($Q17300=\"mono\",$Q17300=\"poly\",$Q17300=\"HIT\",$Q17300=\"EFG\",$Q17300=\"mono-LGBC\"),1,IF(OR($Q17300=\"µc-Si / a-Si\",$Q17300=\"a-Si (single)\",$Q17300=\"a-Si (tandem)\",$Q17300=\"a-Si (triple)\"),3,2))))","v":1},0,null,null,34264,null,null,17300]
["Zhejiang Kingdom Solar Energy Technic Co. Ltd. KD-M310 (72x6\")","Zhejiang Kingdom Solar Energy Technic Co. Ltd. ","KD-M310 (72x6\")",310,"+3...-3",37.76,8.2100000000000009,44.95,8.64,-178.45150000000004,3.4560000000000004,-0.5,1000,null,null,15.968319892883301,"mono",72,"pseudo-square",1957,992,50,"aluminum","junction box",23,"www.kingdomsolar.net",null,null,null,null,null,{"$f":"IF($O17331=\"Sunpower Corp.\",3,(IF(OR($Q17331=\"mono\",$Q17331=\"poly\",$Q17331=\"HIT\",$Q17331=\"EFG\",$Q17331=\"mono-LGBC\"),1,IF(OR($Q17331=\"µc-Si / a-Si\",$Q17331=\"a-Si (single)\",$Q17331=\"a-Si (tandem)\",$Q17331=\"a-Si (triple)\"),3,2))))","v":1},{"$f":"IF($O17331=\"Sunpower Corp.\",3,(IF(OR($Q17331=\"mono\",$Q17331=\"poly\",$Q17331=\"HIT\",$Q17331=\"EFG\",$Q17331=\"mono-LGBC\"),1,2)))","v":1},{"$f":"IF($O17331=\"Sunpower Corp.\",3,(IF(OR($Q17331=\"mono\",$Q17331=\"poly\",$Q17331=\"HIT\",$Q17331=\"EFG\",$Q17331=\"mono-LGBC\"),1,IF(OR($Q17331=\"µc-Si / a-Si\",$Q17331=\"a-Si (single)\",$Q17331=\"a-Si (tandem)\",$Q17331=\"a-Si (triple)\"),3,2))))","v":1},0,null,null,34289,null,null,17331]
["Zhejiang Kingdom Solar Energy Technic Co. Ltd. KD-P180","Zhejiang Kingdom Solar Energy Technic Co. Ltd. ","KD-P180",180,"+3...-3",26.45,6.81,32.35,7.6,-111.93099999999998,4.9400000000000004,-0.48799999999999999,1000,null,null,12.24370002746582,"poly",54,"square",1482,992,50,"aluminum","junction box",17.8,"www.kingdomsolar.net",null,null,null,null,null,{"$f":"IF($O17345=\"Sunpower Corp.\",3,(IF(OR($Q17345=\"mono\",$Q17345=\"poly\",$Q17345=\"HIT\",$Q17345=\"EFG\",$Q17345=\"mono-LGBC\"),1,IF(OR($Q17345=\"µc-Si / a-Si\",$Q17345=\"a-Si (single)\",$Q17345=\"a-Si (tandem)\",$Q17345=\"a-Si (triple)\"),3,2))))","v":1},{"$f":"IF($O17345=\"Sunpower Corp.\",3,(IF(OR($Q17345=\"mono\",$Q17345=\"poly\",$Q17345=\"HIT\",$Q17345=\"EFG\",$Q17345=\"mono-LGBC\"),1,2)))","v":1},{"$f":"IF($O17345=\"Sunpower Corp.\",3,(IF(OR($Q17345=\"mono\",$Q17345=\"poly\",$Q17345=\"HIT\",$Q17345=\"EFG\",$Q17345=\"mono-LGBC\"),1,IF(OR($Q17345=\"µc-Si / a-Si\",$Q17345=\"a-Si (single)\",$Q17345=\"a-Si (tandem)\",$Q17345=\"a-Si (triple)\"),3,2))))","v":1},0,null,null,15976,null,null,17345]
["Zhejiang Kingdom Solar Energy Technic Co. Ltd. KD-P220","Zhejiang Kingdom Solar Energy Technic Co. Ltd. ","KD-P220",220,"+3...-3",29.5,7.46,35.4,8.36,-134.16599999999997,4.7233999999999989,-0.53700000000000003,1000,null,null,13.440859794616699,"poly",60,"square",1650,992,50,"aluminum","junction box",19.5,"www.kingdomsolar.net",null,null,null,null,null,{"$f":"IF($O17357=\"Sunpower Corp.\",3,(IF(OR($Q17357=\"mono\",$Q17357=\"poly\",$Q17357=\"HIT\",$Q17357=\"EFG\",$Q17357=\"mono-LGBC\"),1,IF(OR($Q17357=\"µc-Si / a-Si\",$Q17357=\"a-Si (single)\",$Q17357=\"a-Si (tandem)\",$Q17357=\"a-Si (triple)\"),3,2))))","v":1},{"$f":"IF($O17357=\"Sunpower Corp.\",3,(IF(OR($Q17357=\"mono\",$Q17357=\"poly\",$Q17357=\"HIT\",$Q17357=\"EFG\",$Q17357=\"mono-LGBC\"),1,2)))","v":1},{"$f":"IF($O17357=\"Sunpower Corp.\",3,(IF(OR($Q17357=\"mono\",$Q17357=\"poly\",$Q17357=\"HIT\",$Q17357=\"EFG\",$Q17357=\"mono-LGBC\"),1,IF(OR($Q17357=\"µc-Si / a-Si\",$Q17357=\"a-Si (single)\",$Q17357=\"a-Si (tandem)\",$Q17357=\"a-Si (triple)\"),3,2))))","v":1},0,null,null,15981,null,null,17357]
["Zhejiang Leye Photovoltaic Science & Technology Co LYM235M (60)","Zhejiang Leye Photovoltaic Science & Technology Co ","LYM235M (60)",235,"+3...-3",29.94,7.8890000000000002,36.72,8.6,-132.19200000000001,3.0959999999999996,-0.44,1000,null,null,14.357279777526855,"mono",60,"pseudo-square",1650,992,50,"aluminum","junction box MC4",20.5,"www.leyesolar.com",null,null,null,null,null,{"$f":"IF($O17390=\"Sunpower Corp.\",3,(IF(OR($Q17390=\"mono\",$Q17390=\"poly\",$Q17390=\"HIT\",$Q17390=\"EFG\",$Q17390=\"mono-LGBC\"),1,IF(OR($Q17390=\"µc-Si / a-Si\",$Q17390=\"a-Si (single)\",$Q17390=\"a-Si (tandem)\",$Q17390=\"a-Si (triple)\"),3,2))))","v":1},{"$f":"IF($O17390=\"Sunpower Corp.\",3,(IF(OR($Q17390=\"mono\",$Q17390=\"poly\",$Q17390=\"HIT\",$Q17390=\"EFG\",$Q17390=\"mono-LGBC\"),1,2)))","v":1},{"$f":"IF($O17390=\"Sunpower Corp.\",3,(IF(OR($Q17390=\"mono\",$Q17390=\"poly\",$Q17390=\"HIT\",$Q17390=\"EFG\",$Q17390=\"mono-LGBC\"),1,IF(OR($Q17390=\"µc-Si / a-Si\",$Q17390=\"a-Si (single)\",$Q17390=\"a-Si (tandem)\",$Q17390=\"a-Si (triple)\"),3,2))))","v":1},0,null,null,33280,null,null,17390]
["Zhejiang Leye Photovoltaic Science & Technology Co LYM245M (60)","Zhejiang Leye Photovoltaic Science & Technology Co ","LYM245M (60)",245,"+3...-3",30.48,8.077,36.9,8.8030000000000008,-132.84,3.1690800000000001,-0.44,1000,null,null,14.968230247497559,"mono",60,"square",1650,992,50,"aluminum","junction box MC4",20.5,"www.leyesolar.com",null,null,null,null,null,{"$f":"IF($O17396=\"Sunpower Corp.\",3,(IF(OR($Q17396=\"mono\",$Q17396=\"poly\",$Q17396=\"HIT\",$Q17396=\"EFG\",$Q17396=\"mono-LGBC\"),1,IF(OR($Q17396=\"µc-Si / a-Si\",$Q17396=\"a-Si (single)\",$Q17396=\"a-Si (tandem)\",$Q17396=\"a-Si (triple)\"),3,2))))","v":1},{"$f":"IF($O17396=\"Sunpower Corp.\",3,(IF(OR($Q17396=\"mono\",$Q17396=\"poly\",$Q17396=\"HIT\",$Q17396=\"EFG\",$Q17396=\"mono-LGBC\"),1,2)))","v":1},{"$f":"IF($O17396=\"Sunpower Corp.\",3,(IF(OR($Q17396=\"mono\",$Q17396=\"poly\",$Q17396=\"HIT\",$Q17396=\"EFG\",$Q17396=\"mono-LGBC\"),1,IF(OR($Q17396=\"µc-Si / a-Si\",$Q17396=\"a-Si (single)\",$Q17396=\"a-Si (tandem)\",$Q17396=\"a-Si (triple)\"),3,2))))","v":1},0,null,null,33281,null,null,17396]
["Zhejiang Powerwell Solar Energy Co., Ltd BWSM-180M","Zhejiang Powerwell Solar Energy Co., Ltd ","BWSM-180M",180,"+...",36,5,44.5,5.45,-151.30000000000001,2.7250000000000001,-0.5,1000,null,null,14.099510192871094,"mono",72,"pseudo-square",1580,808,40,"aluminum","junction box",17,"www.PowerwellSolar.com",null,null,null,null,null,{"$f":"IF($O17415=\"Sunpower Corp.\",3,(IF(OR($Q17415=\"mono\",$Q17415=\"poly\",$Q17415=\"HIT\",$Q17415=\"EFG\",$Q17415=\"mono-LGBC\"),1,IF(OR($Q17415=\"µc-Si / a-Si\",$Q17415=\"a-Si (single)\",$Q17415=\"a-Si (tandem)\",$Q17415=\"a-Si (triple)\"),3,2))))","v":1},{"$f":"IF($O17415=\"Sunpower Corp.\",3,(IF(OR($Q17415=\"mono\",$Q17415=\"poly\",$Q17415=\"HIT\",$Q17415=\"EFG\",$Q17415=\"mono-LGBC\"),1,2)))","v":1},{"$f":"IF($O17415=\"Sunpower Corp.\",3,(IF(OR($Q17415=\"mono\",$Q17415=\"poly\",$Q17415=\"HIT\",$Q17415=\"EFG\",$Q17415=\"mono-LGBC\"),1,IF(OR($Q17415=\"µc-Si / a-Si\",$Q17415=\"a-Si (single)\",$Q17415=\"a-Si (tandem)\",$Q17415=\"a-Si (triple)\"),3,2))))","v":1},0,null,null,32330,null,null,17415]
["Zhejiang RDM Technology Co.,Ltd RDM-200P","Zhejiang RDM Technology Co.,Ltd ","RDM-200P",200,"+3...-3",28.5,7.02,34.200000000000003,7.86,-116.28,7.0740000000000007,-0.37,1000,null,null,12.218959808349609,"poly",60,"square",1650,992,50,"aluminum","junction box",19.5,"www.rdmsolar.com",null,null,null,null,null,{"$f":"IF($O17441=\"Sunpower Corp.\",3,(IF(OR($Q17441=\"mono\",$Q17441=\"poly\",$Q17441=\"HIT\",$Q17441=\"EFG\",$Q17441=\"mono-LGBC\"),1,IF(OR($Q17441=\"µc-Si / a-Si\",$Q17441=\"a-Si (single)\",$Q17441=\"a-Si (tandem)\",$Q17441=\"a-Si (triple)\"),3,2))))","v":1},{"$f":"IF($O17441=\"Sunpower Corp.\",3,(IF(OR($Q17441=\"mono\",$Q17441=\"poly\",$Q17441=\"HIT\",$Q17441=\"EFG\",$Q17441=\"mono-LGBC\"),1,2)))","v":1},{"$f":"IF($O17441=\"Sunpower Corp.\",3,(IF(OR($Q17441=\"mono\",$Q17441=\"poly\",$Q17441=\"HIT\",$Q17441=\"EFG\",$Q17441=\"mono-LGBC\"),1,IF(OR($Q17441=\"µc-Si / a-Si\",$Q17441=\"a-Si (single)\",$Q17441=\"a-Si (tandem)\",$Q17441=\"a-Si (triple)\"),3,2))))","v":1},0,null,null,32288,null,null,17441]
["Zhejiang RDM Technology Co.,Ltd RDM-270P","Zhejiang RDM Technology Co.,Ltd ","RDM-270P",270,"+3...-3",36,7.5,43.2,8.31,-146.88,7.4790000000000001,-0.37,1000,null,null,13.907890319824219,"poly",72,"square",1957,992,50,"aluminum","junction box",22.5,"www.rdmsolar.com",null,null,null,null,null,{"$f":"IF($O17464=\"Sunpower Corp.\",3,(IF(OR($Q17464=\"mono\",$Q17464=\"poly\",$Q17464=\"HIT\",$Q17464=\"EFG\",$Q17464=\"mono-LGBC\"),1,IF(OR($Q17464=\"µc-Si / a-Si\",$Q17464=\"a-Si (single)\",$Q17464=\"a-Si (tandem)\",$Q17464=\"a-Si (triple)\"),3,2))))","v":1},{"$f":"IF($O17464=\"Sunpower Corp.\",3,(IF(OR($Q17464=\"mono\",$Q17464=\"poly\",$Q17464=\"HIT\",$Q17464=\"EFG\",$Q17464=\"mono-LGBC\"),1,2)))","v":1},{"$f":"IF($O17464=\"Sunpower Corp.\",3,(IF(OR($Q17464=\"mono\",$Q17464=\"poly\",$Q17464=\"HIT\",$Q17464=\"EFG\",$Q17464=\"mono-LGBC\"),1,IF(OR($Q17464=\"µc-Si / a-Si\",$Q17464=\"a-Si (single)\",$Q17464=\"a-Si (tandem)\",$Q17464=\"a-Si (triple)\"),3,2))))","v":1},0,null,null,32303,null,null,17464]
["Zhejiang Riyuewang Solar Technology Co., Ltd RYW200P-18","Zhejiang Riyuewang Solar Technology Co., Ltd ","RYW200P-18",200,"+3...-3",27,7.4,33,8.19,-108.9,4.5045000000000002,-0.44,1000,null,null,13.650010108947754,"poly",54,"square",1480,990,50,"aluminum","junction box",18.5,"www.ryw.cc",null,null,null,null,null,{"$f":"IF($O17485=\"Sunpower Corp.\",3,(IF(OR($Q17485=\"mono\",$Q17485=\"poly\",$Q17485=\"HIT\",$Q17485=\"EFG\",$Q17485=\"mono-LGBC\"),1,IF(OR($Q17485=\"µc-Si / a-Si\",$Q17485=\"a-Si (single)\",$Q17485=\"a-Si (tandem)\",$Q17485=\"a-Si (triple)\"),3,2))))","v":1},{"$f":"IF($O17485=\"Sunpower Corp.\",3,(IF(OR($Q17485=\"mono\",$Q17485=\"poly\",$Q17485=\"HIT\",$Q17485=\"EFG\",$Q17485=\"mono-LGBC\"),1,2)))","v":1},{"$f":"IF($O17485=\"Sunpower Corp.\",3,(IF(OR($Q17485=\"mono\",$Q17485=\"poly\",$Q17485=\"HIT\",$Q17485=\"EFG\",$Q17485=\"mono-LGBC\"),1,IF(OR($Q17485=\"µc-Si / a-Si\",$Q17485=\"a-Si (single)\",$Q17485=\"a-Si (tandem)\",$Q17485=\"a-Si (triple)\"),3,2))))","v":1},0,null,null,31325,null,null,17485]
["Zhejiang Riyuewang Solar Technology Co., Ltd RYW240P-24","Zhejiang Riyuewang Solar Technology Co., Ltd ","RYW240P-24",240,"+3...-3",36.1,6.64,40.1,8.08,-132.33000000000001,4.444,-0.44,1000,null,null,12.432009696960449,"poly",72,"square",1950,990,50,"aluminum","junction box",26,"www.ryw.cc",null,null,null,null,null,{"$f":"IF($O17506=\"Sunpower Corp.\",3,(IF(OR($Q17506=\"mono\",$Q17506=\"poly\",$Q17506=\"HIT\",$Q17506=\"EFG\",$Q17506=\"mono-LGBC\"),1,IF(OR($Q17506=\"µc-Si / a-Si\",$Q17506=\"a-Si (single)\",$Q17506=\"a-Si (tandem)\",$Q17506=\"a-Si (triple)\"),3,2))))","v":1},{"$f":"IF($O17506=\"Sunpower Corp.\",3,(IF(OR($Q17506=\"mono\",$Q17506=\"poly\",$Q17506=\"HIT\",$Q17506=\"EFG\",$Q17506=\"mono-LGBC\"),1,2)))","v":1},{"$f":"IF($O17506=\"Sunpower Corp.\",3,(IF(OR($Q17506=\"mono\",$Q17506=\"poly\",$Q17506=\"HIT\",$Q17506=\"EFG\",$Q17506=\"mono-LGBC\"),1,IF(OR($Q17506=\"µc-Si / a-Si\",$Q17506=\"a-Si (single)\",$Q17506=\"a-Si (tandem)\",$Q17506=\"a-Si (triple)\"),3,2))))","v":1},0,null,null,31404,null,null,17506]
["Zhejiang SHANGCHENG Solar Technology Co., Ltd. SC100M-16","Zhejiang SHANGCHENG Solar Technology Co., Ltd. ","SC100M-16",100,"+3...-3",22.6,4.4240000000000004,26.6,5.8239999999999998,-95.76,1.9219199999999999,-0.44,1000,null,null,11.459480285644531,"mono",48,null,1080,808,40,"aluminum",null,11,"www.zjscsolar.com",null,null,null,null,null,{"$f":"IF($O17530=\"Sunpower Corp.\",3,(IF(OR($Q17530=\"mono\",$Q17530=\"poly\",$Q17530=\"HIT\",$Q17530=\"EFG\",$Q17530=\"mono-LGBC\"),1,IF(OR($Q17530=\"µc-Si / a-Si\",$Q17530=\"a-Si (single)\",$Q17530=\"a-Si (tandem)\",$Q17530=\"a-Si (triple)\"),3,2))))","v":1},{"$f":"IF($O17530=\"Sunpower Corp.\",3,(IF(OR($Q17530=\"mono\",$Q17530=\"poly\",$Q17530=\"HIT\",$Q17530=\"EFG\",$Q17530=\"mono-LGBC\"),1,2)))","v":1},{"$f":"IF($O17530=\"Sunpower Corp.\",3,(IF(OR($Q17530=\"mono\",$Q17530=\"poly\",$Q17530=\"HIT\",$Q17530=\"EFG\",$Q17530=\"mono-LGBC\"),1,IF(OR($Q17530=\"µc-Si / a-Si\",$Q17530=\"a-Si (single)\",$Q17530=\"a-Si (tandem)\",$Q17530=\"a-Si (triple)\"),3,2))))","v":1},0,null,null,12853,null,null,17530]
["Zhejiang SHANGCHENG Solar Technology Co., Ltd. SC110M-16","Zhejiang SHANGCHENG Solar Technology Co., Ltd. ","SC110M-16",110,"+3...-3",22.6,4.8600000000000003,26.6,5.03,-95.76,1.6599000000000002,-0.44,1000,null,null,12.605429649353027,"mono",48,null,1080,808,40,"aluminum",null,11,"www.zjscsolar.com",null,null,null,null,null,{"$f":"IF($O17532=\"Sunpower Corp.\",3,(IF(OR($Q17532=\"mono\",$Q17532=\"poly\",$Q17532=\"HIT\",$Q17532=\"EFG\",$Q17532=\"mono-LGBC\"),1,IF(OR($Q17532=\"µc-Si / a-Si\",$Q17532=\"a-Si (single)\",$Q17532=\"a-Si (tandem)\",$Q17532=\"a-Si (triple)\"),3,2))))","v":1},{"$f":"IF($O17532=\"Sunpower Corp.\",3,(IF(OR($Q17532=\"mono\",$Q17532=\"poly\",$Q17532=\"HIT\",$Q17532=\"EFG\",$Q17532=\"mono-LGBC\"),1,2)))","v":1},{"$f":"IF($O17532=\"Sunpower Corp.\",3,(IF(OR($Q17532=\"mono\",$Q17532=\"poly\",$Q17532=\"HIT\",$Q17532=\"EFG\",$Q17532=\"mono-LGBC\"),1,IF(OR($Q17532=\"µc-Si / a-Si\",$Q17532=\"a-Si (single)\",$Q17532=\"a-Si (tandem)\",$Q17532=\"a-Si (triple)\"),3,2))))","v":1},0,null,null,12854,null,null,17532]
["Zhejiang SHANGCHENG Solar Technology Co., Ltd. SC190M","Zhejiang SHANGCHENG Solar Technology Co., Ltd. ","SC190M",190,"+3...-3",24,7.92,29.5,8.35,-106.2,2.7554999999999996,-0.44,1000,null,null,14.466179847717285,"mono",48,"pseudo-square",1324,992,35,"aluminum","junction box",18,"www.zjscsolar.com",null,null,null,null,null,{"$f":"IF($O17559=\"Sunpower Corp.\",3,(IF(OR($Q17559=\"mono\",$Q17559=\"poly\",$Q17559=\"HIT\",$Q17559=\"EFG\",$Q17559=\"mono-LGBC\"),1,IF(OR($Q17559=\"µc-Si / a-Si\",$Q17559=\"a-Si (single)\",$Q17559=\"a-Si (tandem)\",$Q17559=\"a-Si (triple)\"),3,2))))","v":1},{"$f":"IF($O17559=\"Sunpower Corp.\",3,(IF(OR($Q17559=\"mono\",$Q17559=\"poly\",$Q17559=\"HIT\",$Q17559=\"EFG\",$Q17559=\"mono-LGBC\"),1,2)))","v":1},{"$f":"IF($O17559=\"Sunpower Corp.\",3,(IF(OR($Q17559=\"mono\",$Q17559=\"poly\",$Q17559=\"HIT\",$Q17559=\"EFG\",$Q17559=\"mono-LGBC\"),1,IF(OR($Q17559=\"µc-Si / a-Si\",$Q17559=\"a-Si (single)\",$Q17559=\"a-Si (tandem)\",$Q17559=\"a-Si (triple)\"),3,2))))","v":1},0,null,null,21216,null,null,17559]
["Zhejiang SHANGCHENG Solar Technology Co., Ltd. SC230M-32","Zhejiang SHANGCHENG Solar Technology Co., Ltd. ","SC230M-32",230,"+3...-3",47.2,4.8730000000000002,57.11,5.52,-194.17400000000001,2.4839999999999995,-0.47,1000,null,null,13.4964599609375,"mono",96,null,1575,1082,50,"aluminum",null,16.8,"www.zjscsolar.com",null,null,null,null,null,{"$f":"IF($O17577=\"Sunpower Corp.\",3,(IF(OR($Q17577=\"mono\",$Q17577=\"poly\",$Q17577=\"HIT\",$Q17577=\"EFG\",$Q17577=\"mono-LGBC\"),1,IF(OR($Q17577=\"µc-Si / a-Si\",$Q17577=\"a-Si (single)\",$Q17577=\"a-Si (tandem)\",$Q17577=\"a-Si (triple)\"),3,2))))","v":1},{"$f":"IF($O17577=\"Sunpower Corp.\",3,(IF(OR($Q17577=\"mono\",$Q17577=\"poly\",$Q17577=\"HIT\",$Q17577=\"EFG\",$Q17577=\"mono-LGBC\"),1,2)))","v":1},{"$f":"IF($O17577=\"Sunpower Corp.\",3,(IF(OR($Q17577=\"mono\",$Q17577=\"poly\",$Q17577=\"HIT\",$Q17577=\"EFG\",$Q17577=\"mono-LGBC\"),1,IF(OR($Q17577=\"µc-Si / a-Si\",$Q17577=\"a-Si (single)\",$Q17577=\"a-Si (tandem)\",$Q17577=\"a-Si (triple)\"),3,2))))","v":1},0,null,null,12869,null,null,17577]
["Zhejiang SHANGCHENG Solar Technology Co., Ltd. SCM170F-72M","Zhejiang SHANGCHENG Solar Technology Co., Ltd. ","SCM170F-72M",170,"+3...-3",35.5,4.79,43.9,5.25,-158.04,1.7324999999999999,-0.44,1000,null,null,13.31620979309082,"mono",72,"pseudo-square",1580,808,35,"aluminum","junction box MC4",15.5,"www.zjscsolar.com",null,null,null,null,null,{"$f":"IF($O17604=\"Sunpower Corp.\",3,(IF(OR($Q17604=\"mono\",$Q17604=\"poly\",$Q17604=\"HIT\",$Q17604=\"EFG\",$Q17604=\"mono-LGBC\"),1,IF(OR($Q17604=\"µc-Si / a-Si\",$Q17604=\"a-Si (single)\",$Q17604=\"a-Si (tandem)\",$Q17604=\"a-Si (triple)\"),3,2))))","v":1},{"$f":"IF($O17604=\"Sunpower Corp.\",3,(IF(OR($Q17604=\"mono\",$Q17604=\"poly\",$Q17604=\"HIT\",$Q17604=\"EFG\",$Q17604=\"mono-LGBC\"),1,2)))","v":1},{"$f":"IF($O17604=\"Sunpower Corp.\",3,(IF(OR($Q17604=\"mono\",$Q17604=\"poly\",$Q17604=\"HIT\",$Q17604=\"EFG\",$Q17604=\"mono-LGBC\"),1,IF(OR($Q17604=\"µc-Si / a-Si\",$Q17604=\"a-Si (single)\",$Q17604=\"a-Si (tandem)\",$Q17604=\"a-Si (triple)\"),3,2))))","v":1},0,null,null,32423,null,null,17604]
["Zhejiang SHANGCHENG Solar Technology Co., Ltd. SCM215S-60P","Zhejiang SHANGCHENG Solar Technology Co., Ltd. ","SCM215S-60P",215,"+3...-3",29.7,7.25,36.700000000000003,7.93,-132.12,2.6168999999999998,-0.44,1000,null,null,13.135390281677246,"poly",60,"square",1650,992,45,"aluminum","junction box MC4",19.5,"www.zjscsolar.com",null,null,null,null,null,{"$f":"IF($O17622=\"Sunpower Corp.\",3,(IF(OR($Q17622=\"mono\",$Q17622=\"poly\",$Q17622=\"HIT\",$Q17622=\"EFG\",$Q17622=\"mono-LGBC\"),1,IF(OR($Q17622=\"µc-Si / a-Si\",$Q17622=\"a-Si (single)\",$Q17622=\"a-Si (tandem)\",$Q17622=\"a-Si (triple)\"),3,2))))","v":1},{"$f":"IF($O17622=\"Sunpower Corp.\",3,(IF(OR($Q17622=\"mono\",$Q17622=\"poly\",$Q17622=\"HIT\",$Q17622=\"EFG\",$Q17622=\"mono-LGBC\"),1,2)))","v":1},{"$f":"IF($O17622=\"Sunpower Corp.\",3,(IF(OR($Q17622=\"mono\",$Q17622=\"poly\",$Q17622=\"HIT\",$Q17622=\"EFG\",$Q17622=\"mono-LGBC\"),1,IF(OR($Q17622=\"µc-Si / a-Si\",$Q17622=\"a-Si (single)\",$Q17622=\"a-Si (tandem)\",$Q17622=\"a-Si (triple)\"),3,2))))","v":1},0,null,null,32408,null,null,17622]
["Zhejiang SHANGCHENG Solar Technology Co., Ltd. SCM225F-96M","Zhejiang SHANGCHENG Solar Technology Co., Ltd. ","SCM225F-96M",225,"+3...-3",48.1,4.68,57.9,5.05,-208.44,1.6665000000000001,-0.44,1000,null,null,13.371370315551758,"mono",96,"pseudo-square",1580,1065,50,"aluminum","junction box MC4",22.5,"www.zjscsolar.com",null,null,null,null,null,{"$f":"IF($O17629=\"Sunpower Corp.\",3,(IF(OR($Q17629=\"mono\",$Q17629=\"poly\",$Q17629=\"HIT\",$Q17629=\"EFG\",$Q17629=\"mono-LGBC\"),1,IF(OR($Q17629=\"µc-Si / a-Si\",$Q17629=\"a-Si (single)\",$Q17629=\"a-Si (tandem)\",$Q17629=\"a-Si (triple)\"),3,2))))","v":1},{"$f":"IF($O17629=\"Sunpower Corp.\",3,(IF(OR($Q17629=\"mono\",$Q17629=\"poly\",$Q17629=\"HIT\",$Q17629=\"EFG\",$Q17629=\"mono-LGBC\"),1,2)))","v":1},{"$f":"IF($O17629=\"Sunpower Corp.\",3,(IF(OR($Q17629=\"mono\",$Q17629=\"poly\",$Q17629=\"HIT\",$Q17629=\"EFG\",$Q17629=\"mono-LGBC\"),1,IF(OR($Q17629=\"µc-Si / a-Si\",$Q17629=\"a-Si (single)\",$Q17629=\"a-Si (tandem)\",$Q17629=\"a-Si (triple)\"),3,2))))","v":1},0,null,null,32447,null,null,17629]
["Zhejiang SHANGCHENG Solar Technology Co., Ltd. SCM255S-72P","Zhejiang SHANGCHENG Solar Technology Co., Ltd. ","SCM255S-72P",255,"+3...-3",35.049999999999997,7.28,43.9,7.99,-158.04,2.6367000000000003,-0.44,1000,null,null,13.13523006439209,"poly",72,"square",1957,992,50,"aluminum","junction box MC4",24,"www.zjscsolar.com",null,null,null,null,null,{"$f":"IF($O17661=\"Sunpower Corp.\",3,(IF(OR($Q17661=\"mono\",$Q17661=\"poly\",$Q17661=\"HIT\",$Q17661=\"EFG\",$Q17661=\"mono-LGBC\"),1,IF(OR($Q17661=\"µc-Si / a-Si\",$Q17661=\"a-Si (single)\",$Q17661=\"a-Si (tandem)\",$Q17661=\"a-Si (triple)\"),3,2))))","v":1},{"$f":"IF($O17661=\"Sunpower Corp.\",3,(IF(OR($Q17661=\"mono\",$Q17661=\"poly\",$Q17661=\"HIT\",$Q17661=\"EFG\",$Q17661=\"mono-LGBC\"),1,2)))","v":1},{"$f":"IF($O17661=\"Sunpower Corp.\",3,(IF(OR($Q17661=\"mono\",$Q17661=\"poly\",$Q17661=\"HIT\",$Q17661=\"EFG\",$Q17661=\"mono-LGBC\"),1,IF(OR($Q17661=\"µc-Si / a-Si\",$Q17661=\"a-Si (single)\",$Q17661=\"a-Si (tandem)\",$Q17661=\"a-Si (triple)\"),3,2))))","v":1},0,null,null,32417,null,null,17661]
["Zhejiang SHANGCHENG Solar Technology Co., Ltd. SCM275M-24","Zhejiang SHANGCHENG Solar Technology Co., Ltd. ","SCM275M-24",275,"+3...-3",35.450000000000003,7.76,44.4,8.7200000000000006,-159.84,2.8776000000000002,-0.44,1000,null,null,14.165439605712891,"mono",72,"pseudo-square",1957,992,50,"aluminum","junction box MC4",24,"www.zjscsolar.com",null,null,null,null,null,{"$f":"IF($O17674=\"Sunpower Corp.\",3,(IF(OR($Q17674=\"mono\",$Q17674=\"poly\",$Q17674=\"HIT\",$Q17674=\"EFG\",$Q17674=\"mono-LGBC\"),1,IF(OR($Q17674=\"µc-Si / a-Si\",$Q17674=\"a-Si (single)\",$Q17674=\"a-Si (tandem)\",$Q17674=\"a-Si (triple)\"),3,2))))","v":1},{"$f":"IF($O17674=\"Sunpower Corp.\",3,(IF(OR($Q17674=\"mono\",$Q17674=\"poly\",$Q17674=\"HIT\",$Q17674=\"EFG\",$Q17674=\"mono-LGBC\"),1,2)))","v":1},{"$f":"IF($O17674=\"Sunpower Corp.\",3,(IF(OR($Q17674=\"mono\",$Q17674=\"poly\",$Q17674=\"HIT\",$Q17674=\"EFG\",$Q17674=\"mono-LGBC\"),1,IF(OR($Q17674=\"µc-Si / a-Si\",$Q17674=\"a-Si (single)\",$Q17674=\"a-Si (tandem)\",$Q17674=\"a-Si (triple)\"),3,2))))","v":1},0,null,null,28609,null,null,17674]
["Zhejiang Shinew Photoelectronic Technology Co. XH-60M-240","Zhejiang Shinew Photoelectronic Technology Co. ","XH-60M-240",240,"+3...-3",30.32,7.92,37.17,8.5399999999999991,-126.37800000000001,2.6473999999999998,-0.46,1000,null,null,14.75216007232666,"mono",60,"pseudo-square",1640,992,50,"aluminum","junction box",21,"www.xuhuigroup.net",null,null,null,null,null,{"$f":"IF($O17687=\"Sunpower Corp.\",3,(IF(OR($Q17687=\"mono\",$Q17687=\"poly\",$Q17687=\"HIT\",$Q17687=\"EFG\",$Q17687=\"mono-LGBC\"),1,IF(OR($Q17687=\"µc-Si / a-Si\",$Q17687=\"a-Si (single)\",$Q17687=\"a-Si (tandem)\",$Q17687=\"a-Si (triple)\"),3,2))))","v":1},{"$f":"IF($O17687=\"Sunpower Corp.\",3,(IF(OR($Q17687=\"mono\",$Q17687=\"poly\",$Q17687=\"HIT\",$Q17687=\"EFG\",$Q17687=\"mono-LGBC\"),1,2)))","v":1},{"$f":"IF($O17687=\"Sunpower Corp.\",3,(IF(OR($Q17687=\"mono\",$Q17687=\"poly\",$Q17687=\"HIT\",$Q17687=\"EFG\",$Q17687=\"mono-LGBC\"),1,IF(OR($Q17687=\"µc-Si / a-Si\",$Q17687=\"a-Si (single)\",$Q17687=\"a-Si (tandem)\",$Q17687=\"a-Si (triple)\"),3,2))))","v":1},0,null,null,34884,null,null,17687]
["Zhejiang Shinew Photoelectronic Technology Co. XH-SM180","Zhejiang Shinew Photoelectronic Technology Co. ","XH-SM180",180,"+3...-3",36.299999999999997,4.95,44.6,5.61,-176.61599999999999,3.3660000000000001,-0.54800000000000004,1000,null,null,14.099510192871094,"mono",72,"pseudo-square",1580,808,35,"aluminum","junction box others",15.5,"www.xuhuigroup.net",null,null,null,null,null,{"$f":"IF($O17723=\"Sunpower Corp.\",3,(IF(OR($Q17723=\"mono\",$Q17723=\"poly\",$Q17723=\"HIT\",$Q17723=\"EFG\",$Q17723=\"mono-LGBC\"),1,IF(OR($Q17723=\"µc-Si / a-Si\",$Q17723=\"a-Si (single)\",$Q17723=\"a-Si (tandem)\",$Q17723=\"a-Si (triple)\"),3,2))))","v":1},{"$f":"IF($O17723=\"Sunpower Corp.\",3,(IF(OR($Q17723=\"mono\",$Q17723=\"poly\",$Q17723=\"HIT\",$Q17723=\"EFG\",$Q17723=\"mono-LGBC\"),1,2)))","v":1},{"$f":"IF($O17723=\"Sunpower Corp.\",3,(IF(OR($Q17723=\"mono\",$Q17723=\"poly\",$Q17723=\"HIT\",$Q17723=\"EFG\",$Q17723=\"mono-LGBC\"),1,IF(OR($Q17723=\"µc-Si / a-Si\",$Q17723=\"a-Si (single)\",$Q17723=\"a-Si (tandem)\",$Q17723=\"a-Si (triple)\"),3,2))))","v":1},0,null,null,11992,null,null,17723]
["Zhejiang Shuqimeng Stream Energy Tech. Co., Ltd. SE190M-24/F","Zhejiang Shuqimeng Stream Energy Tech. Co., Ltd. ","SE190M-24/F",190,"+3...-3",36.799999999999997,5.17,45.1,5.51,-153.34,2.3693,-0.5,1000,"China","Zhejiang Shuqimeng PV",14.882820129394531,"mono",72,"pseudo-square",1580,808,35,"aluminum","junction box MC old",15.5,"www.stream-energy.com.cn",null,null,null,null,null,{"$f":"IF($O17732=\"Sunpower Corp.\",3,(IF(OR($Q17732=\"mono\",$Q17732=\"poly\",$Q17732=\"HIT\",$Q17732=\"EFG\",$Q17732=\"mono-LGBC\"),1,IF(OR($Q17732=\"µc-Si / a-Si\",$Q17732=\"a-Si (single)\",$Q17732=\"a-Si (tandem)\",$Q17732=\"a-Si (triple)\"),3,2))))","v":1},{"$f":"IF($O17732=\"Sunpower Corp.\",3,(IF(OR($Q17732=\"mono\",$Q17732=\"poly\",$Q17732=\"HIT\",$Q17732=\"EFG\",$Q17732=\"mono-LGBC\"),1,2)))","v":1},{"$f":"IF($O17732=\"Sunpower Corp.\",3,(IF(OR($Q17732=\"mono\",$Q17732=\"poly\",$Q17732=\"HIT\",$Q17732=\"EFG\",$Q17732=\"mono-LGBC\"),1,IF(OR($Q17732=\"µc-Si / a-Si\",$Q17732=\"a-Si (single)\",$Q17732=\"a-Si (tandem)\",$Q17732=\"a-Si (triple)\"),3,2))))","v":1},0,null,null,34581,null,null,17732]
["Zhejiang Shuqimeng Stream Energy Tech. Co., Ltd. SE220M-33/D","Zhejiang Shuqimeng Stream Energy Tech. Co., Ltd. ","SE220M-33/D",220,"+3...",45.4,4.8499999999999996,58.8,5.32,-123.48,3.1920000000000002,-0.45,1000,"China","Zhejiang Shuqimeng PV",13.004210472106934,"mono",96,"pseudo-square",1590,1064,50,"aluminum","junction box MC old",21,"www.stream-energy.com.cn",null,null,null,null,null,{"$f":"IF($O17748=\"Sunpower Corp.\",3,(IF(OR($Q17748=\"mono\",$Q17748=\"poly\",$Q17748=\"HIT\",$Q17748=\"EFG\",$Q17748=\"mono-LGBC\"),1,IF(OR($Q17748=\"µc-Si / a-Si\",$Q17748=\"a-Si (single)\",$Q17748=\"a-Si (tandem)\",$Q17748=\"a-Si (triple)\"),3,2))))","v":1},{"$f":"IF($O17748=\"Sunpower Corp.\",3,(IF(OR($Q17748=\"mono\",$Q17748=\"poly\",$Q17748=\"HIT\",$Q17748=\"EFG\",$Q17748=\"mono-LGBC\"),1,2)))","v":1},{"$f":"IF($O17748=\"Sunpower Corp.\",3,(IF(OR($Q17748=\"mono\",$Q17748=\"poly\",$Q17748=\"HIT\",$Q17748=\"EFG\",$Q17748=\"mono-LGBC\"),1,IF(OR($Q17748=\"µc-Si / a-Si\",$Q17748=\"a-Si (single)\",$Q17748=\"a-Si (tandem)\",$Q17748=\"a-Si (triple)\"),3,2))))","v":1},0,null,null,5171,null,null,17748]
["Zhejiang Shuqimeng Stream Energy Tech. Co., Ltd. SE260M-33/D","Zhejiang Shuqimeng Stream Energy Tech. Co., Ltd. ","SE260M-33/D",260,"+3...-3",49.7,5.24,60.4,5.56,-205.36,2.3907999999999996,-0.5,1000,"China","Zhejiang Shuqimeng PV",15.368610382080078,"mono",96,"pseudo-square",1590,1064,50,"aluminum","junction box",21,"www.stream-energy.com.cn",null,null,null,null,null,{"$f":"IF($O17777=\"Sunpower Corp.\",3,(IF(OR($Q17777=\"mono\",$Q17777=\"poly\",$Q17777=\"HIT\",$Q17777=\"EFG\",$Q17777=\"mono-LGBC\"),1,IF(OR($Q17777=\"µc-Si / a-Si\",$Q17777=\"a-Si (single)\",$Q17777=\"a-Si (tandem)\",$Q17777=\"a-Si (triple)\"),3,2))))","v":1},{"$f":"IF($O17777=\"Sunpower Corp.\",3,(IF(OR($Q17777=\"mono\",$Q17777=\"poly\",$Q17777=\"HIT\",$Q17777=\"EFG\",$Q17777=\"mono-LGBC\"),1,2)))","v":1},{"$f":"IF($O17777=\"Sunpower Corp.\",3,(IF(OR($Q17777=\"mono\",$Q17777=\"poly\",$Q17777=\"HIT\",$Q17777=\"EFG\",$Q17777=\"mono-LGBC\"),1,IF(OR($Q17777=\"µc-Si / a-Si\",$Q17777=\"a-Si (single)\",$Q17777=\"a-Si (tandem)\",$Q17777=\"a-Si (triple)\"),3,2))))","v":1},0,null,null,34593,null,null,17777]
["Zhejiang Solar Best Energy Tech. Co., Ltd SE-M180","Zhejiang Solar Best Energy Tech. Co., Ltd ","SE-M180",180,"+3...",36.14,4.9800000000000004,44.35,5.49,-150.79,2.7450000000000001,-0.45,1000,null,null,14.099510192871094,"mono",72,"pseudo-square",1580,808,45,"aluminum","junction box",15.5,null,null,null,null,null,null,{"$f":"IF($O17793=\"Sunpower Corp.\",3,(IF(OR($Q17793=\"mono\",$Q17793=\"poly\",$Q17793=\"HIT\",$Q17793=\"EFG\",$Q17793=\"mono-LGBC\"),1,IF(OR($Q17793=\"µc-Si / a-Si\",$Q17793=\"a-Si (single)\",$Q17793=\"a-Si (tandem)\",$Q17793=\"a-Si (triple)\"),3,2))))","v":1},{"$f":"IF($O17793=\"Sunpower Corp.\",3,(IF(OR($Q17793=\"mono\",$Q17793=\"poly\",$Q17793=\"HIT\",$Q17793=\"EFG\",$Q17793=\"mono-LGBC\"),1,2)))","v":1},{"$f":"IF($O17793=\"Sunpower Corp.\",3,(IF(OR($Q17793=\"mono\",$Q17793=\"poly\",$Q17793=\"HIT\",$Q17793=\"EFG\",$Q17793=\"mono-LGBC\"),1,IF(OR($Q17793=\"µc-Si / a-Si\",$Q17793=\"a-Si (single)\",$Q17793=\"a-Si (tandem)\",$Q17793=\"a-Si (triple)\"),3,2))))","v":1},0,null,null,31966,null,null,17793]
["Zhejiang Sunflower Light Energy Science & Tech. SF125x125-72-M(155)","Zhejiang Sunflower Light Energy Science & Tech. ","SF125x125-72-M(155)",155,"+2,5...-2,5",34.799999999999997,4.45,43.8,4.95,-148.91999999999999,2.97,-0.37,1000,"China","Zhejiang Sunflower (Sunowe)",12.141249656677246,"mono",72,"pseudo-square",1580,808,35,"aluminum","cable",16,"www.sunowe.com",null,null,null,null,null,{"$f":"IF($O17816=\"Sunpower Corp.\",3,(IF(OR($Q17816=\"mono\",$Q17816=\"poly\",$Q17816=\"HIT\",$Q17816=\"EFG\",$Q17816=\"mono-LGBC\"),1,IF(OR($Q17816=\"µc-Si / a-Si\",$Q17816=\"a-Si (single)\",$Q17816=\"a-Si (tandem)\",$Q17816=\"a-Si (triple)\"),3,2))))","v":1},{"$f":"IF($O17816=\"Sunpower Corp.\",3,(IF(OR($Q17816=\"mono\",$Q17816=\"poly\",$Q17816=\"HIT\",$Q17816=\"EFG\",$Q17816=\"mono-LGBC\"),1,2)))","v":1},{"$f":"IF($O17816=\"Sunpower Corp.\",3,(IF(OR($Q17816=\"mono\",$Q17816=\"poly\",$Q17816=\"HIT\",$Q17816=\"EFG\",$Q17816=\"mono-LGBC\"),1,IF(OR($Q17816=\"µc-Si / a-Si\",$Q17816=\"a-Si (single)\",$Q17816=\"a-Si (tandem)\",$Q17816=\"a-Si (triple)\"),3,2))))","v":1},0,null,null,8279,null,null,17816]
["Zhejiang Sunflower Light Energy Science & Tech. SF156x156-48-M(170)","Zhejiang Sunflower Light Energy Science & Tech. ","SF156x156-48-M(170)",170,"+...",23.75,7.16,29.55,7.57,-97.515000000000001,3.7850000000000001,-0.44,1000,"China",null,12.943429946899414,"mono",48,"pseudo-square",1324,992,40,"aluminum","junction box",15,"www.sunowe.com",null,null,null,null,null,{"$f":"IF($O17838=\"Sunpower Corp.\",3,(IF(OR($Q17838=\"mono\",$Q17838=\"poly\",$Q17838=\"HIT\",$Q17838=\"EFG\",$Q17838=\"mono-LGBC\"),1,IF(OR($Q17838=\"µc-Si / a-Si\",$Q17838=\"a-Si (single)\",$Q17838=\"a-Si (tandem)\",$Q17838=\"a-Si (triple)\"),3,2))))","v":1},{"$f":"IF($O17838=\"Sunpower Corp.\",3,(IF(OR($Q17838=\"mono\",$Q17838=\"poly\",$Q17838=\"HIT\",$Q17838=\"EFG\",$Q17838=\"mono-LGBC\"),1,2)))","v":1},{"$f":"IF($O17838=\"Sunpower Corp.\",3,(IF(OR($Q17838=\"mono\",$Q17838=\"poly\",$Q17838=\"HIT\",$Q17838=\"EFG\",$Q17838=\"mono-LGBC\"),1,IF(OR($Q17838=\"µc-Si / a-Si\",$Q17838=\"a-Si (single)\",$Q17838=\"a-Si (tandem)\",$Q17838=\"a-Si (triple)\"),3,2))))","v":1},0,null,null,32594,null,null,17838]
["Zhejiang Sunflower Light Energy Science & Tech. SF156x156-60-P(240)","Zhejiang Sunflower Light Energy Science & Tech. ","SF156x156-60-P(240)",240,"+2,5...-2,5",29.6,8.1,36.6,8.6300000000000008,-124.44,5.1779999999999999,-0.37,1000,"China","Zhejiang Sunflower (Sunowe)",14.662759780883789,"poly",60,"square",1650,992,50,"aluminum","junction box",19.5,"www.sunowe.com",null,null,null,null,null,{"$f":"IF($O17861=\"Sunpower Corp.\",3,(IF(OR($Q17861=\"mono\",$Q17861=\"poly\",$Q17861=\"HIT\",$Q17861=\"EFG\",$Q17861=\"mono-LGBC\"),1,IF(OR($Q17861=\"µc-Si / a-Si\",$Q17861=\"a-Si (single)\",$Q17861=\"a-Si (tandem)\",$Q17861=\"a-Si (triple)\"),3,2))))","v":1},{"$f":"IF($O17861=\"Sunpower Corp.\",3,(IF(OR($Q17861=\"mono\",$Q17861=\"poly\",$Q17861=\"HIT\",$Q17861=\"EFG\",$Q17861=\"mono-LGBC\"),1,2)))","v":1},{"$f":"IF($O17861=\"Sunpower Corp.\",3,(IF(OR($Q17861=\"mono\",$Q17861=\"poly\",$Q17861=\"HIT\",$Q17861=\"EFG\",$Q17861=\"mono-LGBC\"),1,IF(OR($Q17861=\"µc-Si / a-Si\",$Q17861=\"a-Si (single)\",$Q17861=\"a-Si (tandem)\",$Q17861=\"a-Si (triple)\"),3,2))))","v":1},0,null,null,19448,null,null,17861]
["Zhejiang Sunflower Light Energy Science & Tech. SF156x156-72-M(255)","Zhejiang Sunflower Light Energy Science & Tech. ","SF156x156-72-M(255)",255,"+2,5...-2,5",35.049999999999997,7.28,43.65,7.69,-144.04499999999999,3.8450000000000002,-0.44,1000,"China","Zhejiang Sunflower (Sunowe)",13.075099945068359,"mono",72,"pseudo-square",1966,992,50,"aluminum","junction box",23,"www.sunowe.com",null,null,null,null,null,{"$f":"IF($O17863=\"Sunpower Corp.\",3,(IF(OR($Q17863=\"mono\",$Q17863=\"poly\",$Q17863=\"HIT\",$Q17863=\"EFG\",$Q17863=\"mono-LGBC\"),1,IF(OR($Q17863=\"µc-Si / a-Si\",$Q17863=\"a-Si (single)\",$Q17863=\"a-Si (tandem)\",$Q17863=\"a-Si (triple)\"),3,2))))","v":1},{"$f":"IF($O17863=\"Sunpower Corp.\",3,(IF(OR($Q17863=\"mono\",$Q17863=\"poly\",$Q17863=\"HIT\",$Q17863=\"EFG\",$Q17863=\"mono-LGBC\"),1,2)))","v":1},{"$f":"IF($O17863=\"Sunpower Corp.\",3,(IF(OR($Q17863=\"mono\",$Q17863=\"poly\",$Q17863=\"HIT\",$Q17863=\"EFG\",$Q17863=\"mono-LGBC\"),1,IF(OR($Q17863=\"µc-Si / a-Si\",$Q17863=\"a-Si (single)\",$Q17863=\"a-Si (tandem)\",$Q17863=\"a-Si (triple)\"),3,2))))","v":1},0,null,null,26958,null,null,17863]
["Zhejiang SunMaster Solar Energy Co., Ltd. SM115P","Zhejiang SunMaster Solar Energy Co., Ltd. ","SM115P",115,"+3...-3",17.2,6.68,21.75,7.55,-73.95,1.2835000000000001,-0.48,null,null,null,11.478969573974609,"poly",36,"pseudo-square",1482,676,40,"aluminum","junction box",12,"www.chinasunmaster.com",null,null,null,null,null,{"$f":"IF($O17887=\"Sunpower Corp.\",3,(IF(OR($Q17887=\"mono\",$Q17887=\"poly\",$Q17887=\"HIT\",$Q17887=\"EFG\",$Q17887=\"mono-LGBC\"),1,IF(OR($Q17887=\"µc-Si / a-Si\",$Q17887=\"a-Si (single)\",$Q17887=\"a-Si (tandem)\",$Q17887=\"a-Si (triple)\"),3,2))))","v":1},{"$f":"IF($O17887=\"Sunpower Corp.\",3,(IF(OR($Q17887=\"mono\",$Q17887=\"poly\",$Q17887=\"HIT\",$Q17887=\"EFG\",$Q17887=\"mono-LGBC\"),1,2)))","v":1},{"$f":"IF($O17887=\"Sunpower Corp.\",3,(IF(OR($Q17887=\"mono\",$Q17887=\"poly\",$Q17887=\"HIT\",$Q17887=\"EFG\",$Q17887=\"mono-LGBC\"),1,IF(OR($Q17887=\"µc-Si / a-Si\",$Q17887=\"a-Si (single)\",$Q17887=\"a-Si (tandem)\",$Q17887=\"a-Si (triple)\"),3,2))))","v":1},0,null,null,17054,null,null,17887]
["Zhejiang SunMaster Solar Energy Co., Ltd. SM185M","Zhejiang SunMaster Solar Energy Co., Ltd. ","SM185M",185,"+3...-3",36.5,5.07,43.7,5.47,-148.58000000000001,0.92989999999999995,-0.48,1000,null,null,14.49116039276123,"mono",72,"pseudo-square",1580,808,40,"aluminum","junction box",16,"www.chinasunmaster.com",null,null,null,null,null,{"$f":"IF($O17912=\"Sunpower Corp.\",3,(IF(OR($Q17912=\"mono\",$Q17912=\"poly\",$Q17912=\"HIT\",$Q17912=\"EFG\",$Q17912=\"mono-LGBC\"),1,IF(OR($Q17912=\"µc-Si / a-Si\",$Q17912=\"a-Si (single)\",$Q17912=\"a-Si (tandem)\",$Q17912=\"a-Si (triple)\"),3,2))))","v":1},{"$f":"IF($O17912=\"Sunpower Corp.\",3,(IF(OR($Q17912=\"mono\",$Q17912=\"poly\",$Q17912=\"HIT\",$Q17912=\"EFG\",$Q17912=\"mono-LGBC\"),1,2)))","v":1},{"$f":"IF($O17912=\"Sunpower Corp.\",3,(IF(OR($Q17912=\"mono\",$Q17912=\"poly\",$Q17912=\"HIT\",$Q17912=\"EFG\",$Q17912=\"mono-LGBC\"),1,IF(OR($Q17912=\"µc-Si / a-Si\",$Q17912=\"a-Si (single)\",$Q17912=\"a-Si (tandem)\",$Q17912=\"a-Si (triple)\"),3,2))))","v":1},0,null,null,17109,null,null,17912]
["Zhejiang SunMaster Solar Energy Co., Ltd. SM225M","Zhejiang SunMaster Solar Energy Co., Ltd. ","SM225M",225,"+3...-3",47.9,4.58,58.6,5.16,-199.24,0.87720000000000009,-0.48,1000,null,null,13.22367000579834,"mono",96,"pseudo-square",1574,1081,50,"aluminum","junction box",21,"www.chinasunmaster.com",null,null,null,null,null,{"$f":"IF($O17932=\"Sunpower Corp.\",3,(IF(OR($Q17932=\"mono\",$Q17932=\"poly\",$Q17932=\"HIT\",$Q17932=\"EFG\",$Q17932=\"mono-LGBC\"),1,IF(OR($Q17932=\"µc-Si / a-Si\",$Q17932=\"a-Si (single)\",$Q17932=\"a-Si (tandem)\",$Q17932=\"a-Si (triple)\"),3,2))))","v":1},{"$f":"IF($O17932=\"Sunpower Corp.\",3,(IF(OR($Q17932=\"mono\",$Q17932=\"poly\",$Q17932=\"HIT\",$Q17932=\"EFG\",$Q17932=\"mono-LGBC\"),1,2)))","v":1},{"$f":"IF($O17932=\"Sunpower Corp.\",3,(IF(OR($Q17932=\"mono\",$Q17932=\"poly\",$Q17932=\"HIT\",$Q17932=\"EFG\",$Q17932=\"mono-LGBC\"),1,IF(OR($Q17932=\"µc-Si / a-Si\",$Q17932=\"a-Si (single)\",$Q17932=\"a-Si (tandem)\",$Q17932=\"a-Si (triple)\"),3,2))))","v":1},0,null,null,17112,null,null,17932]
["Zhejiang Sunvalley Energy Application Technology SVM4936 - 90 Series (90W)","Zhejiang Sunvalley Energy Application Technology ","SVM4936 - 90 Series (90W)",90,"+5...-5",17.7,5.14,22.3,5.81,-78.05,4.1831999999999994,-0.47,1000,null,null,13.888890266418457,"mono",36,"pseudo-square",1200,540,35,null,"junction box",8,"www.sunvalleypv.com",null,null,null,null,null,{"$f":"IF($O17957=\"Sunpower Corp.\",3,(IF(OR($Q17957=\"mono\",$Q17957=\"poly\",$Q17957=\"HIT\",$Q17957=\"EFG\",$Q17957=\"mono-LGBC\"),1,IF(OR($Q17957=\"µc-Si / a-Si\",$Q17957=\"a-Si (single)\",$Q17957=\"a-Si (tandem)\",$Q17957=\"a-Si (triple)\"),3,2))))","v":1},{"$f":"IF($O17957=\"Sunpower Corp.\",3,(IF(OR($Q17957=\"mono\",$Q17957=\"poly\",$Q17957=\"HIT\",$Q17957=\"EFG\",$Q17957=\"mono-LGBC\"),1,2)))","v":1},{"$f":"IF($O17957=\"Sunpower Corp.\",3,(IF(OR($Q17957=\"mono\",$Q17957=\"poly\",$Q17957=\"HIT\",$Q17957=\"EFG\",$Q17957=\"mono-LGBC\"),1,IF(OR($Q17957=\"µc-Si / a-Si\",$Q17957=\"a-Si (single)\",$Q17957=\"a-Si (tandem)\",$Q17957=\"a-Si (triple)\"),3,2))))","v":1},0,null,null,12076,null,null,17957]
["Zhejiang Sunvalley Energy Application Technology SVM5672 - 185","Zhejiang Sunvalley Energy Application Technology ","SVM5672 - 185",185,"+5...-5",36.200000000000003,5.1100000000000003,44.7,5.22,-156.44999999999999,3.7583999999999995,-0.47,1000,null,null,14.49116039276123,"mono",72,"pseudo-square",1580,808,46,null,"junction box",16,"www.sunvalleypv.com",null,null,null,null,null,{"$f":"IF($O17971=\"Sunpower Corp.\",3,(IF(OR($Q17971=\"mono\",$Q17971=\"poly\",$Q17971=\"HIT\",$Q17971=\"EFG\",$Q17971=\"mono-LGBC\"),1,IF(OR($Q17971=\"µc-Si / a-Si\",$Q17971=\"a-Si (single)\",$Q17971=\"a-Si (tandem)\",$Q17971=\"a-Si (triple)\"),3,2))))","v":1},{"$f":"IF($O17971=\"Sunpower Corp.\",3,(IF(OR($Q17971=\"mono\",$Q17971=\"poly\",$Q17971=\"HIT\",$Q17971=\"EFG\",$Q17971=\"mono-LGBC\"),1,2)))","v":1},{"$f":"IF($O17971=\"Sunpower Corp.\",3,(IF(OR($Q17971=\"mono\",$Q17971=\"poly\",$Q17971=\"HIT\",$Q17971=\"EFG\",$Q17971=\"mono-LGBC\"),1,IF(OR($Q17971=\"µc-Si / a-Si\",$Q17971=\"a-Si (single)\",$Q17971=\"a-Si (tandem)\",$Q17971=\"a-Si (triple)\"),3,2))))","v":1},0,null,null,12090,null,null,17971]
["Zhejiang Topoint Holding Group JTM-M 175W (72)","Zhejiang Topoint Holding Group ","JTM-M 175W (72)",175,"+5...-5",35.5,4.93,42.6,5.52,-144.84,2.76,-0.5,1000,null,null,13.707859992980957,"mono",72,"pseudo-square",1580,808,45,"aluminum","junction box",15.5,"www.topointsolar.com",null,null,null,null,null,{"$f":"IF($O17982=\"Sunpower Corp.\",3,(IF(OR($Q17982=\"mono\",$Q17982=\"poly\",$Q17982=\"HIT\",$Q17982=\"EFG\",$Q17982=\"mono-LGBC\"),1,IF(OR($Q17982=\"µc-Si / a-Si\",$Q17982=\"a-Si (single)\",$Q17982=\"a-Si (tandem)\",$Q17982=\"a-Si (triple)\"),3,2))))","v":1},{"$f":"IF($O17982=\"Sunpower Corp.\",3,(IF(OR($Q17982=\"mono\",$Q17982=\"poly\",$Q17982=\"HIT\",$Q17982=\"EFG\",$Q17982=\"mono-LGBC\"),1,2)))","v":1},{"$f":"IF($O17982=\"Sunpower Corp.\",3,(IF(OR($Q17982=\"mono\",$Q17982=\"poly\",$Q17982=\"HIT\",$Q17982=\"EFG\",$Q17982=\"mono-LGBC\"),1,IF(OR($Q17982=\"µc-Si / a-Si\",$Q17982=\"a-Si (single)\",$Q17982=\"a-Si (tandem)\",$Q17982=\"a-Si (triple)\"),3,2))))","v":1},0,null,null,18724,null,null,17982]
["Zhejiang Xiongtai PV Technology Co., Ltd. XT-220P54","Zhejiang Xiongtai PV Technology Co., Ltd. ","XT-220P54",220,"+3...-3",27.1,8.1199999999999992,34.06,8.48,-119.21,3.3920000000000003,-0.5,1000,"China",null,14.964520454406738,"poly",54,"square",1482,992,45,"aluminum","junction box",null,"www.xiongtaisolar.com",null,null,null,null,null,{"$f":"IF($O18016=\"Sunpower Corp.\",3,(IF(OR($Q18016=\"mono\",$Q18016=\"poly\",$Q18016=\"HIT\",$Q18016=\"EFG\",$Q18016=\"mono-LGBC\"),1,IF(OR($Q18016=\"µc-Si / a-Si\",$Q18016=\"a-Si (single)\",$Q18016=\"a-Si (tandem)\",$Q18016=\"a-Si (triple)\"),3,2))))","v":1},{"$f":"IF($O18016=\"Sunpower Corp.\",3,(IF(OR($Q18016=\"mono\",$Q18016=\"poly\",$Q18016=\"HIT\",$Q18016=\"EFG\",$Q18016=\"mono-LGBC\"),1,2)))","v":1},{"$f":"IF($O18016=\"Sunpower Corp.\",3,(IF(OR($Q18016=\"mono\",$Q18016=\"poly\",$Q18016=\"HIT\",$Q18016=\"EFG\",$Q18016=\"mono-LGBC\"),1,IF(OR($Q18016=\"µc-Si / a-Si\",$Q18016=\"a-Si (single)\",$Q18016=\"a-Si (tandem)\",$Q18016=\"a-Si (triple)\"),3,2))))","v":1},0,null,null,30087,null,null,18016]
["Zhejiang Xiongtai PV Technology Co., Ltd. XT-260P72","Zhejiang Xiongtai PV Technology Co., Ltd. ","XT-260P72",260,"+3...-3",34.32,7.58,44,8.1999999999999993,-154,3.28,-0.5,1000,"China",null,13.399629592895508,"poly",72,"square",1956,992,45,"aluminum","junction box",null,"www.xiongtaisolar.com",null,null,null,null,null,{"$f":"IF($O18027=\"Sunpower Corp.\",3,(IF(OR($Q18027=\"mono\",$Q18027=\"poly\",$Q18027=\"HIT\",$Q18027=\"EFG\",$Q18027=\"mono-LGBC\"),1,IF(OR($Q18027=\"µc-Si / a-Si\",$Q18027=\"a-Si (single)\",$Q18027=\"a-Si (tandem)\",$Q18027=\"a-Si (triple)\"),3,2))))","v":1},{"$f":"IF($O18027=\"Sunpower Corp.\",3,(IF(OR($Q18027=\"mono\",$Q18027=\"poly\",$Q18027=\"HIT\",$Q18027=\"EFG\",$Q18027=\"mono-LGBC\"),1,2)))","v":1},{"$f":"IF($O18027=\"Sunpower Corp.\",3,(IF(OR($Q18027=\"mono\",$Q18027=\"poly\",$Q18027=\"HIT\",$Q18027=\"EFG\",$Q18027=\"mono-LGBC\"),1,IF(OR($Q18027=\"µc-Si / a-Si\",$Q18027=\"a-Si (single)\",$Q18027=\"a-Si (tandem)\",$Q18027=\"a-Si (triple)\"),3,2))))","v":1},0,null,null,30096,null,null,18027]
["Zhejiang ZG-Cells Co. Ltd. ZG-175M","Zhejiang ZG-Cells Co. Ltd. ","ZG-175M",175,"+3...-1",35.5,4.93,43.6,5.3,-151.72799999999998,1.643,-0.45,1000,"China",null,13.707859992980957,"mono",72,"pseudo-square",1580,808,40,"aluminum","junction box",15.5,"www.zg-cells.com",null,null,null,null,null,{"$f":"IF($O18042=\"Sunpower Corp.\",3,(IF(OR($Q18042=\"mono\",$Q18042=\"poly\",$Q18042=\"HIT\",$Q18042=\"EFG\",$Q18042=\"mono-LGBC\"),1,IF(OR($Q18042=\"µc-Si / a-Si\",$Q18042=\"a-Si (single)\",$Q18042=\"a-Si (tandem)\",$Q18042=\"a-Si (triple)\"),3,2))))","v":1},{"$f":"IF($O18042=\"Sunpower Corp.\",3,(IF(OR($Q18042=\"mono\",$Q18042=\"poly\",$Q18042=\"HIT\",$Q18042=\"EFG\",$Q18042=\"mono-LGBC\"),1,2)))","v":1},{"$f":"IF($O18042=\"Sunpower Corp.\",3,(IF(OR($Q18042=\"mono\",$Q18042=\"poly\",$Q18042=\"HIT\",$Q18042=\"EFG\",$Q18042=\"mono-LGBC\"),1,IF(OR($Q18042=\"µc-Si / a-Si\",$Q18042=\"a-Si (single)\",$Q18042=\"a-Si (tandem)\",$Q18042=\"a-Si (triple)\"),3,2))))","v":1},0,null,null,21039,null,null,18042]
["Zhong Yi New Energy Co. Ltd. ZY140P-36","Zhong Yi New Energy Co. Ltd. ","ZY140P-36",140,"+3...-3",18.3,7.65,22.7,8.26,-77.180000000000007,3.7169999999999996,-0.47,null,"China",null,14.118599891662598,"poly",36,"square",1480,670,45,"aluminum","junction box",12,"www.zhongyisolar.com",null,null,null,null,null,{"$f":"IF($O18076=\"Sunpower Corp.\",3,(IF(OR($Q18076=\"mono\",$Q18076=\"poly\",$Q18076=\"HIT\",$Q18076=\"EFG\",$Q18076=\"mono-LGBC\"),1,IF(OR($Q18076=\"µc-Si / a-Si\",$Q18076=\"a-Si (single)\",$Q18076=\"a-Si (tandem)\",$Q18076=\"a-Si (triple)\"),3,2))))","v":1},{"$f":"IF($O18076=\"Sunpower Corp.\",3,(IF(OR($Q18076=\"mono\",$Q18076=\"poly\",$Q18076=\"HIT\",$Q18076=\"EFG\",$Q18076=\"mono-LGBC\"),1,2)))","v":1},{"$f":"IF($O18076=\"Sunpower Corp.\",3,(IF(OR($Q18076=\"mono\",$Q18076=\"poly\",$Q18076=\"HIT\",$Q18076=\"EFG\",$Q18076=\"mono-LGBC\"),1,IF(OR($Q18076=\"µc-Si / a-Si\",$Q18076=\"a-Si (single)\",$Q18076=\"a-Si (tandem)\",$Q18076=\"a-Si (triple)\"),3,2))))","v":1},0,null,null,34201,null,null,18076]
["Zhong Yi New Energy Co. Ltd. ZY145P-36","Zhong Yi New Energy Co. Ltd. ","ZY145P-36",145,"+3...-3",18.600000000000001,7.81,23.1,8.44,-78.540000000000006,3.7979999999999996,-0.47,null,"China",null,14.622830390930176,"poly",36,"square",1480,670,45,"aluminum","junction box",12,"www.zhongyisolar.com",null,null,null,null,null,{"$f":"IF($O18077=\"Sunpower Corp.\",3,(IF(OR($Q18077=\"mono\",$Q18077=\"poly\",$Q18077=\"HIT\",$Q18077=\"EFG\",$Q18077=\"mono-LGBC\"),1,IF(OR($Q18077=\"µc-Si / a-Si\",$Q18077=\"a-Si (single)\",$Q18077=\"a-Si (tandem)\",$Q18077=\"a-Si (triple)\"),3,2))))","v":1},{"$f":"IF($O18077=\"Sunpower Corp.\",3,(IF(OR($Q18077=\"mono\",$Q18077=\"poly\",$Q18077=\"HIT\",$Q18077=\"EFG\",$Q18077=\"mono-LGBC\"),1,2)))","v":1},{"$f":"IF($O18077=\"Sunpower Corp.\",3,(IF(OR($Q18077=\"mono\",$Q18077=\"poly\",$Q18077=\"HIT\",$Q18077=\"EFG\",$Q18077=\"mono-LGBC\"),1,IF(OR($Q18077=\"µc-Si / a-Si\",$Q18077=\"a-Si (single)\",$Q18077=\"a-Si (tandem)\",$Q18077=\"a-Si (triple)\"),3,2))))","v":1},0,null,null,34202,null,null,18077]
["Zhong Yi New Energy Co. Ltd. ZY260M-72","Zhong Yi New Energy Co. Ltd. ","ZY260M-72",260,"+3...-3",35.299999999999997,7.37,43.8,7.96,-148.91999999999999,3.5819999999999999,-0.47,null,"China",null,13.392780303955078,"mono",72,"pseudo-square",1957,992,50,"aluminum","junction box",22.5,"www.zhongyisolar.com",null,null,null,null,null,{"$f":"IF($O18107=\"Sunpower Corp.\",3,(IF(OR($Q18107=\"mono\",$Q18107=\"poly\",$Q18107=\"HIT\",$Q18107=\"EFG\",$Q18107=\"mono-LGBC\"),1,IF(OR($Q18107=\"µc-Si / a-Si\",$Q18107=\"a-Si (single)\",$Q18107=\"a-Si (tandem)\",$Q18107=\"a-Si (triple)\"),3,2))))","v":1},{"$f":"IF($O18107=\"Sunpower Corp.\",3,(IF(OR($Q18107=\"mono\",$Q18107=\"poly\",$Q18107=\"HIT\",$Q18107=\"EFG\",$Q18107=\"mono-LGBC\"),1,2)))","v":1},{"$f":"IF($O18107=\"Sunpower Corp.\",3,(IF(OR($Q18107=\"mono\",$Q18107=\"poly\",$Q18107=\"HIT\",$Q18107=\"EFG\",$Q18107=\"mono-LGBC\"),1,IF(OR($Q18107=\"µc-Si / a-Si\",$Q18107=\"a-Si (single)\",$Q18107=\"a-Si (tandem)\",$Q18107=\"a-Si (triple)\"),3,2))))","v":1},0,null,null,34180,null,null,18107]
["Zillion Solar Co., Ltd. YZM190","Zillion Solar Co., Ltd. ","YZM190",190,"+3...-3",37.5,5.0999999999999996,46.3,5.73,-162.05000000000001,2.2920000000000003,-0.48,1000,null,null,14.882820129394531,"mono",72,"pseudo-square",1580,808,35,"aluminum","junction box",15.5,"www.zillionsolar.com",null,null,null,null,null,{"$f":"IF($O18126=\"Sunpower Corp.\",3,(IF(OR($Q18126=\"mono\",$Q18126=\"poly\",$Q18126=\"HIT\",$Q18126=\"EFG\",$Q18126=\"mono-LGBC\"),1,IF(OR($Q18126=\"µc-Si / a-Si\",$Q18126=\"a-Si (single)\",$Q18126=\"a-Si (tandem)\",$Q18126=\"a-Si (triple)\"),3,2))))","v":1},{"$f":"IF($O18126=\"Sunpower Corp.\",3,(IF(OR($Q18126=\"mono\",$Q18126=\"poly\",$Q18126=\"HIT\",$Q18126=\"EFG\",$Q18126=\"mono-LGBC\"),1,2)))","v":1},{"$f":"IF($O18126=\"Sunpower Corp.\",3,(IF(OR($Q18126=\"mono\",$Q18126=\"poly\",$Q18126=\"HIT\",$Q18126=\"EFG\",$Q18126=\"mono-LGBC\"),1,IF(OR($Q18126=\"µc-Si / a-Si\",$Q18126=\"a-Si (single)\",$Q18126=\"a-Si (tandem)\",$Q18126=\"a-Si (triple)\"),3,2))))","v":1},0,null,null,32350,null,null,18126]
["Zillion Solar Co., Ltd. YZP240","Zillion Solar Co., Ltd. ","YZP240",240,"+3...-3",30.3,7.94,37.200000000000003,8.33,-130.19999999999999,3.3320000000000003,-0.48,1000,null,null,14.75216007232666,"poly",60,"square",1640,992,42,"aluminum","junction box",19.5,"www.zillionsolar.com",null,null,null,null,null,{"$f":"IF($O18152=\"Sunpower Corp.\",3,(IF(OR($Q18152=\"mono\",$Q18152=\"poly\",$Q18152=\"HIT\",$Q18152=\"EFG\",$Q18152=\"mono-LGBC\"),1,IF(OR($Q18152=\"µc-Si / a-Si\",$Q18152=\"a-Si (single)\",$Q18152=\"a-Si (tandem)\",$Q18152=\"a-Si (triple)\"),3,2))))","v":1},{"$f":"IF($O18152=\"Sunpower Corp.\",3,(IF(OR($Q18152=\"mono\",$Q18152=\"poly\",$Q18152=\"HIT\",$Q18152=\"EFG\",$Q18152=\"mono-LGBC\"),1,2)))","v":1},{"$f":"IF($O18152=\"Sunpower Corp.\",3,(IF(OR($Q18152=\"mono\",$Q18152=\"poly\",$Q18152=\"HIT\",$Q18152=\"EFG\",$Q18152=\"mono-LGBC\"),1,IF(OR($Q18152=\"µc-Si / a-Si\",$Q18152=\"a-Si (single)\",$Q18152=\"a-Si (tandem)\",$Q18152=\"a-Si (triple)\"),3,2))))","v":1},0,null,null,32375,null,null,18152]
["ZNSHINE PV-Tech Co., Ltd. ZX190(36)MS","ZNSHINE PV-Tech Co., Ltd. ","ZX190(36)MS",190,"+3...-3",36.6,5.19,44.8,5.52,-130.0992,1.3303199999999999,-0.41830000000000001,1000,null,null,14.882820129394531,"mono",72,"pseudo-square",1580,808,45,"aluminum","junction box",16,"www.znshinesolar.com",null,null,null,null,null,{"$f":"IF($O18171=\"Sunpower Corp.\",3,(IF(OR($Q18171=\"mono\",$Q18171=\"poly\",$Q18171=\"HIT\",$Q18171=\"EFG\",$Q18171=\"mono-LGBC\"),1,IF(OR($Q18171=\"µc-Si / a-Si\",$Q18171=\"a-Si (single)\",$Q18171=\"a-Si (tandem)\",$Q18171=\"a-Si (triple)\"),3,2))))","v":1},{"$f":"IF($O18171=\"Sunpower Corp.\",3,(IF(OR($Q18171=\"mono\",$Q18171=\"poly\",$Q18171=\"HIT\",$Q18171=\"EFG\",$Q18171=\"mono-LGBC\"),1,2)))","v":1},{"$f":"IF($O18171=\"Sunpower Corp.\",3,(IF(OR($Q18171=\"mono\",$Q18171=\"poly\",$Q18171=\"HIT\",$Q18171=\"EFG\",$Q18171=\"mono-LGBC\"),1,IF(OR($Q18171=\"µc-Si / a-Si\",$Q18171=\"a-Si (single)\",$Q18171=\"a-Si (tandem)\",$Q18171=\"a-Si (triple)\"),3,2))))","v":1},0,null,null,31522,null,null,18171]
["ZNSHINE PV-Tech Co., Ltd. ZX210(30)P","ZNSHINE PV-Tech Co., Ltd. ","ZX210(30)P",210,"+3...-3",29,7.24,36.25,7.82,-123.25,2.7370000000000001,-0.47,1000,"China",null,12.829910278320313,"poly",60,"square",1650,992,50,"aluminum","junction box MC4",21.5,"www,znshinesolar.com",null,null,null,null,null,{"$f":"IF($O18178=\"Sunpower Corp.\",3,(IF(OR($Q18178=\"mono\",$Q18178=\"poly\",$Q18178=\"HIT\",$Q18178=\"EFG\",$Q18178=\"mono-LGBC\"),1,IF(OR($Q18178=\"µc-Si / a-Si\",$Q18178=\"a-Si (single)\",$Q18178=\"a-Si (tandem)\",$Q18178=\"a-Si (triple)\"),3,2))))","v":1},{"$f":"IF($O18178=\"Sunpower Corp.\",3,(IF(OR($Q18178=\"mono\",$Q18178=\"poly\",$Q18178=\"HIT\",$Q18178=\"EFG\",$Q18178=\"mono-LGBC\"),1,2)))","v":1},{"$f":"IF($O18178=\"Sunpower Corp.\",3,(IF(OR($Q18178=\"mono\",$Q18178=\"poly\",$Q18178=\"HIT\",$Q18178=\"EFG\",$Q18178=\"mono-LGBC\"),1,IF(OR($Q18178=\"µc-Si / a-Si\",$Q18178=\"a-Si (single)\",$Q18178=\"a-Si (tandem)\",$Q18178=\"a-Si (triple)\"),3,2))))","v":1},0,null,null,26172,null,null,18178]
["ZNSHINE PV-Tech Co., Ltd. ZX245(48)M","ZNSHINE PV-Tech Co., Ltd. ","ZX245(48)M",245,"+3...-3",48.7,5.03,60.88,5.43,-206.99200000000005,1.9005000000000003,-0.47,1000,"China","Znshine PV-Tech",14.376669883728027,"mono",96,"pseudo-square",1575,1082,45,"aluminum","junction box MC4",22,"www.znshinesolar.com",null,null,null,null,null,{"$f":"IF($O18196=\"Sunpower Corp.\",3,(IF(OR($Q18196=\"mono\",$Q18196=\"poly\",$Q18196=\"HIT\",$Q18196=\"EFG\",$Q18196=\"mono-LGBC\"),1,IF(OR($Q18196=\"µc-Si / a-Si\",$Q18196=\"a-Si (single)\",$Q18196=\"a-Si (tandem)\",$Q18196=\"a-Si (triple)\"),3,2))))","v":1},{"$f":"IF($O18196=\"Sunpower Corp.\",3,(IF(OR($Q18196=\"mono\",$Q18196=\"poly\",$Q18196=\"HIT\",$Q18196=\"EFG\",$Q18196=\"mono-LGBC\"),1,2)))","v":1},{"$f":"IF($O18196=\"Sunpower Corp.\",3,(IF(OR($Q18196=\"mono\",$Q18196=\"poly\",$Q18196=\"HIT\",$Q18196=\"EFG\",$Q18196=\"mono-LGBC\"),1,IF(OR($Q18196=\"µc-Si / a-Si\",$Q18196=\"a-Si (single)\",$Q18196=\"a-Si (tandem)\",$Q18196=\"a-Si (triple)\"),3,2))))","v":1},0,null,null,26168,null,null,18196]
["ZNSHINE PV-Tech Co., Ltd. ZX85(17.8)M","ZNSHINE PV-Tech Co., Ltd. ","ZX85(17.8)M",85,"+3...-3",17.8,4.78,21.8,5.18,-74.12,1.8130000000000002,-0.47,1000,"China","Znshine PV-Tech",13.147820472717285,"mono",36,"pseudo-square",1195,541,35,"aluminum","junction box MC4",7.5,"www.znshinesolar.com","-","-","-","-","-",{"$f":"IF($O18217=\"Sunpower Corp.\",3,(IF(OR($Q18217=\"mono\",$Q18217=\"poly\",$Q18217=\"HIT\",$Q18217=\"EFG\",$Q18217=\"mono-LGBC\"),1,IF(OR($Q18217=\"µc-Si / a-Si\",$Q18217=\"a-Si (single)\",$Q18217=\"a-Si (tandem)\",$Q18217=\"a-Si (triple)\"),3,2))))","v":1},{"$f":"IF($O18217=\"Sunpower Corp.\",3,(IF(OR($Q18217=\"mono\",$Q18217=\"poly\",$Q18217=\"HIT\",$Q18217=\"EFG\",$Q18217=\"mono-LGBC\"),1,2)))","v":1},{"$f":"IF($O18217=\"Sunpower Corp.\",3,(IF(OR($Q18217=\"mono\",$Q18217=\"poly\",$Q18217=\"HIT\",$Q18217=\"EFG\",$Q18217=\"mono-LGBC\"),1,IF(OR($Q18217=\"µc-Si / a-Si\",$Q18217=\"a-Si (single)\",$Q18217=\"a-Si (tandem)\",$Q18217=\"a-Si (triple)\"),3,2))))","v":1},0,null,null,26150]
[]
[]
[]
[]
[]
[]
[]
[]
[]
[]
[]
[]
[]
[]
[]
[]
[]
[]
[]
[]
[]
[]
[]
[]
[]
[]
[]
[]
[]
[]
[]
[]
[]
[]
[]
[]
[]
[]
[]
[]
[]
[]
[]
[]
[]
[]
[]
[]
[]
[]
[]
[]
[]
[]
[]
[]
[]
[]
[]
[]
[]
[]
[]
[]
[]
[]
[]
[]
[]
[]
[]
[]
[]
[]
[]
[]
[]
[]
[]
[]
[]
[]
[]
[]
[]
[]
[]
[]
[]
[]
[]
[]
[]
[]
[null,"Akhter Group PLC ",206]
[null,"Arinna AG ",776]
[null,"AxSun",1109]
[null,"BatiSolar ",1269]
[null,"Borun New Energy S&T Co., Ltd ",1654]
[null,"CN Solar Technology Co., Ltd. ",2842]
[null,"DeLimes Energy GmbH ",3445]
[null,"E environment-energy GmbH ",3748]
[null,"Ertex Solar GmbH ",4428]
[null,"Felicioni Energy s.r.l. ",4715]
[null,"Galaxy Energy GmbH ",5088]
[null,"Hanwha SolarOne ",5665]
[null,"Heliotech srl ",5907]
[null,"Jiangsu Runner PV Technology Co., Ltd. ",7033]
[null,"Jiangyin Jetion Science & Technology Co.,Ltd. ",7424]
[null,"Kingfirst Solar Tech Group ",7991]
[null,"Lucky Power Technology Co., Ltd. ",8803]
[null,"Moser Baer ",9155]
[null,"NENGLI CLEAN ENERGY INDUSTRY LTD ",9249]
[null,"Only Best Industrial Limited ",9775]
[null,"Praxia Energy ",10226]
[null,"Risen Energy Co., Ltd. ",10767]
[null,"SES 21 AG ",11326]
[null,"Shanghai Alex Solar Energy Science & Technology ",11428]
[null,"Shanghai BiaoDi Industry Co., Ltd. ",11465]
[null,"Shanghai Chaori Solar Energy ",11494]
[null,"Shanghai Juguang New Energy PV Techn. Co., Ltd. ",11508]
[null,"Shanghai Pubsolar Co., Ltd. ",11517]
[null,"Shanghai Solar Energy S&T Co. Ltd ",11546]
[null,"Shanghai ST Solar CO., Ltd ",11615]
[null,"Shanghai Sunsys Solar Co. Ltd. ",11641]
[null,"Shanghai Topsolar Green Energy Co., Ltd. ",11688]
[null,"Shanghai WoNeng Solar Energy ",11724]
[null,"Shanghai Zhaokun Photovoltaic Technology Co., Ltd. ",11782]
[null,"Shanxi Tian Neng Technology Co., Ltd ",11786]
[null,"Sharp Corporation ",11853]
[null,"Shenzhen Suoyang New Energy Co., Ltd. ",11863]
[null,"Shenzhen Topray Solar Co. Ltd. ",11891]
[null,"Shenzhen Xinhonghua Solar Energy Co., Ltd. ",11894]
[null,"SHG GmbH ",11906]
[null,"Shinsung Holdings Co., Ltd. ",11946]
[null,"Shurjo Energy Private Limited ",11961]
[null,"Signet Solar Inc. ",11982]
[null,"SILCIO S.A. ",11992]
[null,"Silfab S.p.A. ",12018]
[null,"Siliken, SL ",12099]
[null,"Silkon Solar Srl ",12108]
[null,"Sillia énergie ",12129]
[null,"Sinodeu New Energy Co., Ltd. ",12159]
[null,"Sinonar Solar Corp. ",12160]
[null,"sinoPartner GmbH ",12170]
[null,"Sinosun Solar Energy Co., Ltd. ",12183]
[null,"SINTEK Photronic Corp. ",12192]
[null,"SKY GLOBAL SOLAR, S.A. ",12197]
[null,"Skybasesolar GmbH ",12229]
[null,"SL Hanseatic GmbH ",12244]
[null,"Smile Solar Energy Co.,Ltd. ",12291]
[null,"Solaico ",12300]
[null,"Solar Cells Hellas, S.A. ",12318]
[null,"Solar Cells Ltd ",12319]
[null,"Solar Direkt GmbH ",12344]
[null,"Solar EnerTech (Shanghai) Co., Ltd. ",12360]
[null,"Solar Frontier Ltd. ",12381]
[null,"Solar Green Energy S.p.A. ",12386]
[null,"Solar Integrated Technologies ",12391]
[null,"Solar Panels Plus, LLC ",12392]
[null,"Solar Plus SA ",12393]
[null,"Solar Power Inc. (Headquarters) ",12435]
[null,"Solar Power Industries Inc. (SPI) ",12443]
[null,"Solar Semiconductor Inc. ",12473]
[null,"Solar Swiss SM AG ",12489]
[null,"Solar Tehnika d.o.o. ",12496]
[null,"Solar Wind Europe S.L. ",12498]
[null,"Solarcentury ",12502]
[null,"SolarConsult AG ",12513]
[null,"Solarday SpA ",12519]
[null,"SOLARenergy Anstalt ",12527]
[null,"Solar-Fabrik AG ",12566]
[null,"Solarfun Power Holdings ",12755]
[null,"SolarGate Technology Corporation ",12757]
[null,"Solaria Energía y Medio Ambiente S.L. ",12785]
[null,"SOLARION AG ",12795]
[null,"Solaris ",12798]
[null,"Solarkey S.r.l. ",12799]
[null,"SolarMarkt AG ",12801]
[null,"Solarnova GmbH ",12805]
[null,"SolarQ Schoenau A.E. ",12808]
[null,"Solartec Energia Renovable ",12840]
[null,"Solartec s.r.o. ",12851]
[null,"Solartechnics GmbH & Co KG ",12865]
[null,"SolarVolt ",12882]
[null,"Solarwatt AG ",13049]
[null,"Solarwood Folkendange S.A. ",13079]
[null,"Solarworld AG ",13099]
[null,"SOLEA AG ",13111]
[null,"SOLEA SOLAR GmbH ",13114]
[null,"Solecho srl ",13177]
[null,"Soleos Solar GmbH ",13179]
[null,"SOLEOTECH International ",13202]
[null,"SOLEX GmbH ",13225]
[null,"SolGate Inc. ",13232]
[null,"Solibertec S.L. ",13243]
[null,"Solland Solar Energy Holding BV ",13247]
[null,"Solon SE ",13389]
[null,"SoloPower Inc. ",13408]
[null,"Solpower AG ",13414]
[null,"Solsonica S.p.A. ",13474]
[null,"Soltecture GmbH ",13487]
[null,"Solterra Fotovoltaico SA ",13499]
[null,"SoLuxTec GmbH ",13509]
[null,"Solvis GmbH & Co. KG ",13513]
[null,"Solvo Solar Limited ",13521]
[null,"Solyndra Inc. ",13531]
[null,"Sonalis GmbH ",13533]
[null,"SONNETT GmbH & Co. KG ",13560]
[null,"Sontasun (Foshan) New Material Co., Ltd ",13579]
[null,"Sontor GmbH ",13588]
[null,"SORGENIA SPA ",13594]
[null,"Sova Power Ltd. ",13610]
[null,"Sovello AG ",13624]
[null,"SPS Solar GmbH ",13626]
[null,"SPSistem S.r.l. ",13661]
[null,"Stiebel Eltron GmbH & Co. KG ",13664]
[null,"Stion Corporation ",13666]
[null,"Storm Energy GmbH ",13669]
[null,"Stream Energy",13670]
[null,"Suisse Soleil AG ",13692]
[null,"Sun Earth Solar Power Co. Ltd. ",13734]
[null,"Sun Tech Solar Co. Ltd. ",13746]
[null,"SUN VALUE GmbH ",13783]
[null,"Sun Well Solar Corporation ",13806]
[null,"SUNAGE S.A. ",13833]
[null,"Sunbe Electric Industries Co., Ltd. ",13865]
[null,"sunblu GmbH ",13868]
[null,"SunClass",13886]
[null,"SunConcept GmbH ",13892]
[null,"SunConnex BV ",13896]
[null,"SunEnergy Europe GmbH ",13920]
[null,"Sunerg Solar S.r.l. ",13939]
[null,"SUNfarming GmbH ",13947]
[null,"Sunfilm AG (nun Schüco TF) ",14005]
[null,"Sunfree Solar Power Technology Co., Ltd. ",14058]
[null,"Sungen Ltd ",14083]
[null,"Sungold Solar Co. Ltd ",14132]
[null,"Suniva, Inc. ",14139]
[null,"Sunlan Solar Co., Ltd. ",14159]
[null,"Sunline AG ",14163]
[null,"Sunlink PV Co.,Ltd ",14250]
[null,"Sunner Solar Corp. ",14262]
[null,"Sunny Power & Technology Co., Ltd ",14283]
[null,"Sunny Roo Products ",14302]
[null,"Sunny Swiss SA ",14308]
[null,"Sunnywatt CZ ",14316]
[null,"Sunpeak-Vertrieb Unternehmensgruppe Ratio-Data ",14327]
[null,"SunPow Ltd. ",14355]
[null,"Sunpower Corp. ",14378]
[null,"SunPrism ",14381]
[null,"Sunrise Solartech Co., Ltd. ",14504]
[null,"Sunset Energietechnik GmbH ",14515]
[null,"Suntaics Ltd. ",14521]
[null,"Suntech Power Co., Ltd. ",14610]
[null,"Sunvic New Energy Co., Ltd. ",14656]
[null,"SunWare GmbH & Co. KG ",14657]
[null,"Sunways AG",14715]
[null,"SUNWIN GmbH ",14723]
[null,"Sunworx GmbH ",14742]
[null,"Surana Telecom & Power Ltd. ",14759]
[null,"Suzhou Shenglong PV-Tech CO.,LTD ",14776]
[null,"SWISSWATT ",14790]
[null,"Symphony Energy Co., Ltd. ",14845]
[null,"Synergy Renewable Energy pvt.ltd ",14877]
[null,"systaic Deutschland AG ",14888]
[null,"System Photonics S.p.A. ",14902]
[null,"SYSTOVI ",14907]
[null,"TAICIS Solar Energy Co., Ltd. ",14909]
[null,"Taizhou Sopray Solar Co., Ltd. ",14940]
[null,"Tamesol ",14969]
[null,"Tangshan crystal billion technology Co., Ltd ",14971]
[null,"TBEA SunOasis Co., Ltd ",14981]
[null,"TD Solar Company Ltd. ",15020]
[null,"Telecom-STV Co., Ltd. ",15025]
[null,"Temposolar SL ",15046]
[null,"Tenesol Total Energie Deutschland GmbH ",15077]
[null,"Tianwei New Energy Holdings Co., Ltd. ",15141]
[null,"Tianxin Solar Technology Co., Ltd. ",15144]
[null,"Titan Energy Systems Ltd. ",15177]
[null,"Topco Scientific Co., Ltd. ",15189]
[null,"Topsun Co., Ltd. ",15216]
[null,"Transform Solar Pty Ltd. ",15219]
[null,"Trend Capital GmbH & Co. ALGATEC Solarwerke ",15270]
[null,"Trendar Solar CTDC ",15274]
[null,"Trina Solar Energy Co., Ltd ",15344]
[null,"T-Solar S.A. ",15348]
[null,"Tynsolar Corporation ",15356]
[null,"UE Solar Co., Ltd. (China Etenergy) ",15503]
[null,"Union Solar International Co. Ltd. ",15524]
[null,"UNITEC EUROPA S.A. ",15548]
[null,"United Solar Ovonic LLC ",15557]
[null,"Universal Energy Nanjing Solar Technology ",15592]
[null,"Upsolar (Shanghai) Co, Ltd. ",15642]
[null,"USL Photovoltaics PVT Limited ",15662]
[null,"VacSol GmbH ",15682]
[null,"V-Energy S.r.l. ",15694]
[null,"VHF-Technologies SA ",15699]
[null,"Victron Energie B.V. ",15711]
[null,"Vidursolar, S. L. ",15715]
[null,"Viessmann Werke GmbH & Co. ",15718]
[null,"Vikram Solar Pvt. Limited ",15742]
[null,"Vipiemme Solar S.r.l. ",15785]
[null,"Visel Placas S.L. ",15799]
[null,"W Solar - Zhejiang Yuanzhong Solar Co., Ltd ",15859]
[null,"Wanxiang Imp. & Exp. Co., Ltd. ",15860]
[null,"Webasto Solar GmbH ",15871]
[null,"Weihai China Glass Solar Co.,Ltd. ",15873]
[null,"Wenzhou Changlong Photovoltaic Technology Co., Ltd ",15890]
[null,"Wenzhou Jingri Photovoltaic Technology Co.,Ltd. ",15930]
[null,"Win Win Precision Technology Co., Ltd. ",16010]
[null,"Winsun New Energy Co., Ltd. ",16071]
[null,"Wiosun GmbH & Co. KG ",16099]
[null,"Worldwide Energy and Manufacturing (Amerisolar) ",16197]
[null,"Wuhan Solar Technology (XLY Solar) Co., Ltd. ",16220]
[null,"Würth Solar GmbH & Co. KG ",16227]
[null,"Würz Energy GmbH ",16228]
[null,"Wuxi Erquan Solar Energy Science & Technology ",16256]
[null,"Wuxi Jiacheng Solar Energy Technoogy Co. Ltd. ",16258]
[null,"Wuxi Saijing Solar Co., Ltd. (ECSolar) ",16319]
[null,"Wuxi Shangpin Solar Energy Science & Technology ",16353]
[null,"X Group S.p.A. ",16377]
[null,"Xi´an Huanghe Photovoltaic Technological Co., Ltd. ",16413]
[null,"Xiajin Aode New Energy Co.,Ltd ",16461]
[null,"Xiamen C & D Inc Jiujiang Zhonghuite PV Co., Ltd ",16497]
[null,"XL Telecom Ltd. ",16514]
[null,"Xunlight Corporation ",16517]
[null,"Xuzhou Focus Solar Group Co.,Ltd. ",16578]
[null,"Xuzhou Sunrise Solar Energy Technology Co.,Ltd. ",16602]
[null,"YaBang Solar ",16711]
[null,"Yangden Solar Holding Limited ",16720]
[null,"Yangzhou Tianhua PV-Tech Co., LTD. ",16789]
[null,"Yat-sen Microelectronics (Zhongshan) Co., Ltd. ",16825]
[null,"Yisun New Energy Tech Co.,Ltd ",16835]
[null,"Yixing Jintech Solar Energy Co. Ltd. ",16849]
[null,"Yocasol Inc. ",16895]
[null,"Yunnan Tianda Photovoltaic Co., Ltd. ",16928]
[null,"Yuraku PTE Ltd. ",16962]
[null,"Zhangjiagang Fortunes Solar Technolgy Co., Ltd. ",16995]
[null,"Zhejiang BLD Solar Technology Co., Ltd ",17074]
[null,"Zhejiang Global Photovoltaic Technology Co., Ltd. ",17107]
[null,"Zhejiang Grand Power Energy Co.,Ltd. ",17158]
[null,"Zhejiang Heda Solar Technology Co.,Ltd. ",17161]
[null,"Zhejiang Hengji PV-Tech Energy Co., Ltd ",17222]
[null,"Zhejiang Hongchen Photovoltaic Energy Co., Ltd. ",17238]
[null,"Zhejiang Jemy New Energy Co., Ltd ",17265]
[null,"Zhejiang Jinghui Solar Energy Tec. Co., Ltd ",17276]
[null,"Zhejiang Kingdom Solar Energy Technic Co. Ltd. ",17375]
[null,"Zhejiang Leye Photovoltaic Science & Technology Co ",17407]
[null,"Zhejiang Powerwell Solar Energy Co., Ltd ",17432]
[null,"Zhejiang RDM Technology Co.,Ltd ",17468]
[null,"Zhejiang Riyuewang Solar Technology Co., Ltd ",17521]
[null,"Zhejiang SHANGCHENG Solar Technology Co., Ltd. ",17683]
[null,"Zhejiang Shinew Photoelectronic Technology Co. ",17724]
[null,"Zhejiang Shuqimeng Stream Energy Tech. Co., Ltd. ",17792]
[null,"Zhejiang Solar Best Energy Tech. Co., Ltd ",17814]
[null,"Zhejiang Sunflower Light Energy Science & Tech. ",17885]
[null,"Zhejiang SunMaster Solar Energy Co., Ltd. ",17950]
[null,"Zhejiang Sunvalley Energy Application Technology ",17971]
[null,"Zhejiang Suowei Photoelectric Co.,Ltd. ",17978]
[null,"Zhejiang Topoint Holding Group ",18003]
[null,"Zhejiang Xiongtai PV Technology Co., Ltd. ",18037]
[null,"Zhejiang ZG-Cells Co. Ltd. ",18072]
[null,"Zhong Yi New Energy Co. Ltd. ",18122]
[null,"Zillion Solar Co., Ltd. ",18157]
[null,"ZNSHINE PV-Tech Co., Ltd. ",18217]
[null,"ZSD GmbH ",18226]

{"sheet":"Solar Inverter","index":6,"n_rows":30,"n_cols":29,"rows_kept":30,"cut":false,"hidden":false,"merged":[]}
[]
[{"$f":"COLUMN()","v":1},{"$f":"COLUMN()","v":2},{"$f":"COLUMN()","v":3},{"$f":"COLUMN()","v":4},{"$f":"COLUMN()","v":5},{"$f":"COLUMN()","v":6},{"$f":"COLUMN()","v":7},{"$f":"COLUMN()","v":8},{"$f":"COLUMN()","v":9},{"$f":"COLUMN()","v":10},{"$f":"COLUMN()","v":11},{"$f":"COLUMN()","v":12},{"$f":"COLUMN()","v":13},{"$f":"COLUMN()","v":14},{"$f":"COLUMN()","v":15},{"$f":"COLUMN()","v":16},{"$f":"COLUMN()","v":17},{"$f":"COLUMN()","v":18},{"$f":"COLUMN()","v":19},{"$f":"COLUMN()","v":20},{"$f":"COLUMN()","v":21},22,23,24,25,26,27,28,29]
["Solar Inverter","min. empfohlene DC-Leistung","max. empfohlene DC-Leistung","Nennausgangsleistung PN","Einspeisung ab DC-Leistung","Nachtverbrauch","Europäischer Jahreswirkungsgrad","Anzahl MPP-Tracker","Grenzwerte","min. MPP-Spannung","max. MPP-Spannung","max. Leerlaufspannung","Einschaltschwelle","Abschaltschwelle","max. Netzstrom","max. Klirrfaktor bei PN","Blindleistungsfaktor cos Phi","max. Geräuschentwicklung","min. Umgebungstemperatur","max. Umgebungstemperatur","max. DC-Strom","Info","Anmerkung","Anmerkung","Typ","Status",null,"Scheinl.Typ","max. Scheinleistung Schieflastbegrenzung"]
["Sine inverter","min. Recommended DC power","max. Recommended DC power","Rated output power Pn","min. feeding-in power","Energy consumption at nights","European efficiency rate","Text",null,"min. MPP voltage","max. MPP voltage","max. open-circuit voltage (Uoc)","Switching-on threshold","Switching-off threshold","max. AC current","Distortion factor at Pn","Reactive power factor cos Phi","Noise development","min. Ambient temperature","max. Ambient temperature","max. DC current",null,null,null,"1: NT 2500...5000\n2: AT\n3: NT 10000\n4: PT","Textanzeige",null,"0 = keine Begrenzung (P const)\n1 = Begrenzung (P=S)"]
["Einheit","W","W","W","W","W","%",null,null,"V","V","V","V","V","A","%",null,"dBA","°C","°C","A",null,null,null,null,null,null,"VA"]
[]
[{"$f":"VLOOKUP(\"keine Auswahl\",Texte_design,SpracheID+1,FALSE)","v":"(keine Auswahl)"},0,0,0,0,0,0,0,0,0,0,0,0,0,0,0,0,0,0,0,0," "," "," ",0,0,null,0,0]
["Pilum 3.0",{"$f":"D8*0.8","v":2400},3200,3000,10,0.1,94.5,1,null,125,450,500,150,125,13.6,3,1,50,0,40,13,{"$f":"VLOOKUP(\"Pilum\",Texte,SpracheID+1,FALSE)","v":"3,0 kWp 1-phasig, mit Notstromfunktion, DC Eingangsspannung 125-500 DC, max. Eingangsstrom 13 A DC, MPPT Bereich 150 - 450 VDC, DC Impedanz Anforderung größer 500 kOhm, Max. Umwandlungswirkungsgrad (DC/AC) größer 95%,\nMax. Ladestrom 25 A (1500W) DC, Überlastfährigkeit im Batteriemodus 110%, Ausgangsspannung 184 ~ 265 Vac, Frequenzbereich 47,5 ~ 50,2Hz"},null,null,2,2,null,1,1400]
["InfiniSolar Plus 3kW",2400,4500,3000,10,0.1,95,1,null,125,450,500,150,125,13,3,1,70,0,40,18,null,null,null,2,2,null,1,1400]
["Optio 5.0 (GW5048D-ES)",3680,6000,4600,9,0.1,96.2,2,null,125,550,580,150,125,20,3,1,35,-25,40,30,{"$f":"VLOOKUP(\"Optio\",Texte,SpracheID+1,FALSE)","v":"4,6 kWp AC, 1-phasig mit Notstromfunktion, 5.4 KWp Solar\n2 Strings, 125-580 VDC, 97,6% Wirkungsgrad, Batteriespannung 48VDC, 50 A Ladestrom, Zertifizierung VDE-AR-N 4105, Gewicht 30 kg, Abmessungen: 516 x 440 x 184 mm"},null,null,2,2,null,1,2200]
["Gollum-8K-48_ST",3000,10000,8000,20,1,97,2,null,150,425,500,175,150,35,3,1,40,-25,60,36,null,null,null,2,2,null,1,4600]
["Gollum-5K-48_EU",3000,6000,4600,20,1,96.5,2,null,150,500,500,150,150,25,3,1,35,-25,60,22,null,null,null,2,2,null,1,4600]
["Centurio 10.0",8800,{"$f":"D13*1.1","v":12100.000000000002},11000,9,0.1,97.5,2,null,200,740,900,200,175,14.3,3,1,35,-25,40,24,{"$f":"VLOOKUP(\"Centurio\",Texte,SpracheID+1,FALSE)","v":"10 kWp, 3-phasig mit Notstromfunktion, max. AC Leistung 11 KVA, max. Leistung je Phase 3,3 kW, nom. Spannung 210 - 264 VAC, Spannungsbereich: 184 - 264VAC 47,5 Hz - 62 Hz, trafolos, symmetrische/asymmetrische Einspeisung, 2 PV-Eingänge je 6 kW, Eingangspannungsbereich 200 VDC - 900 VDC, Mpp Spannungsbereich: 200VDC bis 740 VDC, Max. Eingangsstrom je MPPT: 12A, DC-Schalter integriert. echter Sinus, max. Wirkungsgrad >98% PV-Netz, >97% Batteriemode DC nach AC.\n"},null,null,4,2,null,1,3300]
["Centurio 10.0 - 1 String",4400,6000,5500,9,0.1,97.5,1,null,200,740,900,200,175,14.3,3,1,35,-25,40,12,{"$f":"VLOOKUP(\"Centurio\",Texte,SpracheID+1,FALSE)","v":"10 kWp, 3-phasig mit Notstromfunktion, max. AC Leistung 11 KVA, max. Leistung je Phase 3,3 kW, nom. Spannung 210 - 264 VAC, Spannungsbereich: 184 - 264VAC 47,5 Hz - 62 Hz, trafolos, symmetrische/asymmetrische Einspeisung, 2 PV-Eingänge je 6 kW, Eingangspannungsbereich 200 VDC - 900 VDC, Mpp Spannungsbereich: 200VDC bis 740 VDC, Max. Eingangsstrom je MPPT: 12A, DC-Schalter integriert. echter Sinus, max. Wirkungsgrad >98% PV-Netz, >97% Batteriemode DC nach AC.\n"},null,null,4,2,null,1,3300]
["SUN-80K-G",68000,88000,80000,20,1,98.3,4,null,200,850,1000,250,175,115.9,3,1,35,-25,60,120,null,null,null,4,2,null,1,3300]
[null,null,null,null,null,null,null,null,null,null,null,null,null,null,null,null,null,null,null,null,null,null,null,null,null,null,null,1,3330]
[null,null,null,null,null,null,null,null,null,null,null,null,null,null,null,null,null,null,null,null,null,null,null,null,null,null,null,1,3670]
[null,null,null,null,null,null,null,null,null,null,null,null,null,null,null,null,null,null,null,null,null,null,null,null,null,null,null,1,4000]
[null,null,null,null,null,null,null,null,null,null,null,null,null,null,null,null,null,null,null,null,null,null,null,null,null,null,null,1,2700]
[null,null,null,null,null,null,null,null,null,null,null,null,null,null,null,null,null,null,null,null,null,null,null,null,null,null,null,1,3000]
[null,null,null,null,null,null,null,null,null,null,null,null,null,null,null,null,null,null,null,null,null,null,null,null,null,null,null,1,3600]
[null,null,null,null,null,null,null,null,null,null,null,null,null,null,null,null,null,null,null,null,null,null,null,null,null,null,null,1,4500]
[null,null,null,null,null,null,null,null,null,null,null,null,null,null,null,null,null,null,null,null,null,null,null,null,null,null,null,1,4600]
[null,null,null,null,null,null,null,null,null,null,null,null,null,null,null,null,null,null,null,null,null,null,null,null,null,null,null,0,30000]
[null,null,null,null,null,null,null,null,null,null,null,null,null,null,null,null,null,null,null,null,null,null,null,null,null,null,null,0,33333]
[null,null,null,null,null,null,null,null,null,null,null,null,null,null,null,null,null,null,null,null,null,null,null,null,null,null,null,1,1400]
[null,null,null,null,null,null,null,null,null,null,null,null,null,null,null,null,null,null,null,null,null,null,null,null,null,null,null,1,2200]
[null,null,null,null,null,null,null,null,null,null,null,null,null,null,null,null,null,null,null,null,null,null,null,null,null,null,null,1,3300]
[]
["Sprachmodul:","Alt + F11 (=Visual Basic)  ==>  Tabelle 6 (_Sprache) markieren  ==>  Eigenschaften ==> Visible  ==>  auf Visible / Hidden setzen "]

{"sheet":"_Daten","index":7,"n_rows":65,"n_cols":217,"rows_kept":65,"cut":false,"hidden":true,"merged":[[35,1,35,2],[27,7,27,9],[2,22,2,25],[2,4,2,5],[8,4,8,5],[19,4,19,5],[2,1,2,2],[4,1,4,2],[16,1,16,2],[25,1,25,2],[27,16,27,17],[26,4,26,5]]}
[]
[null,null,null,null,null,null,null,null,null,null,null,null,null,null,null,null,null,null,null,null,null,null,null,null,null,null,"E1","E2","E3",null,null,null,"Teilanlage 1","Teilanlage 2","Teilanlage 3"]
[null,"Zelltemperatur",null,null,"Spezifischer Leitungswiderstand",null,null,"Korrekturfaktor Temperatur - Deutschland",null,null,null,null,null,null,null,null,null,null,null,null,null,null,"EU - Wirkungsgrad / Spg",null,null,null,{"$f":"IF(INDEX(Wechselrichter,E1_WechselrichterID,25)=3,INDEX(Wechselrichter,E1_WechselrichterID,10),INDEX(Wechselrichter,E1_WechselrichterID,10))","v":200},{"$f":"IF(INDEX(Wechselrichter,E1_WechselrichterID,25)=3,INDEX(Wechselrichter,E1_WechselrichterID,10),INDEX(Wechselrichter,E2_WechselrichterID,10))","v":200},{"$f":"IF(INDEX(Wechselrichter,E1_WechselrichterID,25)=3,INDEX(Wechselrichter,E1_WechselrichterID,10),INDEX(Wechselrichter,E3_WechselrichterID,10))","v":0},"min MPP WR",null,"gew. Hersteller",{"$f":"E1_Hersteller","v":"Canadian Solar Inc. "},{"$f":"E2_Hersteller","v":"Canadian Solar Inc. "},{"$f":"E3_Hersteller","v":"Canadian Solar Inc. "}]
[null,null,null,null,null,null,null,null,"Jan","Feb","Mrz","Apr","Mai","Jun","Jul","Aug","Sep","Okt","Nov","Dez",null,null,null,"Abschaltschwelle",null,null,{"$f":"IF(INDEX(Wechselrichter,E1_WechselrichterID,25)=3,INDEX(Wechselrichter,E1_WechselrichterID,11),INDEX(Wechselrichter,E1_WechselrichterID,11))","v":740},{"$f":"IF(INDEX(Wechselrichter,E1_WechselrichterID,25)=3,INDEX(Wechselrichter,E1_WechselrichterID,11),INDEX(Wechselrichter,E2_WechselrichterID,11))","v":740},{"$f":"IF(INDEX(Wechselrichter,E1_WechselrichterID,25)=3,INDEX(Wechselrichter,E1_WechselrichterID,11),INDEX(Wechselrichter,E3_WechselrichterID,11))","v":0},"max MPP WR",null,"gew. Modul",{"$f":"E1_Solarmodul","v":"HiKu CS3L-365P"},{"$f":"E2_Solarmodul","v":"HiKu CS3L-365P"},{"$f":"E3_Solarmodul","v":"CS5A-130"}]
[null,"minimal",null,null,1.7860000000000001E-2,"Ohm * mm² / m",null,null,null,null,null,null,null,null,null,null,null,null,null,null,null,null,null,354,418,626,{"$f":"IF(E1_WechselrichterID<>1,AVERAGE(E1_min_MPPSpannung,E1_max_MPPSpannung),0)","v":471.16701996666671},{"$f":"IF(E2_WechselrichterID<>1,AVERAGE(E2_min_MPPSpannung,E2_max_MPP_Spannung),0)","v":437.28141996666665},{"$f":"IF(E3_WechselrichterID<>1,AVERAGE(E3_min_MPPSpannung,E3_max_MPP_Spannung),0)","v":0},"mittl. MPP-Spannung Solargenerator",null,"gew. Wechselrichter",{"$f":"INDEX(Wechselrichter,E1_WechselrichterID,1)","v":"Centurio 10.0"},{"$f":"INDEX(Wechselrichter,E2_WechselrichterID,1)","v":"Centurio 10.0 - 1 String"},{"$f":"INDEX(Wechselrichter,E3_WechselrichterID,1)","v":"(keine Auswahl)"}]
[null,15,{"$f":"B6 & \" °C\"","v":"15 °C"},null,null,null,null,null,1.02,1.01,0.95,0.91,0.88,0.87,0.86,0.86,0.89,0.98,1,1.02,null,1,"keine Auswahl",0,0,0,{"$f":"IF(AA$5<=AA$3,$X6,IF(AA$5>=AA$4,$Z6,IF(AA$5<>0,IF(AA$5<$Y$5,$X6+(AA$5-$X$5)*($Y6-$X6)/($Y$5-$X$5),$Y6+(AA$5-$Y$5)*($Z6-$Y6)/($Z$5-$Y$5)),0)))","v":0},{"$f":"IF(AB$5<=AB$3,$X6,IF(AB$5>=AB$4,$Z6,IF(AB$5<>0,IF(AB$5<$Y$5,$X6+(AB$5-$X$5)*($Y6-$X6)/($Y$5-$X$5),$Y6+(AB$5-$Y$5)*($Z6-$Y6)/($Z$5-$Y$5)),0)))","v":0},0,null,null,"Erläuterung der Formeln, siehe Diplomarbeit O.Haag S.36ff"]
[null,10,"10 °C",null,null,null,null,null,null,null,null,null,null,null,null,null,null,null,null,null,null,null,null,125,420,450,null,null,null,null,null,"Teilanlage 1","Modulwerte","UMPP,STC","dU%,°C","UOC,STC","IMPP",null,"Diagrammwerte","Anzahl Strings",{"$f":"E1_Module_in_Reihe*AH8-30","v":440.40000000000003},{"$f":"E1_Module_in_Reihe*AH8+30","v":500.40000000000003},{"$f":"E1_Module_in_Reihe*AH8","v":470.40000000000003},{"$f":"E1_Module_in_Reihe*AH8","v":470.40000000000003}]
[null,5,"5 °C",null,null,null,null,null,null,null,null,null,null,null,null,null,null,null,null,null,null,3,"Pilum 3.0",94.2,94.7,94.3,{"$f":"IF(AA$5<=AA$3,$X8,IF(AA$5>=AA$4,$Z8,IF(AA$5<>0,IF(AA$5<$Y$7,$X8+(AA$5-$X$7)*($Y8-$X8)/($Y$7-$X$7),$Y8+(AA$5-$Y$7)*($Z8-$Y8)/($Z$7-$Y$7)),0)))","v":94.017773067111108},{"$f":"IF(AB$5<=AB$3,$X8,IF(AB$5>=AB$4,$Z8,IF(AB$5<>0,IF(AB$5<$Y$7,$X8+(AB$5-$X$7)*($Y8-$X8)/($Y$7-$X$7),$Y8+(AB$5-$Y$7)*($Z8-$Y8)/($Z$7-$Y$7)),0)))","v":94.469581067111108},{"$f":"IF(AC$5<=AC$3,$X8,IF(AC$5>=AC$4,$Z8,IF(AC$5<>0,IF(AC$5<$Y$7,$X8+(AC$5-$X$7)*($Y8-$X8)/($Y$7-$X$7),$Y8+(AC$5-$Y$7)*($Z8-$Y8)/($Z$7-$Y$7)),0)))","v":94.2},null,null,null,null,{"$f":"INDEX(E1_Solarmodule,E1_SolarmodulID,6)","v":33.6},{"$f":"(INDEX(E1_Solarmodule,E1_SolarmodulID,10))/1000/AJ8","v":-2.8E-3},{"$f":"INDEX(E1_Solarmodule,E1_SolarmodulID,8)","v":40.799999999999997},{"$f":"INDEX(E1_Solarmodule,E1_SolarmodulID,7)","v":10.87},null,null,null,{"$f":"E1_Stringanzahl*AK8","v":21.74},{"$f":"E1_Stringanzahl*AK8","v":21.74},0,{"$f":"E1_Stringanzahl*AK8","v":21.74}]
[null,0,"0 °C",null,"Leitungsquerschnitt",null,null,null,null,null,null,null,null,null,null,null,null,null,null,null,null,4,"Optio 5.0 (GW5048D-ES)",94,95.8,96.2,{"$f":"IF(AA$5<=AA$3,$X9,IF(AA$5>=AA$4,$Z9,IF(AA$5<>0,IF(AA$5<$Y$7,$X9+(AA$5-$X$7)*($Y9-$X9)/($Y$7-$X$7),$Y9+(AA$5-$Y$7)*($Z9-$Y9)/($Z$7-$Y$7)),0)))","v":96.482226932888892},{"$f":"IF(AB$5<=AB$3,$X9,IF(AB$5>=AB$4,$Z9,IF(AB$5<>0,IF(AB$5<$Y$7,$X9+(AB$5-$X$7)*($Y9-$X9)/($Y$7-$X$7),$Y9+(AB$5-$Y$7)*($Z9-$Y9)/($Z$7-$Y$7)),0)))","v":96.030418932888892},94,null,null,null,"Wechselrichterwerte","MPP_min","MPP_max","UOC_max","PDC",null,null,"Anzahl Module pro String",{"$f":"E1_Module_in_Reihe*AH8","v":470.40000000000003},{"$f":"E1_Module_in_Reihe*AH8","v":470.40000000000003},0,{"$f":"E1_Module_in_Reihe*AH8","v":470.40000000000003}]
[null,-5,"-5 °C",null,null,null,null,"Korrekturfaktor Neigung / Ausrichtung - Deutschlend",null,null,null,null,null,null,null,null,null,null,null,null,null,null,null,null,null,null,null,null,null,null,null,null,null,{"$f":"INDEX(Wechselrichter,E1_WechselrichterID,10)","v":200},{"$f":"INDEX(Wechselrichter,E1_WechselrichterID,11)","v":740},{"$f":"INDEX(Wechselrichter,E1_WechselrichterID,12)","v":900},{"$f":"Auslegung!D40","v":10450},null,null,null,{"$f":"E1_Stringanzahl*AK8-1.3","v":20.439999999999998},{"$f":"E1_Stringanzahl*AK8+1.3","v":23.04},{"$f":"E1_Stringanzahl*AK8","v":21.74},{"$f":"E1_Stringanzahl*AK8","v":21.74}]
[null,-10,"-10 °C",null,4,{"$f":"E11&\" mm²\"","v":"4 mm²"},null,null,"Jan","Feb","Mrz","Apr","Mai","Jun","Jul","Aug","Sep","Okt","Nov","Dez",null,null,null,340,500,720,null,null,null,null,null,"Teilanlage 2","Modulwerte","UMPP,STC","dU%,°C","UOC,STC","IMPP",null,"Diagrammwerte","Anzahl Strings",{"$f":"E2_Module_in_Reihe*AH12-30","v":406.8},{"$f":"E2_Module_in_Reihe*AH12+30","v":466.8},{"$f":"E2_Module_in_Reihe*AH12","v":436.8},{"$f":"E2_Module_in_Reihe*AH12","v":436.8}]
[null,-15,"-15 °C",null,6,"6 mm²",null,null,null,null,null,null,null,null,null,null,null,null,null,null,null,2,"WRSample2",97.4,96.9,96.3,{"$f":"IF(AA$5<=AA$3,$X12,IF(AA$5>=AA$4,$Z12,IF(AA$5<>0,IF(AA$5<$Y$11,$X12+(AA$5-$X$11)*($Y12-$X12)/($Y$11-$X$11),$Y12+(AA$5-$Y$11)*($Z12-$Y12)/($Z$11-$Y$11)),0)))","v":96.990103062604177},{"$f":"IF(AB$5<=AB$3,$X12,IF(AB$5>=AB$4,$Z12,IF(AB$5<>0,IF(AB$5<$Y$11,$X12+(AB$5-$X$11)*($Y12-$X12)/($Y$11-$X$11),$Y12+(AB$5-$Y$11)*($Z12-$Y12)/($Z$11-$Y$11)),0)))","v":97.095995562604173},{"$f":"IF(AC$5<=AC$3,$X12,IF(AC$5>=AC$4,$Z12,IF(AC$5<>0,IF(AC$5<$Y$11,$X12+(AC$5-$X$11)*($Y12-$X12)/($Y$11-$X$11),$Y12+(AC$5-$Y$11)*($Z12-$Y12)/($Z$11-$Y$11)),0)))","v":97.4},null,null,null,null,{"$f":"INDEX(E2_Solarmodule,E2_SolarmodulID,6)","v":33.6},{"$f":"(INDEX(E2_Solarmodule,E2_SolarmodulID,10))/1000/AJ12","v":-2.8E-3},{"$f":"INDEX(E2_Solarmodule,E2_SolarmodulID,8)","v":40.799999999999997},{"$f":"INDEX(E2_Solarmodule,E2_SolarmodulID,7)","v":10.87},null,null,null,{"$f":"E2_Stringanzahl*AK12","v":10.87},{"$f":"E2_Stringanzahl*AK12","v":10.87},0,{"$f":"E2_Stringanzahl*AK12","v":10.87}]
[null,-20,"-20 °C",null,10,"10 mm²",null,"0, S",1,1,1,1,1,1,1,1,1,1,1,1,null,null,null,null,null,null,null,null,null,null,null,null,"Wechselrichterwerte","MPP_min","MPP_max","UOC_max","PDC",null,null,"Anzahl Module pro String",{"$f":"E2_Module_in_Reihe*AH12","v":436.8},{"$f":"E2_Module_in_Reihe*AH12","v":436.8},0,{"$f":"E2_Module_in_Reihe*AH12","v":436.8}]
[null,-25,"-25 °C",null,16,"16 mm²",null,"0, SW / SO",1,1,1,1,1,1,1,1,1,1,1,1,null,null,null,200,500,700,null,null,null,null,null,null,null,{"$f":"INDEX(Wechselrichter,E2_WechselrichterID,10)","v":200},{"$f":"INDEX(Wechselrichter,E2_WechselrichterID,11)","v":740},{"$f":"INDEX(Wechselrichter,E2_WechselrichterID,12)","v":900},{"$f":"Auslegung!F40","v":5225},null,null,null,{"$f":"E2_Stringanzahl*AK12-1.3","v":9.5699999999999985},{"$f":"E2_Stringanzahl*AK12+1.3","v":12.17},{"$f":"E2_Stringanzahl*AK12","v":10.87},{"$f":"E2_Stringanzahl*AK12","v":10.87}]
[null,null,null,null,25,"25 mm²",null,"0, W / O",1,1,1,1,1,1,1,1,1,1,1,1,null,5,"Centurio 10.0",94,97.4,97.4,{"$f":"IF(AA$5<=AA$3,$X15,IF(AA$5>=AA$4,$Z15,IF(AA$5<>0,IF(AA$5<$Y$7,$X15+(AA$5-$X$7)*($Y15-$X15)/($Y$7-$X$7),$Y15+(AA$5-$Y$7)*($Z15-$Y15)/($Z$7-$Y$7)),0)))","v":97.4},{"$f":"IF(AB$5<=AB$3,$X15,IF(AB$5>=AB$4,$Z15,IF(AB$5<>0,IF(AB$5<$Y$7,$X15+(AB$5-$X$7)*($Y15-$X15)/($Y$7-$X$7),$Y15+(AB$5-$Y$7)*($Z15-$Y15)/($Z$7-$Y$7)),0)))","v":97.4},{"$f":"IF(AC$5<=AC$3,$X15,IF(AC$5>=AC$4,$Z15,IF(AC$5<>0,IF(AC$5<$Y$7,$X15+(AC$5-$X$7)*($Y15-$X15)/($Y$7-$X$7),$Y15+(AC$5-$Y$7)*($Z15-$Y15)/($Z$7-$Y$7)),0)))","v":94},null,null,"Teilanlage 3","Modulwerte","UMPP,STC","dU%,°C","UOC,STC","IMPP",null,"Diagrammwerte","Anzahl Strings",{"$f":"E3_Module_in_Reihe*AH16-30","v":-30},{"$f":"E3_Module_in_Reihe*AH16+30","v":30},{"$f":"E3_Module_in_Reihe*AH16","v":0},{"$f":"E3_Module_in_Reihe*AH16","v":0}]
[null,null,null,null,35,"35 mm²",null,"30, S",1.44,1.4,1.17,1.08,1,0.96,0.97,1.03,1.17,1.3,1.47,1.42,null,null,null,null,null,null,null,null,null,null,null,null,null,{"$f":"INDEX(E3_Solarmodule,E3_SolarmodulID,6)","v":34.6},{"$f":"(INDEX(E3_Solarmodule,E3_SolarmodulID,10))/1000/AJ16","v":-3.5000000000000001E-3},{"$f":"INDEX(E3_Solarmodule,E3_SolarmodulID,8)","v":42.9},{"$f":"INDEX(E3_Solarmodule,E3_SolarmodulID,7)","v":3.75},null,null,null,{"$f":"E3_Stringanzahl*AK16","v":0},{"$f":"E3_Stringanzahl*AK16","v":0},0,{"$f":"E3_Stringanzahl*AK16","v":0}]
[null,"maximal",null,null,null,null,null,"30, SW / SO",1.37,1.33,1.1499999999999999,1.07,1,0.97,0.98,1.03,1.1499999999999999,1.25,1.4,1.36,null,null,null,null,null,null,null,null,null,null,null,null,"Wechselrichterwerte","MPP_min","MPP_max","UOC_max","PDC",null,null,"Anzahl Module pro String",{"$f":"E3_Module_in_Reihe*AH16","v":0},{"$f":"E3_Module_in_Reihe*AH16","v":0},0,{"$f":"E3_Module_in_Reihe*AH16","v":0}]
[null,60,{"$f":"B18 & \" °C\"","v":"60 °C"},null,null,null,null,"30, W / O",1.01,1.01,0.99,0.98,0.97,0.96,0.96,0.97,0.99,1,1.01,1,null,null,null,null,null,null,null,null,null,null,null,null,null,{"$f":"INDEX(Wechselrichter,E3_WechselrichterID,10)","v":0},{"$f":"INDEX(Wechselrichter,E3_WechselrichterID,11)","v":0},{"$f":"INDEX(Wechselrichter,E3_WechselrichterID,12)","v":0},{"$f":"Auslegung!H40","v":0},null,null,null,{"$f":"E3_Stringanzahl*AK16-1.3","v":-1.3},{"$f":"E3_Stringanzahl*AK16+1.3","v":1.3},{"$f":"E3_Stringanzahl*AK16","v":0},{"$f":"E3_Stringanzahl*AK16","v":0}]
[null,65,{"$f":"B19 & \" °C\"","v":"65 °C"},null,null,null,null,"45, S",1.57,1.5,1.19,1.05,0.94,0.9,0.91,1,1.18,1.37,1.61,1.55]
[null,70,{"$f":"B20 & \" °C\"","v":"70 °C"},null,"Formular (einheiten)",null,null,"45, SW / SO",1.48,1.42,1.1599999999999999,1.05,0.95,0.91,0.92,1,1.1599999999999999,1.31,1.51,1.46,null,null,null,null,null,null,null,null,null,null,null,null,"Rechenwerte","n_min","n_max_1","n_max_2","n_max","UMPP_min","UMPP_max"]
[null,75,{"$f":"B21 & \" °C\"","v":"75 °C"},null,null,null,null,"45, W / O",0.99,1,0.96,0.95,0.93,0.92,0.92,0.94,0.96,0.98,1,0.98,null,null,null,null,null,null,null,null,null,null,null,null,"Teilanlage 1",{"$f":"AH10/(AH8+(INDEX(max_Zellentemperatur,max_ZellentempID,1)-25)*AI8*AJ8)","v":6.8893298059964723},{"$f":"AI10/(AH8+(INDEX(min_Zellentemperatur,min_ZellentempID,1)-25)*AI8*AJ8)","v":19.101309214058563},{"$f":"AJ10/(AJ8+(INDEX(min_Zellentemperatur,min_ZellentempID)-25)*AI8*AJ8)","v":19.590429422212935},{"$f":"IF(AJ21<AI21,AJ21,AI21)","v":19.101309214058563},{"$f":"AH21*AH8","v":231.48148148148147},{"$f":"AK21*AH8","v":641.80398959236777},{"$f":"AG21","v":"Teilanlage 1"},{"$f":"AL21","v":231.48148148148147},{"$f":"AO21","v":231.48148148148147},{"$f":"IF(AP21=$AM21,AP21,IF(AP21<$AM21-5,AP21+5,$AM21))","v":236.48148148148147},{"$f":"IF(AQ21=$AM21,AQ21,IF(AQ21<$AM21-5,AQ21+5,$AM21))","v":241.48148148148147},246.48148148148147,251.48148148148147,256.48148148148147,261.48148148148147,266.48148148148147,271.48148148148147,276.48148148148147,281.48148148148147,286.48148148148147,291.48148148148147,296.48148148148147,301.48148148148147,306.48148148148147,311.48148148148147,316.48148148148147,321.48148148148147,326.48148148148147,331.48148148148147,336.48148148148147,341.48148148148147,346.48148148148147,351.48148148148147,356.48148148148147,361.48148148148147,366.48148148148147,371.48148148148147,376.48148148148147,381.48148148148147,386.48148148148147,391.48148148148147,396.48148148148147,401.48148148148147,406.48148148148147,411.48148148148147,416.48148148148147,421.48148148148147,426.48148148148147,431.48148148148147,436.48148148148147,441.48148148148147,446.48148148148147,451.48148148148147,456.48148148148147,461.48148148148147,466.48148148148147,471.48148148148147,476.48148148148147,481.48148148148147,486.48148148148147,491.48148148148147,496.48148148148147,501.48148148148147,506.48148148148147,511.48148148148147,516.48148148148152,521.48148148148152,526.48148148148152,531.48148148148152,536.48148148148152,541.48148148148152,546.48148148148152,551.48148148148152,556.48148148148152,{"$f":"IF(DC21=$AM21,DC21,IF(DC21<$AM21-5,DC21+5,$AM21))","v":561.48148148148152},566.48148148148152,571.48148148148152,576.48148148148152,581.48148148148152,586.48148148148152,591.48148148148152,596.48148148148152,601.48148148148152,606.48148148148152,611.48148148148152,616.48148148148152,621.48148148148152,626.48148148148152,631.48148148148152,636.48148148148152,641.48148148148152,641.80398959236777,641.80398959236777,641.80398959236777,641.80398959236777,{"$f":"AG21","v":"Teilanlage 1"},0,{"$f":"IF(INDEX(Wechselrichter,E1_WechselrichterID,25)=2,IF($AK$10/AP21>INDEX(Wechselrichter,E1_WechselrichterID,21),INDEX(Wechselrichter,E1_WechselrichterID,21),$AK$10/AP21),$AK$10/AP21)","v":45.144000000000005},{"$f":"IF(AP21=AQ21,0,IF(INDEX(Wechselrichter,E1_WechselrichterID,25)=2,IF($AK$10/AQ21>INDEX(Wechselrichter,E1_WechselrichterID,21),INDEX(Wechselrichter,E1_WechselrichterID,21),$AK$10/AQ21),$AK$10/AQ21))","v":44.189506656225532},43.274539877300619,42.396694214876035,41.553755522827693,40.743682310469318,39.964589235127484,39.214732453092431,38.492496589358801,37.796383121232417,37.125,36.477052359405306,35.851334180432019,35.246720799500316,34.662162162162161,34.096676737160124,33.549346016646851,33.019309537741371,32.505760368663594,32.007941009642657,31.52513966480447,31.056686846450194,30.601952277657269,30.16034206306788,29.731296101159117,29.314285714285717,28.908811475409838,28.514401212733706,28.130608175473579,27.757009345794394,27.393203883495147,27.038811691423096,26.693472090823086,{"$f":"IF(BV21=BW21,0,IF(INDEX(Wechselrichter,E1_WechselrichterID,25)=2,IF($AK$10/BW21>INDEX(Wechselrichter,E1_WechselrichterID,21),INDEX(Wechselrichter,E1_WechselrichterID,21),$AK$10/BW21),$AK$10/BW21))","v":26.356842596917328},26.028597785977862,25.708428246013668,25.396039603960396,25.091151622943531,24.793497363796135,24.502822405557968,24.218884120171676,23.941450997030124,23.67030201342282,23.405226047283286,23.146021328958163,22.892494929006087,22.644462279293741,22.401746724890831,22.164179104477611,21.93159735717062,21.703846153846154,21.480776551199089,21.26224566691786,21.048116374487133,20.838257016248154,20.632541133455209,20.430847212165098,20.233058443886698,20.0390625,19.848751319029194,19.662020905923342,19.478771142561268,19.298905608755128,19.12233141308031,18.94895903290799,{"$f":"IF(DB21=DC21,0,IF(INDEX(Wechselrichter,E1_WechselrichterID,25)=2,IF($AK$10/DC21>INDEX(Wechselrichter,E1_WechselrichterID,21),INDEX(Wechselrichter,E1_WechselrichterID,21),$AK$10/DC21),$AK$10/DC21))","v":18.778702163061563},18.611477572559366,18.447204968944099,18.285806869734284,18.127208480565368,17.971337579617835,17.818124407957058,17.667501565435188,17.519403911828622,17.373768472906402,17.230534351145035,17.08964264082374,{"$f":"IF(DN21=DO21,0,IF(INDEX(Wechselrichter,E1_WechselrichterID,25)=2,IF($AK$10/DO21>INDEX(Wechselrichter,E1_WechselrichterID,21),INDEX(Wechselrichter,E1_WechselrichterID,21),$AK$10/DO21),$AK$10/DO21))","v":16.951036347251424},16.814660309892727,16.680461129175288,16.548387096774192,16.418388129182425,16.290415704387989,16.282229729729728,0,0,0]
[null,80,{"$f":"B22 & \" °C\"","v":"80 °C"},null,"mV/°C","mA/°C",null,"60, S",1.63,1.54,1.1499999999999999,0.98,0.85,0.81,0.83,0.92,1.1399999999999999,1.38,1.68,1.61,null,null,null,null,null,null,null,null,null,null,null,null,"Teilanlage 2",{"$f":"AH14/(AH12+(INDEX(max_Zellentemperatur,max_ZellentempID,1)-25)*AI12*AJ12)","v":6.8893298059964723},{"$f":"AI14/(AH12+(INDEX(min_Zellentemperatur,min_ZellentempID,1)-25)*AI12*AJ12)","v":19.101309214058563},{"$f":"AJ14/(AJ12+(INDEX(min_Zellentemperatur,min_ZellentempID)-25)*AI12*AJ12)","v":19.590429422212935},{"$f":"IF(AJ22<AI22,AJ22,AI22)","v":19.101309214058563},{"$f":"AH22*AH12","v":231.48148148148147},{"$f":"AK22*AH12","v":641.80398959236777},{"$f":"AG22","v":"Teilanlage 2"},{"$f":"AL22","v":231.48148148148147},{"$f":"AO22","v":231.48148148148147},{"$f":"IF(AP22=$AM22,AP22,IF(AP22<$AM22-5,AP22+5,$AM22))","v":236.48148148148147},241.48148148148147,246.48148148148147,251.48148148148147,256.48148148148147,261.48148148148147,266.48148148148147,271.48148148148147,276.48148148148147,281.48148148148147,286.48148148148147,291.48148148148147,296.48148148148147,301.48148148148147,306.48148148148147,311.48148148148147,316.48148148148147,321.48148148148147,326.48148148148147,331.48148148148147,336.48148148148147,341.48148148148147,346.48148148148147,351.48148148148147,356.48148148148147,361.48148148148147,366.48148148148147,371.48148148148147,376.48148148148147,381.48148148148147,386.48148148148147,391.48148148148147,396.48148148148147,401.48148148148147,406.48148148148147,411.48148148148147,416.48148148148147,421.48148148148147,426.48148148148147,431.48148148148147,436.48148148148147,441.48148148148147,446.48148148148147,451.48148148148147,456.48148148148147,461.48148148148147,466.48148148148147,471.48148148148147,476.48148148148147,481.48148148148147,486.48148148148147,491.48148148148147,496.48148148148147,501.48148148148147,506.48148148148147,511.48148148148147,516.48148148148152,521.48148148148152,526.48148148148152,531.48148148148152,536.48148148148152,541.48148148148152,546.48148148148152,551.48148148148152,{"$f":"IF(DB22=$AM22,DB22,IF(DB22<$AM22-5,DB22+5,$AM22))","v":556.48148148148152},561.48148148148152,566.48148148148152,571.48148148148152,576.48148148148152,581.48148148148152,586.48148148148152,591.48148148148152,596.48148148148152,601.48148148148152,606.48148148148152,611.48148148148152,616.48148148148152,621.48148148148152,626.48148148148152,631.48148148148152,636.48148148148152,641.48148148148152,641.80398959236777,641.80398959236777,641.80398959236777,641.80398959236777,{"$f":"AG22","v":"Teilanlage 2"},0,{"$f":"IF(INDEX(Wechselrichter,E2_WechselrichterID,25)=2,IF($AK$14/AP22>INDEX(Wechselrichter,E2_WechselrichterID,21),INDEX(Wechselrichter,E2_WechselrichterID,21),$AK$14/AP22),$AK$14/AP22)","v":22.572000000000003},{"$f":"IF(AP22=AQ22,0,IF(INDEX(Wechselrichter,E2_WechselrichterID,25)=2,IF($AK$14/AQ22>INDEX(Wechselrichter,E2_WechselrichterID,21),INDEX(Wechselrichter,E2_WechselrichterID,21),$AK$14/AQ22),$AK$14/AQ22))","v":22.094753328112766},{"$f":"IF(AQ22=AR22,0,IF(INDEX(Wechselrichter,E2_WechselrichterID,25)=2,IF($AK$14/AR22>INDEX(Wechselrichter,E2_WechselrichterID,21),INDEX(Wechselrichter,E2_WechselrichterID,21),$AK$14/AR22),$AK$14/AR22))","v":21.637269938650309},21.198347107438018,20.776877761413846,20.371841155234659,19.982294617563742,19.607366226546215,19.2462482946794,18.898191560616208,18.5625,18.238526179702653,17.92566709021601,17.623360399750158,17.331081081081081,17.048338368580062,16.774673008323425,16.509654768870686,16.252880184331797,16.003970504821329,15.762569832402235,15.528343423225097,15.300976138828634,15.08017103153394,14.865648050579559,14.657142857142858,14.454405737704919,14.257200606366853,14.06530408773679,13.878504672897197,13.696601941747574,13.519405845711548,13.346736045411543,13.178421298458664,13.014298892988931,12.854214123006834,12.698019801980198,12.545575811471766,12.396748681898067,12.251411202778984,12.109442060085838,11.970725498515062,11.83515100671141,11.702613023641643,11.573010664479082,11.446247464503044,11.32223113964687,11.200873362445416,11.082089552238806,10.96579867858531,10.851923076923077,10.740388275599544,10.63112283345893,10.524058187243567,10.419128508124077,10.316270566727605,10.215423606082549,10.116529221943349,10.01953125,9.9243756595145971,9.8310104529616709,9.7393855712806339,9.6494528043775638,9.5611657065401552,9.4744795164539948,9.3893510815307817,{"$f":"IF(DC22=DD22,0,IF(INDEX(Wechselrichter,E2_WechselrichterID,25)=2,IF($AK$14/DD22>INDEX(Wechselrichter,E2_WechselrichterID,21),INDEX(Wechselrichter,E2_WechselrichterID,21),$AK$14/DD22),$AK$14/DD22))","v":9.305738786279683},9.2236024844720497,9.1429034348671419,9.0636042402826842,8.9856687898089174,8.9090622039785288,8.8337507827175941,8.759701955914311,8.6868842364532011,8.6152671755725176,8.5448213204118701,{"$f":"IF(DN22=DO22,0,IF(INDEX(Wechselrichter,E2_WechselrichterID,25)=2,IF($AK$14/DO22>INDEX(Wechselrichter,E2_WechselrichterID,21),INDEX(Wechselrichter,E2_WechselrichterID,21),$AK$14/DO22),$AK$14/DO22))","v":8.4755181736257121},8.4073301549463633,8.3402305645876442,8.2741935483870961,8.2091940645912125,8.1452078521939946,8.1411148648648641,0,0,0]
[null,null,null,null,"%/°C","%/°C",null,"60, SW / SO",1.52,1.43,1.1200000000000001,0.99,0.88,0.82,0.84,0.93,1.1200000000000001,1.3,1.55,1.49,null,null,null,null,null,null,null,null,null,null,null,null,"Teilanlage 3",{"$f":"AH18/(AH16+(INDEX(max_Zellentemperatur,max_ZellentempID,1)-25)*AI16*AJ16)","v":0},{"$f":"AI18/(AH16+(INDEX(min_Zellentemperatur,min_ZellentempID,1)-25)*AI16*AJ16)","v":0},{"$f":"AJ18/(AJ16+(INDEX(min_Zellentemperatur,min_ZellentempID)-25)*AI16*AJ16)","v":0},{"$f":"IF(AJ23<AI23,AJ23,AI23)","v":0},{"$f":"AH23*AH16","v":0},{"$f":"AK23*AH16","v":0},{"$f":"AG23","v":"Teilanlage 3"},{"$f":"AL23","v":0},{"$f":"AO23","v":0},{"$f":"IF(AP23=$AM23,AP23,IF(AP23<$AM23-5,AP23+5,$AM23))","v":0},0,0,0,0,0,0,0,0,0,0,0,0,0,0,0,0,0,0,0,0,0,0,0,0,0,0,0,0,0,0,0,0,0,0,0,0,0,0,0,0,0,0,0,0,0,0,0,0,0,0,0,0,0,0,0,0,0,0,0,0,0,0,0,{"$f":"IF(DB23=$AM23,DB23,IF(DB23<$AM23-5,DB23+5,$AM23))","v":0},0,0,0,0,0,0,0,0,0,0,0,0,0,0,0,0,0,0,0,0,0,{"$f":"AG23","v":"Teilanlage 3"},0,{"$f":"IF(INDEX(Wechselrichter,E3_WechselrichterID,25)=2,IF($AK$18/AP23>INDEX(Wechselrichter,E3_WechselrichterID,21),INDEX(Wechselrichter,E3_WechselrichterID,21),$AK$18/AP23),$AK$18/AP23)","v":{"$error":"#DIV/0!"}},{"$f":"IF(AP23=AQ23,0,IF(INDEX(Wechselrichter,E3_WechselrichterID,25)=2,IF($AK$18/AQ23>INDEX(Wechselrichter,E3_WechselrichterID,21),INDEX(Wechselrichter,E3_WechselrichterID,21),$AK$18/AQ23),$AK$18/AQ23))","v":0},{"$f":"IF(AQ23=AR23,0,IF(INDEX(Wechselrichter,E3_WechselrichterID,25)=2,IF($AK$18/AR23>INDEX(Wechselrichter,E3_WechselrichterID,21),INDEX(Wechselrichter,E3_WechselrichterID,21),$AK$18/AR23),$AK$18/AR23))","v":0},0,0,0,0,0,0,0,0,0,0,0,0,0,0,0,0,0,0,0,0,0,0,0,0,0,0,0,0,0,0,0,0,0,0,0,0,0,0,0,0,0,0,0,0,0,0,0,0,0,0,0,0,0,0,0,0,0,0,0,0,0,0,0,{"$f":"IF(DC23=DD23,0,IF(INDEX(Wechselrichter,E3_WechselrichterID,25)=2,IF($AK$18/DD23>INDEX(Wechselrichter,E3_WechselrichterID,21),INDEX(Wechselrichter,E3_WechselrichterID,21),$AK$18/DD23),$AK$18/DD23))","v":0},0,0,0,0,0,0,0,0,0,0,{"$f":"IF(DN23=DO23,0,IF(INDEX(Wechselrichter,E3_WechselrichterID,25)=2,IF($AK$18/DO23>INDEX(Wechselrichter,E3_WechselrichterID,21),INDEX(Wechselrichter,E3_WechselrichterID,21),$AK$18/DO23),$AK$18/DO23))","v":0},0,0,0,0,0,0,0,0,0]
[null,null,null,null,null,null,null,"60, W / O",0.95,0.96,0.91,0.89,0.88,0.86,0.86,0.88,0.92,0.94,0.96,0.94]
[]
[null,"Ausrichtung"]
[null,null,null,null,"Eingang"]
[null,{"$f":"VLOOKUP(\"Ost\",Texte_Ertrag,SpracheID+1,FALSE)","v":"Ost"},3,null,null,null,null,"Regionen",null,null,null,null,"NT","AT","NT(10k)","PT","Ausnahmen (Werte werden aus PV Modulliste genommen)"]
[null,{"$f":"VLOOKUP(\"Süd-Ost\",Texte_Ertrag,SpracheID+1,FALSE)","v":"Süd-Ost"},2,null,1,{"$f":"VLOOKUP(\"Eingang\",Texte_design,SpracheID+1,FALSE)&\" \" &E29","v":"Eingang 1"},null,"Sprache","Ansprechpartner","Einstrahlung",null,"µc-Si / a-Si",3,1,3,3]
[null,{"$f":"VLOOKUP(\"Süd\",Texte_Ertrag,SpracheID+1,FALSE)","v":"Süd"},1,null,2,{"$f":"VLOOKUP(\"Eingang\",Texte_design,SpracheID+1,FALSE)&\" \" &E30","v":"Eingang 2"},null,"deutsch","Deutschland","Deutschland",null,"a-Si (single)",3,1,3,3,0,"Ausnahme: Verschaltung von AT und Modul \"Schott Solar GmbH ASI-F 90\""]
[null,{"$f":"VLOOKUP(\"Süd-West\",Texte_Ertrag,SpracheID+1,FALSE)","v":"Süd-West"},2,null,3,{"$f":"VLOOKUP(\"Eingang\",Texte_design,SpracheID+1,FALSE)&\" \" &E31","v":"Eingang 3"},null,"english","International","Spain",null,"a-Si (tandem)",3,1,3,3]
[null,{"$f":"VLOOKUP(\"West\",Texte_Ertrag,SpracheID+1,FALSE)","v":"West"},3,null,null,null,null,"español","España","Portugal",null,"a-Si (triple)",3,1,3,3]
[null,null,null,null,null,null,null,"italiano","Italia","Italy",null,"CdTe",0,0,0,0]
[null,null,null,null,null,null,null,"français","Schweiz","France",null,"CIGS",1,1,1,1]
[null,null,null,null,null,null,null,null,"France","Switzerland",null,"CIS",1,1,1,1]
[null,"Neigung",null,null,"Strategie","Rückgabe",null,null,"Německo","Austria",null,"CSG",1,1,1,1]
[null,null,null,null,"Max. Auslastung","Details",1,null,null,"Greece",null,"EFG",0,0,0,0]
[null,"0°",0,null,"Weniger Gerätetypen","Anzahl Inverter",2,null,null,"Czech Republic",null,"HIT",0,0,0,0]
[null,"30°",3,null,null,"Anzahl Module",3,null,null,"Slovenia",null,"mono",0,0,0,0,3,"Ausnahme: generell rot falls unter Zellhersteller \"Sunpower Corp.\" eingetragen ist"]
[null,"45°",6,null,null,"Auslegungsverhältnis",4,null,null,"Netherlands",null,"mono-LGBC",0,0,0,0]
[null,"60°",9,null,null,"Modulleistung",5,null,null,"Belgium",null,"poly",0,0,0,0,3,"Ausnahme: generell rot falls unter Zellhersteller \"Sunpower Corp.\" eingetragen ist"]
[null,"90°",null,null,null,null,null,null,null,"Luxembourg",null,"ribbon",1,0,1,1]
[null,null,null,null,null,null,null,null,null,"Bulgaria",null,"Spheral Solar c-Si",1,1,1,1]
[null,null,null,null,null,null,null,null,null,null,null,"-",1,1,1,1]
[null,"Auslegungsverhältnis"]
[null,0.5,null,null,null,null,null,null,null,null,null,0,"Verschaltung möglich",null,null,null,null,{"$f":"IF(INDEX(E1_Solarmodule,E1_SolarmodulID,32)=-1,IF(ISNUMBER(VLOOKUP(INDEX(E1_Solarmodule,E1_SolarmodulID,17),celltype_status,INDEX(Wechselrichter,E1_WechselrichterID,25)+1,FALSE)),VLOOKUP(INDEX(E1_Solarmodule,E1_SolarmodulID,17),celltype_status,INDEX(Wechselrichter,E1_WechselrichterID,25)+1,FALSE),-1),INDEX(E1_Solarmodule,E1_SolarmodulID,32))","v":0}]
[null,0.8,null,null,null,null,null,null,null,null,null,1,"Bitte wenden Sie sich an den Modulhersteller",null,null,null,null,{"$f":"IF(INDEX(E2_Solarmodule,E2_SolarmodulID,32)=-1,IF(ISNUMBER(VLOOKUP(INDEX(E2_Solarmodule,E2_SolarmodulID,17),celltype_status,INDEX(Wechselrichter,E2_WechselrichterID,25)+1,FALSE)),VLOOKUP(INDEX(E2_Solarmodule,E2_SolarmodulID,17),celltype_status,INDEX(Wechselrichter,E2_WechselrichterID,25)+1,FALSE),-1),INDEX(E2_Solarmodule,E2_SolarmodulID,32))","v":0}]
[null,0.85,null,null,null,null,null,null,null,null,null,3,"Verschaltung nicht möglich",null,null,null,null,{"$f":"IF(INDEX(E3_Solarmodule,E3_SolarmodulID,32)=-1,IF(ISNUMBER(VLOOKUP(INDEX(E3_Solarmodule,E3_SolarmodulID,17),celltype_status,INDEX(Wechselrichter,E3_WechselrichterID,25)+1,FALSE)),VLOOKUP(INDEX(E3_Solarmodule,E3_SolarmodulID,17),celltype_status,INDEX(Wechselrichter,E3_WechselrichterID,25)+1,FALSE),-1),INDEX(E3_Solarmodule,E3_SolarmodulID,32))","v":1}]
[null,0.9]
[null,0.92500000000000004]
[null,0.95]
[null,0.97499999999999998]
[null,1]
[null,1.0249999999999999]
[null,1.05]
[null,1.075]
[null,1.1000000000000001]
[null,1.125]
[null,1.1499999999999999]
[null,1.175]
[null,1.2]
[null,1.2250000000000001]
[null,1.25]
[null,1.2749999999999999]
[null,1.3]

{"sheet":"_Sprache","index":8,"n_rows":353,"n_cols":8,"rows_kept":353,"cut":false,"hidden":true,"merged":[]}
["Referenz","Deutsch","Englisch","Spanisch","Italienisch","Français","Czech","Schweiz"]
[]
[]
[null,"Tabelle Welcome",null,"Tabla Bienvenido","Tabella Welcome","Tableau d’accueil ","Úvod"]
["Willkommen_Titel","Auslegungsprogramm für Photovoltaikanlagen","Design Software for photovoltaic systems","Programa de diseño para instalaciones fotovoltaicas","Programma di configurazione per impianti fotovoltaici","Programme de détermination pour les installations photovoltaïques","Program pro návrh fotovoltaického systému"]
["Version","Version","Version ","Versión ","Versione ","Version ","Version "]
["Datum","2016-05-05","2016-05-05","2011-11-24","2011-11-24","2011-11-24","2011-11-24"]
["Einleitung","Mit Energy Depot Inverter Tool können Sie Ihre Solaranlage für den Einsatz von Energy Depot Hybrid Invertern dimensionieren.\nIn der Tabelle \"Auslegung\" wählen Sie dazu die gewünschten Solar-Inverter (bis zu drei Typen) sowie die Solarmodule aus. Möchten Sie die Auslegung für spätere Zwecke archivieren, können Sie der Auslegung unter \"Datei\", \"speichern unter\" einen beliebigen Namen zuordnen. Die gewählte Konfiguration wird auf die Einhaltung der wichtigsten Grenzwerte überprüft. Überschrittene Grenzwerte werden in rot, noch mögliche in gelb markiert. Verändern Sie die Anzahl der Strings und der Module, bis Sie eine optimale Konfiguration gefunden haben.\nIn der Tabelle \"Ihr System\" können Sie die Details der geplanten Anlage anschauen und ausdrucken.\nBenutzen sie in der Tabelle \"Auslegung\" den Button \"neues Modul\", um einen neuen Modultyp hinzuzufügen. Ein bestehendes Modul können Sie bearbeiten, indem Sie den Button \"betrachten\" auswählen und dann das Häkchen \"Modul bearbeiten\" setzen.","With Energy Depot Inverter Tool you can dimension your photovoltaic systems for the use of Energy Depot Hybrid inverters.\nIn the table \"Design\" you may select the desired solar inverters (up to three types) as well as the solar modules. If you would like to archive the Design for later purposes, you can save it under \"file\", \"save as\", \"any name\". The selected configuration is examined for the adherence to the most important limit values. Exceeded limit values are marked in red, still possible values in yellow.Change the number of the strings and modules, until you find an optimal configuration. \nIn the table \"Your System\" you can view the details of the planned photovoltaic system and also print it. \nIn the table \"Design\" use the Button \"new module\", in order to add a new type of module. You can edit an existing module by using the Button \"view\", and then checkmark \"edit module\".  ","Energy Depot Inverter Tool le permite dimensionar su instalación solar para el uso de inversores Energy Depot Hybrid Inverter. Para ello, seleccione los inversores de conexión a red deseados (hasta tres tipos) y los módulos solares. Si desea conservar el diseño para usos posteriores, puede guardarlo con el nombre deseado mediante las opciones “Archivo” “Guardar como”. Se verifica si la configuración seleccionada respeta los valores límite más importantes. Los valores límite que no cumplan las especificaciones se marcarán en rojo, y los que cumplan se marcarán en amarillo. Modifique el número de cadenas y módulos hasta que haya encontrado la configuración óptima. La tabla “Su sistema” permite consultar e imprimir los detalles de la instalación proyectada. Utilice el botón “Nuevo módulo” de la tabla “Diseño”, para añadir un nuevo tipo de módulo. Los módulos existentes se pueden editar haciendo clic en el botón “Ver” y, a continuación, activando el control “Editar módulo”.","Con Energy Depot Inverter Tool è possibile dimensionare il proprio impianto solare per l'impiego di Energy Depot Hybrid Inverter.\nSelezionare a tale scopo i Solar Inverter desiderati (fino a tre tipi) nonché i moduli solari nella tabella \"Configurazione\". Se si desidera archiviare la configurazione per scopi successivi, è possibile assegnare un nome qualsiasi alla configurazione in “File”, “Salva con nome”. La configurazione selezionata viene controllata al fine di assicurare il rispetto dei valori limite più importanti. I valori limite superati vengono contrassegnati in rosso, quelli ancora possibili in giallo. Modificare il numero di stringhe e di moduli fino a trovare una configurazione ottimale.\nNella tabella \"Il vostro sistema\" è possibile visualizzare e stampare i dettagli dell’impianto pianificato.\nNella tabella “Configurazione”, utilizzare il pulsante “modulo nuovo” per aggiungere un nuovo tipo di modulo. Un modulo esistente può essere elaborato selezionando il pulsante \"Osservare\" e quindi mettendo il segno di spunta su “Elabora modulo”.\n","Grâce à Energy Depot Inverter Tool, votre installation solaire peut être définie et dimensionnée pour fonctionner avec des Solar Inverters de Energy Depot.\nDans le tableau « détermination », sélectionnez les Inverters que vous souhaitez (jusqu’à 3 types différents) ainsi que les modules solaires. Si vous voulez enregistrez ce choix pour vous y reporter ultérieurement, enregistrez ces informations dans « donnée », « enregistrer sous » et attribuez-lui un nom spécifique. La configuration définie sera vérifiée afin de s’assurer que les principales valeurs de référence ont été respectées. Toutes les valeurs situées au-dessus de ces limites seront surlignées en rouge, voire en jaune. Modifiez le nombre de strings et de modules jusqu’à ce que vous obteniez une configuration optimale.\nDans votre tableau « votre système », vous pouvez consulter les détails de l’installation prévue et les imprimer. Dans le tableau « détermination », utilisez le bouton « nouveau module » pour ajouter un nouveau type de module. Vous pouvez, en outre, travailler sur un module existant en sélectionnant le bouton «  examiner » puis en activant le bouton « examiner un module ».  ","S programem Energy Depot Inverter Tool můžete navrhovat fotovoltaický systém pro invertory Energy Depot.\nV tabulce \"Návrh\" můžete vybrat solární měnič (až 3 typy) a k tomu vybrat vhodný solární panel. Pokud chcete uložit vybrané hodnoty do budoucna, uložte je přes menu \"Uložit jako\". Pro vybranou konfiguraci se zobrazují nejdůležitější hodnoty. Pokud jsou doporučené hodnoty překročeny v přijatelném rozmezí, jsou zobrazeny žlutě, červená barva znamená nepřijatelné hodnoty. Měňte hodnoty počtu panelů a řetězců (stringů) tak dlouho, dokud nedosáhnete přijatelných hodnot.\nV tabulce \"Navržený systém\" jsou zobrazeny detaily vašeho systému s jednotlivými hodnotami; máte možnost je zde i vytisknout.\nV tabulce \"Návrh\" je možné také přidat nový panel pomocí tlačítka \"Nový panel\". Opravit hodnoty zadaných panelů lze provést pomocí tlačítka \"Zobraz\" a zaškrtnutím pole \"Úprava panelu\"."]
["Wichtig","Wichtig: Diese Datei ist ein Werkzeug für die Überprüfung der Auslegung von PV-Anlagen und wird den Anwendern von Energy Depot-Produkten zur Verfügung gestellt. Daten und Funktion wurden sorgfältig geprüft, trotzdem kann weder für mittelbare noch für unmittelbare Schäden, die aus dem Gebrauch dieser Arbeitsmappe entstehen, gehaftet werden.\n\nVielen Dank für Ihr Verständnis!","Important: This file is a tool for customers of Energy Depot products and is supplied royalty free. Data and functionality have been tested thoroughy. However, Energy Depot GmbH cannot be hold liable for direct or indirect damage caused using this tool.\n\nThanks for your understanding!","Importante: Este archivo es una herramienta para verificar el diseño de instalaciones FV y se facilita a los usuarios de productos Energy Depot. Los datos y su funcionamiento se han comprobado minuciosamente. No obstante, no podemos responder de los daños directos e indirectos que puedan derivarse del uso de esta hoja de cálculo. \n\nMuchas gracias por su comprensión.\n","Importante: Questo file è uno strumento per la verifica della configurazione di impianti fotovoltaici e viene messo a disposizione agli utenti di prodotti Energy Depot. I file e il funzionamento sono stati verificati accuratamente, tuttavia viene esclusa qualsiasi responsabilità per danni diretti o indiretti occorsi in relazione all'impiego della presente scheda operativa.\n\nGrazie per la vostra comprensione!\n","Attention : cette donnée est outil utilisé pour vérifier la détermination des installations photovoltaïques et elle est mise à la disposition des utilisateurs des produits Energy Depot. Les données et les fonctions font l’objet de vérifications très précises, mais peuvent malgré tout occasionner des dégâts directs et indirects qui sont dus à l’utilisation de ce système.\n\nMerci pour votre compréhension !","Důležité:\nTento soubor a nástroje v něm obsažené jsou poskytovány bezplatně. Data a funkčnost jsou důkladně testována, i přesto Energy Depot GmbH nenese zodpovědnost za přímé nebo nepřímé škody způsobené užíváním tohoto nástroje.\n\nDěkujeme za pochopení!"]
["Hinweis","Hinweis","Reference","Nota","Nota","Conseil","Reference"]
["Hinweis_txt","Die Makro-Sicherheitsstufe sollte auf \"Mittel\" (empfohlen), oder \"Niedrig\" (nicht empfohlen) eingestellt sein","The macro safety stage should be adjusted to \"medium\" (recommended), or \"low\" (not recommended)","El nivel de seguridad de macros debería establecerse en \"Medio\"(recomendado) o \"Bajo\" (no recomendado)","Il livello di sicurezza delle macro dovrebbe essere impostato su \"Medio\" (consigliato) o \"Basso\" (non consigliato)","Il est recommandé de définir le niveau de sécurité macro sur « moyen » (fortement conseillé) ou « faible » (déconseillé). ","Povolte makra pro tento sešit"]
["-","-","-","-","-","-","-","-"]
[]
[null,"Tabelle Auslegung",null,"Tabla Diseño","Tabella configurazione","Tableau de détermination","Návrh fotovoltaického systému:"]
["Auslegung_Titel","Auslegung der Photovoltaikanlage:","Design of your photovoltaic system:","Diseño de la instalación fotovoltaica:","Configurazione dell'impianto fotovoltaico:","Détermination de l’installation photovoltaïque : ","Návrh fotovoltaického systému:"]
["Wechselrichter","Wechselrichter","Solar Inverter","Inversores","Inverter","Onduleur","Měnič"]
["Hersteller","Hersteller","manufacturer","Fabricante","Produttore","Fabricant","Výrobce"]
["Solarmodule","Solarmodule","Photovoltaic panels","Módulos solares","Moduli solari","Module solaire","PV panely"]
["Solargenerator","Solargenerator","Photovoltaic generator","Generador solar","Generatore solare","Générateur solaire","Solární pole"]
["Zelltemperatur","Zelltemperatur","Cell temperature","Temperatura de célula","Temperatura della cella","Température de la cellule","Teplota buněk"]
["Zelltemp_min","min","min","mín.","min","Mini.","Min."]
["Zelltemp_max","max","max","máx.","max","Max.","Max."]
["E1_DCWerte",{"$f":"\"DC-Werte mit Berücksichtigung der Temperatur für \" & IF(E1_Stringanzahl>1,E1_Stringanzahl &\" Strings\",\"einen String\") & \" mit je \" & IF(E1_Module_in_Reihe>1,E1_Module_in_Reihe & \" Modulen\",\"einem Modul\")","v":"DC-Werte mit Berücksichtigung der Temperatur für 2 Strings mit je 14 Modulen"},{"$f":"\"Temperature-dependent DC values for \" & IF(E1_Stringanzahl>1,E1_Stringanzahl &\" strings\",\"one string\") & \" with \" & IF(E1_Module_in_Reihe>1,E1_Module_in_Reihe & \" panels\",\"one panel\")","v":"Temperature-dependent DC values for 2 strings with 14 panels"},"Valores CC considerando la temperatura de dos cadenas de 15 módulos cada una","Valore CC con considerazione della temperatura per 2 stringhe con 15 moduli ciascuna","Valeurs c.c. tenant compte de la température d’un string comprenant 24 modules. ","Teplotní závislost DC hodnot pro 2 stringy s 15 panely"]
["E2_DCWerte",{"$f":"\"DC-Werte mit Berücksichtigung der Temperatur für \" & IF(E2_Stringanzahl>1,E2_Stringanzahl &\" Strings\",\"einen String\") & \" mit je \" & IF(E2_Module_in_Reihe>1,E2_Module_in_Reihe & \" Modulen\",\"einem Modul\")","v":"DC-Werte mit Berücksichtigung der Temperatur für einen String mit je 13 Modulen"},{"$f":"\"Temperature-dependent DC values for \" & IF(E2_Stringanzahl>1,E2_Stringanzahl &\" strings\",\"one string\") & \" with \" & IF(E2_Module_in_Reihe>1,E2_Module_in_Reihe & \" panels\",\"one panel\")","v":"Temperature-dependent DC values for one string with 13 panels"},"Valores CC considerando la temperatura de una cadena con un módulo","Valore CC con considerazione della temperatura per una stringa con un modulo ciascuna","Valeurs c.c. tenant compte de la température d’un string comprenant 1 module. ","Teplotní závislost DC hodnot pro 1 string s 1 panelem"]
["E3_DCWerte",{"$f":"\"DC-Werte mit Berücksichtigung der Temperatur für \" & IF(E3_Stringanzahl>1,E3_Stringanzahl &\" Strings\",\"einen String\") & \" mit je \" & IF(E3_Module_in_Reihe>1,E3_Module_in_Reihe & \" Modulen\",\"einem Modul\")","v":"DC-Werte mit Berücksichtigung der Temperatur für einen String mit je einem Modul"},{"$f":"\"Temperature-dependent DC values for \" & IF(E3_Stringanzahl>1,E3_Stringanzahl &\" strings\",\"one string\") & \" with \" & IF(E3_Module_in_Reihe>1,E3_Module_in_Reihe & \" panels\",\"one panel\")","v":"Temperature-dependent DC values for one string with one panel"},"Valores CC considerando la temperatura de una cadena con un módulo","Valore CC con considerazione della temperatura per una stringa con un modulo ciascuna","Valeurs c.c. tenant compte de la température d’un string comprenant 1 module. ","Teplotní závislost DC hodnot pro 1 string s 1 panelem"]
["Temperatur","Temperatur [°C] ","Temperature [°C]","Temperatura [ºC] ","Temperatura [°C] ","Température [°C] ","Teplota [°C]"]
["MPP-Strom_A","MPP-Strom [A] ","MPP current [A]","Intensidad MPP [A] ","Corrente MPP [A] ","Courant MPP [A] ","MPP proud [A]"]
["MPP-Spannung_V","MPP-Spannung [V] ","MPP voltage [V]","Tensión MPP [V] ","Tensione MPP [V] ","Tension MPP [V] ","MPP napětí [V]"]
["Leerlaufspannung_V","Leerlaufspannung [V] ","open loop voltage [V]","Tensión de vacío [V] ","Tensione a vuoto [V] ","Tension à vide [V] ","Napětí naprázdno [V]"]
["Gesamtleistung_W","Gesamtleistung [W] ","total power [W]","Potencia total [W] ","Potenza totale [W] ","Capacité totale [W] ","Celkový výkon [W]"]
["Kabelverluste","Für die Berechnung der Kabelverluste bitte eintragen","To calculate cable losses please input","Indicar para calcular las pérdidas del cableado","Per il calcolo delle perdite di cavo indicare","Merci de saisir les informations afin de calculer les pertes en termes de câbles. ","Vstup pro výpočet ztrát na kabelech "]
["WechselrichterGrenzwerte","Anlagen-Kenngrößen","Figures System","Parámetros de las instalaciones","Parametri dell'impianto","Paramètre(s) des installations","Parametry systému"]
["SolaranlageGesamtgrößen","Solaranlage (Gesamtgrößen)","Photovoltaic system data","Instalación solar (parámetros totales)","Impianto solare (grandezze complessive)","Installation solaire (Val.général.)","FVS data"]
["MinDCLeistung_WR","min. DC-Leistung [Wp]","min. DC power [Wp]","Potencia CC mín. [Wp]","Potenza CC min. [Wp]","Puissance c.c. mini. [Wp]","Min. DC výkon [Wp]"]
["MaxDCLeistung_WR","max. DC-Leistung [Wp]","max. DC power [Wp]","Potencia CC máx. [Wp]","Potenza CC max. [Wp]","Puissance c.c. maxi. [Wp]","Max. DC výkon [Wp]"]
["MinMPPSpannung_WR","min. MPP-Spannung [V]","min. MPP voltage [V]","Tensión MPP mín. [V]","Tensione MPP min. [V]","Tension MPP mini. [V]","Min. MPP napětí [V]"]
["MaxMPPSpannung_WR","max. MPP-Spannung [V]","max. MPP voltage [V]","Tensión MPP máx. [V]","Tensione MPP max. [V]","Tension MPP maxi.[V]","Max. MPP napětí [V]"]
["MaxMPPStrom_WR","max. MPP-Strom [A]","max. MPP current [A]","Intensidad MPP máx. [A]","Corrente MPP max. [A]","Courant MPP maxi. [A]","Max. MPP proud [A]"]
["MaxLeerlaufSpannung_WR","max. Leerlauf-Spannung [V]","max. open loop voltage [V]","Tensión de vacío máx. [V]","Tensione a vuoto max. [V]","Tension à vide maxi. [V]","Max. napětí naprázdno [V]"]
["Einschaltspannung_WR","Einschaltspannung [V]","switch-on voltage [V]","Tensión de conexión  [V]","Tensione di accensione [V]","Tension de mise en marche [V]","Spouštěcí napětí [V]"]
["Nennleistung_PV","Nennleistung [W]","nominal power [W]","Potencia nominal [W]","Potenza nominale [W]","Puissance nominale [W]","Jmenovitý výkon [W]"]
["ModuleGesamt_PV","Modulanzahl","number of panels","Número de módulos","Numero di moduli","Nombre de modules","Počet panelů"]
["MinMPPSpannung_PV","min. MPP-Spannung [V]","min. MPP voltage [V]","Tensión MPP mín. [V]","Tensione MPP min. [V]","Tension MPP mini. [V]","Min. MPP napětí [V]"]
["MaxMPPSpannung_PV","max. MPP-Spannung [V]","max. MPP voltage [V]","Tensión MPP máx. [V]","Tensione MPP max. [V]","Tension MPP maxi.[V]","Max. MPP napětí [V]"]
["MaxMPPStrom_PV","max. MPP-Strom [A]","max. MPP current [A]","Intensidad MPP máx. [A]","Corrente MPP max. [A]","Courant MPP maxi. [A]","Max. MPP proud [A]"]
["MaxLeerlaufspannung_PV","max. Leerlauf-Spannung [V]","max. open loop voltage [V]","Tensión de vacío máx. [V]","Tensione a vuoto max. [V]","Tension à vide maxi. [V]","Max. napětí naprázdno [V]"]
["MinLeerlaufspannung_PV","min. Leerlauf-Spannung [V]","min. open loop voltage [V]","Tensión de vacío mín. [V]","Tensione a vuoto min. [V]","Tension à vide mini. [V]","Min. napětí naprázdno [V]"]
["MaxSystemspannung_PV","max. Systemspannung [V]","max. system voltage [V]","Tensión de sistema máx. [V]","Tensione del sistema max. [V]","Tension système maxi. [V]","Max. napětí systému [V]"]
["MöglicheDauerleistung","mögliche Dauerleistung","rated continuous output","Potencia continua posible","Potenza continuativa possibile","Puissance continue possible","Provozní výkon"]
["EuropäischerJahreswirkungsgrad","EU Jahreswirkungsgrad","European efficiency rate","Eficiencia anual UE","Rendimento annuo UE","Rendement annuel européen","Účinnost dle EU"]
["Stringanzahl","Stringanzahl","number of strings","Número de cadenas","Numero di stringhe","Nombre de strings","Počet stringů"]
["ModuleProString","Module pro String","panels per string","Módulos por cadena","Moduli per stringa","Module par string","Počet panelů ve stringu"]
[{"$f":" \"ModuleProString - FORMEL:\" & IF(ISERROR(IF(max_Stringanzahl>=min_Stringanzahl,\" (\"&min_Stringanzahl&\"-\"&max_Stringanzahl&\") \",\"\")),\"\",IF(max_Stringanzahl>=min_Stringanzahl,\" (\"&min_Stringanzahl&\"-\"&max_Stringanzahl&\") \",\"\"))","v":"ModuleProString - FORMEL:"},"-","-","-","-","-","-"]
["DCLeitungslänge","DC-Leitungslänge [m]","DC cable length [m]","Longitud de cable CC [m]","Lunghezza della linea CC [m]","Longueur des câbles c.c. [m]","Délka DC kabelů celkem [m]"]
["ACLeitungslänge","AC-Leitungslänge [m]","AC cable length [m]","Longitud de cable CA [m]","Lunghezza della linea CA [m]","Longueur des câbles c.a. [m]","Délka AC kabelů celkem [m]"]
["Optimum","Optimum","Optimum","Óptimo","L'optimum","Optimal","Optimální stav"]
["Grenzbereich","noch möglich","still possible","todavía posible","è ancora possibile","Encore possible","Ještě možné"]
["Info","Infos","information","Información","Informazioni","Informations","Informace"]
["Temperatur erweitert","Erweiterte Temperatur-Informationen","extended temperature information","Información de temperatura ampliada","Informazioni avanzate sulla temperatura","Informations supplémentaire en matière de température ","Rozšířené informace o teplotě"]
["Eingang","Eingang","Voltage input","Entrada","Ingresso","Entrée","Vstupní napětí"]
["Typ","Typ","type","Tipo","Tipo","Type","Typ"]
["Teilanlage","Teilanlage","PV system","Instalación parcial","Impianto parziale","Installation partielle","FVS"]
["anzeigen","anzeigen","show","Mostrar","visualizzare","Afficher","Zobrazit"]
["Auslegungsverhältnis","Auslegungsverhältnis DC/AC","layout ratio DC/AC","Relación de diseño CC/CA","Rapporto di configurazione CC/CA","Rapport de détermination  c.c./c.a.","projektované zatížení DC/AC"]
["Auslegungsverhältnis2","Power Control Einstellung","Power Control Setting","Power Control configuración","Power Control impostazione","Power Control Configuration","Power Control nastavení"]
["Anzahl","Anzahl","number of inverter","Número","Quantità","Nombre","Počet měničů"]
["Inverter","Inverter","inverter","Inversor","Inverter","Onduleur","Měnič"]
["Generator","Generator","generator","Generador","Generatore","Générateur","Solární pole"]
["Achtung","* (Achtung)","* (Attention)"," *(Atención)","* (Attenzione)","* (Attention)","* (upozornění)"]
["alte Modelle","Dieser Wechselrichter wird nicht mehr hergestellt","This inverter is no longer produced","Este modelo de inversor ya no se fabrica","Questo inverter non viene più prodotto","Cet onduleur n’est plus fabriqué","Tento měnič se již nevyrábí."]
["Initialwerte","Initialwerte prüfen (Dünnschicht Module)","Check initial values (thin-film modules)","Comprobar valores iniciales (módulos de capa fina)","Verificare i valori iniziali (moduli a film sottile)","Vérifier les valeurs initiales (module à couche fine)","Kontrola počátečních hodnot (tenkovrstvé moduly)"]
["nur_Italien","nur in Italien verfügbar","only available in Italy ","sólo disponible en Italia","disponibile solo in Italia","Disponible uniquement en Italie","Dostupné pouze v Itálii"]
["nur_Italien_Frankreich","nur in Italien und Frankreich verfügbar","only available in Italy and France ","sólo disponible en Italia y Francia","disponibile solo in Italia e in Francia","Disponible uniquement en Italie et en France","Dostupné pouze v Itálii a Francii"]
["ausser_Italien","in Italien nicht verfügbar","not available in Italy ","no disponible en Italia","non disponibile in Italia","Non disponible en Italie","Nedostupné v Itálii "]
["Kompatibilität","Kompatibilität","Compatibility","Compatibilidad","Compatibilità","Compatibilité","Kompatibilita"]
["Grafische Auslegung","Grafische Auslegung","Graphic layout","Diseño gráfico","Concezione grafica","Détermination graphique","Grafická úprava"]
["DCLeitung Spannungsabfall","Spannungsabfall der DC-Leitung in Rechnung einbeziehen","include calculation of the DC voltage drop","Incluir las pérdidas de tensión del cable CC en el cálculo","Inserire nel calcolo la caduta di tensione della linea CC","Inclure dans le calcul la perte de tension au niveau des câbles c.c. ","Včetně výpočtu ztrát na DC napětí"]
["Verschaltung_1","Verschaltung möglich","Connection possible","Interconexión posible","Interconnessione possibile","Raccordement possible","Propojení možné"]
["Verschaltung_2","Bitte wenden Sie sich an den Modulhersteller","Please contact the module manufacturer","Diríjase al fábricante de los módulos","Rivolgersi al produttore del modulo","Merci de contacter un fabricant de modules","Kontaktujte výrobce panelů"]
["Verschaltung_3","Verschaltung nicht möglich","Connection not possible","Interconexión no es posible","Interconnessione non possibile","Raccordement impossible","Propojení není možné"]
["Betriebsbereich","Wechselrichter Betriebsbereich","Inverter Operational range","Inversores","Inverter","Onduleur","Provozní rozsah měniče"]
["MPPPunkt","Solar-Generator MPP-Punkt","Solar generator MPP point","Generador solar","Generatore solare","Générateur solaire","MPP bod fotovoltaického pole"]
["Module","Module","Modules","Módulos","Moduli","Modules"," x panel"]
["ModulNotiz_2BB","Dieses Modul wird nicht mehr hergestellt","This module is no longer produced","Este módulo de inversor ya no se fabrica","Questo modulo non viene più prodotto","Cet module n’est plus fabriqué","Tento modul se již nevyrábí"]
["neue Modelle","Dieser Wechselrichter ist ab Nov. 2009 erhältlich","This Inverter is available from Nov. 2009","This Inverter is available from Nov. 2009","This Inverter is available from Nov. 2009","This Inverter is available from Nov. 2009","This Inverter is available from Nov. 2009"]
["NT 10-12k","Dieser Wechselrichter ist ab Mai 2010 erhältlich","This Inverter is available from May 2010","This Inverter is available from May 2010","This Inverter is available from May 2010","This Inverter is available from May 2010","This Inverter is available from May 2010"]
["EEG","EEG 70%-Regelung","EEG 70% rule","EEG 70% rule","EEG 70% rule","EEG 70% rule","EEG 70% rule"]
["KommKopp","Schieflastprüfung","Unbalanced check","carga desequi.","carico squil.","charge déséqui.","nesymetrická","-"]
["Netzphase L1","Netzphase L1","Grid phase 1","Grid phase 1","Grid phase 1","Grid phase 1","Grid phase 1"]
["Netzphase L2","Netzphase L2","Grid phase 2","Grid phase 2","Grid phase 2","Grid phase 2","Grid phase 2"]
["Netzphase L3","Netzphase L3","Grid phase 3","Grid phase 3","Grid phase 3","Grid phase 3","Grid phase 3"]
["LeistungSumme","Max. AC-Leistung","Max. AC Power","Max. Potencia CC","Max. Potenza CC","Max. Puiss. c.c.","Max. výkon AC"]
["MaxAbregelung","Max. Abregelung","Max .Reduction","Max. Reductión","Max. Reduction","Max. Reduction","Max. Reduction"]
["Anzahl2","Anzahl","number","Número","Quantità","Nombre","Počet"]
[]
[null,"Tabelle Your System",null,"Tabelle Resumen de sistema","Tabella Your System","Tableau Votre système","Navržený systém"]
["Auslegung","Auslegung:","Design:","Diseño:","Configurazione:","Détermination :","Návrh:"]
["gewählterWechselrichter","Gewählter Solar Inverter:","Selected inverter:","Inversor de conexión a red seleccionado:","Inverter solare selezionato:","Solar Inverter sélectionné :","Vybraný invertor"]
["TechnischeDaten","Technische Daten","Technical data","Datos técnicos","Dati tecnici","Informations techniques","Technické údaje"]
["Grenzwerte","Grenzwerte","Limits","Valores límite","Valori limite","Limites","Limity"]
["min. empfohlene DC-Leistung","min. empfohlene DC-Leistung:","min.Recommended DC power:","Potencia CC mín. recomendada:","Potenza CC min. consigliata:","Puissance c.c. mini. conseillée :","Minimální doporučený výkon:"]
["max. empfohlene DC-Leistung","max. empfohlene DC-Leistung:","max. Recommended DC power:","Potencia CC máx. recomendada:","Potenza CC max. consigliata:","Puissance c.c. maxi. conseillée :","Maximální doporučený výkon:"]
["Nennausgangsleistung PN","Nennausgangsleistung PN:","Rated output power PN:","Potencia nominal de salida Pn:","Potenza nominale di uscita PN:","Puissance de sortie nominale PN :","Jmenovitý výstupní výkon PN:"]
["Einspeisung ab DC-Leistung","Einspeisung ab DC-Leistung:","min. feeding in power:","Inyección a red desde potencia CC:","Alimentazione a partire da pot. CC:","Aliment. à partir de la puiss. c.c. :","Minimální napájecí výkon:"]
["Nachtverbrauch","Nachtverbrauch:","Energy consumption at nights:","Consumo nocturno:","Consumo notturno:","Consommation nocturne","Spotřeba energie v noci:"]
["Europäischer Jahreswirkungsgrad","Europäischer Jahreswirkungsgrad:","European efficiency rate:","Eficiencia anual europea:","Rendimento annuo europeo:","Rendement annuel européen","Evropská účinnost:"]
["gewählteSolarmodule","Gewählte Solarmodule:","Selected solar panels:","Módulos solares seleccionados:","Moduli solari selezionati:","Module solaire sélectionné","Vybrané solární panely:"]
["min. MPP-Spannung","min. MPP-Spannung:","min. MPP voltage:","Tensión MPP mín.:","Tensione MPP min.:","Tension MPP mini. [V]","Min. napětí MPP:"]
["max. MPP-Spannung","max. MPP-Spannung:","max. MPP voltage:","Tensión MPP máx.:","Tensione MPP max.:","Tension MPP maxi.[V]","Max. napětí MPP:"]
["max. Leerlaufspannung","max. Leerlaufspannung:","max. open-circuit voltage:","Tensión de vacío máx.","Tensione a vuoto max.:","Tension à vide maxi. [V]","Max. napětí naprázdno:"]
["Einschaltschwelle","Einschaltschwelle:","Switching-on treshold:","Umbral de conexión:","Soglia di accensione:","Onde d’activation :","Mez sepnutí:"]
["Abschaltschwelle","Abschaltschwelle:","Switching-off treshold:","Umbral de desconexión:","Soglia di spegnimento:","Onde de désactivation :","Mez vypnutí:"]
["max. Netzstrom","max. Netzstrom:","max. AC current:","Tensión de red máx.:","Corrente di rete max.:","Courant de secteur maxi. :","Maximální AC proud:"]
["max. DC-Strom","max. DC-Strom:","max. DC current:","Intensidad CC máx.:","Corrente CC max.:","Courant c.c. maxi :","Maximální DC proud:"]
["IhreSolaranlage","Ihre Solaranlage","Your system:","Su instalación solar","Il vostro impianto solare","Votre installation solaire","Váš systém:"]
["WeitereInfos","Weitere Infos","More information","Más información","Ulteriori informazioni","Informations supplémentaires","Další informace"]
["IhreAnsprechpartner","Ihr Ansprechpartner","Your contact:","Sus personas de contacto","I vostri interlocutori","Votre contact","Váš kontakt:"]
["WeitereInfosSolarmodule","Weitere Informationen zu dem Solarmodul finden Sie unter","More information about the solar panels can be found at","Más información acerca del módulo solar encontrará en","Ulteriori informazioni relative al modulo solare sono riportate in","Pour avoir d’autres informations sur les modules solaires, rendez-vous sur : ","Další informace naleznete na www stránkách:"]
["Nennleistung","Nennleistung:","nominal power:","Potencia nominal:","Potenza nominale:","Puissance nominale :","Jmenovitý výkon:"]
["Toleranz","Toleranz:","tolerance:","Tolerancia:","Tolleranza:","Tolérance :","Tolerance:"]
["MPP-Spannung","MPP-Spannung:","MPP voltage:","Tensión MPP:","Tensione MPP:","Tension  MPP :","Napětí MPP:"]
["MPP-Strom","MPP-Strom:","MPP current:","Intensidad MPP:","Corrente MPP:","Courant MPP :","Proud MPP:"]
["Leerlaufspannung","Leerlaufspannung:","open circuit voltage:","Tensión de vacío:","Tensione a vuoto:","Tension à vide :","Napětí naprázdno:"]
["Kurzschlußstrom","Kurzschlußstrom:","short circuit current:","Corriente de cortocircuito","Corrente di cortocircuito:","Courant de court-circuit :","Zkratový proud:"]
["Spannungsänderung","Spannungsänderung:","voltage change:","Variación de la tensión:","Variazione di tensione:","Changement de tension :","Teplotní změna napětí:"]
["Stromänderung","Stromänderung:","current change:","Variación de la intensidad:","Variazione di corrente:","Changement de courant :","Teplotní změna proudu:"]
["Leistungsänderung","Leistungsänderung:","power change:","Variación de la potencia:","Variazione di potenza:","Changement de puissance :","Teplotní změna výkonu:"]
["max. Systemspannung","max. Systemspannung:","max. System voltage:","Tensión de sistema máx.:","Tensione di sistema max.:","Tension système maxi. ::","Maximální napětí systému:"]
["Herstellungsland","Herstellungsland:","country of origin:","País de fabricación:","Paese di produzione:","Pays de fabrication :","Země původu:"]
["Zellhersteller","Zellhersteller:","manufacturer  of cells:","Fabricante de las células:","Produttore della cella:","Fabricant des cellules :","Výrobce solárních buněk:"]
["Modulwirkungsgrad","Modulwirkungsgrad:","panel efficiency:","Eficiencia del módulo:","Rendimento del modulo:","Rendement des modules :","Účinnost panelu:"]
["Zelltyp","Zelltyp:","cell type:","Tipo de célula:","Tipo di cella:","Type de cellule :","Typ buňky:"]
["Zellen pro Modul","Zellen pro Modul:","cells per panel:","Células por módulo:","Celle per modulo:","Cellules par module :","Počet buněk v panelu:"]
["Zellform","Zellform:","cell shape:","Forma de célula:","Forma della cella:","Forme de la cellule :","Tvar buňky:"]
["Höhe","Höhe:","height:","Alto:","Altezza:","Hauteur :","Výška:"]
["Breite","Breite:","width:","Ancho:","Larghezza:","Largeur :","Šířka:"]
["Dicke","Dicke:","thickness:","Espesor:","Spessore:","Epaisseur :","Tloušťka:"]
["Rahmung","Rahmung:","frame:","Bastidor:","Sostegno:","Encadrement :","Typ rámu:"]
["Anschluß","Anschluß:","connector:","Conexión:","Allacciamento:","Connexion :","Konektory:"]
["Gewicht","Gewicht:","weight:","Peso:","Peso:","Poids :","Hmotnost:"]
["AnzahlStrings","Anzahl der Strings:","Number of strings:","Número de cadenas:","Numero di stringhe:","Nombre de strings :","Počet stringů:"]
["Module pro String","Module pro String:","panels per string:","Módulos por cadena:","Moduli per stringa:","Module par string :","Počet panelů ve stringu:"]
["GesamtanzahlModule","Gesamtanzahl Module:","total number of panels:","Número total de módulos:","Quantità complessiva di moduli:","Nombre total de modules :","Celkový počet panelů:"]
["Flächenverbrauch","Flächenverbrauch:","Total panel area:","Superficie requerida:","Occupazione di suolo:","Consommation d’espace :","Celková plocha panelů:"]
["GewichtModule","Gewicht der Module:","Total panel weight:","Peso de los módulos:","Peso dei moduli:","Poids des modules :","Celková hmotnost panelů:"]
["Gesamt-Nennleistung","Gesamt-Nennleistung:","total nominal power:","Potencia nominal total:","Potenza nominale complessiva:","Tension nominale totale :","Celkový jmenovitý výkon:"]
["DC-Kabellänge","DC-Kabellänge:","DC cable length:","Longitud de cable CC:","Lunghezza del cavo CC:","Longueur des câbles c.c. :","Délka kabelů DC části:"]
["AC-Kabellänge","AC-Kabellänge:","AC cable length:","Longitud de cable CA:","Lunghezza del cavo CA:","Longueur des câbles c.a. :","Délka AC kabelů:"]
["DC-Kabelquerschnitt","DC-Kabelquerschnitt:","DC cable diameter:","Sección de cable CC:","Sezione trasversale del cavo CC:","Coupe transversale des câbles c.c. :","Průměr DC kabelů:"]
["AC-Kabelquerschnitt","AC-Kabelquerschnitt:","AC cable diameter:","Sección de cable CA:","Sezione trasversale del cavo CA:","Coupe transversale des câbles c.a. :","Průměr AC kabelů:"]
["MaxVerlusteDCKabel","Verluste im DC-Kabel:","losses in DC cable:","Pérdidas en el cable CC:","Perdite nel cavo CC:","Perte au niveau des câbles c.c. :","Ztráty na DC kabelech:"]
["MaxVerlusteACKabel","Verluste im AC-Kabel:","losses in AC cable:","Pérdidas en el cable CA:","Perdite nel cavo CA:","Perte au niveau des câbles c.a. :","Ztráty na AC kabelech:"]
["AchtungText","Achtung: alle hier angezeigten und berechneten Werte ohne Gewähr! Vielen Dank für Ihr Verständnis!","Important: all calculated and displayed values without warrenty! Thanks for your understanding!","¡Atención! Todos los valores calculados e indicados sin garantía. Muchas gracias por su comprensión.","Attenzione: non forniamo alcuna garanzia sulla correttezza dei valori indicati e calcolati! Grazie per la vostra comprensione!","Attention : toutes les valeurs mentionnées et calculées dans cette section ne sont pas garanties ! Merci pour votre compréhension !","Důležité: Všechny výpočty a zobrazené hodnoty jsou bez záruky! Děkujeme za pochopení!"]
["Tel","Tel:","Phone:","Tel:","Tel:","Tél. :","Telefon:"]
["Land","Deutschland","Germany","Alemania","Germania","Allemagne","Německo"]
["Erstellt am","Erstellt am","Created on","Creado el","Creato il","Fabriqué le :","Vyhotoveno:"]
["Ansprechpartner","PLZ\tOrt\t\tFirma\t\t\t\tTel\t\t\tWeb\r\n","PLZ\tOrt\t\tFirma\t\t\t\tTel\t\t\tWeb\r","PLZ\tOrt\t\tFirma\t\t\t\tTel\t\t\tWeb\r","PLZ\tOrt\t\tFirma\t\t\t\tTel\t\t\tWeb\r","PLZ\tOrt\t\tFirma\t\t\t\tTel\t\t\tWeb\r","PLZ\tOrt\t\tFirma\t\t\t\tTel\t\t\tWeb\r","PLZ\tOrt\t\tFirma\t\t\t\tTel\t\t\tWeb\r\n"]
["Gesamtübersicht","Gesamtübersicht","Overview:","Resumen completo","Visione d'insieme","Vue d‘ensemble","Přehled:"]
["Wechselrichter2","Wechselrichter:","Solar Inverter:","Inversores:","Inverter:","Onduleur :","Měnič:"]
["Module2","Module:","Panels:","Módulos:","Moduli:","Module :","Panely:"]
["Nennleistung2","Nennleistung:","Nominal power:","Potencia nominal:","Potenza nominale:","Puissance nominale :","Jmenovitý výkon:"]
["Gesamtnennleistung","Gesamtnennleistung","Total nominal power:","Potencia nominal total","Potenza nominale complessiva","Puissance nominale totale :","Celkový jmenovitý výkon:"]
["Pilum","3,0 kWp 1-phasig, mit Notstromfunktion, DC Eingangsspannung 125-500 DC, max. Eingangsstrom 13 A DC, MPPT Bereich 150 - 450 VDC, DC Impedanz Anforderung größer 500 kOhm, Max. Umwandlungswirkungsgrad (DC/AC) größer 95%,\nMax. Ladestrom 25 A (1500W) DC, Überlastfährigkeit im Batteriemodus 110%, Ausgangsspannung 184 ~ 265 Vac, Frequenzbereich 47,5 ~ 50,2Hz","3.0 kW 1-phase, incl. emergency energy function (Off-grid), DC input voltage 125-500 DC, max. Input current 13 A DC, MPPT range 150 - 450 VDC, DC Impedanz requirements higher than 500 kOhm, Max. convertion efficiency (DC/AC) higher than 95%,\nMax. charging current 25 A (1500W) DC, Overload in battery mode 110%, output voltage 184 ~ 265 Vac, frequency range 47,5 ~ 50,2Hz","3,0 kW 1-phase, incl. emergency energy function (Off-grid), DC input voltage 125-500 DC, max. Input current 13 A DC, MPPT range 150 - 450 VDC, DC Impedanz requirements higher than 500 kOhm, Max. convertion efficiency (DC/AC) higher than 95%,\nMax. charging current 25 A (1500W) DC, Overload in battery mode 110%, output voltage 184 ~ 265 Vac, frequency range 47,5 ~ 50,2Hz","3,0 kW 1-phase, incl. emergency energy function (Off-grid), DC input voltage 125-500 DC, max. Input current 13 A DC, MPPT range 150 - 450 VDC, DC Impedanz requirements higher than 500 kOhm, Max. convertion efficiency (DC/AC) higher than 95%,\nMax. charging current 25 A (1500W) DC, Overload in battery mode 110%, output voltage 184 ~ 265 Vac, frequency range 47,5 ~ 50,2Hz","3,0 kW 1-phase, incl. emergency energy function (Off-grid), DC input voltage 125-500 DC, max. Input current 13 A DC, MPPT range 150 - 450 VDC, DC Impedanz requirements higher than 500 kOhm, Max. convertion efficiency (DC/AC) higher than 95%,\nMax. charging current 25 A (1500W) DC, Overload in battery mode 110%, output voltage 184 ~ 265 Vac, frequency range 47,5 ~ 50,2Hz","3,0 kW 1-phase, incl. emergency energy function (Off-grid), DC input voltage 125-500 DC, max. Input current 13 A DC, MPPT range 150 - 450 VDC, DC Impedanz requirements higher than 500 kOhm, Max. convertion efficiency (DC/AC) higher than 95%,\nMax. charging current 25 A (1500W) DC, Overload in battery mode 110%, output voltage 184 ~ 265 Vac, frequency range 47,5 ~ 50,2Hz"]
["Optio","4,6 kWp AC, 1-phasig mit Notstromfunktion, 5.4 KWp Solar\n2 Strings, 125-580 VDC, 97,6% Wirkungsgrad, Batteriespannung 48VDC, 50 A Ladestrom, Zertifizierung VDE-AR-N 4105, Gewicht 30 kg, Abmessungen: 516 x 440 x 184 mm","4.6 kWp AC, 1-phase incl. Emergency power function, 5.4 kWp solar, 2 strings, 125-580 VDC, 97,6% efficiency,\nbattery voltage 48VDC, up to 50 A charging current,\nVDE-AR-N 4105 certification, weight 30 kg, dimension: 516 x 440 x 184 mm","4.6 kWp AC, 1-phase, 5.4 KWp solar\n2 strings, 125-580 VDC, 97,6% efficiency,\nbattery voltage 48VDC, up to 50 A charging current,\nVDE-AR-N 4105 certification, weight 30 kg, dimension: 516 x 440 x 184 mm","4.6 kWp AC, 1-phase, 5.4 KWp solar\n2 strings, 125-580 VDC, 97,6% efficiency,\nbattery voltage 48VDC, up to 50 A charging current,\nVDE-AR-N 4105 certification, weight 30 kg, dimension: 516 x 440 x 184 mm","4.6 kWp AC, 1-phase, 5.4 KWp solar\n2 strings, 125-580 VDC, 97,6% efficiency,\nbattery voltage 48VDC, up to 50 A charging current,\nVDE-AR-N 4105 certification, weight 30 kg, dimension: 516 x 440 x 184 mm","4.6 kWp AC, 1-phase, 5.4 KWp solar\n2 strings, 125-580 VDC, 97,6% efficiency,\nbattery voltage 48VDC, up to 50 A charging current,\nVDE-AR-N 4105 certification, weight 30 kg, dimension: 516 x 440 x 184 mm"]
["Centurio","10 kWp, 3-phasig mit Notstromfunktion, max. AC Leistung 11 KVA, max. Leistung je Phase 3,3 kW, nom. Spannung 210 - 264 VAC, Spannungsbereich: 184 - 264VAC 47,5 Hz - 62 Hz, trafolos, symmetrische/asymmetrische Einspeisung, 2 PV-Eingänge je 6 kW, Eingangspannungsbereich 200 VDC - 900 VDC, Mpp Spannungsbereich: 200VDC bis 740 VDC, Max. Eingangsstrom je MPPT: 12A, DC-Schalter integriert. echter Sinus, max. Wirkungsgrad >98% PV-Netz, >97% Batteriemode DC nach AC.\n","10 kWp, 3-phase incl. emergency power function, max. AC power 11 KVA, max. power per phase 3,3 kW, nom. voltage 210-264 VAC, voltage range:. 184 - 264VAC 47.5 Hz - 62 Hz, Transformerless, Symmetric / Asymmetric feed, PV input: 2 x 6 kWp, Input voltage range: 200 VDC to 900 VDC, MPP voltage range 200 VDC to 740 VDC, max. input current per MPPT: 12 A, DC switch for PV integrated","10 kWp, 3-phase incl. emergency power function, max. AC power 11 KVA, max. power per phase 3,3 kW, nom. voltage 210-264 VAC, voltage range:. 184 - 264VAC 47.5 Hz - 62 Hz, Transformerless, Symmetric / Asymmetric feed, PV input: 2 x 6 kWp, Input voltage range: 200 VDC to 900 VDC, MPP voltage range 200 VDC to 740 VDC, max. input current per MPPT: 12 A, DC switch for PV integrated","10 kWp, 3-phase incl. emergency power function, max. AC power 11 KVA, max. power per phase 3,3 kW, nom. voltage 210-264 VAC, voltage range:. 184 - 264VAC 47.5 Hz - 62 Hz, Transformerless, Symmetric / Asymmetric feed, PV input: 2 x 6 kWp, Input voltage range: 200 VDC to 900 VDC, MPP voltage range 200 VDC to 740 VDC, max. input current per MPPT: 12 A, DC switch for PV integrated","10 kWp, 3-phase incl. emergency power function, max. AC power 11 KVA, max. power per phase 3,3 kW, nom. voltage 210-264 VAC, voltage range:. 184 - 264VAC 47.5 Hz - 62 Hz, Transformerless, Symmetric / Asymmetric feed, PV input: 2 x 6 kWp, Input voltage range: 200 VDC to 900 VDC, MPP voltage range 200 VDC to 740 VDC, max. input current per MPPT: 12 A, DC switch for PV integrated","10 kWp, 3-phase incl. emergency power function, max. AC power 11 KVA, max. power per phase 3,3 kW, nom. voltage 210-264 VAC, voltage range:. 184 - 264VAC 47.5 Hz - 62 Hz, Transformerless, Symmetric / Asymmetric feed, PV input: 2 x 6 kWp, Input voltage range: 200 VDC to 900 VDC, MPP voltage range 200 VDC to 740 VDC, max. input current per MPPT: 12 A, DC switch for PV integrated"]
["AT_info","All in One: interner Datenlogger, grafikfähiges hintergrundbeleuchtetes Display zur Anzeige aller Betriebsdaten, Navigationstasten, Ethernetschnittstelle, CAN-Bus-Vernetzung, Potentialfreies Alarmrelais, S0-Impulsausgang, integrierte Anzeige von Webseiten, IP 54 für Innen- und Außenanwendung, integrierter DC-Lasttrennschalter, Anschlussmöglichkeit für optionalen Einstrahlungs- und Temperatursensor","All in One: internal data logger; graphical backlighted display to show all operating data, navigation keys, Ethernet interface, CAN bus networking, potential-free alarm relais, S0 impulse output, integrated web server, active alarming, Protection class: IP 54 for internal and external installations, integrated DC circuit breaker, interface for optional solar radiation and temperature sensor","Todo en uno: registrador de datos interno, pantalla gráfica retroiluminada que indica todo los datos operativos, teclas de navegación, interfaz Ethernet, conexión de red de bus CAN, relé de alarma sin potencial, salida de impulsos S0, visualización de páginas web integrada, IP 54 para instalación interior y exterior, posibilidad de conexión opcional de sensores de radiación y temperatura","Tutto in uno: registratore dati interno, display grafico retroilluminato per la visualizzazione di tutti i dati di esercizio, tasti di navigazione, interfaccia Ethernet, collegamento in rete CAN-bus, relè di allarme senza potenziale, uscita a impulsi S0, visualizzazione integrata di pagine web, IP 54 per impiego all'interno e all'esterno, sezionatore sotto carico CC integrato, possibilità di collegamento per sensore di radiazione e di temperatura opzionale","Tout en un : des systèmes d’enregistrem. des données internes, affich. rétro-éclairé et graphique de tous les résultats, touches de navigation, interface Ethernet, raccordem. par bus CAN, système d’alarme libre de potentiel, sortie S0, affich. des sites Internet intégré, IP 54 pour utilisations extérieures/intérieures, interrupteur-sectionneur c.c. intégré, raccordem. de capteurs de température et de rayonnement possible en option.  ","Vše v jednom: Záznam dat (interní data logger), grafický displej se zadním osvětlením pro zobrazení operačních dat, navigační klávesy, komunikační rozhraní Ethernet, CAN bus, beznapěťový kontakt relé alarmu, S0 pulzní výstup, integrovaný web server, třída ochrany: IP 54 pro vnitřní i venkovní prostředí, integrovaná DC ochrana, rozhraní pro připojení senzoru dopadajícího záření s čidlem teploty"]
["PT_info","All in One: interner Datenlogger, grafikfähiges hintergrundbeleuchtetes Display zur Anzeige aller Betriebsdaten, Navigationstasten, Ethernetschnittstelle, CAN-Bus-Vernetzung, Potentialfreies Alarmrelais, S0-Impulsausgang, integrierte Anzeige von Webseiten, IP 42/54 für Innen- und Außenanwendung, integrierter DC-Lasttrennschalter, Anschlussmöglichkeit für optionalen Einstrahlungs- und Temperatursensor","All in One: internal data logger; graphical backlighted display to show all operating data, navigation keys, Ethernet interface, CAN bus networking, potential-free alarm relais, S0 impulse output, integrated web server, active alarming, Protection class: IP 42/54 for internal and external installations, integrated DC circuit breaker, interface for optional solar radiation and temperature sensor","Todo en uno: registrador de datos interno, pantalla gráfica retroiluminada que indica todo los datos operativos, teclas de navegación, interfaz Ethernet, conexión de red de bus CAN, relé de alarma sin potencial, salida de impulsos S0, visualización de páginas web integrada, IP 42/54 para instalación interior y exterior, posibilidad de conexión opcional de sensores de radiación y temperatura","Tutto in uno: registratore dati interno, display grafico retroilluminato per la visualizzazione di tutti i dati di esercizio, tasti di navigazione, interfaccia Ethernet, collegamento in rete CAN-bus, relè di allarme senza potenziale, uscita a impulsi S0, visualizzazione integrata di pagine web, IP 42/54 per impiego all'interno e all'esterno, sezionatore sotto carico CC integrato, possibilità di collegamento per sensore di radiazione e di temperatura opzionale","Tout en un : des systèmes d’enregistrem. des données internes, affich. rétro-éclairé et graphique de tous les résultats, touches de navigation, interface Ethernet, raccordem. par bus CAN, système d’alarme libre de potentiel, sortie S0, affich. des sites Internet intégré, IP 54 pour utilisations extérieures/intérieures, interrupteur-sectionneur c.c. intégré, raccordem. de capteurs de température et de rayonnement possible en option.  ","Vše v jednom: Záznam dat (interní data logger), grafický displej se zadním osvětlením pro zobrazení operačních dat, navigační klávesy, komunikační rozhraní Ethernet, CAN bus, beznapěťový kontakt relé alarmu, S0 pulzní výstup, integrovaný web server, třída ochrany: IP 42/54 pro vnitřní i venkovní prostředí, integrovaná DC ochrana, rozhraní pro připojení senzoru dopadajícího záření s čidlem teploty."]
[]
["-","-",null,"-","-","-",null,"-"]
[]
[null,"Zellenform",null,"Forma de célula","Forma della cella","Forme des cellules","Tvar buněk:"]
["quadratisch","quadratisch","square","Cuadrada","quadrata","Carré","čtvercový"]
["semiquadr.","semiquadr.","semi square","Semicuadr.","semiquadr.","Semi-carré","mnohoúhelník"]
["rund","rund","round","Redonda","tonda","Rond","kruhový"]
["rechteckig","rechteckig","rectangular","Rectangular","rettangolare","Rectangulaire","pravoúhlý"]
["-","-","-","-","-","-","-","-"]
[]
[null,"Länder",null,"Países","Paesi","Pays","Země"]
["EU","EU","EU","UE","UE","UE","EU"]
["Deutschland","Deutschland","Germany","Alemania","Germania","Allemagne","Německo"]
["Finnland","Finnland","Finland","Finlandia","Finlandia","Finlande","Finsko"]
["Frankreich","Frankreich","France","Francia","Francia","France","Francie"]
["Indien","Indien","India","India","India","Inde","Indie"]
["Italien","Italien","Italy","Italia","Italia","Italie","Itálie"]
["Japan","Japan","Japan","Japón","Giappone","Japon","Japonsko"]
["Niederlande","Niederlande","Netherlands","Países bajos","Paesi Bassi","Pays-Bas","Holandsko"]
["Schweden","Schweden","Sweden","Suecia","Svezia","Suède","Švédsko"]
["Spanien","Spanien","Spain","España","Spagna","Espagne","Španělsko"]
["USA","USA","USA","EE.UU.","USA","Etats-Unis","USA"]
["USA/Brasilien","USA/Brasilien","USA/Brasil","EE.UU./Brasil","USA/Brasile","Etats-Unis/Brésil","USA/Brazílie"]
["-","-","-","-","-","-","-","-"]
[]
[null,"Zellentyp",null,"Tipo de célula","Tipo di cella","Type de cellule","Typ buňky"]
["amorph","amorph","amorph","Amorfa","amorfo","amorphe","amorfní"]
["amorph semitransparent","amorph semitransparent","amorph semitransparent","Amorfa semitransparente","amorfo semitrasparente","amorphe semi-transparente","amorfní polopropustný"]
["Apex","Apex","Apex","Apex","Apex","Apex","Apex"]
["EFG","EFG","EFG","EFG","EFG","EFG","EFG"]
["hybrid solar cell","hybrid solar cell","hybrid solar cell","Células solares híbridas","cella solare ibrida","Cellule solaire hybride","hybridní solární buňka"]
["mono","mono","mono","Mono","monocristallino","mono","mono"]
["poly","poly","poly","Poli","policristallino","poly","poly"]
["powerzelle","powerzelle","power cell","Power Cell","power cell","Cellule de puissance","power "]
["-","-","-","-","-","-","-"]
[]
[null,"Anschluss",null,"Conexión","Allacciamento","Raccordement","Připojení"]
["Dose MC alt","Dose MC alt","junction box MC old","Caja MC old","Presa MC old","Prise MC ancienne","připojovací krabice MC old"]
["Dose MC neu","Dose MC neu","junction box MC new","Caja MC new","Presa MC new","Prise MC nouvelle","připojovací krabice MC new"]
["Dose Tyco","Dose Tyco","junction box Tyco","Caja Tyco","Presa Tyco","Prise Tyco","připojovací krabice Tyco"]
["Dose H + S","Dose H + S","junction box H + S","Caja H + S","Presa H + S","Prise H + S","připojovací krabice H + S"]
["Dose andere","Dose andere","junction box others","Caja others","Presa others","Autres prises","připojovací krabice jiné"]
["Kabel MC alt","Kabel MC alt","cable MC old","Cable MC old","Cavo MC old","Câble  MC vieux","kabel MC old"]
["Kabel MC neu","Kabel MC neu","cable MC new","Cable MC new","Cavo MC new","Câble  MC nouveau","kabel MC new"]
["Kabel Tyco","Kabel Tyco","cable Tyco","Cable Tyco","Cavo Tyco","Câble Tyco","kabel Tyco"]
["Kabel H + S","Kabel H + S","cable H + S","Cable H + S","Cavo H + S","Câble H + S","kabel H + S"]
["Kabel andere","Kabel andere","cable others","Cable others","Cavo others","Autres câbles","kabel jiné"]
["andere","andere","others","others","others","Autres","jiné"]
["Dose","Dose","junction box","Caja","Presa","Prise","připojovací krabice"]
["Kabel","Kabel","cable","Cable","Cavo","Câble","kabel"]
["Kabel MC","Kabel MC","cable MC","Cable MC","Cavo MC","Câble MC","kabel MC"]
[]
[null,"Rahmenart",null,"Tipo de bastidor","Tipo di cornice","Type de cadre","Typ rámu"]
["Al/Laminat","Al/Laminat","Al/Laminate","Al/laminado","Alluminio-laminato","Al/Laminé","Al/Laminát"]
["Aluminium","Aluminium","Aluminium","Aluminio","Alluminio","Aluminium","hliník"]
["eloxiertes Al.","eloxiertes Al.","anodized Al.","Al anodizado","alluminio anodizzato","Alu. anodisé","eloxovaný Al."]
["Glas","Glas","glass","Vidrio","Vetro","Verre","sklo"]
["Hohlkammerprofil","Hohlkammerprofil","Hohlkammerprofil","Perfil huevo","Profilato a camera cava","Support","komorový profil"]
["Laminat","Laminat","laminate","Laminado","Laminato","Laminé","laminát"]
["opt. Al","opt. Al.","opt. Al.","Opc. Al","all. ott.","Al. En option","opc. Al."]
["rahmenlos","rahmenlos","frameless","Sin bastidor","senza telaio","Sans cadre","bezrámový"]
["Stahl","Stahl","steel","Acero","Acciaio","Acier","ocel"]
["-","-","-","-","-","-","-"]
[]
[null,"Daten fehlen",null,"Faltan datos","Mancano dati","Données manquantes","Žádná data"]
["Daten fehlen","Daten fehlen","No data","Faltan datos","Mancano dati","Données manquantes","žádná data"]
["für Solarmodul fehlen Daten","für das gewählte Solarmodul fehlen wichtige Daten!","for the selected solar module important data is missing","Para el módulo solar seleccionado faltan datos importantes.","per il modulo solare selezionato mancano dati importanti!","Il manque pour le module solaire sélectionné des informations importantes ! ","pro vybraný modul chybí důležitá data"]
["-","-","-","-","-","-","-"]
[]
[null,"Grafische Oberfläche - Design  + \"Neues Modul\" + ...",null,"Superficie gráfica - diseño + \"Nuevo módulo\" + ...","Superficie grafica - design  + \"Nuovo modulo\" + ...","Surface graphique - Design  + « nouveau module » + ...","Grafický návrh nového panelu"]
["neues Modul","neues Modul","new panel","Nuevo módulo","nuovo modulo","Nouveau module","nový panel"]
["Modul entfernen","Modul entfernen","delete panel","Eliminar módulo","Rimuovi modulo","Retirer le module","odstranit panel"]
["Moduleingabe <<","Moduleingabe <<","Module input <<","Introducción de módulo <<","Immissione del modulo <<","Saisie de module <<","zadat modul <<"]
["Erweitert >>","Erweitert >>","Extended >>","Avanzado >>","Avanzato >>","Elargi >>","rozšířený >>"]
["Modul","Modul","panel","Módulo","Modulo","Module","panel"]
["Hersteller  *","Hersteller *","manufacturer *","Fabricante *","Produttore *","Fabricant *","výrobce *"]
["Modulname  *","Modulname *","panel name *","Nombre de módulo *","Nome modulo *","Nom du module *","název panelu *"]
["Nennleistung","Nennleistung","nominal power","Potencia nominal","Potenza nominale","Puissance nominale","jmenovitý výkon"]
["Toleranz","Toleranz","tolerance","Tolerancia","Tolleranza","Tolérance","tolerance"]
["Modulwirkungsgrad","Modulwirkungsgrad","panel eficiency","Eficiencia del módulo","Rendimento del modulo","Taux de rendement du module","účinnost"]
["Modul hinzufügen","Modul hinzufügen","add module","Añadir módulo","Aggiungi modulo","Ajouter un module","přidat panel"]
["Abbrechen","Abbrechen","Cancel","Cancelar","Annulla","Interrompre","zrušit"]
["* Ohne diese Daten ist eine Berechnung nicht, oder nur teilweise möglich","* Ohne diese Daten ist eine Berechnung nicht, oder nur teilweise möglich","* Without these data a computation is not, or only partly possible","* Sin estos datos, el cálculo no se puede realizar, o solo parcialmente","* Senza questi dati un calcolo non è possibile o lo è solo parzialmente","* sans ces informations, aucun calcul n’est possible ou alors il sera effectué en partie uniquement. ","* Bez těchto dat je výpočet možný pouze částečně nebo vůbec."]
["el. Daten","el. Daten","electrical data","Datos eléctricos","dati el.","Données él. ","elektrické hodnoty"]
["MPP-Spannung  *","MPP-Spannung *","MPP-voltage *","Tensión MPP *","Tensione MPP *","Tension MPP *","MPP-napětí *"]
["MPP-Strom  *","MPP-Strom *","MPP-current *","Intensidad MPP *","Corrente MPP *","Courant MPP *","MPP-proud *"]
["Leerlaufspannung  *","Leerlaufspannung *","open circuit voltage *","Tensión de vacío *","Tensione a vuoto *","Tension à vide *","napětí naprázdno *"]
["Kurzschlußstrom","Kurzschlußstrom","closed circuit current","Corriente de cortocircuito","Corrente di cortocircuito","Courant de court-circuit","zkratový proud"]
["max. Systemspannung  *","max. Systemspannung *","max. system voltage *","Tensión de sistema máx. *","Tensione di sistema max. *","Tension système maxi. *","max. napětí v systému *"]
["Temperaturabhängigkeit","Temperaturabhängigkeit","temperature dependency","Dependencia de la temperatura","Dipendenza dalla temperatura","Dépendance de la température","závislost na teplotě"]
["Spannungsänderung  *","Spannungsänderung *","voltage change *","Variación de la tensión *","Variazione di tensione *","Changement de la tension *","změna napětí *"]
["Stromänderung  *","Stromänderung *","current change *","Variación de la intensidad *","Variazione di corrente *","Changement du courant *","změna proudu *"]
["Leistungsänderung","Leistungsänderung","power change","Variación de la potencia","Variazione di potenza","Changement de la puissance","změna výkonu"]
["Technische Daten","Technische Daten","technical data","Datos técnicos","Dati tecnici","Informations techniques","technické údaje"]
["Höhe","Höhe","height","Alto","Altezza","Hauteur","výška"]
["Breite","Breite","width","Ancho","Larghezza","Largeur","šířka"]
["Dicke","Dicke","thickness","Espesor","Spessore","Profondeur","tloušťka"]
["Gewicht","Gewicht","weight","Peso","Peso","Poids","hmotnost"]
["Rahmung","Rahmung","frame","Bastidor","Sostegno","Encadrement","rám"]
["Anschluß","Anschluß","connector","Conexión","Allacciamento","Raccordement","konektor"]
["Solarzellen","Solarzellen","solar cells","Células solares","Celle solari","Cellules solaires","solární buňka"]
["Zellhersteller","Zellhersteller","manufacturer","Fabricante de las células","Produttore della cella","Fabricant de cellules","výrobce *"]
["Zelltyp","Zelltyp","cell type","Tipo de célula","Tipo di cella","Type de cellule","typ buňky"]
["Form","Form","cell shape","Forma","Forma","Forme","tvar buňky"]
["Anzahl","Anzahl","number of cells","Número","Quantità","Nombre","počet buněk"]
["Hersteller / Versand","-","-","-","-","-","-"]
["Herstellungsland","Herstellungsland","country of origin","País de fabricación","Paese di produzione","Pays de fabrication","země původu"]
["Internetadresse","Internetadresse","internet","Dirección de Internet","Indirizzo Internet","Adresse Internet","internet"]
["Error 1 Message","Ohne Hersteller- und Modulname kann kein neuer Moduleintrag erstellt werden!  - Möchten sie den Vorgang fortsetzen? (eingegebene Daten gehen verloren)","Without manufacturer- and modulename it is not possible to create a new entry! - continue? (data get lost)","Sin los nombres de fabricante y módulo no se puede crear una nueva entrada de módulo.  - ¿Desea continuar con la operación? (se perderán los datos introducidos)","Senza nome di produttore e di modulo non è possibile creare una nuova voce di modulo!  - Proseguire il processo? (i dati immessi vanno persi)","Sans le nom du fabricant ni celui du module, aucune nouvelle demande ne peut être effectuée ! Voulez-vous continuer ? (Toutes les informations saisies seront perdues.)  ","Bez výrobce a názvu modulu není možné zadat nový vstup! - Pokračovat? (Zadaná data budou ztracena)"]
["Error 2 Message","Es fehlen wichtige Daten, ohne die eine Berechnung nicht oder nur teilweise möglich ist!  - Möchten sie den Vorgang fortsetzen?","Important data is missing, without these an computation is not or only partly possible! - continue ?","Faltan datos importantes. Sin éstos, el cálculo no se puede realizar, o solo parcialmente.  - ¿Desea continuar con la operación?","Mancano dati importanti senza i quali un calcolo non è possibile o lo è solo parzialmente!  - Proseguire il processo?","Il manque des informations importantes, et aucun calcul ne pourra être effectué, ou alors il ne sera que partiel ! Voulez-vous continuer ? ","Chybí důležitá data; bez nich není výpočet možný nebo jenom částečně! Pokračovat? "]
["del Modul Mesage","Wollen sie dieses Modul wirklich entfernen?","Do you really want to remove this module?","¿Seguro que desea eliminar el módulo?","Rimuovere davvero questo modulo?","Souhaitez-vous vraiment retirer ce module ?","Chcete skutečně odstranit tento panel?"]
["IhreAnlage_Titel","Auslegungsvorschlag für eine Photovoltaikanlage","Design proposal for a photovoltaic system","Propuesta de diseño para una instalación fotovoltaica","Proposta di configurazione per un impianto fotovoltaico","Proposition de détermination pour une installation photovoltaïque ","Návrh fotovoltaického systému"]
["Ansprechpartner Edit","Bearbeiten","Edit","Editar","Modifica","Traitement","Editovat"]
["Tabelle1","Willkommen","Welcome","Bienvenido","Benvenuto","Bienvenue","Úvod"]
["Tabelle2","Auslegung","Design","Diseño","Configurazione","Détermination","Návrh"]
["Tabelle3","Ihr System","Your System","Su sistema","Il vostro sistema","Votre système","Navržený systém"]
["Tabelle4","Ertragsberechnung","Yield Calculation","Cálculo del rendimiento","Calcolo della resa","Calcul du rendement","Výpočet výnosů"]
["Tabelle5","PV Module","PV Panels","Módulos FV","Moduli FV","Modules photovoltaïques","PV Panely"]
["Tabelle6","Solar Inverter","Solar Inverter","Solar Inverter","Inverter solare","Solar Inverter","Solární měnič"]
["Tabelle7","_Daten","_Daten","_datos","_Dati","_Informations","_Data"]
["Tabelle8","_Sprache","_Sprache","_idioma","_Lingua","_Langue","_Jazyk"]
["Komentar_DC","Hier bitte die gesamte DC-Leitungslänge je Strang angeben, also '+' und '-'  Strang zusammen.","Please insert here the complete DC cable length per String,  '+' and '-' cable together.","Indique la longitud total de cable CC por cadena, es decir, el total de los ramales '+' y  '-'.","Qui indicare l'intera lunghezza della linea CC per stringa, quindi stringa '+' e '-' insieme.","Merci de saisir la longueur totale des câbles c.c. par string, soit les pôles « + » et « - »    ensemble. ","Zadat celkovou délku všech DC kabelů  ve stringu, \"+\", \"-\" celý svazek."]
["Komentar_AC","Hier bitte die AC-Leitungslänge angeben.","Please insert here the AC cable length.","Indique la longitud de cable AC.","Qui indicare la lunghezza della linea CA.","Merci de saisir la longueur totale des câbles a.c.","Zadat celkovou délku AC kabelů"]
["Einheitliches Modul","Einheitliche Module","Identical panels","Módulos uniformes","Moduli standardizzati","Module unitaires","Stejné panely"]
["Einheitliche Modul-Beschaltung","Einheitliche Modul-Beschaltung","identical panel-circuit","Conexionado uniforme de módulos","Cablaggio del modulo standardizzato","Circuit de protection des modules","Jednotné zapojení panelů"]
["DCLeitung Spannungsabfall","Spannungsabfall der DC-Leitung in Rechnung einbeziehen","include calculation of the DC voltage drop","Incluir las pérdidas de tensión del cable CC en el cálculo","Inserire nel calcolo la caduta di tensione della linea CC","Intégrer dans le calcul la perte de puissance au niveau des câbles c.c. ","Včetně výpočtu ztráty na DC napětí"]
["keine Auswahl","(keine Auswahl)","(no value)","(sin selección)","(nessuna selezione)","(Aucune sélection)","(žádný výběr)"]
["Jumperinfo","Schalterstellung","Sliding switch","Posición de interruptor","Posizione dell'interruttore","Position de l‘interrupteur","poloha spínače"]
["Festspannung","S100 Festspannung","S100 Fixed voltage","Tensión fija S100","Tensione fissa S100","Tension fixe S100 ","S100 pevné napětí"]
["Uebernehmen","Speichern","Save","Guardar","Salva","Enregistrer","Uložit"]
["betrachten","betrachten","view","Ver","osservare","Définir","Zobraz"]
["Modul bearbeiten","Modul bearbeiten","Edit module","Editar módulo","Elabora modulo","Traiter un module","Úprava panelu"]
["edit Modul Message","Wollen sie ihre Änderungen speichen ?","Do you want to save your changes ?","¿Desea guardar las modificaciones?","Salvare le proprie modifiche?","Voulez-vous enregistrer vos modifications ?","Uložit provedené změny?"]
["Eingang","Eingang","Voltage input","Entrada","Ingresso","Entrée","Vstupní napětí"]
["Komentar_Verhältnis","für Energy Depot Hybrid-Inverter wird empfohlen (Modul / Wechselrichter ):\n\nmax. 110%  bei optimaler Ausrichtung\nmax. 115% bei schlechter Hinterlüftung\nmax. 120% bei schlechter Ausrichtung und Verschattung","recommended for Energy Depot  Solar Inverters: (Panel / Inverter):\n\nmax. 110% at optimum orientation\nmax. 115% with poor cooling of modules\nmax 120% with bad orientation and shading","Para Energy Depot  Solar Inverter se recomienda (Módulos / Inverter):\n\nMáx. 105% en caso de orientación óptima\nMáx. 110% en caso de mala ventilación posterior\nMáx. 115% en caso de mala orientación y sombra","per Energy Depot  Solar Inverter si consiglia (Modulo / Inverter):\n\nmax. 105% in caso di orientamento ottimale\nmax. 110% con cattiva aerazione posteriore\nmax. 115% con cattivo orientamento e ombreggiamento","On conseille pour les Solar Inverters de Energy Depot  (Module / Inverter):\n110 % maxi. pour une installation optimale. \n115 % maxi. en cas de mauvaise aération.\n120 % maxi. en cas de mauvaise installation et de zone ombragée. ","Doporučení pro měniče Energy Depot  (Panel / Inverter):\n\nmax. 110% při optimální orientaci\nmax. 115% při špatném chlazení panelů\nmax. 120% při špatné orientaci a zastínění"]
["Komentar_PowerControl","Diese Einstellung kann in der Power-Control Konfiguration eingetragen werden, um eine Abregelung des Hybrid-Inverters auf 50% der Modulleistung gemäß Batteriespeicherförderung 2016 zu erreichen","This setting can be used in the Power Control Configuration to limit Inverter output to 70% of Solar Panel power according to EEG 2012","This setting can be used in the Power Control Configuration to limit Inverter output to 70% of Solar Panel power according to EEG 2012","This setting can be used in the Power Control Configuration to limit Inverter output to 70% of Solar Panel power according to EEG 2012","This setting can be used in the Power Control Configuration to limit Inverter output to 70% of Solar Panel power according to EEG 2012","This setting can be used in the Power Control Configuration to limit Inverter output to 70% of Solar Panel power according to EEG 2012"]
["Initialwerte (Dünnschicht Module)","Initialwerte (Dünnschicht Module)","Initial values (thin-film modules)","Valores iniciales (módulos de capa fina)","Valori iniziali (moduli a film sottile)","Valeurs initiales (module à fine couche)","Počáteční hodnoty (tenkovrstvé panely)"]
["Dünnschichtmodul","Dünnschichtmodul","Thin-film module","Módulo de capa fina","Modulo a film sottile","Module à fine couche","Tenkovrstvý panel"]
["Nennleistung","Nennleistung","nominal power","Potencia nominal","Potenza nominale","Tension nominale","Jmenovitý výkon"]
["MPP-Spannung","MPP-Spannung","MPP-voltage","Tensión MPP","Tensione MPP","Puissance MPP","MPP napětí"]
["MPP-Strom","MPP-Strom","MPP-current","Intensidad MPP","Corrente MPP","Courant MPP","MPP proud"]
["Leerlaufspannung","Leerlaufspannung","open circuit voltage","Tensión de vacío","Tensione a vuoto","Tension à vide","Napětí naprázdno"]
["Kurzschlußstrom","Kurzschlußstrom","closed circuit current","Corriente de cortocircuito","Corrente di cortocircuito","Courant de court-circuit","Zkratový proud"]
["Modulname ist nicht gleich, Speichern abgebrochen.","Modulname ist nicht gleich, Speichern abgebrochen.","Module name different, cancel without saving."]
["Modulbezeichnung wurde nicht angepasst. Hinzufügen wurde abgebrochen.","Modulbezeichnung wurde nicht angepasst. Hinzufügen wurde abgebrochen.","Module name has not been changed. Module has not been added."]
["Neues Modul vorbereiten","Neues Modul vorbereiten","Prepare New Module"]
["Neues Modul vorbereiten","Neues Modul vorbereiten","Prepare New Module"]
["-","-","-","-","-","-","-","-"]
[]
[null,"Ertragsberechnung",null,"Cálculo del rendimiento","Calcolo della resa","Calcul du rendement","Výpočet výnosu"]
["Ertragsberechnung","Ertragsberechnung","Yield Calculation","Cálculo del rendimiento","Calcolo della resa","Calcul du rendement","Výpočet výnosu"]
["Ort","Ort","Location","Localidad","Località","Lieu","Umístnění"]
["Breitengrad","Breitengrad:","Degree of latitude:","Paralelo:","Grado di latitudine:","Degré de latitude :","Zeměpisná šířka:"]
["Längengrad","Längengrad:","Degree of longitude:","Meridiano:","Grado di longitudine:","Degré de longitude :","Zeměpisná délka:"]
["Einstrahlung","Einstrahlung (horiz.):","Irradiation (horiz.):","Radiación (horiz.):","Irradiazione (orizz.):","Rayonnement (horiz.):","Osvit (horiz.):"]
["Modul","Modul","Panel","Módulo","Modulo","Module","Panel"]
["Neigung","Neigung:","Inclination:","Inclinación:","Inclinazione:","Inclinaison :","Sklon:"]
["Ausrichtung","Ausrichtung:","Orientation:","Orientación:","Orientamento:","Installation :","Orientace:"]
["Vergütung","Vergütung","Remuneration","Retribución","Retribuzione","Rémunération","Dotovaná cena"]
["Jahresertrag","Jahresertrag","Annual Yield","Rendimiento anual","Resa annua","Rendement annuel","Roční výnos"]
["Möglich","Möglich [kWh]","Possible [kWh]","Posible [kWh]","Possibile [kWh]","Possible [kWh]","Pravděpodobně [kWh]"]
["nach Verlusten","nach Verlusten [kWh]","after losses [kWh]","Después de pérdidas [kWh]","dopo perdite [kWh]","Après les pertes [kWh]","po odpočtu ztrát [kWh]"]
["Achtung","Achtung: ","Note:","¡Atención! ","Attenzione: ","Attention : ","Poznámka:"]
["Wechselrichter","Solar Inverter","Solar Inverter","Solar Inverter","Inverter solare","Solar Inverter","Měnič"]
["Anzahl","Anzahl:","Number:","Número:","Quantità:","Nombre :","Počet:"]
["1wechselrichter","Monatsverteilung - am Einspeisepunkt","Monthly distribution","Distribución mensual - en el punto de inyección a red","Distribuzione mensile - sul punto di alimentazione","Répartition par mois – au niveau du point d’introduction ","Měsíční výroba - na napájecím bodu"]
["Achtung_txt","Die berechneten Ergebnisse können von realen Werten um 10% oder mehr abweichen","The results can deviate from real values by 10% or more","Los resultados calculados pueden diferir en un 10% o más de los valores reales","I risultati calcolati possono variare dai valori reali del 10% o più","Les résultats calculés peuvent être différents de +/- 10 % par rapport aux valeurs réelles (voire même davantage). ","Výsledky mohou být ve skutečnosti zkresleny o více než 10% a jsou bez záruky!"]
["Koordinaten","zur Ermittlung der Koordinaten (Internet)","determination of the coordinates (internet)","para determinar las coordenadas (Internet)","per il rilevamento delle coordinate (Internet)","Pour accéder aux coordonnées (Internet)","Určení pozice (internet)"]
["Koordinaten_URL","http://www.gpsies.com/coordinate.do?language=de","http://www.gpsies.com/coordinate.do?language=en","http://www.gpsies.com/coordinate.do?language=es","http://www.gpsies.com/coordinate.do?language=it","http://www.gpsies.com/coordinate.do?language=fr","http://www.gpsies.com/coordinate.do?language=cs"]
["Systemverluste","Systemverluste:","System losses:","Pérdidas del sistema:","Perdite del sistema:","Pertes du système :","Ztráty systému:"]
["Ertrag","Energieeinspeisung:","Energy feed:","Inyección de energía:","Alimentazione di energia:","Aliment. en énergie :","Výroba energie:"]
["Summe","Summe:","Sum:","Total:","Somma:","Total :","Celkem:"]
["Modulertrag","Modulertrag:","Pannel yield:","Rendimiento por módulo:","Resa del modulo:","Rendem.des modules :","Výkon panelů:"]
["inkl_Kabel","(inkl. Kabel)","(including cable)","(incl. cable)","(incl. cavo)","(avec câble)","(včetně kabelů)"]
["Netz","Netz","grid","Red","Rete","Réseau","Síť"]
["EU-Wirkungsgrad","EU-Wirkungsgrad","EU Efficiency","Eficiencia UE","Rendimento UE","Rendement européen","Účinnost dle EU"]
["Kommahinweis","Komma-Werte bitte mit \",\" und nicht mit \".\" eingeben !","Please note: For decimal values please use \",\"instead of \".\"","Indicar los decimales con \",\", y no con \".\".","Inserire i valori decimali con \",\" e non con \".\"!","Saisir des chiffres ayant une virgule avec le signe « , »  et non pas « . » ! ","Poznámka: pro zadání desetinných hodnot zadejte desetinnou značku \",\", ne \".\"!"]
["PVGIS_URL","http://globalsolaratlas.info/","http://globalsolaratlas.info/","http://globalsolaratlas.info/","http://globalsolaratlas.info/","http://globalsolaratlas.info/","http://globalsolaratlas.info/"]
["PVGIS_Text","Einstrahlung bei SOLAR ATLAS online Nachschlagen (GHI-Wert)","For irradiation values please refer to the SOLAR ATLAS (GHI-value)","Consultar radiación en SOLAR ATLAS (GHI)","Per l'irradiazione consultare SOLAR ATLAS (GHI)","Consulter l’ensoleillement et le gisement solaire sur SOLAR ATLAS (GHI)","Pro hodnoty osvitu se podívejte na stránky SOLAR ATLAS (GHI)"]
["Ost","Ost","east","del este","orientale","Est","východ"]
["Süd-Ost","Süd-Ost","south-east","suroriental","sudorientale","Sud-est","jihovýchod"]
["Süd","Süd","south","del sur","del sud","Sud","jih"]
["Süd-West","Süd-West","south-west","sudoeste","sud-ovest","Sud-ouest","jihozápad"]
["West","West","west","del oeste","ad ovest","Ouest","západ"]
[]
["-","-","-","-","-","-","-","-"]